Workbook
Name _: #REF!
Name _: #REF!
Name ______jak10: 물량산출근거서!______jak10
Name ______jak10: [0]!______jak10
Name ______jak11: 물량산출근거서!______jak11
Name ______jak11: [0]!______jak11
Name ______jak12: 물량산출근거서!______jak12
Name ______jak12: [0]!______jak12
Name ______jak13: 물량산출근거서!______jak13
Name ______jak13: [0]!______jak13
Name ______jak2: 물량산출근거서!______jak2
Name ______jak2: [0]!______jak2
Name ______jak3: 물량산출근거서!______jak3
Name ______jak3: [0]!______jak3
Name ______jak4: 물량산출근거서!______jak4
Name ______jak4: [0]!______jak4
Name ______jak5: 물량산출근거서!______jak5
Name ______jak5: [0]!______jak5
Name ______jak6: 물량산출근거서!______jak6
Name ______jak6: [0]!______jak6
Name ______jak7: 물량산출근거서!______jak7
Name ______jak7: [0]!______jak7
Name ______jak9: 물량산출근거서!______jak9
Name ______jak9: [0]!______jak9
Name _____jak10: 물량산출근거서!_____jak10
Name _____jak10: [0]!_____jak10
Name _____jak11: 물량산출근거서!_____jak11
Name _____jak11: [0]!_____jak11
Name _____jak12: 물량산출근거서!_____jak12
Name _____jak12: [0]!_____jak12
Name _____jak13: 물량산출근거서!_____jak13
Name _____jak13: [0]!_____jak13
Name _____jak2: 물량산출근거서!_____jak2
Name _____jak2: [0]!_____jak2
Name _____jak3: 물량산출근거서!_____jak3
Name _____jak3: [0]!_____jak3
Name _____jak4: 물량산출근거서!_____jak4
Name _____jak4: [0]!_____jak4
Name _____jak5: 물량산출근거서!_____jak5
Name _____jak5: [0]!_____jak5
Name _____jak6: 물량산출근거서!_____jak6
Name _____jak6: [0]!_____jak6
Name _____jak7: 물량산출근거서!_____jak7
Name _____jak7: [0]!_____jak7
Name _____jak9: 물량산출근거서!_____jak9
Name _____jak9: [0]!_____jak9
Name ____jak10: 물량산출근거서!____jak10
Name ____jak10: [0]!____jak10
Name ____jak11: 물량산출근거서!____jak11
Name ____jak11: [0]!____jak11
Name ____jak12: 물량산출근거서!____jak12
Name ____jak12: [0]!____jak12
Name ____jak13: 물량산출근거서!____jak13
Name ____jak13: [0]!____jak13
Name ____jak2: 물량산출근거서!____jak2
Name ____jak2: [0]!____jak2
Name ____jak3: 물량산출근거서!____jak3
Name ____jak3: [0]!____jak3
Name ____jak4: 물량산출근거서!____jak4
Name ____jak4: [0]!____jak4

Sheet 원가계산서
B1: 공 사 원 가 계 산 서
B2: 공사명 : 사우청소년문화의집 시설환경개선사업
B3: 비 목 | E3: 금 액 | F3: 구 성 비 | G3: 비 고
A4: A1 | B4: 순 공 사 원 가 | C4: 재 료 비 | D4: 직 접 재 료 비 | E4: =TRUNC(공종별집계표!F5, 0) -> 16283879
A5: A2 | D5: 간 접 재 료 비 | E5: 0
A6: A3 | D6: 작업설, 부산물(△) | E6: 0
A7: AS | D7: [ 소 계 ] | E7: =TRUNC(E4+E5-E6, 0) -> 16283879
A8: B1 | C8: 노 무 비 | D8: 직 접 노 무 비 | E8: =TRUNC(공종별집계표!H5, 0) -> 30093740
A9: B2 | D9: 간 접 노 무 비 | E9: =TRUNC(E8*0.175, 0) -> 5266404 | F9: 직접노무비 * 17.5%
A10: BS | D10: [ 소 계 ] | E10: =TRUNC(E8+E9, 0) -> 35360144
A11: C2 | C11: 경 비 | D11: 경 비 | E11: =TRUNC(공종별집계표!J5, 0) -> 157041
A12: C2 | D12: 폐 기 물 처 리 비 | E12: =공종별집계표!L14 -> 652000
A13: C4 | D13: 산 재 보 험 료 | E13: =TRUNC(E10*0.0356, 0) -> 1258821 | F13: 노무비 * 3.56%
A14: C5 | D14: 고 용 보 험 료 | E14: =TRUNC(E10*0.0101, 0) -> 357137 | F14: 노무비 * 1.01%
A15: CA | D15: 산업안전보건관리비 | E15: =TRUNC((E7+E8+(0/1.1))*0.0311, 0) -> 1442343 | F15: (재료비+직노+관급자재비) * 3.11%
A16: CG | D16: 기 타 경 비 | E16: =TRUNC((E7+E10)*0.05, 0) -> 2582201 | F16: (재료비+노무비) * 5%
A17: CH | D17: 환 경 보 전 비 | E17: =TRUNC((E7+E8+E11)*0.003, 0) -> 139603 | F17: (재료비+직노+경비) * 0.3%
A18: CK | D18: 하도급지급보증수수료 | F18: (재료비+직노+경비) * 0.081% | G18: 최저가대상공사
A19: CL | D19: 건설기계대여금지급보증서발급수수료 | E19: =TRUNC((E7+E8+E11)*0.001, 0) -> 46534 | F19: (재료비+직노+경비) * 0.1%
A20: CM | D20: 석 면 분 담 금 | E20: =TRUNC(E10*0.00006, 0) -> 2121 | F20: 노무비 * 0.006%
A21: CN | D21: 임 금 채 권 부 담 금 | E21: =TRUNC(E10*0.0009, 0) -> 31824 | F21: 노무비 * 0.09%
A22: CS | D22: [ 소 계 ] | E22: =TRUNC(E11+E12+E13+E14+E15+E16+E17+E18+E19+E20+E21, 0) -> 6669625
A23: S1 | B23: 계 | E23: =TRUNC(E7+E10+E22, 0) -> 58313648
A24: D1 | B24: 일 반 관 리 비 | E24: =TRUNC(E23*0.08, 0) -> 4665091 | F24: 계 * 8%
A25: D2 | B25: 이 윤 | E25: =TRUNC((E10+E22+E24)*0.15, 0)-264/1.1 -> 7003989 | F25: (노무비+경비+일반관리비) * 15%
A26: D9 | B26: 공 급 가 액 | E26: =TRUNC(E23+E24+E25, 0) -> 69982728
A27: DB | B27: 부 가 가 치 세 | E27: =TRUNC(E26*0.1, 0) -> 6998272 | F27: 공급가액 * 10%
A28: DH | B28: 도 급 액 | E28: =TRUNC(E26+E27, 0) -> 76981000
A29: S2 | B29: 총 공 사 비 | E29: =TRUNC(E28+0, 0) -> 76981000

Sheet 공종별집계표
A1: 공 종 별 집 계 표
A2: [ 사우청소년문화의집 시설환경개선사업 ]
A3: 품 명 | B3: 규 격 | C3: 단위 | D3: 수량 | E3: 재 료 비 | G3: 노 무 비 | I3: 경 비 | K3: 합 계 | M3: 비 고 | N3: 공종코드 | O3: 변수 | P3: 상위공종 | Q3: 공종구분 | R3: 공종레벨 | S3: 공종소계 | T3: 원가계산서 연결금액
E4: 단 가 | F4: 금 액 | G4: 단 가 | H4: 금 액 | I4: 단 가 | J4: 금 액 | K4: 단 가 | L4: 금 액
A5: 01 사우청소년문화의집 시설환경개선사업 | D5: 1 | E5: =F6 -> 16283879 | F5: =E5*D5 -> 16283879 | G5: =H6 -> 30093740 | H5: =G5*D5 -> 30093740 | I5: =J6 -> 157041 | J5: =I5*D5 -> 157041 | K5: =E5+G5+I5 -> 46534660 | L5: =F5+H5+J5 -> 46534660 | N5: 01 | R5: 1
A6: 0101 건 축 공 사 | D6: 1 | E6: =F7+F8+F9+F10+F11+F12+F13 -> 16283879 | F6: =E6*D6 -> 16283879 | G6: =H7+H8+H9+H10+H11+H12+H13 -> 30093740 | H6: =G6*D6 -> 30093740 | I6: =J7+J8+J9+J10+J11+J12+J13 -> 157041 | J6: =I6*D6 -> 157041 | K6: =E6+G6+I6 -> 46534660 | L6: =F6+H6+J6 -> 46534660 | N6: 0101 | P6: 01 | R6: 2
A7: 010101 가 설 공 사 | D7: 1 | E7: =공종별내역서!F27 -> 158429 | F7: =E7*D7 -> 158429 | G7: =공종별내역서!H27 -> 1424487 | H7: =G7*D7 -> 1424487 | I7: =공종별내역서!J27 -> 0 | J7: =I7*D7 -> 0 | K7: =E7+G7+I7 -> 1582916 | L7: =F7+H7+J7 -> 1582916 | N7: 010101 | P7: 0101 | R7: 3
A8: 010102 철 거 공 사 | D8: 1 | E8: =공종별내역서!F51 -> 29168 | F8: =E8*D8 -> 29168 | G8: =공종별내역서!H51 -> 5431070 | H8: =G8*D8 -> 5431070 | I8: =공종별내역서!J51 -> 26411 | J8: =I8*D8 -> 26411 | K8: =E8+G8+I8 -> 5486649 | L8: =F8+H8+J8 -> 5486649 | N8: 010102 | P8: 0101 | R8: 3
A9: 010103 목 및 경 량 공 사 | D9: 1 | E9: =공종별내역서!F75 -> 4140584 | F9: =E9*D9 -> 4140584 | G9: =공종별내역서!H75 -> 8321226 | H9: =G9*D9 -> 8321226 | I9: =공종별내역서!J75 -> 129697 | J9: =I9*D9 -> 129697 | K9: =E9+G9+I9 -> 12591507 | L9: =F9+H9+J9 -> 12591507 | N9: 010103 | P9: 0101 | R9: 3
A10: 010104 창 호 및 유 리 공 사 | D10: 1 | E10: =공종별내역서!F99 -> 4828122 | F10: =E10*D10 -> 4828122 | G10: =공종별내역서!H99 -> 968692 | H10: =G10*D10 -> 968692 | I10: =공종별내역서!J99 -> 0 | J10: =I10*D10 -> 0 | K10: =E10+G10+I10 -> 5796814 | L10: =F10+H10+J10 -> 5796814 | N10: 010104 | P10: 0101 | R10: 3
A11: 010105 타 일 공 사 | D11: 1 | E11: =공종별내역서!F123 -> 6835 | F11: =E11*D11 -> 6835 | G11: =공종별내역서!H123 -> 31138 | H11: =G11*D11 -> 31138 | I11: =공종별내역서!J123 -> 933 | J11: =I11*D11 -> 933 | K11: =E11+G11+I11 -> 38906 | L11: =F11+H11+J11 -> 38906 | N11: 010105 | P11: 0101 | R11: 3
A12: 010106 도 장 공 사 | D12: 1 | E12: =공종별내역서!F147 -> 1313348 | F12: =E12*D12 -> 1313348 | G12: =공종별내역서!H147 -> 9092961 | H12: =G12*D12 -> 9092961 | I12: =공종별내역서!J147 -> 0 | J12: =I12*D12 -> 0 | K12: =E12+G12+I12 -> 10406309 | L12: =F12+H12+J12 -> 10406309 | N12: 010106 | P12: 0101 | R12: 3
A13: 010107 수 장 공 사 | D13: 1 | E13: =공종별내역서!F171 -> 5807393 | F13: =E13*D13 -> 5807393 | G13: =공종별내역서!H171 -> 4824166 | H13: =G13*D13 -> 4824166 | I13: =공종별내역서!J171 -> 0 | J13: =I13*D13 -> 0 | K13: =E13+G13+I13 -> 10631559 | L13: =F13+H13+J13 -> 10631559 | N13: 010107 | P13: 0101 | R13: 3
A14: 010108 폐 기 물 처 리 비 | D14: 1 | E14: =공종별내역서!F195 -> 0 | F14: =E14*D14 -> 0 | G14: =공종별내역서!H195 -> 0 | H14: =G14*D14 -> 0 | I14: =공종별내역서!J195 -> 652000 | J14: =I14*D14 -> 652000 | K14: =E14+G14+I14 -> 652000 | L14: =F14+H14+J14 -> 652000 | N14: 010108 | Q14: 6 | R14: 3 | T14: =L14*1 -> 652000
A26: [ 합 계 ] | F26: =F5 -> 16283879 | H26: =H5 -> 30093740 | J26: =J5 -> 157041 | L26: =L5 -> 46534660

Sheet 공종별내역서
A1: [ 사우청소년문화의집 시설환경개선사업 ]
A2: 품 명 | B2: 규 격 | C2: 단위 | D2: 수량 | E2: 재 료 비 | G2: 노 무 비 | I2: 경 비 | K2: 합 계 | M2: 비 고 | N2: 품목코드 | O2: 변수 | P2: 설정 | Q2: 공종코드 | R2: 일위 | S2: 단산 | T2: 자재 | U2: 손료적용 | V2: 손료저장 | W2: 적용율 | X2: JUK1 | Y2: JUK2 | Z2: JUK3 | AA2: JUK4 | AB2: JUK5 | AC2: JUK6 | AD2: JUK7 | AE2: JUK8 | AF2: JUK9 | AG2: JUK10 | AH2: JUK11 | AI2: JUK12 | AJ2: JUK13 | AK2: JUK14 | AL2: JUK15 | AM2: JUK16 | AN2: JUK17 | AO2: JUK18 | AP2: JUK19 | AQ2: JUK20 | AR2: 자재구분 | AS2: 공종구분 | AT2: 공종레벨 | AU2: 공종+자재 | AV2: 고유번호
E3: 단 가 | F3: 금 액 | G3: 단 가 | H3: 금 액 | I3: 단 가 | J3: 금 액 | K3: 단 가 | L3: 금 액
A4: 010101 가 설 공 사 | Q4: 010101
A5: 건축물보양 | B5: 보양지 붙이기 | C5: M2 | D5: =물량산출근거서!E5 -> 276.01 | E5: =TRUNC(일위대가목록!E4,0) -> 574 | F5: =TRUNC(E5*D5, 0) -> 158429 | G5: =TRUNC(일위대가목록!F4,0) -> 1720 | H5: =TRUNC(G5*D5, 0) -> 474737 | I5: =TRUNC(일위대가목록!G4,0) -> 0 | J5: =TRUNC(I5*D5, 0) -> 0 | K5: =TRUNC(E5+G5+I5, 0) -> 2294 | L5: =TRUNC(F5+H5+J5, 0) -> 633166 | M5: 호표 1 | N5: 44A123943A8F9997C2885A867243A | Q5: 010101 | R5: T | S5: F | T5: F | AU5: 01010144A123943A8F9997C2885A867243A | AV5: 12
A6: 준공청소 | C6: M2 | D6: =물량산출근거서!E6 -> 276.01 | E6: =TRUNC(일위대가목록!E5,0) -> 0 | F6: =TRUNC(E6*D6, 0) -> 0 | G6: =TRUNC(일위대가목록!F5,0) -> 3441 | H6: =TRUNC(G6*D6, 0) -> 949750 | I6: =TRUNC(일위대가목록!G5,0) -> 0 | J6: =TRUNC(I6*D6, 0) -> 0 | K6: =TRUNC(E6+G6+I6, 0) -> 3441 | L6: =TRUNC(F6+H6+J6, 0) -> 949750 | M6: 호표 2 | N6: 44A123943AE00FA77A31A48CEB253 | Q6: 010101 | R6: T | S6: F | T6: F | AU6: 01010144A123943AE00FA77A31A48CEB253 | AV6: 13
Q7: 010101
Q8: 010101
Q9: 010101
Q10: 010101
Q11: 010101
Q12: 010101
Q13: 010101
Q14: 010101
Q15: 010101
Q16: 010101
Q17: 010101
Q18: 010101
... Q26: 010101
A27: [ 합 계 ] | F27: =SUMIF(Q5:Q26,"010101",F5:F26) -> 158429 | H27: =SUMIF(Q5:Q26,"010101",H5:H26) -> 1424487 | J27: =SUMIF(Q5:Q26,"010101",J5:J26) -> 0 | L27: =SUMIF(Q5:Q26,"010101",L5:L26) -> 1582916 | N27: TOTAL
A28: 010102 철 거 공 사 | Q28: 010102
A29: 몰딩류 철거 | C29: M | D29: =물량산출근거서!E9 -> 120.11 | E29: =TRUNC(일위대가목록!E6,0) -> 190 | F29: =TRUNC(E29*D29, 0) -> 22820 | G29: =TRUNC(일위대가목록!F6,0) -> 3808 | H29: =TRUNC(G29*D29, 0) -> 457378 | I29: =TRUNC(일위대가목록!G6,0) -> 0 | J29: =TRUNC(I29*D29, 0) -> 0 | K29: =TRUNC(E29+G29+I29, 0) -> 3998 | L29: =TRUNC(F29+H29+J29, 0) -> 480198 | M29: 호표 3 | N29: 451F2B92C04FC5570D8C2A87BF588C717 | Q29: 010102 | R29: T | S29: F | T29: F | AU29: 010102451F2B92C04FC5570D8C2A87BF588C717 | AV29: 14
A30: PVC계바닥재 해체 | C30: M2 | D30: =물량산출근거서!E10 -> 225.83 | E30: =TRUNC(일위대가목록!E7,0) -> 0 | F30: =TRUNC(E30*D30, 0) -> 0 | G30: =TRUNC(일위대가목록!F7,0) -> 2229 | H30: =TRUNC(G30*D30, 0) -> 503375 | I30: =TRUNC(일위대가목록!G7,0) -> 0 | J30: =TRUNC(I30*D30, 0) -> 0 | K30: =TRUNC(E30+G30+I30, 0) -> 2229 | L30: =TRUNC(F30+H30+J30, 0) -> 503375 | M30: 호표 4 | N30: 44A0239DAB5C79B73F3E9E84F410F | Q30: 010102 | R30: T | S30: F | T30: F | AU30: 01010244A0239DAB5C79B73F3E9E84F410F | AV30: 15
A31: 경량벽체철골틀 해체 | C31: M2 | D31: =물량산출근거서!E11 -> 46.248 | E31: =TRUNC(일위대가목록!E8,0) -> 0 | F31: =TRUNC(E31*D31, 0) -> 0 | G31: =TRUNC(일위대가목록!F8,0) -> 6002 | H31: =TRUNC(G31*D31, 0) -> 277580 | I31: =TRUNC(일위대가목록!G8,0) -> 120 | J31: =TRUNC(I31*D31, 0) -> 5549 | K31: =TRUNC(E31+G31+I31, 0) -> 6122 | L31: =TRUNC(F31+H31+J31, 0) -> 283129 | M31: 호표 5 | N31: 44A0239DAB5C79B73F33F48974FB8 | Q31: 010102 | R31: T | S31: F | T31: F | AU31: 01010244A0239DAB5C79B73F33F48974FB8 | AV31: 16
A32: 벽체합판 해체 | C32: M2 | D32: =물량산출근거서!E12 -> 99.704 | E32: =TRUNC(일위대가목록!E9,0) -> 0 | F32: =TRUNC(E32*D32, 0) -> 0 | G32: =TRUNC(일위대가목록!F9,0) -> 5316 | H32: =TRUNC(G32*D32, 0) -> 530026 | I32: =TRUNC(일위대가목록!G9,0) -> 106 | J32: =TRUNC(I32*D32, 0) -> 10568 | K32: =TRUNC(E32+G32+I32, 0) -> 5422 | L32: =TRUNC(F32+H32+J32, 0) -> 540594 | M32: 호표 6 | N32: 44A0239DAB5C79B73F302087A0A4A | Q32: 010102 | R32: T | S32: F | T32: F | AU32: 01010244A0239DAB5C79B73F302087A0A4A | AV32: 17
A33: 시트지 해체 | B33: 유리면 | C33: M2 | D33: =물량산출근거서!E13 -> 27.0892 | E33: =TRUNC(일위대가목록!E10,0) -> 0 | F33: =TRUNC(E33*D33, 0) -> 0 | G33: =TRUNC(일위대가목록!F10,0) -> 6373 | H33: =TRUNC(G33*D33, 0) -> 172639 | I33: =TRUNC(일위대가목록!G10,0) -> 0 | J33: =TRUNC(I33*D33, 0) -> 0 | K33: =TRUNC(E33+G33+I33, 0) -> 6373 | L33: =TRUNC(F33+H33+J33, 0) -> 172639 | M33: 호표 7 | N33: 451F2B92C04FC5570D8C2A87BF588C715 | Q33: 010102 | R33: T | S33: F | T33: F | AU33: 010102451F2B92C04FC5570D8C2A87BF588C715 | AV33: 18
A34: 천정 구조물 철거 | C34: 식 | D34: =물량산출근거서!E14 -> 1 | E34: =TRUNC(일위대가목록!E11,0) -> 0 | F34: =TRUNC(E34*D34, 0) -> 0 | G34: =TRUNC(일위대가목록!F11,0) -> 800229 | H34: =TRUNC(G34*D34, 0) -> 800229 | I34: =TRUNC(일위대가목록!G11,0) -> 0 | J34: =TRUNC(I34*D34, 0) -> 0 | K34: =TRUNC(E34+G34+I34, 0) -> 800229 | L34: =TRUNC(F34+H34+J34, 0) -> 800229 | M34: 호표 8 | N34: 451F2B92C04FC5570D8C2A87BF588C719 | Q34: 010102 | R34: T | S34: F | T34: F | AU34: 010102451F2B92C04FC5570D8C2A87BF588C719 | AV34: 39
A35: 창호 철거 | B35: 목재창호 | C35: 개소 | D35: =물량산출근거서!E15 -> 4 | E35: =TRUNC(일위대가목록!E12,0) -> 1587 | F35: =TRUNC(E35*D35, 0) -> 6348 | G35: =TRUNC(일위대가목록!F12,0) -> 31742 | H35: =TRUNC(G35*D35, 0) -> 126968 | I35: =TRUNC(일위대가목록!G12,0) -> 0 | J35: =TRUNC(I35*D35, 0) -> 0 | K35: =TRUNC(E35+G35+I35, 0) -> 33329 | L35: =TRUNC(F35+H35+J35, 0) -> 133316 | M35: 호표 9 | N35: 451F2B92C04FC5570D8C2A87BF588C718 | Q35: 010102 | R35: T | S35: F | T35: F | AU35: 010102451F2B92C04FC5570D8C2A87BF588C718 | AV35: 20
A36: 강재창호 해체 | B36: 설치품의 60% | C36: 개소 | D36: =물량산출근거서!E16 -> 1 | E36: =TRUNC(일위대가목록!E13,0) -> 0 | F36: =TRUNC(E36*D36, 0) -> 0 | G36: =TRUNC(일위대가목록!F13,0) -> 96889 | H36: =TRUNC(G36*D36, 0) -> 96889 | I36: =TRUNC(일위대가목록!G13,0) -> 2906 | J36: =TRUNC(I36*D36, 0) -> 2906 | K36: =TRUNC(E36+G36+I36, 0) -> 99795 | L36: =TRUNC(F36+H36+J36, 0) -> 99795 | M36: 호표 10 | N36: 44A12E9B3D864187145D8D829DEFC | Q36: 010102 | R36: T | S36: F | T36: F | AU36: 01010244A12E9B3D864187145D8D829DEFC | AV36: 45
A37: 흡음텍스 해체 | C37: M2 | D37: =물량산출근거서!E17 -> 27.9 | E37: =TRUNC(일위대가목록!E14,0) -> 0 | F37: =TRUNC(E37*D37, 0) -> 0 | G37: =TRUNC(일위대가목록!F14,0) -> 6002 | H37: =TRUNC(G37*D37, 0) -> 167455 | I37: =TRUNC(일위대가목록!G14,0) -> 0 | J37: =TRUNC(I37*D37, 0) -> 0 | K37: =TRUNC(E37+G37+I37, 0) -> 6002 | L37: =TRUNC(F37+H37+J37, 0) -> 167455 | M37: 호표 11 | N37: 44A0239DAB5C79B73F349B80181DC | Q37: 010102 | R37: T | S37: F | T37: F | AU37: 01010244A0239DAB5C79B73F349B80181DC | AV37: 21
A38: 석고판 해체 | B38: 천장 | C38: M2 | D38: =물량산출근거서!E18 -> 60.069 | E38: =TRUNC(일위대가목록!E15,0) -> 0 | F38: =TRUNC(E38*D38, 0) -> 0 | G38: =TRUNC(일위대가목록!F15,0) -> 6174 | H38: =TRUNC(G38*D38, 0) -> 370866 | I38: =TRUNC(일위대가목록!G15,0) -> 123 | J38: =TRUNC(I38*D38, 0) -> 7388 | K38: =TRUNC(E38+G38+I38, 0) -> 6297 | L38: =TRUNC(F38+H38+J38, 0) -> 378254 | M38: 호표 12 | N38: 44A0239DAB5C79B73F302087A09A4 | Q38: 010102 | R38: T | S38: F | T38: F | AU38: 01010244A0239DAB5C79B73F302087A09A4 | AV38: 22
A39: 도배 해체 | B39: 벽 | C39: M2 | D39: =물량산출근거서!E19 -> 37.778 | E39: =TRUNC(일위대가목록!E16,0) -> 0 | F39: =TRUNC(E39*D39, 0) -> 0 | G39: =TRUNC(일위대가목록!F16,0) -> 2681 | H39: =TRUNC(G39*D39, 0) -> 101282 | I39: =TRUNC(일위대가목록!G16,0) -> 0 | J39: =TRUNC(I39*D39, 0) -> 0 | K39: =TRUNC(E39+G39+I39, 0) -> 2681 | L39: =TRUNC(F39+H39+J39, 0) -> 101282 | M39: 호표 13 | N39: 44A0239DAB5C79B73F31C689C35A7 | Q39: 010102 | R39: T | S39: F | T39: F | AU39: 01010244A0239DAB5C79B73F31C689C35A7 | AV39: 23
A40: 마루틀 해체 | B40: 설치품의 60% | C40: M2 | D40: =물량산출근거서!E20 -> 32.636 | E40: =TRUNC(일위대가목록!E17,0) -> 0 | F40: =TRUNC(E40*D40, 0) -> 0 | G40: =TRUNC(일위대가목록!F17,0) -> 10171 | H40: =TRUNC(G40*D40, 0) -> 331940 | I40: =TRUNC(일위대가목록!G17,0) -> 0 | J40: =TRUNC(I40*D40, 0) -> 0 | K40: =TRUNC(E40+G40+I40, 0) -> 10171 | L40: =TRUNC(F40+H40+J40, 0) -> 331940 | M40: 호표 14 | N40: 44A12B97C3CD1987F6BE068C4D3EC | Q40: 010102 | R40: T | S40: F | T40: F | AU40: 01010244A12B97C3CD1987F6BE068C4D3EC | AV40: 40
A41: 알루미늄창호 해체 | B41: 설치품의 60% | C41: M2 | D41: =물량산출근거서!E21 -> 41.86 | E41: =TRUNC(일위대가목록!E18,0) -> 0 | F41: =TRUNC(E41*D41, 0) -> 0 | G41: =TRUNC(일위대가목록!F18,0) -> 35701 | H41: =TRUNC(G41*D41, 0) -> 1494443 | I41: =TRUNC(일위대가목록!G18,0) -> 0 | J41: =TRUNC(I41*D41, 0) -> 0 | K41: =TRUNC(E41+G41+I41, 0) -> 35701 | L41: =TRUNC(F41+H41+J41, 0) -> 1494443 | M41: 호표 15 | N41: 44A12E9B0079BD27FE28F7876003E | Q41: 010102 | R41: T | S41: F | T41: F | AU41: 01010244A12E9B0079BD27FE28F7876003E | AV41: 46
Q42: 010102
Q44: 010102
Q45: 010102
Q46: 010102
Q47: 010102
Q48: 010102
Q49: 010102
Q50: 010102
A51: [ 합 계 ] | F51: =SUMIF(Q29:Q50,"010102",F29:F50) -> 29168 | H51: =SUMIF(Q29:Q50,"010102",H29:H50) -> 5431070 | J51: =SUMIF(Q29:Q50,"010102",J29:J50) -> 26411 | L51: =SUMIF(Q29:Q50,"010102",L29:L50) -> 5486649 | N51: TOTAL
A52: 010103 목 및 경 량 공 사 | Q52: 010103
A53: 벽체틀 설치 | B53: 30*30, @450*600 | C53: M2 | D53: =물량산출근거서!E26 -> 48.548 | E53: =TRUNC(일위대가목록!E20,0) -> 2096 | F53: =TRUNC(E53*D53, 0) -> 101756 | G53: =TRUNC(일위대가목록!F20,0) -> 9733 | H53: =TRUNC(G53*D53, 0) -> 472517 | I53: =TRUNC(일위대가목록!G20,0) -> 194 | J53: =TRUNC(I53*D53, 0) -> 9418 | K53: =TRUNC(E53+G53+I53, 0) -> 12023 | L53: =TRUNC(F53+H53+J53, 0) -> 583691 | M53: 호표 17 | N53: 44A12B97FF056AA7E538C98F8C6FA | Q53: 010103 | R53: T | S53: F | T53: F | AU53: 01010344A12B97FF056AA7E538C98F8C6FA | AV53: 24
A54: MDF 설치 | B54: 중밀도섬유판, 9.0*1220*2440mm | C54: M2 | D54: =물량산출근거서!E27 -> 68.152 | E54: =TRUNC(일위대가목록!E21,0) -> 4358 | F54: =TRUNC(E54*D54, 0) -> 297006 | G54: =TRUNC(일위대가목록!F21,0) -> 18183 | H54: =TRUNC(G54*D54, 0) -> 1239207 | I54: =TRUNC(일위대가목록!G21,0) -> 363 | J54: =TRUNC(I54*D54, 0) -> 24739 | K54: =TRUNC(E54+G54+I54, 0) -> 22904 | L54: =TRUNC(F54+H54+J54, 0) -> 1560952 | M54: 호표 18 | N54: 44A12D948847C59769FC4882EF801 | Q54: 010103 | R54: T | S54: F | T54: F | AU54: 01010344A12D948847C59769FC4882EF801 | AV54: 25
A55: 벽체합판 설치 | B55: 4.8T*1220*2440 | C55: M2 | D55: =물량산출근거서!E28 -> 40.28 | E55: =TRUNC(일위대가목록!E22,0) -> 4902 | F55: =TRUNC(E55*D55, 0) -> 197452 | G55: =TRUNC(일위대가목록!F22,0) -> 18183 | H55: =TRUNC(G55*D55, 0) -> 732411 | I55: =TRUNC(일위대가목록!G22,0) -> 363 | J55: =TRUNC(I55*D55, 0) -> 14621 | K55: =TRUNC(E55+G55+I55, 0) -> 23448 | L55: =TRUNC(F55+H55+J55, 0) -> 944484 | M55: 호표 19 | N55: 44A12D94881A8FF76A0FA48428B78 | Q55: 010103 | R55: T | S55: F | T55: F | AU55: 01010344A12D94881A8FF76A0FA48428B78 | AV55: 26
A56: 석고판 설치(나사고정) - 바탕용 | B56: 천장, 2겹 붙임 | C56: M2 | D56: =물량산출근거서!E29 -> 85.589 | E56: =TRUNC(일위대가목록!E23,0) -> 6220 | F56: =TRUNC(E56*D56, 0) -> 532363 | G56: =TRUNC(일위대가목록!F23,0) -> 19632 | H56: =TRUNC(G56*D56, 0) -> 1680283 | I56: =TRUNC(일위대가목록!G23,0) -> 196 | J56: =TRUNC(I56*D56, 0) -> 16775 | K56: =TRUNC(E56+G56+I56, 0) -> 26048 | L56: =TRUNC(F56+H56+J56, 0) -> 2229421 | M56: 호표 20 | N56: 44A12D94887300176678DA889D467 | Q56: 010103 | R56: T | S56: F | T56: F | AU56: 01010344A12D94887300176678DA889D467 | AV56: 27
A57: 석고판 설치(나사고정) - 바탕용 | B57: 벽, 1겹 붙임 | C57: M2 | D57: =물량산출근거서!E30 -> 48.548 | E57: =TRUNC(일위대가목록!E24,0) -> 3110 | F57: =TRUNC(E57*D57, 0) -> 150984 | G57: =TRUNC(일위대가목록!F24,0) -> 11402 | H57: =TRUNC(G57*D57, 0) -> 553544 | I57: =TRUNC(일위대가목록!G24,0) -> 114 | J57: =TRUNC(I57*D57, 0) -> 5534 | K57: =TRUNC(E57+G57+I57, 0) -> 14626 | L57: =TRUNC(F57+H57+J57, 0) -> 710062 | M57: 호표 21 | N57: 44A12D94887300270CDC9F8FC330D | Q57: 010103 | R57: T | S57: F | T57: F | AU57: 01010344A12D94887300270CDC9F8FC330D | AV57: 28
A58: 석고판 설치(나사고정) - 바탕용 | B58: 벽, 2겹 붙임 | C58: M2 | D58: =물량산출근거서!E31 -> 53.9195 | E58: =TRUNC(일위대가목록!E25,0) -> 6220 | F58: =TRUNC(E58*D58, 0) -> 335379 | G58: =TRUNC(일위대가목록!F25,0) -> 15088 | H58: =TRUNC(G58*D58, 0) -> 813537 | I58: =TRUNC(일위대가목록!G25,0) -> 150 | J58: =TRUNC(I58*D58, 0) -> 8087 | K58: =TRUNC(E58+G58+I58, 0) -> 21458 | L58: =TRUNC(F58+H58+J58, 0) -> 1157003 | M58: 호표 22 | N58: 44A12D94887300270CDC9F8FC30B9 | Q58: 010103 | R58: T | S58: F | T58: F | AU58: 01010344A12D94887300270CDC9F8FC30B9 | AV58: 29
A59: 마루틀 설치 | B59: 30*30, @300 | C59: M2 | D59: =물량산출근거서!E32 -> 7.6224 | E59: =TRUNC(일위대가목록!E26,0) -> 1800 | F59: =TRUNC(E59*D59, 0) -> 13720 | G59: =TRUNC(일위대가목록!F26,0) -> 16951 | H59: =TRUNC(G59*D59, 0) -> 129207 | I59: =TRUNC(일위대가목록!G26,0) -> 678 | J59: =TRUNC(I59*D59, 0) -> 5167 | K59: =TRUNC(E59+G59+I59, 0) -> 19429 | L59: =TRUNC(F59+H59+J59, 0) -> 148094 | M59: 호표 23 | N59: 44A12B97C3CD1987F745D8862EECD | Q59: 010103 | R59: T | S59: F | T59: F | AU59: 01010344A12B97C3CD1987F745D8862EECD | AV59: 41
A60: 마루바탕 설치 | B60: 합판12t | C60: M2 | D60: =물량산출근거서!E33 -> 7.6224 | E60: =TRUNC(일위대가목록!E27,0) -> 11568 | F60: =TRUNC(E60*D60, 0) -> 88175 | G60: =TRUNC(일위대가목록!F27,0) -> 8281 | H60: =TRUNC(G60*D60, 0) -> 63121 | I60: =TRUNC(일위대가목록!G27,0) -> 331 | J60: =TRUNC(I60*D60, 0) -> 2523 | K60: =TRUNC(E60+G60+I60, 0) -> 20180 | L60: =TRUNC(F60+H60+J60, 0) -> 153819 | M60: 호표 24 | N60: 44A12B97C3CD1987F4F0F38B85D39 | Q60: 010103 | R60: T | S60: F | T60: F | AU60: 01010344A12B97C3CD1987F4F0F38B85D39 | AV60: 42
A61: 강화마루 설치 | C61: M2 | D61: =물량산출근거서!E34 -> 7.6224 | E61: =TRUNC(일위대가목록!E28,0) -> 31080 | F61: =TRUNC(E61*D61, 0) -> 236904 | G61: =TRUNC(일위대가목록!F28,0) -> 13716 | H61: =TRUNC(G61*D61, 0) -> 104548 | I61: =TRUNC(일위대가목록!G28,0) -> 274 | J61: =TRUNC(I61*D61, 0) -> 2088 | K61: =TRUNC(E61+G61+I61, 0) -> 45070 | L61: =TRUNC(F61+H61+J61, 0) -> 343540 | M61: 호표 25 | N61: 44A12B97C3BCF287782603881593CFA | Q61: 010103 | R61: T | S61: F | T61: F | AU61: 01010344A12B97C3BCF287782603881593CFA | AV61: 43
A62: 걸레받이 설치 - 중밀도섬유판 | B62: T=9, H=100 | C62: M | D62: =물량산출근거서!E35 -> 87.18 | E62: =TRUNC(일위대가목록!E29,0) -> 759 | F62: =TRUNC(E62*D62, 0) -> 66169 | G62: =TRUNC(일위대가목록!F29,0) -> 4157 | H62: =TRUNC(G62*D62, 0) -> 362407 | I62: =TRUNC(일위대가목록!G29,0) -> 83 | J62: =TRUNC(I62*D62, 0) -> 7235 | K62: =TRUNC(E62+G62+I62, 0) -> 4999 | L62: =TRUNC(F62+H62+J62, 0) -> 435811 | M62: 호표 26 | N62: 44A12D94AB7F9D379CBACB84FD302 | Q62: 010103 | R62: T | S62: F | T62: F | AU62: 01010344A12D94AB7F9D379CBACB84FD302 | AV62: 63
A63: 자석게시판 | B63: 갈바륨 1.2t | C63: M2 | D63: =물량산출근거서!E36 -> 3.454 | E63: =TRUNC(일위대가목록!E30,0) -> 30155 | F63: =TRUNC(E63*D63, 0) -> 104155 | G63: =TRUNC(일위대가목록!F30,0) -> 33797 | H63: =TRUNC(G63*D63, 0) -> 116734 | I63: =TRUNC(일위대가목록!G30,0) -> 584 | J63: =TRUNC(I63*D63, 0) -> 2017 | K63: =TRUNC(E63+G63+I63, 0) -> 64536 | L63: =TRUNC(F63+H63+J63, 0) -> 222906 | M63: 호표 27 | N63: 451F2B92C04FC5570D8C2A87BF588C454 | Q63: 010103 | R63: T | S63: F | T63: F | AU63: 010103451F2B92C04FC5570D8C2A87BF588C454 | AV63: 67
A64: 2층 붙박이장 | C64: 개소 | D64: =물량산출근거서!E37 -> 1 | E64: =TRUNC(일위대가목록!E31,0) -> 1001066 | F64: =TRUNC(E64*D64, 0) -> 1001066 | G64: =TRUNC(일위대가목록!F31,0) -> 1159141 | H64: =TRUNC(G64*D64, 0) -> 1159141 | I64: =TRUNC(일위대가목록!G31,0) -> 18341 | J64: =TRUNC(I64*D64, 0) -> 18341 | K64: =TRUNC(E64+G64+I64, 0) -> 2178548 | L64: =TRUNC(F64+H64+J64, 0) -> 2178548 | M64: 호표 28 | N64: 451F2B92C04FC5570D8C2A87BF588C458 | Q64: 010103 | R64: T | S64: F | T64: F | AU64: 010103451F2B92C04FC5570D8C2A87BF588C458 | AV64: 59
A65: 붙박이 쇼파 | C65: 개소 | D65: =물량산출근거서!E38 -> 1 | E65: =TRUNC(일위대가목록!E32,0) -> 441695 | F65: =TRUNC(E65*D65, 0) -> 441695 | G65: =TRUNC(일위대가목록!F32,0) -> 459882 | H65: =TRUNC(G65*D65, 0) -> 459882 | I65: =TRUNC(일위대가목록!G32,0) -> 6534 | J65: =TRUNC(I65*D65, 0) -> 6534 | K65: =TRUNC(E65+G65+I65, 0) -> 908111 | L65: =TRUNC(F65+H65+J65, 0) -> 908111 | M65: 호표 29 | N65: 451F2B92C04FC5570D8C2A87BF588C459 | Q65: 010103 | R65: T | S65: F | T65: F | AU65: 010103451F2B92C04FC5570D8C2A87BF588C459 | AV65: 60
A66: 붙박이 바테이블 | C66: 개소 | D66: =물량산출근거서!E39 -> 1 | E66: =TRUNC(일위대가목록!E33,0) -> 440099 | F66: =TRUNC(E66*D66, 0) -> 440099 | G66: =TRUNC(일위대가목록!F33,0) -> 241393 | H66: =TRUNC(G66*D66, 0) -> 241393 | I66: =TRUNC(일위대가목록!G33,0) -> 5137 | J66: =TRUNC(I66*D66, 0) -> 5137 | K66: =TRUNC(E66+G66+I66, 0) -> 686629 | L66: =TRUNC(F66+H66+J66, 0) -> 686629 | M66: 호표 30 | N66: 451F2B92C04FC5570D8C2A87BF588C45A | Q66: 010103 | R66: T | S66: F | T66: F | AU66: 010103451F2B92C04FC5570D8C2A87BF588C45A | AV66: 61
A67: 붙박이정수기장 | C67: 개소 | D67: =물량산출근거서!E40 -> 1 | E67: =TRUNC(일위대가목록!E34,0) -> 133661 | F67: =TRUNC(E67*D67, 0) -> 133661 | G67: =TRUNC(일위대가목록!F34,0) -> 193294 | H67: =TRUNC(G67*D67, 0) -> 193294 | I67: =TRUNC(일위대가목록!G34,0) -> 1481 | J67: =TRUNC(I67*D67, 0) -> 1481 | K67: =TRUNC(E67+G67+I67, 0) -> 328436 | L67: =TRUNC(F67+H67+J67, 0) -> 328436 | M67: 호표 31 | N67: 451F2B92C04FC5570D8C2A87BF588C45B | Q67: 010103 | R67: T | S67: F | T67: F | AU67: 010103451F2B92C04FC5570D8C2A87BF588C45B | AV67: 62
Q68: 010103
Q69: 010103
Q70: 010103
Q71: 010103
Q72: 010103
Q73: 010103
Q74: 010103
A75: [ 합 계 ] | F75: =SUMIF(Q53:Q74,"010103",F53:F74) -> 4140584 | H75: =SUMIF(Q53:Q74,"010103",H53:H74) -> 8321226 | J75: =SUMIF(Q53:Q74,"010103",J53:J74) -> 129697 | L75: =SUMIF(Q53:Q74,"010103",L53:L74) -> 12591507 | N75: TOTAL
A76: 010104 창 호 및 유 리 공 사 | Q76: 010104
A77: 강화유리도어 설치 | B77: 편개, 900*2600 | C77: SET | D77: =물량산출근거서!E43 -> 1 | E77: =TRUNC(일위대가목록!E35,0) -> 650000 | F77: =TRUNC(E77*D77, 0) -> 650000 | G77: =TRUNC(일위대가목록!F35,0) -> 0 | H77: =TRUNC(G77*D77, 0) -> 0 | I77: =TRUNC(일위대가목록!G35,0) -> 0 | J77: =TRUNC(I77*D77, 0) -> 0 | K77: =TRUNC(E77+G77+I77, 0) -> 650000 | L77: =TRUNC(F77+H77+J77, 0) -> 650000 | M77: 호표 32 | N77: 451F2B92C04FC5570D8C2A87BF588C45D | Q77: 010104 | R77: T | S77: F | T77: F | AU77: 010104451F2B92C04FC5570D8C2A87BF588C45D | AV77: 47
A78: 강화유리도어 설치 | B78: 양개, 1700*2600 | C78: SET | D78: =물량산출근거서!E44 -> 1 | E78: =TRUNC(일위대가목록!E36,0) -> 1050000 | F78: =TRUNC(E78*D78, 0) -> 1050000 | G78: =TRUNC(일위대가목록!F36,0) -> 0 | H78: =TRUNC(G78*D78, 0) -> 0 | I78: =TRUNC(일위대가목록!G36,0) -> 0 | J78: =TRUNC(I78*D78, 0) -> 0 | K78: =TRUNC(E78+G78+I78, 0) -> 1050000 | L78: =TRUNC(F78+H78+J78, 0) -> 1050000 | M78: 호표 33 | N78: 451F2B92C04FC5570D8C2A87BF588C45C | Q78: 010104 | R78: T | S78: F | T78: F | AU78: 010104451F2B92C04FC5570D8C2A87BF588C45C | AV78: 48
A79: 알루미늄 프레임 | B79: 50*100, 무광화이트 분체도장 | C79: M2 | D79: =물량산출근거서!E45 -> 20.8 | E79: =TRUNC(단가대비표!O30,0) -> 113000 | F79: =TRUNC(E79*D79, 0) -> 2350400 | G79: =TRUNC(단가대비표!P30,0) -> 0 | H79: =TRUNC(G79*D79, 0) -> 0 | I79: =TRUNC(단가대비표!V30,0) -> 0 | J79: =TRUNC(I79*D79, 0) -> 0 | K79: =TRUNC(E79+G79+I79, 0) -> 113000 | L79: =TRUNC(F79+H79+J79, 0) -> 2350400 | N79: 43822991E9C6FAE7079B1C8EBB56F3E146604 | Q79: 010104 | R79: F | S79: F | T79: T | AU79: 01010443822991E9C6FAE7079B1C8EBB56F3E146604 | AV79: 50
A80: 창호유리설치 / 판유리 | B80: 유리두께 12mm 이하 | C80: M2 | D80: =물량산출근거서!E46 -> 10.705 | E80: =TRUNC(일위대가목록!E37,0) -> 41212 | F80: =TRUNC(E80*D80, 0) -> 441174 | G80: =TRUNC(일위대가목록!F37,0) -> 34363 | H80: =TRUNC(G80*D80, 0) -> 367855 | I80: =TRUNC(일위대가목록!G37,0) -> 0 | J80: =TRUNC(I80*D80, 0) -> 0 | K80: =TRUNC(E80+G80+I80, 0) -> 75575 | L80: =TRUNC(F80+H80+J80, 0) -> 809029 | M80: 호표 34 | N80: 44A12E9B586DFF176E2F988AA6206 | Q80: 010104 | R80: T | S80: F | T80: F | AU80: 01010444A12E9B586DFF176E2F988AA6206 | AV80: 51
A81: 유리블록 쌓기 | B81: 80*190*190 | C81: M2 | D81: =물량산출근거서!E47 -> 2.7 | E81: =TRUNC(일위대가목록!E38,0) -> 102212 | F81: =TRUNC(E81*D81, 0) -> 275972 | G81: =TRUNC(일위대가목록!F38,0) -> 33957 | H81: =TRUNC(G81*D81, 0) -> 91683 | I81: =TRUNC(일위대가목록!G38,0) -> 0 | J81: =TRUNC(I81*D81, 0) -> 0 | K81: =TRUNC(E81+G81+I81, 0) -> 136169 | L81: =TRUNC(F81+H81+J81, 0) -> 367655 | M81: 호표 35 | N81: 451F2B92C04FC5570D8C2A87BF588C45F | Q81: 010104 | R81: T | S81: F | T81: F | AU81: 010104451F2B92C04FC5570D8C2A87BF588C45F | AV81: 52
A82: 수밀코킹(실리콘) | B82: 삼각, 10mm, 창호주위 | C82: M | D82: =물량산출근거서!E48 -> 97.39 | E82: =TRUNC(일위대가목록!E39,0) -> 622 | F82: =TRUNC(E82*D82, 0) -> 60576 | G82: =TRUNC(일위대가목록!F39,0) -> 5228 | H82: =TRUNC(G82*D82, 0) -> 509154 | I82: =TRUNC(일위대가목록!G39,0) -> 0 | J82: =TRUNC(I82*D82, 0) -> 0 | K82: =TRUNC(E82+G82+I82, 0) -> 5850 | L82: =TRUNC(F82+H82+J82, 0) -> 569730 | M82: 호표 36 | N82: 44A12A911E9B2AE782C22C8734CCD | Q82: 010104 | R82: T | S82: F | T82: F | AU82: 01010444A12A911E9B2AE782C22C8734CCD | AV82: 38
Q83: 010104
Q84: 010104
Q85: 010104
Q86: 010104
Q87: 010104
Q88: 010104
Q89: 010104
Q90: 010104
Q91: 010104
Q92: 010104
Q93: 010104
Q94: 010104
... Q98: 010104
A99: [ 합 계 ] | F99: =SUMIF(Q77:Q98,"010104",F77:F98) -> 4828122 | H99: =SUMIF(Q77:Q98,"010104",H77:H98) -> 968692 | J99: =SUMIF(Q77:Q98,"010104",J77:J98) -> 0 | L99: =SUMIF(Q77:Q98,"010104",L77:L98) -> 5796814 | N99: TOTAL
A100: 010105 타 일 공 사 | Q100: 010105
A101: 타일 붙임 / 압착 붙이기 | B101: 벽, 타일 0.04 ~ 0.10m2 이하, 15m2/일당 | C101: M2 | D101: =물량산출근거서!E51 -> 0.62 | E101: =TRUNC(일위대가목록!E40,0) -> 11025 | F101: =TRUNC(E101*D101, 0) -> 6835 | G101: =TRUNC(일위대가목록!F40,0) -> 50223 | H101: =TRUNC(G101*D101, 0) -> 31138 | I101: =TRUNC(일위대가목록!G40,0) -> 1506 | J101: =TRUNC(I101*D101, 0) -> 933 | K101: =TRUNC(E101+G101+I101, 0) -> 62754 | L101: =TRUNC(F101+H101+J101, 0) -> 38906 | M101: 호표 37 | N101: 44A12F9990DAC1A719BB5C818AA0E | Q101: 010105 | R101: T | S101: F | T101: F | AU101: 01010544A12F9990DAC1A719BB5C818AA0E | AV101: 55
Q102: 010105
Q103: 010105
Q104: 010105
Q105: 010105
Q106: 010105
Q107: 010105
Q108: 010105
Q109: 010105
Q110: 010105
Q111: 010105
...

Sheet 일위대가목록
B1: 일 위 대 가 목 록
B2: [ 사우청소년문화의집 시설환경개선사업 ]
A3: 코 드 | B3: 품 명 | C3: 규 격 | D3: 단위 | E3: 재 료 비 | F3: 노 무 비 | G3: 경 비 | H3: 합 계 | I3: 번 호 | J3: 비 고 | K3: 노임계수 | L3: 할증 | M3: 품셈개요 | N3: 장비일위
A4: 44A123943A8F9997C2885A867243A | B4: 건축물보양 | C4: 보양지 붙이기 | D4: M2 | E4: =일위대가!F8 -> 574 | F4: =일위대가!H8 -> 1720 | G4: =일위대가!J8 -> 0 | H4: =E4+F4+G4 -> 2294 | I4: 호표 1 | M4: 공통 2-11-1
A5: 44A123943AE00FA77A31A48CEB253 | B5: 준공청소 | D5: M2 | E5: =일위대가!F12 -> 0 | F5: =일위대가!H12 -> 3441 | G5: =일위대가!J12 -> 0 | H5: =E5+F5+G5 -> 3441 | I5: 호표 2 | M5: 공통 2-11-3
A6: 451F2B92C04FC5570D8C2A87BF588C717 | B6: 몰딩류 철거 | D6: M | E6: =일위대가!F18 -> 190 | F6: =일위대가!H18 -> 3808 | G6: =일위대가!J18 -> 0 | H6: =E6+F6+G6 -> 3998 | I6: 호표 3
A7: 44A0239DAB5C79B73F3E9E84F410F | B7: PVC계바닥재 해체 | D7: M2 | E7: =일위대가!F23 -> 0 | F7: =일위대가!H23 -> 2229 | G7: =일위대가!J23 -> 0 | H7: =E7+F7+G7 -> 2229 | I7: 호표 4 | M7: 유지 3-2-8
A8: 44A0239DAB5C79B73F33F48974FB8 | B8: 경량벽체철골틀 해체 | D8: M2 | E8: =일위대가!F29 -> 0 | F8: =일위대가!H29 -> 6002 | G8: =일위대가!J29 -> 120 | H8: =E8+F8+G8 -> 6122 | I8: 호표 5 | M8: 유지 3-2-5
A9: 44A0239DAB5C79B73F302087A0A4A | B9: 벽체합판 해체 | D9: M2 | E9: =일위대가!F35 -> 0 | F9: =일위대가!H35 -> 5316 | G9: =일위대가!J35 -> 106 | H9: =E9+F9+G9 -> 5422 | I9: 호표 6 | M9: 유지 3-2-6
A10: 451F2B92C04FC5570D8C2A87BF588C715 | B10: 시트지 해체 | C10: 유리면 | D10: M2 | E10: =일위대가!F40 -> 0 | F10: =일위대가!H40 -> 6373 | G10: =일위대가!J40 -> 0 | H10: =E10+F10+G10 -> 6373 | I10: 호표 7
A11: 451F2B92C04FC5570D8C2A87BF588C719 | B11: 천정 구조물 철거 | D11: 식 | E11: =일위대가!F44 -> 0 | F11: =일위대가!H44 -> 800229 | G11: =일위대가!J44 -> 0 | H11: =E11+F11+G11 -> 800229 | I11: 호표 8
A12: 451F2B92C04FC5570D8C2A87BF588C718 | B12: 창호 철거 | C12: 목재창호 | D12: 개소 | E12: =일위대가!F50 -> 1587 | F12: =일위대가!H50 -> 31742 | G12: =일위대가!J50 -> 0 | H12: =E12+F12+G12 -> 33329 | I12: 호표 9
A13: 44A12E9B3D864187145D8D829DEFC | B13: 강재창호 해체 | C13: 설치품의 60% | D13: 개소 | E13: =일위대가!F57 -> 0 | F13: =일위대가!H57 -> 96889 | G13: =일위대가!J57 -> 2906 | H13: =E13+F13+G13 -> 99795 | I13: 호표 10 | M13: 건축 10-1-2
A14: 44A0239DAB5C79B73F349B80181DC | B14: 흡음텍스 해체 | D14: M2 | E14: =일위대가!F62 -> 0 | F14: =일위대가!H62 -> 6002 | G14: =일위대가!J62 -> 0 | H14: =E14+F14+G14 -> 6002 | I14: 호표 11 | M14: 유지 3-2-2
A15: 44A0239DAB5C79B73F302087A09A4 | B15: 석고판 해체 | C15: 천장 | D15: M2 | E15: =일위대가!F68 -> 0 | F15: =일위대가!H68 -> 6174 | G15: =일위대가!J68 -> 123 | H15: =E15+F15+G15 -> 6297 | I15: 호표 12 | M15: 유지 3-2-6
A16: 44A0239DAB5C79B73F31C689C35A7 | B16: 도배 해체 | C16: 벽 | D16: M2 | E16: =일위대가!F73 -> 0 | F16: =일위대가!H73 -> 2681 | G16: =일위대가!J73 -> 0 | H16: =E16+F16+G16 -> 2681 | I16: 호표 13 | M16: 유지 3-2-7
A17: 44A12B97C3CD1987F6BE068C4D3EC | B17: 마루틀 해체 | C17: 설치품의 60% | D17: M2 | E17: =일위대가!F79 -> 0 | F17: =일위대가!H79 -> 10171 | G17: =일위대가!J79 -> 0 | H17: =E17+F17+G17 -> 10171 | I17: 호표 14 | M17: 건축 4-1-2
A18: 44A12E9B0079BD27FE28F7876003E | B18: 알루미늄창호 해체 | C18: 설치품의 60% | D18: M2 | E18: =일위대가!F85 -> 0 | F18: =일위대가!H85 -> 35701 | G18: =일위대가!J85 -> 0 | H18: =E18+F18+G18 -> 35701 | I18: 호표 15 | M18: 건축 10-1-3
A19: 44A12A904138D457510D5F88C303C | B19: 바닥 샌딩 | C19: 타일본드 제거 | D19: M2 | E19: =일위대가!F90 -> 0 | F19: =일위대가!H90 -> 8603 | G19: =일위대가!J90 -> 344 | H19: =E19+F19+G19 -> 8947 | I19: 호표 16 | M19: 건축 6-1-1
A20: 44A12B97FF056AA7E538C98F8C6FA | B20: 벽체틀 설치 | C20: 30*30, @450*600 | D20: M2 | E20: =일위대가!F95 -> 2096 | F20: =일위대가!H95 -> 9733 | G20: =일위대가!J95 -> 194 | H20: =E20+F20+G20 -> 12023 | I20: 호표 17 | M20: 건축 4-2-1
A21: 44A12D948847C59769FC4882EF801 | B21: MDF 설치 | C21: 중밀도섬유판, 9.0*1220*2440mm | D21: M2 | E21: =일위대가!F100 -> 4358 | F21: =일위대가!H100 -> 18183 | G21: =일위대가!J100 -> 363 | H21: =E21+F21+G21 -> 22904 | I21: 호표 18 | M21: 건축 4-2-3
A22: 44A12D94881A8FF76A0FA48428B78 | B22: 벽체합판 설치 | C22: 4.8T*1220*2440 | D22: M2 | E22: =일위대가!F107 -> 4902 | F22: =일위대가!H107 -> 18183 | G22: =일위대가!J107 -> 363 | H22: =E22+F22+G22 -> 23448 | I22: 호표 19 | M22: 건축 4-2-3
A23: 44A12D94887300176678DA889D467 | B23: 석고판 설치(나사고정) - 바탕용 | C23: 천장, 2겹 붙임 | D23: M2 | E23: =일위대가!F114 -> 6220 | F23: =일위대가!H114 -> 19632 | G23: =일위대가!J114 -> 196 | H23: =E23+F23+G23 -> 26048 | I23: 호표 20 | M23: 건축 5-2-3
A24: 44A12D94887300270CDC9F8FC330D | B24: 석고판 설치(나사고정) - 바탕용 | C24: 벽, 1겹 붙임 | D24: M2 | E24: =일위대가!F121 -> 3110 | F24: =일위대가!H121 -> 11402 | G24: =일위대가!J121 -> 114 | H24: =E24+F24+G24 -> 14626 | I24: 호표 21 | M24: 건축 5-3-1
A25: 44A12D94887300270CDC9F8FC30B9 | B25: 석고판 설치(나사고정) - 바탕용 | C25: 벽, 2겹 붙임 | D25: M2 | E25: =일위대가!F128 -> 6220 | F25: =일위대가!H128 -> 15088 | G25: =일위대가!J128 -> 150 | H25: =E25+F25+G25 -> 21458 | I25: 호표 22 | M25: 건축 5-3-1
A26: 44A12B97C3CD1987F745D8862EECD | B26: 마루틀 설치 | C26: 30*30, @300 | D26: M2 | E26: =일위대가!F133 -> 1800 | F26: =일위대가!H133 -> 16951 | G26: =일위대가!J133 -> 678 | H26: =E26+F26+G26 -> 19429 | I26: 호표 23 | M26: 건축 4-1-2
A27: 44A12B97C3CD1987F4F0F38B85D39 | B27: 마루바탕 설치 | C27: 합판12t | D27: M2 | E27: =일위대가!F140 -> 11568 | F27: =일위대가!H140 -> 8281 | G27: =일위대가!J140 -> 331 | H27: =E27+F27+G27 -> 20180 | I27: 호표 24 | M27: 건축 4-1-3
A28: 44A12B97C3BCF287782603881593CFA | B28: 강화마루 설치 | D28: M2 | E28: =일위대가!F145 -> 31080 | F28: =일위대가!H145 -> 13716 | G28: =일위대가!J145 -> 274 | H28: =E28+F28+G28 -> 45070 | I28: 호표 25 | M28: 건축 5-1-3
A29: 44A12D94AB7F9D379CBACB84FD302 | B29: 걸레받이 설치 - 중밀도섬유판 | C29: T=9, H=100 | D29: M | E29: =일위대가!F151 -> 759 | F29: =일위대가!H151 -> 4157 | G29: =일위대가!J151 -> 83 | H29: =E29+F29+G29 -> 4999 | I29: 호표 26 | M29: 건축 5-3-5
A30: 451F2B92C04FC5570D8C2A87BF588C454 | B30: 자석게시판 | C30: 갈바륨 1.2t | D30: M2 | E30: =일위대가!F157 -> 30155 | F30: =일위대가!H157 -> 33797 | G30: =일위대가!J157 -> 584 | H30: =E30+F30+G30 -> 64536 | I30: 호표 27
A31: 451F2B92C04FC5570D8C2A87BF588C458 | B31: 2층 붙박이장 | D31: 개소 | E31: =일위대가!F172 -> 1001066 | F31: =일위대가!H172 -> 1159141 | G31: =일위대가!J172 -> 18341 | H31: =E31+F31+G31 -> 2178548 | I31: 호표 28
A32: 451F2B92C04FC5570D8C2A87BF588C459 | B32: 붙박이 쇼파 | D32: 개소 | E32: =일위대가!F182 -> 441695 | F32: =일위대가!H182 -> 459882 | G32: =일위대가!J182 -> 6534 | H32: =E32+F32+G32 -> 908111 | I32: 호표 29
A33: 451F2B92C04FC5570D8C2A87BF588C45A | B33: 붙박이 바테이블 | D33: 개소 | E33: =일위대가!F191 -> 440099 | F33: =일위대가!H191 -> 241393 | G33: =일위대가!J191 -> 5137 | H33: =E33+F33+G33 -> 686629 | I33: 호표 30
A34: 451F2B92C04FC5570D8C2A87BF588C45B | B34: 붙박이정수기장 | D34: 개소 | E34: =일위대가!F198 -> 133661 | F34: =일위대가!H198 -> 193294 | G34: =일위대가!J198 -> 1481 | H34: =E34+F34+G34 -> 328436 | I34: 호표 31
A35: 451F2B92C04FC5570D8C2A87BF588C45D | B35: 강화유리도어 설치 | C35: 편개, 900*2600 | D35: SET | E35: =일위대가!F202 -> 650000 | F35: =일위대가!H202 -> 0 | G35: =일위대가!J202 -> 0 | H35: =E35+F35+G35 -> 650000 | I35: 호표 32
A36: 451F2B92C04FC5570D8C2A87BF588C45C | B36: 강화유리도어 설치 | C36: 양개, 1700*2600 | D36: SET | E36: =일위대가!F206 -> 1050000 | F36: =일위대가!H206 -> 0 | G36: =일위대가!J206 -> 0 | H36: =E36+F36+G36 -> 1050000 | I36: 호표 33
A37: 44A12E9B586DFF176E2F988AA6206 | B37: 창호유리설치 / 판유리 | C37: 유리두께 12mm 이하 | D37: M2 | E37: =일위대가!F212 -> 41212 | F37: =일위대가!H212 -> 34363 | G37: =일위대가!J212 -> 0 | H37: =E37+F37+G37 -> 75575 | I37: 호표 34 | M37: 건축 10-3-1
A38: 451F2B92C04FC5570D8C2A87BF588C45F | B38: 유리블록 쌓기 | C38: 80*190*190 | D38: M2 | E38: =일위대가!F218 -> 102212 | F38: =일위대가!H218 -> 33957 | G38: =일위대가!J218 -> 0 | H38: =E38+F38+G38 -> 136169 | I38: 호표 35
A39: 44A12A911E9B2AE782C22C8734CCD | B39: 수밀코킹(실리콘) | C39: 삼각, 10mm, 창호주위 | D39: M | E39: =일위대가!F223 -> 622 | F39: =일위대가!H223 -> 5228 | G39: =일위대가!J223 -> 0 | H39: =E39+F39+G39 -> 5850 | I39: 호표 36 | M39: 건축 6-6-1
A40: 44A12F9990DAC1A719BB5C818AA0E | B40: 타일 붙임 / 압착 붙이기 | C40: 벽, 타일 0.04 ~ 0.10m2 이하, 15m2/일당 | D40: M2 | E40: =일위대가!F230 -> 11025 | F40: =일위대가!H230 -> 50223 | G40: =일위대가!J230 -> 1506 | H40: =E40+F40+G40 -> 62754 | I40: 호표 37 | M40: 건축 3-2-2
A41: 44A12C9777EA68B7B224CC86B45EF | B41: 석고보드면 바탕만들기 | C41: 줄퍼티 노무비 | D41: M2 | E41: =일위대가!F236 -> 437 | F41: =일위대가!H236 -> 10926 | G41: =일위대가!J236 -> 0 | H41: =E41+F41+G41 -> 11363 | I41: 호표 38 | M41: 건축 11-1-2
A42: 44A12C967D2175671AC8CF8F41C25 | B42: 수성페인트 칠 | C42: 내부, 2회, 친환경 | D42: M2 | E42: =일위대가!F241 -> 1376 | F42: =일위대가!H241 -> 7000 | G42: =일위대가!J241 -> 0 | H42: =E42+F42+G42 -> 8376 | I42: 호표 39
A43: 44A12C9777EA68B7B224CD8734272 | B43: 석고보드면 바탕만들기 | C43: 줄퍼티 천장 친환경 | D43: M2 | E43: =일위대가!F246 -> 2226 | F43: =일위대가!H246 -> 13111 | G43: =일위대가!J246 -> 0 | H43: =E43+F43+G43 -> 15337 | I43: 호표 40 | M43: 건축 11-1-2
A44: 44A12C967D2175671AC8CF8F41C26 | B44: 수성페인트 칠 | C44: 내천장, 2회, 친환경 | D44: M2 | E44: =일위대가!F251 -> 1376 | F44: =일위대가!H251 -> 8400 | G44: =일위대가!J251 -> 0 | H44: =E44+F44+G44 -> 9776 | I44: 호표 41
A45: 44A12D94F37069D728E6D28057D24 | B45: 난방필름 설치 | C45: 바닥 | D45: M2 | E45: =일위대가!F255 -> 25000 | F45: =일위대가!H255 -> 0 | G45: =일위대가!J255 -> 0 | H45: =E45+F45+G45 -> 25000 | I45: 호표 42 | M45: 건축 5-4-8
A46: 44A12D94F37069D728E6D382C076E | B46: 인테리어 필름 붙임 | C46: 방염 | D46: M2 | E46: =일위대가!F260 -> 17712 | F46: =일위대가!H260 -> 22098 | G46: =일위대가!J260 -> 0 | H46: =E46+F46+G46 -> 39810 | I46: 호표 43
A47: 44A12D94AB31E43759396A8DC00C2 | B47: 비닐타일 깔기 | C47: 비닐타일, 3.0 | D47: M2 | E47: =일위대가!F265 -> 10521 | F47: =일위대가!H265 -> 17145 | G47: =일위대가!J265 -> 0 | H47: =E47+F47+G47 -> 27666 | I47: 호표 44 | M47: 건축 5-1-1
A48: 451F2B92C04FC5570D8C2A87BF588C714 | B48: 도트그라데이션 시트 붙임 | D48: M2 | E48: =일위대가!F270 -> 12839 | F48: =일위대가!H270 -> 7967 | G48: =일위대가!J270 -> 0 | H48: =E48+F48+G48 -> 20806 | I48: 호표 45
A49: 44A12B97FF057B17D896868EDD661 | B49: 벽체틀 설치 | C49: 자재 별도 | D49: M2 | E49: =일위대가!F276 -> 0 | F49: =일위대가!H276 -> 9733 | G49: =일위대가!J276 -> 194 | H49: =E49+F49+G49 -> 9927 | I49: 호표 46 | M49: 건축 4-2-1
A50: 44A12D94881A8FF76A0FA48428B79 | B50: 벽체합판 설치 | C50: 합판 별도 | D50: M2 | E50: =일위대가!F282 -> 0 | F50: =일위대가!H282 -> 18183 | G50: =일위대가!J282 -> 363 | H50: =E50+F50+G50 -> 18546 | I50: 호표 47 | M50: 건축 4-2-3
A51: 44A12B97C3CD1987F6BE068C4D3ED | B51: 마루틀 설치 | C51: 시공비 | D51: M2 | E51: =일위대가!F288 -> 0 | F51: =일위대가!H288 -> 16951 | G51: =일위대가!J288 -> 678 | H51: =E51+F51+G51 -> 17629 | I51: 호표 48 | M51: 건축 4-1-2
A52: 44A12B97C3BCF287782603881593C | B52: 플로어링 마루 설치 | D52: M2 | E52: =일위대가!F294 -> 0 | F52: =일위대가!H294 -> 13716 | G52: =일위대가!J294 -> 274 | H52: =E52+F52+G52 -> 13990 | I52: 호표 49 | M52: 건축 5-1-3
A53: 44A12D94AB7FB9D7B41F1680154F1 | B53: 걸레받이 설치 | C53: 중밀도섬유판, H=75~120mm 기준 | D53: M | E53: =일위대가!F300 -> 0 | F53: =일위대가!H300 -> 4157 | G53: =일위대가!J300 -> 83 | H53: =E53+F53+G53 -> 4240 | I53: 호표 50 | M53: 건축 5-3-5
A54: 44A1289C49C20C17A88F64812C84A | B54: 잡철물 제작 및 설치 | C54: 제품 설치, 일반철재 | D54: kg | E54: =일위대가!F309 -> 37 | F54: =일위대가!H309 -> 1242 | G54: =일위대가!J309 -> 62 | H54: =E54+F54+G54 -> 1341 | I54: 호표 51 | M54: 건축 8-3-1
A55: 44A1289CA24450974CA41383C700E | B55: 스틸난간대설치 | C55: D50.8+25.4*1.4t, H:900 | D55: M | E55: =일위대가!F322 -> 8905 | F55: =일위대가!H322 -> 35789 | G55: =일위대가!J322 -> 577 | H55: =E55+F55+G55 -> 45271 | I55: 호표 52
A56: 44A12E9B586DFF176E2F988AA65DA | B56: 창호유리설치 / 판유리 | C56: 유리두께 9mm 이하 | D56: M2 | E56: =일위대가!F327 -> 0 | F56: =일위대가!H327 -> 26667 | G56: =일위대가!J327 -> 0 | H56: =E56+F56+G56 -> 26667 | I56: 호표 53 | M56: 건축 10-3-1
A57: 44A12D94AB31E4375F412F8D5FD13 | B57: 비닐타일 깔기 | C57: 비닐타일, 3*450*450mm, 데코타일 | D57: M2 | E57: =일위대가!F332 -> 20811 | F57: =일위대가!H332 -> 17145 | G57: =일위대가!J332 -> 0 | H57: =E57+F57+G57 -> 37956 | I57: 호표 54 | M57: 건축 5-1-1
A58: 44A1289CA24450974AF75E89DB1D1 | B58: 스틸 CAP | C58: D60*1.4t | D58: 개 | E58: =일위대가!F342 -> 59 | F58: =일위대가!H342 -> 294 | G58: =일위대가!J342 -> 10 | H58: =E58+F58+G58 -> 363 | I58: 호표 55
A59: 44A1289CA24450974E528F8BC3538 | B59: 용접식난간 설치 | C59: 현장제작 설치, 철제 난간 | D59: kg | E59: =일위대가!F350 -> 110 | F59: =일위대가!H350 -> 5527 | G59: =일위대가!J350 -> 110 | H59: =E59+F59+G59 -> 5747 | I59: 호표 56 | M59: 건축 8-2-1
A60: 44A12C96526A749748E31680CBA0F | B60: 녹막이페인트 붓칠(재료비 미포함) | C60: 철재면, 1회 2종 | D60: M2 | E60: =일위대가!F354 -> 89 | F60: =일위대가!H354 -> 4461 | G60: =일위대가!J354 -> 0 | H60: =E60+F60+G60 -> 4550 | I60: 호표 57 | M60: 건축 11-2-6
A61: 44A12C966CCC86E75A674F8922151 | B61: 유성페인트 붓칠(재료비 미포함) | C61: 철재면, 2회 1급 | D61: M2 | E61: =일위대가!F358 -> 237 | F61: =일위대가!H358 -> 11897 | G61: =일위대가!J358 -> 0 | H61: =E61+F61+G61 -> 12134 | I61: 호표 58 | M61: 건축 11-2-4
A62: 44A12C96526A74974989FA85064FC | B62: 녹막이 페인트칠 재료비(20년 품셈기준) | C62: 철재면, 1회, 2종 | D62: M2 | E62: =일위대가!F363 -> 682 | F62: =일위대가!H363 -> 0 | G62: =일위대가!J363 -> 0 | H62: =E62+F62+G62 -> 682 | I62: 호표 59
A63: 44A12C966CCC86E75A674B835055B | B63: 유성페인트 붓칠 재료비(20년 품셈기준) | C63: 철재면, 2회, 1급 | D63: M2 | E63: =일위대가!F368 -> 1028 | F63: =일위대가!H368 -> 0 | G63: =일위대가!J368 -> 0 | H63: =E63+F63+G63 -> 1028 | I63: 호표 60
A64: 44A12D94AB31E4375BE6FD8EDAC0A | B64: PVC계 바닥재 설치 - 타일형 | C64: 주재료 제외 | D64: M2 | E64: =일위대가!F374 -> 861 | F64: =일위대가!H374 -> 17145 | G64: =일위대가!J374 -> 0 | H64: =E64+F64+G64 -> 18006 | I64: 호표 61 | M64: 건축 5-1-1
A65: 44A1289C49FF47F70EAC1886A3517 | B65: 잡철물 제작 및 설치 | C65: 현장제작 설치, 일반철재 | D65: kg | E65: =일위대가!F383 -> 159 | F65: =일위대가!H383 -> 5328 | G65: =일위대가!J383 -> 266 | H65: =E65+F65+G65 -> 5753 | I65: 호표 62 | M65: 건축 8-3-1
A66: 44A12C96526A74974988D3847A25D | B66: 녹막이 페인트칠 | C66: 철재면 1회 노무비 | D66: M2 | E66: =일위대가!F389 -> 89 | F66: =일위대가!H389 -> 4461 | G66: =일위대가!J389 -> 0 | H66: =E66+F66+G66 -> 4550 | I66: 호표 63 | M66: 건축 11-2-6
A67: 44A12C966CCC86E75A674B8373356 | B67: 유성페인트 붓칠 | C67: 철재면 2회 노무비 | D67: M2 | E67: =일위대가!F397 -> 237 | F67: =일위대가!H397 -> 11897 | G67: =일위대가!J397 -> 0 | H67: =E67+F67+G67 -> 12134 | I67: 호표 64 | M67: 건축 11-2-4
A68: 44A12A911EA564376FF43E8888E11 | B68: 수밀코킹 | C68: 재료비 별도 | D68: M | E68: =일위대가!F401 -> 0 | F68: =일위대가!H401 -> 5228 | G68: =일위대가!J401 -> 0 | H68: =E68+F68+G68 -> 5228 | I68: 호표 65 | M68: 건축 6-6-1
A69: 44A12C967D2175671F496383230A8 | B69: 수성페인트 롤러칠(재료비 미포함) | C69: 내부, 2회 1급 | D69: M2 | E69: =일위대가!F405 -> 140 | F69: =일위대가!H405 -> 7000 | G69: =일위대가!J405 -> 0 | H69: =E69+F69+G69 -> 7140 | I69: 호표 66 | M69: 건축 11-2-2
A70: 44A12C967D2175671F4A0A8BCFB86 | B70: 수성페인트 롤러칠 | C70: 2회 노무비 | D70: M2 | E70: =일위대가!F413 -> 140 | F70: =일위대가!H413 -> 7000 | G70: =일위대가!J413 -> 0 | H70: =E70+F70+G70 -> 7140 | I70: 호표 67 | M70: 건축 11-2-2
A71: 44A12C9777EA68B7B224CD872BBA1 | B71: 석고보드면 바탕만들기 재료비 | C71: 줄퍼티(20년 품셈 기준) | D71: M2 | E71: =일위대가!F418 -> 1789 | F71: =일위대가!H418 -> 0 | G71: =일위대가!J418 -> 0 | H71: =E71+F71+G71 -> 1789 | I71: 호표 68
A72: 44A12C9777EA68B7B224CD871903C | B72: 석고보드면 바탕만들기 | C72: 줄퍼티 천장 노무비 | D72: M2 | E72: =일위대가!F425 -> 437 | F72: =일위대가!H425 -> 13111 | G72: =일위대가!J425 -> 0 | H72: =E72+F72+G72 -> 13548 | I72: 호표 69 | M72: 건축 11-1-2
A73: 44A12C967D217567181D698EFFC12 | B73: 수성페인트 롤러칠(재료비 미포함) | C73: 내천장, 2회 1급 | D73: M2 | E73: =일위대가!F429 -> 140 | F73: =일위대가!H429 -> 8400 | G73: =일위대가!J429 -> 0 | H73: =E73+F73+G73 -> 8540 | I73: 호표 70 | M73: 건축 11-2-2
A74: 44A12C967D2175671818E78945F89 | B74: 수성페인트 롤러칠 | C74: 천장 2회 노무비 | D74: M2 | E74: =일위대가!F438 -> 140 | F74: =일위대가!H438 -> 8400 | G74: =일위대가!J438 -> 0 | H74: =E74+F74+G74 -> 8540 | I74: 호표 71 | M74: 건축 11-2-2

Sheet 일위대가
A1: [ 사우청소년문화의집 시설환경개선사업 ]
A2: 품 명 | B2: 규 격 | C2: 단위 | D2: 수량 | E2: 재 료 비 | G2: 노 무 비 | I2: 경 비 | K2: 합 계 | M2: 비 고 | N2: 일위대가 | O2: 품목코드 | P2: 일위 | Q2: 단산 | R2: 자재 | S2: 손료적용 | T2: 손료저장 | U2: 적용율 | V2: JUK1 | W2: JUK2 | X2: JUK3 | Y2: JUK4 | Z2: JUK5 | AA2: JUK6 | AB2: JUK7 | AC2: JUK8 | AD2: JUK9 | AE2: JUK10 | AF2: JUK11 | AG2: JUK12 | AH2: JUK13 | AI2: JUK14 | AJ2: JUK15 | AK2: JUK16 | AL2: JUK17 | AM2: JUK18 | AN2: JUK19 | AO2: JUK20 | AP2: 할증적용 | AQ2: 할증저장 | AR2: 할증율 | AS2: HAL1 | AT2: HAL2 | AU2: HAL3 | AV2: 자재구분 | AW2: 일위대가+자재 | AX2: 장비일위 | AY2: 설정 | AZ2: 할증체크
E3: 단 가 | F3: 금 액 | G3: 단 가 | H3: 금 액 | I3: 단 가 | J3: 금 액 | K3: 단 가 | L3: 금 액
A4: 건축물보양 보양지 붙이기 M2 공통 2-11-1 ( 호표 1 ) | N4: 44A123943A8F9997C2885A867243A
A5: 공통자재 | B5: 하드롱지 | C5: M2 | D5: 1.2 | E5: =단가대비표!O14 -> 479 | F5: =TRUNC(E5*D5,1) -> 574.8 | G5: =단가대비표!P14 -> 0 | H5: =TRUNC(G5*D5,1) -> 0 | I5: =단가대비표!V14 -> 0 | J5: =TRUNC(I5*D5,1) -> 0 | K5: =TRUNC(E5+G5+I5,1) -> 479 | L5: =TRUNC(F5+H5+J5,1) -> 574.8 | N5: 44A123943A8F9997C2885A867243A | O5: 439C2B9C7289D7C724AFBB88B13CEC6943427 | P5: F | Q5: F | R5: T | AW5: 44A123943A8F9997C2885A867243A439C2B9C7289D7C724AFBB88B13CEC6943427
A6: 합성풀 | B6: 합성풀, 건설용 | C6: kg | D6: 0.06 | E6: =단가대비표!O37 -> 0 | F6: =TRUNC(E6*D6,1) -> 0 | G6: =단가대비표!P37 -> 0 | H6: =TRUNC(G6*D6,1) -> 0 | I6: =단가대비표!V37 -> 0 | J6: =TRUNC(I6*D6,1) -> 0 | K6: =TRUNC(E6+G6+I6,1) -> 0 | L6: =TRUNC(F6+H6+J6,1) -> 0 | N6: 44A123943A8F9997C2885A867243A | O6: 43822897AE53CEA79DD2398FDBE35DC3F4643 | P6: F | Q6: F | R6: T | AW6: 44A123943A8F9997C2885A867243A43822897AE53CEA79DD2398FDBE35DC3F4643
A7: 보통인부 | B7: 일반공사 직종 | C7: 인 | D7: 0.01 | E7: =단가대비표!O59 -> 0 | F7: =TRUNC(E7*D7,1) -> 0 | G7: =단가대비표!P59 -> 172068 | H7: =TRUNC(G7*D7,1) -> 1720.6 | I7: =단가대비표!V59 -> 0 | J7: =TRUNC(I7*D7,1) -> 0 | K7: =TRUNC(E7+G7+I7,1) -> 172068 | L7: =TRUNC(F7+H7+J7,1) -> 1720.6 | N7: 44A123943A8F9997C2885A867243A | O7: 447A2E9452EAA5E7E8F59B883ABE0F202EE32 | P7: F | Q7: F | R7: T | AW7: 44A123943A8F9997C2885A867243A447A2E9452EAA5E7E8F59B883ABE0F202EE32
A8: [ 합 계 ] | F8: =TRUNC(SUMIF(N5:N7, N4, F5:F7),0) -> 574 | H8: =TRUNC(SUMIF(N5:N7, N4, H5:H7),0) -> 1720 | J8: =TRUNC(SUMIF(N5:N7, N4, J5:J7),0) -> 0 | L8: =F8+H8+J8 -> 2294 | N8: TOTAL | O8: TOTAL
A10: 준공청소 M2 공통 2-11-3 ( 호표 2 ) | N10: 44A123943AE00FA77A31A48CEB253
A11: 보통인부 | B11: 일반공사 직종 | C11: 인 | D11: 0.02 | E11: =단가대비표!O59 -> 0 | F11: =TRUNC(E11*D11,1) -> 0 | G11: =단가대비표!P59 -> 172068 | H11: =TRUNC(G11*D11,1) -> 3441.3 | I11: =단가대비표!V59 -> 0 | J11: =TRUNC(I11*D11,1) -> 0 | K11: =TRUNC(E11+G11+I11,1) -> 172068 | L11: =TRUNC(F11+H11+J11,1) -> 3441.3 | N11: 44A123943AE00FA77A31A48CEB253 | O11: 447A2E9452EAA5E7E8F59B883ABE0F202EE32 | P11: F | Q11: F | R11: T | AW11: 44A123943AE00FA77A31A48CEB253447A2E9452EAA5E7E8F59B883ABE0F202EE32
A12: [ 합 계 ] | F12: =TRUNC(SUMIF(N11:N11, N10, F11:F11),0) -> 0 | H12: =TRUNC(SUMIF(N11:N11, N10, H11:H11),0) -> 3441 | J12: =TRUNC(SUMIF(N11:N11, N10, J11:J11),0) -> 0 | L12: =F12+H12+J12 -> 3441 | N12: TOTAL | O12: TOTAL
A14: 몰딩류 철거 M ( 호표 3 ) | N14: 451F2B92C04FC5570D8C2A87BF588C717
A15: 건축목공 | B15: 일반공사 직종 | C15: 인 | D15: 0.01 | E15: =단가대비표!O63 -> 0 | F15: =TRUNC(E15*D15,1) -> 0 | G15: =단가대비표!P63 -> 277642 | H15: =TRUNC(G15*D15,1) -> 2776.4 | I15: =단가대비표!V63 -> 0 | J15: =TRUNC(I15*D15,1) -> 0 | K15: =TRUNC(E15+G15+I15,1) -> 277642 | L15: =TRUNC(F15+H15+J15,1) -> 2776.4 | N15: 451F2B92C04FC5570D8C2A87BF588C717 | O15: 447A2E9452EAA5E7E8F59B883ABE0F202EC01 | P15: F | Q15: F | R15: T | V15: 1 | AW15: 451F2B92C04FC5570D8C2A87BF588C717447A2E9452EAA5E7E8F59B883ABE0F202EC01
A16: 보통인부 | B16: 일반공사 직종 | C16: 인 | D16: 0.006 | E16: =단가대비표!O59 -> 0 | F16: =TRUNC(E16*D16,1) -> 0 | G16: =단가대비표!P59 -> 172068 | H16: =TRUNC(G16*D16,1) -> 1032.4 | I16: =단가대비표!V59 -> 0 | J16: =TRUNC(I16*D16,1) -> 0 | K16: =TRUNC(E16+G16+I16,1) -> 172068 | L16: =TRUNC(F16+H16+J16,1) -> 1032.4 | N16: 451F2B92C04FC5570D8C2A87BF588C717 | O16: 447A2E9452EAA5E7E8F59B883ABE0F202EE32 | P16: F | Q16: F | R16: T | V16: 1 | AW16: 451F2B92C04FC5570D8C2A87BF588C717447A2E9452EAA5E7E8F59B883ABE0F202EE32
A17: 공구손료 | B17: 인력품의 5% | C17: 식 | D17: 1 | E17: =TRUNC(SUMIF(V15:V17, RIGHTB(O17, 1), H15:H17)*U17, 2) -> 190.44 | F17: =TRUNC(E17*D17,1) -> 190.4 | G17: 0 | H17: =TRUNC(G17*D17,1) -> 0 | I17: 0 | J17: =TRUNC(I17*D17,1) -> 0 | K17: =TRUNC(E17+G17+I17,1) -> 190.4 | L17: =TRUNC(F17+H17+J17,1) -> 190.4 | N17: 451F2B92C04FC5570D8C2A87BF588C717 | O17: 45BF259F412D52870F96EF89E44001 | P17: F | Q17: F | R17: F | S17: 1 | T17: 0 | U17: 0.05 | AW17: 451F2B92C04FC5570D8C2A87BF588C71745BF259F412D52870F96EF89E44001
A18: [ 합 계 ] | F18: =TRUNC(SUMIF(N15:N17, N14, F15:F17),0) -> 190 | H18: =TRUNC(SUMIF(N15:N17, N14, H15:H17),0) -> 3808 | J18: =TRUNC(SUMIF(N15:N17, N14, J15:J17),0) -> 0 | L18: =F18+H18+J18 -> 3998 | N18: TOTAL | O18: TOTAL
A20: PVC계바닥재 해체 M2 유지 3-2-8 ( 호표 4 ) | N20: 44A0239DAB5C79B73F3E9E84F410F
A21: 내장공 | B21: 일반공사 직종 | C21: 인 | D21: 0.006 | E21: =단가대비표!O68 -> 0 | F21: =TRUNC(E21*D21,1) -> 0 | G21: =단가대비표!P68 -> 256883 | H21: =TRUNC(G21*D21,1) -> 1541.2 | I21: =단가대비표!V68 -> 0 | J21: =TRUNC(I21*D21,1) -> 0 | K21: =TRUNC(E21+G21+I21,1) -> 256883 | L21: =TRUNC(F21+H21+J21,1) -> 1541.2 | N21: 44A0239DAB5C79B73F3E9E84F410F | O21: 447A2E9452EAA5E7E8F59B883ABE0F202ED29 | P21: F | Q21: F | R21: T | AW21: 44A0239DAB5C79B73F3E9E84F410F447A2E9452EAA5E7E8F59B883ABE0F202ED29
A22: 보통인부 | B22: 일반공사 직종 | C22: 인 | D22: 0.004 | E22: =단가대비표!O59 -> 0 | F22: =TRUNC(E22*D22,1) -> 0 | G22: =단가대비표!P59 -> 172068 | H22: =TRUNC(G22*D22,1) -> 688.2 | I22: =단가대비표!V59 -> 0 | J22: =TRUNC(I22*D22,1) -> 0 | K22: =TRUNC(E22+G22+I22,1) -> 172068 | L22: =TRUNC(F22+H22+J22,1) -> 688.2 | N22: 44A0239DAB5C79B73F3E9E84F410F | O22: 447A2E9452EAA5E7E8F59B883ABE0F202EE32 | P22: F | Q22: F | R22: T | AW22: 44A0239DAB5C79B73F3E9E84F410F447A2E9452EAA5E7E8F59B883ABE0F202EE32
A23: [ 합 계 ] | F23: =TRUNC(SUMIF(N21:N22, N20, F21:F22),0) -> 0 | H23: =TRUNC(SUMIF(N21:N22, N20, H21:H22),0) -> 2229 | J23: =TRUNC(SUMIF(N21:N22, N20, J21:J22),0) -> 0 | L23: =F23+H23+J23 -> 2229 | N23: TOTAL | O23: TOTAL
A25: 경량벽체철골틀 해체 M2 유지 3-2-5 ( 호표 5 ) | N25: 44A0239DAB5C79B73F33F48974FB8
A26: 내장공 | B26: 일반공사 직종 | C26: 인 | D26: 0.016 | E26: =단가대비표!O68 -> 0 | F26: =TRUNC(E26*D26,1) -> 0 | G26: =단가대비표!P68 -> 256883 | H26: =TRUNC(G26*D26,1) -> 4110.1 | I26: =단가대비표!V68 -> 0 | J26: =TRUNC(I26*D26,1) -> 0 | K26: =TRUNC(E26+G26+I26,1) -> 256883 | L26: =TRUNC(F26+H26+J26,1) -> 4110.1 | N26: 44A0239DAB5C79B73F33F48974FB8 | O26: 447A2E9452EAA5E7E8F59B883ABE0F202ED29 | P26: F | Q26: F | R26: T | V26: 1 | AW26: 44A0239DAB5C79B73F33F48974FB8447A2E9452EAA5E7E8F59B883ABE0F202ED29
A27: 보통인부 | B27: 일반공사 직종 | C27: 인 | D27: 0.011 | E27: =단가대비표!O59 -> 0 | F27: =TRUNC(E27*D27,1) -> 0 | G27: =단가대비표!P59 -> 172068 | H27: =TRUNC(G27*D27,1) -> 1892.7 | I27: =단가대비표!V59 -> 0 | J27: =TRUNC(I27*D27,1) -> 0 | K27: =TRUNC(E27+G27+I27,1) -> 172068 | L27: =TRUNC(F27+H27+J27,1) -> 1892.7 | N27: 44A0239DAB5C79B73F33F48974FB8 | O27: 447A2E9452EAA5E7E8F59B883ABE0F202EE32 | P27: F | Q27: F | R27: T | V27: 1 | AW27: 44A0239DAB5C79B73F33F48974FB8447A2E9452EAA5E7E8F59B883ABE0F202EE32
A28: 공구손료 | B28: 인력품의 2% | C28: 식 | D28: 1 | E28: 0 | F28: =TRUNC(E28*D28,1) -> 0 | G28: 0 | H28: =TRUNC(G28*D28,1) -> 0 | I28: =TRUNC(SUMIF(V26:V28, RIGHTB(O28, 1), H26:H28)*U28, 2) -> 120.05 | J28: =TRUNC(I28*D28,1) -> 120 | K28: =TRUNC(E28+G28+I28,1) -> 120 | L28: =TRUNC(F28+H28+J28,1) -> 120 | N28: 44A0239DAB5C79B73F33F48974FB8 | O28: 45BF259F412D52870F96EF89E44001 | P28: F | Q28: F | R28: F | S28: 1 | T28: 2 | U28: 0.02 | AW28: 44A0239DAB5C79B73F33F48974FB845BF259F412D52870F96EF89E44001
A29: [ 합 계 ] | F29: =TRUNC(SUMIF(N26:N28, N25, F26:F28),0) -> 0 | H29: =TRUNC(SUMIF(N26:N28, N25, H26:H28),0) -> 6002 | J29: =TRUNC(SUMIF(N26:N28, N25, J26:J28),0) -> 120 | L29: =F29+H29+J29 -> 6122 | N29: TOTAL | O29: TOTAL
A31: 벽체합판 해체 M2 유지 3-2-6 ( 호표 6 ) | N31: 44A0239DAB5C79B73F302087A0A4A
A32: 내장공 | B32: 일반공사 직종 | C32: 인 | D32: 0.014 | E32: =단가대비표!O68 -> 0 | F32: =TRUNC(E32*D32,1) -> 0 | G32: =단가대비표!P68 -> 256883 | H32: =TRUNC(G32*D32,1) -> 3596.3 | I32: =단가대비표!V68 -> 0 | J32: =TRUNC(I32*D32,1) -> 0 | K32: =TRUNC(E32+G32+I32,1) -> 256883 | L32: =TRUNC(F32+H32+J32,1) -> 3596.3 | N32: 44A0239DAB5C79B73F302087A0A4A | O32: 447A2E9452EAA5E7E8F59B883ABE0F202ED29 | P32: F | Q32: F | R32: T | V32: 1 | AW32: 44A0239DAB5C79B73F302087A0A4A447A2E9452EAA5E7E8F59B883ABE0F202ED29
A33: 보통인부 | B33: 일반공사 직종 | C33: 인 | D33: 0.01 | E33: =단가대비표!O59 -> 0 | F33: =TRUNC(E33*D33,1) -> 0 | G33: =단가대비표!P59 -> 172068 | H33: =TRUNC(G33*D33,1) -> 1720.6 | I33: =단가대비표!V59 -> 0 | J33: =TRUNC(I33*D33,1) -> 0 | K33: =TRUNC(E33+G33+I33,1) -> 172068 | L33: =TRUNC(F33+H33+J33,1) -> 1720.6 | N33: 44A0239DAB5C79B73F302087A0A4A | O33: 447A2E9452EAA5E7E8F59B883ABE0F202EE32 | P33: F | Q33: F | R33: T | V33: 1 | AW33: 44A0239DAB5C79B73F302087A0A4A447A2E9452EAA5E7E8F59B883ABE0F202EE32
A34: 공구손료 | B34: 인력품의 2% | C34: 식 | D34: 1 | E34: 0 | F34: =TRUNC(E34*D34,1) -> 0 | G34: 0 | H34: =TRUNC(G34*D34,1) -> 0 | I34: =TRUNC(SUMIF(V32:V34, RIGHTB(O34, 1), H32:H34)*U34, 2) -> 106.33 | J34: =TRUNC(I34*D34,1) -> 106.3 | K34: =TRUNC(E34+G34+I34,1) -> 106.3 | L34: =TRUNC(F34+H34+J34,1) -> 106.3 | N34: 44A0239DAB5C79B73F302087A0A4A | O34: 45BF259F412D52870F96EF89E44001 | P34: F | Q34: F | R34: F | S34: 1 | T34: 2 | U34: 0.02 | AW34: 44A0239DAB5C79B73F302087A0A4A45BF259F412D52870F96EF89E44001
A35: [ 합 계 ] | F35: =TRUNC(SUMIF(N32:N34, N31, F32:F34),0) -> 0 | H35: =TRUNC(SUMIF(N32:N34, N31, H32:H34),0) -> 5316 | J35: =TRUNC(SUMIF(N32:N34, N31, J32:J34),0) -> 106 | L35: =F35+H35+J35 -> 5422 | N35: TOTAL | O35: TOTAL
A37: 시트지 해체 유리면 M2 ( 호표 7 ) | N37: 451F2B92C04FC5570D8C2A87BF588C715
A38: 시트지 붙임(유리면) | B38: 폭 300mm이상 | C38: ㎡ | D38: 1 | E38: =단가대비표!O55 -> 239 | F38: =TRUNC(E38*D38,1) -> 239 | G38: =단가대비표!P55 -> 7967 | H38: =TRUNC(G38*D38,1) -> 7967 | I38: =단가대비표!V55 -> 0 | J38: =TRUNC(I38*D38,1) -> 0 | K38: =TRUNC(E38+G38+I38,1) -> 8206 | L38: =TRUNC(F38+H38+J38,1) -> 8206 | M38: 금액제외 | O38: 44A12D9488CB32474A987988DCAB7 | P38: F | Q38: F | R38: T | V38: 1 | AW38: 451F2B92C04FC5570D8C2A87BF588C71544A12D9488CB32474A987988DCAB7 | AY38: -
A39: 노임할증 | B39: 인력품의 80% | C39: 식 | D39: 1 | E39: 0 | F39: =TRUNC(E39*D39,1) -> 0 | G39: =TRUNC(SUMIF(V38:V39, RIGHTB(O39, 1), H38:H39)*U39, 2) -> 6373.6 | H39: =TRUNC(G39*D39,1) -> 6373.6 | I39: 0 | J39: =TRUNC(I39*D39,1) -> 0 | K39: =TRUNC(E39+G39+I39,1) -> 6373.6 | L39: =TRUNC(F39+H39+J39,1) -> 6373.6 | N39: 451F2B92C04FC5570D8C2A87BF588C715 | O39: 45BF259F412D52870F96EF89E44001 | P39: F | Q39: F | R39: F | S39: 1 | T39: 1 | U39: 0.8 | AW39: 451F2B92C04FC5570D8C2A87BF588C71545BF259F412D52870F96EF89E44001
A40: [ 합 계 ] | F40: =TRUNC(SUMIF(N38:N39, N37, F38:F39),0) -> 0 | H40: =TRUNC(SUMIF(N38:N39, N37, H38:H39),0) -> 6373 | J40: =TRUNC(SUMIF(N38:N39, N37, J38:J39),0) -> 0 | L40: =F40+H40+J40 -> 6373 | N40: TOTAL | O40: TOTAL
A42: 천정 구조물 철거 식 ( 호표 8 ) | N42: 451F2B92C04FC5570D8C2A87BF588C719
A43: 철거공 | B43: 일반공사 직종 | C43: 인 | D43: 3 | E43: =단가대비표!O71 -> 0 | F43: =TRUNC(E43*D43,1) -> 0 | G43: =단가대비표!P71 -> 266743 | H43: =TRUNC(G43*D43,1) -> 800229 | I43: =단가대비표!V71 -> 0 | J43: =TRUNC(I43*D43,1) -> 0 | K43: =TRUNC(E43+G43+I43,1) -> 266743 | L43: =TRUNC(F43+H43+J43,1) -> 800229 | N43: 451F2B92C04FC5570D8C2A87BF588C719 | O43: 447A2E9452EAA5E7E8F1208FB0F72D59978D1 | P43: F | Q43: F | R43: T | AW43: 451F2B92C04FC5570D8C2A87BF588C719447A2E9452EAA5E7E8F1208FB0F72D59978D1
A44: [ 합 계 ] | F44: =TRUNC(SUMIF(N43:N43, N42, F43:F43),0) -> 0 | H44: =TRUNC(SUMIF(N43:N43, N42, H43:H43),0) -> 800229 | J44: =TRUNC(SUMIF(N43:N43, N42, J43:J43),0) -> 0 | L44: =F44+H44+J44 -> 800229 | N44: TOTAL | O44: TOTAL
A46: 창호 철거 목재창호 개소 ( 호표 9 ) | N46: 451F2B92C04FC5570D8C2A87BF588C718
A47: 창호공 | B47: 일반공사 직종 | C47: 인 | D47: 0.095 | E47: =단가대비표!O64 -> 0 | F47: =TRUNC(E47*D47,1) -> 0 | G47: =단가대비표!P64 -> 247188 | H47: =TRUNC(G47*D47,1) -> 23482.8 | I47: =단가대비표!V64 -> 0 | J47: =TRUNC(I47*D47,1) -> 0 | K47: =TRUNC(E47+G47+I47,1) -> 247188 | L47: =TRUNC(F47+H47+J47,1) -> 23482.8 | N47: 451F2B92C04FC5570D8C2A87BF588C718 | O47: 447A2E9452EAA5E7E8F59B883ABE0F202EC06 | P47: F | Q47: F | R47: T | V47: 1 | AW47: 451F2B92C04FC5570D8C2A87BF588C718447A2E9452EAA5E7E8F59B883ABE0F202EC06
A48: 보통인부 | B48: 일반공사 직종 | C48: 인 | D48: 0.048 | E48: =단가대비표!O59 -> 0 | F48: =TRUNC(E48*D48,1) -> 0 | G48: =단가대비표!P59 -> 172068 | H48: =TRUNC(G48*D48,1) -> 8259.2 | I48: =단가대비표!V59 -> 0 | J48: =TRUNC(I48*D48,1) -> 0 | K48: =TRUNC(E48+G48+I48,1) -> 172068 | L48: =TRUNC(F48+H48+J48,1) -> 8259.2 | N48: 451F2B92C04FC5570D8C2A87BF588C718 | O48: 447A2E9452EAA5E7E8F59B883ABE0F202EE32 | P48: F | Q48: F | R48: T | V48: 1 | AW48: 451F2B92C04FC5570D8C2A87BF588C718447A2E9452EAA5E7E8F59B883ABE0F202EE32
A49: 공구손료 | B49: 인력품의 5% | C49: 식 | D49: 1 | E49: =TRUNC(SUMIF(V47:V49, RIGHTB(O49, 1), H47:H49)*U49, 2) -> 1587.1 | F49: =TRUNC(E49*D49,1) -> 1587.1 | G49: 0 | H49: =TRUNC(G49*D49,1) -> 0 | I49: 0 | J49: =TRUNC(I49*D49,1) -> 0 | K49: =TRUNC(E49+G49+I49,1) -> 1587.1 | L49: =TRUNC(F49+H49+J49,1) -> 1587.1 | N49: 451F2B92C04FC5570D8C2A87BF588C718 | O49: 45BF259F412D52870F96EF89E44001 | P49: F | Q49: F | R49: F | S49: 1 | T49: 0 | U49: 0.05 | AW49: 451F2B92C04FC5570D8C2A87BF588C71845BF259F412D52870F96EF89E44001
A50: [ 합 계 ] | F50: =TRUNC(SUMIF(N47:N49, N46, F47:F49),0) -> 1587 | H50: =TRUNC(SUMIF(N47:N49, N46, H47:H49),0) -> 31742 | J50: =TRUNC(SUMIF(N47:N49, N46, J47:J49),0) -> 0 | L50: =F50+H50+J50 -> 33329 | N50: TOTAL | O50: TOTAL
A52: 강재창호 해체 설치품의 60% 개소 건축 10-1-2 ( 호표 10 ) | N52: 44A12E9B3D864187145D8D829DEFC
A53: 창호공 | B53: 일반공사 직종 | C53: 인 | D53: 0.56 | E53: =단가대비표!O64 -> 0 | F53: =TRUNC(E53*D53,1) -> 0 | G53: =단가대비표!P64 -> 247188 | H53: =TRUNC(G53*D53,1) -> 138425.2 | I53: =단가대비표!V64 -> 0 | J53: =TRUNC(I53*D53,1) -> 0 | K53: =TRUNC(E53+G53+I53,1) -> 247188 | L53: =TRUNC(F53+H53+J53,1) -> 138425.2 | M53: 금액제외 | O53: 447A2E9452EAA5E7E8F59B883ABE0F202EC06 | P53: F | Q53: F | R53: T | V53: 1 | AW53: 44A12E9B3D864187145D8D829DEFC447A2E9452EAA5E7E8F59B883ABE0F202EC06 | AY53: -
A54: 보통인부 | B54: 일반공사 직종 | C54: 인 | D54: 0.134 | E54: =단가대비표!O59 -> 0 | F54: =TRUNC(E54*D54,1) -> 0 | G54: =단가대비표!P59 -> 172068 | H54: =TRUNC(G54*D54,1) -> 23057.1 | I54: =단가대비표!V59 -> 0 | J54: =TRUNC(I54*D54,1) -> 0 | K54: =TRUNC(E54+G54+I54,1) -> 172068 | L54: =TRUNC(F54+H54+J54,1) -> 23057.1 | M54: 금액제외 | O54: 447A2E9452EAA5E7E8F59B883ABE0F202EE32 | P54: F | Q54: F | R54: T | V54: 1 | AW54: 44A12E9B3D864187145D8D829DEFC447A2E9452EAA5E7E8F59B883ABE0F202EE32 | AY54: -
A55: 노임할증 | B55: 인력품의 60% | C55: 식 | D55: 1 | E55: 0 | F55: =TRUNC(E55*D55,1) -> 0 | G55: =TRUNC(SUMIF(V53:V56, RIGHTB(O55, 1), H53:H56)*U55, 2) -> 96889.38 | H55: =TRUNC(G55*D55,1) -> 96889.3 | I55: 0 | J55: =TRUNC(I55*D55,1) -> 0 | K55: =TRUNC(E55+G55+I55,1) -> 96889.3 | L55: =TRUNC(F55+H55+J55,1) -> 96889.3 | N55: 44A12E9B3D864187145D8D829DEFC | O55: 45BF259F412D52870F96EF89E44001 | P55: F | Q55: F | R55: F | S55: 1 | T55: 1 | U55: 0.6 | W55: 2 | AW55: 44A12E9B3D864187145D8D829DEFC45BF259F412D52870F96EF89E47002
A56: 노임할증 | B56: 인력품의 3% | C56: 식 | D56: 1 | E56: 0 | F56: =TRUNC(E56*D56,1) -> 0 | G56: 0 | H56: =TRUNC(G56*D56,1) -> 0 | I56: =TRUNC(SUMIF(W53:W56, RIGHTB(O56, 1), H53:H56)*U56, 2) -> 2906.67 | J56: =TRUNC(I56*D56,1) -> 2906.6 | K56: =TRUNC(E56+G56+I56,1) -> 2906.6 | L56: =TRUNC(F56+H56+J56,1) -> 2906.6 | N56: 44A12E9B3D864187145D8D829DEFC | O56: 45BF259F412D52870F96EF89E47002 | P56: F | Q56: F | R56: F | S56: 1 | T56: 2 | U56: 0.03 | AW56: 44A12E9B3D864187145D8D829DEFC45BF259F412D52870F96EF89E46003
A57: [ 합 계 ] | F57: =TRUNC(SUMIF(N53:N56, N52, F53:F56),0) -> 0 | H57: =TRUNC(SUMIF(N53:N56, N52, H53:H56),0) -> 96889 | J57: =TRUNC(SUMIF(N53:N56, N52, J53:J56),0) -> 2906 | L57: =F57+H57+J57 -> 99795 | N57: TOTAL | O57: TOTAL
A59: 흡음텍스 해체 M2 유지 3-2-2 ( 호표 11 ) | N59: 44A0239DAB5C79B73F349B80181DC
A60: 내장공 | B60: 일반공사 직종 | C60: 인 | D60: 0.016 | E60: =단가대비표!O68 -> 0 | F60: =TRUNC(E60*D60,1) -> 0 | G60: =단가대비표!P68 -> 256883 | H60: =TRUNC(G60*D60,1) -> 4110.1 | I60: =단가대비표!V68 -> 0 | J60: =TRUNC(I60*D60,1) -> 0 | K60: =TRUNC(E60+G60+I60,1) -> 256883 | L60: =TRUNC(F60+H60+J60,1) -> 4110.1 | N60: 44A0239DAB5C79B73F349B80181DC | O60: 447A2E9452EAA5E7E8F59B883ABE0F202ED29 | P60: F | Q60: F | R60: T | AW60: 44A0239DAB5C79B73F349B80181DC447A2E9452EAA5E7E8F59B883ABE0F202ED29
A61: 보통인부 | B61: 일반공사 직종 | C61: 인 | D61: 0.011 | E61: =단가대비표!O59 -> 0 | F61: =TRUNC(E61*D61,1) -> 0 | G61: =단가대비표!P59 -> 172068 | H61: =TRUNC(G61*D61,1) -> 1892.7 | I61: =단가대비표!V59 -> 0 | J61: =TRUNC(I61*D61,1) -> 0 | K61: =TRUNC(E61+G61+I61,1) -> 172068 | L61: =TRUNC(F61+H61+J61,1) -> 1892.7 | N61: 44A0239DAB5C79B73F349B80181DC | O61: 447A2E9452EAA5E7E8F59B883ABE0F202EE32 | P61: F | Q61: F | R61: T | AW61: 44A0239DAB5C79B73F349B80181DC447A2E9452EAA5E7E8F59B883ABE0F202EE32
A62: [ 합 계 ] | F62: =TRUNC(SUMIF(N60:N61, N59, F60:F61),0) -> 0 | H62: =TRUNC(SUMIF(N60:N61, N59, H60:H61),0) -> 6002 | J62: =TRUNC(SUMIF(N60:N61, N59, J60:J61),0) -> 0 | L62: =F62+H62+J62 -> 6002 | N62: TOTAL | O62: TOTAL
A64: 석고판 해체 천장 M2 유지 3-2-6 ( 호표 12 ) | N64: 44A0239DAB5C79B73F302087A09A4
A65: 내장공 | B65: 일반공사 직종 | C65: 인 | D65: 0.016 | E65: =단가대비표!O68 -> 0 | F65: =TRUNC(E65*D65,1) -> 0 | G65: =단가대비표!P68 -> 256883 | H65: =TRUNC(G65*D65,1) -> 4110.1 | I65: =단가대비표!V68 -> 0 | J65: =TRUNC(I65*D65,1) -> 0 | K65: =TRUNC(E65+G65+I65,1) -> 256883 | L65: =TRUNC(F65+H65+J65,1) -> 4110.1 | N65: 44A0239DAB5C79B73F302087A09A4 | O65: 447A2E9452EAA5E7E8F59B883ABE0F202ED29 | P65: F | Q65: F | R65: T | V65: 1 | AW65: 44A0239DAB5C79B73F302087A09A4447A2E9452EAA5E7E8F59B883ABE0F202ED29
A66: 보통인부 | B66: 일반공사 직종 | C66: 인 | D66: 0.012 | E66: =단가대비표!O59 -> 0 | F66: =TRUNC(E66*D66,1) -> 0 | G66: =단가대비표!P59 -> 172068 | H66: =TRUNC(G66*D66,1) -> 2064.8 | I66: =단가대비표!V59 -> 0 | J66: =TRUNC(I66*D66,1) -> 0 | K66: =TRUNC(E66+G66+I66,1) -> 172068 | L66: =TRUNC(F66+H66+J66,1) -> 2064.8 | N66: 44A0239DAB5C79B73F302087A09A4 | O66: 447A2E9452EAA5E7E8F59B883ABE0F202EE32 | P66: F | Q66: F | R66: T | V66: 1 | AW66: 44A0239DAB5C79B73F302087A09A4447A2E9452EAA5E7E8F59B883ABE0F202EE32
A67: 공구손료 | B67: 인력품의 2% | C67: 식 | D67: 1 | E67: 0 | F67: =TRUNC(E67*D67,1) -> 0 | G67: 0 | H67: =TRUNC(G67*D67,1) -> 0 | I67: =TRUNC(SUMIF(V65:V67, RIGHTB(O67, 1), H65:H67)*U67, 2) -> 123.49 | J67: =TRUNC(I67*D67,1) -> 123.4 | K67: =TRUNC(E67+G67+I67,1) -> 123.4 | L67: =TRUNC(F67+H67+J67,1) -> 123.4 | N67: 44A0239DAB5C79B73F302087A09A4 | O67: 45BF259F412D52870F96EF89E44001 | P67: F | Q67: F | R67: F | S67: 1 | T67: 2 | U67: 0.02 | AW67: 44A0239DAB5C79B73F302087A09A445BF259F412D52870F96EF89E44001
A68: [ 합 계 ] | F68: =TRUNC(SUMIF(N65:N67, N64, F65:F67),0) -> 0 | H68: =TRUNC(SUMIF(N65:N67, N64, H65:H67),0) -> 6174 | J68: =TRUNC(SUMIF(N65:N67, N64, J65:J67),0) -> 123 | L68: =F68+H68+J68 -> 6297 | N68: TOTAL | O68: TOTAL
A70: 도배 해체 벽 M2 유지 3-2-7 ( 호표 13 ) | N70: 44A0239DAB5C79B73F31C689C35A7
A71: 도배공 | B71: 일반공사 직종 | C71: 인 | D71: 0.008 | E71: =단가대비표!O69 -> 0 | F71: =TRUNC(E71*D71,1) -> 0 | G71: =단가대비표!P69 -> 227614 | H71: =TRUNC(G71*D71,1) -> 1820.9 | I71: =단가대비표!V69 -> 0 | J71: =TRUNC(I71*D71,1) -> 0 | K71: =TRUNC(E71+G71+I71,1) -> 227614 | L71: =TRUNC(F71+H71+J71,1) -> 1820.9 | N71: 44A0239DAB5C79B73F31C689C35A7 | O71: 447A2E9452EAA5E7E8F59B883ABE0F202ED28 | P71: F | Q71: F | R71: T | AW71: 44A0239DAB5C79B73F31C689C35A7447A2E9452EAA5E7E8F59B883ABE0F202ED28
A72: 보통인부 | B72: 일반공사 직종 | C72: 인 | D72: 0.005 | E72: =단가대비표!O59 -> 0 | F72: =TRUNC(E72*D72,1) -> 0 | G72: =단가대비표!P59 -> 172068 | H72: =TRUNC(G72*D72,1) -> 860.3 | I72: =단가대비표!V59 -> 0 | J72: =TRUNC(I72*D72,1) -> 0 | K72: =TRUNC(E72+G72+I72,1) -> 172068 | L72: =TRUNC(F72+H72+J72,1) -> 860.3 | N72: 44A0239DAB5C79B73F31C689C35A7 | O72: 447A2E9452EAA5E7E8F59B883ABE0F202EE32 | P72: F | Q72: F | R72: T | AW72: 44A0239DAB5C79B73F31C689C35A7447A2E9452EAA5E7E8F59B883ABE0F202EE32
A73: [ 합 계 ] | F73: =TRUNC(SUMIF(N71:N72, N70, F71:F72),0) -> 0 | H73: =TRUNC(SUMIF(N71:N72, N70, H71:H72),0) -> 2681 | J73: =TRUNC(SUMIF(N71:N72, N70, J71:J72),0) -> 0 | L73: =F73+H73+J73 -> 2681 | N73: TOTAL | O73: TOTAL
A75: 마루틀 해체 설치품의 60% M2 건축 4-1-2 ( 호표 14 ) | N75: 44A12B97C3CD1987F6BE068C4D3EC
A76: 건축목공 | B76: 일반공사 직종 | C76: 인 | D76: 0.053 | E76: =단가대비표!O63 -> 0 | F76: =TRUNC(E76*D76,1) -> 0 | G76: =단가대비표!P63 -> 277642 | H76: =TRUNC(G76*D76,1) -> 14715 | I76: =단가대비표!V63 -> 0 | J76: =TRUNC(I76*D76,1) -> 0 | K76: =TRUNC(E76+G76+I76,1) -> 277642 | L76: =TRUNC(F76+H76+J76,1) -> 14715 | M76: 금액제외 | O76: 447A2E9452EAA5E7E8F59B883ABE0F202EC01 | P76: F | Q76: F | R76: T | V76: 1 | AW76: 44A12B97C3CD1987F6BE068C4D3EC447A2E9452EAA5E7E8F59B883ABE0F202EC01 | AY76: -
A77: 보통인부 | B77: 일반공사 직종 | C77: 인 | D77: 0.013 | E77: =단가대비표!O59 -> 0 | F77: =TRUNC(E77*D77,1) -> 0 | G77: =단가대비표!P59 -> 172068 | H77: =TRUNC(G77*D77,1) -> 2236.8 | I77: =단가대비표!V59 -> 0 | J77: =TRUNC(I77*D77,1) -> 0 | K77: =TRUNC(E77+G77+I77,1) -> 172068 | L77: =TRUNC(F77+H77+J77,1) -> 2236.8 | M77: 금액제외 | O77: 447A2E9452EAA5E7E8F59B883ABE0F202EE32 | P77: F | Q77: F | R77: T | V77: 1 | AW77: 44A12B97C3CD1987F6BE068C4D3EC447A2E9452EAA5E7E8F59B883ABE0F202EE32 | AY77: -
A78: 노임할증 | B78: 인력품의 60% | C78: 식 | D78: 1 | E78: 0 | F78: =TRUNC(E78*D78,1) -> 0 | G78: =TRUNC(SUMIF(V76:V78, RIGHTB(O78, 1), H76:H78)*U78, 2) -> 10171.08 | H78: =TRUNC(G78*D78,1) -> 10171 | I78: 0 | J78: =TRUNC(I78*D78,1) -> 0 | K78: =TRUNC(E78+G78+I78,1) -> 10171 | L78: =TRUNC(F78+H78+J78,1) -> 10171 | N78: 44A12B97C3CD1987F6BE068C4D3EC | O78: 45BF259F412D52870F96EF89E44001 | P78: F | Q78: F | R78: F | S78: 1 | T78: 1 | U78: 0.6 | AW78: 44A12B97C3CD1987F6BE068C4D3EC45BF259F412D52870F96EF89E47002
A79: [ 합 계 ] | F79: =TRUNC(SUMIF(N76:N78, N75, F76:F78),0) -> 0 | H79: =TRUNC(SUMIF(N76:N78, N75, H76:H78),0) -> 10171 | J79: =TRUNC(SUMIF(N76:N78, N75, J76:J78),0) -> 0 | L79: =F79+H79+J79 -> 10171 | N79: TOTAL | O79: TOTAL
A81: 알루미늄창호 해체 설치품의 60% M2 건축 10-1-3 ( 호표 15 ) | N81: 44A12E9B0079BD27FE28F7876003E
A82: 창호공 | B82: 일반공사 직종 | C82: 인 | D82: 0.208 | E82: =단가대비표!O64 -> 0 | F82: =TRUNC(E82*D82,1) -> 0 | G82: =단가대비표!P64 -> 247188 | H82: =TRUNC(G82*D82,1) -> 51415.1 | I82: =단가대비표!V64 -> 0 | J82: =TRUNC(I82*D82,1) -> 0 | K82: =TRUNC(E82+G82+I82,1) -> 247188 | L82: =TRUNC(F82+H82+J82,1) -> 51415.1 | M82: 금액제외 | O82: 447A2E9452EAA5E7E8F59B883ABE0F202EC06 | P82: F | Q82: F | R82: T | V82: 1 | AW82: 44A12E9B0079BD27FE28F7876003E447A2E9452EAA5E7E8F59B883ABE0F202EC06 | AY82: -
A83: 보통인부 | B83: 일반공사 직종 | C83: 인 | D83: 0.047 | E83: =단가대비표!O59 -> 0 | F83: =TRUNC(E83*D83,1) -> 0 | G83: =단가대비표!P59 -> 172068 | H83: =TRUNC(G83*D83,1) -> 8087.1 | I83: =단가대비표!V59 -> 0 | J83: =TRUNC(I83*D83,1) -> 0 | K83: =TRUNC(E83+G83+I83,1) -> 172068 | L83: =TRUNC(F83+H83+J83,1) -> 8087.1 | M83: 금액제외 | O83: 447A2E9452EAA5E7E8F59B883ABE0F202EE32 | P83: F | Q83: F | R83: T | V83: 1 | AW83: 44A12E9B0079BD27FE28F7876003E447A2E9452EAA5E7E8F59B883ABE0F202EE32 | AY83: -
A84: 노임할증 | B84: 인력품의 60% | C84: 식 | D84: 1 | E84: 0 | F84: =TRUNC(E84*D84,1) -> 0 | G84: =TRUNC(SUMIF(V82:V84, RIGHTB(O84, 1), H82:H84)*U84, 2) -> 35701.32 | H84: =TRUNC(G84*D84,1) -> 35701.3 | I84: 0 | J84: =TRUNC(I84*D84,1) -> 0 | K84: =TRUNC(E84+G84+I84,1) -> 35701.3 | L84: =TRUNC(F84+H84+J84,1) -> 35701.3 | N84: 44A12E9B0079BD27FE28F7876003E | O84: 45BF259F412D52870F96EF89E44001 | P84: F | Q84: F | R84: F | S84: 1 | T84: 1 | U84: 0.6 | AW84: 44A12E9B0079BD27FE28F7876003E45BF259F412D52870F96EF89E44001
A85: [ 합 계 ] | F85: =TRUNC(SUMIF(N82:N84, N81, F82:F84),0) -> 0 | H85: =TRUNC(SUMIF(N82:N84, N81, H82:H84),0) -> 35701 | J85: =TRUNC(SUMIF(N82:N84, N81, J82:J84),0) -> 0 | L85: =F85+H85+J85 -> 35701 | N85: TOTAL | O85: TOTAL
A87: 바닥 샌딩 타일본드 제거 M2 건축 6-1-1 ( 호표 16 ) | N87: 44A12A904138D457510D5F88C303C
A88: 보통인부 | B88: 일반공사 직종 | C88: 인 | D88: 0.05 | E88: =단가대비표!O59 -> 0 | F88: =TRUNC(E88*D88,1) -> 0 | G88: =단가대비표!P59 -> 172068 | H88: =TRUNC(G88*D88,1) -> 8603.4 | I88: =단가대비표!V59 -> 0 | J88: =TRUNC(I88*D88,1) -> 0 | K88: =TRUNC(E88+G88+I88,1) -> 172068 | L88: =TRUNC(F88+H88+J88,1) -> 8603.4 | N88: 44A12A904138D457510D5F88C303C | O88: 447A2E9452EAA5E7E8F59B883ABE0F202EE32 | P88: F | Q88: F | R88: T | V88: 1 | AW88: 44A12A904138D457510D5F88C303C447A2E9452EAA5E7E8F59B883ABE0F202EE32
A89: 공구손료 | B89: 인력품의 4% | C89: 식 | D89: 1 | E89: 0 | F89: =TRUNC(E89*D89,1) -> 0 | G89: 0 | H89: =TRUNC(G89*D89,1) -> 0 | I89: =TRUNC(SUMIF(V88:V89, RIGHTB(O89, 1), H88:H89)*U89, 2) -> 344.13 | J89: =TRUNC(I89*D89,1) -> 344.1 | K89: =TRUNC(E89+G89+I89,1) -> 344.1 | L89: =TRUNC(F89+H89+J89,1) -> 344.1 | N89: 44A12A904138D457510D5F88C303C | O89: 45BF259F412D52870F96EF89E44001 | P89: F | Q89: F | R89: F | S89: 1 | T89: 2 | U89: 0.04 | AW89: 44A12A904138D457510D5F88C303C45BF259F412D52870F96EF89E44001
A90: [ 합 계 ] | F90: =TRUNC(SUMIF(N88:N89, N87, F88:F89),0) -> 0 | H90: =TRUNC(SUMIF(N88:N89, N87, H88:H89),0) -> 8603 | J90: =TRUNC(SUMIF(N88:N89, N87, J88:J89),0) -> 344 | L90: =F90+H90+J90 -> 8947 | N90: TOTAL | O90: TOTAL
A92: 벽체틀 설치 30*30, @450*600 M2 건축 4-2-1 ( 호표 17 ) | N92: 44A12B97FF056AA7E538C98F8C6FA
A93: 각재 | B93: 각재, 외송 | C93: 재 | D93: 1.0981 | E93: =단가대비표!O17 -> 1909 | F93: =TRUNC(E93*D93,1) -> 2096.2 | G93: =단가대비표!P17 -> 0 | H93: =TRUNC(G93*D93,1) -> 0 | I93: =단가대비표!V17 -> 0 | J93: =TRUNC(I93*D93,1) -> 0 | K93: =TRUNC(E93+G93+I93,1) -> 1909 | L93: =TRUNC(F93+H93+J93,1) -> 2096.2 | N93: 44A12B97FF056AA7E538C98F8C6FA | O93: 43822991E9B4B50726EB81824AE0E002B11ED | P93: F | Q93: F | R93: T | AW93: 44A12B97FF056AA7E538C98F8C6FA43822991E9B4B50726EB81824AE0E002B11ED
A94: 벽체틀 설치 | B94: 자재 별도 | C94: M2 | D94: 1 | E94: =일위대가목록!E49 -> 0 | F94: =TRUNC(E94*D94,1) -> 0 | G94: =일위대가목록!F49 -> 9733 | H94: =TRUNC(G94*D94,1) -> 9733 | I94: =일위대가목록!G49 -> 194 | J94: =TRUNC(I94*D94,1) -> 194 | K94: =TRUNC(E94+G94+I94,1) -> 9927 | L94: =TRUNC(F94+H94+J94,1) -> 9927 | M94: 호표 46 | N94: 44A12B97FF056AA7E538C98F8C6FA | O94: 44A12B97FF057B17D896868EDD661 | P94: T | Q94: F | R94: F | AW94: 44A12B97FF056AA7E538C98F8C6FA44A12B97FF057B17D896868EDD661
A95: [ 합 계 ] | F95: =TRUNC(SUMIF(N93:N94, N92, F93:F94),0) -> 2096 | H95: =TRUNC(SUMIF(N93:N94, N92, H93:H94),0) -> 9733 | J95: =TRUNC(SUMIF(N93:N94, N92, J93:J94),0) -> 194 | L95: =F95+H95+J95 -> 12023 | N95: TOTAL | O95: TOTAL
A97: MDF 설치 중밀도섬유판, 9.0*1220*2440mm M2 건축 4-2-3 ( 호표 18 ) | N97: 44A12D948847C59769FC4882EF801
A98: 중밀도섬유판 | B98: 중밀도섬유판, 9.0*1220*2440mm | C98: M2 | D98: 1.03 | E98: =단가대비표!O9 -> 4232 | F98: =TRUNC(E98*D98,1) -> 4358.9 | G98: =단가대비표!P9 -> 0 | H98: =TRUNC(G98*D98,1) -> 0 | I98: =단가대비표!V9 -> 0 | J98: =TRUNC(I98*D98,1) -> 0 | K98: =TRUNC(E98+G98+I98,1) -> 4232 | L98: =TRUNC(F98+H98+J98,1) -> 4358.9 | N98: 44A12D948847C59769FC4882EF801 | O98: 43AD279BB58F8827E5E0C180467A897556158 | P98: F | Q98: F | R98: T | AW98: 44A12D948847C59769FC4882EF80143AD279BB58F8827E5E0C180467A897556158
A99: 벽체합판 설치 | B99: 합판 별도 | C99: M2 | D99: 1 | E99: =일위대가목록!E50 -> 0 | F99: =TRUNC(E99*D99,1) -> 0 | G99: =일위대가목록!F50 -> 18183 | H99: =TRUNC(G99*D99,1) -> 18183 | I99: =일위대가목록!G50 -> 363 | J99: =TRUNC(I99*D99,1) -> 363 | K99: =TRUNC(E99+G99+I99,1) -> 18546 | L99: =TRUNC(F99+H99+J99,1) -> 18546 | M99: 호표 47 | N99: 44A12D948847C59769FC4882EF801 | O99: 44A12D94881A8FF76A0FA48428B79 | P99: T | Q99: F | R99: F | AW99: 44A12D948847C59769FC4882EF80144A12D94881A8FF76A0FA48428B79
A100: [ 합 계 ] | F100: =TRUNC(SUMIF(N98:N99, N97, F98:F99),0) -> 4358 | H100: =TRUNC(SUMIF(N98:N99, N97, H98:H99),0) -> 18183 | J100: =TRUNC(SUMIF(N98:N99, N97, J98:J99),0) -> 363 | L100: =F100+H100+J100 -> 22904 | N100: TOTAL | O100: TOTAL
A102: 벽체합판 설치 4.8T*1220*2440 M2 건축 4-2-3 ( 호표 19 ) | N102: 44A12D94881A8FF76A0FA48428B78
A103: 보통합판 | B103: 보통합판, 1급, 4.8*1220*2440mm | C103: M2 | D103: 1.05 | E103: =단가대비표!O5 -> 4669 | F103: =TRUNC(E103*D103,1) -> 4902.4 | G103: =단가대비표!P5 -> 0 | H103: =TRUNC(G103*D103,1) -> 0 | I103: =단가대비표!V5 -> 0 | J103: =TRUNC(I103*D103,1) -> 0 | K103: =TRUNC(E103+G103+I103,1) -> 4669 | L103: =TRUNC(F103+H103+J103,1) -> 4902.4 | N103: 44A12D94881A8FF76A0FA48428B78 | O103: 43AD279BB58F8827E5E2F28D425B7DD1C4204 | P103: F | Q103: F | R103: T | V103: 1 | AW103: 44A12D94881A8FF76A0FA48428B7843AD279BB58F8827E5E2F28D425B7DD1C4204
A104: 건축목공 | B104: 일반공사 직종 | C104: 인 | D104: 0.05 | E104: =단가대비표!O63 -> 0 | F104: =TRUNC(E104*D104,1) -> 0 | G104: =단가대비표!P63 -> 277642 | H104: =TRUNC(G104*D104,1) -> 13882.1 | I104: =단가대비표!V63 -> 0 | J104: =TRUNC(I104*D104,1) -> 0 | K104: =TRUNC(E104+G104+I104,1) -> 277642 | L104: =TRUNC(F104+H104+J104,1) -> 13882.1 | N104: 44A12D94881A8FF76A0FA48428B78 | O104: 447A2E9452EAA5E7E8F59B883ABE0F202EC01 | P104: F | Q104: F | R104: T | V104: 1 | AW104: 44A12D94881A8FF76A0FA48428B78447A2E9452EAA5E7E8F59B883ABE0F202EC01
A105: 보통인부 | B105: 일반공사 직종 | C105: 인 | D105: 0.025 | E105: =단가대비표!O59 -> 0 | F105: =TRUNC(E105*D105,1) -> 0 | G105: =단가대비표!P59 -> 172068 | H105: =TRUNC(G105*D105,1) -> 4301.7 | I105: =단가대비표!V59 -> 0 | J105: =TRUNC(I105*D105,1) -> 0 | K105: =TRUNC(E105+G105+I105,1) -> 172068 | L105: =TRUNC(F105+H105+J105,1) -> 4301.7 | N105: 44A12D94881A8FF76A0FA48428B78 | O105: 447A2E9452EAA5E7E8F59B883ABE0F202EE32 | P105: F | Q105: F | R105: T | V105: 1 | AW105: 44A12D94881A8FF76A0FA48428B78447A2E9452EAA5E7E8F59B883ABE0F202EE32
A106: 공구손료 | B106: 인력품의 2% | C106: 식 | D106: 1 | E106: 0 | F106: =TRUNC(E106*D106,1) -> 0 | G106: 0 | H106: =TRUNC(G106*D106,1) -> 0 | I106: =TRUNC(SUMIF(V103:V106, RIGHTB(O106, 1), H103:H106)*U106, 2) -> 363.67 | J106: =TRUNC(I106*D106,1) -> 363.6 | K106: =TRUNC(E106+G106+I106,1) -> 363.6 | L106: =TRUNC(F106+H106+J106,1) -> 363.6 | N106: 44A12D94881A8FF76A0FA48428B78 | O106: 45BF259F412D52870F96EF89E44001 | P106: F | Q106: F | R106: F | S106: 1 | T106: 2 | U106: 0.02 | AW106: 44A12D94881A8FF76A0FA48428B7845BF259F412D52870F96EF89E44001
A107: [ 합 계 ] | F107: =TRUNC(SUMIF(N103:N106, N102, F103:F106),0) -> 4902 | H107: =TRUNC(SUMIF(N103:N106, N102, H103:H106),0) -> 18183 | J107: =TRUNC(SUMIF(N103:N106, N102, J103:J106),0) -> 363 | L107: =F107+H107+J107 -> 23448 | N107: TOTAL | O107: TOTAL
A109: 석고판 설치(나사고정) - 바탕용 천장, 2겹 붙임 M2 건축 5-2-3 ( 호표 20 ) | N109: 44A12D94887300176678DA889D467
A110: 석고보드 | B110: 석고보드, 평보드, 9.5*900*1800mm(㎡) | C110: M2 | D110: 2.1 | E110: =단가대비표!O23 -> 2962 | F110: =TRUNC(E110*D110,1) -> 6220.2 | G110: =단가대비표!P23 -> 0 | H110: =TRUNC(G110*D110,1) -> 0 | I110: =단가대비표!V23 -> 0 | J110: =TRUNC(I110*D110,1) -> 0 | K110: =TRUNC(E110+G110+I110,1) -> 2962 | L110: =TRUNC(F110+H110+J110,1) -> 6220.2 | N110: 44A12D94887300176678DA889D467 | O110: 43822991E9D74EA72D652A880AB337731359B | P110: F | Q110: F | R110: T | V110: 1 | AW110: 44A12D94887300176678DA889D46743822991E9D74EA72D652A880AB337731359B
A111: 내장공 | B111: 일반공사 직종 | C111: 인 | D111: 0.057 | E111: =단가대비표!O68 -> 0 | F111: =TRUNC(E111*D111,1) -> 0 | G111: =단가대비표!P68 -> 256883 | H111: =TRUNC(G111*D111,1) -> 14642.3 | I111: =단가대비표!V68 -> 0 | J111: =TRUNC(I111*D111,1) -> 0 | K111: =TRUNC(E111+G111+I111,1) -> 256883 | L111: =TRUNC(F111+H111+J111,1) -> 14642.3 | N111: 44A12D94887300176678DA889D467 | O111: 447A2E9452EAA5E7E8F59B883ABE0F202ED29 | P111: F | Q111: F | R111: T | V111: 1 | AW111: 44A12D94887300176678DA889D467447A2E9452EAA5E7E8F59B883ABE0F202ED29
A112: 보통인부 | B112: 일반공사 직종 | C112: 인 | D112: 0.029 | E112: =단가대비표!O59 -> 0 | F112: =TRUNC(E112*D112,1) -> 0 | G112: =단가대비표!P59 -> 172068 | H112: =TRUNC(G112*D112,1) -> 4989.9 | I112: =단가대비표!V59 -> 0 | J112: =TRUNC(I112*D112,1) -> 0 | K112: =TRUNC(E112+G112+I112,1) -> 172068 | L112: =TRUNC(F112+H112+J112,1) -> 4989.9 | N112: 44A12D94887300176678DA889D467 | O112: 447A2E9452EAA5E7E8F59B883ABE0F202EE32 | P112: F | Q112: F | R112: T | V112: 1 | AW112: 44A12D94887300176678DA889D467447A2E9452EAA5E7E8F59B883ABE0F202EE32
A113: 공구손료 | B113: 인력품의 1% | C113: 식 | D113: 1 | E113: 0 | F113: =TRUNC(E113*D113,1) -> 0 | G113: 0 | H113: =TRUNC(G113*D113,1) -> 0 | I113: =TRUNC(SUMIF(V110:V113, RIGHTB(O113, 1), H110:H113)*U113, 2) -> 196.32 | J113: =TRUNC(I113*D113,1) -> 196.3 | K113: =TRUNC(E113+G113+I113,1) -> 196.3 | L113: =TRUNC(F113+H113+J113,1) -> 196.3 | N113: 44A12D94887300176678DA889D467 | O113: 45BF259F412D52870F96EF89E44001 | P113: F | Q113: F | R113: F | S113: 1 | T113: 2 | U113: 0.01 | AW113: 44A12D94887300176678DA889D46745BF259F412D52870F96EF89E44001
A114: [ 합 계 ] | F114: =TRUNC(SUMIF(N110:N113, N109, F110:F113),0) -> 6220 | H114: =TRUNC(SUMIF(N110:N113, N109, H110:H113),0) -> 19632 | J114: =TRUNC(SUMIF(N110:N113, N109, J110:J113),0) -> 196 | L114: =F114+H114+J114 -> 26048 | N114: TOTAL | O114: TOTAL
A116: 석고판 설치(나사고정) - 바탕용 벽, 1겹 붙임 M2 건축 5-3-1 ( 호표 21 ) | N116: 44A12D94887300270CDC9F8FC330D
A117: 석고보드 | B117: 석고보드, 평보드, 9.5*900*1800mm(㎡) | C117: M2 | D117: 1.05 | E117: =단가대비표!O23 -> 2962 | F117: =TRUNC(E117*D117,1) -> 3110.1 | G117: =단가대비표!P23 -> 0 | H117: =TRUNC(G117*D117,1) -> 0 | I117: =단가대비표!V23 -> 0 | J117: =TRUNC(I117*D117,1) -> 0 | K117: =TRUNC(E117+G117+I117,1) -> 2962 | L117: =TRUNC(F117+H117+J117,1) -> 3110.1 | N117: 44A12D94887300270CDC9F8FC330D | O117: 43822991E9D74EA72D652A880AB337731359B | P117: F | Q117: F | R117: T | V117: 1 | AW117: 44A12D94887300270CDC9F8FC330D43822991E9D74EA72D652A880AB337731359B
A118: 내장공 | B118: 일반공사 직종 | C118: 인 | D118: 0.033 | E118: =단가대비표!O68 -> 0 | F118: =TRUNC(E118*D118,1) -> 0 | G118: =단가대비표!P68 -> 256883 | H118: =TRUNC(G118*D118,1) -> 8477.1 | I118: =단가대비표!V68 -> 0 | J118: =TRUNC(I118*D118,1) -> 0 | K118: =TRUNC(E118+G118+I118,1) -> 256883 | L118: =TRUNC(F118+H118+J118,1) -> 8477.1 | N118: 44A12D94887300270CDC9F8FC330D | O118: 447A2E9452EAA5E7E8F59B883ABE0F202ED29 | P118: F | Q118: F | R118: T | V118: 1 | AW118: 44A12D94887300270CDC9F8FC330D447A2E9452EAA5E7E8F59B883ABE0F202ED29
A119: 보통인부 | B119: 일반공사 직종 | C119: 인 | D119: 0.017 | E119: =단가대비표!O59 -> 0 | F119: =TRUNC(E119*D119,1) -> 0 | G119: =단가대비표!P59 -> 172068 | H119: =TRUNC(G119*D119,1) -> 2925.1 | I119: =단가대비표!V59 -> 0 | J119: =TRUNC(I119*D119,1) -> 0 | K119: =TRUNC(E119+G119+I119,1) -> 172068 | L119: =TRUNC(F119+H119+J119,1) -> 2925.1 | N119: 44A12D94887300270CDC9F8FC330D | O119: 447A2E9452EAA5E7E8F59B883ABE0F202EE32 | P119: F | Q119: F | R119: T | V119: 1 | AW119: 44A12D94887300270CDC9F8FC330D447A2E9452EAA5E7E8F59B883ABE0F202EE32
A120: 공구손료 | B120: 인력품의 1% | C120: 식 | D120: 1 | E120: 0 | F120: =TRUNC(E120*D120,1) -> 0 | G120: 0 | H120: =TRUNC(G120*D120,1) -> 0 | I120: =TRUNC(SUMIF(V117:V120, RIGHTB(O120, 1), H117:H120)*U120, 2) -> 114.02 | J120: =TRUNC(I120*D120,1) -> 114 | K120: =TRUNC(E120+G120+I120,1) -> 114 | L120: =TRUNC(F120+H120+J120,1) -> 114 | N120: 44A12D94887300270CDC9F8FC330D | O120: 45BF259F412D52870F96EF89E44001 | P120: F | Q120: F | R120: F | S120: 1 | T120: 2 | U120: 0.01 | AW120: 44A12D94887300270CDC9F8FC330D45BF259F412D52870F96EF89E44001
...

Sheet 단가대비표
A1: 단 가 대 비 표
A2: [ 사우청소년문화의집 시설환경개선사업 ]
A3: 코 드 | B3: 품 명 | C3: 규격 | D3: 단위 | E3: 재 료 비 | P3: 노 무 비 | Q3: 경 비 | W3: 번 호 | X3: 비 고 | Y3: 품목구분 | Z3: 노임구분 | AA3: 소수점처리 | AB3: 자재구분
E4: 조달청가격 | F4: PAGE | G4: 거래가격 | H4: PAGE | I4: 유통물가 | J4: PAGE | K4: 조사가격1 | L4: PAGE | M4: 조사가격2 | N4: PAGE | O4: 적용단가 | Q4: 조달청가격 | R4: 거래가격 | S4: 유통물가 | T4: 조사가격1 | U4: 조사가격2 | V4: 적용단가
A5: 43AD279BB58F8827E5E2F28D425B7DD1C4204 | B5: 보통합판 | C5: 보통합판, 1급, 4.8*1220*2440mm | D5: M2 | E5: 4669 | G5: 4938.18 | H5: 667 | I5: 4669.44 | J5: 407 | K5: 0 | M5: 0 | O5: =SMALL(E5:M5,COUNTIF(E5:M5,0)+1) -> 4669 | P5: 0 | Q5: 0 | R5: 0 | S5: 0 | T5: 0 | U5: 0 | V5: 0 | W5: 자재 1
A6: 43AD279BB58F8827E5E2F28D425B7DD1C4200 | B6: 보통합판 | C6: 보통합판, 1급, 9.0*1220*2440mm | D6: M2 | E6: 8431 | G6: 8902.17 | H6: 667 | I6: 8465.46 | J6: 407 | K6: 0 | M6: 0 | O6: =SMALL(E6:M6,COUNTIF(E6:M6,0)+1) -> 8431 | P6: 0 | Q6: 0 | R6: 0 | S6: 0 | T6: 0 | U6: 0 | V6: 0 | W6: 자재 2
A7: 43AD279BB58F8827E5E2F28D425B7DD1C4202 | B7: 보통합판 | C7: 보통합판, 1급, 12*1220*2440mm | D7: M2 | E7: 10984 | G7: 11421.66 | H7: 667 | I7: 11320.88 | J7: 407 | K7: 0 | M7: 0 | O7: =SMALL(E7:M7,COUNTIF(E7:M7,0)+1) -> 10984 | P7: 0 | Q7: 0 | R7: 0 | S7: 0 | T7: 0 | U7: 0 | V7: 0 | W7: 자재 3
A8: 43AD279BB58F8827E5E2F28D425B7DD1C46E8 | B8: 내수합판 | C8: 내수합판, 1급, 12*1220*2440mm | D8: M2 | E8: 11018 | G8: 11354.47 | H8: 667 | I8: 11556.03 | J8: 407 | K8: 0 | M8: 0 | O8: =SMALL(E8:M8,COUNTIF(E8:M8,0)+1) -> 11018 | P8: 0 | Q8: 0 | R8: 0 | S8: 0 | T8: 0 | U8: 0 | V8: 0 | W8: 자재 4
A9: 43AD279BB58F8827E5E0C180467A897556158 | B9: 중밀도섬유판 | C9: 중밀도섬유판, 9.0*1220*2440mm | D9: M2 | E9: 4232 | G9: 5811.6 | H9: 668 | I9: 4837.4 | J9: 409 | K9: 0 | M9: 0 | O9: =SMALL(E9:M9,COUNTIF(E9:M9,0)+1) -> 4232 | P9: 0 | Q9: 0 | R9: 0 | S9: 0 | T9: 0 | U9: 0 | V9: 0 | W9: 자재 5
A10: 43AD279BB58F8827E5E0C180467A89755615B | B10: 중밀도섬유판 | C10: 중밀도섬유판, 18*1220*2440mm | D10: M2 | E10: 8532 | G10: 11220.1 | H10: 668 | I10: 9070.14 | J10: 409 | K10: 0 | M10: 0 | O10: =SMALL(E10:M10,COUNTIF(E10:M10,0)+1) -> 8532 | P10: 0 | Q10: 0 | R10: 0 | S10: 0 | T10: 0 | U10: 0 | V10: 0 | W10: 자재 6
A11: 43AD279BB53795B72BA4F088FA96F6E5D9551 | B11: 철강설 | C11: 철강설, 고철, 작업설부산물 | D11: kg | E11: 251 | G11: 495 | H11: 1472 | I11: 400 | J11: 1198 | K11: 0 | M11: 0 | O11: 495 | P11: 0 | Q11: 0 | R11: 0 | S11: 0 | T11: 0 | U11: 0 | V11: 0 | W11: 자재 7 | X11: 수집상차도
A12: 43AD2598D5E0788722ACB08484846FB2A8DE7 | B12: 난방필름 | D12: M2 | E12: 0 | G12: 0 | I12: 0 | K12: 27000 | L12: 세기 | M12: 25000 | N12: KPF | O12: =SMALL(E12:M12,COUNTIF(E12:M12,0)+1) -> 25000 | Q12: 0 | R12: 0 | S12: 0 | T12: 0 | U12: 0 | V12: 0 | W12: 자재 8 | X12: 시공도
A13: 43AD2598D5E0788722ACB08484846FB2A8DE6 | B13: 강화마루 | D13: M2 | E13: 0 | G13: 0 | I13: 0 | K13: 32200 | L13: 세기 | M13: 29600 | N13: KPF | O13: =SMALL(E13:M13,COUNTIF(E13:M13,0)+1) -> 29600 | P13: 0 | Q13: 0 | R13: 0 | S13: 0 | T13: 0 | U13: 0 | V13: 0 | W13: 자재 9
A14: 439C2B9C7289D7C724AFBB88B13CEC6943427 | B14: 공통자재 | C14: 하드롱지 | D14: M2 | E14: 479 | G14: 0 | I14: 0 | K14: 0 | M14: 0 | O14: =SMALL(E14:M14,COUNTIF(E14:M14,0)+1) -> 479 | P14: 0 | Q14: 0 | R14: 0 | S14: 0 | T14: 0 | U14: 0 | V14: 0 | W14: 자재 10
A15: 43822991E9B4A4D7987D6A848E14EE1F70A0D | B15: 일반구조용압연강판 | C15: 일반구조용압연강판, 1.4mm | D15: kg | E15: 0 | G15: 1020 | H15: 62 | I15: 0 | K15: 0 | M15: 0 | O15: =SMALL(E15:M15,COUNTIF(E15:M15,0)+1) -> 1020 | P15: 0 | Q15: 0 | R15: 0 | S15: 0 | T15: 0 | U15: 0 | V15: 0 | W15: 자재 11
A16: 43822991E9B4A4D7987D6A848E14EEE4B2C55 | B16: 합금화용융아연도금강판 | C16: 합금화용융아연도금강판, 갈바륨, 1.20mm | D16: kg | E16: 0 | G16: 1284 | H16: 65 | I16: 1640.5 | J16: 30 | K16: 0 | M16: 0 | O16: =SMALL(E16:M16,COUNTIF(E16:M16,0)+1) -> 1284 | P16: 0 | Q16: 0 | R16: 0 | S16: 0 | T16: 0 | U16: 0 | V16: 0 | W16: 자재 12
A17: 43822991E9B4B50726EB81824AE0E002B11ED | B17: 각재 | C17: 각재, 외송 | D17: 재 | E17: 1909 | G17: 2120 | H17: 147 | I17: 1909 | J17: 73 | K17: 0 | M17: 0 | O17: =SMALL(E17:M17,COUNTIF(E17:M17,0)+1) -> 1909 | P17: 0 | Q17: 0 | R17: 0 | S17: 0 | T17: 0 | U17: 0 | V17: 0 | W17: 자재 13
A18: 43822991E9B4B50726EB81824AE0E002B11E2 | B18: 각재 | C18: 각재, 외송 | D18: M3 | E18: 571556 | G18: 634730.53 | H18: 147 | I18: 571556.88 | J18: 73 | K18: 0 | M18: 0 | O18: =SMALL(E18:M18,COUNTIF(E18:M18,0)+1) -> 571556 | P18: 0 | Q18: 0 | R18: 0 | S18: 0 | T18: 0 | U18: 0 | V18: 0 | W18: 자재 14
A19: 43822991E9B4B50726EB81824AE0E002B11E3 | B19: 각재 | C19: 각재, 미송 | D19: 재 | E19: 2358 | G19: 2700 | H19: 147 | I19: 2358 | J19: 73 | K19: 0 | M19: 0 | O19: =SMALL(E19:M19,COUNTIF(E19:M19,0)+1) -> 2358 | P19: 0 | Q19: 0 | R19: 0 | S19: 0 | T19: 0 | U19: 0 | V19: 0 | W19: 자재 15
A20: 43822991E98F290794284387A7BF322C06D9F | B20: 유리블록 | C20: 유리블록, 칼라, 190*190*80mm | D20: 개 | E20: 0 | G20: 4600 | H20: 666 | I20: 0 | K20: 0 | M20: 0 | O20: =SMALL(E20:M20,COUNTIF(E20:M20,0)+1) -> 4600 | P20: 0 | Q20: 0 | R20: 0 | S20: 0 | T20: 0 | U20: 0 | V20: 0 | W20: 자재 16
A21: 43822991E98F2927429F5D8611487AFFA2CF3 | B21: 도기질타일 | C21: 도기질타일, 백유색, 150*150mm | D21: M2 | E21: 0 | G21: 0 | I21: 10500 | J21: 373 | K21: 0 | M21: 0 | O21: =SMALL(E21:M21,COUNTIF(E21:M21,0)+1) -> 10500 | P21: 0 | Q21: 0 | R21: 0 | S21: 0 | T21: 0 | U21: 0 | V21: 0 | W21: 자재 17
A22: 43822991E9F224E70D1DCA86F3FB110DA941D | B22: 인테리어 필름 | C22: 방염,친환경 | D22: M2 | E22: 0 | G22: 0 | I22: 0 | K22: 18000 | L22: 대교 | M22: 15500 | N22: 주원 | O22: =SMALL(E22:M22,COUNTIF(E22:M22,0)+1) -> 15500 | P22: 0 | Q22: 0 | R22: 0 | S22: 0 | T22: 0 | U22: 0 | V22: 0 | W22: 자재 18
A23: 43822991E9D74EA72D652A880AB337731359B | B23: 석고보드 | C23: 석고보드, 평보드, 9.5*900*1800mm(㎡) | D23: M2 | E23: 2962 | G23: 2962.96 | H23: 671 | I23: 3177.77 | J23: 408 | K23: 0 | M23: 0 | O23: =SMALL(E23:M23,COUNTIF(E23:M23,0)+1) -> 2962 | P23: 0 | Q23: 0 | R23: 0 | S23: 0 | T23: 0 | U23: 0 | V23: 0 | W23: 자재 19
A24: 43822991E9D74EA72D65298F9DFF21E34CBB0 | B24: 도트그라데이션 | D24: M2 | E24: 0 | G24: 0 | I24: 0 | K24: 13500 | L24: 모든 | M24: 12000 | N24: 싸인 | O24: =SMALL(E24:M24,COUNTIF(E24:M24,0)+1) -> 12000 | P24: 0 | Q24: 0 | R24: 0 | S24: 0 | T24: 0 | U24: 0 | V24: 0 | W24: 자재 20
A25: 43822991E9D74EA72D65298F9DFF21E34CBB1 | B25: 실명 표지판 | D25: EA | E25: 0 | G25: 0 | I25: 0 | K25: 92000 | L25: 모든 | M25: 85000 | N25: 싸인 | O25: =SMALL(E25:M25,COUNTIF(E25:M25,0)+1) -> 85000 | P25: 0 | Q25: 0 | R25: 0 | S25: 0 | T25: 0 | U25: 0 | V25: 0 | W25: 자재 21
A26: 43822991E9D74EA72D65298F9DFF21E34CBBE | B26: 피난안내도 | D26: EA | E26: 0 | G26: 0 | I26: 0 | K26: 68000 | L26: 모든 | M26: 65000 | N26: 싸인 | O26: =SMALL(E26:M26,COUNTIF(E26:M26,0)+1) -> 65000 | P26: 0 | Q26: 0 | R26: 0 | S26: 0 | T26: 0 | U26: 0 | V26: 0 | W26: 자재 22
A27: 43822991E9D74E877FF62386EFFF1DF596877 | B27: 인조대리석 | C27: 인조대리석, 12mm | D27: M | E27: 0 | G27: 0 | I27: 0 | K27: 84000 | L27: 에이스 | M27: 78000 | N27: 인스톤 | O27: =SMALL(E27:M27,COUNTIF(E27:M27,0)+1) -> 78000 | P27: 0 | Q27: 0 | R27: 0 | S27: 0 | T27: 0 | U27: 0 | V27: 0 | W27: 자재 23
A28: 43822991E9D74E877FF7CB8BEA2731D307E14 | B28: 비닐타일 | C28: 비닐타일, 3.0 | D28: M2 | E28: 0 | G28: 11300 | H28: 712 | I28: 9200 | J28: 498 | K28: 0 | M28: 0 | O28: =SMALL(E28:M28,COUNTIF(E28:M28,0)+1) -> 9200 | P28: 0 | Q28: 0 | R28: 0 | S28: 0 | T28: 0 | U28: 0 | V28: 0 | W28: 자재 24
A29: 43822991E9D74E877FF7CB8BEA2731D307994 | B29: 비닐타일 | C29: 비닐타일, 3*450*450mm, 데코타일 | D29: M2 | E29: 0 | G29: 19000 | H29: 712 | I29: 0 | K29: 0 | M29: 0 | O29: =SMALL(E29:M29,COUNTIF(E29:M29,0)+1) -> 19000 | P29: 0 | Q29: 0 | R29: 0 | S29: 0 | T29: 0 | U29: 0 | V29: 0 | W29: 자재 25
A30: 43822991E9C6FAE7079B1C8EBB56F3E146604 | B30: 알루미늄 프레임 | C30: 50*100, 무광화이트 분체도장 | D30: M2 | E30: 0 | G30: 0 | I30: 0 | K30: 135000 | L30: SY | M30: 113000 | N30: 원일 | O30: =SMALL(E30:M30,COUNTIF(E30:M30,0)+1) -> 113000 | P30: 0 | Q30: 0 | R30: 0 | S30: 0 | T30: 0 | U30: 0 | V30: 0 | W30: 자재 26
A31: 43822991E9C6FAE7079A7A8E384D1422D3F7D | B31: 강화유리도어 | C31: 12T*1700*2600mm, 투명, 프레임리스도어 | D31: Set | E31: 0 | G31: 0 | I31: 0 | K31: 1200000 | L31: SY | M31: 1050000 | N31: 원일 | O31: =SMALL(E31:M31,COUNTIF(E31:M31,0)+1) -> 1050000 | P31: 0 | Q31: 0 | R31: 0 | S31: 0 | T31: 0 | U31: 0 | V31: 0 | W31: 자재 27
A32: 43822991E9C6FAE7079A7A8E384D1422D3F7C | B32: 강화유리도어 | C32: 12T*900*2600mm, 투명, 프레임리스도어 | D32: Set | E32: 0 | G32: 0 | I32: 0 | K32: 800000 | L32: SY | M32: 650000 | N32: 원일 | O32: =SMALL(E32:M32,COUNTIF(E32:M32,0)+1) -> 650000 | P32: 0 | Q32: 0 | R32: 0 | S32: 0 | T32: 0 | U32: 0 | V32: 0 | W32: 자재 28
A33: 43822991E9C6FAC75AC0BD8DC3B777D959A02 | B33: 강화유리 | C33: 강화유리, 투명, 8mm | D33: M2 | E33: 26803 | G33: 29500 | H33: 662 | I33: 29900 | J33: 463 | K33: 0 | M33: 0 | O33: =SMALL(E33:M33,COUNTIF(E33:M33,0)+1) -> 26803 | P33: 0 | Q33: 0 | R33: 0 | S33: 0 | T33: 0 | U33: 0 | V33: 0 | W33: 자재 29
A34: 43822991E9C6FAC75AC0BD8DC3B777D959A00 | B34: 강화유리 | C34: 강화유리, 투명, 12mm | D34: M2 | E34: 39250 | G34: 44200 | H34: 662 | I34: 43200 | J34: 463 | K34: 0 | M34: 0 | O34: =SMALL(E34:M34,COUNTIF(E34:M34,0)+1) -> 39250 | P34: 0 | Q34: 0 | R34: 0 | S34: 0 | T34: 0 | U34: 0 | V34: 0 | W34: 자재 30
A35: 438228979D8A13179E3770842FFC2C640E117 | B35: 세트앵커 | C35: 세트앵커, M10*L75mm | D35: 개 | E35: 0 | G35: 180 | H35: 93 | I35: 160 | J35: 53 | K35: 0 | M35: 0 | O35: =SMALL(E35:M35,COUNTIF(E35:M35,0)+1) -> 160 | P35: 0 | Q35: 0 | R35: 0 | S35: 0 | T35: 0 | U35: 0 | V35: 0 | W35: 자재 31
A36: 43822897AE53CEA79DD2398FDBE35DC3F41C4 | B36: 초산비닐계접착제 | C36: 초산비닐계접착제, 비닐타일용 | D36: kg | E36: 2496 | G36: 0 | I36: 0 | K36: 0 | M36: 0 | O36: =SMALL(E36:M36,COUNTIF(E36:M36,0)+1) -> 2496 | P36: 0 | Q36: 0 | R36: 0 | S36: 0 | T36: 0 | U36: 0 | V36: 0 | W36: 자재 32
A37: 43822897AE53CEA79DD2398FDBE35DC3F4643 | B37: 합성풀 | C37: 합성풀, 건설용 | D37: kg | E37: 0 | G37: 0 | I37: 0 | K37: 0 | M37: 0 | O37: 0 | P37: 0 | Q37: 0 | R37: 0 | S37: 0 | T37: 0 | U37: 0 | V37: 0 | W37: 자재 33
A38: 43822897AE53CEA79DD7BF8515B1E921910C4 | B38: 고무접착제 | C38: 고무접착제, 건설용고무풀 | D38: kg | E38: 0 | G38: 11000 | H38: 145 | I38: 0 | K38: 0 | M38: 0 | O38: =SMALL(E38:M38,COUNTIF(E38:M38,0)+1) -> 11000 | P38: 0 | Q38: 0 | R38: 0 | S38: 0 | T38: 0 | U38: 0 | V38: 0 | W38: 자재 34
A39: 43822897AE53CEA79DD6948ED67325F852A0B | B39: 퍼티 | C39: 퍼티, 319퍼티, 백색 | D39: kg | E39: 3125.16 | G39: 0 | I39: 0 | K39: 0 | M39: 0 | O39: =SMALL(E39:M39,COUNTIF(E39:M39,0)+1) -> 3125.16 | P39: 0 | Q39: 0 | R39: 0 | S39: 0 | T39: 0 | U39: 0 | V39: 0 | W39: 자재 35 | X39: 1L=1.55kg
A40: 43822897AE53CEA79DD6948ED67325F84052C | B40: 휠러 | D40: kg | E40: 0 | G40: 0 | I40: 0 | K40: 1500 | L40: 에이스 | M40: 1150 | N40: 인스톤 | O40: =SMALL(E40:M40,COUNTIF(E40:M40,0)+1) -> 1150 | P40: 0 | Q40: 0 | R40: 0 | S40: 0 | T40: 0 | U40: 0 | V40: 0 | W40: 자재 36
A41: 43822897AE4178A735E1A88CDA9BF961B5D6E | B41: 수성페인트 | C41: 수성페인트, DX-5958, 광텍스, 백색 | D41: L | E41: 0 | G41: 6277.77 | H41: 619 | I41: 6277.77 | J41: 468 | K41: 0 | M41: 0 | O41: =SMALL(E41:M41,COUNTIF(E41:M41,0)+1) -> 6277.77 | P41: 0 | Q41: 0 | R41: 0 | S41: 0 | T41: 0 | U41: 0 | V41: 0 | W41: 자재 37
A42: 43822897AE4178A73C10BB8429BC02E2CEDB7 | B42: 방청페인트 | C42: 방청페인트, KSM6030-1종2류, 광명단페인트 | D42: L | E42: 8400 | G42: 0 | I42: 0 | K42: 0 | M42: 0 | O42: =SMALL(E42:M42,COUNTIF(E42:M42,0)+1) -> 8400 | P42: 0 | Q42: 0 | R42: 0 | S42: 0 | T42: 0 | U42: 0 | V42: 0 | W42: 자재 38
A43: 43822897AE4178A73C14168F3D99B6811DFD8 | B43: 조합페인트 | C43: 조합페인트, KSM6020-1종1급, 백색 | D43: L | E43: 6066 | G43: 10555.55 | H43: 615 | I43: 0 | K43: 0 | M43: 0 | O43: =SMALL(E43:M43,COUNTIF(E43:M43,0)+1) -> 6066 | P43: 0 | Q43: 0 | R43: 0 | S43: 0 | T43: 0 | U43: 0 | V43: 0 | W43: 자재 39
A44: 43822897AE41788707ECBA875CB4D4DED54D4 | B44: 실링재 | C44: 실링재, 실리콘, 비초산, 유리용, 창호주위 | D44: L | E44: 10371 | G44: 18500 | H44: 607 | I44: 0 | K44: 0 | M44: 0 | O44: =SMALL(E44:M44,COUNTIF(E44:M44,0)+1) -> 10371 | P44: 0 | Q44: 0 | R44: 0 | S44: 0 | T44: 0 | U44: 0 | V44: 0 | W44: 자재 40
A45: 43822897AE417877607D24841D034988FF1D3 | B45: 시너 | C45: 시너, KSM6060, 1종 | D45: L | E45: 2708 | G45: 3494.44 | H45: 614 | I45: 3722.22 | J45: 466 | K45: 0 | M45: 0 | O45: =SMALL(E45:M45,COUNTIF(E45:M45,0)+1) -> 2708 | P45: 0 | Q45: 0 | R45: 0 | S45: 0 | T45: 0 | U45: 0 | V45: 0 | W45: 자재 41
A46: 43822897AE417877607D24841D034988FF1D2 | B46: 시너 | C46: 시너, KSM6060, 2종 | D46: L | E46: 2708 | G46: 3583.33 | H46: 614 | I46: 3888.88 | J46: 466 | K46: 0 | M46: 0 | O46: =SMALL(E46:M46,COUNTIF(E46:M46,0)+1) -> 2708 | P46: 0 | Q46: 0 | R46: 0 | S46: 0 | T46: 0 | U46: 0 | V46: 0 | W46: 자재 42
A47: 43F5289EC1820EF7FD5E1B8C1700758C13912 | B47: 일반구조용각형강관 | C47: 일반구조용각형강관, 각형강관, 30*30*1.4mm | D47: M | E47: 0 | G47: 1650 | H47: 71 | I47: 0 | K47: 0 | M47: 0 | O47: =SMALL(E47:M47,COUNTIF(E47:M47,0)+1) -> 1650 | P47: 0 | Q47: 0 | R47: 0 | S47: 0 | T47: 0 | U47: 0 | V47: 0 | W47: 자재 43
A48: 43F5289EC1820EF7FD5E1B8C1700758C6B12D | B48: 일반구조용각형강관 | C48: 일반구조용각형강관, 각형강관, 100*100*4.5mm | D48: M | E48: 15610 | G48: 17530 | H48: 69 | I48: 19350 | J48: 34 | K48: 0 | M48: 0 | O48: =SMALL(E48:M48,COUNTIF(E48:M48,0)+1) -> 15610 | P48: 0 | Q48: 0 | R48: 0 | S48: 0 | T48: 0 | U48: 0 | V48: 0 | W48: 자재 44
A49: 43F5289EC1820EF7FD5E1B8C1700758C5AFBB | B49: 일반구조용탄소강관 | C49: 일반구조용탄소강관, 열연, ∮25.4*1.4mm | D49: M | E49: 1030 | G49: 1080 | H49: 72 | I49: 1340 | J49: 33 | K49: 0 | M49: 0 | O49: =SMALL(E49:M49,COUNTIF(E49:M49,0)+1) -> 1030 | P49: 0 | Q49: 0 | R49: 0 | S49: 0 | T49: 0 | U49: 0 | V49: 0 | W49: 자재 45
A50: 43F5289EC1820EF7FD5E1B8C1700758C5AFBE | B50: 일반구조용탄소강관 | C50: 일반구조용탄소강관, 열연, ∮50.8*1.4mm | D50: M | E50: 2240 | G50: 2370 | H50: 72 | I50: 2880 | J50: 33 | K50: 0 | M50: 0 | O50: =SMALL(E50:M50,COUNTIF(E50:M50,0)+1) -> 2240 | P50: 0 | Q50: 0 | R50: 0 | S50: 0 | T50: 0 | U50: 0 | V50: 0 | W50: 자재 46
A51: 44A123943DBF07C7FC2335844D5C68CB7AE3D | B51: 붙박이 쿠션 | C51: 방염, 50T | D51: M | E51: 0 | G51: 0 | I51: 0 | K51: 130000 | L51: 다솜 | M51: 105000 | N51: 크로바 | O51: =SMALL(E51:M51,COUNTIF(E51:M51,0)+1) -> 105000 | P51: 0 | Q51: 0 | R51: 0 | S51: 0 | T51: 0 | U51: 0 | V51: 0 | W51: 자재 47
A52: 44A123943DBF07C7FC2335844D5C68CB7AE3C | B52: 방음문 레자 교체 | D52: 개소 | E52: 0 | G52: 0 | I52: 0 | K52: 550000 | L52: 다솜 | M52: 350000 | N52: 크로바 | O52: =SMALL(E52:M52,COUNTIF(E52:M52,0)+1) -> 350000 | P52: 0 | Q52: 0 | R52: 0 | S52: 0 | T52: 0 | U52: 0 | V52: 0 | W52: 자재 48
A53: 44A123943DBF07C7FC2335844D5C68CB7AE3F | B53: 아크릴 사인물 | C53: 3T, 글자 | D53: SET | E53: 0 | G53: 0 | I53: 0 | K53: 400000 | L53: 모든 | M53: 300000 | N53: 싸인 | O53: =SMALL(E53:M53,COUNTIF(E53:M53,0)+1) -> 300000 | P53: 0 | Q53: 0 | R53: 0 | S53: 0 | T53: 0 | U53: 0 | V53: 0 | W53: 자재 49
A54: 44A123943DBF07C7FC2335844D5C68CB7AE3E | B54: UV 인쇄 시트 | D54: SET | E54: 0 | G54: 0 | I54: 0 | K54: 150000 | L54: 모든 | M54: 100000 | N54: 싸인 | O54: =SMALL(E54:M54,COUNTIF(E54:M54,0)+1) -> 100000 | P54: 0 | Q54: 0 | R54: 0 | S54: 0 | T54: 0 | U54: 0 | V54: 0 | W54: 자재 50
A55: 44A12D9488CB32474A987988DCAB7 | B55: 시트지 붙임(유리면) | C55: 폭 300mm이상 | D55: ㎡ | E55: 239 | G55: 0 | I55: 0 | K55: 0 | M55: 0 | O55: =SMALL(E55:M55,COUNTIF(E55:M55,0)+1) -> 239 | P55: 7967 | Q55: 0 | R55: 0 | S55: 0 | T55: 0 | U55: 0 | V55: 0 | W55: 자재 51 | Y55: 2
A56: 44A12D9488CB32474A987988DC889 | B56: 인테리어필름 붙임 | C56: 폭 300mm 이상 | D56: ㎡ | E56: 662 | G56: 0 | I56: 0 | K56: 0 | M56: 0 | O56: =SMALL(E56:M56,COUNTIF(E56:M56,0)+1) -> 662 | P56: 22098 | Q56: 0 | R56: 0 | S56: 0 | T56: 0 | U56: 0 | V56: 0 | W56: 자재 52 | Y56: 2
A57: 44ED2D914F9B37E7E67B688BD1974E34D3909 | B57: 혼합건설폐기물 | C57: 그 밖의 건설폐기물에 가연성 5% 이하 혼합 | D57: TON | E57: 0 | G57: 0 | I57: 0 | K57: 0 | M57: 0 | O57: 0 | P57: 0 | Q57: 0 | R57: 0 | S57: 0 | T57: 150000 | U57: 192887 | V57: =SMALL(Q57:U57,COUNTIF(Q57:U57,0)+1) -> 150000 | W57: 자재 53 | Y57: C
A58: 44ED2D914F9B37E7E67B688BD186FBE7A9152 | B58: 혼합건설폐기물 상차비 및 운반비 | C58: 16톤 암롤트럭, 30km | D58: TON | E58: 0 | G58: 0 | I58: 0 | K58: 0 | M58: 0 | N58: 1586 | O58: 0 | P58: 0 | Q58: 0 | R58: 0 | S58: 0 | T58: 13000 | U58: 81350 | V58: =SMALL(Q58:U58,COUNTIF(Q58:U58,0)+1) -> 13000 | W58: 자재 54 | Y58: C
A59: 447A2E9452EAA5E7E8F59B883ABE0F202EE32 | B59: 보통인부 | C59: 일반공사 직종 | D59: 인 | E59: 0 | G59: 0 | I59: 0 | K59: 0 | M59: 0 | O59: 0 | P59: 172068 | Q59: 0 | R59: 0 | S59: 0 | T59: 0 | U59: 0 | V59: 0 | W59: 노임 1 | Y59: B
A60: 447A2E9452EAA5E7E8F59B883ABE0F202EE33 | B60: 특별인부 | C60: 일반공사 직종 | D60: 인 | E60: 0 | G60: 0 | I60: 0 | K60: 0 | M60: 0 | O60: 0 | P60: 226122 | Q60: 0 | R60: 0 | S60: 0 | T60: 0 | U60: 0 | V60: 0 | W60: 노임 2 | Y60: B
A61: 447A2E9452EAA5E7E8F59B883ABE0F202EE39 | B61: 철공 | C61: 일반공사 직종 | D61: 인 | E61: 0 | G61: 0 | I61: 0 | K61: 0 | M61: 0 | O61: 0 | P61: 239808 | Q61: 0 | R61: 0 | S61: 0 | T61: 0 | U61: 0 | V61: 0 | W61: 노임 3 | Y61: B
A62: 447A2E9452EAA5E7E8F59B883ABE0F202EFD4 | B62: 용접공 | C62: 일반공사 직종 | D62: 인 | E62: 0 | G62: 0 | I62: 0 | K62: 0 | M62: 0 | O62: 0 | P62: 282536 | Q62: 0 | R62: 0 | S62: 0 | T62: 0 | U62: 0 | V62: 0 | W62: 노임 4 | Y62: B
A63: 447A2E9452EAA5E7E8F59B883ABE0F202EC01 | B63: 건축목공 | C63: 일반공사 직종 | D63: 인 | E63: 0 | G63: 0 | I63: 0 | K63: 0 | M63: 0 | O63: 0 | P63: 277642 | Q63: 0 | R63: 0 | S63: 0 | T63: 0 | U63: 0 | V63: 0 | W63: 노임 5 | Y63: B
A64: 447A2E9452EAA5E7E8F59B883ABE0F202EC06 | B64: 창호공 | C64: 일반공사 직종 | D64: 인 | E64: 0 | G64: 0 | I64: 0 | K64: 0 | M64: 0 | O64: 0 | P64: 247188 | Q64: 0 | R64: 0 | S64: 0 | T64: 0 | U64: 0 | V64: 0 | W64: 노임 6 | Y64: B
A65: 447A2E9452EAA5E7E8F59B883ABE0F202EC07 | B65: 유리공 | C65: 일반공사 직종 | D65: 인 | E65: 0 | G65: 0 | I65: 0 | K65: 0 | M65: 0 | O65: 0 | P65: 253539 | Q65: 0 | R65: 0 | S65: 0 | T65: 0 | U65: 0 | V65: 0 | W65: 노임 7 | Y65: B
A66: 447A2E9452EAA5E7E8F59B883ABE0F202EC0A | B66: 타일공 | C66: 일반공사 직종 | D66: 인 | E66: 0 | G66: 0 | I66: 0 | K66: 0 | M66: 0 | O66: 0 | P66: 290939 | Q66: 0 | R66: 0 | S66: 0 | T66: 0 | U66: 0 | V66: 0 | W66: 노임 8 | Y66: B
A67: 447A2E9452EAA5E7E8F59B883ABE0F202EC0B | B67: 도장공 | C67: 일반공사 직종 | D67: 인 | E67: 0 | G67: 0 | I67: 0 | K67: 0 | M67: 0 | O67: 0 | P67: 263017 | Q67: 0 | R67: 0 | S67: 0 | T67: 0 | U67: 0 | V67: 0 | W67: 노임 9 | Y67: B
A68: 447A2E9452EAA5E7E8F59B883ABE0F202ED29 | B68: 내장공 | C68: 일반공사 직종 | D68: 인 | E68: 0 | G68: 0 | I68: 0 | K68: 0 | M68: 0 | O68: 0 | P68: 256883 | Q68: 0 | R68: 0 | S68: 0 | T68: 0 | U68: 0 | V68: 0 | W68: 노임 10 | Y68: B
A69: 447A2E9452EAA5E7E8F59B883ABE0F202ED28 | B69: 도배공 | C69: 일반공사 직종 | D69: 인 | E69: 0 | G69: 0 | I69: 0 | K69: 0 | M69: 0 | O69: 0 | P69: 227614 | Q69: 0 | R69: 0 | S69: 0 | T69: 0 | U69: 0 | V69: 0 | W69: 노임 11 | Y69: B
A70: 447A2E9452EAA5E7E8F1208FB0F72D5997BAE | B70: 코킹공 | C70: 기타 직종 | D70: 인 | E70: 0 | G70: 0 | I70: 0 | K70: 0 | M70: 0 | O70: 0 | P70: 209131 | Q70: 0 | R70: 0 | S70: 0 | T70: 0 | U70: 0 | V70: 0 | W70: 노임 12 | Y70: B
A71: 447A2E9452EAA5E7E8F1208FB0F72D59978D1 | B71: 철거공 | C71: 일반공사 직종 | D71: 인 | E71: 0 | G71: 0 | I71: 0 | K71: 0 | M71: 0 | O71: 0 | P71: 266743 | Q71: 0 | R71: 0 | S71: 0 | T71: 0 | U71: 0 | V71: 0 | W71: 노임 13 | Y71: B

Sheet 물량산출근거서
A1: 물 량 산 출 표
A2: [ 사우청소년문화의집 시설환경개선사업 ]
A3: NO | B3: 명 칭 | C3: 규 격 및 사 양 | D3: 단위 | E3: 수량 | F3: 산 출 근 거
A4: 1 | B4: 가설공사
B5: 건축물보양 | C5: 보양지 붙이기 | D5: M2 | E5: =16.45+18.01+11.45+186.16+43.94 -> 276.01 | F5: =16.45+18.01+11.45+186.16+43.94 | G5: 16.45
B6: 준공청소 | D6: M2 | E6: =16.45+18.01+11.45+186.16+43.94 -> 276.01 | F6: =16.45+18.01+11.45+186.16+43.94 | G6: 18.01
G7: 11.45
A8: 2 | B8: 철거공사 | G8: 153.52 | H8: 32.64 | I8: =G8+H8 -> 186.16
B9: 몰딩류 철거 | D9: M | E9: =(4.8+4.2+2.93+1.22+0.74)+(5.9+4.2+4.2+1.35+0.71+1.06+0.71+3.03)+(3.61+2.61+4.66+1.93+1.05+0.67)+3.55+(2.1+0.46+0.75)+(4.8+4.2+2.93+1.22+0.74)+(5.9+4.2+4.2+1.35+0.71+1.06+0.71+3.03-0.86)+(3.61+2.61+4.66+1.93+1.05+0.67-0.86)+3.55+(2.1+0.46+0.75+4+2+2.95) -> 120.11 | F9: =(4.8+4.2+2.93+1.22+0.74)+(5.9+4.2+4.2+1.35+0.71+1.06+0.71+3.03)+(3.61+2.61+4.66+1.93+1.05+0.67)+3.55+(2.1+0.46+0.75)+(4.8+4.2+2.93+1.22+0.74)+(5.9+4.2+4.2+1.35+0.71+1.06+0.71+3.03-0.86)+(3.61+2.61+4.66+1.93+1.05+0.67-0.86)+3.55+(2.1+0.46+0.75+4+2+2.95) | G9: 28.62 | H9: 15.32 | I9: =G9+H9 -> 43.94
B10: PVC계바닥재 해체 | D10: M2 | E10: =16.45+18.01+11.45+179.92 -> 225.83 | F10: =16.45+18.01+11.45+179.92 | G10: 179.92 | I10: =I8-G10 -> 6.24
B11: 경량벽체철골틀 해체 | D11: M2 | E11: =((4.33+7.96+4.33+1+1)*2.4)+((0.22+0.38)*2.6) -> 46.248 | F11: =((4.33+7.96+4.33+1+1)*2.4)+((0.22+0.38)*2.6)
B12: 벽체합판 해체 | D12: M2 | E12: =((5.9+4.2+4.2+1.35+0.71+1.06+0.71+3.03)*2.6)+((4.33+7.96+4.33+1+1)*2.4) -> 99.704 | F12: =((5.9+4.2+4.2+1.35+0.71+1.06+0.71+3.03)*2.6)+((4.33+7.96+4.33+1+1)*2.4)
B13: 시트지 해체 | C13: 유리면 | D13: M2 | E13: =(1.7*1.35)+(4.45*1.2)+((1.05+3.6)*0.8)+((1.1+2)*1.85)+(4.03*1.04)+(5.28*1.1) -> 27.0892 | F13: =(1.7*1.35)+(4.45*1.2)+((1.05+3.6)*0.8)+((1.1+2)*1.85)+(4.03*1.04)+(5.28*1.1)
B14: 천정 구조물 철거 | D14: 식 | E14: =1 -> 1 | F14: =1
B15: 창호 철거 | C15: 목재창호 | D15: 개소 | E15: =1+1+2 -> 4 | F15: =1+1+2 | G15: 15.54
B16: 강재창호 해체 | C16: 설치품의 60% | D16: 개소 | E16: =1 -> 1 | F16: =1 | H16: =G8-G15 -> 137.98
B17: 흡음텍스 해체 | D17: M2 | E17: =16.45+11.45 -> 27.9 | F17: =16.45+11.45
B18: 석고판 해체 | C18: 천장 | D18: M2 | E18: =18.01*10%+15.54*10%+137.98*30%+15.32 -> 60.069 | F18: =18.01*10%+15.54*10%+137.98*30%+15.32
B19: 도배 해체 | C19: 벽 | D19: M2 | E19: =(3.61+2.61+4.66+1.93+1.05+0.67)*2.6 -> 37.778 | F19: =(3.61+2.61+4.66+1.93+1.05+0.67)*2.6
B20: 마루틀 해체 | C20: 설치품의 60% | D20: M2 | E20: =4.1*7.96 -> 32.636 | F20: =4.1*7.96
B21: 알루미늄창호 해체 | C21: 설치품의 60% | D21: M2 | E21: =(3.6*2.6)+((4.4+3.65+4.45)*2.6) -> 41.86 | F21: =(3.6*2.6)+((4.4+3.65+4.45)*2.6)
B22: 바닥 샌딩 | C22: 타일본드 제거 | D22: M2 | E22: =16.45+18.01+11.45+186.16 -> 232.07 | F22: =16.45+18.01+11.45+186.16
A25: 3 | B25: 목공사
B26: 벽체틀 설치 | C26: 30*30, @450*600 | D26: M2 | E26: =(3.1+1.1+6.9+4.1)*2.65+(0.67+1.55+0.96)*2.6 -> 48.548 | F26: =(3.1+1.1+6.9+4.1)*2.65+(0.67+1.55+0.96)*2.6
B27: MDF 설치 | C27: 중밀도섬유판, 9.0*1220*2440mm | D27: M2 | E27: =(2.89+1.05)*2.6+(0.8+0.5)*2.6+(0.8+1+0.8+3.52+0.2+0.44+0.2+0.55+0.44+0.44+0.44+2.7+3.57)*2.6+(0.8+0.49+4.98+0.67)*2.2 -> 68.152 | F27: =(2.89+1.05)*2.6+(0.8+0.5)*2.6+(0.8+1+0.8+3.52+0.2+0.44+0.2+0.55+0.44+0.44+0.44+2.7+3.57)*2.6+(0.8+0.49+4.98+0.67)*2.2
B28: 벽체합판 설치 | C28: 4.8T*1220*2440 | D28: M2 | E28: =(3.1+1.1+6.9+4.1)*2.65 -> 40.28 | F28: =(3.1+1.1+6.9+4.1)*2.65
B29: 석고판 설치(나사고정) - 바탕용 | C29: 천장, 2겹 붙임 | D29: M2 | E29: =16.38+18.01*10%+11.45+135.46*30%+15.32 -> 85.589 | F29: =16.38+18.01*10%+11.45+135.46*30%+15.32
B30: 석고판 설치(나사고정) - 바탕용 | C30: 벽, 1겹 붙임 | D30: M2 | E30: =(3.1+1.1+6.9+4.1)*2.65+(0.67+1.55+0.96)*2.6 -> 48.548 | F30: =(3.1+1.1+6.9+4.1)*2.65+(0.67+1.55+0.96)*2.6
B31: 석고판 설치(나사고정) - 바탕용 | C31: 벽, 2겹 붙임 | D31: M2 | E31: =(0.8+1+0.8+3.52+2.7+3.57)*2.65+(2.14+0.13+0.19+1.74+0.17+0.16+0.4)*2.6+(0.67+1.55+0.96)*2.6 -> 53.9195 | F31: =(0.8+1+0.8+3.52+2.7+3.57)*2.65+(2.14+0.13+0.19+1.74+0.17+0.16+0.4)*2.6+(0.67+1.55+0.96)*2.6
B32: 마루틀 설치 | C32: 30*30, @300 | D32: M2 | E32: =3.19*2.61-1.05*0.67 -> 7.6224 | F32: =3.19*2.61-1.05*0.67
B33: 마루바탕 설치 | C33: 합판12t | D33: M2 | E33: =3.19*2.61-1.05*0.67 -> 7.6224 | F33: =3.19*2.61-1.05*0.67
B34: 강화마루 설치 | D34: M2 | E34: =3.19*2.61-1.05*0.67 -> 7.6224 | F34: =3.19*2.61-1.05*0.67
B35: 걸레받이 설치 - 중밀도섬유판 | C35: T=9, H=100 | D35: M | E35: =(4.8+4.2+2.93+1.22+0.74)+(5.9+4.2+4.2+1.35+0.71+1.06+0.71+3.03-0.86)+(3.61+2.61+4.66+1.93+1.05+0.67-0.86+2.56)+(2.8+1+4.1+7.96+4.1)+(0.95+0.8+0.95+0.17)+(2.14+0.13+0.19+1.74+0.17+0.16+0.4)+(4+2+3) -> 87.18 | F35: =(4.8+4.2+2.93+1.22+0.74)+(5.9+4.2+4.2+1.35+0.71+1.06+0.71+3.03-0.86)+(3.61+2.61+4.66+1.93+1.05+0.67-0.86+2.56)+(2.8+1.0+4.1+7.96+4.1)+(0.95+0.8+0.95+0.17)+(2.14+0.13+0.19+1.74+0.17+0.16+0.4)+(4+2+3)
B36: 자석게시판 | C36: 갈바륨 1.2t | D36: M2 | E36: =1.57*2.2 -> 3.454 | F36: =1.57*2.2
B37: 2층 붙박이장 | D37: 개소 | E37: =1 -> 1 | F37: =1
B38: 붙박이 쇼파 | D38: 개소 | E38: =1 -> 1 | F38: =1
B39: 붙박이 바테이블 | D39: 개소 | E39: =1 -> 1 | F39: =1
B40: 붙박이정수기장 | D40: 개소 | E40: =1 -> 1 | F40: =1
A42: 4 | B42: 창호 및 유리 공사
B43: 강화유리도어 설치 | C43: 편개, 900*2600 | D43: SET | E43: =1 -> 1 | F43: =1
B44: 강화유리도어 설치 | C44: 양개, 1700*2600 | D44: SET | E44: =1 -> 1 | F44: =1
B45: 알루미늄 프레임 | C45: 50*100, 무광화이트 분체도장 | D45: M2 | E45: =(3.5+1.4+3.1)*2.6 -> 20.8 | F45: =(3.5+1.4+3.1)*2.6
B46: 창호유리설치 / 판유리 | C46: 유리두께 12mm 이하 | D46: M2 | E46: =(1.3+0.4+0.45)*2.6+3.1*1.65 -> 10.705 | F46: =(1.3+0.4+0.45)*2.6+3.1*1.65
B47: 유리블록 쌓기 | C47: 80*190*190 | D47: M2 | E47: =3*0.9 -> 2.7 | F47: =3.0*0.9
B48: 수밀코킹(실리콘) | C48: 삼각, 10mm, 창호주위 | D48: M | E48: =((1.7+6.38+6.38+4+2+1.2+3.7+1.23)+(2.6*24)+(2.1*4)) -> 97.39 | F48: =((1.7+6.38+6.38+4+2+1.2+3.7+1.23)+(2.6*24)+(2.1*4))
A50: 5 | B50: 타일공사
B51: 타일 붙임 / 압착 붙이기 | C51: 벽, 타일 0.04 ~ 0.10m2 이하, 15m2/일당 | D51: M2 | E51: =1.55*0.4 -> 0.62 | F51: =1.55*0.4
A54: 6 | B54: 도장공사
B55: 석고보드면 바탕만들기 | C55: 줄퍼티 노무비 | D55: M2 | E55: =(4.8+4.2+2.93+1.22+0.74)*2.65+(5.9+4.2+4.2+0.71+1.06+0.71+3.03)*2.65+(2.61+4.66+1.93+1.05+0.67+0.5+0.54)*2.65+(4.1+7.96+4.18)*2.6+(2.14+0.13+0.19+1.74+0.17+0.16+0.4)*2.6 -> 176.041 | F55: =(4.8+4.2+2.93+1.22+0.74)*2.65+(5.9+4.2+4.2+0.71+1.06+0.71+3.03)*2.65+(2.61+4.66+1.93+1.05+0.67+0.50+0.54)*2.65+(4.1+7.96+4.18)*2.6+(2.14+0.13+0.19+1.74+0.17+0.16+0.4)*2.6 | G55: =E55-E56 -> 0
B56: 수성페인트 칠 | C56: 내부, 2회, 친환경 | D56: M2 | E56: =(4.8+4.2+2.93+1.22+0.74)*2.65+(5.9+4.2+4.2+0.71+1.06+0.71+3.03)*2.65+(2.61+4.66+1.93+1.05+0.67+0.5+0.54)*2.65+(4.1+7.96+4.18)*2.6+(2.14+0.13+0.19+1.74+0.17+0.16+0.4)*2.6 -> 176.041 | F56: =(4.8+4.2+2.93+1.22+0.74)*2.65+(5.9+4.2+4.2+0.71+1.06+0.71+3.03)*2.65+(2.61+4.66+1.93+1.05+0.67+0.50+0.54)*2.65+(4.1+7.96+4.18)*2.6+(2.14+0.13+0.19+1.74+0.17+0.16+0.4)*2.6
B57: 석고보드면 바탕만들기 | C57: 줄퍼티 천장 친환경 | D57: M2 | E57: =16.45+18.01+11.45+186.16+43.94 -> 276.01 | F57: =16.45+18.01+11.45+186.16+43.94 | G57: =E57-E58 -> 0
B58: 수성페인트 칠 | C58: 내천장, 2회, 친환경 | D58: M2 | E58: =16.45+18.01+11.45+186.16+43.94 -> 276.01 | F58: =16.45+18.01+11.45+186.16+43.94
G59: 3000000
A60: 7 | B60: 수장공사
B61: 난방필름 설치 | C61: 바닥 | D61: M2 | E61: =3.19*2.61-1.05*0.67 -> 7.6224 | F61: =3.19*2.61-1.05*0.67
B62: 인테리어 필름 붙임 | C62: 방염 | D62: M2 | E62: =(2.89+1.05)*2.6+(0.8+0.5)*2.6+(0.8+0.49+4.98+0.67)*2.2+(0.2+0.44+0.2+0.55+0.44+0.44+0.44)*2.6 -> 35.938 | F62: =(2.89+1.05)*2.6+(0.8+0.5)*2.6+(0.8+0.49+4.98+0.67)*2.2+(0.2+0.44+0.2+0.55+0.44+0.44+0.44)*2.6
B63: 비닐타일 깔기 | C63: 비닐타일, 3.0 | D63: M2 | E63: =16.38+18.01+3.66+179.92 -> 217.97 | F63: =16.38+18.01+3.66+179.92
B64: 도트그라데이션 시트 붙임 | D64: M2 | E64: =(1.64+1.64)*1.2+(1.05+1.1+4+1.2+3.4+0.95+1.9+6.25)*1.4+(3+2.6)*0.9 -> 36.766 | F64: =(1.64+1.64)*1.2+(1.05+1.1+4+1.2+3.4+0.95+1.9+6.25)*1.4+(3+2.6)*0.9 | G64: =(3.1*0.9)+((1.4+3.5+0.95+2+1.23+1.1+4.02 +1.7+1.7+6.38)*1.4)+(2.6*0.8)
B65: 방음문 레자 교체 | D65: 개소 | E65: =1+1 -> 2 | F65: =1+1
B66: 아크릴 사인물 | C66: 3T, 글자 | D66: SET | E66: =1 -> 1 | F66: =1
B67: UV 인쇄 시트 | D67: SET | E67: =1 -> 1 | F67: =1
B68: 피난안내도 | D68: EA | E68: =8 -> 8 | F68: =8
B69: 실명 표지판 | D69: EA | E69: =7 -> 7 | F69: =7
A73: 8 | B73: 폐기물처리비
B74: 혼합건설폐기물 | C74: 그 밖의 건설폐기물에 가연성 5% 이하 혼합 | D74: TON | E74: =4 -> 4 | F74: =4
B75: 혼합건설폐기물 상차비 및 운반비 | C75: 16톤 암롤트럭, 30km | D75: TON | E75: =4 -> 4 | F75: =4

Sheet  공사설정 
A1: 이 Sheet는 수정하지 마십시요
A2: 공사구분 | B2: A | C2: 타이틀
A3: 확정내역 | B3: 원내역
A4: 자재단가적용 | B4: 5
A5: 경비단가적용 | B5: 5
A6: 품목코드형식 | B6: XXXX-XXXX-XXXXXXXXX
A7: 내역금액소수점처리 | B7: C | C7: T
A8: 일위대가내역소수점처리 | B8: C | C8: 2
A9: 단가명 | B9: 조달청가격 | C9: 거래가격 | D9: 유통물가 | E9: 조사가격1 | F9: 조사가격2 | G9: TTTTT
A10: 환율 | B10: 1472 | C10: 0 | D10: 0
A11: 시간당작업량 | B11: R | C11: 4
A12: 1회 사이클시간 | B12: R | C12: 4
A13: 시간당 작업사이클 | B13: R | C13: 3
A14: 일반변수 | B14: R | C14: 5
A15: 시간당 노임산출 계수 | B15: A | C15: 1/8*16/12*25/20 | D15: 1/8*16/12*25/20 | E15: 1/8*16/12*25/20 | F15: 1
A16: 재료비 할증 계수 | B16: 1.11 | C16: 1.12
A17: 노무비 할증 계수 | B17: 1 | C17: 1.5 | D17: 1.16 | E17: 1.6 | F17: 1.6 | G17: 1.6 | H17: 1.94 | I17: 1.94 | J17: 1.94 | K17: 1 | L17: 1 | M17: 1
A18: 경비 할증 계수 | B18: 1.25 | C18: 1.071
A19: 내역,일위대가 품명,규격,단위 따로적용
A20: 내역단가 소수점처리 | B20: C | C20: 1
A21: 코드 | B21: 공종구분명 | C21: 원가비목코드
A22: 1 | B22: 작 업 부 산 물 | C22: A3
A23: 2 | B23: 운 반 비 | C23: C1
A24: 3 | B24: 관 급 자 재 비 | C24: DJ
A25: 4 | B25: 사 급 자 재 비 | C25: D3
A26: 5 | B26: 외 자 재
A27: 6 | B27: 폐 기 물 처 리 비 | C27: D4
A28: 7 | B28: ...
A29: 8 | B29: ...
A30: 9 | B30: ...
B32: 1
A43: 단가 순서 | B43: 1234

Sheet Sheet1
