Workbook
Name _: #N/A
Name ___HSH1: #REF!
Name ___HSH2: #REF!
Name ___NP1: #REF!
Name ___NP2: #REF!
Name ___NSH1: #REF!
Name ___NSH2: #REF!
Name ___p1: '[2]#REF'!$A$1:$M$40
Name ___PL2: #REF!
Name ___PL3: #REF!
Name ___SBB1: #REF!
Name ___SBB2: #REF!
Name ___SBB3: #REF!
Name ___SBB4: #REF!
Name ___SBB5: #REF!
Name ___SHH1: #REF!
Name ___SHH2: #REF!
Name ___SHH3: #REF!
Name ___SS1: #REF!
Name ___SS2: #REF!
Name ___TC1: #REF!
Name ___TC2: #REF!
Name ___TW1: #REF!
Name ___TW2: #REF!
Name ___WC1: #REF!
Name __b1: '[3]#REF'!$A$1:$M$40
Name __B2: '[4]단면 (2)'!$K$55
Name __BVS1: #REF!
Name __BVS2: #REF!
Name __DemandLoad: TRUE
Name __GHH1: #REF!
Name __GHH2: #REF!
Name __HSH1: #REF!
Name __HSH2: #REF!
Name __JEA1: #REF!
Name __JEA2: #REF!
Name __JS1: #REF!
Name __JS2: #REF!
Name __LS1: #REF!
Name __LS2: #REF!
Name __LS3: #REF!
Name __LS4: #REF!
Name __MaL1: #REF!
Name __MaL2: #REF!
Name __NP1: #REF!
Name __NP2: #REF!
Name __NS1: #REF!
Name __NS2: #REF!
Name __NS3: #REF!
Name __NS4: #REF!
Name __NSH1: #REF!
Name __NSH2: #REF!
Name __p1: #REF!
Name __pa1: #REF!
Name __pa2: #REF!
Name __PE1: #REF!
Name __PE10: #REF!
Name __PE11: #REF!
Name __PE12: #REF!
Name __PE13: #REF!

Sheet 표지
B2: 2026년도
B4: 세부설계 용역비 산출내역
B5: - 신계지구 과실전문생산단지기반조성사업 -
C7: 금액 : | D7: ="금" &NUMBERSTRING(F7*1000,1)&"원" -> 금오천이십오만원 | F7: ='1. 용역비 산출내역'!F14 -> 50250
B9: 2026. 07.
B11: 한국농어촌공사 의성군위지사

Sheet 1. 용역비 산출내역
A1: ='2. 설계비 산출근거'!A2:R2 -> 신계지구 과실전문생산단지 기반조성사업 세부설계비 산출내역
A2: 공 종 | B2: 규 격 | C2: 단 위 | D2: 수 량 | E2: 단 가(천 원) | F2: 금 액(천 원) | G2: 비 고
A3: 설계용역비
A4: 1. 설 계 비 | C4: 식 | D4: 1 | E4: ='2. 설계비 산출근거'!N24 -> 43850 | F4: =D4*E4 -> 43850 | H4: =H9-H5 -> -1832
A5: 2. 측 량 비 | C5: 식 | D5: 1 | E5: ='측량비 산출내역'!E25/1000 -> 1495 | F5: =D5*E5 -> 1495 | H5: =F5 -> 1495
A6: 3. 토질조사비 | C6: 식
A7: 4. 지질조사비 | C7: 식 | D7: 1 | E7: 0 | F7: =D7*E7 -> 0
A9: - 설계용역비 계 | F9: =SUM(F4:F8) -> 45345 | G9: (A) | H9: =H12-H10 -> -337
A10: - 손해배상공제수수료 | C10: % | D10: ='3. 공제요율'!K3 -> 0.746 | E10: ='3. 공제요율'!K2/1000 -> 45345 | F10: ='3. 공제요율'!K6 -> 337 | G10: (B) | H10: =F10 -> 337
A11: - 안전보건관리비 | C11: 식 | I11: ←도급사업 안전보건관리 업무 매뉴얼 참조 | K11: 용역참여인원 × 개인당 보호구 구매 비용 × 과업기간(년)
A12: 소 계 | F12: =SUM(F9:F11) -> 45682 | G12: (C=A+B)
A13: 부 가 세 | C13: % | D13: 10 | E13: =F12 -> 45682 | F13: =ROUNDDOWN(E13*D13/100,0) -> 4568 | G13: (D=C×10%)
A14: 용 역 비 | F14: =F12+F13+F11 -> 50250 | G14: (천단위이하절삭)

Sheet 2. 설계비 산출근거
A2: 신계지구 과실전문생산단지 기반조성사업 세부설계비 산출내역 | AX2: AB-AF열 삭제 금지
A4: - 위탁요율(2025년도 예산안 편성 및 기금운용계획안 작성 세부지침(2024.5.)) | U4: 구 분 | V4: 사 업 비 | Z4: 비 고 | AB4: 구 분 | AC4: 사 업 비 | AG4: 비 고 | AY4: 0.5 | AZ4: 0 | BA4: 0.5
B5: 대상액 | C5: 0억원 | D5: 0.5억원 | E5: 1억원 | F5: 2억원 | G5: 3억원 | H5: 5억원 | I5: 10억원 | J5: 20억원 | K5: 30억원 | L5: 50억원 | M5: 100억원 | N5: 200억원 | O5: 300억원 | P5: 500억원 | Q5: 1000억원 | R5: 2000억원 | V5: 계 | W5: 감계 | X5: 신계 | Y5: 실업 | AC5: 계 | AD5: 감계 | AE5: 신계 | AF5: 실업 | AY5: 1 | AZ5: 0.5 | BA5: 1
A6: 구 분 | C6: 까지 | D6: 까지 | E6: 까지 | F6: 까지 | G6: 까지 | H6: 까지 | I6: 까지 | J6: 까지 | K6: 까지 | L6: 까지 | M6: 까지 | N6: 까지 | O6: 까지 | P6: 까지 | Q6: 까지 | R6: 까지 | U6: 합 계 | V6: =SUM(V7:V9) -> 6486250 | W6: =W13 -> 940000 | X6: =X13 -> 2021250 | Y6: =Y13 -> 3525000 | Z6: 1 | AB6: 합 계 | AC6: =SUM(AC7:AC9) -> 6486250 | AD6: =AD13 -> 940000 | AE6: =AE13 -> 2021250 | AF6: =AF13 -> 3525000 | AG6: 1 | AY6: 2 | AZ6: 1 | BA6: 2
A7: 기본조사설계비 | C7: 3.35 | D7: 3.35 | E7: 3.19 | F7: 2.69 | G7: 2.53 | H7: 2.36 | I7: 2.17 | J7: 1.97 | K7: 1.88 | L7: 1.8 | M7: 1.71 | N7: 1.61 | O7: 1.57 | P7: 1.5 | Q7: 1.45 | R7: 1.39 | U7: 국 비 | V7: =SUM(W7:Y7) -> 5189000 | W7: =W6*0.8 -> 752000 | X7: =X6*0.8 -> 1617000 | Y7: =Y6*0.8 -> 2820000 | Z7: =W7/W$6 -> 0.8 | AB7: 국 비 | AC7: =SUM(AD7:AF7) -> 5189000 | AD7: =AD6*0.8 -> 752000 | AE7: =AE6*0.8 -> 1617000 | AF7: =AF6*0.8 -> 2820000 | AG7: =AD7/AD$6 -> 0.8 | AY7: 3 | AZ7: 2 | BA7: 3
A8: 실시설계비 | C8: 6.42 | D8: 6.42 | E8: 6.09 | F8: 5.11 | G8: 4.78 | H8: 4.46 | I8: 4.07 | J8: 3.71 | K8: 3.54 | L8: 3.41 | M8: 3.24 | N8: 3.06 | O8: 3.01 | P8: 2.9 | Q8: 2.79 | R8: 2.7 | U8: 도 비 | V8: =SUM(W8:Y8) -> 389175 | W8: =W6*0.06 -> 56400 | X8: =X6*0.06 -> 121275 | Y8: =Y6*0.06 -> 211500 | Z8: =W8/W$6 -> 0.06 | AB8: 도 비 | AC8: =SUM(AD8:AF8) -> 389175 | AD8: =AD6*0.06 -> 56400 | AE8: =AE6*0.06 -> 121275 | AF8: =AF6*0.06 -> 211500 | AG8: =AD8/AD$6 -> 0.06 | AY8: 5 | AZ8: 3 | BA8: 5
A9: 공사감리비(단순) | C9: 11.75 | D9: 11.75 | E9: 11.75 | F9: 11.75 | G9: 11.75 | H9: 11.75 | I9: 11.75 | J9: 11.75 | K9: 11.75 | L9: 11.75 | M9: 9.66 | N9: 7.34 | O9: 6.24 | P9: 4.96 | Q9: 3.93 | R9: 3.11 | U9: 군 비 | V9: =SUM(W9:Y9) -> 908075 | W9: =W6*0.14 -> 131600 | X9: =X6*0.14 -> 282975 | Y9: =Y6*0.14 -> 493500 | Z9: =W9/W$6 -> 0.14 | AB9: 군 비 | AC9: =SUM(AD9:AF9) -> 908075 | AD9: =AD6*0.14 -> 131600 | AE9: =AE6*0.14 -> 282975 | AF9: =AF6*0.14 -> 493500 | AG9: =AD9/AD$6 -> 0.14 | AY9: 10 | AZ9: 5 | BA9: 10
A10: 공사감리비(보통) | C10: 13.1 | D10: 13.1 | E10: 13.1 | F10: 13.1 | G10: 13.1 | H10: 13.1 | I10: 13.1 | J10: 13.1 | K10: 13.1 | L10: 13.1 | M10: 10.73 | N10: 8.14 | O10: 6.92 | P10: 5.52 | Q10: 4.36 | R10: 3.45 | U10: < 지 출 > | Z10: (단위:천원) | AB10: < 지 출 > | AG10: (단위:천원) | AY10: 20 | AZ10: 10 | BA10: 20
A11: 공사감리비(복잡) | C11: 14.44 | D11: 14.44 | E11: 14.44 | F11: 14.44 | G11: 14.44 | H11: 14.44 | I11: 14.44 | J11: 14.44 | K11: 14.44 | L11: 14.44 | M11: 11.8 | N11: 8.97 | O11: 7.62 | P11: 6.07 | Q11: 4.79 | R11: 3.79 | U11: =U4 -> 구 분 | V11: 사 업 비 | Z11: =Z4 -> 비 고 | AB11: =AB4 -> 구 분 | AC11: 사 업 비 | AG11: =AG4 -> 비 고 | AY11: 30 | AZ11: 20 | BA11: 30
A12: 시설부대비 | C12: 1.08 | D12: 1.08 | E12: 0.9 | F12: 0.72 | G12: 0.72 | H12: 0.72 | I12: 0.63 | J12: 0.36 | K12: 0.36 | L12: 0.27 | M12: 0.25 | N12: 0.23 | O12: 0.23 | P12: 0.23 | Q12: 0.23 | R12: 0.21 | V12: 계 | W12: 감계 | X12: 신계 | Y12: 실업 | AC12: 계 | AD12: 감계 | AE12: 신계 | AF12: 실업 | AY12: 50 | AZ12: 30 | BA12: 50
U13: 합 계 | V13: =V14+V28+V31 -> 6486250 | W13: =W14+W28+W31 -> 940000 | X13: =X14+X28+X31 -> 2021250 | Y13: =Y14+Y31+Y28 -> 3525000 | AB13: 합 계 | AC13: =AC14+AC28+AC31 -> 6486250 | AD13: =AD14+AD28+AD31 -> 940000 | AE13: =AE14+AE28+AE31 -> 2021250 | AF13: =AF14+AF31+AF28 -> 3525000 | AY13: 100 | AZ13: 50 | BA13: 100
A14: ※. | B14: 기본조사 및 세부설계 : 기준요율의 100% | O14: 대상지구 요율구간 | U14: □ 공 사 비 | V14: =V15+V19+V20 -> 5731002 | W14: =W15+W19+W20 -> 831500 | X14: =X15+X19+X20 -> 1781521 | Y14: =Y15+Y19+Y20 -> 3117981 | AB14: □ 공 사 비 | AC14: =AC15+AC19+AC20 -> 5731002 | AD14: =AD15+AD19+AD20 -> 831500 | AE14: =AE15+AE19+AE20 -> 1781521 | AF14: =AF15+AF19+AF20 -> 3117981 | AY14: 200 | AZ14: 100 | BA14: 200
A15: ※. | B15: 총사업비 : | C15: =X6 -> 2021250 | L15: 천원 | O15: {=VLOOKUP(LOOKUP(2,1/((B21/100000>=AZ4:AZ19)*(B21/100000<=BA4:BA19)),BA4:BA19),AY4:BA19,2,2)} -> 10 | P15: 억원부터 | Q15: {=LOOKUP(2,1/((B21/100000>=AZ4:AZ19)*(B21/100000<=BA4:BA19)),BA4:BA19)} -> 20 | R15: 억원까지 | U15: ○ 순공사비 | V15: =SUM(V16:V18) -> 1985606 | W15: =SUM(W16:W18) -> 300910 | X15: =SUM(X16:X18) -> 835224 | Y15: =SUM(Y16:Y18) -> 849472 | AB15: ○ 순공사비 | AC15: =SUM(AC16:AC18) -> 3319050 | AD15: =SUM(AD16:AD18) -> 455840 | AE15: =SUM(AE16:AE18) -> 1185469 | AF15: =SUM(AF16:AF18) -> 1677741 | AY15: 300 | AZ15: 200 | BA15: 300
O16: =A8 -> 실시설계비 | P16: {=_xlfn.IFS(O16=A7,HLOOKUP(O15&"억원",$A$5:$R$12,3,FALSE),O16=A8,HLOOKUP(O15&"억원",$A$5:$R$12,4,FALSE))} -> 4.07 | Q16: ~ | R16: {=_xlfn.IFS(O16=A7,HLOOKUP(Q15&"억원",$A$5:$R$12,3,FALSE),O16=A8,HLOOKUP(Q15&"억원",$A$5:$R$12,4,FALSE))} -> 3.71 | U16: - 수원공시설 | V16: =W16+X16+Y16 -> 1819189 | W16: =421564-154930 -> 266634 | X16: =1120624-350245 -> 770379 | Y16: =1501445-719269 -> 782176 | Z16: 용수시설포함 | AB16: - 수원공시설 | AC16: =AD16+AE16+AF16 -> 3043633 | AD16: 421564 | AE16: 1120624 | AF16: 1501445 | AG16: 용수시설포함 | AY16: 500 | AZ16: 300 | BA16: 500
A17: □ 감계지구 과실전문생산단지 기반조성사업 세부설계비 산출 | U17: - 농도 | V17: =W17+X17+Y17 -> 106181 | W17: 14179 | X17: 44770 | Y17: =156232-109000 -> 47232 | AB17: - 농도 | AC17: =AD17+AE17+AF17 -> 215181 | AD17: 14179 | AE17: 44770 | AF17: 156232 | AY17: 1000 | AZ17: 500 | BA17: 1000
A18: - 순공사비+자재대 : | D18: =X15+X19 -> 1196903 | L18: 천원 | U18: - 부대공사 | V18: =W18+X18+Y18 -> 60236 | W18: 20097 | X18: 20075 | Y18: 20064 | AB18: - 부대공사 | AC18: =AD18+AE18+AF18 -> 60236 | AD18: 20097 | AE18: 20075 | AF18: 20064 | AY18: 2000 | AZ18: 1000 | BA18: 2000
A19: - 요 율 대 상 액 : | D19: =D18/1.1 -> 1088093.6 | L19: 천원 | U19: ○ 지급자재대 | V19: =SUM(W19:Y19) -> 972236 | W19: 208636 | X19: 361679 | Y19: =752301-350380 -> 401921 | AB19: ○ 지급자재대 | AC19: =SUM(AD19:AF19) -> 1322616 | AD19: 208636 | AE19: 361679 | AF19: 752301 | AY19: 3000 | AZ19: 2000 | BA19: 3000
I20: =INT(1.9) -> 1 | U20: ○ 기타공사비 | V20: =SUM(V21:V26) -> 2773160 | W20: =SUM(W21:W26) -> 321954 | X20: =SUM(X21:X26) -> 584618 | Y20: =SUM(Y21:Y26) -> 1866588 | AB20: ○ 기타공사비 | AC20: =SUM(AC21:AC26) -> 1089336 | AD20: =SUM(AD21:AD26) -> 167024 | AE20: =SUM(AE21:AE26) -> 234373 | AF20: =SUM(AF21:AF26) -> 687939
A21: 대상액 | B21: =D19 -> 1088093.6 | D21: 천원 | Q21: 요율 | U21: - 폐기물처리비 | V21: =W21+X21+Y21 -> 264790 | W21: 46481 | X21: 53173 | Y21: 165136 | AB21: - 폐기물처리비 | AC21: =AD21+AE21+AF21 -> 264790 | AD21: 46481 | AE21: 53173 | AF21: 165136
A22: 세부 | B22: =P16 -> 4.07 | D22: ="- ("&P16&" - "&R16&")*(대상액 - "&O15&"억원) / ("&Q15&"억원 - "&O15&"억원) =" -> - (4.07 - 3.71)*(대상액 - 10억원) / (20억원 - 10억원) = | Q22: =IF(O15=0,P16,INT(($P$16-(($P$16-$R$16)*($B$21-$O$15*100000)/($Q$15*100000-$O$15*100000)))*100)/100) -> 4.03 | U22: - 한전납입금 | V22: =W22+X22+Y22 -> 44546 | W22: 543 | X22: 1200 | Y22: 42803 | AB22: - 한전납입금 | AC22: =AD22+AE22+AF22 -> 44546 | AD22: 543 | AE22: 1200 | AF22: 42803
U23: - 잡지출 | V23: =W23+X23+Y23 -> 2463824 | W23: =120000+154930 -> 274930 | X23: =180000+350245 -> 530245 | Y23: =480000+719269+109000+350380 -> 1658649 | AB23: - 관정개발비 | AC23: =AD23+AE23+AF23 -> 780000 | AD23: 120000 | AE23: 180000 | AF23: 480000
B24: 세부설계비 : | D24: ="요율 대상액"&"×"&Q22&"%" -> 요율 대상액×4.03% | N24: =INT(B21*Q22/100) -> 43850 | Q24: 천원 | V24: =SUM(W24:Y24) -> 0 | AC24: =SUM(AD24:AF24) -> 0
V25: =SUM(W25:Y25) -> 0 | AC25: =SUM(AD25:AF25) -> 0
V26: =SUM(W26:Y26) -> 0 | AC26: =SUM(AD26:AF26) -> 0
V27: 0 | AC27: 0
U28: □ 보 상 비 | V28: =V29+V30 -> 80554 | W28: =W29+W30 -> 9283 | X28: =X29+X30 -> 12288 | Y28: =Y29+Y30 -> 58983 | AB28: □ 보 상 비 | AC28: =AC29+AC30 -> 80554 | AD28: =AD29+AD30 -> 9283 | AE28: =AE29+AE30 -> 12288 | AF28: =AF29+AF30 -> 58983
U29: ○ 직접보상비 | V29: =W29+X29+Y29 -> 54534 | W29: 4111 | X29: 5960 | Y29: 44463 | AB29: ○ 직접보상비 | AC29: =AD29+AE29+AF29 -> 54534 | AD29: 4111 | AE29: 5960 | AF29: 44463
U30: ○ 간접보상비 | V30: =W30+X30+Y30 -> 26020 | W30: 5172 | X30: 6328 | Y30: 14520 | AB30: ○ 간접보상비 | AC30: =AD30+AE30+AF30 -> 26020 | AD30: 5172 | AE30: 6328 | AF30: 14520
U31: □ 시설부대경비 | V31: =SUM(V32,V35,V36) -> 674694 | W31: =SUM(W32,W35,W36) -> 99217 | X31: =SUM(X32,X35,X36) -> 227441 | Y31: =SUM(Y32,Y35,Y36) -> 348036 | AB31: □ 시설부대경비 | AC31: =SUM(AC32,AC35,AC36) -> 674694 | AD31: =SUM(AD32,AD35,AD36) -> 99217 | AE31: =SUM(AE32,AE35,AE36) -> 227441 | AF31: =SUM(AF32,AF35,AF36) -> 348036
U32: ○ 측량설계비 | V32: =SUM(W32:Y32) -> 160769 | W32: =W34 -> 24544 | X32: =X34 -> 55065 | Y32: =SUM(Y33:Y34) -> 81160 | AB32: ○ 측량설계비 | AC32: =SUM(AD32:AF32) -> 160769 | AD32: =AD34 -> 24544 | AE32: =AE34 -> 55065 | AF32: =SUM(AF33:AF34) -> 81160
U33: - 기본조사비 | V33: =W33+X33+Y33 -> 0 | W33: 0 | AB33: - 기본조사비 | AC33: =AD33+AE33+AF33 -> 0 | AD33: 0
U34: - 세부설계비 | V34: =W34+X34+Y34 -> 160769 | W34: 24544 | X34: 55065 | Y34: 81160 | AB34: - 세부설계비 | AC34: =AD34+AE34+AF34 -> 160769 | AD34: 24544 | AE34: 55065 | AF34: 81160
U35: ○ 공사감리비 | V35: =W35+X35+Y35 -> 495103 | W35: 70874 | X35: 165072 | Y35: 259157 | AB35: ○ 공사감리비 | AC35: =AD35+AE35+AF35 -> 495103 | AD35: 70874 | AE35: 165072 | AF35: 259157
U36: ○ 사업관리비 | V36: =W36+X36+Y36 -> 18822 | W36: 3799 | X36: 7304 | Y36: 7719 | AB36: ○ 사업관리비 | AC36: =AD36+AE36+AF36 -> 18822 | AD36: 3799 | AE36: 7304 | AF36: 7719

Sheet 3. 공제요율
A1: ▣ 관련법령 : 건설기술 진흥법 시행령 제50조, 건설엔지니어링 손해배상보험 또는 공제 업무요령
A2: 1. 공제료 산정방법 : 순계약금액 × 적용요율 | J2: 순계약금액 | K2: ='1. 용역비 산출내역'!F9*1000 -> 45345000
A3: 2. 적용요율 = 기본요율 + 적용가산요율 | J3: 기본요율 | K3: =B26 -> 0.746
A4: 3. 적용가산요율 = 가산요율 × 표준공사기간초과일수/365 | J4: 가산요율 | K4: =C26 -> 0.118
A5: 4. 요율표상의 금액별 요율은 구간요율입니다. | J5: 초과일수 | K5: 0
J6: 수수료(천원) | K6: =ROUNDDOWN(K2*(K3/100+K4/100*K5/365),-3)/1000-1 -> 337
A7: ▣ 엔지니어링공제조합 실시설계 공제요율 (2019.12.30. 이후부터 적용)
A8: 공사종류 | B8: 용역금액(순계약금액) | L8: 표준공사 기간(년)
B9: 5억원이하 | D9: 5억원초과~10억이하 | F9: 10억초과~20억이하 | H9: 20억초과~30억이하 | J9: 30억초과~50억이하
B10: 기본요율 | C10: 가산요율 | D10: 기본요율 | E10: 가산요율 | F10: 기본요율 | G10: 가산요율 | H10: 기본요율 | I10: 가산요율 | J10: 기본요율 | K10: 가산요율
A11: 교량공사 | B11: 0.684 | C11: 0.109 | D11: 0.663 | E11: 0.106 | F11: 0.642 | G11: 0.102 | H11: 0.622 | I11: 0.1 | J11: 0.601 | K11: 0.096 | L11: 3
A12: 공항건설공사 | B12: 0.774 | C12: 0.123 | D12: 0.752 | E12: 0.12 | F12: 0.728 | G12: 0.117 | H12: 0.704 | I12: 0.112 | J12: 0.681 | K12: 0.109 | L12: 5
A13: 댐축조공사 | B13: 0.855 | C13: 0.136 | D13: 0.829 | E13: 0.132 | F13: 0.803 | G13: 0.128 | H13: 0.778 | I13: 0.124 | J13: 0.752 | K13: 0.12 | L13: 5
A14: 도로공사 | B14: 0.615 | C14: 0.098 | D14: 0.596 | E14: 0.096 | F14: 0.578 | G14: 0.092 | H14: 0.56 | I14: 0.089 | J14: 0.541 | K14: 0.087 | L14: 3
A15: 에너지저장시설공사 | B15: 0.615 | C15: 0.098 | D15: 0.596 | E15: 0.096 | F15: 0.578 | G15: 0.092 | H15: 0.56 | I15: 0.089 | J15: 0.541 | K15: 0.087 | L15: 3
A16: 간척공사 | B16: 0.697 | C16: 0.111 | D16: 0.676 | E16: 0.108 | F16: 0.654 | G16: 0.105 | H16: 0.634 | I16: 0.101 | J16: 0.614 | K16: 0.097 | L16: 5
A17: 항만공사 | B17: 0.697 | C17: 0.111 | D17: 0.676 | E17: 0.108 | F17: 0.654 | G17: 0.105 | H17: 0.634 | I17: 0.101 | J17: 0.614 | K17: 0.097 | L17: 5
A18: 철도공사 | B18: 0.547 | C18: 0.087 | D18: 0.53 | E18: 0.085 | F18: 0.514 | G18: 0.083 | H18: 0.498 | I18: 0.079 | J18: 0.481 | K18: 0.077 | L18: 3
A19: 지하철공사 | B19: 0.855 | C19: 0.136 | D19: 0.829 | E19: 0.132 | F19: 0.803 | G19: 0.128 | H19: 0.778 | I19: 0.124 | J19: 0.752 | K19: 0.12 | L19: 4
A20: 터널공사 | B20: 0.855 | C20: 0.136 | D20: 0.829 | E20: 0.132 | F20: 0.803 | G20: 0.128 | H20: 0.778 | I20: 0.124 | J20: 0.752 | K20: 0.12 | L20: 4
A21: 발전소건설공사 | B21: 0.729 | C21: 0.117 | D21: 0.708 | E21: 0.112 | F21: 0.685 | G21: 0.109 | H21: 0.663 | I21: 0.106 | J21: 0.641 | K21: 0.102 | L21: 3
A22: 쓰레기소각로건설공사 | B22: 0.948 | C22: 0.15 | D22: 0.919 | E22: 0.146 | F22: 0.891 | G22: 0.142 | H22: 0.862 | I22: 0.138 | J22: 0.833 | K22: 0.133 | L22: 2
... A32: 공동주택건설공사 | B32: 0.529 | C32: 0.085 | D32: 0.513 | E32: 0.082 | F32: 0.497 | G32: 0.079 | H32: 0.481 | I32: 0.077 | J32: 0.466 | K32: 0.074 | L32: 3
P34: ㄱ

Sheet 4. 용역일수 산출내역
A3: ▣ 용역일수 산출내역
A5: 지구명 | B5: 총사업비 (백만원) | C5: 주요공종 | D5: 용 역 일 수 | I5: 비고
D6: 총 | E6: 외업일수(A) | G6: 내업일수(B)
D7: (A)+(B) | E7: 기본(a) | F7: 추가(b) | G7: 기본(c) | H7: 추가(d)
A8: 신계 | B8: ='2. 설계비 산출근거'!X13 -> 2021250 | C8: 관정 및 송수관로 | D8: =E8+F8+G9+H8 -> 94 | E8: 30 | F8: =ROUND(E8*0.1,0) -> 3 | G8: ="30일+("&(E8+F8)&"×0.75)" -> 30일+(33×0.75) | H8: =ROUND(G9*0.1,0) -> 6 | I8: 관계기관 (의성군 등) 협의
G9: =ROUND(30+(E8+F8)*0.75,0) -> 55
A10: 비고 | F10: (a)×10% | H10: (c)×10%
A11: ※ 용역일수 산출기준 [조사설계 용역관리지침(개정2025.01.04.) 별표4]

Sheet 추가업무 →

Sheet 측량비 산출내역
A1: 감계지구 과실전문생산단지기반조성사업 세부설계 측량비 산출내역
A2: 구 분 | B2: 단위 | C2: 수량 | D2: 단가(원) | E2: 금 액 | F2: 비 고
A4: 1. 직접인건비 | E4: =SUM(E5:E9) -> 404165.1
A5: □ 고급기술자 | B5: 인 | C5: ='조사업무량(측량)'!M167 -> 0.05 | D5: ='측량기술자임금(2026)'!D12 -> 289265 | E5: =INT(C5*D5) -> 14463 | F5: 26년 측량기술자 임금
A6: □ 중급기술자 | B6: 인 | C6: ='조사업무량(측량)'!N167 -> 0.23 | D6: ='측량기술자임금(2026)'!D13 -> 251596 | E6: =INT(C6*D6) -> 57867 | F6: "
A7: □ 초급기술자 | B7: 인 | C7: ='조사업무량(측량)'!O167 -> 0.23 | D7: ='측량기술자임금(2026)'!D14 -> 215609 | E7: =INT(C7*D7) -> 49590 | F7: "
A8: □ 초급기능사 | B8: 인 | C8: ='조사업무량(측량)'!P167 -> 0.22 | D8: ='측량기술자임금(2026)'!D17 -> 200786 | E8: =INT(C8*D8) -> 44172 | F8: "
A9: □ 측 부 | B9: 인 | C9: ='조사업무량(측량)'!R167 -> 1.7 | D9: ='측량기술자임금(2026)'!D30 -> 140043 | E9: =C9*D9 -> 238073.1 | F9: "
A10: 2. 직접경비 | E10: =E11+E13+E14+E20 -> 477074
A11: □ 노 임 | E11: =E12 -> 146257
A12: -인 부 | B12: 인 | C12: ='조사업무량(측량)'!Q167 -> 0.85 | D12: ='조사측량용단가(2026상)'!H6 -> 172068 | E12: =INT(C12*D12) -> 146257 | F12: 26년 조사측량용단가 적용
A13: □ 여 비 | B13: 일 | C13: =ROUNDUP(SUM(C5:C9),0) -> 3 | D13: 95000 | E13: =C13*D13 -> 285000 | F13: (공무원여비규정, 별표2)
A14: □ 재료비 | E14: =SUM(E15:E19) -> 0
A15: -석항 | B15: 개 | C15: =ROUNDUP('조사업무량(측량)'!S167,0) -> 0 | D15: ='조사측량용단가(2026상)'!H11 -> 91200 | E15: =INT(C15*D15) -> 0 | F15: 26년 조사측량용단가 적용
A16: -항목(A항) | B16: 개 | C16: =ROUNDUP('조사업무량(측량)'!T167,0) -> 0 | D16: ='조사측량용단가(2026상)'!H12 -> 15460 | E16: =INT(C16*D16) -> 0 | F16: "
A17: -항목(B항) | B17: 개 | C17: =ROUNDUP('조사업무량(측량)'!U167,0) -> 0 | D17: ='조사측량용단가(2026상)'!H13 -> 810 | E17: =INT(C17*D17) -> 0 | F17: "
A18: -항목(C항) | B18: 개 | C18: =ROUNDUP('조사업무량(측량)'!V167,0) -> 0 | D18: ='조사측량용단가(2026상)'!H14 -> 240 | E18: =INT(C18*D18) -> 0 | F18: "
A19: -측량선[22.4kw,측량용] | B19: 일 | D19: ='조사측량용단가(2026상)'!H16 -> 530300 | E19: =INT(C19*D19) -> 0 | F19: "
A20: □ 임차료 | B20: 일 | C20: =ROUNDUP(C13/4,0) -> 1 | D20: =1007990/20/1.1 -> 45817.727 | E20: =INT(C20*D20) -> 45817 | F20: 공사계약단가적용(중형 전기차)
A21: 3. 제경비 | E21: =E22 -> 444581
A22: - 직접인건비 × 110% | B22: 식 | C22: 1.1 | D22: =E4 -> 404165.1 | E22: =INT(C22*D22) -> 444581
A23: 4. 기술료 | E23: =E24 -> 169749
A24: - (직접인건비+제경비)×20% | B24: 식 | C24: 0.2 | D24: =E4+E21 -> 848746.1 | E24: =INT(C24*D24) -> 169749
A25: 합계(1항~4항) | E25: =ROUNDDOWN(((E4+E10+E21+E23)),-3) -> 1495000
A26: 손해배상보험료 | E26: =INT((E25)*0.00652/1000)*1000 -> 9000 | F26: 엔지니어링 손해배상공제 요율
A27: 부 가 세(VAT) | E27: =ROUNDDOWN(((E25)*0.1),-3) -> 149000
A28: 합 계 | E28: =ROUNDDOWN(E25+E26+E27,-3) -> 1653000 | F28: 측량대가의 기준
A29: * 품의할증 : 표준품셈 1-16 품의할증 준용
A30: * 직접경비 : 운반비, 기기상각비 및 정비비 등은 실정에 따라 별도로 계상한다.

Sheet 조사업무량(측량)
A2: 측량용역 조사업무량 산정내역
X3: 수혜면적 : | Z3: ha
A4: 구분 | B4: 단위 | C4: 업무량 | D4: 1 일 작 업 기 준 | L4: 소 요 량 | W4: 차 량 | X4: 비 고 (할증은 별도 계상)
D5: 작업량 | E5: 기술자 | F5: 인부 | G5: 측부 | H5: 항목 | L5: 기술자 | Q5: 인부 | R5: 측부 | S5: 항목
H6: 석 | I6: A | J6: B | K6: C | L6: 특급 | M6: 고급 | N6: 중급 | O6: 초급 | P6: 초급 기능사 | S6: 석 | T6: A | U6: B | V6: C | AB6: 구분 | AC6: 감계 | AD6: 신계 | AE6: 실업 | AF6: 계 | AG6: km단위
A7: ■ 수준측량 | AB7: 급수관로 | AC7: 3494 | AD7: 5119 | AE7: 12845 | AF7: =SUM(AC7:AE7) -> 21458 | AG7: =AF7/1000 -> 21.458
A8: ㅇ 수준측량 | B8: km | Y8: 기본,세부 | Z8: p.17 | AB8: 조정 | AC8: 1/3 | AD8: 1/3 | AE8: 1/3
A9: - 답사선점 | B9: km | C9: 0 | D9: 2 | E9: ='기술자분류(측량)'!I4 -> 0.1 | F9: ='기술자분류(측량)'!J4 -> 0 | G9: ='기술자분류(측량)'!K4 -> 0 | M9: =ROUNDDOWN('기술자분류(측량)'!N4/$D$9*$C$9,2) -> 0 | N9: =ROUNDDOWN('기술자분류(측량)'!O4/$D$9*$C$9,2) -> 0 | O9: =ROUNDDOWN('기술자분류(측량)'!P4/$D$9*$C$9,2) -> 0 | P9: =ROUNDDOWN('기술자분류(측량)'!Q4/$D$9*$C$9,2) -> 0 | Q9: =ROUNDDOWN('기술자분류(측량)'!R4/$D$9*$C$9,2) -> 0 | R9: =ROUNDDOWN('기술자분류(측량)'!S4/$D$9*$C$9,2) -> 0 | AB9: 조정길이 | AC9: =ROUNDDOWN((AC7/3),-1) -> 1160 | AD9: =ROUNDDOWN((AD7/3),-1) -> 1700 | AE9: =ROUNDDOWN((AE7/3),-1) -> 4280
A10: - 관측 | B10: km | C10: =AD10 -> 1.7 | D10: 2 | E10: ='기술자분류(측량)'!I5 -> 0.9 | F10: ='기술자분류(측량)'!J5 -> 1 | G10: ='기술자분류(측량)'!K5 -> 2 | M10: =ROUNDDOWN('기술자분류(측량)'!N5/$D$10*$C$10,2) -> 0.05 | N10: =ROUNDDOWN('기술자분류(측량)'!O5/$D$10*$C$10,2) -> 0.23 | O10: =ROUNDDOWN('기술자분류(측량)'!P5/$D$10*$C$10,2) -> 0.23 | P10: =ROUNDDOWN('기술자분류(측량)'!Q5/$D$10*$C$10,2) -> 0.22 | Q10: =ROUNDDOWN('기술자분류(측량)'!R5/$D$10*$C$10,2) -> 0.85 | R10: =ROUNDDOWN('기술자분류(측량)'!S5/$D$10*$C$10,2) -> 1.7 | AB10: km단위 | AC10: =AC9/1000 -> 1.16 | AD10: =AD9/1000 -> 1.7 | AE10: =AE9/1000 -> 4.28
A11: ■ 기준점측량
A12: ㅇ 1급 기준점측량 | B12: 점 | D12: 1 | Y12: 기본,세부 | Z12: p.18
A13: - 답사선점 | B13: 점 | D13: 1 | E13: ='기술자분류(측량)'!I7 -> 0.5 | F13: ='기술자분류(측량)'!J7 -> 0 | G13: ='기술자분류(측량)'!K7 -> 0.5 | M13: =ROUNDDOWN('기술자분류(측량)'!N7/$D$13*$C$13,2) -> 0 | N13: =ROUNDDOWN('기술자분류(측량)'!O7/$D$13*$C$13,2) -> 0 | O13: =ROUNDDOWN('기술자분류(측량)'!P7/$D$13*$C$13,2) -> 0 | P13: =ROUNDDOWN('기술자분류(측량)'!Q7/$D$13*$C$13,2) -> 0 | Q13: =ROUNDDOWN('기술자분류(측량)'!R7/$D$13*$C$13,2) -> 0 | R13: =ROUNDDOWN('기술자분류(측량)'!S7/$D$13*$C$13,2) -> 0
A14: - 조표 | B14: 점 | D14: 1 | E14: ='기술자분류(측량)'!I8 -> 0.3 | F14: ='기술자분류(측량)'!J8 -> 0.7 | G14: ='기술자분류(측량)'!K8 -> 0.5 | M14: =ROUNDDOWN('기술자분류(측량)'!N8/$D$14*$C$14,2) -> 0 | N14: =ROUNDDOWN('기술자분류(측량)'!O8/$D$14*$C$14,2) -> 0 | O14: =ROUNDDOWN('기술자분류(측량)'!P8/$D$14*$C$14,2) -> 0 | P14: =ROUNDDOWN('기술자분류(측량)'!Q8/$D$14*$C$14,2) -> 0 | Q14: =ROUNDDOWN('기술자분류(측량)'!R8/$D$14*$C$14,2) -> 0 | R14: =ROUNDDOWN('기술자분류(측량)'!S8/$D$14*$C$14,2) -> 0 | Z14: GPS(62.5%)
A15: - 관측 | B15: 점 | D15: 1 | E15: ='기술자분류(측량)'!I9 -> 1.4 | F15: ='기술자분류(측량)'!J9 -> 0 | G15: ='기술자분류(측량)'!K9 -> 2 | M15: =ROUNDDOWN('기술자분류(측량)'!N9/$D$15*$C$15,2) -> 0 | N15: =ROUNDDOWN('기술자분류(측량)'!O9/$D$15*$C$15,2) -> 0 | O15: =ROUNDDOWN('기술자분류(측량)'!P9/$D$15*$C$15,2) -> 0 | P15: =ROUNDDOWN('기술자분류(측량)'!Q9/$D$15*$C$15,2) -> 0 | Q15: =ROUNDDOWN('기술자분류(측량)'!R9/$D$15*$C$15,2) -> 0 | R15: =ROUNDDOWN('기술자분류(측량)'!S9/$D$15*$C$15,2) -> 0 | Z15: GPS(62.5%)
A16: ㅇ 2급 기준점측량 | B16: 점 | D16: 1 | Y16: 기본,세부 | Z16: p.18
A17: - 답사선점 | B17: 점 | D17: 1 | E17: ='기술자분류(측량)'!I11 -> 0.4 | F17: ='기술자분류(측량)'!J11 -> 0 | G17: ='기술자분류(측량)'!K11 -> 0.4 | M17: =ROUNDDOWN('기술자분류(측량)'!N11/$D$17*$C$17,2) -> 0 | N17: =ROUNDDOWN('기술자분류(측량)'!O11/$D$17*$C$17,2) -> 0 | O17: =ROUNDDOWN('기술자분류(측량)'!P11/$D$17*$C$17,2) -> 0 | P17: =ROUNDDOWN('기술자분류(측량)'!Q11/$D$17*$C$17,2) -> 0 | Q17: =ROUNDDOWN('기술자분류(측량)'!R11/$D$17*$C$17,2) -> 0 | R17: =ROUNDDOWN('기술자분류(측량)'!S11/$D$17*$C$17,2) -> 0
A18: - 조표 | B18: 점 | D18: 1 | E18: ='기술자분류(측량)'!I12 -> 0.2 | F18: ='기술자분류(측량)'!J12 -> 0.5 | G18: ='기술자분류(측량)'!K12 -> 0.4 | M18: =ROUNDDOWN('기술자분류(측량)'!N12/$D$18*$C$18,2) -> 0 | N18: =ROUNDDOWN('기술자분류(측량)'!O12/$D$18*$C$18,2) -> 0 | O18: =ROUNDDOWN('기술자분류(측량)'!P12/$D$18*$C$18,2) -> 0 | P18: =ROUNDDOWN('기술자분류(측량)'!Q12/$D$18*$C$18,2) -> 0 | Q18: =ROUNDDOWN('기술자분류(측량)'!R12/$D$18*$C$18,2) -> 0 | R18: =ROUNDDOWN('기술자분류(측량)'!S12/$D$18*$C$18,2) -> 0 | Z18: GPS(62.5%)
A19: - 관측 | B19: 점 | D19: 1 | E19: ='기술자분류(측량)'!I13 -> 1.2 | F19: ='기술자분류(측량)'!J13 -> 0 | G19: ='기술자분류(측량)'!K13 -> 1.7 | M19: =ROUNDDOWN('기술자분류(측량)'!N13/$D$19*$C$19,2) -> 0 | N19: =ROUNDDOWN('기술자분류(측량)'!O13/$D$19*$C$19,2) -> 0 | O19: =ROUNDDOWN('기술자분류(측량)'!P13/$D$19*$C$19,2) -> 0 | P19: =ROUNDDOWN('기술자분류(측량)'!Q13/$D$19*$C$19,2) -> 0 | Q19: =ROUNDDOWN('기술자분류(측량)'!R13/$D$19*$C$19,2) -> 0 | R19: =ROUNDDOWN('기술자분류(측량)'!S13/$D$19*$C$19,2) -> 0 | Z19: GPS(62.5%)
A20: ㅇ 3급 기준점측량 | B20: 점 | D20: 1 | Y20: 기본,세부 | Z20: p.18
A21: - 답사선점 | B21: 점 | D21: 1 | E21: ='기술자분류(측량)'!I15 -> 0.1 | F21: ='기술자분류(측량)'!J15 -> 0 | G21: ='기술자분류(측량)'!K15 -> 0.1 | M21: =ROUNDDOWN('기술자분류(측량)'!N15/$D$21*$C$21,2) -> 0 | N21: =ROUNDDOWN('기술자분류(측량)'!O15/$D$21*$C$21,2) -> 0 | O21: =ROUNDDOWN('기술자분류(측량)'!P15/$D$21*$C$21,2) -> 0 | P21: =ROUNDDOWN('기술자분류(측량)'!Q15/$D$21*$C$21,2) -> 0 | Q21: =ROUNDDOWN('기술자분류(측량)'!R15/$D$21*$C$21,2) -> 0 | R21: =ROUNDDOWN('기술자분류(측량)'!S15/$D$21*$C$21,2) -> 0
A22: - 조표 | B22: 점 | D22: 1 | E22: ='기술자분류(측량)'!I16 -> 0.1 | F22: ='기술자분류(측량)'!J16 -> 0.1 | G22: ='기술자분류(측량)'!K16 -> 0.1 | M22: =ROUNDDOWN('기술자분류(측량)'!N16/$D$22*$C$22,2) -> 0 | N22: =ROUNDDOWN('기술자분류(측량)'!O16/$D$22*$C$22,2) -> 0 | O22: =ROUNDDOWN('기술자분류(측량)'!P16/$D$22*$C$22,2) -> 0 | P22: =ROUNDDOWN('기술자분류(측량)'!Q16/$D$22*$C$22,2) -> 0 | Q22: =ROUNDDOWN('기술자분류(측량)'!R16/$D$22*$C$22,2) -> 0 | R22: =ROUNDDOWN('기술자분류(측량)'!S16/$D$22*$C$22,2) -> 0 | Z22: GPS(62.5%)
A23: - 관측 | B23: 점 | D23: 1 | E23: ='기술자분류(측량)'!I17 -> 0.7 | F23: ='기술자분류(측량)'!J17 -> 0 | G23: ='기술자분류(측량)'!K17 -> 1.1 | M23: =ROUNDDOWN('기술자분류(측량)'!N17/$D$23*$C$23,2) -> 0 | N23: =ROUNDDOWN('기술자분류(측량)'!O17/$D$23*$C$23,2) -> 0 | O23: =ROUNDDOWN('기술자분류(측량)'!P17/$D$23*$C$23,2) -> 0 | P23: =ROUNDDOWN('기술자분류(측량)'!Q17/$D$23*$C$23,2) -> 0 | Q23: =ROUNDDOWN('기술자분류(측량)'!R17/$D$23*$C$23,2) -> 0 | R23: =ROUNDDOWN('기술자분류(측량)'!S17/$D$23*$C$23,2) -> 0 | Z23: GPS(62.5%)
A24: ㅇ 4급 기준점측량 | B24: 점 | D24: 1 | E24: ='기술자분류(측량)'!I19 -> 0.2 | F24: ='기술자분류(측량)'!J19 -> 0.1 | G24: ='기술자분류(측량)'!K19 -> 0.2 | M24: =ROUNDDOWN('기술자분류(측량)'!N19/$D$24*$C$24,2) -> 0 | N24: =ROUNDDOWN('기술자분류(측량)'!O19/$D$24*$C$24,2) -> 0 | O24: =ROUNDDOWN('기술자분류(측량)'!P19/$D$24*$C$24,2) -> 0 | P24: =ROUNDDOWN('기술자분류(측량)'!Q19/$D$24*$C$24,2) -> 0 | Q24: =ROUNDDOWN('기술자분류(측량)'!R19/$D$24*$C$24,2) -> 0 | R24: =ROUNDDOWN('기술자분류(측량)'!S19/$D$24*$C$24,2) -> 0 | Y24: 기본,세부 | Z24: p.18
A25: ■ 지형측량
A26: ㅇ 지형현황측량(S=1/500∼600) | B26: ha | D26: 2 | E26: ='기술자분류(측량)'!I23 -> 3 | F26: ='기술자분류(측량)'!J23 -> 1 | G26: ='기술자분류(측량)'!K23 -> 2 | K26: 5 | M26: =ROUNDDOWN('기술자분류(측량)'!N23/$D$26*$C$26,2) -> 0 | N26: =ROUNDDOWN('기술자분류(측량)'!O23/$D$26*$C$26,2) -> 0 | O26: =ROUNDDOWN('기술자분류(측량)'!P23/$D$26*$C$26,2) -> 0 | P26: =ROUNDDOWN('기술자분류(측량)'!Q23/$D$26*$C$26,2) -> 0 | Q26: =ROUNDDOWN('기술자분류(측량)'!R23/$D$26*$C$26,2) -> 0 | R26: =ROUNDDOWN('기술자분류(측량)'!S23/$D$26*$C$26,2) -> 0 | V26: =K26/D26*C26 -> 0 | Y26: 세부 | Z26: p.20
A27: ㅇ 지형현황측량(S=1/1,200) | B27: ha | D27: 8 | E27: ='기술자분류(측량)'!I26 -> 3 | F27: ='기술자분류(측량)'!J26 -> 1 | G27: ='기술자분류(측량)'!K26 -> 2 | K27: 20 | M27: =ROUNDDOWN('기술자분류(측량)'!N26/$D$27*$C$27,2) -> 0 | N27: =ROUNDDOWN('기술자분류(측량)'!O26/$D$27*$C$27,2) -> 0 | O27: =ROUNDDOWN('기술자분류(측량)'!P26/$D$27*$C$27,2) -> 0 | P27: =ROUNDDOWN('기술자분류(측량)'!Q26/$D$27*$C$27,2) -> 0 | Q27: =ROUNDDOWN('기술자분류(측량)'!R26/$D$27*$C$27,2) -> 0 | R27: =ROUNDDOWN('기술자분류(측량)'!S26/$D$27*$C$27,2) -> 0 | V27: =K27/D27*C27 -> 0 | X27: 유수지 내용적, 개간, 개답, 경지정리(전) | Y27: 기본,세부 | Z27: p.21
A28: ㅇ 지형현황측량(S=1/1,200) | B28: ha | C28: 0 | D28: 10 | E28: ='기술자분류(측량)'!I26 -> 3 | F28: ='기술자분류(측량)'!J26 -> 1 | G28: ='기술자분류(측량)'!K26 -> 2 | K28: 20 | M28: =ROUNDDOWN('기술자분류(측량)'!N26/$D$28*$C$28,2) -> 0 | N28: =ROUNDDOWN('기술자분류(측량)'!O26/$D28*$C28,2) -> 0 | O28: =ROUNDDOWN('기술자분류(측량)'!P26/$D28*$C28,2) -> 0 | P28: =ROUNDDOWN('기술자분류(측량)'!Q26/$D28*$C28,2) -> 0 | Q28: =ROUNDDOWN('기술자분류(측량)'!R26/$D28*$C28,2) -> 0 | R28: =ROUNDDOWN('기술자분류(측량)'!S26/$D$28*$C$28,2) -> 0 | V28: =K28/D28*C28 -> 0 | X28: 경지정리(답), 간석지(내부개답) | Y28: 기본,세부 | Z28: p.21
A29: ㅇ 구역내 고저측량(답) | B29: ha | D29: 30 | E29: ='기술자분류(측량)'!I30 -> 2 | F29: ='기술자분류(측량)'!J30 -> 0 | G29: ='기술자분류(측량)'!K30 -> 2 | N29: =ROUNDDOWN('기술자분류(측량)'!O30/$D$29*$C$29,2) -> 0 | O29: =ROUNDDOWN('기술자분류(측량)'!P30/$D$29*$C$29,2) -> 0 | P29: =ROUNDDOWN('기술자분류(측량)'!Q30/$D$29*$C$29,2) -> 0 | Q29: =ROUNDDOWN('기술자분류(측량)'!R30/$D$29*$C$29,2) -> 0 | R29: =ROUNDDOWN('기술자분류(측량)'!S30/$D$29*$C$29,2) -> 0 | Y29: 기본,세부 | Z29: p.22
A30: ㅇ 구역내 고저측량(전,임야) | B30: ha | D30: 20 | E30: ='기술자분류(측량)'!I31 -> 3 | F30: ='기술자분류(측량)'!J31 -> 1 | G30: ='기술자분류(측량)'!K31 -> 2 | N30: =ROUNDDOWN('기술자분류(측량)'!O31/$D$30*$C$30,2) -> 0 | O30: =ROUNDDOWN('기술자분류(측량)'!P31/$D$30*$C$30,2) -> 0 | P30: =ROUNDDOWN('기술자분류(측량)'!Q31/$D$30*$C$30,2) -> 0 | Q30: =ROUNDDOWN('기술자분류(측량)'!R31/$D$30*$C$30,2) -> 0 | R30: =ROUNDDOWN('기술자분류(측량)'!S31/$D$30*$C$30,2) -> 0 | Y30: 세부 | Z30: p.22
A31: ㅇ 구역내 고저측량(기경지정리 답) | B31: ha | D31: 50 | E31: ='기술자분류(측량)'!I32 -> 2 | F31: ='기술자분류(측량)'!J32 -> 0 | G31: ='기술자분류(측량)'!K32 -> 2 | N31: =ROUNDDOWN('기술자분류(측량)'!O32/$D$31*$C$31,2) -> 0 | O31: =ROUNDDOWN('기술자분류(측량)'!P29/$D31*$C31,2) -> 0 | P31: =ROUNDDOWN('기술자분류(측량)'!Q29/$D31*$C31,2) -> 0 | Q31: =ROUNDDOWN('기술자분류(측량)'!R29/$D31*$C31,2) -> 0 | R31: =ROUNDDOWN('기술자분류(측량)'!S32/$D$31*$C$31,2) -> 0 | Y31: 기본,세부 | Z31: p.22
A32: ㅇ 지형현황측량(토탈, 지오디메터 등) | B32: ha | D32: 1 | E32: ='기술자분류(측량)'!I35*0.9 -> 1.62 | F32: ='기술자분류(측량)'!J35*0.9 -> 0.9 | G32: ='기술자분류(측량)'!K35*0.9 -> 1.8 | N32: =ROUNDDOWN('기술자분류(측량)'!O35/$D$32*$C$32,2)*0.9*1.2 -> 0 | O32: =ROUNDDOWN('기술자분류(측량)'!P35/$D$32*$C$32,2)*0.9*1.2 -> 0 | P32: =ROUNDDOWN('기술자분류(측량)'!Q35/$D$32*$C$32,2)*0.9*1.2 -> 0 | Q32: =ROUNDDOWN('기술자분류(측량)'!R35/$D$32*$C$32,2)*0.9*1.2 -> 0 | R32: =ROUNDDOWN('기술자분류(측량)'!S35/$D$32*$C$32,2)*0.9*1.2 -> 0 | X32: 평지 | Y32: 기본,세부 | Z32: p.23, GPS(90%)
A33: ㅇ 지형현황측량(토탈, 지오디메터 등) | B33: ha | D33: 1 | E33: ='기술자분류(측량)'!I36 -> 2.1 | F33: ='기술자분류(측량)'!J36 -> 1.2 | G33: ='기술자분류(측량)'!K36 -> 2.4 | N33: =ROUNDDOWN('기술자분류(측량)'!O36/$D$33*$C$33,2)*0.9*1.2 -> 0 | O33: =ROUNDDOWN('기술자분류(측량)'!P36/$D$33*$C$33,2)*0.9*1.2 -> 0 | P33: =ROUNDDOWN('기술자분류(측량)'!Q36/$D$33*$C$33,2)*0.9*1.2 -> 0 | Q33: =ROUNDDOWN('기술자분류(측량)'!R36/$D$33*$C$33,2)*0.9*1.2 -> 0 | R33: =ROUNDDOWN('기술자분류(측량)'!S36/$D$33*$C$33,2)*0.9*1.2 -> 0 | X33: 구릉지 및 산지 | Y33: 세부 | Z33: p.23, GPS(90%)
A34: ㅇ 지형현황측량(토탈, 지오디메터 등) | B34: ha | D34: 1 | E34: ='기술자분류(측량)'!I37 -> 3.6 | F34: ='기술자분류(측량)'!J37 -> 1 | G34: ='기술자분류(측량)'!K37 -> 4 | N34: =ROUNDDOWN('기술자분류(측량)'!O37/$D$34*$C$34,2) -> 0 | O34: =ROUNDDOWN('기술자분류(측량)'!P37/$D$34*$C$34,2) -> 0 | P34: =ROUNDDOWN('기술자분류(측량)'!Q37/$D$34*$C$34,2) -> 0 | Q34: =ROUNDDOWN('기술자분류(측량)'!R37/$D$34*$C$34,2) -> 0 | R34: =ROUNDDOWN('기술자분류(측량)'!S37/$D$34*$C$34,2) -> 0 | X34: 시가지 | Y34: 세부 | Z34: p.23, GPS(90%)
A35: ㅇ 저수지 내용적 측량 | B35: ha | D35: 1 | E35: ='기술자분류(측량)'!I40 -> 1.1 | F35: ='기술자분류(측량)'!J40 -> 0.6 | G35: ='기술자분류(측량)'!K40 -> 0.6 | K35: 1 | N35: =ROUNDDOWN('기술자분류(측량)'!O40/$D$35*$C$35,2) -> 0 | O35: =ROUNDDOWN('기술자분류(측량)'!P40/$D$35*$C$35,2) -> 0 | P35: =ROUNDDOWN('기술자분류(측량)'!Q40/$D$35*$C$35,2) -> 0 | Q35: =ROUNDDOWN('기술자분류(측량)'!R40/$D$35*$C$35,2) -> 0 | R35: =ROUNDDOWN('기술자분류(측량)'!S40/$D$35*$C$35,2) -> 0 | V35: =K35/D35*C35 -> 0 | Y35: 기본,세부 | Z35: p.24, GPS(90%)
A36: ■ 노선측량
A37: ㅇ 용‧배수로 등(농경지,구릉지)노선측량 | B37: km | Y37: 기본 | Z37: p.25
A38: - 노선선정 | B38: km | D38: 3 | E38: ='기술자분류(측량)'!I42 -> 1 | F38: ='기술자분류(측량)'!J42 -> 0 | G38: ='기술자분류(측량)'!K42 -> 0 | M38: =ROUNDDOWN('기술자분류(측량)'!N42/$D$38*$C$38,2) -> 0 | N38: =ROUNDDOWN('기술자분류(측량)'!O42/$D$38*$C$38,2) -> 0 | O38: =ROUNDDOWN('기술자분류(측량)'!P42/$D$38*$C$38,2) -> 0 | P38: =ROUNDDOWN('기술자분류(측량)'!Q42/$D$38*$C$38,2) -> 0 | Q38: =ROUNDDOWN('기술자분류(측량)'!R42/$D$38*$C$38,2) -> 0 | R38: =ROUNDDOWN('기술자분류(측량)'!S42/$D$38*$C$38,2) -> 0
A39: - 노선선점 | B39: km | D39: 3 | E39: ='기술자분류(측량)'!I43 -> 1 | F39: ='기술자분류(측량)'!J43 -> 1 | G39: ='기술자분류(측량)'!K43 -> 1 | J39: 30 | M39: =ROUNDDOWN('기술자분류(측량)'!N43/$D$39*$C$39,2) -> 0 | N39: =ROUNDDOWN('기술자분류(측량)'!O43/$D$39*$C$39,2) -> 0 | O39: =ROUNDDOWN('기술자분류(측량)'!P43/$D$39*$C$39,2) -> 0 | P39: =ROUNDDOWN('기술자분류(측량)'!Q43/$D$39*$C$39,2) -> 0 | Q39: =ROUNDDOWN('기술자분류(측량)'!R43/$D$39*$C$39,2) -> 0 | R39: =ROUNDDOWN('기술자분류(측량)'!S43/$D$39*$C$39,2) -> 0 | U39: =J39/D39*C39 -> 0
A40: ㅇ 용‧배수로 등(농경지,구릉지)노선측량 | B40: km | D40: 3 | Y40: 세부 | Z40: p.25
A41: - 노선선정 | B41: km | D41: 3 | E41: ='기술자분류(측량)'!I42 -> 1 | F41: ='기술자분류(측량)'!J42 -> 0 | G41: ='기술자분류(측량)'!K42 -> 0 | M41: =ROUNDDOWN('기술자분류(측량)'!N42/$D$41*$C$41,2) -> 0 | N41: =ROUNDDOWN('기술자분류(측량)'!O42/$D$41*$C$41,2) -> 0 | O41: =ROUNDDOWN('기술자분류(측량)'!P42/$D$41*$C$41,2) -> 0 | P41: =ROUNDDOWN('기술자분류(측량)'!Q42/$D$41*$C$41,2) -> 0 | Q41: =ROUNDDOWN('기술자분류(측량)'!R42/$D$41*$C$41,2) -> 0 | R41: =ROUNDDOWN('기술자분류(측량)'!S42/$D$41*$C$41,2) -> 0
A42: - 노선선점 | B42: km | D42: 3 | E42: ='기술자분류(측량)'!I43 -> 1 | F42: ='기술자분류(측량)'!J43 -> 1 | G42: ='기술자분류(측량)'!K43 -> 1 | J42: 30 | M42: =ROUNDDOWN('기술자분류(측량)'!N43/$D$42*$C$42,2) -> 0 | N42: =ROUNDDOWN('기술자분류(측량)'!O43/$D$42*$C$42,2) -> 0 | O42: =ROUNDDOWN('기술자분류(측량)'!P43/$D$42*$C$42,2) -> 0 | P42: =ROUNDDOWN('기술자분류(측량)'!Q43/$D$42*$C$42,2) -> 0 | Q42: =ROUNDDOWN('기술자분류(측량)'!R43/$D$42*$C$42,2) -> 0 | R42: =ROUNDDOWN('기술자분류(측량)'!S43/$D$42*$C$42,2) -> 0 | U42: =J42/D42*C42 -> 0
A43: - 중심선 측량 | B43: km | D43: 3 | E43: ='기술자분류(측량)'!I44 -> 3 | F43: ='기술자분류(측량)'!J44 -> 2 | G43: ='기술자분류(측량)'!K44 -> 3 | K43: 120 | M43: =ROUNDDOWN('기술자분류(측량)'!N44/$D$43*$C$43,2) -> 0 | N43: =ROUNDDOWN('기술자분류(측량)'!O44/$D$43*$C$43,2) -> 0 | O43: =ROUNDDOWN('기술자분류(측량)'!P44/$D$43*$C$43,2) -> 0 | P43: =ROUNDDOWN('기술자분류(측량)'!Q44/$D$43*$C$43,2) -> 0 | Q43: =ROUNDDOWN('기술자분류(측량)'!R44/$D$43*$C$43,2) -> 0 | R43: =ROUNDDOWN('기술자분류(측량)'!S44/$D$43*$C$43,2) -> 0 | V43: =K43/D43*C43 -> 0 | Z43: GPS(90%)
A44: - 종단 측량 | B44: km | D44: 3 | E44: ='기술자분류(측량)'!I45 -> 1 | F44: ='기술자분류(측량)'!J45 -> 0 | G44: ='기술자분류(측량)'!K45 -> 1 | M44: =ROUNDDOWN('기술자분류(측량)'!N45/$D$44*$C$44,2) -> 0 | N44: =ROUNDDOWN('기술자분류(측량)'!O45/$D$44*$C$44,2) -> 0 | O44: =ROUNDDOWN('기술자분류(측량)'!P45/$D$44*$C$44,2) -> 0 | P44: =ROUNDDOWN('기술자분류(측량)'!Q45/$D$44*$C$44,2) -> 0 | Q44: =ROUNDDOWN('기술자분류(측량)'!R45/$D$44*$C$44,2) -> 0 | R44: =ROUNDDOWN('기술자분류(측량)'!S45/$D$44*$C$44,2) -> 0 | Z44: GPS(90%)
A45: - 횡단 측량 | B45: km | D45: 3 | E45: ='기술자분류(측량)'!I46 -> 2 | F45: ='기술자분류(측량)'!J46 -> 0 | G45: ='기술자분류(측량)'!K46 -> 2 | M45: =ROUNDDOWN('기술자분류(측량)'!N46/$D$45*$C$45,2) -> 0 | N45: =ROUNDDOWN('기술자분류(측량)'!O46/$D$45*$C$45,2) -> 0 | O45: =ROUNDDOWN('기술자분류(측량)'!P46/$D$45*$C$45,2) -> 0 | P45: =ROUNDDOWN('기술자분류(측량)'!Q46/$D$45*$C$45,2) -> 0 | Q45: =ROUNDDOWN('기술자분류(측량)'!R46/$D$45*$C$45,2) -> 0 | R45: =ROUNDDOWN('기술자분류(측량)'!S46/$D$45*$C$45,2) -> 0 | Z45: GPS(90%)
A46: - IP 위치 측량 | B46: km | D46: 3 | E46: ='기술자분류(측량)'!I47 -> 2 | F46: ='기술자분류(측량)'!J47 -> 0 | G46: ='기술자분류(측량)'!K47 -> 2 | M46: =ROUNDDOWN('기술자분류(측량)'!N47/$D$46*$C$46,2) -> 0 | N46: =ROUNDDOWN('기술자분류(측량)'!O47/$D$46*$C$46,2) -> 0 | O46: =ROUNDDOWN('기술자분류(측량)'!P47/$D$46*$C$46,2) -> 0 | P46: =ROUNDDOWN('기술자분류(측량)'!Q47/$D$46*$C$46,2) -> 0 | Q46: =ROUNDDOWN('기술자분류(측량)'!R47/$D$46*$C$46,2) -> 0 | R46: =ROUNDDOWN('기술자분류(측량)'!S47/$D$46*$C$46,2) -> 0 | Z46: GPS(90%)
A47: ㅇ 용‧배수로 등(산, 임야지)노선측량 | B47: km | X47: 기본조사, 노폭 10m기준 | Y47: 기본 | Z47: p.26
A48: - 노선선정 | B48: km | D48: 1.7 | E48: ='기술자분류(측량)'!I49 -> 1 | F48: ='기술자분류(측량)'!J49 -> 0 | G48: ='기술자분류(측량)'!K49 -> 0 | M48: =ROUNDDOWN('기술자분류(측량)'!N49/$D$48*$C$48,2) -> 0 | N48: =ROUNDDOWN('기술자분류(측량)'!O49/$D$48*$C$48,2) -> 0 | O48: =ROUNDDOWN('기술자분류(측량)'!P49/$D$48*$C$48,2) -> 0 | P48: =ROUNDDOWN('기술자분류(측량)'!Q49/$D$48*$C$48,2) -> 0 | Q48: =ROUNDDOWN('기술자분류(측량)'!R49/$D$48*$C$48,2) -> 0 | R48: =ROUNDDOWN('기술자분류(측량)'!S49/$D$48*$C$48,2) -> 0
A49: - 노선선점 | B49: km | D49: 1.7 | E49: ='기술자분류(측량)'!I50 -> 1 | F49: ='기술자분류(측량)'!J50 -> 1 | G49: ='기술자분류(측량)'!K50 -> 1 | J49: 30 | M49: =ROUNDDOWN('기술자분류(측량)'!N50/$D$49*$C$49,2) -> 0 | N49: =ROUNDDOWN('기술자분류(측량)'!O50/$D$49*$C$49,2) -> 0 | O49: =ROUNDDOWN('기술자분류(측량)'!P50/$D$49*$C$49,2) -> 0 | P49: =ROUNDDOWN('기술자분류(측량)'!Q50/$D$49*$C$49,2) -> 0 | Q49: =ROUNDDOWN('기술자분류(측량)'!R50/$D$49*$C$49,2) -> 0 | R49: =ROUNDDOWN('기술자분류(측량)'!S50/$D$49*$C$49,2) -> 0 | U49: =J49/D49*C49 -> 0
A50: ㅇ 용‧배수로 등(산, 임야지)노선측량 | B50: km | X50: 실시조사, 노폭 10m기준 | Y50: 세부 | Z50: p.26
A51: - 노선선정 | B51: km | D51: 1.7 | E51: ='기술자분류(측량)'!I49 -> 1 | F51: ='기술자분류(측량)'!J49 -> 0 | G51: ='기술자분류(측량)'!K49 -> 0 | M51: =ROUNDDOWN('기술자분류(측량)'!N49/$D$51*$C$51,2) -> 0 | N51: =ROUNDDOWN('기술자분류(측량)'!O49/$D$51*$C$51,2) -> 0 | O51: =ROUNDDOWN('기술자분류(측량)'!P49/$D$51*$C$51,2) -> 0 | P51: =ROUNDDOWN('기술자분류(측량)'!Q49/$D$51*$C$51,2) -> 0 | Q51: =ROUNDDOWN('기술자분류(측량)'!R49/$D$51*$C$51,2) -> 0 | R51: =ROUNDDOWN('기술자분류(측량)'!S49/$D$51*$C$51,2) -> 0
A52: - 노선선점 | B52: km | D52: 1.7 | E52: ='기술자분류(측량)'!I51 -> 2 | F52: ='기술자분류(측량)'!J51 -> 2 | G52: ='기술자분류(측량)'!K51 -> 1 | J52: 30 | M52: =ROUNDDOWN('기술자분류(측량)'!N51/$D$52*$C$52,2) -> 0 | N52: =ROUNDDOWN('기술자분류(측량)'!O51/$D$52*$C$52,2) -> 0 | O52: =ROUNDDOWN('기술자분류(측량)'!P51/$D$52*$C$52,2) -> 0 | P52: =ROUNDDOWN('기술자분류(측량)'!Q51/$D$52*$C$52,2) -> 0 | Q52: =ROUNDDOWN('기술자분류(측량)'!R51/$D$52*$C$52,2) -> 0 | R52: =ROUNDDOWN('기술자분류(측량)'!S51/$D$52*$C$52,2) -> 0 | U52: =J52/D52*C52 -> 0
A53: - 중심선 측량 | B53: km | D53: 1.7 | E53: ='기술자분류(측량)'!I52 -> 3 | F53: ='기술자분류(측량)'!J52 -> 3 | G53: ='기술자분류(측량)'!K52 -> 3 | K53: 110 | M53: =ROUNDDOWN('기술자분류(측량)'!N52/$D$53*$C$53,2) -> 0 | N53: =ROUNDDOWN('기술자분류(측량)'!O52/$D$53*$C$53,2) -> 0 | O53: =ROUNDDOWN('기술자분류(측량)'!P52/$D$53*$C$53,2) -> 0 | P53: =ROUNDDOWN('기술자분류(측량)'!Q52/$D$53*$C$53,2) -> 0 | Q53: =ROUNDDOWN('기술자분류(측량)'!R52/$D$53*$C$53,2) -> 0 | R53: =ROUNDDOWN('기술자분류(측량)'!S52/$D$53*$C$53,2) -> 0 | V53: =K53/D53*C53 -> 0
A54: - 종단 측량 | B54: km | D54: 1.7 | E54: ='기술자분류(측량)'!I53 -> 1 | F54: ='기술자분류(측량)'!J53 -> 0 | G54: ='기술자분류(측량)'!K53 -> 1 | M54: =ROUNDDOWN('기술자분류(측량)'!N53/$D$54*$C$54,2) -> 0 | N54: =ROUNDDOWN('기술자분류(측량)'!O53/$D$54*$C$54,2) -> 0 | O54: =ROUNDDOWN('기술자분류(측량)'!P53/$D$54*$C$54,2) -> 0 | P54: =ROUNDDOWN('기술자분류(측량)'!Q53/$D$54*$C$54,2) -> 0 | Q54: =ROUNDDOWN('기술자분류(측량)'!R53/$D$54*$C$54,2) -> 0 | R54: =ROUNDDOWN('기술자분류(측량)'!S53/$D$54*$C$54,2) -> 0
A55: - 횡단 측량 | B55: km | D55: 1.7 | E55: ='기술자분류(측량)'!I54 -> 2 | F55: ='기술자분류(측량)'!J54 -> 0 | G55: ='기술자분류(측량)'!K54 -> 2 | M55: =ROUNDDOWN('기술자분류(측량)'!N54/$D$55*$C$55,2) -> 0 | N55: =ROUNDDOWN('기술자분류(측량)'!O54/$D$55*$C$55,2) -> 0 | O55: =ROUNDDOWN('기술자분류(측량)'!P54/$D$55*$C$55,2) -> 0 | P55: =ROUNDDOWN('기술자분류(측량)'!Q54/$D$55*$C$55,2) -> 0 | Q55: =ROUNDDOWN('기술자분류(측량)'!R54/$D$55*$C$55,2) -> 0 | R55: =ROUNDDOWN('기술자분류(측량)'!S54/$D$55*$C$55,2) -> 0
A56: - IP 위치 측량 | B56: km | D56: 1.7 | E56: ='기술자분류(측량)'!I55 -> 2 | F56: ='기술자분류(측량)'!J55 -> 0 | G56: ='기술자분류(측량)'!K55 -> 2 | M56: =ROUNDDOWN('기술자분류(측량)'!N55/$D$56*$C$56,2) -> 0 | N56: =ROUNDDOWN('기술자분류(측량)'!O55/$D$56*$C$56,2) -> 0 | O56: =ROUNDDOWN('기술자분류(측량)'!P55/$D$56*$C$56,2) -> 0 | P56: =ROUNDDOWN('기술자분류(측량)'!Q55/$D$56*$C$56,2) -> 0 | Q56: =ROUNDDOWN('기술자분류(측량)'!R55/$D$56*$C$56,2) -> 0 | R56: =ROUNDDOWN('기술자분류(측량)'!S55/$D$56*$C$56,2) -> 0
A57: ㅇ 용‧배수로 등(농경지,구릉지)노선지형측량 | B57: km | D57: 0.4 | E57: ='기술자분류(측량)'!I57 -> 3 | F57: ='기술자분류(측량)'!J57 -> 2 | G57: ='기술자분류(측량)'!K57 -> 2 | M57: =ROUNDDOWN('기술자분류(측량)'!N57/$D$57*$C$57,2) -> 0 | N57: =ROUNDDOWN('기술자분류(측량)'!O57/$D$57*$C$57,2) -> 0 | O57: =ROUNDDOWN('기술자분류(측량)'!P57/$D$57*$C$57,2) -> 0 | P57: =ROUNDDOWN('기술자분류(측량)'!Q57/$D$57*$C$57,2) -> 0 | Q57: =ROUNDDOWN('기술자분류(측량)'!R57/$D$57*$C$57,2) -> 0 | R57: =ROUNDDOWN('기술자분류(측량)'!S57/$D$57*$C$57,2) -> 0 | X57: 실시조사 S=1/1000, 노폭 좌우30m | Y57: 세부 | Z57: p.27
A58: ㅇ 용‧배수로 등(산,임야)노선지형측량 | B58: km | D58: 0.3 | E58: ='기술자분류(측량)'!I59 -> 3 | F58: ='기술자분류(측량)'!J59 -> 2 | G58: ='기술자분류(측량)'!K59 -> 2 | M58: =ROUNDDOWN('기술자분류(측량)'!N59/$D$58*$C$58,2) -> 0 | N58: =ROUNDDOWN('기술자분류(측량)'!O59/$D$58*$C$58,2) -> 0 | O58: =ROUNDDOWN('기술자분류(측량)'!P59/$D$58*$C$58,2) -> 0 | P58: =ROUNDDOWN('기술자분류(측량)'!Q59/$D$58*$C$58,2) -> 0 | Q58: =ROUNDDOWN('기술자분류(측량)'!R59/$D$58*$C$58,2) -> 0 | R58: =ROUNDDOWN('기술자분류(측량)'!S59/$D$58*$C$58,2) -> 0 | X58: 실시조사 S=1/1000, 노폭 좌우30m | Y58: 세부 | Z58: p.27
A59: ㅇ 제당노선측량 | B59: m | Y59: 기본 | Z59: p.28
A60: - 선정 | B60: 개소 | D60: 1 | E60: ='기술자분류(측량)'!I61 -> 1 | F60: ='기술자분류(측량)'!J61 -> 0 | G60: ='기술자분류(측량)'!K61 -> 1 | M60: =ROUNDDOWN('기술자분류(측량)'!N61/$D$60*$C$60,2) -> 0 | N60: =ROUNDDOWN('기술자분류(측량)'!O61/$D$60*$C$60,2) -> 0 | O60: =ROUNDDOWN('기술자분류(측량)'!P61/$D$60*$C$60,2) -> 0 | P60: =ROUNDDOWN('기술자분류(측량)'!Q61/$D$60*$C$60,2) -> 0 | Q60: =ROUNDDOWN('기술자분류(측량)'!R61/$D$60*$C$60,2) -> 0 | R60: =ROUNDDOWN('기술자분류(측량)'!S61/$D$60*$C$60,2) -> 0
A61: - 선점 | B61: 개소 | D61: 1 | E61: ='기술자분류(측량)'!I62 -> 1 | F61: ='기술자분류(측량)'!J62 -> 0 | G61: ='기술자분류(측량)'!K62 -> 1 | I61: 2 | M61: =ROUNDDOWN('기술자분류(측량)'!N62/$D$61*$C$61,2) -> 0 | N61: =ROUNDDOWN('기술자분류(측량)'!O62/$D$61*$C$61,2) -> 0 | O61: =ROUNDDOWN('기술자분류(측량)'!P62/$D$61*$C$61,2) -> 0 | P61: =ROUNDDOWN('기술자분류(측량)'!Q62/$D$61*$C$61,2) -> 0 | Q61: =ROUNDDOWN('기술자분류(측량)'!R62/$D$61*$C$61,2) -> 0 | R61: =ROUNDDOWN('기술자분류(측량)'!S62/$D$61*$C$61,2) -> 0 | T61: =I61/D61*C61 -> 0
A62: - 중심선 측량 | B62: m | D62: 150 | E62: ='기술자분류(측량)'!I63 -> 1 | F62: ='기술자분류(측량)'!J63 -> 2 | G62: ='기술자분류(측량)'!K63 -> 3 | J62: 15 | M62: =ROUNDDOWN('기술자분류(측량)'!N63/$D$62*$C$62,2) -> 0 | N62: =ROUNDDOWN('기술자분류(측량)'!O63/$D$62*$C$62,2) -> 0 | O62: =ROUNDDOWN('기술자분류(측량)'!P63/$D$62*$C$62,2) -> 0 | P62: =ROUNDDOWN('기술자분류(측량)'!Q63/$D$62*$C$62,2) -> 0 | Q62: =ROUNDDOWN('기술자분류(측량)'!R63/$D$62*$C$62,2) -> 0 | R62: =ROUNDDOWN('기술자분류(측량)'!S63/$D$62*$C$62,2) -> 0 | U62: =J62/D62*C62 -> 0 | Z62: GPS(90%)
A63: - 종단 측량 | B63: m | D63: 150 | E63: ='기술자분류(측량)'!I64 -> 1 | F63: ='기술자분류(측량)'!J64 -> 0 | G63: ='기술자분류(측량)'!K64 -> 1 | M63: =ROUNDDOWN('기술자분류(측량)'!N64/$D$63*$C$63,2) -> 0 | N63: =ROUNDDOWN('기술자분류(측량)'!O64/$D$63*$C$63,2) -> 0 | O63: =ROUNDDOWN('기술자분류(측량)'!P64/$D$63*$C$63,2) -> 0 | P63: =ROUNDDOWN('기술자분류(측량)'!Q64/$D$63*$C$63,2) -> 0 | Q63: =ROUNDDOWN('기술자분류(측량)'!R64/$D$63*$C$63,2) -> 0 | R63: =ROUNDDOWN('기술자분류(측량)'!S64/$D$63*$C$63,2) -> 0 | Z63: GPS(90%)
A64: ㅇ 제당노선측량 | B64: m | Y64: 세부 | Z64: p.28
A65: - 선정 | B65: 개소 | D65: 1 | E65: ='기술자분류(측량)'!I61 -> 1 | F65: ='기술자분류(측량)'!J61 -> 0 | G65: ='기술자분류(측량)'!K61 -> 1 | M65: =ROUNDDOWN('기술자분류(측량)'!N61/$D$65*$C$65,2) -> 0 | N65: =ROUNDDOWN('기술자분류(측량)'!O61/$D$65*$C$65,2) -> 0 | O65: =ROUNDDOWN('기술자분류(측량)'!P61/$D$65*$C$65,2) -> 0 | P65: =ROUNDDOWN('기술자분류(측량)'!Q61/$D$65*$C$65,2) -> 0 | Q65: =ROUNDDOWN('기술자분류(측량)'!R61/$D$65*$C$65,2) -> 0 | R65: =ROUNDDOWN('기술자분류(측량)'!S61/$D$65*$C$65,2) -> 0
A66: - 선점 | B66: 개소 | D66: 1 | E66: ='기술자분류(측량)'!I62 -> 1 | F66: ='기술자분류(측량)'!J62 -> 0 | G66: ='기술자분류(측량)'!K62 -> 1 | I66: 2 | M66: =ROUNDDOWN('기술자분류(측량)'!N62/$D$66*$C$66,2) -> 0 | N66: =ROUNDDOWN('기술자분류(측량)'!O62/$D$66*$C$66,2) -> 0 | O66: =ROUNDDOWN('기술자분류(측량)'!P62/$D$66*$C$66,2) -> 0 | P66: =ROUNDDOWN('기술자분류(측량)'!Q62/$D$66*$C$66,2) -> 0 | Q66: =ROUNDDOWN('기술자분류(측량)'!R62/$D$66*$C$66,2) -> 0 | R66: =ROUNDDOWN('기술자분류(측량)'!S62/$D$66*$C$66,2) -> 0 | T66: =I66/D66*C66 -> 0
A67: - 중심선 측량 | B67: m | D67: 150 | E67: ='기술자분류(측량)'!I63 -> 1 | F67: ='기술자분류(측량)'!J63 -> 2 | G67: ='기술자분류(측량)'!K63 -> 3 | J67: 15 | M67: =ROUNDDOWN('기술자분류(측량)'!N63/$D$67*$C$67,2) -> 0 | N67: =ROUNDDOWN('기술자분류(측량)'!O63/$D$67*$C$67,2) -> 0 | O67: =ROUNDDOWN('기술자분류(측량)'!P63/$D$67*$C$67,2) -> 0 | P67: =ROUNDDOWN('기술자분류(측량)'!Q63/$D$67*$C$67,2) -> 0 | Q67: =ROUNDDOWN('기술자분류(측량)'!R63/$D$67*$C$67,2) -> 0 | R67: =ROUNDDOWN('기술자분류(측량)'!S63/$D$67*$C$67,2) -> 0 | U67: =J67/D67*C67 -> 0 | Z67: GPS(90%)
A68: - 종단 측량 | B68: m | D68: 150 | E68: ='기술자분류(측량)'!I64 -> 1 | F68: ='기술자분류(측량)'!J64 -> 0 | G68: ='기술자분류(측량)'!K64 -> 1 | M68: =ROUNDDOWN('기술자분류(측량)'!N64/$D$68*$C$68,2) -> 0 | N68: =ROUNDDOWN('기술자분류(측량)'!O64/$D$68*$C$68,2) -> 0 | O68: =ROUNDDOWN('기술자분류(측량)'!P64/$D$68*$C$68,2) -> 0 | P68: =ROUNDDOWN('기술자분류(측량)'!Q64/$D$68*$C$68,2) -> 0 | Q68: =ROUNDDOWN('기술자분류(측량)'!R64/$D$68*$C$68,2) -> 0 | R68: =ROUNDDOWN('기술자분류(측량)'!S64/$D$68*$C$68,2) -> 0 | Z68: GPS(90%)
A69: - 횡단 측량 | B69: m | D69: 150 | E69: ='기술자분류(측량)'!I65 -> 4 | F69: ='기술자분류(측량)'!J65 -> 1 | G69: ='기술자분류(측량)'!K65 -> 3 | K69: 150 | M69: =ROUNDDOWN('기술자분류(측량)'!N65/$D$69*$C$69,2) -> 0 | N69: =ROUNDDOWN('기술자분류(측량)'!O65/$D$69*$C$69,2) -> 0 | O69: =ROUNDDOWN('기술자분류(측량)'!P65/$D$69*$C$69,2) -> 0 | P69: =ROUNDDOWN('기술자분류(측량)'!Q65/$D$69*$C$69,2) -> 0 | Q69: =ROUNDDOWN('기술자분류(측량)'!R65/$D$69*$C$69,2) -> 0 | R69: =ROUNDDOWN('기술자분류(측량)'!S65/$D$69*$C$69,2) -> 0 | V69: =K69/D69*C69 -> 0 | Z69: GPS(90%)
A70: ㅇ 물넘이 방수로, 통관 노선측량 | B70: m | Y70: 기본 | Z70: p.29
A71: - 선정 | B71: 개소 | D71: 1 | E71: ='기술자분류(측량)'!I67 -> 0.5 | F71: ='기술자분류(측량)'!J67 -> 0 | G71: ='기술자분류(측량)'!K67 -> 0 | M71: =ROUNDDOWN('기술자분류(측량)'!N67/$D$71*$C$71,2) -> 0 | N71: =ROUNDDOWN('기술자분류(측량)'!O67/$D$71*$C$71,2) -> 0 | O71: =ROUNDDOWN('기술자분류(측량)'!P67/$D$71*$C$71,2) -> 0 | P71: =ROUNDDOWN('기술자분류(측량)'!Q67/$D$71*$C$71,2) -> 0 | Q71: =ROUNDDOWN('기술자분류(측량)'!R67/$D$71*$C$71,2) -> 0 | R71: =ROUNDDOWN('기술자분류(측량)'!S67/$D$71*$C$71,2) -> 0
A72: - 선점 | B72: 개소 | D72: 1 | E72: ='기술자분류(측량)'!I68 -> 0.5 | F72: ='기술자분류(측량)'!J68 -> 0 | G72: ='기술자분류(측량)'!K68 -> 0.5 | I72: 2 | M72: =ROUNDDOWN('기술자분류(측량)'!N68/$D$72*$C$72,2) -> 0 | N72: =ROUNDDOWN('기술자분류(측량)'!O68/$D$72*$C$72,2) -> 0 | O72: =ROUNDDOWN('기술자분류(측량)'!P68/$D$72*$C$72,2) -> 0 | P72: =ROUNDDOWN('기술자분류(측량)'!Q68/$D$72*$C$72,2) -> 0 | Q72: =ROUNDDOWN('기술자분류(측량)'!R68/$D$72*$C$72,2) -> 0 | R72: =ROUNDDOWN('기술자분류(측량)'!S68/$D$72*$C$72,2) -> 0 | T72: =I72/D72*C72 -> 0
A73: ㅇ 물넘이 방수로, 통관 노선측량 | B73: m | Y73: 세부 | Z73: p.29
A74: - 선정 | B74: 개소 | D74: 1 | E74: ='기술자분류(측량)'!I67 -> 0.5 | F74: ='기술자분류(측량)'!J67 -> 0 | G74: ='기술자분류(측량)'!K67 -> 0 | M74: =ROUNDDOWN('기술자분류(측량)'!N67/$D$74*$C$74,2) -> 0 | N74: =ROUNDDOWN('기술자분류(측량)'!O67/$D$74*$C$74,2) -> 0 | O74: =ROUNDDOWN('기술자분류(측량)'!P67/$D$74*$C$74,2) -> 0 | P74: =ROUNDDOWN('기술자분류(측량)'!Q67/$D$74*$C$74,2) -> 0 | Q74: =ROUNDDOWN('기술자분류(측량)'!R67/$D$74*$C$74,2) -> 0 | R74: =ROUNDDOWN('기술자분류(측량)'!S67/$D$74*$C$74,2) -> 0
A75: - 선점 | B75: 개소 | D75: 1 | E75: ='기술자분류(측량)'!I68 -> 0.5 | F75: ='기술자분류(측량)'!J68 -> 0 | G75: ='기술자분류(측량)'!K68 -> 0.5 | I75: 2 | M75: =ROUNDDOWN('기술자분류(측량)'!N68/$D$75*$C$75,2) -> 0 | N75: =ROUNDDOWN('기술자분류(측량)'!O68/$D$75*$C$75,2) -> 0 | O75: =ROUNDDOWN('기술자분류(측량)'!P68/$D$75*$C$75,2) -> 0 | P75: =ROUNDDOWN('기술자분류(측량)'!Q68/$D$75*$C$75,2) -> 0 | Q75: =ROUNDDOWN('기술자분류(측량)'!R68/$D$75*$C$75,2) -> 0 | R75: =ROUNDDOWN('기술자분류(측량)'!S68/$D$75*$C$75,2) -> 0 | T75: =I75/D75*C75 -> 0
A76: - 중심선 측량 | B76: m | D76: 100 | E76: ='기술자분류(측량)'!I69 -> 0.3 | F76: ='기술자분류(측량)'!J69 -> 0.7 | G76: ='기술자분류(측량)'!K69 -> 1 | J76: 10 | M76: =ROUNDDOWN('기술자분류(측량)'!N69/$D$76*$C$76,2) -> 0 | N76: =ROUNDDOWN('기술자분류(측량)'!O69/$D$76*$C$76,2) -> 0 | O76: =ROUNDDOWN('기술자분류(측량)'!P69/$D$76*$C$76,2) -> 0 | P76: =ROUNDDOWN('기술자분류(측량)'!Q69/$D$76*$C$76,2) -> 0 | Q76: =ROUNDDOWN('기술자분류(측량)'!R69/$D$76*$C$76,2) -> 0 | R76: =ROUNDDOWN('기술자분류(측량)'!S69/$D$76*$C$76,2) -> 0 | U76: =J76/D76*C76 -> 0 | Z76: GPS(90%)
A77: - 종단 측량 | B77: m | D77: 100 | E77: ='기술자분류(측량)'!I70 -> 0.3 | F77: ='기술자분류(측량)'!J70 -> 0 | G77: ='기술자분류(측량)'!K70 -> 0.3 | M77: =ROUNDDOWN('기술자분류(측량)'!N70/$D$77*$C$77,2) -> 0 | N77: =ROUNDDOWN('기술자분류(측량)'!O70/$D$77*$C$77,2) -> 0 | O77: =ROUNDDOWN('기술자분류(측량)'!P70/$D$77*$C$77,2) -> 0 | P77: =ROUNDDOWN('기술자분류(측량)'!Q70/$D$77*$C$77,2) -> 0 | Q77: =ROUNDDOWN('기술자분류(측량)'!R70/$D$77*$C$77,2) -> 0 | R77: =ROUNDDOWN('기술자분류(측량)'!S70/$D$77*$C$77,2) -> 0 | Z77: GPS(90%)
A78: - 횡단 측량 | B78: m | D78: 100 | E78: ='기술자분류(측량)'!I71 -> 0.3 | F78: ='기술자분류(측량)'!J71 -> 0 | G78: ='기술자분류(측량)'!K71 -> 0.7 | M78: =ROUNDDOWN('기술자분류(측량)'!N71/$D$78*$C$78,2) -> 0 | N78: =ROUNDDOWN('기술자분류(측량)'!O71/$D$78*$C$78,2) -> 0 | O78: =ROUNDDOWN('기술자분류(측량)'!P71/$D$78*$C$78,2) -> 0 | P78: =ROUNDDOWN('기술자분류(측량)'!Q71/$D$78*$C$78,2) -> 0 | Q78: =ROUNDDOWN('기술자분류(측량)'!R71/$D$78*$C$78,2) -> 0 | R78: =ROUNDDOWN('기술자분류(측량)'!S71/$D$78*$C$78,2) -> 0 | Z78: GPS(90%)
A79: ㅇ 양배수장 노선측량 | B79: m | Y79: 기본 | Z79: p.30
A80: - 선정 | B80: 개소 | D80: 1 | E80: ='기술자분류(측량)'!I73 -> 0.5 | F80: ='기술자분류(측량)'!J73 -> 0 | G80: ='기술자분류(측량)'!K73 -> 0 | M80: =ROUNDDOWN('기술자분류(측량)'!N73/$D$80*$C$80,2) -> 0 | N80: =ROUNDDOWN('기술자분류(측량)'!O73/$D$80*$C$80,2) -> 0 | O80: =ROUNDDOWN('기술자분류(측량)'!P73/$D$80*$C$80,2) -> 0 | P80: =ROUNDDOWN('기술자분류(측량)'!Q73/$D$80*$C$80,2) -> 0 | Q80: =ROUNDDOWN('기술자분류(측량)'!R73/$D$80*$C$80,2) -> 0 | R80: =ROUNDDOWN('기술자분류(측량)'!S73/$D$80*$C$80,2) -> 0
A81: - 선점 | B81: 개소 | D81: 1 | E81: ='기술자분류(측량)'!I74 -> 0.5 | F81: ='기술자분류(측량)'!J74 -> 0 | G81: ='기술자분류(측량)'!K74 -> 0.5 | M81: =ROUNDDOWN('기술자분류(측량)'!N74/$D$81*$C$81,2) -> 0 | N81: =ROUNDDOWN('기술자분류(측량)'!O74/$D$81*$C$81,2) -> 0 | O81: =ROUNDDOWN('기술자분류(측량)'!P74/$D$81*$C$81,2) -> 0 | P81: =ROUNDDOWN('기술자분류(측량)'!Q74/$D$81*$C$81,2) -> 0 | Q81: =ROUNDDOWN('기술자분류(측량)'!R74/$D$81*$C$81,2) -> 0 | R81: =ROUNDDOWN('기술자분류(측량)'!S74/$D$81*$C$81,2) -> 0
A82: - 중심선 측량 | B82: m | D82: 100 | E82: ='기술자분류(측량)'!I75 -> 0.3 | F82: ='기술자분류(측량)'!J75 -> 0.7 | G82: ='기술자분류(측량)'!K75 -> 1 | J82: 10 | M82: =ROUNDDOWN('기술자분류(측량)'!N75/$D$82*$C$82,2) -> 0 | N82: =ROUNDDOWN('기술자분류(측량)'!O75/$D$82*$C$82,2) -> 0 | O82: =ROUNDDOWN('기술자분류(측량)'!P75/$D$82*$C$82,2) -> 0 | P82: =ROUNDDOWN('기술자분류(측량)'!Q75/$D$82*$C$82,2) -> 0 | Q82: =ROUNDDOWN('기술자분류(측량)'!R75/$D$82*$C$82,2) -> 0 | R82: =ROUNDDOWN('기술자분류(측량)'!S75/$D$82*$C$82,2) -> 0 | U82: =J82/D82*C82 -> 0 | Z82: GPS(90%)
A83: - 종단 측량 | B83: m | D83: 100 | E83: ='기술자분류(측량)'!I76 -> 0.3 | F83: ='기술자분류(측량)'!J76 -> 0 | G83: ='기술자분류(측량)'!K76 -> 0.3 | M83: =ROUNDDOWN('기술자분류(측량)'!N76/$D$83*$C$83,2) -> 0 | N83: =ROUNDDOWN('기술자분류(측량)'!O76/$D$83*$C$83,2) -> 0 | O83: =ROUNDDOWN('기술자분류(측량)'!P76/$D$83*$C$83,2) -> 0 | P83: =ROUNDDOWN('기술자분류(측량)'!Q76/$D$83*$C$83,2) -> 0 | Q83: =ROUNDDOWN('기술자분류(측량)'!R76/$D$83*$C$83,2) -> 0 | R83: =ROUNDDOWN('기술자분류(측량)'!S76/$D$83*$C$83,2) -> 0 | Z83: GPS(90%)
A84: ㅇ 양배수장 노선측량 | B84: m | Y84: 세부 | Z84: p.30
A85: - 선정 | B85: 개소 | D85: 1 | E85: ='기술자분류(측량)'!I73 -> 0.5 | F85: ='기술자분류(측량)'!J73 -> 0 | G85: ='기술자분류(측량)'!K73 -> 0 | M85: =ROUNDDOWN('기술자분류(측량)'!N73/$D$85*$C$85,2) -> 0 | N85: =ROUNDDOWN('기술자분류(측량)'!O73/$D$85*$C$85,2) -> 0 | O85: =ROUNDDOWN('기술자분류(측량)'!P73/$D$85*$C$85,2) -> 0 | P85: =ROUNDDOWN('기술자분류(측량)'!Q73/$D$85*$C$85,2) -> 0 | Q85: =ROUNDDOWN('기술자분류(측량)'!R73/$D$85*$C$85,2) -> 0 | R85: =ROUNDDOWN('기술자분류(측량)'!S73/$D$85*$C$85,2) -> 0
A86: - 선점 | B86: 개소 | D86: 1 | E86: ='기술자분류(측량)'!I74 -> 0.5 | F86: ='기술자분류(측량)'!J74 -> 0 | G86: ='기술자분류(측량)'!K74 -> 0.5 | M86: =ROUNDDOWN('기술자분류(측량)'!N74/$D$86*$C$86,2) -> 0 | N86: =ROUNDDOWN('기술자분류(측량)'!O74/$D$86*$C$86,2) -> 0 | O86: =ROUNDDOWN('기술자분류(측량)'!P74/$D$86*$C$86,2) -> 0 | P86: =ROUNDDOWN('기술자분류(측량)'!Q74/$D$86*$C$86,2) -> 0 | Q86: =ROUNDDOWN('기술자분류(측량)'!R74/$D$86*$C$86,2) -> 0 | R86: =ROUNDDOWN('기술자분류(측량)'!S74/$D$86*$C$86,2) -> 0
A87: - 중심선 측량 | B87: m | D87: 100 | E87: ='기술자분류(측량)'!I75 -> 0.3 | F87: ='기술자분류(측량)'!J75 -> 0.7 | G87: ='기술자분류(측량)'!K75 -> 1 | J87: 10 | M87: =ROUNDDOWN('기술자분류(측량)'!N75/$D$87*$C$87,2) -> 0 | N87: =ROUNDDOWN('기술자분류(측량)'!O75/$D$87*$C$87,2) -> 0 | O87: =ROUNDDOWN('기술자분류(측량)'!P75/$D$87*$C$87,2) -> 0 | P87: =ROUNDDOWN('기술자분류(측량)'!Q75/$D$87*$C$87,2) -> 0 | Q87: =ROUNDDOWN('기술자분류(측량)'!R75/$D$87*$C$87,2) -> 0 | R87: =ROUNDDOWN('기술자분류(측량)'!S75/$D$87*$C$87,2) -> 0 | U87: =J87/D87*C87 -> 0 | Z87: GPS(90%)
A88: - 종단 측량 | B88: m | D88: 100 | E88: ='기술자분류(측량)'!I76 -> 0.3 | F88: ='기술자분류(측량)'!J76 -> 0 | G88: ='기술자분류(측량)'!K76 -> 0.3 | M88: =ROUNDDOWN('기술자분류(측량)'!N76/$D$88*$C$88,2) -> 0 | N88: =ROUNDDOWN('기술자분류(측량)'!O76/$D$88*$C$88,2) -> 0 | O88: =ROUNDDOWN('기술자분류(측량)'!P76/$D$88*$C$88,2) -> 0 | P88: =ROUNDDOWN('기술자분류(측량)'!Q76/$D$88*$C$88,2) -> 0 | Q88: =ROUNDDOWN('기술자분류(측량)'!R76/$D$88*$C$88,2) -> 0 | R88: =ROUNDDOWN('기술자분류(측량)'!S76/$D$88*$C$88,2) -> 0 | Z88: GPS(90%)
A89: - 횡단 측량 | B89: m | D89: 100 | E89: ='기술자분류(측량)'!I77 -> 0.3 | F89: ='기술자분류(측량)'!J77 -> 0 | G89: ='기술자분류(측량)'!K77 -> 0.7 | M89: =ROUNDDOWN('기술자분류(측량)'!N77/$D$89*$C$89,2) -> 0 | N89: =ROUNDDOWN('기술자분류(측량)'!O77/$D$89*$C$89,2) -> 0 | O89: =ROUNDDOWN('기술자분류(측량)'!P77/$D$89*$C$89,2) -> 0 | P89: =ROUNDDOWN('기술자분류(측량)'!Q77/$D$89*$C$89,2) -> 0 | Q89: =ROUNDDOWN('기술자분류(측량)'!R77/$D$89*$C$89,2) -> 0 | R89: =ROUNDDOWN('기술자분류(측량)'!S77/$D$89*$C$89,2) -> 0 | Z89: GPS(90%)
A90: ㅇ 취입보 노선측량 | B90: m | Y90: 기본 | Z90: p.31
A91: - 선정 | B91: 개소 | D91: 1 | E91: ='기술자분류(측량)'!I79 -> 0.5 | F91: ='기술자분류(측량)'!J79 -> 0 | G91: ='기술자분류(측량)'!K79 -> 0 | M91: =ROUNDDOWN('기술자분류(측량)'!N79/$D$91*$C$91,2) -> 0 | N91: =ROUNDDOWN('기술자분류(측량)'!O79/$D$91*$C$91,2) -> 0 | O91: =ROUNDDOWN('기술자분류(측량)'!P79/$D$91*$C$91,2) -> 0 | P91: =ROUNDDOWN('기술자분류(측량)'!Q79/$D$91*$C$91,2) -> 0 | Q91: =ROUNDDOWN('기술자분류(측량)'!R79/$D$91*$C$91,2) -> 0 | R91: =ROUNDDOWN('기술자분류(측량)'!S79/$D$91*$C$91,2) -> 0
A92: - 선점 | B92: 개소 | D92: 1 | E92: ='기술자분류(측량)'!I80 -> 0.5 | F92: ='기술자분류(측량)'!J80 -> 0 | G92: ='기술자분류(측량)'!K80 -> 0.5 | M92: =ROUNDDOWN('기술자분류(측량)'!N80/$D$92*$C$92,2) -> 0 | N92: =ROUNDDOWN('기술자분류(측량)'!O80/$D$92*$C$92,2) -> 0 | O92: =ROUNDDOWN('기술자분류(측량)'!P80/$D$92*$C$92,2) -> 0 | P92: =ROUNDDOWN('기술자분류(측량)'!Q80/$D$92*$C$92,2) -> 0 | Q92: =ROUNDDOWN('기술자분류(측량)'!R80/$D$92*$C$92,2) -> 0 | R92: =ROUNDDOWN('기술자분류(측량)'!S80/$D$92*$C$92,2) -> 0
A93: ㅇ 취입보 노선측량 | B93: m | Y93: 세부 | Z93: p.31
A94: - 선정 | B94: 개소 | D94: 1 | E94: ='기술자분류(측량)'!I79 -> 0.5 | F94: ='기술자분류(측량)'!J79 -> 0 | G94: ='기술자분류(측량)'!K79 -> 0 | M94: =ROUNDDOWN('기술자분류(측량)'!N79/$D$94*$C$94,2) -> 0 | N94: =ROUNDDOWN('기술자분류(측량)'!O79/$D$94*$C$94,2) -> 0 | O94: =ROUNDDOWN('기술자분류(측량)'!P79/$D$94*$C$94,2) -> 0 | P94: =ROUNDDOWN('기술자분류(측량)'!Q79/$D$94*$C$94,2) -> 0 | Q94: =ROUNDDOWN('기술자분류(측량)'!R79/$D$94*$C$94,2) -> 0 | R94: =ROUNDDOWN('기술자분류(측량)'!S79/$D$94*$C$94,2) -> 0
A95: - 선점 | B95: 개소 | D95: 1 | E95: ='기술자분류(측량)'!I80 -> 0.5 | F95: ='기술자분류(측량)'!J80 -> 0 | G95: ='기술자분류(측량)'!K80 -> 0.5 | M95: =ROUNDDOWN('기술자분류(측량)'!N80/$D$95*$C$95,2) -> 0 | N95: =ROUNDDOWN('기술자분류(측량)'!O80/$D$95*$C$95,2) -> 0 | O95: =ROUNDDOWN('기술자분류(측량)'!P80/$D$95*$C$95,2) -> 0 | P95: =ROUNDDOWN('기술자분류(측량)'!Q80/$D$95*$C$95,2) -> 0 | Q95: =ROUNDDOWN('기술자분류(측량)'!R80/$D$95*$C$95,2) -> 0 | R95: =ROUNDDOWN('기술자분류(측량)'!S80/$D$95*$C$95,2) -> 0
A96: - 중심선 측량 | B96: m | D96: 50 | E96: ='기술자분류(측량)'!I81 -> 0.5 | F96: ='기술자분류(측량)'!J81 -> 0.5 | G96: ='기술자분류(측량)'!K81 -> 1 | J96: 10 | M96: =ROUNDDOWN('기술자분류(측량)'!N81/$D$96*$C$96,2) -> 0 | N96: =ROUNDDOWN('기술자분류(측량)'!O81/$D$96*$C$96,2) -> 0 | O96: =ROUNDDOWN('기술자분류(측량)'!P81/$D$96*$C$96,2) -> 0 | P96: =ROUNDDOWN('기술자분류(측량)'!Q81/$D$96*$C$96,2) -> 0 | Q96: =ROUNDDOWN('기술자분류(측량)'!R81/$D$96*$C$96,2) -> 0 | R96: =ROUNDDOWN('기술자분류(측량)'!S81/$D$96*$C$96,2) -> 0 | U96: =J96/D96*C96 -> 0 | Z96: GPS(90%)
A97: - 종단 측량 | B97: m | D97: 50 | E97: ='기술자분류(측량)'!I82 -> 0.5 | F97: ='기술자분류(측량)'!J82 -> 0 | G97: ='기술자분류(측량)'!K82 -> 0.5 | M97: =ROUNDDOWN('기술자분류(측량)'!N82/$D$97*$C$97,2) -> 0 | N97: =ROUNDDOWN('기술자분류(측량)'!O82/$D$97*$C$97,2) -> 0 | O97: =ROUNDDOWN('기술자분류(측량)'!P82/$D$97*$C$97,2) -> 0 | P97: =ROUNDDOWN('기술자분류(측량)'!Q82/$D$97*$C$97,2) -> 0 | Q97: =ROUNDDOWN('기술자분류(측량)'!R82/$D$97*$C$97,2) -> 0 | R97: =ROUNDDOWN('기술자분류(측량)'!S82/$D$97*$C$97,2) -> 0 | Z97: GPS(90%)
A98: - 횡단 측량 | B98: m | D98: 50 | E98: ='기술자분류(측량)'!I83 -> 0.5 | F98: ='기술자분류(측량)'!J83 -> 0 | G98: ='기술자분류(측량)'!K83 -> 0.5 | M98: =ROUNDDOWN('기술자분류(측량)'!N83/$D$98*$C$98,2) -> 0 | N98: =ROUNDDOWN('기술자분류(측량)'!O83/$D$98*$C$98,2) -> 0 | O98: =ROUNDDOWN('기술자분류(측량)'!P83/$D$98*$C$98,2) -> 0 | P98: =ROUNDDOWN('기술자분류(측량)'!Q83/$D$98*$C$98,2) -> 0 | Q98: =ROUNDDOWN('기술자분류(측량)'!R83/$D$98*$C$98,2) -> 0 | R98: =ROUNDDOWN('기술자분류(측량)'!S83/$D$98*$C$98,2) -> 0 | Z98: GPS(90%)
A99: ■ 노선측량
A100: ㅇ 용‧배수로측량 | B100: km | C100: 0 | D100: 3 | E100: ='기술자분류(측량)'!I85 -> 1 | F100: 0 | G100: 0 | M100: =ROUNDDOWN('기술자분류(측량)'!N98/$D$100*$C$100,2) -> 0 | N100: =ROUNDDOWN('기술자분류(측량)'!O98/$D100*$C100,2) -> 0 | O100: =ROUNDDOWN('기술자분류(측량)'!P98/$D100*$C100,2) -> 0 | P100: =ROUNDDOWN('기술자분류(측량)'!Q98/$D100*$C100,2) -> 0 | Q100: =ROUNDDOWN('기술자분류(측량)'!R98/$D100*$C100,2) -> 0 | R100: =ROUNDDOWN('기술자분류(측량)'!S85/$D$100*$C$100,2)*0.8 -> 0 | Y100: 세부 | Z100: p.32
A101: ㅇ 기설 노선측량(기설 용‧배수로측량) | B101: km | D101: 3 | Y101: 세부 | Z101: p.32
...

Sheet 기술자분류(측량)
A2: [표준품셈] | I2: [조사비적산기준] | M2: [조사비적산기준의 기술자 품을 표준품셈 기술자별 품 비율에 따라 세분화]
A3: 수준측량 | B3: 구분 | C3: 특급 | D3: 고급 | E3: 중급 | F3: 초급 | G3: 초급기능사 | I3: 기술자 | J3: 인부 | K3: 측부 | M3: 특급 | N3: 고급 | O3: 중급 | P3: 초급 | Q3: 초급기능사 | R3: 인부 | S3: 측부 | T3: 비고(표준품셈)
B4: 답사선점 | E4: 1 | I4: 0.1 | N4: =D4/SUM($D$4:$G$4)*$I$4 -> 0 | O4: =E4/SUM($D$4:$G$4)*$I$4 -> 0.1 | P4: =F4/SUM($D$4:$G$4)*$I$4 -> 0 | Q4: =G4/SUM($D$4:$G$4)*$I$4 -> 0 | T4: 9-2-4 수준측량
B5: 관측 | D5: 2 | E5: 8 | F5: 8 | G5: 8 | I5: 0.9 | J5: 1 | K5: 2 | N5: =ROUND(D5/SUM($D$5:$G$5)*$I$5,2) -> 0.07 | O5: =ROUND(E5/SUM($D$5:$G$5)*$I$5,2) -> 0.28 | P5: =ROUND(F5/SUM($D$5:$G$5)*$I$5,2) -> 0.28 | Q5: =I5-SUM(N5:P5) -> 0.27 | R5: 1 | S5: 2
A6: 1급기준점측량 | B6: 구분 | C6: 특급 | D6: 고급 | E6: 중급 | F6: 초급 | G6: 초급기능사 | I6: 기술자 | J6: 인부 | K6: 측부 | M6: 특급 | N6: 고급 | O6: 중급 | P6: 초급 | Q6: 초급기능사 | R6: 인부 | S6: 측부
B7: 답사선점 | D7: 5 | E7: 5 | F7: 5 | G7: 5 | I7: 0.5 | K7: 0.5 | N7: =ROUND(D7/SUM($D$7:$G$7)*$I$7,2) -> 0.13 | O7: =ROUND(E7/SUM($D$7:$G$7)*$I$7,2) -> 0.13 | P7: =ROUND(F7/SUM($D$7:$G$7)*$I$7,2) -> 0.13 | Q7: =I7-SUM(N7:P7) -> 0.11 | S7: 0.5 | T7: 18-3-1 1급기준점측량
B8: 조표 | D8: 0 | E8: 5 | F8: 5 | G8: 5 | I8: 0.3 | J8: 0.7 | K8: 0.5 | N8: =ROUND(D8/SUM($D$8:$G$8)*$I$8,2) -> 0 | O8: =ROUND(E8/SUM($D$8:$G$8)*$I$8,2) -> 0.1 | P8: =ROUND(F8/SUM($D$8:$G$8)*$I$8,2) -> 0.1 | Q8: =I8-SUM(N8:P8) -> 0.1 | R8: 0.7 | S8: 0.5
B9: 관측 | D9: 9 | E9: 15 | F9: 12 | G9: 24 | I9: 1.4 | K9: 2 | N9: =ROUND(D9/SUM($D$9:$G$9)*$I$9,2) -> 0.21 | O9: =ROUND(E9/SUM($D$9:$G$9)*$I$9,2) -> 0.35 | P9: =ROUND(F9/SUM($D$9:$G$9)*$I$9,2) -> 0.28 | Q9: =I9-SUM(N9:P9) -> 0.56 | S9: 2
A10: 2급기준점측량 | B10: 구분 | C10: 특급 | D10: 고급 | E10: 중급 | F10: 초급 | G10: 초급기능사 | I10: 기술자 | J10: 인부 | K10: 측부 | M10: 특급 | N10: 고급 | O10: 중급 | P10: 초급 | Q10: 초급기능사 | R10: 인부 | S10: 측부
B11: 답사선점 | D11: 4 | E11: 4 | F11: 4 | G11: 4 | I11: 0.4 | K11: 0.4 | N11: =ROUND(D11/SUM($D$11:$G$11)*$I$11,2) -> 0.1 | O11: =ROUND(E11/SUM($D$11:$G$11)*$I$11,2) -> 0.1 | P11: =ROUND(F11/SUM($D$11:$G$11)*$I$11,2) -> 0.1 | Q11: =I11-SUM(N11:P11) -> 0.1 | S11: 0.4 | T11: 18-3-2 2급기준점측량
B12: 조표 | E12: 4 | F12: 4 | G12: 4 | I12: 0.2 | J12: 0.5 | K12: 0.4 | N12: =ROUND(D12/SUM($D$12:$G$12)*$I$12,2) -> 0 | O12: =ROUND(E12/SUM($D$12:$G$12)*$I$12,2) -> 0.07 | P12: =ROUND(F12/SUM($D$12:$G$12)*$I$12,2) -> 0.07 | Q12: =I12-SUM(N12:P12) -> 0.06 | R12: 0.5 | S12: 0.4
B13: 관측 | D13: 8 | E13: 10 | F13: 10 | G13: 20 | I13: 1.2 | K13: 1.7 | N13: =ROUND(D13/SUM($D$13:$G$13)*$I$13,2) -> 0.2 | O13: =ROUND(E13/SUM($D$13:$G$13)*$I$13,2) -> 0.25 | P13: =ROUND(F13/SUM($D$13:$G$13)*$I$13,2) -> 0.25 | Q13: =I13-SUM(N13:P13) -> 0.5 | S13: 1.7
A14: 3급기준점측량 | B14: 구분 | C14: 특급 | D14: 고급 | E14: 중급 | F14: 초급 | G14: 초급기능사 | I14: 기술자 | J14: 인부 | K14: 측부 | M14: 특급 | N14: 고급 | O14: 중급 | P14: 초급 | Q14: 초급기능사 | R14: 인부 | S14: 측부
B15: 답사선점 | D15: 1.5 | E15: 2 | F15: 2 | G15: 2 | I15: 0.1 | K15: 0.1 | N15: =ROUND(D15/SUM($D$15:$G$15)*$I$15,2) -> 0.02 | O15: =ROUND(E15/SUM($D$15:$G$15)*$I$15,2) -> 0.03 | P15: =ROUND(F15/SUM($D$15:$G$15)*$I$15,2) -> 0.03 | Q15: =I15-SUM(N15:P15) -> 0.02 | S15: 0.1 | T15: 18-3-3 3급기준점측량
B16: 조표 | D16: 0 | E16: 2 | F16: 2 | G16: 2 | I16: 0.1 | J16: 0.1 | K16: 0.1 | N16: =ROUND(D16/SUM($D$16:$G$16)*$I$16,2) -> 0 | O16: =ROUND(E16/SUM($D$16:$G$16)*$I$16,2) -> 0.03 | P16: =ROUND(F16/SUM($D$16:$G$16)*$I$16,2) -> 0.03 | Q16: =I16-SUM(N16:P16) -> 0.04 | R16: 0.1 | S16: 0.1
B17: 관측 | D17: 14 | E17: 14 | F17: 14 | G17: 28 | I17: 0.7 | K17: 1.1 | N17: =ROUND(D17/SUM($D$17:$G$17)*$I$17,2) -> 0.14 | O17: =ROUND(E17/SUM($D$17:$G$17)*$I$17,2) -> 0.14 | P17: =ROUND(F17/SUM($D$17:$G$17)*$I$17,2) -> 0.14 | Q17: =I17-SUM(N17:P17) -> 0.28 | S17: 1.1
A18: 4급기준점측량 | B18: 구분 | C18: 특급 | D18: 고급 | E18: 중급 | F18: 초급 | G18: 초급기능사 | I18: 기술자 | J18: 인부 | K18: 측부 | M18: 특급 | N18: 고급 | O18: 중급 | P18: 초급 | Q18: 초급기능사 | R18: 인부 | S18: 측부
B19: 답사선점 | D19: 1.5 | E19: 3 | F19: 3 | I19: 0.2 | J19: 0.1 | K19: 0.2 | N19: =ROUND(SUM(D19:D21)/SUM($D$19:$G$21)*$I$19,2) -> 0.04 | O19: =ROUND(SUM(E19:E21)/SUM($D$19:$G$21)*$I$19,2) -> 0.04 | P19: =ROUND(SUM(F19:F21)/SUM($D$19:$G$21)*$I$19,2) -> 0.04 | Q19: =I19-SUM(N19:P21) -> 0.08 | R19: 0.1 | S19: 0.2 | T19: 18-3-4 4급기준점측량
B20: 조표
B21: 관측 | D21: 20 | E21: 20 | F21: 20 | G21: 40
A22: 지형측량 S=1/500~600 | B22: 구분 | C22: 특급 | D22: 고급 | E22: 중급 | F22: 초급 | G22: 초급기능사 | I22: 기술자 | J22: 인부 | K22: 측부 | M22: 특급 | N22: 고급 | O22: 중급 | P22: 초급 | Q22: 초급기능사 | R22: 인부 | S22: 측부
B23: 기준점설치 | E23: 1 | F23: 1 | I23: 3 | J23: 1 | K23: 2 | N23: =ROUND(SUM(D23:D24)/SUM($D$23:$G$24)*$I$23,2) -> 0 | O23: =ROUND(SUM(E23:E24)/SUM($D$23:$G$24)*$I$23,2) -> 1.04 | P23: =ROUND(SUM(F23:F24)/SUM($D$23:$G$24)*$I$23,2) -> 1.04 | Q23: =I23-SUM(N23:P24) -> 0.92 | R23: 1 | S23: 2 | T23: 18-8 지형현황
B24: 세부측량 | E24: 7 | F24: 7 | G24: 7
A25: 지형측량 S=1/1,200 | B25: 구분 | C25: 특급 | D25: 고급 | E25: 중급 | F25: 초급 | G25: 초급기능사 | I25: 기술자 | J25: 인부 | K25: 측부 | M25: 특급 | N25: 고급 | O25: 중급 | P25: 초급 | Q25: 초급기능사 | R25: 인부 | S25: 측부
B26: 기준점설치 | E26: 1 | F26: 1 | I26: 3 | J26: 1 | K26: 2 | N26: =ROUND(SUM(D26:D27)/SUM($D$23:$G$24)*$I$23,2) -> 0 | O26: =ROUND(SUM(E26:E27)/SUM($D$23:$G$24)*$I$23,2) -> 1.04 | P26: =ROUND(SUM(F26:F27)/SUM($D$23:$G$24)*$I$23,2) -> 1.04 | Q26: =I26-SUM(N26:P27) -> 0.92 | R26: 1 | S26: 2 | T26: 18-8 지형현황
B27: 세부측량 | E27: 7 | F27: 7 | G27: 7
A28: 구역내 고저측량 (농업용수, 배수개선용) | B28: 구분 | C28: 특급 | D28: 고급 | E28: 중급 | F28: 초급 | G28: 초급기능사 | I28: 기술자 | J28: 인부 | K28: 측부 | M28: 특급 | N28: 고급 | O28: 중급 | P28: 초급 | Q28: 초급기능사 | R28: 인부 | S28: 측부
B29: 기준점설치 | E29: 1 | F29: 1 | T29: 9-3-1 지형현황
B30: 답 | E30: 7 | F30: 7 | G30: 7 | I30: 2 | K30: 2 | O30: =ROUND(SUM(E29:E30)/SUM($E$29:$G$30)*$I$30,2) -> 0.7 | P30: =ROUND(SUM(F29:F30)/SUM($E$29:$G$30)*$I$30,2) -> 0.7 | Q30: =I30-SUM(N30:P30) -> 0.6 | S30: 2
B31: 전,임야 | E31: 7 | F31: 7 | G31: 7 | I31: 3 | J31: 1 | K31: 2 | O31: =ROUND(SUM(E29:E30)/SUM($E$29:$G$30)*$I$31,2) -> 1.04 | P31: =ROUND(SUM(F29:F30)/SUM($E$29:$G$30)*$I$31,2) -> 1.04 | Q31: =I31-SUM(N31:P31) -> 0.92 | R31: 1 | S31: 2
B32: 기경지정리 답 | E32: 7 | F32: 7 | G32: 7 | I32: 2 | K32: 2 | O32: 0.7 | P32: 0.7 | Q32: =I32-SUM(N32:P32) -> 0.6 | S32: 2
A33: 지형현황측량 (토탈스테이션, 지오디메이터 등 사용시) | B33: 구분 | C33: 특급 | D33: 고급 | E33: 중급 | F33: 초급 | G33: 초급기능사 | I33: 기술자 | J33: 인부 | K33: 측부 | M33: 특급 | N33: 고급 | O33: 중급 | P33: 초급 | Q33: 초급기능사 | R33: 인부 | S33: 측부
B34: 기준점설치 | E34: 1 | F34: 1 | T34: 9-3-1 지형현황
B35: 평지 | E35: 7 | F35: 7 | G35: 7 | I35: 1.8 | J35: 1 | K35: 2 | O35: =ROUND(SUM(E34:E35)/SUM($E$34:$G$35)*$I$35,2) -> 0.63 | P35: =ROUND(SUM(F34:F35)/SUM($E$34:$G$35)*$I$35,2) -> 0.63 | Q35: =I35-SUM(N35:P35) -> 0.54 | R35: 1 | S35: 2
B36: 구릉지 및 산지 | E36: 7 | F36: 7 | G36: 7 | I36: 2.1 | J36: 1.2 | K36: 2.4 | O36: =ROUND(SUM(E34:E35)/SUM($E$34:$G$35)*$I$36,2) -> 0.73 | P36: =ROUND(SUM(F34:F35)/SUM($E$34:$G$35)*$I$36,2) -> 0.73 | Q36: =I36-SUM(N36:P36) -> 0.64 | R36: 1.2 | S36: 2.4
B37: 시가지 | E37: 7 | F37: 7 | G37: 7 | I37: 3.6 | J37: 1 | K37: 4 | O37: =ROUND(SUM(E34:E35)/SUM($E$34:$G$35)*$I$37,2) -> 1.25 | P37: =ROUND(SUM(F34:F35)/SUM($E$34:$G$35)*$I$37,2) -> 1.25 | Q37: =I37-SUM(N37:P37) -> 1.1 | R37: 1 | S37: 4
A38: 저수지 내용적 측량 | B38: 구분 | C38: 특급 | D38: 고급 | E38: 중급 | F38: 초급 | G38: 초급기능사 | I38: 기술자 | J38: 인부 | K38: 측부 | M38: 특급 | N38: 고급 | O38: 중급 | P38: 초급 | Q38: 초급기능사 | R38: 인부 | S38: 측부
B39: 기준점설치 | E39: 1 | F39: 1 | T39: 18-8 지형현황
B40: 저수지 내용적측량 | E40: 7 | F40: 7 | G40: 7 | I40: 1.1 | J40: 0.6 | K40: 0.6 | O40: =ROUND(SUM(E39:E40)/SUM($E$39:$G$40)*$I$40,2) -> 0.38 | P40: =ROUND(SUM(F39:F40)/SUM($E$39:$G$40)*$I$40,2) -> 0.38 | Q40: =I40-SUM(N40:P40) -> 0.34 | R40: 0.6 | S40: 0.6
A41: 용배수로 등 (농경지,구릉지) 노선측량 | B41: 구분 | C41: 특급 | D41: 고급 | E41: 중급 | F41: 초급 | G41: 초급기능사 | I41: 기술자 | J41: 인부 | K41: 측부 | M41: 특급 | N41: 고급 | O41: 중급 | P41: 초급 | Q41: 초급기능사 | R41: 인부 | S41: 측부
B42: 노선선정 | D42: 2 | E42: 1 | F42: 2 | G42: 0 | I42: 1 | N42: =ROUND(D42/SUM($D$42:$G$42)*$I$42,2) -> 0.4 | O42: =ROUND(E42/SUM($D$42:$G$42)*$I$42,2) -> 0.2 | P42: =ROUND(F42/SUM($D$42:$G$42)*$I$42,2) -> 0.4 | Q42: =I42-SUM(N42:P42) -> 0 | T42: 9-4-1 노선측량
B43: 노선선점 | D43: 1 | E43: 1 | F43: 2 | G43: 2 | I43: 1 | J43: 1 | K43: 1 | N43: =ROUND(D43/SUM($D$43:$G$43)*$I$43,2) -> 0.17 | O43: =ROUND(E43/SUM($D$43:$G$43)*$I$43,2) -> 0.17 | P43: =ROUND(F43/SUM($D$43:$G$43)*$I$43,2) -> 0.33 | Q43: =I43-SUM(N43:P43) -> 0.33 | R43: 1 | S43: 1
B44: 중심선측량 | D44: 1 | E44: 1 | F44: 1 | G44: 2 | I44: 3 | J44: 2 | K44: 3 | N44: =ROUND(D44/SUM($D$44:$G$44)*$I$44,2) -> 0.6 | O44: =ROUND(E44/SUM($D$44:$G$44)*$I$44,2) -> 0.6 | P44: =ROUND(F44/SUM($D$44:$G$44)*$I$44,2) -> 0.6 | Q44: =I44-SUM(N44:P44) -> 1.2 | R44: 2 | S44: 3
B45: 종단측량 | D45: 0 | E45: 1 | F45: 1 | G45: 2 | I45: 1 | K45: 1 | N45: =ROUND(D45/SUM($D$45:$G$45)*$I$45,2) -> 0 | O45: =ROUND(E45/SUM($D$45:$G$45)*$I$45,2) -> 0.25 | P45: =ROUND(F45/SUM($D$45:$G$45)*$I$45,2) -> 0.25 | Q45: =I45-SUM(N45:P45) -> 0.5 | S45: 1
B46: 횡단측량 | D46: 0 | E46: 1 | F46: 1 | G46: 2 | I46: 2 | K46: 2 | N46: =ROUND(D46/SUM($D$46:$G$46)*$I$46,2) -> 0 | O46: =ROUND(E46/SUM($D$46:$G$46)*$I$46,2) -> 0.5 | P46: =ROUND(F46/SUM($D$46:$G$46)*$I$46,2) -> 0.5 | Q46: =I46-SUM(N46:P46) -> 1 | S46: 2
B47: ip위치측량 | D47: 0 | E47: 1 | F47: 1 | G47: 2 | I47: 2 | K47: 2 | N47: =ROUND(D47/SUM($D$47:$G$47)*$I$47,2) -> 0 | O47: =ROUND(E47/SUM($D$47:$G$47)*$I$47,2) -> 0.5 | P47: =ROUND(F47/SUM($D$47:$G$47)*$I$47,2) -> 0.5 | Q47: =I47-SUM(N47:P47) -> 1 | S47: 2
A48: 용배수로 등 (산, 임야지) 노선측량 | B48: 구분 | C48: 특급 | D48: 고급 | E48: 중급 | F48: 초급 | G48: 초급기능사 | I48: 기술자 | J48: 인부 | K48: 측부 | M48: 특급 | N48: 고급 | O48: 중급 | P48: 초급 | Q48: 초급기능사 | R48: 인부 | S48: 측부
B49: 노선선정 | D49: 2 | E49: 1 | F49: 2 | G49: 0 | I49: 1 | N49: =ROUND(D49/SUM($D$49:$G$49)*$I$49,2) -> 0.4 | O49: =ROUND(E49/SUM($D$49:$G$49)*$I$49,2) -> 0.2 | P49: =ROUND(F49/SUM($D$49:$G$49)*$I$49,2) -> 0.4 | Q49: =I49-SUM(N49:P49) -> 0 | T49: 18-10 노선측량
B50: 노선선점 | D50: 1 | E50: 1 | F50: 2 | G50: 2 | I50: 1 | J50: 1 | K50: 1 | N50: =ROUND(D50/SUM($D$50:$G$50)*$I$50,2) -> 0.17 | O50: =ROUND(E50/SUM($D$50:$G$50)*$I$50,2) -> 0.17 | P50: =ROUND(F50/SUM($D$50:$G$50)*$I$50,2) -> 0.33 | Q50: =I50-SUM(N50:P50) -> 0.33 | R50: 1 | S50: 1 | T50: 기본조사
D51: 1 | E51: 1 | F51: 2 | G51: 2 | I51: 2 | J51: 2 | K51: 1 | N51: =ROUND(D51/SUM($D$51:$G$51)*$I$51,2) -> 0.33 | O51: =ROUND(E51/SUM($D$51:$G$51)*$I$51,2) -> 0.33 | P51: =ROUND(F51/SUM($D$51:$G$51)*$I$51,2) -> 0.67 | Q51: =I51-SUM(N51:P51) -> 0.67 | R51: 2 | S51: 1 | T51: 실시
B52: 중심선측량 | D52: 1 | E52: 1 | F52: 1 | G52: 2 | I52: 3 | J52: 3 | K52: 3 | N52: =ROUND(D52/SUM($D$52:$G$52)*$I$52,2) -> 0.6 | O52: =ROUND(E52/SUM($D$52:$G$52)*$I$52,2) -> 0.6 | P52: =ROUND(F52/SUM($D$52:$G$52)*$I$52,2) -> 0.6 | Q52: =I52-SUM(N52:P52) -> 1.2 | R52: 3 | S52: 3
B53: 종단측량 | D53: 0 | E53: 1 | F53: 1 | G53: 2 | I53: 1 | K53: 1 | N53: =ROUND(D53/SUM($D$53:$G$53)*$I$53,2) -> 0 | O53: =ROUND(E53/SUM($D$53:$G$53)*$I$53,2) -> 0.25 | P53: =ROUND(F53/SUM($D$53:$G$53)*$I$53,2) -> 0.25 | Q53: =I53-SUM(N53:P53) -> 0.5 | S53: 1
B54: 횡단측량 | D54: 0 | E54: 1 | F54: 1 | G54: 2 | I54: 2 | K54: 2 | N54: =ROUND(D54/SUM($D$54:$G$54)*$I$54,2) -> 0 | O54: =ROUND(E54/SUM($D$54:$G$54)*$I$54,2) -> 0.5 | P54: =ROUND(F54/SUM($D$54:$G$54)*$I$54,2) -> 0.5 | Q54: =I54-SUM(N54:P54) -> 1 | S54: 2
B55: ip위치측량 | D55: 0 | E55: 1 | F55: 1 | G55: 2 | I55: 2 | K55: 2 | N55: =ROUND(D55/SUM($D$55:$G$55)*$I$55,2) -> 0 | O55: =ROUND(E55/SUM($D$55:$G$55)*$I$55,2) -> 0.5 | P55: =ROUND(F55/SUM($D$55:$G$55)*$I$55,2) -> 0.5 | Q55: =I55-SUM(N55:P55) -> 1 | S55: 2
A56: 용‧배수로 등 (농경지,구릉지) 노선지형측량 | B56: 구분 | C56: 특급 | D56: 고급 | E56: 중급 | F56: 초급 | G56: 초급기능사 | I56: 기술자 | J56: 인부 | K56: 측부 | M56: 특급 | N56: 고급 | O56: 중급 | P56: 초급 | Q56: 초급기능사 | R56: 인부 | S56: 측부
B57: 농경지 | D57: 4 | E57: 6 | F57: 8 | G57: 10 | I57: 3 | J57: 2 | K57: 2 | N57: =ROUND(D57/SUM($D$57:$G$57)*$I$57,2) -> 0.43 | O57: =ROUND(E57/SUM($D$57:$G$57)*$I$57,2) -> 0.64 | P57: =ROUND(F57/SUM($D$57:$G$57)*$I$57,2) -> 0.86 | Q57: =ROUND(G57/SUM($D$57:$G$57)*$I$57,2) -> 1.07 | R57: 2 | S57: 2 | T57: 18-10 노선측량(전체 더하기)
A58: 용‧배수로 등 (산,임야) 노선지형측량 | B58: 구분 | D58: 고급 | E58: 중급 | F58: 초급 | G58: 초급기능사 | I58: 기술자 | J58: 인부 | K58: 측부 | N58: 고급 | O58: 중급 | P58: 초급 | Q58: 초급기능사 | R58: 인부 | S58: 측부
B59: 산,임야지 | D59: 4 | E59: 6 | F59: 8 | G59: 10 | I59: 3 | J59: 2 | K59: 2 | N59: =ROUND(D59/SUM($D$59:$G$59)*$I$59,2) -> 0.43 | O59: =ROUND(E59/SUM($D$59:$G$59)*$I$59,2) -> 0.64 | P59: =ROUND(F59/SUM($D$59:$G$59)*$I$59,2) -> 0.86 | Q59: =ROUND(G59/SUM($D$59:$G$59)*$I$59,2) -> 1.07 | R59: 2 | S59: 2 | T59: 18-10 노선측량(전체 더하기)
A60: 제방 노선측량 | B60: 구분 | C60: 특급 | D60: 고급 | E60: 중급 | F60: 초급 | G60: 초급기능사 | I60: 기술자 | J60: 인부 | K60: 측부 | M60: 특급 | N60: 고급 | O60: 중급 | P60: 초급 | Q60: 초급기능사 | R60: 인부 | S60: 측부
B61: 선정 | D61: 2 | E61: 1 | F61: 2 | G61: 0 | I61: 1 | K61: 1 | N61: =ROUND(D61/SUM($D$61:$G$61)*$I$61,2) -> 0.4 | O61: =ROUND(E61/SUM($D$61:$G$61)*$I$61,2) -> 0.2 | P61: =ROUND(F61/SUM($D$61:$G$61)*$I$61,2) -> 0.4 | Q61: =I61-SUM(N61:P61) -> 0 | S61: 1 | T61: 18-10 노선측량
B62: 선점 | D62: 1 | E62: 1 | F62: 2 | G62: 2 | I62: 1 | K62: 1 | N62: =ROUND(D62/SUM($D$62:$G$62)*$I$62,2) -> 0.17 | O62: =ROUND(E62/SUM($D$62:$G$62)*$I$62,2) -> 0.17 | P62: =ROUND(F62/SUM($D$62:$G$62)*$I$62,2) -> 0.33 | Q62: =I62-SUM(N62:P62) -> 0.33 | S62: 1
B63: 중심선측량 | D63: 1 | E63: 1 | F63: 1 | G63: 2 | I63: 1 | J63: 2 | K63: 3 | N63: =ROUND(D63/SUM($D$63:$G$63)*$I$63,2) -> 0.2 | O63: =ROUND(E63/SUM($D$63:$G$63)*$I$63,2) -> 0.2 | P63: =ROUND(F63/SUM($D$63:$G$63)*$I$63,2) -> 0.2 | Q63: =I63-SUM(N63:P63) -> 0.4 | R63: 2 | S63: 3
B64: 종단측량 | D64: 0 | E64: 1 | F64: 1 | G64: 2 | I64: 1 | K64: 1 | N64: =ROUND(D64/SUM($D$64:$G$64)*$I$64,2) -> 0 | O64: =ROUND(E64/SUM($D$64:$G$64)*$I$64,2) -> 0.25 | P64: =ROUND(F64/SUM($D$64:$G$64)*$I$64,2) -> 0.25 | Q64: =I64-SUM(N64:P64) -> 0.5 | S64: 1
B65: 횡단측량 | D65: 0 | E65: 1 | F65: 1 | G65: 2 | I65: 4 | J65: 1 | K65: 3 | N65: =ROUND(D65/SUM($D$65:$G$65)*$I$65,2) -> 0 | O65: =ROUND(E65/SUM($D$65:$G$65)*$I$65,2) -> 1 | P65: =ROUND(F65/SUM($D$65:$G$65)*$I$65,2) -> 1 | Q65: =I65-SUM(N65:P65) -> 2 | R65: 1 | S65: 3
A66: 여수토 방수로 통관 노선측량 | B66: 구분 | C66: 특급 | D66: 고급 | E66: 중급 | F66: 초급 | G66: 초급기능사 | I66: 기술자 | J66: 인부 | K66: 측부 | M66: 특급 | N66: 고급 | O66: 중급 | P66: 초급 | Q66: 초급기능사 | R66: 인부 | S66: 측부
B67: 선정 | D67: 2 | E67: 1 | F67: 2 | G67: 0 | I67: 0.5 | N67: =ROUND(D67/SUM($D$67:$G$67)*$I$67,2) -> 0.2 | O67: =ROUND(E67/SUM($D$67:$G$67)*$I$67,2) -> 0.1 | P67: =ROUND(F67/SUM($D$67:$G$67)*$I$67,2) -> 0.2 | Q67: =I67-SUM(N67:P67) -> 0 | T67: 18-10 노선측량
B68: 선점 | D68: 1 | E68: 1 | F68: 2 | G68: 2 | I68: 0.5 | K68: 0.5 | N68: =ROUND(D68/SUM($D$68:$G$68)*$I$68,2) -> 0.08 | O68: =ROUND(E68/SUM($D$68:$G$68)*$I$68,2) -> 0.08 | P68: =ROUND(F68/SUM($D$68:$G$68)*$I$68,2) -> 0.17 | Q68: =I68-SUM(N68:P68) -> 0.17 | S68: 0.5
B69: 중심선측량 | D69: 1 | E69: 1 | F69: 1 | G69: 2 | I69: 0.3 | J69: 0.7 | K69: 1 | N69: =ROUND(D69/SUM($D$69:$G$69)*$I$69,2) -> 0.06 | O69: =ROUND(E69/SUM($D$69:$G$69)*$I$69,2) -> 0.06 | P69: =ROUND(F69/SUM($D$69:$G$69)*$I$69,2) -> 0.06 | Q69: =I69-SUM(N69:P69) -> 0.12 | R69: 0.7 | S69: 1
B70: 종단측량 | D70: 0 | E70: 1 | F70: 1 | G70: 2 | I70: 0.3 | K70: 0.3 | N70: =ROUND(D70/SUM($D$70:$G$70)*$I$70,2) -> 0 | O70: =ROUND(E70/SUM($D$70:$G$70)*$I$70,2) -> 0.08 | P70: =ROUND(F70/SUM($D$70:$G$70)*$I$70,2) -> 0.08 | Q70: =I70-SUM(N70:P70) -> 0.14 | S70: 0.3
B71: 횡단측량 | D71: 0 | E71: 1 | F71: 1 | G71: 2 | I71: 0.3 | K71: 0.7 | N71: =ROUND(D71/SUM($D$71:$G$71)*$I$71,2) -> 0 | O71: =ROUND(E71/SUM($D$71:$G$71)*$I$71,2) -> 0.08 | P71: =ROUND(F71/SUM($D$71:$G$71)*$I$71,2) -> 0.08 | Q71: =I71-SUM(N71:P71) -> 0.14 | S71: 0.7
A72: 양배수장 노선측량 | B72: 구분 | C72: 특급 | D72: 고급 | E72: 중급 | F72: 초급 | G72: 초급기능사 | I72: 기술자 | J72: 인부 | K72: 측부 | M72: 특급 | N72: 고급 | O72: 중급 | P72: 초급 | Q72: 초급기능사 | R72: 인부 | S72: 측부
B73: 위치선정 | D73: 2 | E73: 1 | F73: 2 | G73: 0 | I73: 0.5 | N73: =ROUND(D73/SUM($D$73:$G$73)*$I$73,2) -> 0.2 | O73: =ROUND(E73/SUM($D$73:$G$73)*$I$73,2) -> 0.1 | P73: =ROUND(F73/SUM($D$73:$G$73)*$I$73,2) -> 0.2 | Q73: =I73-SUM(N73:P73) -> 0 | T73: 18-10 노선측량
B74: 선점 | D74: 1 | E74: 1 | F74: 2 | G74: 2 | I74: 0.5 | K74: 0.5 | N74: =ROUND(D74/SUM($D$74:$G$74)*$I$74,2) -> 0.08 | O74: =ROUND(E74/SUM($D$74:$G$74)*$I$74,2) -> 0.08 | P74: =ROUND(F74/SUM($D$74:$G$74)*$I$74,2) -> 0.17 | Q74: =I74-SUM(N74:P74) -> 0.17 | S74: 0.5
B75: 중심선측량 | D75: 1 | E75: 1 | F75: 1 | G75: 2 | I75: 0.3 | J75: 0.7 | K75: 1 | N75: =ROUND(D75/SUM($D$75:$G$75)*$I$75,2) -> 0.06 | O75: =ROUND(E75/SUM($D$75:$G$75)*$I$75,2) -> 0.06 | P75: =ROUND(F75/SUM($D$75:$G$75)*$I$75,2) -> 0.06 | Q75: =I75-SUM(N75:P75) -> 0.12 | R75: 0.7 | S75: 1
B76: 종단측량 | D76: 0 | E76: 1 | F76: 1 | G76: 2 | I76: 0.3 | K76: 0.3 | N76: =ROUND(D76/SUM($D$76:$G$76)*$I$76,2) -> 0 | O76: =ROUND(E76/SUM($D$76:$G$76)*$I$76,2) -> 0.08 | P76: =ROUND(F76/SUM($D$76:$G$76)*$I$76,2) -> 0.08 | Q76: =I76-SUM(N76:P76) -> 0.14 | S76: 0.3
B77: 횡단측량 | D77: 0 | E77: 1 | F77: 1 | G77: 2 | I77: 0.3 | K77: 0.7 | N77: =ROUND(D77/SUM($D$77:$G$77)*$I$77,2) -> 0 | O77: =ROUND(E77/SUM($D$77:$G$77)*$I$77,2) -> 0.08 | P77: =ROUND(F77/SUM($D$77:$G$77)*$I$77,2) -> 0.08 | Q77: =I77-SUM(N77:P77) -> 0.14 | S77: 0.7
A78: 취입보 노선측량 | B78: 구분 | C78: 특급 | D78: 고급 | E78: 중급 | F78: 초급 | G78: 초급기능사 | I78: 기술자 | J78: 인부 | K78: 측부 | M78: 특급 | N78: 고급 | O78: 중급 | P78: 초급 | Q78: 초급기능사 | R78: 인부 | S78: 측부
B79: 위치선정 | D79: 2 | E79: 1 | F79: 2 | G79: 0 | I79: 0.5 | N79: =ROUND(D79/SUM($D$79:$G$79)*$I$79,2) -> 0.2 | O79: =ROUND(E79/SUM($D$79:$G$79)*$I$79,2) -> 0.1 | P79: =ROUND(F79/SUM($D$79:$G$79)*$I$79,2) -> 0.2 | Q79: =I79-SUM(N79:P79) -> 0 | T79: 18-10 노선측량
B80: 선점 | D80: 1 | E80: 1 | F80: 2 | G80: 2 | I80: 0.5 | K80: 0.5 | N80: =ROUND(D80/SUM($D$80:$G$80)*$I$80,2) -> 0.08 | O80: =ROUND(E80/SUM($D$80:$G$80)*$I$80,2) -> 0.08 | P80: =ROUND(F80/SUM($D$80:$G$80)*$I$80,2) -> 0.17 | Q80: =I80-SUM(N80:P80) -> 0.17 | S80: 0.5
B81: 중심선측량 | D81: 1 | E81: 1 | F81: 1 | G81: 2 | I81: 0.5 | J81: 0.5 | K81: 1 | N81: =ROUND(D81/SUM($D$81:$G$81)*$I$81,2) -> 0.1 | O81: =ROUND(E81/SUM($D$81:$G$81)*$I$81,2) -> 0.1 | P81: =ROUND(F81/SUM($D$81:$G$81)*$I$81,2) -> 0.1 | Q81: =I81-SUM(N81:P81) -> 0.2 | R81: 0.5 | S81: 1
B82: 종단측량 | D82: 0 | E82: 1 | F82: 1 | G82: 2 | I82: 0.5 | K82: 0.5 | N82: =ROUND(D82/SUM($D$82:$G$82)*$I$82,2) -> 0 | O82: =ROUND(E82/SUM($D$82:$G$82)*$I$82,2) -> 0.13 | P82: =ROUND(F82/SUM($D$82:$G$82)*$I$82,2) -> 0.13 | Q82: =I82-SUM(N82:P82) -> 0.24 | S82: 0.5
B83: 횡단측량 | D83: 0 | E83: 1 | F83: 1 | G83: 2 | I83: 0.5 | K83: 0.5 | N83: =ROUND(D83/SUM($D$83:$G$83)*$I$83,2) -> 0 | O83: =ROUND(E83/SUM($D$83:$G$83)*$I$83,2) -> 0.13 | P83: =ROUND(F83/SUM($D$83:$G$83)*$I$83,2) -> 0.13 | Q83: =I83-SUM(N83:P83) -> 0.24 | S83: 0.5
A84: 기설 노선측량 | B84: 구분 | C84: 특급 | D84: 고급 | E84: 중급 | F84: 초급 | G84: 초급기능사 | I84: 기술자 | J84: 인부 | K84: 측부 | M84: 특급 | N84: 고급 | O84: 중급 | P84: 초급 | Q84: 초급기능사 | R84: 인부 | S84: 측부
B85: 노선선점 | D85: 1 | E85: 1 | F85: 2 | G85: 2 | I85: 1 | J85: 1 | K85: 1 | N85: =ROUND(D85/SUM($D$85:$G$85)*$I$85,2) -> 0.17 | O85: =ROUND(E85/SUM($D$85:$G$85)*$I$85,2) -> 0.17 | P85: =ROUND(F85/SUM($D$85:$G$85)*$I$85,2) -> 0.33 | Q85: =I85-SUM(N85:P85) -> 0.33 | R85: 1 | S85: 1 | T85: 9-5-1 노선측량
B86: 중심선측량 | D86: 1 | E86: 1 | F86: 1 | G86: 2 | I86: 3 | J86: 2 | K86: 3 | N86: =ROUND(D86/SUM($D$86:$G$86)*$I$86,2) -> 0.6 | O86: =ROUND(E86/SUM($D$86:$G$86)*$I$86,2) -> 0.6 | P86: =ROUND(F86/SUM($D$86:$G$86)*$I$86,2) -> 0.6 | Q86: =I86-SUM(N86:P86) -> 1.2 | R86: 2 | S86: 3
B87: 종단측량 | D87: 0 | E87: 1 | F87: 1 | G87: 2 | I87: 1 | K87: 1 | N87: =ROUND(D87/SUM($D$87:$G$87)*$I$87,2) -> 0 | O87: =ROUND(E87/SUM($D$87:$G$87)*$I$87,2) -> 0.25 | P87: =ROUND(F87/SUM($D$87:$G$87)*$I$87,2) -> 0.25 | Q87: =I87-SUM(N87:P87) -> 0.5 | S87: 1
B88: 횡단측량 | D88: 0 | E88: 1 | F88: 1 | G88: 2 | I88: 1 | K88: 2 | N88: =ROUND(D88/SUM($D$88:$G$88)*$I$88,2) -> 0 | O88: =ROUND(E88/SUM($D$88:$G$88)*$I$88,2) -> 0.25 | P88: =ROUND(F88/SUM($D$88:$G$88)*$I$88,2) -> 0.25 | Q88: =I88-SUM(N88:P88) -> 0.5 | S88: 2
A89: 하천 종단측량 | B89: 구분 | C89: 특급 | D89: 고급 | E89: 중급 | F89: 초급 | G89: 초급기능사 | I89: 기술자 | J89: 인부 | K89: 측부 | M89: 특급 | N89: 고급 | O89: 중급 | P89: 초급 | Q89: 초급기능사 | R89: 인부 | S89: 측부
B90: 횡단100m이상(양안왕복) | D90: 0.2 | E90: 1 | F90: 1 | G90: 1 | I90: 1.6 | J90: 1.6 | K90: 3.2 | N90: =ROUND(D90/SUM($D$90:$G$90)*$I$90,2) -> 0.1 | O90: =ROUND(E90/SUM($D$90:$G$90)*$I$90,2) -> 0.5 | P90: =ROUND(F90/SUM($D$90:$G$90)*$I$90,2) -> 0.5 | Q90: =I90-SUM(N90:P90) -> 0.5 | R90: 1.6 | S90: 3.2 | T90: 18-9 하천측량
B91: 횡단100m미만(한측왕복) | I91: 0.8 | J91: 0.8 | K91: 1.6 | N91: =ROUND(D90/SUM($D$90:$G$90)*$I$91,2) -> 0.05 | O91: =ROUND(E90/SUM($D$90:$G$90)*$I$91,2) -> 0.25 | P91: =ROUND(F90/SUM($D$90:$G$90)*$I$91,2) -> 0.25 | Q91: =I91-SUM(N91:P91) -> 0.25 | R91: 0.8 | S91: 1.6
A92: 하천 횡단측량 | B92: 구분 | C92: 특급 | D92: 고급 | E92: 중급 | F92: 초급 | G92: 초급기능사 | I92: 기술자 | J92: 인부 | K92: 측부 | M92: 특급 | N92: 고급 | O92: 중급 | P92: 초급 | Q92: 초급기능사 | R92: 인부 | S92: 측부
B93: 1000m | D93: 0.2 | E93: 1 | F93: 2 | G93: 2 | I93: 1.7 | J93: 1.1 | K93: 2.2 | N93: =ROUND(D93/SUM($D$93:$G$93)*$I$93,2) -> 0.07 | O93: =ROUND(E93/SUM($D$93:$G$93)*$I$93,2) -> 0.33 | P93: =ROUND(F93/SUM($D$93:$G$93)*$I$93,2) -> 0.65 | Q93: =I93-SUM(N93:P93) -> 0.65 | R93: 1.1 | S93: 2.2 | T93: 9-4-2 하천측량
B94: 700m | D94: 0.2 | E94: 1 | F94: 2 | G94: 2 | I94: 1.3 | J94: 0.9 | K94: 1.8 | N94: =ROUND(D94/SUM($D$94:$G$94)*$I$94,2) -> 0.05 | O94: =ROUND(E94/SUM($D$94:$G$94)*$I$94,2) -> 0.25 | P94: =ROUND(F94/SUM($D$94:$G$94)*$I$94,2) -> 0.5 | Q94: =I94-SUM(N94:P94) -> 0.5 | R94: 0.9 | S94: 1.8
B95: 400m | D95: 0.2 | E95: 1 | F95: 2 | G95: 2 | I95: 1 | J95: 0.6 | K95: 1 | N95: =ROUND(D95/SUM($D$95:$G$95)*$I$95,2) -> 0.04 | O95: =ROUND(E95/SUM($D$95:$G$95)*$I$95,2) -> 0.19 | P95: =ROUND(F95/SUM($D$95:$G$95)*$I$95,2) -> 0.38 | Q95: =I95-SUM(N95:P95) -> 0.39 | R95: 0.6 | S95: 1
B96: 200m | D96: 0.2 | E96: 1 | F96: 1 | G96: 2 | I96: 0.4 | J96: 0.4 | K96: 0.6 | N96: =ROUND(D96/SUM($D$96:$G$96)*$I$96,2) -> 0.02 | O96: =ROUND(E96/SUM($D$96:$G$96)*$I$96,2) -> 0.1 | P96: =ROUND(F96/SUM($D$96:$G$96)*$I$96,2) -> 0.1 | Q96: =I96-SUM(N96:P96) -> 0.18 | R96: 0.4 | S96: 0.6
B97: 100m | D97: 0.2 | E97: 1 | F97: 1 | G97: 2 | I97: 0.2 | J97: 0.2 | K97: 0.2 | N97: =ROUND(D97/SUM($D$97:$G$97)*$I$97,2) -> 0.01 | O97: =ROUND(E97/SUM($D$97:$G$97)*$I$97,2) -> 0.05 | P97: =ROUND(F97/SUM($D$97:$G$97)*$I$97,2) -> 0.05 | Q97: =I97-SUM(N97:P97) -> 0.09 | R97: 0.2 | S97: 0.2
B98: 50m | D98: 0.2 | E98: 1 | F98: 1 | G98: 2 | I98: 0.1 | J98: 0.1 | K98: 0.1 | N98: =ROUND(D98/SUM($D$98:$G$98)*$I$98,2) -> 0 | O98: =ROUND(E98/SUM($D$98:$G$98)*$I$98,2) -> 0.02 | P98: =ROUND(F98/SUM($D$98:$G$98)*$I$98,2) -> 0.02 | Q98: =I98-SUM(N98:P98) -> 0.06 | R98: 0.1 | S98: 0.1
A99: 석항매설 | B99: 구분 | C99: 특급 | D99: 고급 | E99: 중급 | F99: 초급 | G99: 초급기능사 | I99: 기술자 | J99: 인부 | K99: 측부 | M99: 특급 | N99: 고급 | O99: 중급 | P99: 초급 | Q99: 초급기능사 | R99: 인부 | S99: 측부
B100: 수준점 | D100: 2 | E100: 8 | F100: 8 | G100: 8 | I100: 0.4 | J100: 0.4 | N100: =ROUND(D100/SUM($D$100:$G$100)*$I$100,2) -> 0.03 | O100: =ROUND(E100/SUM($D$100:$G$100)*$I$100,2) -> 0.12 | P100: =ROUND(F100/SUM($D$100:$G$100)*$I$100,2) -> 0.12 | Q100: =I100-SUM(N100:P100) -> 0.13 | R100: 0.4 | T100: 9-3-4 2급수준측량(관측)
B101: 삼각점 | D101: 9 | E101: 15 | F101: 12 | G101: 24 | I101: 0.5 | J101: 0.5 | N101: =ROUND(D101/SUM($D$101:$G$101)*$I$101,2) -> 0.08 | O101: =ROUND(E101/SUM($D$101:$G$101)*$I$101,2) -> 0.13 | P101: =ROUND(F101/SUM($D$101:$G$101)*$I$101,2) -> 0.1 | Q101: =I101-SUM(N101:P101) -> 0.19 | R101: 0.5 | T101: 9-2-1 1급기준점(관측)
...

Sheet 수준점
H124: 36-23-22.6

Sheet 토질조사비 산출내역
A1: □ 불교란시료 시험비 산출
G2: (단위 : 원)
A3: 구분 | B3: 시험·검사종목 | C3: 시험·검사방법 | D3: 금액 | E3: 산출내역 | G3: 비고
E4: 단가 | F4: 수량
A12: 토질시험 | B12: 함수비 | C12: ks f 2306 | D12: =E12*F12 -> 0 | E12: 19000 | F12: 0
B13: 입도 | C13: ks f 2302 | D13: =E13*F13 -> 0 | E13: 235400 | F13: 0
B14: 밀도 | C14: ks f 2308 | D14: =E14*F14 -> 0 | E14: 65400 | F14: 0
B15: 액성한계 | C15: ks f 2303 | D15: =E15*F15 -> 0 | E15: 68800 | F15: 0
B16: 소성한계 | C16: ks f 2303 | D16: =E16*F16 -> 0 | E16: 44500 | F16: 0
B17: 3축압축(UU) | C17: ks f 2346 | D17: =E17*F17 -> 0 | E17: 282500 | F17: 0
B18: 3축압축(CU) | C18: ks f 2346 | D18: =E18*F18 -> 0 | E18: 322900 | F18: 0
B19: 압밀시험 | C19: ks f 2316 | D19: =E19*F19 -> 0 | E19: 362300 | F19: 0
B20: 소 계 | D20: =ROUNDDOWN(SUM(D12:D19),-4) -> 0
A21: 총 계 | D21: =D11+D20 -> 0
B22: ※ 단가적용 : 2024년 설계단가 적용기준 시험비 단가 및 관련자료 알림 [연구글로벌품질안전-55(2024.01.29.)호.] | I22: →`25년 단가 개정되면 수정 할 것!
B23: ※ 노 무 비 : 2024년 표준단가표 적용

Sheet 지질조사비 산출내역
A1: 괴산지구 과실전문생산단지기반조성사업 지질조사비 산출내역
A2: 구 분 | B2: 단위 | C2: 수량 | D2: 단가(원) | E2: 금 액 | F2: 비 고
A4: 1. 직접인건비 | E4: ='조사비 내역'!G23 -> 0
A5: 2. 직접경비 | E5: ='조사비 내역'!I23 -> #DIV/0!
A6: 3. 제경비 | E6: =E7 -> 0
A7: - 직접인건비 × 110% | B7: 식 | C7: 1.1 | D7: =E4 -> 0 | E7: =INT(C7*D7) -> 0
A8: 4. 기술료 | E8: =E9 -> 0
A9: - (직접인건비+제경비)×20% | B9: 식 | C9: 0.2 | D9: =E4+E6 -> 0 | E9: =INT(C9*D9) -> 0
A10: 합계(1항~4항) | E10: =ROUNDDOWN(((E4+E5+E6+E8)),-3) -> #DIV/0!
A11: 손해배상보험료 | E11: =INT((E10)*0.00652/1000)*1000 -> #DIV/0! | F11: 엔지니어링 손해배상공제 요율
A12: 부 가 세(VAT) | E12: =ROUNDDOWN(((E10)*0.1),-3) -> #DIV/0!
A13: 합 계 | E13: =ROUNDDOWN(E10+E11+E12,-3) -> #DIV/0! | F13: 측량대가의 기준
A14: * 품의할증 : 표준품셈 1-16 품의할증 준용
A15: * 직접경비 : 운반비, 기기상각비 및 정비비 등은 실정에 따라 별도로 계상한다.

Sheet 조사비 내역
A1: 2-1. 조사비 내역서
A3: 공 종 별 | B3: 규 격 | C3: 원수 | D3: 단위 | E3: 총 액 | F3: 직 접 인 건 비 | H3: 직 접 경비 | J3: 비 고
F4: 단 가 | G4: 금 액 | H4: 단 가 | I4: 금 액
A5: 토 사 | B5: Bx | C5: =조사량!F8+조사량!J8 -> 0 | D5: m | E5: =G5+I5 -> 0 | F5: =일위대가!G$6 -> 26478 | G5: =ROUNDDOWN(F5*C5,0) -> 0 | H5: =일위대가!I$6 -> 74112.27 | I5: =ROUNDDOWN(H5*C5,0) -> 0
A6: 사 층 | B6: Bx | C6: =조사량!G8 -> 0 | D6: m | E6: =G6+I6 -> 0 | F6: =일위대가!G$7 -> 43327 | G6: =ROUNDDOWN(F6*C6,0) -> 0 | H6: =일위대가!I$7 -> 124082.26 | I6: =ROUNDDOWN(H6*C6,0) -> 0
A7: 사 력 층 | B7: Bx | C7: =조사량!H8 -> 0 | D7: m | E7: =G7+I7 -> 0 | F7: =일위대가!G$8 -> 98691 | G7: =ROUNDDOWN(F7*C7,0) -> 0 | H7: =일위대가!I$8 -> 290767.37 | I7: =ROUNDDOWN(H7*C7,0) -> 0
A8: 혼 전 석 | B8: Bx | C8: =조사량!I8 -> 0 | D8: m | E8: =G8+I8 -> 0 | F8: =일위대가!G$9 -> 158868 | G8: =ROUNDDOWN(F8*C8,0) -> 0 | H8: =일위대가!I$9 -> 498611.62 | I8: =ROUNDDOWN(H8*C8,0) -> 0
A9: 풍 화 암 | B9: Bx | C9: =조사량!K8 -> 0 | D9: m | E9: =G9+I9 -> 0 | F9: =일위대가!G$10 -> 28885 | G9: =ROUNDDOWN(F9*C9,0) -> 0 | H9: =일위대가!I$10 -> 100141.84 | I9: =ROUNDDOWN(H9*C9,0) -> 0
A10: 연 암 | B10: Bx | C10: =조사량!L8 -> 0 | D10: m | E10: =G10+I10 -> 0 | F10: =일위대가!G$11 -> 48142 | G10: =ROUNDDOWN(F10*C10,0) -> 0 | H10: =일위대가!I$11 -> 166097.4 | I10: =ROUNDDOWN(H10*C10,0) -> 0
A11: 보 통 암 | B11: Bx | C11: =조사량!M8 -> 0 | D11: m | E11: =G11+I11 -> 0 | F11: =일위대가!G$12 -> 52956 | G11: =ROUNDDOWN(F11*C11,0) -> 0 | H11: =일위대가!I$12 -> 178887.54 | I11: =ROUNDDOWN(H11*C11,0) -> 0
A12: 표준관입시험 | C12: =조사량!P8 -> 0 | D12: 회 | E12: =G12+I12 -> 0 | F12: =일위대가!G$13 -> 24071 | G12: =ROUNDDOWN(F12*C12,0) -> 0 | H12: =일위대가!I$13 -> 68770.4 | I12: =ROUNDDOWN(H12*C12,0) -> 0
A13: 불교란시료채취 | C13: =조사량!Q8 -> 0 | D13: 회 | E13: =G13+I13 -> 0 | F13: =일위대가!G$14 -> 48142 | G13: =ROUNDDOWN(F13*C13,0) -> 0 | H13: =일위대가!I$14 -> 172433.8 | I13: =ROUNDDOWN(H13*C13,0) -> 0
A14: 투 수 시 험 | C14: =조사량!O8 -> 0 | D14: 회 | E14: =G14+I14 -> 0 | F14: =일위대가!G$15 -> 52956 | G14: =ROUNDDOWN(F14*C14,0) -> 0 | H14: =일위대가!I$15 -> 139576.06 | I14: =ROUNDDOWN(H14*C14,0) -> 0
A15: 조사공 원상복구 | C15: =조사량!C8 -> 0 | D15: 회 | E15: =G15+I15 -> #DIV/0! | F15: =일위대가!G$16 -> 38513 | G15: =ROUNDDOWN(F15*C15,0) -> 0 | H15: =일위대가!I$16 -> #DIV/0! | I15: =ROUNDDOWN(H15*C15,0) -> #DIV/0!
A16: 기 계 설 치 | C16: =조사량!C8 -> 0 | D16: 회 | E16: =G16+I16 -> 0 | F16: =일위대가!G$17 -> 240710 | G16: =ROUNDDOWN(F16*C16,0) -> 0 | H16: =일위대가!I$17 -> 564881 | I16: =ROUNDDOWN(H16*C16,0) -> 0
A17: 장비 대 운반 | C17: 0 | D17: 회 | E17: =G17+I17 -> 0 | F17: =일위대가!G$18 -> 0 | G17: =ROUNDDOWN(F17*C17,0) -> 0 | H17: =일위대가!I$18 -> 158384.33 | I17: =ROUNDDOWN(H17*C17,0) -> 0
A18: 시추조사 | E18: =G18+I18 -> #DIV/0! | G18: =SUM(G5:G17) -> 0 | I18: =SUM(I5:I17) -> #DIV/0!
A19: 쌍극자탐사 | C19: =조사량!S7 -> 0 | D19: 측선 | E19: =G19+I19 -> 0 | F19: =일위대가!G$373 -> 972099 | G19: =ROUNDDOWN(F19*C19,0) -> 0 | H19: =일위대가!I$373 -> 199136 | I19: =ROUNDDOWN(H19*C19,0) -> 0
A20: 하향식탐성파탐사 | C20: =조사량!R7 -> 0 | D20: 회 | E20: =G20+I20 -> 0 | F20: =일위대가!G$20 -> 1435196 | G20: =ROUNDDOWN(F20*C20,0) -> 0 | H20: =일위대가!I$20 -> 95257.1 | I20: =ROUNDDOWN(H20*C20,0) -> 0
A21: 물리탐사 | E21: =G21+I21 -> 0 | G21: =SUM(G19:G20) -> 0 | I21: =SUM(I19:I20) -> 0
A22: 복통촬영 | C22: =조사량!T7 -> 0 | D22: 회 | E22: =G22+I22 -> 0 | F22: 0 | G22: =ROUNDDOWN(F22*C22,0) -> 0 | I22: =ROUNDDOWN(H22*C22,0) -> 0
A23: 합 계 | E23: =G23+I23 -> #DIV/0! | G23: =SUM(G18,G21,G22) -> 0 | I23: =SUM(I18,I21,I22) -> #DIV/0!

Sheet 조사개요
A1: 1. 조사개요
A3: 가. 용 역 명 : | C3: 화남지 재해위험저수지 정비사업 지질조사 용역
A4: 나. 목 적 : | C4: 시설물 설치예정 부지 지질특성 파악
A5: 다. 위 치 : | C5: 경상북도 영천시 신녕면 화남리 519번지 일원
A6: 라. 조사량 및 조사비
B7: 구 분 | D7: 조 사 량 | G7: 소요일수(일) | H7: 조사비(원) | I7: 비 고
B8: 지질조사 | D8: 시추조사(공) | F8: 0 | G8: =소요일수!L26 -> 0 | H8: ='조사비 내역'!E23 -> #DIV/0! | I8: 제시험 1식
D9: 투수시험(회) | F9: =조사량!O7 -> 0
D10: 표준관입시험(회) | F10: 0
A12: 마. 조사기간 : 2025.00. ~ 2025.00. | E12: =G8 -> 0 | F12: )일간
A13: 바. 지출과목 :
A15: 사. 조사장비 : 시추기 외 부대품 1조

Sheet 조사량
A1: 3. 조사량 산출내역
A3: 3-1. 시 추 조 사
A5: 지구명 | B5: 시설물 | C5: 공수 | D5: 측점 | E5: 구조물 | G5: 예 | H5: 상 | I5: 지 | J5: 질 | K5: 층 | L5: 후 | M5: (m) | O5: 투수시험 (K) | P5: 표준관입 시험(회) | Q5: 불교란시료채취(회) | R5: 하향식 탄성파 탐사 | S5: 쌍극자 탐사 | T5: 복통촬영
F6: 토사 | G6: 모래 | H6: 사력 | I6: 혼전석 | J6: 풍화토 | K6: 풍화암 | L6: 연암 | M6: 보통암 | N6: 합계 | V6: 8520000
A7: 계 | C7: =SUM(C8) -> 0 | F7: =SUM(F8) -> 0 | G7: =SUM(G8) -> 0 | H7: =SUM(H8) -> 0 | I7: =SUM(I8) -> 0 | J7: =SUM(J8) -> 0 | K7: =SUM(K8) -> 0 | L7: =SUM(L8) -> 0 | M7: =SUM(M8) -> 0 | ... T7: =SUM(T8) -> 0
B8: 소계 | C8: 0 | F8: =SUM(F9:F11) -> 0 | G8: =SUM(G9:G11) -> 0 | H8: =SUM(H9:H11) -> 0 | I8: =SUM(I9:I11) -> 0 | J8: =SUM(J9:J11) -> 0 | K8: =SUM(K9:K11) -> 0 | L8: =SUM(L9:L11) -> 0 | M8: =SUM(M9:M11) -> 0 | ... T8: =SUM(T9:T11) -> 0
C9: 0 | F9: 0 | G9: 0 | H9: 0 | I9: 0 | J9: 0 | K9: 0 | L9: 0 | M9: 0 | N9: =SUM(F9:M9) -> 0 | P9: =ROUNDDOWN((N9-1)/1.5,0) -> 0 | Q9: 0 | R9: 0 | S9: 0 | T9: 0
C10: 0 | F10: 0 | G10: 0 | H10: 0 | I10: 0 | J10: 0 | K10: 0 | L10: 0 | M10: 0 | N10: =SUM(F10:M10) -> 0 | P10: =ROUNDDOWN((N10-1)/1.5,0) -> 0
C11: 0 | F11: 0 | G11: 0 | H11: 0 | I11: 0 | J11: 0 | K11: 0 | L11: 0 | M11: 0 | N11: =SUM(F11:M11) -> 0 | P11: =ROUNDDOWN((N11-1)/1.5,0) -> 0 | Q11: 0 | R11: 0 | S11: 0 | T11: 0
C12: BH-3
C13: BH-4

Sheet 소요일수
A1: 5. 작업소요일수산출
A3: 구 분 | B3: 공 종 | C3: 단위 | D3: 계 획 | K3: 공정/일 | L3: 소요일수 | S3: 비 고
J4: 계
A5: 천 공 | B5: 토사+풍화대 | C5: m | D5: =조사량!F7+조사량!J7 -> 0 | J5: =D5+E5+F5+G5+H5+I5 -> 0 | K5: 8.8 | L5: =ROUNDDOWN((INT(D5/$K$5*10))/10,1) -> 0 | R5: =L5+M5+N5+O5+P5+Q5 -> 0
B6: 모 래 | C6: m | D6: =조사량!G7 -> 0 | K6: 5.5 | L6: =(INT(D6/$K$6*10))/10 -> 0
B7: 사 력 | C7: m | D7: =조사량!H7 -> 0 | K7: 2.4 | L7: =(INT(D7/$K$7*10))/10 -> 0
B8: 혼전석 | C8: m | D8: =조사량!I7 -> 0 | K8: 1.5 | L8: =(INT(D8/$K$8*10))/10 -> 0
B9: 풍화암 | C9: m | D9: =조사량!K7 -> 0 | J9: =D9+E9+F9+G9+H9+I9 -> 0 | K9: 7.8 | L9: =(INT(D9/$K$9*10))/10 -> 0 | R9: =L9 -> 0
B10: 연 암 | C10: m | D10: =조사량!L7 -> 0 | J10: =D10+E10+F10+G10+H10+I10 -> 0 | K10: 4.9 | L10: =(INT(D10/$K$10*10))/10 -> 0 | R10: =L10 -> 0
B11: 보통암 | C11: m | D11: =조사량!M7 -> 0 | K11: 4.5 | L11: =(INT(D11/$K$11*10))/10 -> 0
B12: 소 계 | D12: =SUM(D5:D11) -> 0 | J12: =SUM(J5:J11) -> 0 | L12: =SUM(L5:L11) -> 0 | R12: =L12+M12+N12+O12+P12+Q12 -> 0 | S12: A
A13: 시 험 | B13: 투 수 시 험 | C13: 회 | D13: =조사량!O7 -> 0 | J13: =D13+E13+F13+G13+H13+I13 -> 0 | K13: 4.5 | L13: =(INT(D13/K13*10))/10 -> 0 | R13: =L13+M13+N13+O13+P13+Q13 -> 0 | S13: B
B14: 표준관입시험 | C14: 회 | D14: =조사량!P7 -> 0 | J14: =D14+E14+F14+G14+H14+I14 -> 0 | K14: 10 | L14: =(INT(D14/K14*10))/10 -> 0 | R14: =L14+M14+N14+O14+P14+Q14 -> 0
B15: 불교란시료채취 | C15: 점 | D15: =조사량!Q7 -> 0 | J15: =D15+E15+F15+G15+H15+I15 -> 0 | K15: 5 | L15: =(INT(D15/$K$15*10))/10 -> 0 | R15: =L15+M15+N15+O15+P15+Q15 -> 0
B16: 하향식탄성파탐사 | C16: 회 | D16: =조사량!R7 -> 0 | K16: 1 | L16: =(INT(D16/$K$16*10))/10 -> 0
B17: 소 계 | L17: =L13+L14+L15 -> 0 | R17: =L17+M17+N17+O17+P17+Q17 -> 0 | S17: C
A18: 이동조립 | C18: 회 | D18: =조사량!C7 -> 0 | J18: =D18+E18+F18+G18+H18+I18 -> 0 | K18: 1 | L18: =(INT(D18/$K$18*10))/10 -> 0 | R18: =L18+M18+N18+O18+P18+Q18 -> 0 | S18: D
A19: 조사공원상복구 | C19: 회 | D19: =조사량!C7 -> 0 | J19: =D19+E19+F19+G19+H19+I19 -> 0 | K19: 6 | L19: =(INT(D19/$K$19*10))/10 -> 0 | R19: =L19+M19+N19+O19+P19+Q19 -> 0 | S19: F
B20: 소 계 | L20: =L18+L19 -> 0 | R20: =L20+M20+N20+O20+P20+Q20 -> 0
A21: 장비투입대수 | C21: 대 | D21: 1 | J21: =D21+E21+F21+G21+H21+I21 -> 1 | L21: =(L12+L17+L20)/D21 -> 0 | R21: =L21+M21+N21+O21+P21+Q21 -> 0 | S21: G
A22: 장비대운반 | C22: 회 | D22: 0 | K22: 1 | L22: =(INT(D22/K22*10))/10 -> 0 | R22: =L22+M22+N22+O22+P22+Q22 -> 0
A23: 쌍극자탐사 | C23: 측선 | D23: =조사량!S7 -> 0 | J23: =D23+E23+F23+G23+H23+I23 -> 0 | K23: 0.4 | L23: =ROUND(D23/$K$23,1) -> 0 | R23: =L23+M23+N23+O23+P23+Q23 -> 0
A24: 합 계 | C24: 일 | L24: =SUM(L21:L23) -> 0 | R24: =L24+M24+N24+O24+P24+Q24 -> 0
A25: 준공처리 | B25: 보고서작성 등 | L25: 0 | R25: =L25 -> 0
A26: 용 역 일 수 | L26: =L24+L25 -> 0 | R26: =L26 -> 0

Sheet 일위대가
A2: 6. 시추조사 과정별 일위대가표
A4: 공 종 별 | B4: 규 격 | C4: 원수 | D4: 단위 | E4: 총 액 | F4: 직 접 인 건 비 | H4: 직 접 경비 | J4: 비 고
F5: 단 가 | G5: 금 액 | H5: 단 가 | I5: 금 액
A6: 토 사 찬공비 | C6: 1 | D6: m | E6: =E48 -> 100590.27 | G6: =G48 -> 26478 | I6: =I48 -> 74112.27 | J6: 제 1호표
A7: 사 층 찬공비 | C7: 1 | D7: m | E7: =E73 -> 167409.26 | G7: =G73 -> 43327 | I7: =I73 -> 124082.26 | J7: 제 2호표
A8: 사력층 찬공비 | C8: 1 | D8: m | E8: =E98 -> 389458.37 | G8: =G98 -> 98691 | I8: =I98 -> 290767.37 | J8: 제 3호표
A9: 혼전석 찬공비 | C9: 1 | D9: m | E9: =E123 -> 657479.62 | G9: =G123 -> 158868 | I9: =I123 -> 498611.62 | J9: 제 4호표
A10: 풍화암 찬공비 | C10: 1 | D10: m | E10: =E148 -> 129026.84 | G10: =G148 -> 28885 | I10: =I148 -> 100141.84 | J10: 제 5호표
A11: 연 암 찬공비 | C11: 1 | D11: m | E11: =E173 -> 214239.4 | G11: =G173 -> 48142 | I11: =I173 -> 166097.4 | J11: 제 6호표
A12: 보통암 찬공비 | C12: 1 | D12: m | E12: =E198 -> 231843.54 | G12: =G198 -> 52956 | I12: =I198 -> 178887.54 | J12: 제 7호표
A13: 표준관입시험 | C13: 1 | D13: 회 | E13: =E223 -> 92841.4 | G13: =G223 -> 24071 | I13: =I223 -> 68770.4 | J13: 제 8호표
A14: 불교란시료채취 | C14: 1 | D14: 회 | E14: =E248 -> 220575.8 | G14: =G248 -> 48142 | I14: =I248 -> 172433.8 | J14: 제 9호표
A15: 투 수 시 험 | C15: 1 | D15: 회 | E15: =E273 -> 192532.06 | G15: =G273 -> 52956 | I15: =I273 -> 139576.06 | J15: 제10호표
A16: 조사공 원상복구 | C16: 1 | D16: 회 | E16: =E298 -> #DIV/0! | G16: =G298 -> 38513 | I16: =I298 -> #DIV/0! | J16: 제11호표
A17: 기 계 설 치 | C17: 1 | D17: 회 | E17: =E323 -> 805591 | G17: =G323 -> 240710 | I17: =I323 -> 564881 | J17: 제12호표
A18: 장비 대운반 | C18: 1 | D18: 회 | E18: =E348 -> 158384.33 | G18: =G348 -> 0 | I18: =I348 -> 158384.33 | J18: 제13호표
A19: 쌍극자탐사 | C19: 1 | D19: 회 | E19: =SUM(F19:I19) -> 1171235 | G19: =G373 -> 972099 | I19: =I373 -> 199136 | J19: 제14호표
A20: 하향식탄성파탐사 | C20: 1 | D20: 회 | E20: =SUM(F20:I20) -> 1530453.1 | G20: =G404 -> 1435196 | I20: =I404 -> 95257.1 | J20: 제15호표
A25: <제 1호표>
A26: 토사, 점토, 풍화토 찬공 명세서
A27: 일금 : | B27: =E48 -> 100590.27 | C27: 원 | F27: ( BX, m당 ) | I27: =소요일수!$K5 -> 8.8 | J27: m/일
A28: 공 종 별 | B28: 규 격 | C28: 원수 | D28: 단위 | E28: 총 액 | F28: 직 접 인 건 비 | H28: 직 접 경비 | J28: 비 고
F29: 단 가 | G29: 금 액 | H29: 단 가 | I29: 금 액
A30: 중급 기능사 | C30: =ROUNDDOWN(1/I$27,2) -> 0.11 | D30: 인 | E30: =G30+I30 -> 26478 | F30: =단가표!$C$3 -> 240710 | G30: =TRUNC($C30*F30) -> 26478
A31: 보 링 공 | C31: =ROUNDDOWN(1/I$27,2) -> 0.11 | D31: 인 | E31: =G31+I31 -> 24780 | H31: =단가표!$C$4 -> 225273 | I31: =TRUNC($C31*H31) -> 24780
A32: 특 수 인 부 | C32: =ROUNDDOWN(1/I$27,2) -> 0.11 | D32: 인 | E32: =G32+I32 -> 24365 | H32: =단가표!$C$5 -> 221506 | I32: =TRUNC($C32*H32) -> 24365
A33: 보 통 인 부 | C33: =ROUNDDOWN(1/I$27,2) -> 0.11 | D33: 인 | E33: =G33+I33 -> 18678 | H33: =단가표!$C$6 -> 169804 | I33: =TRUNC($C33*H33) -> 18678
A35: 코 아 튜 브 | B35: Bx | C35: 0.008 | D35: 개 | E35: =G35+I35 -> 1768 | H35: =단가표!$C$12 -> 221000 | I35: =ROUNDDOWN(H35*C35,0) -> 1768
A36: 메탈크라운빗트 | B36: Bx | C36: 0.02 | D36: 개 | E36: =G36+I36 -> 660 | H36: =단가표!$C$13 -> 33000 | I36: =ROUNDDOWN(H36*C36,0) -> 660
A37: 드라이브파이프 | B37: Bx | C37: 0.008 | D37: 개 | E37: =G37+I37 -> 680 | H37: =단가표!$C$23 -> 85000 | I37: =ROUNDDOWN(H37*C37,0) -> 680
A38: 드라이브 슈 | B38: Bx | C38: 0.008 | D38: 개 | E38: =G38+I38 -> 240 | H38: =단가표!$C$24 -> 30000 | I38: =ROUNDDOWN(H38*C38,0) -> 240
A39: 드라이브 헷드 | B39: Bx | C39: 0.008 | D39: 개 | E39: =G39+I39 -> 320 | H39: =단가표!$C$25 -> 40000 | I39: =ROUNDDOWN(H39*C39,0) -> 320
A41: 경 유 | C41: 0.72 | D41: ℓ | E41: =G41+I41 -> 1050 | H41: =단가표!C31 -> 1459 | I41: =ROUNDDOWN(H41*C41,0) -> 1050
A42: 잡 유 | C42: 16 | D42: % | E42: =G42+I42 -> 168 | H42: =I41 -> 1050 | I42: =ROUNDDOWN(H42*(C42/100),0) -> 168
A44: 기계 정비비 | C44: =ROUNDDOWN(1/I$27,2) -> 0.11 | D44: 일 | E44: =G44+I44 -> 485.21 | H44: 4411 | I44: =C44*H44 -> 485.21 | J44: 시추기+펌프
A45: 기계 상각비 | C45: =ROUNDDOWN(1/I$27,2) -> 0.11 | D45: 일 | E45: =G45+I45 -> 620.07 | H45: 5637 | I45: =C45*H45 -> 620.07
A46: 기계 관리비 | C46: =ROUNDDOWN(1/I$27,2) -> 0.11 | D46: 일 | E46: =G46+I46 -> 297.99 | H46: 2709 | I46: =C46*H46 -> 297.99
A48: 합 계 | E48: =G48+I48 -> 100590.27 | G48: =SUM(G30:G47) -> 26478 | I48: =SUM(I30:I46) -> 74112.27
A50: <제 2호표>
A51: 사층 찬공 명세서
A52: 일금 : | B52: =E73 -> 167409.26 | C52: 원 | F52: ( BX, m당 ) | I52: 5.5 | J52: m/일
A53: 공 종 별 | B53: 규 격 | C53: 원수 | D53: 단위 | E53: 총 액 | F53: 직 접 인 건 비 | H53: 직 접 경비 | J53: 비 고
F54: 단 가 | G54: 금 액 | H54: 단 가 | I54: 금 액
A55: 중급 기능사 | C55: =ROUNDDOWN(1/I$52,2) -> 0.18 | D55: 인 | E55: =G55+I55 -> 43327 | F55: =단가표!$C$3 -> 240710 | G55: =TRUNC($C55*F55) -> 43327
A56: 보 링 공 | C56: =ROUNDDOWN(1/I$52,2) -> 0.18 | D56: 인 | E56: =G56+I56 -> 40549 | H56: =단가표!$C$4 -> 225273 | I56: =TRUNC($C56*H56) -> 40549
A57: 특 수 인 부 | C57: =ROUNDDOWN(1/I$52,2) -> 0.18 | D57: 인 | E57: =G57+I57 -> 39871 | H57: =단가표!$C$5 -> 221506 | I57: =TRUNC($C57*H57) -> 39871
A58: 보 통 인 부 | C58: =ROUNDDOWN(1/I$52,2) -> 0.18 | D58: 인 | E58: =G58+I58 -> 30564 | H58: =단가표!$C$6 -> 169804 | I58: =TRUNC($C58*H58) -> 30564
A60: 코 아 튜 브 | B60: Bx | C60: 0.02 | D60: 개 | E60: =G60+I60 -> 4420 | H60: =단가표!$C$12 -> 221000 | I60: =ROUNDDOWN(H60*C60,0) -> 4420
A61: 메탈크라운빗트 | B61: Bx | C61: 0.04 | D61: 개 | E61: =G61+I61 -> 1320 | H61: =단가표!$C$13 -> 33000 | I61: =ROUNDDOWN(H61*C61,0) -> 1320
A62: 드라이브파이프 | B62: Bx | C62: 0.02 | D62: 개 | E62: =G62+I62 -> 1700 | H62: =단가표!$C$23 -> 85000 | I62: =ROUNDDOWN(H62*C62,0) -> 1700
A63: 드라이브 슈 | B63: Bx | C63: 0.02 | D63: 개 | E63: =G63+I63 -> 600 | H63: =단가표!$C$24 -> 30000 | I63: =ROUNDDOWN(H63*C63,0) -> 600
A64: 드라이브 헷드 | B64: Bx | C64: 0.02 | D64: 개 | E64: =G64+I64 -> 800 | H64: =단가표!$C$25 -> 40000 | I64: =ROUNDDOWN(H64*C64,0) -> 800
A66: 경 유 | C66: 1.16 | D66: ℓ | E66: =G66+I66 -> 1692 | H66: =단가표!C31 -> 1459 | I66: =ROUNDDOWN(H66*C66,0) -> 1692
A67: 잡 유 | C67: =C42 -> 16 | D67: % | E67: =G67+I67 -> 270 | H67: =I66 -> 1692 | I67: =ROUNDDOWN(H67*(C67/100),0) -> 270
A69: 기계 정비비 | C69: =ROUNDDOWN(1/I$52,2) -> 0.18 | D69: 일 | E69: =G69+I69 -> 793.98 | H69: 4411 | I69: =C69*H69 -> 793.98 | J69: 시추기+펌프
A70: 기계 상각비 | C70: =ROUNDDOWN(1/I$52,2) -> 0.18 | D70: 일 | E70: =G70+I70 -> 1014.66 | H70: 5637 | I70: =C70*H70 -> 1014.66
A71: 기계 관리비 | C71: =ROUNDDOWN(1/I$52,2) -> 0.18 | D71: 일 | E71: =G71+I71 -> 487.62 | H71: 2709 | I71: =C71*H71 -> 487.62
A73: 합 계 | E73: =G73+I73 -> 167409.26 | G73: =SUM(G55:G72) -> 43327 | I73: =SUM(I55:I71) -> 124082.26
A75: <제 3호표>
A76: 사력층 찬공 명세서
A77: 일금 : | B77: =E98 -> 389458.37 | C77: 원 | F77: ( BX, m당 ) | I77: 2.4 | J77: m/일
A78: 공 종 별 | B78: 규 격 | C78: 원수 | D78: 단위 | E78: 총 액 | F78: 직 접 인 건 비 | H78: 직 접 경비 | J78: 비 고
F79: 단 가 | G79: 금 액 | H79: 단 가 | I79: 금 액
A80: 중급 기능사 | C80: =ROUNDDOWN(1/I$77,2) -> 0.41 | D80: 인 | E80: =G80+I80 -> 98691 | F80: =단가표!$C$3 -> 240710 | G80: =TRUNC($C80*F80) -> 98691
A81: 보 링 공 | C81: =ROUNDDOWN(1/I$77,2) -> 0.41 | D81: 인 | E81: =G81+I81 -> 92361 | H81: =단가표!$C$4 -> 225273 | I81: =TRUNC($C81*H81) -> 92361
A82: 특 수 인 부 | C82: =ROUNDDOWN(1/I$77,2) -> 0.41 | D82: 인 | E82: =G82+I82 -> 90817 | H82: =단가표!$C$5 -> 221506 | I82: =TRUNC($C82*H82) -> 90817
A83: 보 통 인 부 | C83: =ROUNDDOWN(1/I$77,2) -> 0.41 | D83: 인 | E83: =G83+I83 -> 69619 | H83: =단가표!$C$6 -> 169804 | I83: =TRUNC($C83*H83) -> 69619
A85: 코 아 튜 브 | B85: Bx | C85: 0.04 | D85: 개 | E85: =G85+I85 -> 8840 | H85: =단가표!$C$12 -> 221000 | I85: =ROUNDDOWN(H85*C85,0) -> 8840
A86: 메탈크라운빗트 | B86: Bx | C86: 0.4 | D86: 개 | E86: =G86+I86 -> 13200 | H86: =단가표!$C$13 -> 33000 | I86: =ROUNDDOWN(H86*C86,0) -> 13200
A87: 드라이브파이프 | B87: Bx | C87: 0.04 | D87: 개 | E87: =G87+I87 -> 3400 | H87: =단가표!$C$23 -> 85000 | I87: =ROUNDDOWN(H87*C87,0) -> 3400
A88: 드라이브 슈 | B88: Bx | C88: 0.04 | D88: 개 | E88: =G88+I88 -> 1200 | H88: =단가표!$C$24 -> 30000 | I88: =ROUNDDOWN(H88*C88,0) -> 1200
A89: 드라이브 헷드 | B89: Bx | C89: 0.04 | D89: 개 | E89: =G89+I89 -> 1600 | H89: =단가표!$C$25 -> 40000 | I89: =ROUNDDOWN(H89*C89,0) -> 1600
A91: 경 유 | C91: 2.66 | D91: ℓ | E91: =G91+I91 -> 3880 | H91: =단가표!C31 -> 1459 | I91: =ROUNDDOWN(H91*C91,0) -> 3880
A92: 잡 유 | C92: =C67 -> 16 | D92: % | E92: =G92+I92 -> 620 | H92: =I91 -> 3880 | I92: =ROUNDDOWN(H92*(C92/100),0) -> 620
A94: 기계 정비비 | C94: =ROUNDDOWN(1/I$77,2) -> 0.41 | D94: 일 | E94: =G94+I94 -> 1808.51 | H94: 4411 | I94: =C94*H94 -> 1808.51 | J94: 시추기+펌프
A95: 기계 상각비 | C95: =ROUNDDOWN(1/I$77,2) -> 0.41 | D95: 일 | E95: =G95+I95 -> 2311.17 | H95: 5637 | I95: =C95*H95 -> 2311.17
A96: 기계 관리비 | C96: =ROUNDDOWN(1/I$77,2) -> 0.41 | D96: 일 | E96: =G96+I96 -> 1110.69 | H96: 2709 | I96: =C96*H96 -> 1110.69
A98: 합 계 | E98: =G98+I98 -> 389458.37 | G98: =SUM(G80:G97) -> 98691 | I98: =SUM(I80:I96) -> 290767.37
A100: <제 4호표>
A101: 혼전석 찬공 명세서
A102: 일금 : | B102: =E123 -> 657479.62 | C102: 원 | F102: ( BX, m당 ) | I102: 1.5 | J102: m/일
A103: 공 종 별 | B103: 규 격 | C103: 원수 | D103: 단위 | E103: 총 액 | F103: 직 접 인 건 비 | H103: 직 접 경비 | J103: 비 고
F104: 단 가 | G104: 금 액 | H104: 단 가 | I104: 금 액
A105: 중급 기능사 | C105: =ROUNDDOWN(1/I$102,2) -> 0.66 | D105: 인 | E105: =G105+I105 -> 158868 | F105: =단가표!$C$3 -> 240710 | G105: =TRUNC($C105*F105) -> 158868
A106: 보 링 공 | C106: =ROUNDDOWN(1/I$102,2) -> 0.66 | D106: 인 | E106: =G106+I106 -> 148680 | H106: =단가표!$C$4 -> 225273 | I106: =TRUNC($C106*H106) -> 148680
A107: 특 수 인 부 | C107: =ROUNDDOWN(1/I$102,2) -> 0.66 | D107: 인 | E107: =G107+I107 -> 146193 | H107: =단가표!$C$5 -> 221506 | I107: =TRUNC($C107*H107) -> 146193
A108: 보 통 인 부 | C108: =ROUNDDOWN(1/I$102,2) -> 0.66 | D108: 인 | E108: =G108+I108 -> 112070 | H108: =단가표!$C$6 -> 169804 | I108: =TRUNC($C108*H108) -> 112070
A110: 코 아 튜 브 | B110: Bx | C110: 0.12 | D110: 개 | E110: =G110+I110 -> 26520 | H110: =단가표!$C$12 -> 221000 | I110: =ROUNDDOWN(H110*C110,0) -> 26520
A111: 메탈크라운빗트 | B111: Bx | C111: 1.2 | D111: 개 | E111: =G111+I111 -> 39600 | H111: =단가표!$C$13 -> 33000 | I111: =ROUNDDOWN(H111*C111,0) -> 39600
A112: 드라이브파이프 | B112: Bx | C112: 0.064 | D112: 개 | E112: =G112+I112 -> 5440 | H112: =단가표!$C$23 -> 85000 | I112: =ROUNDDOWN(H112*C112,0) -> 5440
A113: 드라이브 슈 | B113: Bx | C113: 0.064 | D113: 개 | E113: =G113+I113 -> 1920 | H113: =단가표!$C$24 -> 30000 | I113: =ROUNDDOWN(H113*C113,0) -> 1920
A114: 드라이브 헷드 | B114: Bx | C114: 0.064 | D114: 개 | E114: =G114+I114 -> 2560 | H114: =단가표!$C$25 -> 40000 | I114: =ROUNDDOWN(H114*C114,0) -> 2560
A116: 경 유 | C116: 4.26 | D116: ℓ | E116: =G116+I116 -> 6215 | H116: =단가표!C31 -> 1459 | I116: =ROUNDDOWN(H116*C116,0) -> 6215
A117: 잡 유 | C117: =C92 -> 16 | D117: % | E117: =G117+I117 -> 994 | H117: =I116 -> 6215 | I117: =ROUNDDOWN(H117*(C117/100),0) -> 994
A119: 기계 정비비 | C119: =ROUNDDOWN(1/I$102,2) -> 0.66 | D119: 일 | E119: =G119+I119 -> 2911.26 | H119: 4411 | I119: =C119*H119 -> 2911.26 | J119: 시추기+펌프
A120: 기계 상각비 | C120: =ROUNDDOWN(1/I$102,2) -> 0.66 | D120: 일 | E120: =G120+I120 -> 3720.42 | H120: 5637 | I120: =C120*H120 -> 3720.42
A121: 기계 관리비 | C121: =ROUNDDOWN(1/I$102,2) -> 0.66 | D121: 일 | E121: =G121+I121 -> 1787.94 | H121: 2709 | I121: =C121*H121 -> 1787.94
A123: 합 계 | E123: =G123+I123 -> 657479.62 | G123: =SUM(G105:G122) -> 158868 | I123: =SUM(I105:I121) -> 498611.62
A125: <제 5호표>
A126: 풍화암 찬공 명세서
...

Sheet 단가표
A1: 입력자료 | B1: : | C1: 시추조사
A2: 노 임 | E2: 공 수 | F2: 공 | G2: 5
A3: 중급숙련기술자 | B3: 원 | C3: 240710 | D3: 2025.01. | E3: 시추장비기종 | H3: TLS:1 , YSO:2 , TAS:3중 선택
A4: 보링공 | B4: 원 | C4: 225273 | D4: 2025.01. | E4: 장비투입대수 | F4: 대 | G4: 1
A5: 특별인부 | B5: 원 | C5: 221506 | D5: 2025.01. | E5: 작업시간 | F5: 시간
A6: 보통인부 | B6: 원 | C6: 169804 | D6: 2025.01. | E6: 기능직인원수 | F6: 인
A7: 화물차운전사 | B7: 원 | C7: 237500 | D7: 2025.01. | E7: 대운반회수 | F7: 회
A8: 인력운반공 | B8: 원 | C8: 180404 | D8: 2025.01. | E8: 차량단가 | F8: 원 | G8: 50000 | H8: 조사측량단가
A9: 특급기술자 | B9: 원 | C9: 358273 | D9: 2025.01. | E9: 차량사용일수 | F9: 일
A10: 중급기술자 | B10: 원 | C10: 284046 | D10: 2025.01. | E10: 장비대운반 | F10: (2024.설계단가) | H10: (장비1대: 2톤,2대:4톤)
A11: 찬공소모품비 | B11: 2024 설계단가적용기준(VAT제외) | E11: 장비대운반 | F11: Ton | G11: 5 | K11: 시험수수료(흙의 물리시험)- 설계단가
A12: 코아튜브 | B12: 개 | C12: 221000 | D12: BX-1.5m | E12: 출발위치 | F12: 광주 | K12: 함수량 | L12: 회
A13: 메탈빗드 | B13: 개 | C13: 33000 | D13: BX | E13: 도착위치 | F13: 현장 | K13: 밀도 | L13: 회
A14: 리밍쉘 | B14: 개 | C14: 45000 | D14: BX | E14: 거 리 | F14: km | G14: 60 | H14: 평균거리 | I14: 전남도청기준 | J14: 영광염산 | K14: 액성한계 | L14: 회
A15: 코아리프타 | B15: 개 | C15: =63900+15000 -> 78900 | D15: BX | E15: 장비대운반회수 | F15: 회 | G15: 1 | K15: 소성한계 | L15: 회
A16: (코아쉘포함) | E16: 장비대운반운임 | F16: 원 | G16: 103480 | K16: 투수시험(정수위) | L16: 회
A17: 다이아빗드 | B17: 개 | C17: 223500 | D17: BX | E17: 30분당 대기료 | F17: 원 | G17: 5810 | K17: 삼축압축(UU) | L17: 회
A18: 다이아리밍쉘 | B18: 개 | C18: 170000 | D18: BX | E18: 적 재 시 간 | F18: 시간 | G18: 1.3 | K18: 삼축압축(CU) | L18: 회
A19: 더블코아바렐 | B19: 개 | C19: 400000 | D19: BX-3m | E19: 적 하 시 간 | F19: 시간 | G19: 0.5 | K19: 압밀시험 | L19: 회
A20: 더블코아리프타 | B20: 개 | C20: =15600+24500 -> 40100 | D20: BX-3m | E20: 대 기 시 간 | F20: 시간 | G20: 0.5
A21: (케이스포함) | E21: 기준대기시간 | F21: 분 | G21: 50
A22: 현장시험비 | B22: 2024 설계단가적용기준(VAT제외) | E22: 차량대수 | F22: 대 | G22: 1
A23: 케이싱파이프 | B23: 개 | C23: 85000 | D23: BX-1.5m | E23: 장비소운반
A24: 케이싱슈 | B24: 개 | C24: 30000 | D24: BX | E24: 소운반회수 | F24: 회
A25: 케이싱헤드 | B25: 개 | C25: 40000 | D25: BX | E25: 목 도
A26: SPT슈 | B26: 개 | C26: 12100 | D26: 51mm | E26: 평균운반거리 | F26: m
A27: SPT샘플러 | B27: 개 | C27: 270000 | D27: 51mm | E27: 회당운반중량 | F27: Ton
A28: 패 카 | B28: 개 | C28: 350000 | D28: single BX(1.5m) | E28: 운반회수 | F28: 회
A29: 신월튜브 | B29: 개 | C29: 45000 | D29: 76mm*1m | E29: 경 운 기
A30: 유 류 대 | B30: 2024 물가자료 | E30: 평균운반거리 | F30: m
A31: 경 유(I) | B31: 원 | C31: 1459 | D31: 저 유 황 | E31: 회당운반중량 | F31: Ton
A32: 잡 유 | B32: % | C32: 16 | D32: 주 연 료 | E32: 운반회수 | F32: 회
A33: 지표지질조사 | B33: ha | C33: 0 | E33: 굴진용수운반
A34: 기계손료 | E34: 평균운반거리 | F34: m
E35: 회당운반중량 | F35: l | H35: 물가자료(2024년)
A36: 환 율 | C36: 1324.8 | D36: 24.1.기준환율(연월평균) | E36: 도선사용 | F36: 일 | H36: 모 래 | I36: ㎥ | J36: 29000
A37: 탄성파탐사 | B37: 점 | C37: 0 | E37: 지적도등사 | F37: ha | H37: 시멘트 | I37: 40kg/대 | J37: 7400
A38: 전기(쌍극자)탐사 | B38: 회 | C38: 0 | E38: 토지원부작성 | F38: ha | H38: 시멘트 | I38: M/T

Sheet 조사측량용단가(2026상)
A2: 2026년도 상반기 조사·측량용 단가
A4: 구 분 | B4: 종 별 | F4: 단위 | G4: 단 가 | K4: 비고
G5: 2024.9월 | H5: 2025.1월 | I5: 증감 | J5: 증감율(%)
A6: 1.노임 | B6: 보통인부 | F6: 인 | G6: 171037 | H6: 172068 | I6: 1031 | J6: 0.60279355
B7: 측 부 | F7: 인 | G7: 146654 | H7: 151706 | I7: 5052 | J7: 3.444843
B8: 특별인부 | F8: 인 | G8: 224490 | H8: 226122 | I8: 1632 | J8: 0.72698116
B9: 보 링 공 | F9: 인 | G9: 226520 | H9: 232562 | I9: 6042 | J9: 2.6673141
A10: 2. 항목 | B10: 삼각점(석항1,드라이몰탈2대포함) | F10: 개 | G10: 91200 | H10: 91200 | I10: 0 | J10: 0
B11: 수준점(석항1,드라이몰탈2대포함) | F11: 개 | G11: 91200 | H11: 91200 | I11: 0 | J11: 0
B12: 목항(A항: 0.12×0.12×1.0, 보조재포함) | F12: 개 | G12: 15460 | H12: 15460 | I12: 0 | J12: 0
B13: 목항(B항:1.5"×1.5"×1.5') | F13: 개 | G13: 810 | H13: 810 | I13: 0 | J13: 0
B14: 목항(C항:1.0"×1.0"×1.0') | F14: 개 | G14: 240 | H14: 240 | I14: 0 | J14: 0
A15: 3. 선박 | B15: 측량선[7.5kw,측량용] | F15: 일 | G15: 461400 | H15: 465300 | I15: 3900 | J15: 0.84525358
B16: 측량선[22.4kw,측량용] | F16: 일 | G16: 522800 | H16: 530300 | I16: 7500 | J16: 1.434583
B17: 측량선[44.8kw,측량용] | F17: 일 | G17: 628900 | H17: 642200 | I17: 13300 | J17: 2.1148036
B18: 측량선[44.8kw,13hr,조류속측량용] | F18: 일 | G18: 986300 | H18: 996300 | I18: 10000 | J18: 1.0138903
B19: 측량선[44.8kw,25hr,조류속측량용] | F19: 일 | G19: 1664500 | H19: 1678800 | I19: 14300 | J19: 0.85911685
A20: 4.운반차 | B20: 용달차(2ton, 편도 10km 기준) | F20: 회 | G20: 46200 | H20: 46500 | I20: 300 | J20: 0.64935065
B21: 용달차(2ton, 편도 20km기준 ) | F21: 회 | G21: 65000 | H21: 65300 | I21: 300 | J21: 0.46153846
B22: 용달차(2ton, 4시간/일 임대 ) | F22: 일 | G22: 63400 | H22: 63700 | I22: 300 | J22: 0.47318612
B23: 용달차(2ton, 1일 임대 ) | F23: 일 | G23: 126900 | H23: 127500 | I23: 600 | J23: 0.47281324
B24: 경운기(1ton, 운전원포함) | F24: 일 | G24: 192300 | H24: 195000 | I24: 2700 | J24: 1.4040562
A25: 5. 수굴 | B25: 인력 : 심도 ( 0 - 1 m ) | F25: 공 | G25: 58100 | H25: 58500 | I25: 400 | J25: 0.68846816
B26: 인력 : 심도 ( 0 - 2 m ) | F26: 공 | G26: 277000 | H26: 278700 | I26: 1700 | J26: 0.61371841
B27: 인력 : 심도 ( 0 - 3 m ) | F27: 공 | G27: 755900 | H27: 760500 | I27: 4600 | J27: 0.6085461
A28: 6. 유류대 | B28: 유류대(LPG) | F28: 일 | G28: 11510 | H28: 11400 | I28: -110 | J28: -0.9556907
A29: 운전사 | B29: 유류대(경유) | F29: 일 | G29: 12250 | H29: 13030 | I29: 780 | J29: 6.3673469
B30: 유류대(휘발유) | F30: 일 | G30: 13280 | H30: 13820 | I30: 540 | J30: 4.0662651
B31: 운전사 | F31: 일 | G31: 240680 | H31: 238930 | I31: -1750 | J31: -0.72710653
A32: 1. 차량비는 친환경차량, 내연기관차량, 택시로 구분하여 현장의 사용여건을 고려하여 적용
A33: - 친환경차량(전기차)는 총무인사처에서 체결한 현장업무용 차량임차 계약단가 적용
A34: - 내연기관 차량(승합차 포함) 및 택시는 계상시점의 현장이 속해있는 광역시·도 또는 지자체의 렌터카 견적단가 적용
A35: ※ 견적단가 적용시 2개 이상 업체의 견적을 비교하여 계상
A36: 2. 렌터카 사용시 유류대는 별도 계상, 구분6의 일당 유류대는 부가세 포함된 단가임.
A37: ※ 운전사 필요시 별도 계상하고, 운전사 비용은 대한건설협회에서 발표하는 시중노임단가에 의함
A38: 3. 운반차 금액은 품셈 미정립분야 적용요령(9.3 구역화물의 운임)을 준용
A39: 4. 그밖에 필요한 단가는 관련 근거, 거래실례가격, 견적가격 등을 참고하여 적정 단가를 반영하기 바람
A40: 5. 구분2의 재료비(석항, 목항)는 부가세 제외 단가임, 외주 조사·측량용역시 그대로 사용

Sheet 측량기술자임금(2026)
A2: 참조) 공간정보산업협회 공표(회원지원팀_2025.12.22.)
A4: 2025년도 측량기술자 임금 공표
A7: □ 2025년도 측량기술자 임금 □
A9: 구분 | C9: 직종 | D9: 단가(원)
A10: 기술계 | C10: 기 술 사 | D10: 442679
C11: 특 급 | D11: 326774
C12: 고 급 | D12: 289265
C13: 중 급 | D13: 251596
C14: 초 급 | D14: 215609
A15: 기 능 계 | B15: 측량 | C15: 고 급 | D15: 259647
C16: 중 급 | D16: 235899
C17: 초 급 | D17: 200786
B18: 지도제작 | C18: 고 급 | D18: 268435
C19: 중 급 | D19: 242957
C20: 초 급 | D20: 198089
B21: 도화 | C21: 고 급 | D21: 300967
C22: 중 급 | D22: 236885
C23: 초 급 | D23: 229483
B24: 항공사진 | C24: 고 급 | D24: 29990
C25: 중 급 | D25: 270554
C26: 초 급 | D26: 237664
A27: 기타 | C27: 사업용조종사 | D27: 313877
C28: 항법사 | D28: 303861
C29: 항공정비사 | D29: 288757
A30: 측부 | D30: 140043
A32: ※ 참고사항
A33: 1. 적용일 : 2026년 1월 1일부터
A34: 2. 본 노임단가는 1일 기준이며, 상여금 및 퇴직적립금이 포함된 단가임.
A35: 3. 측량기술자 월평균 근무일수는 20.3일로 함

Sheet 엔지니어링 임금실태조사결과(2026)
