Workbook
Name _10G_0Extr: #REF!
Name _12G_0Extract: #REF!
Name _14G__Extr: #REF!
Name _16G__Extract: #REF!
Name _1R: #REF!
Name _1X: #REF!
Name _2_3_0Crite: #REF!
Name _3R: #REF!
Name _3X: #REF!
Name _4_3_0Criteria: #REF!
Name _6_3__Crite: #REF!
Name _8_3__Criteria: #REF!
Name _a100000: #REF!
Name _a80000: #REF!
Name _B22: [1]일위대가!$1400:$1413=[1]일위대가!$A$1400
Name _B22: [1]일위대가!$1400:$1413=[1]일위대가!$A$1400
Name _K02: [1]일위대가!$732:$745=[1]일위대가!$A$732
Name _K02: [1]일위대가!$732:$745=[1]일위대가!$A$732
Name _NMB96: #REF!
Name _O03: [1]일위대가!$1516:$1529=[1]일위대가!$A$1516
Name _O03: [1]일위대가!$1516:$1529=[1]일위대가!$A$1516
Name _zz1: #REF!
Name \a: #N/A
Name A: #REF!
Name AA: [2]노무비!$B$2
Name aer: #REF!,#REF!
Name AFC설비: #REF!
Name AT: [3]간선계산!#REF!
Name B: [4]!Macro5
Name CC: #REF!
Name CCTV설비: #REF!
Name CODE: #REF!
Name CON_1: #REF!
Name CON_3: #REF!
Name COND_1: #REF!
Name COND_3: #REF!
Name CURRENT_1: #REF!
Name CURRENT_2: #REF!
Name CURRENT_3: #REF!
Name CV: [5]DATA!$F$4:$J$14
Name CV14_2C: [6]단가!#REF!
Name CV14_4C: [6]단가!#REF!
Name CV5.5_2: [6]단가!#REF!
Name CV5.5_4C: [6]단가!#REF!
Name CV8_2C: [6]단가!#REF!
Name CV8_4C: [6]단가!#REF!
Name DANGA: #REF!,#REF!
Name database2: #REF!
Name DISTANCE: #REF!
Name E_IV: #REF!
Name E10M: #REF!
Name E10P: #REF!
Name E11M: #REF!
Name E11P: #REF!
Name E12M: #REF!
Name E12P: #REF!
Name E13M: #REF!
Name E13P: #REF!
Name E14M: #REF!
Name E14P: #REF!

Sheet 원가
A1: 원 가 계 산 서
A2: 공사명: | C2: 전곡초 외 1교(반도체고) 화장실 및 냉난방개선 전기공사 | G2: 공사기간: 2개월
A3: 비 목 | C3: 구 분 | D3: 금 액 | G3: 구 성 비 | K3: 요율 | L3: 수량 | M3: 금액 | N3: 이윤 | O3: 끝자리 맞추기
D4: 전곡초 | E4: 반도체고 | F4: 합계
B5: 재 료 비 | C5: 직 접 재 료 비 | D5: =총괄표!I5 -> 3193989 | E5: =총괄표!I8 -> 1324692 | F5: =D5+E5 -> 4518681 | L5: 1 | M5: =D5*L5 -> 3193989
C6: 간 접 재 료 비 | F6: =D6+E6 -> 0 | M6: =D6*L6 -> 0
C7: ( 소 계 ) | D7: =SUM(D5:D6) -> 3193989 | E7: =SUM(E5:E6) -> 1324692 | F7: =D7+E7 -> 4518681 | M7: =D7*L7 -> 0
A8: 순 | B8: 노 무 비 | C8: 직 접 노 무 비 | D8: =총괄표!L5 -> 6880301 | E8: =총괄표!L8 -> 3080324 | F8: =D8+E8 -> 9960625 | L8: 1 | M8: =D8*L8 -> 6880301
C9: 간 접 노 무 비 | D9: =TRUNC(D8*$K$9/100) -> 1204052 | E9: =TRUNC(E8*$K$9/100) -> 539056 | F9: =D9+E9 -> 1743108 | G9: (직접 노무비) * 17.5 % | K9: 17.5 | L9: 1 | M9: =D9*L9 -> 1204052
C10: ( 소 계 ) | D10: =SUM(D8:D9) -> 8084353 | E10: =SUM(E8:E9) -> 3619380 | F10: =D10+E10 -> 11703733 | M10: =D10*L10 -> 0
C11: 기 계 경 비 | D11: =총괄표!N5 -> 2595 | F11: =D11+E11 -> 2595 | L11: 1 | M11: =D11*L11 -> 2595
C12: 산 재 보 험 료 | D12: =TRUNC(D10*$K$12/100) -> 287802 | E12: =TRUNC(E10*$K$12/100) -> 128849 | F12: =D12+E12 -> 416651 | G12: (노무비) * 3.56 % | K12: 3.56 | L12: 1 | M12: =D12*L12 -> 287802
A13: 공 | C13: 고 용 보 험 료 | D13: =TRUNC(D10*$K$13/100) -> 81651 | E13: =TRUNC(E10*$K$13/100) -> 36555 | F13: =D13+E13 -> 118206 | G13: (노무비) * 1.01 % | K13: 1.01 | L13: 1 | M13: =D13*L13 -> 81651
B14: 경 | C14: 퇴 직 금 공 제 | F14: =D14+E14 -> 0 | G14: (직접 노무비) * 2.3 % | K14: 2.3 | L14: 1 | M14: =D14*L14 -> 0
C15: 건 강 보 험 료 | D15: =D8*3.595% -> 247346.82 | E15: =E8*3.595% -> 110737.65 | F15: =D15+E15 -> 358084.47 | G15: (직접 노무비) * 3.595% | M15: =D15*L15 -> 0
C16: 연 금 보 험 료 | D16: =D8*4.75% -> 326814.3 | E16: =E8*4.75% -> 146315.39 | F16: =D16+E16 -> 473129.69 | G16: (직접 노무비) * 4.75%
C17: 노인장기요양보험료 | D17: =D15*13.14% -> 32501.372 | E17: =E15*13.14% -> 14550.927 | F17: =D17+E17 -> 47052.299 | G17: (건강보험료) * 13.14%
A18: 사 | C18: 기 타 경 비 | D18: =TRUNC((D7+D10)*$K$18/100) -> 563917 | E18: =TRUNC((E7+E10)*$K$18/100) -> 247203 | F18: =D18+E18 -> 811120 | G18: (재료+노무) * 5 % | K18: 5 | L18: 1 | M18: =D18*L18 -> 563917
C19: 석 면 분 담 금 | D19: =TRUNC(D10*$K$19/100) -> 485 | E19: =TRUNC(E10*$K$19/100) -> 217 | F19: =D19+E19 -> 702 | G19: (노무비) * 0.006 % | K19: 0.006 | L19: 1 | M19: =D19*L19 -> 485
C20: 임금채권부담금 | D20: =TRUNC(D10*$K$20/100) -> 7275 | E20: =TRUNC(E10*$K$20/100) -> 3257 | F20: =D20+E20 -> 10532 | G20: (노무비) * 0.09 % | K20: 0.09 | L20: 1 | M20: =D20*L20 -> 7275
F21: =D21+E21 -> 0 | M21: =D21*L21 -> 0
F22: =D22+E22 -> 0 | M22: =D22*L22 -> 0
A23: 비 | B23: 비 | F23: =D23+E23 -> 0 | M23: =D23*L23 -> 0
F24: =D24+E24 -> 0 | M24: =D24*L24 -> 0
F25: =D25+E25 -> 0 | M25: =D25*L25 -> 0
C26: ( 소 계 ) | D26: =SUM(D11:D25) -> 1550387.5 | E26: =SUM(E11:E25) -> 687684.96 | F26: =D26+E26 -> 2238072.5 | M26: =D26*L26 -> 0
B27: ( 순 공 사 비 계 ) | D27: =D7+D10+D26 -> 12828729 | E27: =E7+E10+E26 -> 5631757 | F27: =D27+E27 -> 18460486 | M27: =D27*L27 -> 0
A28: 일 반 관 리 비 | D28: =D27*8% -> 1026298.4 | E28: =E27*8% -> 450540.56 | F28: =D28+E28 -> 1476838.9 | G28: (재료+노무+경비) * 8 % | K28: 8 | L28: 1 | M28: =D28*L28 -> 1026298.4
A29: 이 윤 | D29: =(D10+D26+D28)*15% -> 1599155.8 | E29: =(E10+E26+E28)*15% -> 713640.83 | F29: =D29+E29 -> 2312796.7 | G29: (노무+경비+일반관리비) * 15 % | K29: 15 | L29: 1 | M29: =D29*L29 -> 1599155.8 | N29: =TRUNC((D10+D26+D28)*K29/100) -> 1599155 | O29: 10000
A30: 공사손해보험료 | D30: =TRUNC((D7+D10+D26+D28+D29)*$K$30/100) -> 40918 | E30: =TRUNC((E7+E10+E26+E28+E29)*$K$30/100) -> 17993 | F30: =D30+E30 -> 58911 | G30: (보험가입대상공사총원가) * 0.26477 % | K30: 0.26477 | L30: 1 | M30: =D30*L30 -> 40918
A31: ( 총 원 가 ) | D31: =TRUNC(D27+D28+D29+D30,-3) -> 15495000 | E31: =TRUNC(E27+E28+E29+E30,-3) -> 6813000 | F31: =D31+E31 -> 22308000 | G31: 천원단위절사 | M31: =D31*L31 -> 0
A32: 부 가 가 치 세 | D32: =TRUNC(D31*$K$32/100) -> 1549500 | E32: =TRUNC(E31*$K$32/100) -> 681300 | F32: =D32+E32 -> 2230800 | K32: 10 | L32: 1 | M32: =D32*L32 -> 1549500
F33: =D33+E33 -> 0 | M33: =D33*L33 -> 0
F34: =D34+E34 -> 0 | M34: =D34*L34 -> 0
F35: =D35+E35 -> 0 | M35: =D35*L35 -> 0
A36: ( 총 계 ) | D36: =TRUNC(SUM(D31:D35),-3) -> 17044000 | E36: =TRUNC(SUM(E31:E35),-3) -> 7494000 | F36: =D36+E36 -> 24538000 | G36: 천원단위절사 | M36: =SUM(M5:M35) -> 16437939

Sheet 총괄표
A1: 총줄수-> | B1: 55 | C1: 2.0 | D1: [ 전곡초 외 1교(반도체고) 화장실 및 냉난방개선 전기공사 ] | AA1: 연속견적가로형식
A2: 번호 | B2: 공종코드 | C2: … | D2: 공 종 명 | E2: 규격 | F2: 단위 | G2: 수량 | H2: 재료비 | J2: 노무비 | M2: 경비 | P2: 계 | Q2: 비고
H3: 단가 | I3: 금액 | J3: 수량 | K3: 단가 | L3: 금액 | M3: 단가 | N3: 금액 | O3: 단가
B4: 공종줄 | D4: 1. [전곡초등학교 화장실개선 전기공사]
B5: 001 | D5: 가.전기공사 | F5: 식 | G5: 1 | H5: =총괄표!I55 -> 3193989 | I5: =G5*H5 -> 3193989 | K5: =총괄표!L55 -> 6880301 | L5: =G5*K5 -> 6880301 | M5: =총괄표!N55 -> 2595 | N5: =G5*M5 -> 2595 | P5: =SUM(I5,L5,N5) -> 10076885
I6: =G6*H6 -> 0 | L6: =G6*K6 -> 0 | N6: =G6*M6 -> 0 | P6: =SUM(I6,L6,N6) -> 0
D7: 2. [서울반도체고 냉난방 개선 전기공사]
D8: 가.전기공사 | F8: 식 | G8: 1 | H8: =I81 -> 1324692 | I8: =G8*H8 -> 1324692 | K8: =L81 -> 3080324 | L8: =G8*K8 -> 3080324 | N8: =G8*M8 -> 0 | P8: =SUM(I8,L8,N8) -> 4405016
I9: =G9*H9 -> 0 | L9: =G9*K9 -> 0 | N9: =G9*M9 -> 0 | P9: =SUM(I9,L9,N9) -> 0
I10: =G10*H10 -> 0 | L10: =G10*K10 -> 0 | N10: =G10*M10 -> 0 | P10: =SUM(I10,L10,N10) -> 0
I11: =G11*H11 -> 0 | L11: =G11*K11 -> 0 | N11: =G11*M11 -> 0 | P11: =SUM(I11,L11,N11) -> 0
I12: =G12*H12 -> 0 | L12: =G12*K12 -> 0 | N12: =G12*M12 -> 0 | P12: =SUM(I12,L12,N12) -> 0
I13: =G13*H13 -> 0 | L13: =G13*K13 -> 0 | N13: =G13*M13 -> 0 | P13: =SUM(I13,L13,N13) -> 0
I14: =G14*H14 -> 0 | L14: =G14*K14 -> 0 | N14: =G14*M14 -> 0 | P14: =SUM(I14,L14,N14) -> 0
I15: =G15*H15 -> 0 | L15: =G15*K15 -> 0 | N15: =G15*M15 -> 0 | P15: =SUM(I15,L15,N15) -> 0
I16: =G16*H16 -> 0 | L16: =G16*K16 -> 0 | N16: =G16*M16 -> 0 | P16: =SUM(I16,L16,N16) -> 0
I17: =G17*H17 -> 0 | L17: =G17*K17 -> 0 | N17: =G17*M17 -> 0 | P17: =SUM(I17,L17,N17) -> 0
I18: =G18*H18 -> 0 | L18: =G18*K18 -> 0 | N18: =G18*M18 -> 0 | P18: =SUM(I18,L18,N18) -> 0
I19: =G19*H19 -> 0 | L19: =G19*K19 -> 0 | N19: =G19*M19 -> 0 | P19: =SUM(I19,L19,N19) -> 0
I20: =G20*H20 -> 0 | L20: =G20*K20 -> 0 | N20: =G20*M20 -> 0 | P20: =SUM(I20,L20,N20) -> 0
... I28: =G28*H28 -> 0 | L28: =G28*K28 -> 0 | N28: =G28*M28 -> 0 | P28: =SUM(I28,L28,N28) -> 0
C29: Total | D29: ( 합 계 ) | I29: =TRUNC(SUM(I4:I28)) -> 4518681 | L29: =TRUNC(SUM(L4:L28)) -> 9960625 | N29: =TRUNC(SUM(N4:N28)) -> 2595 | P29: =TRUNC(SUM(P4:P28)) -> 14481901
B30: 공종줄 | D30: 1.전곡초등학교 화장실개선 전기공사
B31: 00101 | D31: 1-1.전력간선및동력설비공사 | F31: 식 | G31: 1 | H31: ='내역서(전곡초)'!I29 -> 1621073 | I31: =G31*H31 -> 1621073 | K31: ='내역서(전곡초)'!L29 -> 1923853 | L31: =G31*K31 -> 1923853 | M31: ='내역서(전곡초)'!N29 -> 519 | N31: =G31*M31 -> 519 | P31: =SUM(I31,L31,N31) -> 3545445
B32: 00102 | D32: 1-2.전열설비공사 | F32: 식 | G32: 1 | H32: ='내역서(전곡초)'!I55 -> 144468 | I32: =G32*H32 -> 144468 | K32: ='내역서(전곡초)'!L55 -> 1119185 | L32: =G32*K32 -> 1119185 | M32: ='내역서(전곡초)'!N55 -> 1038 | N32: =G32*M32 -> 1038 | P32: =SUM(I32,L32,N32) -> 1264691
B33: 00103 | D33: 1-3.전등설비공사 | F33: 식 | G33: 1 | H33: ='내역서(전곡초)'!I81 -> 627385 | I33: =G33*H33 -> 627385 | K33: ='내역서(전곡초)'!L81 -> 2416829 | L33: =G33*K33 -> 2416829 | M33: ='내역서(전곡초)'!N81 -> 519 | N33: =G33*M33 -> 519 | P33: =SUM(I33,L33,N33) -> 3044733
B34: 00104 | D34: 1-4.기타설비공사 | F34: 식 | G34: 1 | H34: ='내역서(전곡초)'!I107 -> 784383 | I34: =G34*H34 -> 784383 | K34: ='내역서(전곡초)'!L107 -> 877756 | L34: =G34*K34 -> 877756 | M34: ='내역서(전곡초)'!N107 -> 519 | N34: =G34*M34 -> 519 | P34: =SUM(I34,L34,N34) -> 1662658
B35: 00105 | D35: 1-5.철거공사 | F35: 식 | G35: 1 | H35: ='내역서(전곡초)'!I133 -> 16680 | I35: =G35*H35 -> 16680 | K35: ='내역서(전곡초)'!L133 -> 542678 | L35: =G35*K35 -> 542678 | M35: ='내역서(전곡초)'!N133 -> 0 | N35: =G35*M35 -> 0 | P35: =SUM(I35,L35,N35) -> 559358
I36: =G36*H36 -> 0 | L36: =G36*K36 -> 0 | N36: =G36*M36 -> 0 | P36: =SUM(I36,L36,N36) -> 0
I37: =G37*H37 -> 0 | L37: =G37*K37 -> 0 | N37: =G37*M37 -> 0 | P37: =SUM(I37,L37,N37) -> 0
I38: =G38*H38 -> 0 | L38: =G38*K38 -> 0 | N38: =G38*M38 -> 0 | P38: =SUM(I38,L38,N38) -> 0
I39: =G39*H39 -> 0 | L39: =G39*K39 -> 0 | N39: =G39*M39 -> 0 | P39: =SUM(I39,L39,N39) -> 0
I40: =G40*H40 -> 0 | L40: =G40*K40 -> 0 | N40: =G40*M40 -> 0 | P40: =SUM(I40,L40,N40) -> 0
I41: =G41*H41 -> 0 | L41: =G41*K41 -> 0 | N41: =G41*M41 -> 0 | P41: =SUM(I41,L41,N41) -> 0
I42: =G42*H42 -> 0 | L42: =G42*K42 -> 0 | N42: =G42*M42 -> 0 | P42: =SUM(I42,L42,N42) -> 0
I43: =G43*H43 -> 0 | L43: =G43*K43 -> 0 | N43: =G43*M43 -> 0 | P43: =SUM(I43,L43,N43) -> 0
I44: =G44*H44 -> 0 | L44: =G44*K44 -> 0 | N44: =G44*M44 -> 0 | P44: =SUM(I44,L44,N44) -> 0
I45: =G45*H45 -> 0 | L45: =G45*K45 -> 0 | N45: =G45*M45 -> 0 | P45: =SUM(I45,L45,N45) -> 0
I46: =G46*H46 -> 0 | L46: =G46*K46 -> 0 | N46: =G46*M46 -> 0 | P46: =SUM(I46,L46,N46) -> 0
I47: =G47*H47 -> 0 | L47: =G47*K47 -> 0 | N47: =G47*M47 -> 0 | P47: =SUM(I47,L47,N47) -> 0
...

Sheet 내역서(전곡초)
A1: 총줄수-> | B1: 133 | C1: 2.0 | D1: [ 전곡초등학교 화장실개선 전기공사 ] | W1: 노임 계산 정보 | AA1: 부속재 및 손료
A2: 번호 | B2: 공종코드 | C2: 코드 | D2: 명 칭 | E2: 규 격 | F2: 단위 | G2: 수량 | H2: 재료비 | J2: 노무비 | M2: 경비 | P2: 계 | Q2: 비고 | W2: 노임계 | X2: 전체(%) | Y2: 공종별(%) | Z2: 노임 소수 | AA2: CD배관재 | AB2: 일반배관재 | AC2: 소모재 | AD2: 자재계 | AE2: 노임계
H3: 단가 | I3: 금액 | J3: 수량 | K3: 단가 | L3: 금액 | M3: 단가 | N3: 금액 | O3: 단가 | AD3: =IF(옵션!$C$11 =0, "1", 옵션!$C$11) -> 1 | AE3: =IF(옵션!$C$12 =0, "1", 옵션!$C$12) -> 1
B4: 공종줄 | D4: 1.전기공사::1-1.전력간선및동력설비공사
A5: 5975A337015 | B5: 00101 | C5: E59750337015 | D5: 강제전선관(노출) | E5: 아연도 42 mm | F5: m | G5: 3 | H5: =일대목차!I8 -> 9544 | I5: =TRUNC(G5*H5) -> 28632 | J5: 3 | K5: =일대목차!L8 -> 68419 | L5: =TRUNC(G5*K5) -> 205257 | M5: =일대목차!N8 -> 0 | N5: =TRUNC(G5*M5) -> 0 | P5: =SUM(I5,L5,N5) -> 233889 | Q5: 제 5호 | AB5: =I5 -> 28632 | AC5: =G5*H5 -> 28632
A6: 59753017044 | B6: 00101 | C6: 3913170620174435 | D6: 1종금속제가요전선관 | E6: 커넥터, 22 mm 일반-비방수 | F6: 개 | G6: 4 | H6: =합산자재!H6 -> 517 | I6: =TRUNC(G6*H6) -> 2068 | J6: 4 | K6: =합산자재!I6 -> 0 | L6: =TRUNC(G6*K6) -> 0 | M6: =합산자재!J6 -> 0 | N6: =TRUNC(G6*M6) -> 0 | P6: =SUM(I6,L6,N6) -> 2068
A7: 56959100804 | B7: 00101 | C7: EAB110214000 | D7: 1종금속제가요전선관 | E7: 22 mm 고장력-비방수 | F7: m | G7: 23 | H7: =일대목차!I10 -> 1597 | I7: =TRUNC(G7*H7) -> 36731 | J7: 23 | K7: =일대목차!L10 -> 16146 | L7: =TRUNC(G7*K7) -> 371358 | M7: =일대목차!N10 -> 0 | N7: =TRUNC(G7*M7) -> 0 | P7: =SUM(I7,L7,N7) -> 408089 | Q7: 제 7호 | AC7: =G7*H7 -> 36731
A8: 59759017063 | B8: 00101 | C8: 3913170820176477 | D8: 강제전선관용 부품 | E8: 노말밴드, 아연도 42 mm | F8: 개 | G8: 1 | H8: =합산자재!H9 -> 5351 | I8: =TRUNC(G8*H8) -> 5351 | J8: 1 | K8: =합산자재!I9 -> 0 | L8: =TRUNC(G8*K8) -> 0 | M8: =합산자재!J9 -> 0 | N8: =TRUNC(G8*M8) -> 0 | P8: =SUM(I8,L8,N8) -> 5351
A9: 5975D767041 | B9: 00101 | C9: E59753767041 | D9: 아우트렛박스 | E9: 중형4각 54㎜ | F9: 개 | G9: 3 | H9: =일대목차!I12 -> 1958 | I9: =TRUNC(G9*H9) -> 5874 | J9: 3 | K9: =일대목차!L12 -> 32841 | L9: =TRUNC(G9*K9) -> 98523 | M9: =일대목차!N12 -> 0 | N9: =TRUNC(G9*M9) -> 0 | P9: =SUM(I9,L9,N9) -> 104397 | Q9: 제 9호
A10: 5975D777111 | B10: 00101 | C10: E59753777111 | D10: 스위치박스 | E10: 2 개용 54 mm | F10: 개 | G10: 2 | H10: =일대목차!I14 -> 2368 | I10: =TRUNC(G10*H10) -> 4736 | J10: 2 | K10: =일대목차!L14 -> 54735 | L10: =TRUNC(G10*K10) -> 109470 | M10: =일대목차!N14 -> 0 | N10: =TRUNC(G10*M10) -> 0 | P10: =SUM(I10,L10,N10) -> 114206 | Q10: 제 11호
A11: 59753767231 | B11: 00101 | C11: 3912130820174713 | D11: 아우트렛박스 커버 | E11: 커버, 4각, 평형 | F11: 개 | G11: 2 | H11: =합산자재!H15 -> 343 | I11: =TRUNC(G11*H11) -> 686 | J11: 2 | K11: =합산자재!I15 -> 0 | L11: =TRUNC(G11*K11) -> 0 | M11: =합산자재!J15 -> 0 | N11: =TRUNC(G11*M11) -> 0 | P11: =SUM(I11,L11,N11) -> 686
A12: MM300040279 | B12: 00101 | C12: 3912130820157231 | D12: 아우트렛박스 커버 | E12: 콘카바 | F12: 개 | G12: 1 | H12: =합산자재!H17 -> 343 | I12: =TRUNC(G12*H12) -> 343 | J12: 1 | K12: =합산자재!I17 -> 0 | L12: =TRUNC(G12*K12) -> 0 | M12: =합산자재!J17 -> 0 | N12: =TRUNC(G12*M12) -> 0 | P12: =SUM(I12,L12,N12) -> 343
A13: 6145F137894 | B13: 00101 | C13: E61455137894 | D13: 정션 박스 | E13: 100*100*50 | F13: EA | G13: 1 | H13: =일대목차!I15 -> 3018 | I13: =TRUNC(G13*H13) -> 3018 | J13: 1 | K13: =일대목차!L15 -> 10947 | L13: =TRUNC(G13*K13) -> 10947 | M13: =일대목차!N15 -> 0 | N13: =TRUNC(G13*M13) -> 0 | P13: =SUM(I13,L13,N13) -> 13965 | Q13: 제 12호
A14: 5975D857081 | B14: 00101 | C14: E59753857081 | D14: 풀박스 | E14: 200×200×200 | F14: 개 | G14: 1 | H14: =일대목차!I16 -> 7841 | I14: =TRUNC(G14*H14) -> 7841 | J14: 1 | K14: =일대목차!L16 -> 60208 | L14: =TRUNC(G14*K14) -> 60208 | M14: =일대목차!N16 -> 0 | N14: =TRUNC(G14*M14) -> 0 | P14: =SUM(I14,L14,N14) -> 68049 | Q14: 제 13호
A15: 5975B817222 | B15: 00101 | C15: E59751817222 | D15: 케이블트레이 | E15: STRAIGHT,St W300x100Hx2.3t | F15: m | G15: 2 | H15: =일대목차!I17 -> 15170 | I15: =TRUNC(G15*H15) -> 30340 | J15: 2 | K15: =일대목차!L17 -> 62945 | L15: =TRUNC(G15*K15) -> 125890 | M15: =일대목차!N17 -> 0 | N15: =TRUNC(G15*M15) -> 0 | P15: =SUM(I15,L15,N15) -> 156230 | Q15: 제 14호
A16: 5975B817334 | B16: 00101 | C16: E59751817334 | D16: 케이블트레이 | E16: COVER,St W300 | F16: m | G16: 2 | H16: =일대목차!I18 -> 27614 | I16: =TRUNC(G16*H16) -> 55228 | J16: 2 | K16: =일대목차!L18 -> 12589 | L16: =TRUNC(G16*K16) -> 25178 | M16: =일대목차!N18 -> 0 | N16: =TRUNC(G16*M16) -> 0 | P16: =SUM(I16,L16,N16) -> 80406 | Q16: 제 15호
A17: E145A667003 | B17: 00101 | C17: EE1450667003 | D17: 450/750V 내열비닐절연전선 | E17: HFIX 2.25mm(4㎟) | F17: m | G17: 76 | H17: =일대목차!I21 -> 1007 | I17: =TRUNC(G17*H17) -> 76532 | J17: 76 | K17: =일대목차!L21 -> 2736 | L17: =TRUNC(G17*K17) -> 207936 | M17: =일대목차!N21 -> 0 | N17: =TRUNC(G17*M17) -> 0 | P17: =SUM(I17,L17,N17) -> 284468 | Q17: 제 18호 | AC17: =G17*H17 -> 76532
A18: E145A927204 | B18: 00101 | C18: EE1450927204 | D18: 접지용비닐절연전선(F-GV) | E18: 10㎟ | F18: m | G18: 7 | H18: =일대목차!I22 -> 2414 | I18: =TRUNC(G18*H18) -> 16898 | J18: 7 | K18: =일대목차!L22 -> 2463 | L18: =TRUNC(G18*K18) -> 17241 | M18: =일대목차!N22 -> 0 | N18: =TRUNC(G18*M18) -> 0 | P18: =SUM(I18,L18,N18) -> 34139 | Q18: 제 19호 | AC18: =G18*H18 -> 16898
A19: E145A287564 | B19: 00101 | C19: EE1450287564 | D19: 폴리에틸렌 난연케이블 | E19: 0.6/1kv F-CV 4C×10㎟ | F19: m | G19: 7 | H19: =일대목차!I23 -> 10682 | I19: =TRUNC(G19*H19) -> 74774 | J19: 7 | K19: =일대목차!L23 -> 14903 | L19: =TRUNC(G19*K19) -> 104321 | M19: =일대목차!N23 -> 0 | N19: =TRUNC(G19*M19) -> 0 | P19: =SUM(I19,L19,N19) -> 179095 | Q19: 제 20호 | AC19: =G19*H19 -> 74774
A20: 5935A317206 | B20: 00101 | C20: E59350317206 | D20: 콘센트 | E20: 매입-접지형, 250V 2구 | F20: 개 | G20: 1 | H20: =일대목차!I25 -> 2067 | I20: =TRUNC(G20*H20) -> 2067 | J20: 1 | K20: =일대목차!L25 -> 21894 | L20: =TRUNC(G20*K20) -> 21894 | M20: =일대목차!N25 -> 0 | N20: =TRUNC(G20*M20) -> 0 | P20: =SUM(I20,L20,N20) -> 23961 | Q20: 제 22호
A21: 5925A327171 | B21: 00101 | C21: E59250327171 | D21: 배선용 차단기 | E21: 표준형, 4P 600V 50AF | F21: 대 | G21: 1 | H21: =일대목차!I28 -> 75075 | I21: =TRUNC(G21*H21) -> 75075 | J21: 1 | K21: =일대목차!L28 -> 92502 | L21: =TRUNC(G21*K21) -> 92502 | M21: =일대목차!N28 -> 0 | N21: =TRUNC(G21*M21) -> 0 | P21: =SUM(I21,L21,N21) -> 167577 | Q21: 제 25호
A22: E9400177001 | B22: 00101 | C22: 3912143210033786 | D22: 러그단자 | E22: 동관단자 1 HOLE 10 ㎟ | F22: 개 | G22: 8 | H22: =합산자재!H39 -> 299 | I22: =TRUNC(G22*H22) -> 2392 | J22: 8 | K22: =합산자재!I39 -> 0 | L22: =TRUNC(G22*K22) -> 0 | M22: =합산자재!J39 -> 0 | N22: =TRUNC(G22*M22) -> 0 | P22: =SUM(I22,L22,N22) -> 2392
A23: E9400267005 | B23: 00101 | C23: 3912143221650910 | D23: 압착단자 | E23: R형동선 나압착 10 ㎟ | F23: 개 | G23: 2 | H23: =합산자재!H40 -> 101 | I23: =TRUNC(G23*H23) -> 202 | J23: 2 | K23: =합산자재!I40 -> 0 | L23: =TRUNC(G23*K23) -> 0 | M23: =합산자재!J40 -> 0 | N23: =TRUNC(G23*M23) -> 0 | P23: =SUM(I23,L23,N23) -> 202
A24: 56950170114 | B24: 00101 | C24: EAA110640000 | D24: TRAY SUPPORT | E24: W300-1단 | F24: 식 | G24: 1 | H24: =일대목차!I4 -> 5439 | I24: =TRUNC(G24*H24) -> 5439 | J24: 1 | K24: =일대목차!L4 -> 19704 | L24: =TRUNC(G24*K24) -> 19704 | M24: =일대목차!N4 -> 0 | N24: =TRUNC(G24*M24) -> 0 | P24: =SUM(I24,L24,N24) -> 25143 | Q24: 제 1호
A25: 56959100801 | B25: 00101 | C25: EAB110211000 | D25: 배관용 홈파기 | E25: Φ22이하 | F25: m | G25: 5 | H25: =일대목차!I6 -> 412 | I25: =TRUNC(G25*H25) -> 2060 | J25: 5 | K25: =일대목차!L6 -> 13765 | L25: =TRUNC(G25*K25) -> 68825 | M25: =일대목차!N6 -> 0 | N25: =TRUNC(G25*M25) -> 0 | P25: =SUM(I25,L25,N25) -> 70885 | Q25: 제 3호
A26: 56953100908 | B26: 00101 | C26: EAB110220000 | D26: 벽관통 구멍(방화실링) | E26: Φ50-벽두께 25cm | F26: 개소 | G26: 1 | H26: =일대목차!I5 -> 4407 | I26: =TRUNC(G26*H26) -> 4407 | J26: 1 | K26: =일대목차!L5 -> 104903 | L26: =TRUNC(G26*K26) -> 104903 | M26: =일대목차!N5 -> 519 | N26: =TRUNC(G26*M26) -> 519 | P26: =SUM(I26,L26,N26) -> 109829 | Q26: 제 2호
A27: 56959100802 | B27: 00101 | C27: EAB110212000 | D27: 파이프지지대 벽체 | E27: 42C | F27: 개 | G27: 2 | H27: =일대목차!I7 -> 2290 | I27: =TRUNC(G27*H27) -> 4580 | J27: 2 | K27: =일대목차!L7 -> 9852 | L27: =TRUNC(G27*K27) -> 19704 | M27: =일대목차!N7 -> 0 | N27: =TRUNC(G27*M27) -> 0 | P27: =SUM(I27,L27,N27) -> 24284 | Q27: 제 4호
A28: 56959100809 | B28: 00101 | C28: E56959100809 | D28: 분전반 | E28: L-T(체육관동) PANEL | F28: 면 | G28: 1 | H28: =일대목차!I31 -> 1175799 | I28: =TRUNC(G28*H28) -> 1175799 | J28: 1 | K28: =일대목차!L31 -> 259992 | L28: =TRUNC(G28*K28) -> 259992 | M28: =일대목차!N31 -> 0 | N28: =TRUNC(G28*M28) -> 0 | P28: =SUM(I28,L28,N28) -> 1435791 | Q28: 제 28호
B29: 합계줄 | D29: ( 합 계 ) | I29: =TRUNC(SUM(I4:I28)) -> 1621073 | L29: =TRUNC(SUM(L4:L28)) -> 1923853 | N29: =TRUNC(SUM(N4:N28)) -> 519 | P29: =TRUNC(SUM(P4:P28)) -> 3545445 | AE29: =TRUNC(SUM(AE4:AE28)) -> 0
B30: 공종줄 | D30: 1.전기공사::1-2.전열설비공사
A31: 56959100804 | B31: 00102 | C31: EAB110214000 | D31: 1종금속제가요전선관 | E31: 22 mm 고장력-비방수 | F31: m | G31: 19 | H31: =일대목차!I10 -> 1597 | I31: =TRUNC(G31*H31) -> 30343 | J31: 19 | K31: =일대목차!L10 -> 16146 | L31: =TRUNC(G31*K31) -> 306774 | M31: =일대목차!N10 -> 0 | N31: =TRUNC(G31*M31) -> 0 | P31: =SUM(I31,L31,N31) -> 337117 | Q31: 제 7호 | AC31: =G31*H31 -> 30343
A32: 5975D767041 | B32: 00102 | C32: E59753767041 | D32: 아우트렛박스 | E32: 중형4각 54㎜ | F32: 개 | G32: 2 | H32: =일대목차!I12 -> 1958 | I32: =TRUNC(G32*H32) -> 3916 | J32: 2 | K32: =일대목차!L12 -> 32841 | L32: =TRUNC(G32*K32) -> 65682 | M32: =일대목차!N12 -> 0 | N32: =TRUNC(G32*M32) -> 0 | P32: =SUM(I32,L32,N32) -> 69598 | Q32: 제 9호
A33: 5975D777102 | B33: 00102 | C33: E59753777102 | D33: 스위치박스 | E33: 1 개용 54 mm | F33: 개 | G33: 2 | H33: =일대목차!I13 -> 2245 | I33: =TRUNC(G33*H33) -> 4490 | J33: 2 | K33: =일대목차!L13 -> 54735 | L33: =TRUNC(G33*K33) -> 109470 | M33: =일대목차!N13 -> 0 | N33: =TRUNC(G33*M33) -> 0 | P33: =SUM(I33,L33,N33) -> 113960 | Q33: 제 10호
A34: MM300040279 | B34: 00102 | C34: 3912130820157231 | D34: 아우트렛박스 커버 | E34: 콘카바 | F34: 개 | G34: 2 | H34: =합산자재!H17 -> 343 | I34: =TRUNC(G34*H34) -> 686 | J34: 2 | K34: =합산자재!I17 -> 0 | L34: =TRUNC(G34*K34) -> 0 | M34: =합산자재!J17 -> 0 | N34: =TRUNC(G34*M34) -> 0 | P34: =SUM(I34,L34,N34) -> 686
A35: 6145F137894 | B35: 00102 | C35: E61455137894 | D35: 정션 박스 | E35: 100*100*50 | F35: EA | G35: 6 | H35: =일대목차!I15 -> 3018 | I35: =TRUNC(G35*H35) -> 18108 | J35: 6 | K35: =일대목차!L15 -> 10947 | L35: =TRUNC(G35*K35) -> 65682 | M35: =일대목차!N15 -> 0 | N35: =TRUNC(G35*M35) -> 0 | P35: =SUM(I35,L35,N35) -> 83790 | Q35: 제 12호
A36: E145A667003 | B36: 00102 | C36: EE1450667003 | D36: 450/750V 내열비닐절연전선 | E36: HFIX 2.25mm(4㎟) | F36: m | G36: 65 | H36: =일대목차!I21 -> 1007 | I36: =TRUNC(G36*H36) -> 65455 | J36: 65 | K36: =일대목차!L21 -> 2736 | L36: =TRUNC(G36*K36) -> 177840 | M36: =일대목차!N21 -> 0 | N36: =TRUNC(G36*M36) -> 0 | P36: =SUM(I36,L36,N36) -> 243295 | Q36: 제 18호 | AC36: =G36*H36 -> 65455
A37: 5935A317206 | B37: 00102 | C37: E59350317206 | D37: 콘센트 | E37: 매입-접지형, 250V 2구 | F37: 개 | G37: 2 | H37: =일대목차!I25 -> 2067 | I37: =TRUNC(G37*H37) -> 4134 | J37: 2 | K37: =일대목차!L25 -> 21894 | L37: =TRUNC(G37*K37) -> 43788 | M37: =일대목차!N25 -> 0 | N37: =TRUNC(G37*M37) -> 0 | P37: =SUM(I37,L37,N37) -> 47922 | Q37: 제 22호
A38: 5935A317208 | B38: 00102 | C38: E59350317208 | D38: 방우콘센트 | E38: 매입-접지형, 250V 2구 | F38: 개 | G38: 2 | H38: =일대목차!I26 -> 2819 | I38: =TRUNC(G38*H38) -> 5638 | J38: 2 | K38: =일대목차!L26 -> 21894 | L38: =TRUNC(G38*K38) -> 43788 | M38: =일대목차!N26 -> 0 | N38: =TRUNC(G38*M38) -> 0 | P38: =SUM(I38,L38,N38) -> 49426 | Q38: 제 23호
A39: 56959100801 | B39: 00102 | C39: EAB110211000 | D39: 배관용 홈파기 | E39: Φ22이하 | F39: m | G39: 7 | H39: =일대목차!I6 -> 412 | I39: =TRUNC(G39*H39) -> 2884 | J39: 7 | K39: =일대목차!L6 -> 13765 | L39: =TRUNC(G39*K39) -> 96355 | M39: =일대목차!N6 -> 0 | N39: =TRUNC(G39*M39) -> 0 | P39: =SUM(I39,L39,N39) -> 99239 | Q39: 제 3호
A40: 56953100908 | B40: 00102 | C40: EAB110220000 | D40: 벽관통 구멍(방화실링) | E40: Φ50-벽두께 25cm | F40: 개소 | G40: 2 | H40: =일대목차!I5 -> 4407 | I40: =TRUNC(G40*H40) -> 8814 | J40: 2 | K40: =일대목차!L5 -> 104903 | L40: =TRUNC(G40*K40) -> 209806 | M40: =일대목차!N5 -> 519 | N40: =TRUNC(G40*M40) -> 1038 | P40: =SUM(I40,L40,N40) -> 219658 | Q40: 제 2호
...

Sheet 내역서(반도체고)
A1: 총줄수-> | B1: 55 | D1: [ 서울반도체고등학교 학생식당 냉난방개선 전기공사 ] | W1: 노임 계산 정보 | AA1: 부속재 및 손료
A2: 번호 | B2: 공종코드 | C2: 코드 | D2: 명 칭 | E2: 규 격 | F2: 단위 | G2: 수량 | H2: 재료비 | J2: 노무비 | M2: 경비 | P2: 계 | Q2: 비고 | W2: 노임계 | X2: 전체(%) | Y2: 공종별(%) | Z2: 노임 소수 | AA2: CD배관재 | AB2: 일반배관재 | AC2: 소모재 | AD2: 자재계 | AE2: 노임계
H3: 단가 | I3: 금액 | J3: 수량 | K3: 단가 | L3: 금액 | M3: 단가 | N3: 금액 | O3: 단가 | AD3: 1 | AE3: 1
B4: 공종줄 | D4: 1.전기공사::1-1.냉난방공사
A5: 59750337004 | B5: 0101 | C5: 3913170610034835 | D5: 강제전선관 | E5: 아연도 36 mm | F5: m | G5: 5 | H5: 5134 | I5: =TRUNC(G5*H5) -> 25670 | J5: 4 | K5: 0 | L5: =TRUNC(G5*K5) -> 0 | M5: 0 | N5: =TRUNC(G5*M5) -> 0 | O5: =IF((H5+K5+M5)=0, "", (H5+K5+M5)) -> 5134 | P5: =SUM(I5,L5,N5) -> 25670 | AB5: =I5 -> 25670 | AC5: =G5*H5 -> 25670
A6: A0500000000 | B6: 0101 | C6: RENT000000000002 | D6: [ 배관 부속재 ] | E6: 전선관의 15 % | F6: 식 | G6: 1 | H6: 3850 | I6: =TRUNC(G6*H6) -> 3850 | J6: 1 | L6: =TRUNC(G6*K6) -> 0 | N6: =TRUNC(G6*M6) -> 0 | O6: =IF((H6+K6+M6)=0, "", (H6+K6+M6)) -> 3850 | P6: =SUM(I6,L6,N6) -> 3850 | AB6: =TRUNC(SUM(AB4:AB5)) -> 25670
A7: 59753017003 | B7: 010104 | C7: 3913170620174410 | D7: 가요전선관 | E7: 16mm 비방수 | F7: m | G7: 18 | H7: 544 | I7: =TRUNC(G7*H7) -> 9792 | J7: 16 | K7: 0 | L7: =TRUNC(G7*K7) -> 0 | M7: 0 | N7: =TRUNC(G7*M7) -> 0 | O7: =IF((H7+K7+M7)=0, "", (H7+K7+M7)) -> 544 | P7: =SUM(I7,L7,N7) -> 9792 | AC7: =G7*H7 -> 9792
A8: MM496797030 | B8: 0101 | C8: 3913170620174471 | D8: 가요전선관 | E8: 22mm 고장력 방수 | F8: m | G8: 9 | H8: 1380 | I8: =TRUNC(G8*H8) -> 12420 | J8: 8 | K8: 0 | L8: =TRUNC(G8*K8) -> 0 | M8: 0 | N8: =TRUNC(G8*M8) -> 0 | O8: =IF((H8+K8+M8)=0, "", (H8+K8+M8)) -> 1380 | P8: =SUM(I8,L8,N8) -> 12420 | AC8: =G8*H8 -> 12420
A9: MM496797032 | B9: 0101 | C9: 3913170620174473 | D9: 가요전선관 | E9: 36mm 고장력 방수 | F9: m | G9: 13 | H9: 2710 | I9: =TRUNC(G9*H9) -> 35230 | J9: 11 | K9: 0 | L9: =TRUNC(G9*K9) -> 0 | M9: 0 | N9: =TRUNC(G9*M9) -> 0 | O9: =IF((H9+K9+M9)=0, "", (H9+K9+M9)) -> 2710 | P9: =SUM(I9,L9,N9) -> 35230 | AC9: =G9*H9 -> 35230
A10: 59753017043 | B10: 010104 | C10: 3913170620174434 | D10: 가요콘넥터 | E10: 16mm 비방수 | F10: EA | G10: 32 | H10: 346 | I10: =TRUNC(G10*H10) -> 11072 | J10: 32 | K10: 0 | L10: =TRUNC(G10*K10) -> 0 | M10: 0 | N10: =TRUNC(G10*M10) -> 0 | O10: =IF((H10+K10+M10)=0, "", (H10+K10+M10)) -> 346 | P10: =SUM(I10,L10,N10) -> 11072
A11: MM618792343 | B11: 0101 | C11: 3912120220176447 | D11: 가요콘넥터 | E11: 22mm 고장력 방수 | F11: EA | G11: 8 | H11: 1000 | I11: =TRUNC(G11*H11) -> 8000 | J11: 8 | K11: 0 | L11: =TRUNC(G11*K11) -> 0 | M11: 0 | N11: =TRUNC(G11*M11) -> 0 | O11: =IF((H11+K11+M11)=0, "", (H11+K11+M11)) -> 1000 | P11: =SUM(I11,L11,N11) -> 8000
A12: MM618792345 | B12: 0101 | C12: 3912120220176449 | D12: 가요콘넥터 | E12: 36mm 고장력 방수 | F12: EA | G12: 6 | H12: 1980 | I12: =TRUNC(G12*H12) -> 11880 | J12: 6 | K12: 0 | L12: =TRUNC(G12*K12) -> 0 | M12: 0 | N12: =TRUNC(G12*M12) -> 0 | O12: =IF((H12+K12+M12)=0, "", (H12+K12+M12)) -> 1980 | P12: =SUM(I12,L12,N12) -> 11880
A13: 59753767041 | B13: 0101 | C13: 3912130810035753 | D13: Outlet Box | E13: 4각 54㎜ | F13: EA | G13: 17 | H13: 973 | I13: =TRUNC(G13*H13) -> 16541 | J13: 17 | K13: 0 | L13: =TRUNC(G13*K13) -> 0 | M13: 0 | N13: =TRUNC(G13*M13) -> 0 | O13: =IF((H13+K13+M13)=0, "", (H13+K13+M13)) -> 973 | P13: =SUM(I13,L13,N13) -> 16541
A14: 59753767251 | B14: 0101 | C14: 3912130820174715 | D14: Box Cover | E14: 4각 | F14: EA | G14: 17 | H14: 343 | I14: =TRUNC(G14*H14) -> 5831 | J14: 17 | K14: 0 | L14: =TRUNC(G14*K14) -> 0 | M14: 0 | N14: =TRUNC(G14*M14) -> 0 | O14: =IF((H14+K14+M14)=0, "", (H14+K14+M14)) -> 343 | P14: =SUM(I14,L14,N14) -> 5831
A15: 59753857021 | B15: 0101 | C15: 3912130310035796 | D15: PULL BOX | E15: 100×100×100 | F15: EA | G15: 4 | H15: 2864 | I15: =TRUNC(G15*H15) -> 11456 | J15: 4 | K15: 0 | L15: =TRUNC(G15*K15) -> 0 | M15: 0 | N15: =TRUNC(G15*M15) -> 0 | O15: =IF((H15+K15+M15)=0, "", (H15+K15+M15)) -> 2864 | P15: =SUM(I15,L15,N15) -> 11456
A16: MM481669624 | B16: 010104 | C16: 2612162922076727 | D16: HFIX WIRE(단선) | E16: 2.5㎟ | F16: m | G16: 80 | H16: 544 | I16: =TRUNC(G16*H16) -> 43520 | J16: 72 | K16: 0 | L16: =TRUNC(G16*K16) -> 0 | M16: 0 | N16: =TRUNC(G16*M16) -> 0 | O16: =IF((H16+K16+M16)=0, "", (H16+K16+M16)) -> 544 | P16: =SUM(I16,L16,N16) -> 43520 | AC16: =G16*H16 -> 43520
A17: E1450927204 | B17: 0101 | C17: 2612152420683698 | D17: F-GV WIRE | E17: 10㎟ | F17: m | G17: 21 | H17: 2090 | I17: =TRUNC(G17*H17) -> 43890 | J17: 19 | K17: 0 | L17: =TRUNC(G17*K17) -> 0 | M17: 0 | N17: =TRUNC(G17*M17) -> 0 | O17: =IF((H17+K17+M17)=0, "", (H17+K17+M17)) -> 2090 | P17: =SUM(I17,L17,N17) -> 43890 | AC17: =G17*H17 -> 43890
A18: E1450287524 | B18: 0101 | C18: 2612162920683905 | D18: F-CV CABLE(0.6/1kv) | E18: 2C×10㎟ | F18: m | G18: 20 | H18: 5105 | I18: =TRUNC(G18*H18) -> 102100 | J18: 19 | K18: 0 | L18: =TRUNC(G18*K18) -> 0 | M18: 0 | N18: =TRUNC(G18*M18) -> 0 | O18: =IF((H18+K18+M18)=0, "", (H18+K18+M18)) -> 5105 | P18: =SUM(I18,L18,N18) -> 102100 | AC18: =G18*H18 -> 102100
A19: E1450287538 | B19: 0101 | C19: 2612162920683921 | D19: F-CV CABLE(0.6/1kv) | E19: 3C×2.5㎟ | F19: m | G19: 11 | H19: 2388 | I19: =TRUNC(G19*H19) -> 26268 | J19: 10 | K19: 0 | L19: =TRUNC(G19*K19) -> 0 | M19: 0 | N19: =TRUNC(G19*M19) -> 0 | O19: =IF((H19+K19+M19)=0, "", (H19+K19+M19)) -> 2388 | P19: =SUM(I19,L19,N19) -> 26268 | AC19: =G19*H19 -> 26268
A20: MM996337455 | B20: 0101 | C20: InMastDBNonCode | D20: 방화폼 | F20: 리터 | G20: 1 | H20: 16800 | I20: =TRUNC(G20*H20) -> 16800 | J20: 1 | K20: 0 | L20: =TRUNC(G20*K20) -> 0 | M20: 0 | N20: =TRUNC(G20*M20) -> 0 | O20: =IF((H20+K20+M20)=0, "", (H20+K20+M20)) -> 16800 | P20: =SUM(I20,L20,N20) -> 16800
A21: MM996337457 | B21: 0101 | C21: InMastDBNonCode | D21: 방화폼용 폼건 | F21: EA | G21: 1 | H21: 10000 | I21: =TRUNC(G21*H21) -> 10000 | J21: 1 | K21: 0 | L21: =TRUNC(G21*K21) -> 0 | M21: 0 | N21: =TRUNC(G21*M21) -> 0 | O21: =IF((H21+K21+M21)=0, "", (H21+K21+M21)) -> 10000 | P21: =SUM(I21,L21,N21) -> 10000
A22: MM934332953 | B22: 0101 | C22: InMastDBNonCode | D22: 벽관통 | E22: 150mm 이하 | F22: 개소 | G22: 2 | H22: 0 | I22: =TRUNC(G22*H22) -> 0 | J22: 2 | K22: 0 | L22: =TRUNC(G22*K22) -> 0 | M22: 0 | N22: =TRUNC(G22*M22) -> 0 | O22: =IF((H22+K22+M22)=0, "", (H22+K22+M22)) | P22: =SUM(I22,L22,N22) -> 0 | Q22: 인건비계상
A23: MM060264559 | B23: 0101 | C23: InMastDBNonCode | D23: 가요전선관(재사용철거) | E23: 고장력 방수42 mm | F23: Μ | G23: 2 | H23: 0 | I23: =TRUNC(G23*H23) -> 0 | J23: 2 | K23: 0 | L23: =TRUNC(G23*K23) -> 0 | M23: 0 | N23: =TRUNC(G23*M23) -> 0 | O23: =IF((H23+K23+M23)=0, "", (H23+K23+M23)) | P23: =SUM(I23,L23,N23) -> 0 | Q23: 인건비계상
A24: MM060264558 | B24: 0101 | C24: InMastDBNonCode | D24: 가요전선관(재설치) | E24: 고장력 방수42 mm | F24: Μ | G24: 2 | H24: 0 | I24: =TRUNC(G24*H24) -> 0 | J24: 2 | K24: 0 | L24: =TRUNC(G24*K24) -> 0 | M24: 0 | N24: =TRUNC(G24*M24) -> 0 | O24: =IF((H24+K24+M24)=0, "", (H24+K24+M24)) | P24: =SUM(I24,L24,N24) -> 0 | Q24: 인건비계상
A25: MM937497202 | B25: 0101 | C25: InMastDBNonCode | D25: F-GV WIRE(재사용철거) | E25: 16㎟ | F25: Μ | G25: 2 | H25: 0 | I25: =TRUNC(G25*H25) -> 0 | J25: 2 | K25: 0 | L25: =TRUNC(G25*K25) -> 0 | M25: 0 | N25: =TRUNC(G25*M25) -> 0 | O25: =IF((H25+K25+M25)=0, "", (H25+K25+M25)) | P25: =SUM(I25,L25,N25) -> 0 | Q25: 인건비계상
A26: MM937497243 | B26: 0101 | C26: InMastDBNonCode | D26: F-GV WIRE(재설치) | E26: 16㎟ | F26: Μ | G26: 2 | H26: 0 | I26: =TRUNC(G26*H26) -> 0 | J26: 2 | K26: 0 | L26: =TRUNC(G26*K26) -> 0 | M26: 0 | N26: =TRUNC(G26*M26) -> 0 | O26: =IF((H26+K26+M26)=0, "", (H26+K26+M26)) | P26: =SUM(I26,L26,N26) -> 0 | Q26: 인건비계상
A27: MM946568502 | B27: 0101 | C27: InMastDBNonCode | D27: F-CV CABLE(재사용철거) | E27: 4C×16㎟ | F27: Μ | G27: 2 | H27: 0 | I27: =TRUNC(G27*H27) -> 0 | J27: 2 | K27: 0 | L27: =TRUNC(G27*K27) -> 0 | M27: 0 | N27: =TRUNC(G27*M27) -> 0 | O27: =IF((H27+K27+M27)=0, "", (H27+K27+M27)) | P27: =SUM(I27,L27,N27) -> 0 | Q27: 인건비계상
A28: MM946568503 | B28: 0101 | C28: InMastDBNonCode | D28: F-CV CABLE(재설치) | E28: 4C×16㎟ | F28: Μ | G28: 2 | H28: 0 | I28: =TRUNC(G28*H28) -> 0 | J28: 2 | K28: 0 | L28: =TRUNC(G28*K28) -> 0 | M28: 0 | N28: =TRUNC(G28*M28) -> 0 | O28: =IF((H28+K28+M28)=0, "", (H28+K28+M28)) | P28: =SUM(I28,L28,N28) -> 0 | Q28: 인건비계상
A29: MM059756953 | B29: 0101 | C29: InMastDBNonCode | D29: 기존 실내기 전원선 재결선 | F29: 개소 | G29: 16 | H29: 0 | I29: =TRUNC(G29*H29) -> 0 | J29: 16 | K29: 0 | L29: =TRUNC(G29*K29) -> 0 | M29: 0 | N29: =TRUNC(G29*M29) -> 0 | O29: =IF((H29+K29+M29)=0, "", (H29+K29+M29)) | P29: =SUM(I29,L29,N29) -> 0 | Q29: 인건비계상
A30: MM059756952 | B30: 0101 | C30: InMastDBNonCode | D30: 기존 실내기 전원선 결선해체 | F30: 개소 | G30: 16 | H30: 0 | I30: =TRUNC(G30*H30) -> 0 | J30: 16 | K30: 0 | L30: =TRUNC(G30*K30) -> 0 | M30: 0 | N30: =TRUNC(G30*M30) -> 0 | O30: =IF((H30+K30+M30)=0, "", (H30+K30+M30)) | P30: =SUM(I30,L30,N30) -> 0 | Q30: 인건비계상
A31: MM059756955 | B31: 0101 | C31: InMastDBNonCode | D31: 분전반(철거) | E31: PN-PH | F31: 면 | G31: 1 | H31: 0 | I31: =TRUNC(G31*H31) -> 0 | J31: 1 | K31: 0 | L31: =TRUNC(G31*K31) -> 0 | M31: 0 | N31: =TRUNC(G31*M31) -> 0 | O31: =IF((H31+K31+M31)=0, "", (H31+K31+M31)) | P31: =SUM(I31,L31,N31) -> 0 | Q31: 인건비계상
A32: MM060264551 | B32: 0101 | C32: InMastDBNonCode | D32: 분전반 | E32: PN-PH | F32: 면 | G32: 1 | H32: 828000 | I32: =TRUNC(G32*H32) -> 828000 | J32: 1 | K32: 0 | L32: =TRUNC(G32*K32) -> 0 | M32: 0 | N32: =TRUNC(G32*M32) -> 0 | O32: =IF((H32+K32+M32)=0, "", (H32+K32+M32)) -> 828000 | P32: =SUM(I32,L32,N32) -> 828000
A33: 56800017200 | B33: 0101 | C33: S56800017200 | D33: PIPE SUPPORT(벽체) | E33: 36 C | F33: 개소 | G33: 2 | H33: 2584 | I33: =TRUNC(G33*H33) -> 5168 | J33: 2 | K33: 19704 | L33: =TRUNC(G33*K33) -> 39408 | M33: 0 | N33: =TRUNC(G33*M33) -> 0 | O33: =IF((H33+K33+M33)=0, "", (H33+K33+M33)) -> 22288 | P33: =SUM(I33,L33,N33) -> 44576 | Q33: 36호
A34: A0100000000 | B34: 0101 | C34: RENT000000000003 | D34: [ 소모 잡자재 ] | E34: 전선, 전선관의 2 % | F34: 식 | G34: 1 | H34: 5977 | I34: =H34 -> 5977 | J34: 1 | L34: =TRUNC(G34*K34) -> 0 | N34: =TRUNC(G34*M34) -> 0 | O34: =IF((H34+K34+M34)=0, "", (H34+K34+M34)) -> 5977 | P34: =SUM(I34,L34,N34) -> 5977 | AC34: 5977 | AD34: =TRUNC(SUM(I4:I33))+TRUNC(SUM(N4:N33)) -> 1227488
A35: 56900017016 | B35: 0101 | C35: L001010101000075 | D35: 노 무 비 | E35: 내선전공 | F35: 인 | G35: 10 | H35: 0 | I35: =TRUNC(G35*H35) -> 0 | J35: 10 | K35: 273676 | L35: =TRUNC(G35*K35) -> 2736760 | M35: 0 | N35: =TRUNC(G35*M35) -> 0 | O35: =IF((H35+K35+M35)=0, "", (H35+K35+M35)) -> 273676 | P35: =SUM(I35,L35,N35) -> 2736760 | AE35: =L35 -> 2736760
A36: 56900017076 | B36: 0101 | C36: L001010101000078 | D36: 노 무 비 | E36: 저압케이블전공 | F36: 인 | G36: 1 | H36: 0 | I36: =TRUNC(G36*H36) -> 0 | J36: 1 | K36: 304156 | L36: =TRUNC(G36*K36) -> 304156 | M36: 0 | N36: =TRUNC(G36*M36) -> 0 | O36: =IF((H36+K36+M36)=0, "", (H36+K36+M36)) -> 304156 | P36: =SUM(I36,L36,N36) -> 304156 | AE36: =L36 -> 304156
A37: A0300000000 | B37: 0101 | C37: RENT000000000006 | D37: [ 공 구 손 료 ] | E37: 노무비의 3 % | F37: 식 | G37: 1 | H37: 91227 | I37: =H37 -> 91227 | J37: 1 | L37: =TRUNC(G37*K37) -> 0 | N37: =TRUNC(G37*M37) -> 0 | O37: =IF((H37+K37+M37)=0, "", (H37+K37+M37)) -> 91227 | P37: =SUM(I37,L37,N37) -> 91227
AC38: 91227 | AD38: =TRUNC(SUM(L4:L36)) -> 3080324 | AE38: =TRUNC(SUM(AE4:AE37)) -> 3040916
B55: 합계줄 | D55: ( 합 계 ) | I55: =TRUNC(SUM(I4:I54)) -> 1324692 | L55: =TRUNC(SUM(L4:L54)) -> 3080324 | N55: =TRUNC(SUM(N4:N54)) -> 0 | O55: =IF((H55+K55+M55)=0, "", (H55+K55+M55)) | P55: =TRUNC(SUM(P4:P54)) -> 4405016

Sheet 노임근거
B1: 29 | D1: [ 서울반도체고등학교 학생식당 냉난방개선 전기공사 ] - 노임 산출근거 | AA1: 내선전공 | AB1: 저압케이블전공 | AC1: 특별인부 | AD1: 방수공
A2: 번호 | B2: 공종코드 | C2: 코드 | D2: 명 칭 | E2: 규 격 | F2: 단위 | G2: 수량 | K2: 코드 | L2: 공량산출 | P2: 단 위 단 가 산 출 | S2: 품셈근거 | T2: 비고
G3: 결정수량 | H3: 할증 | I3: 산출수량 | J3: 재할% | L3: 명칭 | M3: 품셈 | N3: 노할% | O3: 공량 | P3: 단가 | Q3: 단위단가 | R3: 단위계
B4: 공종줄 | D4: 1.서울반도체고등학교 학생식당 냉난방개선 전기공사::1-1.냉난방공사
B5: 0101 | C5: 3913170610034835 | D5: 강제전선관 | E5: 아연도 36 mm | F5: m | G5: 5 | H5: 1 | I5: 4 | J5: 10 | K5: 56900017016 | L5: 내선전공 | M5: 0.2 | N5: 90 | O5: 0.72 | Q5: 0 | S5: 전기5-1 | AA5: 0.72
B6: 010102 | C6: 3913170620174410 | D6: 가요전선관 | E6: 16mm 비방수 | F6: m | G6: 18 | H6: 2 | I6: 16 | J6: 10 | K6: 56900017016 | L6: 내선전공 | M6: 0.044 | N6: 100 | O6: 0.704 | Q6: 0 | S6: 전기5-1 | AA6: 0.704
B7: 0101 | C7: 3913170620174471 | D7: 가요전선관 | E7: 22mm 고장력 방수 | F7: m | G7: 9 | H7: 1 | I7: 8 | J7: 10 | K7: 56900017016 | L7: 내선전공 | M7: 0.059 | N7: 90 | O7: 0.4248 | Q7: 0 | S7: 전기5-1 | AA7: 0.4248
B8: 0101 | C8: 3913170620174473 | D8: 가요전선관 | E8: 36mm 고장력 방수 | F8: m | G8: 13 | H8: 2 | I8: 11 | J8: 10 | K8: 56900017016 | L8: 내선전공 | M8: 0.087 | N8: 90 | O8: 0.8613 | Q8: 0 | S8: 전기5-1 | AA8: 0.8613
B9: 0101 | C9: 3912130810035753 | D9: Outlet Box | E9: 4각 54㎜ | F9: EA | G9: 17 | H9: 0 | I9: 17 | K9: 56900017016 | L9: 내선전공 | M9: 0.2 | N9: 90 | O9: 3.06 | Q9: 0 | S9: 전기5-4 | AA9: 3.06
B10: 0101 | C10: 3912130820174715 | D10: Box Cover | E10: 4각 | F10: EA | G10: 17 | H10: 0 | I10: 17 | K10: 56900017016 | L10: 내선전공 | M10: 0.03 | N10: 90 | O10: 0.459 | Q10: 0 | S10: 전기5-29 | AA10: 0.459
B11: 0101 | C11: 3912130310035796 | D11: PULL BOX | E11: 100×100×100 | F11: EA | G11: 4 | H11: 0 | I11: 4 | K11: 56900017016 | L11: 내선전공 | M11: 0.04 | N11: 90 | O11: 0.144 | Q11: 0 | S11: 전기5-4 | AA11: 0.144
B12: 010102 | C12: 2612162922076727 | D12: HFIX WIRE(단선) | E12: 2.5㎟ | F12: m | G12: 80 | H12: 8 | I12: 72 | J12: 10 | K12: 56900017016 | L12: 내선전공 | M12: 0.01 | N12: 100 | O12: 0.72 | Q12: 0 | S12: 전기5-10 | AA12: 0.72
B13: 0101 | C13: 2612152420683698 | D13: F-GV WIRE | E13: 10㎟ | F13: m | G13: 21 | H13: 2 | I13: 19 | J13: 10 | K13: 56900017016 | L13: 내선전공 | M13: 0.006 | N13: 150 | O13: 0.171 | Q13: 0 | S13: 전기3-38 | AA13: 0.171
B14: 0101 | C14: 2612162920683905 | D14: F-CV CABLE(0.6/1kv) | E14: 2C×10㎟ | F14: m | G14: 20 | H14: 1 | I14: 19 | J14: 5 | K14: 56900017076 | L14: 저압케이블전공 | M14: 0.025 | N14: 100 | O14: 0.475 | Q14: 0 | S14: 전기5-13 | AB14: 0.475
B15: 0101 | C15: 2612162920683921 | D15: F-CV CABLE(0.6/1kv) | E15: 3C×2.5㎟ | F15: m | G15: 11 | H15: 1 | I15: 10 | J15: 5 | K15: 56900017076 | L15: 저압케이블전공 | M15: 0.019 | N15: 100 | O15: 0.19 | Q15: 0 | S15: 전기5-13 | AB15: 0.19
B16: 0101 | C16: InMastDBNonCode | D16: 방화폼 | F16: 리터 | G16: 1 | H16: 0 | I16: 1 | K16: 56900017029 | L16: 내선전공 | M16: 0.3 | N16: 100 | O16: 0.3 | Q16: 0 | AA16: 0.3
B17: 0101 | C17: InMastDBNonCode | D17: 벽관통 | E17: 150mm 이하 | F17: 개소 | G17: 2 | H17: 0 | I17: 2 | K17: 56900017118 | L17: 내선전공 | M17: 0.13 | N17: 50 | O17: 0.13 | Q17: 0 | T17: 인건비계상 | AA17: 0.13
B18: 0101 | C18: InMastDBNonCode | D18: 가요전선관(재사용철거) | E18: 고장력 방수42 mm | F18: Μ | G18: 2 | H18: 0 | I18: 2 | K18: 56900017016 | L18: 내선전공 | M18: 0.104 | N18: 40 | O18: 0.0832 | Q18: 0 | S18: 전기5-1 | T18: 인건비계상 | AA18: 0.0832
B19: 0101 | C19: InMastDBNonCode | D19: 가요전선관(재설치) | E19: 고장력 방수42 mm | F19: Μ | G19: 2 | H19: 0 | I19: 2 | K19: 56900017016 | L19: 내선전공 | M19: 0.104 | N19: 100 | O19: 0.208 | Q19: 0 | S19: 전기5-1 | T19: 인건비계상 | AA19: 0.208
B20: 0101 | C20: InMastDBNonCode | D20: F-GV WIRE(재사용철거) | E20: 16㎟ | F20: Μ | G20: 2 | H20: 0 | I20: 2 | K20: 56900017016 | L20: 내선전공 | M20: 0.007 | N20: 50 | O20: 0.007 | Q20: 0 | S20: 전기3-38 | T20: 인건비계상 | AA20: 0.007
B21: 0101 | C21: InMastDBNonCode | D21: F-GV WIRE(재설치) | E21: 16㎟ | F21: Μ | G21: 2 | H21: 0 | I21: 2 | K21: 56900017016 | L21: 내선전공 | M21: 0.007 | N21: 100 | O21: 0.014 | Q21: 0 | S21: 전기3-38 | T21: 인건비계상 | AA21: 0.014
B22: 0101 | C22: InMastDBNonCode | D22: F-CV CABLE(재사용철거) | E22: 4C×16㎟ | F22: Μ | G22: 2 | H22: 0 | I22: 2 | K22: 56900017076 | L22: 저압케이블전공 | M22: 0.0598 | N22: 90 | O22: 0.10764 | Q22: 0 | S22: 전기5-11 | T22: 인건비계상 | AB22: 0.10764
B23: 0101 | C23: InMastDBNonCode | D23: F-CV CABLE(재설치) | E23: 4C×16㎟ | F23: Μ | G23: 2 | H23: 0 | I23: 2 | K23: 56900017076 | L23: 저압케이블전공 | M23: 0.0598 | N23: 100 | O23: 0.1196 | Q23: 0 | S23: 전기5-11 | T23: 인건비계상 | AB23: 0.1196
B24: 0101 | C24: InMastDBNonCode | D24: 기존 실내기 전원선 재결선 | F24: 개소 | G24: 16 | H24: 0 | I24: 16 | K24: 56900017016 | L24: 내선전공 | M24: 0.03 | N24: 100 | O24: 0.48 | Q24: 0 | T24: 인건비계상 | AA24: 0.48
B25: 0101 | C25: InMastDBNonCode | D25: 기존 실내기 전원선 결선해체 | F25: 개소 | G25: 16 | H25: 0 | I25: 16 | K25: 56900017016 | L25: 내선전공 | M25: 0.03 | N25: 50 | O25: 0.24 | Q25: 0 | T25: 인건비계상 | AA25: 0.24
B26: 0101 | C26: InMastDBNonCode | D26: 분전반(철거) | E26: PN-PH | F26: 면 | G26: 1 | H26: 0 | I26: 1 | K26: 56900017016 | L26: 내선전공 | M26: 1.23 | N26: 30 | O26: 0.369 | Q26: 0 | S26: 전기5-4 | T26: 인건비계상 | AA26: 0.369
B27: 0101 | C27: InMastDBNonCode | D27: 분전반 | E27: PN-PH | F27: 면 | G27: 1 | H27: 0 | I27: 1 | K27: 56900017016 | L27: 내선전공 | M27: 1.23 | N27: 100 | O27: 1.23 | Q27: 0 | S27: 전기5-4 | AA27: 1.23
B28: 0101 | C28: L001010101000075 | D28: 노 무 비 | E28: 내선전공 | F28: 인 | G28: 10 | H28: 100 | I28: 10.3253 | J28: 0 | Q28: 0 | Z28: 노임계 | AA28: 10.3253 | AB28: 0.89224 | AC28: 0 | AD28: 0
B29: 0101 | C29: L001010101000078 | D29: 노 무 비 | E29: 저압케이블전공 | F29: 인 | G29: 1 | H29: 100 | I29: 0.89224 | J29: 0 | Q29: 0

Sheet 일대목차
A1: 총줄수-> | B1: 55 | C1: [ 전곡초 외 1교(반도체고) 화장실 및 냉난방개선 전기공사 ] - 일위대가목차
A2: 번호 | B2: … | C2: 코드 | D2: 명 칭 | E2: 규 격 | F2: 단위 | G2: 수량 | H2: 재료비 | J2: 노무비 | M2: 경비 | O2: 계 | P2: 계 | Q2: 비고
H3: 단가 | I3: 금액 | J3: 수량 | K3: 단가 | L3: 금액 | M3: 단가 | N3: 금액 | O3: 단가
A4: 56950170114 | B4: EAA110640000 | C4: 제 1호 | D4: TRAY SUPPORT | E4: W300-1단 | F4: 식 | H4: =일위대가!I13 -> 5439 | I4: =H4 -> 5439 | K4: =일위대가!L13 -> 19704 | L4: =K4 -> 19704 | M4: =일위대가!N13 -> 0 | N4: =M4 -> 0 | P4: =I4+L4+N4 -> 25143
A5: 56953100908 | B5: EAB110220000 | C5: 제 2호 | D5: 벽관통 구멍(방화실링) | E5: Φ50-벽두께 25cm | F5: 개소 | H5: =일위대가!I21 -> 4407 | I5: =H5 -> 4407 | K5: =일위대가!L21 -> 104903 | L5: =K5 -> 104903 | M5: =일위대가!N21 -> 519 | N5: =M5 -> 519 | P5: =I5+L5+N5 -> 109829
A6: 56959100801 | B6: EAB110211000 | C6: 제 3호 | D6: 배관용 홈파기 | E6: Φ22이하 | F6: m | H6: =일위대가!I26 -> 412 | I6: =H6 -> 412 | K6: =일위대가!L26 -> 13765 | L6: =K6 -> 13765 | M6: =일위대가!N26 -> 0 | N6: =M6 -> 0 | P6: =I6+L6+N6 -> 14177
A7: 56959100802 | B7: EAB110212000 | C7: 제 4호 | D7: 파이프지지대 벽체 | E7: 42C | F7: 개 | H7: =일위대가!I37 -> 2290 | I7: =H7 -> 2290 | K7: =일위대가!L37 -> 9852 | L7: =K7 -> 9852 | M7: =일위대가!N37 -> 0 | N7: =M7 -> 0 | P7: =I7+L7+N7 -> 12142
A8: 5975A337015 | B8: E59750337015 | C8: 제 5호 | D8: 강제전선관(노출) | E8: 아연도 42 mm | F8: M | H8: =일위대가!I46 -> 9544 | I8: =H8 -> 9544 | K8: =일위대가!L46 -> 68419 | L8: =K8 -> 68419 | M8: =일위대가!N46 -> 0 | N8: =M8 -> 0 | P8: =I8+L8+N8 -> 77963
A9: 56959100803 | B9: EAB110213000 | C9: 제 6호 | D9: 1종금속제가요전선관 | E9: 16 mm 고장력-비방수 | F9: M | H9: =일위대가!I54 -> 970 | I9: =H9 -> 970 | K9: =일위대가!L54 -> 12041 | L9: =K9 -> 12041 | M9: =일위대가!N54 -> 0 | N9: =M9 -> 0 | P9: =I9+L9+N9 -> 13011
A10: 56959100804 | B10: EAB110214000 | C10: 제 7호 | D10: 1종금속제가요전선관 | E10: 22 mm 고장력-비방수 | F10: M | H10: =일위대가!I62 -> 1597 | I10: =H10 -> 1597 | K10: =일위대가!L62 -> 16146 | L10: =K10 -> 16146 | M10: =일위대가!N62 -> 0 | N10: =M10 -> 0 | P10: =I10+L10+N10 -> 17743
A11: 5975D767011 | B11: E59753767011 | C11: 제 8호 | D11: 아우트렛박스 | E11: 8각 54㎜ | F11: 개 | H11: =일위대가!I68 -> 1623 | I11: =H11 -> 1623 | K11: =일위대가!L68 -> 32841 | L11: =K11 -> 32841 | M11: =일위대가!N68 -> 0 | N11: =M11 -> 0 | P11: =I11+L11+N11 -> 34464
A12: 5975D767041 | B12: E59753767041 | C12: 제 9호 | D12: 아우트렛박스 | E12: 중형4각 54㎜ | F12: 개 | H12: =일위대가!I74 -> 1958 | I12: =H12 -> 1958 | K12: =일위대가!L74 -> 32841 | L12: =K12 -> 32841 | M12: =일위대가!N74 -> 0 | N12: =M12 -> 0 | P12: =I12+L12+N12 -> 34799
A13: 5975D777102 | B13: E59753777102 | C13: 제 10호 | D13: 스위치박스 | E13: 1 개용 54 mm | F13: 개 | H13: =일위대가!I80 -> 2245 | I13: =H13 -> 2245 | K13: =일위대가!L80 -> 54735 | L13: =K13 -> 54735 | M13: =일위대가!N80 -> 0 | N13: =M13 -> 0 | P13: =I13+L13+N13 -> 56980
A14: 5975D777111 | B14: E59753777111 | C14: 제 11호 | D14: 스위치박스 | E14: 2 개용 54 mm | F14: 개 | H14: =일위대가!I86 -> 2368 | I14: =H14 -> 2368 | K14: =일위대가!L86 -> 54735 | L14: =K14 -> 54735 | M14: =일위대가!N86 -> 0 | N14: =M14 -> 0 | P14: =I14+L14+N14 -> 57103
A15: 6145F137894 | B15: E61455137894 | C15: 제 12호 | D15: 정션 박스 | E15: 100*100*50 | F15: EA | H15: =일위대가!I92 -> 3018 | I15: =H15 -> 3018 | K15: =일위대가!L92 -> 10947 | L15: =K15 -> 10947 | M15: =일위대가!N92 -> 0 | N15: =M15 -> 0 | P15: =I15+L15+N15 -> 13965
A16: 5975D857081 | B16: E59753857081 | C16: 제 13호 | D16: 풀박스 | E16: 200×200×200 | F16: 개 | H16: =일위대가!I98 -> 7841 | I16: =H16 -> 7841 | K16: =일위대가!L98 -> 60208 | L16: =K16 -> 60208 | M16: =일위대가!N98 -> 0 | N16: =M16 -> 0 | P16: =I16+L16+N16 -> 68049
A17: 5975B817222 | B17: E59751817222 | C17: 제 14호 | D17: 케이블트레이 | E17: STRAIGHT,St W300x100Hx2.3t | F17: m | H17: =일위대가!I104 -> 15170 | I17: =H17 -> 15170 | K17: =일위대가!L104 -> 62945 | L17: =K17 -> 62945 | M17: =일위대가!N104 -> 0 | N17: =M17 -> 0 | P17: =I17+L17+N17 -> 78115
A18: 5975B817334 | B18: E59751817334 | C18: 제 15호 | D18: 케이블트레이 | E18: COVER,St W300 | F18: m | H18: =일위대가!I110 -> 27614 | I18: =H18 -> 27614 | K18: =일위대가!L110 -> 12589 | L18: =K18 -> 12589 | M18: =일위대가!N110 -> 0 | N18: =M18 -> 0 | P18: =I18+L18+N18 -> 40203
A19: 56959100805 | B19: EAB110215000 | C19: 제 16호 | D19: 450/750V 내열비닐절연전선 | E19: HFIX 1.38mm(1.5㎟) | F19: M | H19: =일위대가!I118 -> 480 | I19: =H19 -> 480 | K19: =일위대가!L118 -> 2736 | L19: =K19 -> 2736 | M19: =일위대가!N118 -> 0 | N19: =M19 -> 0 | P19: =I19+L19+N19 -> 3216
A20: 56959100806 | B20: EAB110216000 | C20: 제 17호 | D20: 450/750V 내열비닐절연전선 | E20: HFIX 1.78mm(2.5㎟) | F20: M | H20: =일위대가!I126 -> 691 | I20: =H20 -> 691 | K20: =일위대가!L126 -> 2736 | L20: =K20 -> 2736 | M20: =일위대가!N126 -> 0 | N20: =M20 -> 0 | P20: =I20+L20+N20 -> 3427
A21: E145A667003 | B21: EE1450667003 | C21: 제 18호 | D21: 450/750V 내열비닐절연전선 | E21: HFIX 2.25mm(4㎟) | F21: M | H21: =일위대가!I134 -> 1007 | I21: =H21 -> 1007 | K21: =일위대가!L134 -> 2736 | L21: =K21 -> 2736 | M21: =일위대가!N134 -> 0 | N21: =M21 -> 0 | P21: =I21+L21+N21 -> 3743
A22: E145A927204 | B22: EE1450927204 | C22: 제 19호 | D22: 접지용비닐절연전선(F-GV) | E22: 10㎟ | F22: M | H22: =일위대가!I142 -> 2414 | I22: =H22 -> 2414 | K22: =일위대가!L142 -> 2463 | L22: =K22 -> 2463 | M22: =일위대가!N142 -> 0 | N22: =M22 -> 0 | P22: =I22+L22+N22 -> 4877
A23: E145A287564 | B23: EE1450287564 | C23: 제 20호 | D23: 폴리에틸렌 난연케이블 | E23: 0.6/1kv F-CV 4C×10㎟ | F23: M | H23: =일위대가!I150 -> 10682 | I23: =H23 -> 10682 | K23: =일위대가!L150 -> 14903 | L23: =K23 -> 14903 | M23: =일위대가!N150 -> 0 | N23: =M23 -> 0 | P23: =I23+L23+N23 -> 25585
A24: 5930B517003 | B24: E59301517003 | C24: 제 21호 | D24: 매입스위치 | E24: 250V 1로3구 | F24: 개 | H24: =일위대가!I156 -> 3137 | I24: =H24 -> 3137 | K24: =일위대가!L156 -> 23262 | L24: =K24 -> 23262 | M24: =일위대가!N156 -> 0 | N24: =M24 -> 0 | P24: =I24+L24+N24 -> 26399
A25: 5935A317206 | B25: E59350317206 | C25: 제 22호 | D25: 콘센트 | E25: 매입-접지형, 250V 2구 | F25: 개 | H25: =일위대가!I162 -> 2067 | I25: =H25 -> 2067 | K25: =일위대가!L162 -> 21894 | L25: =K25 -> 21894 | M25: =일위대가!N162 -> 0 | N25: =M25 -> 0 | P25: =I25+L25+N25 -> 23961
A26: 5935A317208 | B26: E59350317208 | C26: 제 23호 | D26: 방우콘센트 | E26: 매입-접지형, 250V 2구 | F26: 개 | H26: =일위대가!I168 -> 2819 | I26: =H26 -> 2819 | K26: =일위대가!L168 -> 21894 | L26: =K26 -> 21894 | M26: =일위대가!N168 -> 0 | N26: =M26 -> 0 | P26: =I26+L26+N26 -> 24713
A27: 6350A197001 | B27: E63500197001 | C27: 제 24호 | D27: 화재감지기 | E27: 열감지기,차동식스포트형 | F27: 개 | H27: =일위대가!I174 -> 5156 | I27: =H27 -> 5156 | K27: =일위대가!L174 -> 35577 | L27: =K27 -> 35577 | M27: =일위대가!N174 -> 0 | N27: =M27 -> 0 | P27: =I27+L27+N27 -> 40733
A28: 5925A327171 | B28: E59250327171 | C28: 제 25호 | D28: 배선용 차단기 | E28: 표준형, 4P 600V 50AF | F28: 대 | H28: =일위대가!I180 -> 75075 | I28: =H28 -> 75075 | K28: =일위대가!L180 -> 92502 | L28: =K28 -> 92502 | M28: =일위대가!N180 -> 0 | N28: =M28 -> 0 | P28: =I28+L28+N28 -> 167577
A29: 56959100807 | B29: EAB110217000 | C29: 제 26호 | D29: BGM 스피커 | E29: 천정매입형(3W) | F29: 개 | H29: =일위대가!I186 -> 351987 | I29: =H29 -> 351987 | K29: =일위대가!L186 -> 66260 | L29: =K29 -> 66260 | M29: =일위대가!N186 -> 0 | N29: =M29 -> 0 | P29: =I29+L29+N29 -> 418247
A30: 56959100808 | B30: E56959100808 | C30: 제 27호 | D30: 등기구타공 | E30: 다운라이트 | F30: 개소 | H30: =일위대가!I192 -> 164 | I30: =H30 -> 164 | K30: =일위대가!L192 -> 5473 | L30: =K30 -> 5473 | M30: =일위대가!N192 -> 0 | N30: =M30 -> 0 | P30: =I30+L30+N30 -> 5637
A31: 56959100809 | B31: E56959100809 | C31: 제 28호 | D31: 분전반 | E31: L-T(체육관동) PANEL | F31: 면 | H31: =일위대가!I198 -> 1175799 | I31: =H31 -> 1175799 | K31: =일위대가!L198 -> 259992 | L31: =K31 -> 259992 | M31: =일위대가!N198 -> 0 | N31: =M31 -> 0 | P31: =I31+L31+N31 -> 1435791
A32: 56959100810 | B32: E56959100810 | C32: 제 29호 | D32: 재실센서 | E32: 화장실용 | F32: EA | H32: =일위대가!I204 -> 78559 | I32: =H32 -> 78559 | K32: =일위대가!L204 -> 51998 | L32: =K32 -> 51998 | M32: =일위대가!N204 -> 0 | N32: =M32 -> 0 | P32: =I32+L32+N32 -> 130557
A33: 56959100811 | B33: E56959100811 | C33: 제 30호 | D33: 조명기구 TYPE A | E33: LED 20W 다운라이트(방습) | F33: 개 | H33: =일위대가!I210 -> 22494 | I33: =H33 -> 22494 | K33: =일위대가!L210 -> 49809 | L33: =K33 -> 49809 | M33: =일위대가!N210 -> 0 | N33: =M33 -> 0 | P33: =I33+L33+N33 -> 72303
A34: 56959100812 | B34: E56959100812 | C34: 제 31호 | D34: 철거 | E34: A TYPE LED 20W 다운라이트 | F34: 개 | H34: =일위대가!I216 -> 448 | I34: =H34 -> 448 | K34: =일위대가!L216 -> 14942 | L34: =K34 -> 14942 | M34: =일위대가!N216 -> 0 | N34: =M34 -> 0 | P34: =I34+L34+N34 -> 15390
A35: 56959100813 | B35: E56959100813 | C35: 제 32호 | D35: 철거 | E35: HFIX 1.78mm(2.5㎟) | F35: M | H35: =일위대가!I222 -> 24 | I35: =H35 -> 24 | K35: =일위대가!L222 -> 821 | L35: =K35 -> 821 | M35: =일위대가!N222 -> 0 | N35: =M35 -> 0 | P35: =I35+L35+N35 -> 845
A36: 56959100814 | B36: E56959100814 | C36: 제 33호 | D36: 철거 | E36: HFIX 2.25mm(4㎟) | F36: M | H36: =일위대가!I228 -> 24 | I36: =H36 -> 24 | K36: =일위대가!L228 -> 821 | L36: =K36 -> 821 | M36: =일위대가!N228 -> 0 | N36: =M36 -> 0 | P36: =I36+L36+N36 -> 845
A37: 56959100815 | B37: E56959100815 | C37: 제 34호 | D37: 철거 | E37: 배선기구 스위치 1,2,3,4구 | F37: 개 | H37: =일위대가!I234 -> 209 | I37: =H37 -> 209 | K37: =일위대가!L234 -> 6978 | L37: =K37 -> 6978 | M37: =일위대가!N234 -> 0 | N37: =M37 -> 0 | P37: =I37+L37+N37 -> 7187
A38: 56959100816 | B38: E56959100816 | C38: 제 35호 | D38: 철거 | E38: 연결용 박스 | F38: 개 | H38: =일위대가!I240 -> 98 | I38: =H38 -> 98 | K38: =일위대가!L240 -> 3284 | L38: =K38 -> 3284 | M38: =일위대가!N240 -> 0 | N38: =M38 -> 0 | P38: =I38+L38+N38 -> 3382
C39: 제 36호 | D39: PIPE SUPPORT(벽체) | E39: 36 C [개소] | F39: 개 | H39: =일위대가!I250 -> 2584 | I39: =H39 -> 2584 | K39: =일위대가!L250 -> 19704 | L39: =K39 -> 19704 | N39: =M39 -> 0 | P39: =I39+L39+N39 -> 22288
I40: =H40 -> 0 | L40: =K40 -> 0 | N40: =M40 -> 0 | P40: =I40+L40+N40 -> 0
...

Sheet 일위대가
A1: 총줄수-> | B1: 263 | D1: [ 전곡초 외 1교(반도체고) 화장실 및 냉난방개선 전기공사] - 일위대가표 | W1: 노임 계산 정보 | AA1: 부속재 및 손료
A2: 번호 | B2: 목차코드 | C2: 코드 | D2: 명 칭 | E2: 규 격 | F2: 단위 | G2: 수량 | H2: 재료비 | J2: 노무비 | M2: 경비 | P2: 계 | Q2: 비고 | W2: 노임계 | X2: 전체(%) | Y2: 공종별(%) | Z2: 노임 소수 | AA2: CD배관재 | AB2: 일반배관재 | AC2: 소모재 | AD2: 자재계 | AE2: 노임계
H3: 단가 | I3: 금액 | J3: 수량 | K3: 단가 | L3: 금액 | M3: 단가 | N3: 금액 | O3: 단가 | AD3: 1 | AE3: 1
A4: 56950170114 | B4: 일목줄 | C4: EAA110640000 | D4: [제 1호] TRAY SUPPORT W300-1단 [식]
A5: 59754967601 | B5: 제 1호 | C5: 3913170520175128 | D5: 케이블트레이부속품 | E5: U CHANNEL, 41x41x2.6t | F5: m | G5: 0.4 | H5: =합산자재!H24 -> 6176 | I5: =IF(G5*H5<>0, TRUNC(G5*H5,1),"") -> 2470.4 | J5: 0.4 | K5: =합산자재!I24 -> 0 | L5: =IF(G5*K5<>0, TRUNC(G5*K5,1),"") | M5: =합산자재!J24 -> 0 | N5: =IF(G5*M5<>0, TRUNC(G5*M5,1),"") | P5: =IF(SUM(I5,L5,N5)<>0,TRUNC(SUM(I5,L5,N5),1),"") -> 2470.4
A6: 53060807001 | B6: 제 1호 | C6: 3116210220135769 | D6: 스트롱앵커 | E6: 3/8 | F6: 개 | G6: 2 | H6: =합산자재!H26 -> 200 | I6: =IF(G6*H6<>0, TRUNC(G6*H6,1),"") -> 400 | J6: 2 | K6: =합산자재!I26 -> 0 | L6: =IF(G6*K6<>0, TRUNC(G6*K6,1),"") | M6: =합산자재!J26 -> 0 | N6: =IF(G6*M6<>0, TRUNC(G6*M6,1),"") | P6: =IF(SUM(I6,L6,N6)<>0,TRUNC(SUM(I6,L6,N6),1),"") -> 400 | Z6: 노임계
A7: 53100027003 | B7: 제 1호 | C7: 3116172710024976 | D7: 6각너트 | E7: M10 | F7: 개 | G7: 4 | H7: =합산자재!H42 -> 28 | I7: =IF(G7*H7<>0, TRUNC(G7*H7,1),"") -> 112 | J7: 4 | K7: =합산자재!I42 -> 0 | L7: =IF(G7*K7<>0, TRUNC(G7*K7,1),"") | M7: =합산자재!J42 -> 0 | N7: =IF(G7*M7<>0, TRUNC(G7*M7,1),"") | P7: =IF(SUM(I7,L7,N7)<>0,TRUNC(SUM(I7,L7,N7),1),"") -> 112
A8: 52100327001 | B8: 제 1호 | C8: 3116181120136195 | D8: 스프링와샤 | E8: D10 | F8: EA | G8: 4 | H8: =합산자재!H43 -> 10 | I8: =IF(G8*H8<>0, TRUNC(G8*H8,1),"") -> 40 | J8: 4 | K8: =합산자재!I43 -> 0 | L8: =IF(G8*K8<>0, TRUNC(G8*K8,1),"") | M8: =합산자재!J43 -> 0 | N8: =IF(G8*M8<>0, TRUNC(G8*M8,1),"") | P8: =IF(SUM(I8,L8,N8)<>0,TRUNC(SUM(I8,L8,N8),1),"") -> 40
A9: 59754967571 | B9: 제 1호 | C9: 3913170520175125 | D9: 케이블트레이부속품 | E9: HOLD DOWN CLAMP, 아연도 | F9: 개 | G9: 2 | H9: =합산자재!H22 -> 373 | I9: =IF(G9*H9<>0, TRUNC(G9*H9,1),"") -> 746 | J9: 2 | K9: =합산자재!I22 -> 0 | L9: =IF(G9*K9<>0, TRUNC(G9*K9,1),"") | M9: =합산자재!J22 -> 0 | N9: =IF(G9*M9<>0, TRUNC(G9*M9,1),"") | P9: =IF(SUM(I9,L9,N9)<>0,TRUNC(SUM(I9,L9,N9),1),"") -> 746
A10: 59754967581 | B10: 제 1호 | C10: 3913170520175126 | D10: 케이블트레이부속품 | E10: 찬넬스프링 너트, 아연도 | F10: 개 | G10: 2 | H10: =합산자재!H23 -> 540 | I10: =IF(G10*H10<>0, TRUNC(G10*H10,1),"") -> 1080 | J10: 2 | K10: =합산자재!I23 -> 0 | L10: =IF(G10*K10<>0, TRUNC(G10*K10,1),"") | M10: =합산자재!J23 -> 0 | N10: =IF(G10*M10<>0, TRUNC(G10*M10,1),"") | P10: =IF(SUM(I10,L10,N10)<>0,TRUNC(SUM(I10,L10,N10),1),"") -> 1080 | Z10: 노임계
A11: 56900017016 | B11: 제 1호 | C11: L001010101000075 | D11: 노 무 비 | E11: 내선전공 | F11: 인 | G11: =일위노임!G6 -> 0.072 | H11: =합산자재!H56 -> 0 | I11: =IF(G11*H11<>0, TRUNC(G11*H11,1),"") | J11: 0.072 | K11: =합산자재!I56 -> 273676 | L11: =IF(G11*K11<>0, TRUNC(G11*K11,1),"") -> 19704.6 | M11: =합산자재!J56 -> 0 | N11: =IF(G11*M11<>0, TRUNC(G11*M11,1),"") | P11: =IF(SUM(I11,L11,N11)<>0,TRUNC(SUM(I11,L11,N11),1),"") -> 19704.6 | AE11: =L11 -> 19704.6
A12: A0300000000 | B12: 제 1호 | C12: RENT000000000006 | D12: [ 공 구 손 료 ] | E12: 노무비의 3 % | F12: 식 | G12: 1 | H12: =IF(TRUNC((AD13+AC13)/$AE$3,1)*$AE$3-AD13 <0, AC13, TRUNC((AD13+AC13)/$AE$3,1)*$AE$3-AD13) -> 591.1 | I12: =H12 -> 591.1 | J12: 1 | L12: =IF(G12*K12<>0, TRUNC(G12*K12,1),"") | N12: =IF(G12*M12<>0, TRUNC(G12*M12,1),"") | P12: =IF(SUM(I12,L12,N12)<>0,TRUNC(SUM(I12,L12,N12),1),"") -> 591
B13: 합계줄 | D13: ( 합 계 ) | I13: =TRUNC(SUM(I4:I12)) -> 5439 | L13: =TRUNC(SUM(L4:L12)) -> 19704 | N13: =TRUNC(SUM(N4:N12)) -> 0 | P13: =IF(SUM(I13,L13,N13)<>0,TRUNC(SUM(I13,L13,N13),1),"") -> 25143 | AC13: =TRUNC(AE13*옵션!$B$36/100,1) -> 591.1 | AD13: =TRUNC(SUM(L4:L11)) -> 19704 | AE13: =TRUNC(SUM(AE4:AE12)) -> 19704
B14: 일목줄 | Z14: 노임계
A15: 56953100908 | B15: 일목줄 | C15: EAB110220000 | D15: [제 2호] 벽관통 구멍(방화실링) Φ50-벽두께 25cm [개소]
A16: CA565826062 | B16: 제 2호 | C16: ECA565826062 | D16: 코어드릴 | E16: 15.24cm | F16: 시간 | G16: 1.1 | H16: =합산자재!H55 -> 0 | I16: =IF(G16*H16<>0, TRUNC(G16*H16,1),"") | J16: 1.1 | K16: =합산자재!I55 -> 0 | L16: =IF(G16*K16<>0, TRUNC(G16*K16,1),"") | M16: =합산자재!J55 -> 472 | N16: =IF(G16*M16<>0, TRUNC(G16*M16,1),"") -> 519.2 | P16: =IF(SUM(I16,L16,N16)<>0,TRUNC(SUM(I16,L16,N16),1),"") -> 519.2 | Q16: 종합적산713 | R16: ild
A17: MM955672241 | B17: 제 2호 | C17: 391115ZZ701Z0003 | D17: 방화실리콘실란트 | E17: 310 ㎖ | F17: ℓ | G17: 0.056 | H17: =합산자재!H46 -> 22500 | I17: =IF(G17*H17<>0, TRUNC(G17*H17,1),"") -> 1260 | J17: 0.056 | K17: =합산자재!I46 -> 0 | L17: =IF(G17*K17<>0, TRUNC(G17*K17,1),"") | M17: =합산자재!J46 -> 0 | N17: =IF(G17*M17<>0, TRUNC(G17*M17,1),"") | P17: =IF(SUM(I17,L17,N17)<>0,TRUNC(SUM(I17,L17,N17),1),"") -> 1260 | Z17: 노임계
A18: 56900017041 | B18: 제 2호 | C18: L001010101000002 | D18: 노 무 비 | E18: 보통인부 | F18: 인 | G18: =일위노임!G10 -> 0.266 | H18: =합산자재!H59 -> 0 | I18: =IF(G18*H18<>0, TRUNC(G18*H18,1),"") | J18: 0.266 | K18: =합산자재!I59 -> 172068 | L18: =IF(G18*K18<>0, TRUNC(G18*K18,1),"") -> 45770 | M18: =합산자재!J59 -> 0 | N18: =IF(G18*M18<>0, TRUNC(G18*M18,1),"") | P18: =IF(SUM(I18,L18,N18)<>0,TRUNC(SUM(I18,L18,N18),1),"") -> 45770 | AE18: =L18 -> 45770
A19: 56900017098 | B19: 제 2호 | C19: L001010101000015 | D19: 노 무 비 | E19: 착암공 | F19: 인 | G19: =일위노임!G11 -> 0.266 | H19: =합산자재!H60 -> 0 | I19: =IF(G19*H19<>0, TRUNC(G19*H19,1),"") | J19: 0.266 | K19: =합산자재!I60 -> 222306 | L19: =IF(G19*K19<>0, TRUNC(G19*K19,1),"") -> 59133.3 | M19: =합산자재!J60 -> 0 | N19: =IF(G19*M19<>0, TRUNC(G19*M19,1),"") | P19: =IF(SUM(I19,L19,N19)<>0,TRUNC(SUM(I19,L19,N19),1),"") -> 59133.3 | AE19: =L19 -> 59133.3
A20: A0300000000 | B20: 제 2호 | C20: RENT000000000006 | D20: [ 공 구 손 료 ] | E20: 노무비의 3 % | F20: 식 | G20: 1 | H20: =IF(TRUNC((AD21+AC21)/$AE$3,1)*$AE$3-AD21 <0, AC21, TRUNC((AD21+AC21)/$AE$3,1)*$AE$3-AD21) -> 3147 | I20: =H20 -> 3147 | J20: 1 | L20: =IF(G20*K20<>0, TRUNC(G20*K20,1),"") | N20: =IF(G20*M20<>0, TRUNC(G20*M20,1),"") | P20: =IF(SUM(I20,L20,N20)<>0,TRUNC(SUM(I20,L20,N20),1),"") -> 3147 | Z20: 노임계
B21: 합계줄 | D21: ( 합 계 ) | I21: =TRUNC(SUM(I15:I20)) -> 4407 | L21: =TRUNC(SUM(L15:L20)) -> 104903 | N21: =TRUNC(SUM(N15:N20)) -> 519 | P21: =IF(SUM(I21,L21,N21)<>0,TRUNC(SUM(I21,L21,N21),1),"") -> 109829 | AC21: =TRUNC(AE21*옵션!$B$36/100,1) -> 3147 | AD21: =TRUNC(SUM(L15:L19)) -> 104903 | AE21: =TRUNC(SUM(AE15:AE20)) -> 104903
I22: =IF(G22*H22<>0, TRUNC(G22*H22,1),"") | L22: =IF(G22*K22<>0, TRUNC(G22*K22,1),"") | N22: =IF(G22*M22<>0, TRUNC(G22*M22,1),"") | P22: =IF(SUM(I22,L22,N22)<>0,TRUNC(SUM(I22,L22,N22),1),"")
A23: 56959100801 | B23: 일목줄 | C23: EAB110211000 | D23: [제 3호] 배관용 홈파기 Φ22이하 [m] | Z23: 노임계
A24: 56900017041 | B24: 제 3호 | C24: L001010101000002 | D24: 노 무 비 | E24: 보통인부 | F24: 인 | G24: =일위노임!G14 -> 0.08 | H24: =합산자재!H59 -> 0 | I24: =IF(G24*H24<>0, TRUNC(G24*H24,1),"") | J24: 0.08 | K24: =합산자재!I59 -> 172068 | L24: =IF(G24*K24<>0, TRUNC(G24*K24,1),"") -> 13765.4 | M24: =합산자재!J59 -> 0 | N24: =IF(G24*M24<>0, TRUNC(G24*M24,1),"") | P24: =IF(SUM(I24,L24,N24)<>0,TRUNC(SUM(I24,L24,N24),1),"") -> 13765.4 | AE24: =L24 -> 13765.4
A25: A0300000000 | B25: 제 3호 | C25: RENT000000000006 | D25: [ 공 구 손 료 ] | E25: 노무비의 3 % | F25: 식 | G25: 1 | H25: =IF(TRUNC((AD26+AC26)/$AE$3,1)*$AE$3-AD26 <0, AC26, TRUNC((AD26+AC26)/$AE$3,1)*$AE$3-AD26) -> 412.9 | I25: =H25 -> 412.9 | J25: 1 | L25: =IF(G25*K25<>0, TRUNC(G25*K25,1),"") | N25: =IF(G25*M25<>0, TRUNC(G25*M25,1),"") | P25: =IF(SUM(I25,L25,N25)<>0,TRUNC(SUM(I25,L25,N25),1),"") -> 412.9
B26: 합계줄 | D26: ( 합 계 ) | I26: =TRUNC(SUM(I23:I25)) -> 412 | L26: =TRUNC(SUM(L23:L25)) -> 13765 | N26: =TRUNC(SUM(N23:N25)) -> 0 | P26: =IF(SUM(I26,L26,N26)<>0,TRUNC(SUM(I26,L26,N26),1),"") -> 14177 | Z26: 노임계 | AC26: =TRUNC(AE26*옵션!$B$36/100,1) -> 412.9 | AD26: =TRUNC(SUM(L23:L24)) -> 13765 | AE26: =TRUNC(SUM(AE23:AE25)) -> 13765
I27: =IF(G27*H27<>0, TRUNC(G27*H27,1),"") | L27: =IF(G27*K27<>0, TRUNC(G27*K27,1),"") | N27: =IF(G27*M27<>0, TRUNC(G27*M27,1),"") | P27: =IF(SUM(I27,L27,N27)<>0,TRUNC(SUM(I27,L27,N27),1),"")
A28: 56959100802 | B28: 일목줄 | C28: EAB110212000 | D28: [제 4호] 파이프지지대 벽체 42C [개]
A29: MM300001905 | B29: 제 4호 | C29: 3016160420165664 | D29: 찬넬 | E29: 3m (2.3t) 41 * 41 | F29: EA | G29: 0.05 | H29: =합산자재!H28 -> 22848 | I29: =IF(G29*H29<>0, TRUNC(G29*H29,1),"") -> 1142.4 | J29: 0.05 | K29: =합산자재!I28 -> 0 | L29: =IF(G29*K29<>0, TRUNC(G29*K29,1),"") | M29: =합산자재!J28 -> 0 | N29: =IF(G29*M29<>0, TRUNC(G29*M29,1),"") | P29: =IF(SUM(I29,L29,N29)<>0,TRUNC(SUM(I29,L29,N29),1),"") -> 1142.4 | Z29: 노임계
A30: 53060327011 | B30: 제 4호 | C30: 3116169820135160 | D30: 행거볼트 | E30: M10×1000㎜ | F30: 개 | G30: 0.1 | H30: =합산자재!H27 -> 1226 | I30: =IF(G30*H30<>0, TRUNC(G30*H30,1),"") -> 122.6 | J30: 0.1 | K30: =합산자재!I27 -> 0 | L30: =IF(G30*K30<>0, TRUNC(G30*K30,1),"") | M30: =합산자재!J27 -> 0 | N30: =IF(G30*M30<>0, TRUNC(G30*M30,1),"") | P30: =IF(SUM(I30,L30,N30)<>0,TRUNC(SUM(I30,L30,N30),1),"") -> 122.6
A31: 53060807001 | B31: 제 4호 | C31: 3116210220135769 | D31: 스트롱앵커 | E31: 3/8 | F31: 개 | G31: 1 | H31: =합산자재!H26 -> 200 | I31: =IF(G31*H31<>0, TRUNC(G31*H31,1),"") -> 200 | J31: 1 | K31: =합산자재!I26 -> 0 | L31: =IF(G31*K31<>0, TRUNC(G31*K31,1),"") | M31: =합산자재!J26 -> 0 | N31: =IF(G31*M31<>0, TRUNC(G31*M31,1),"") | P31: =IF(SUM(I31,L31,N31)<>0,TRUNC(SUM(I31,L31,N31),1),"") -> 200
A32: 52100327001 | B32: 제 4호 | C32: 3116181120136195 | D32: 스프링와샤 | E32: D10 | F32: EA | G32: 1 | H32: =합산자재!H43 -> 10 | I32: =IF(G32*H32<>0, TRUNC(G32*H32,1),"") -> 10 | J32: 1 | K32: =합산자재!I43 -> 0 | L32: =IF(G32*K32<>0, TRUNC(G32*K32,1),"") | M32: =합산자재!J43 -> 0 | N32: =IF(G32*M32<>0, TRUNC(G32*M32,1),"") | P32: =IF(SUM(I32,L32,N32)<>0,TRUNC(SUM(I32,L32,N32),1),"") -> 10 | Z32: 노임계
A33: 53060027000 | B33: 제 4호 | C33: 3116162010023390 | D33: 6각볼트 | E33: 3/8,M10 | F33: 개 | G33: 1 | H33: =합산자재!H41 -> 270 | I33: =IF(G33*H33<>0, TRUNC(G33*H33,1),"") -> 270 | J33: 1 | K33: =합산자재!I41 -> 0 | L33: =IF(G33*K33<>0, TRUNC(G33*K33,1),"") | M33: =합산자재!J41 -> 0 | N33: =IF(G33*M33<>0, TRUNC(G33*M33,1),"") | P33: =IF(SUM(I33,L33,N33)<>0,TRUNC(SUM(I33,L33,N33),1),"") -> 270
A34: 59759017055 | B34: 제 4호 | C34: 3913170810036338 | D34: 강제전선관용 부품 | E34: 파이프크램프, 42 C | F34: 개 | G34: 1 | H34: =합산자재!H25 -> 250 | I34: =IF(G34*H34<>0, TRUNC(G34*H34,1),"") -> 250 | J34: 1 | K34: =합산자재!I25 -> 0 | L34: =IF(G34*K34<>0, TRUNC(G34*K34,1),"") | M34: =합산자재!J25 -> 0 | N34: =IF(G34*M34<>0, TRUNC(G34*M34,1),"") | P34: =IF(SUM(I34,L34,N34)<>0,TRUNC(SUM(I34,L34,N34),1),"") -> 250
A35: 56900017016 | B35: 제 4호 | C35: L001010101000075 | D35: 노 무 비 | E35: 내선전공 | F35: 인 | G35: =일위노임!G17 -> 0.036 | H35: =합산자재!H56 -> 0 | I35: =IF(G35*H35<>0, TRUNC(G35*H35,1),"") | J35: 0.036 | K35: =합산자재!I56 -> 273676 | L35: =IF(G35*K35<>0, TRUNC(G35*K35,1),"") -> 9852.3 | M35: =합산자재!J56 -> 0 | N35: =IF(G35*M35<>0, TRUNC(G35*M35,1),"") | P35: =IF(SUM(I35,L35,N35)<>0,TRUNC(SUM(I35,L35,N35),1),"") -> 9852.3 | Z35: 노임계 | AE35: =L35 -> 9852.3
A36: A0300000000 | B36: 제 4호 | C36: RENT000000000006 | D36: [ 공 구 손 료 ] | E36: 노무비의 3 % | F36: 식 | G36: 1 | H36: =IF(TRUNC((AD37+AC37)/$AE$3,1)*$AE$3-AD37 <0, AC37, TRUNC((AD37+AC37)/$AE$3,1)*$AE$3-AD37) -> 295.5 | I36: =H36 -> 295.5 | J36: 1 | L36: =IF(G36*K36<>0, TRUNC(G36*K36,1),"") | N36: =IF(G36*M36<>0, TRUNC(G36*M36,1),"") | P36: =IF(SUM(I36,L36,N36)<>0,TRUNC(SUM(I36,L36,N36),1),"") -> 295.5
B37: 합계줄 | D37: ( 합 계 ) | I37: =TRUNC(SUM(I28:I36)) -> 2290 | L37: =TRUNC(SUM(L28:L36)) -> 9852 | N37: =TRUNC(SUM(N28:N36)) -> 0 | P37: =IF(SUM(I37,L37,N37)<>0,TRUNC(SUM(I37,L37,N37),1),"") -> 12142 | AC37: =TRUNC(AE37*옵션!$B$36/100,1) -> 295.5 | AD37: =TRUNC(SUM(L28:L35)) -> 9852 | AE37: =TRUNC(SUM(AE28:AE36)) -> 9852
I38: =IF(G38*H38<>0, TRUNC(G38*H38,1),"") | L38: =IF(G38*K38<>0, TRUNC(G38*K38,1),"") | N38: =IF(G38*M38<>0, TRUNC(G38*M38,1),"") | P38: =IF(SUM(I38,L38,N38)<>0,TRUNC(SUM(I38,L38,N38),1),"") | Z38: 노임계
