Workbook
Name _10G_0Extr: #REF!
Name _12G_0Extract: #REF!
Name _14G__Extr: #REF!
Name _16G__Extract: #REF!
Name _1R: #REF!
Name _1X: #REF!
Name _2_3_0Crite: #REF!
Name _3R: #REF!
Name _3X: #REF!
Name _4_3_0Criteria: #REF!
Name _6_3__Crite: #REF!
Name _8_3__Criteria: #REF!
Name _a100000: #REF!
Name _a80000: #REF!
Name _B22: [1]일위대가!$1400:$1413=[1]일위대가!$A$1400
Name _B22: [1]일위대가!$1400:$1413=[1]일위대가!$A$1400
Name _K02: [1]일위대가!$732:$745=[1]일위대가!$A$732
Name _K02: [1]일위대가!$732:$745=[1]일위대가!$A$732
Name _NMB96: #REF!
Name _O03: [1]일위대가!$1516:$1529=[1]일위대가!$A$1516
Name _O03: [1]일위대가!$1516:$1529=[1]일위대가!$A$1516
Name _zz1: #REF!
Name \a: #N/A
Name A: #REF!
Name AA: [2]노무비!$B$2
Name aer: #REF!,#REF!
Name AFC설비: #REF!
Name AT: [3]간선계산!#REF!
Name B: [4]!Macro5
Name CC: #REF!
Name CCTV설비: #REF!
Name CODE: #REF!
Name CON_1: #REF!
Name CON_3: #REF!
Name COND_1: #REF!
Name COND_3: #REF!
Name CURRENT_1: #REF!
Name CURRENT_2: #REF!
Name CURRENT_3: #REF!
Name CV: [5]DATA!$F$4:$J$14
Name CV14_2C: [6]단가!#REF!
Name CV14_4C: [6]단가!#REF!
Name CV5.5_2: [6]단가!#REF!
Name CV5.5_4C: [6]단가!#REF!
Name CV8_2C: [6]단가!#REF!
Name CV8_4C: [6]단가!#REF!
Name DANGA: #REF!,#REF!
Name database2: #REF!
Name DISTANCE: #REF!
Name E_IV: #REF!
Name E10M: #REF!
Name E10P: #REF!
Name E11M: #REF!
Name E11P: #REF!
Name E12M: #REF!
Name E12P: #REF!
Name E13M: #REF!
Name E13P: #REF!
Name E14M: #REF!
Name E14P: #REF!

Sheet 원가
A1: 원 가 계 산 서
A2: 공사명: | C2: 전곡초 외 1교(반도체고) 화장실 및 냉난방개선 전기공사 | G2: 공사기간: 2개월
A3: 비 목 | C3: 구 분 | D3: 금 액 | G3: 구 성 비 | K3: 요율 | L3: 수량 | M3: 금액 | N3: 이윤 | O3: 끝자리 맞추기
D4: 전곡초 | E4: 반도체고 | F4: 합계
B5: 재 료 비 | C5: 직 접 재 료 비 | D5: =총괄표!I5 -> 3193989 | E5: =총괄표!I8 -> 1324692 | F5: =D5+E5 -> 4518681 | L5: 1 | M5: =D5*L5 -> 3193989
C6: 간 접 재 료 비 | F6: =D6+E6 -> 0 | M6: =D6*L6 -> 0
C7: ( 소 계 ) | D7: =SUM(D5:D6) -> 3193989 | E7: =SUM(E5:E6) -> 1324692 | F7: =D7+E7 -> 4518681 | M7: =D7*L7 -> 0
A8: 순 | B8: 노 무 비 | C8: 직 접 노 무 비 | D8: =총괄표!L5 -> 6880301 | E8: =총괄표!L8 -> 3080324 | F8: =D8+E8 -> 9960625 | L8: 1 | M8: =D8*L8 -> 6880301
C9: 간 접 노 무 비 | D9: =TRUNC(D8*$K$9/100) -> 1204052 | E9: =TRUNC(E8*$K$9/100) -> 539056 | F9: =D9+E9 -> 1743108 | G9: (직접 노무비) * 17.5 % | K9: 17.5 | L9: 1 | M9: =D9*L9 -> 1204052
C10: ( 소 계 ) | D10: =SUM(D8:D9) -> 8084353 | E10: =SUM(E8:E9) -> 3619380 | F10: =D10+E10 -> 11703733 | M10: =D10*L10 -> 0
C11: 기 계 경 비 | D11: =총괄표!N5 -> 2595 | F11: =D11+E11 -> 2595 | L11: 1 | M11: =D11*L11 -> 2595
C12: 산 재 보 험 료 | D12: =TRUNC(D10*$K$12/100) -> 287802 | E12: =TRUNC(E10*$K$12/100) -> 128849 | F12: =D12+E12 -> 416651 | G12: (노무비) * 3.56 % | K12: 3.56 | L12: 1 | M12: =D12*L12 -> 287802
A13: 공 | C13: 고 용 보 험 료 | D13: =TRUNC(D10*$K$13/100) -> 81651 | E13: =TRUNC(E10*$K$13/100) -> 36555 | F13: =D13+E13 -> 118206 | G13: (노무비) * 1.01 % | K13: 1.01 | L13: 1 | M13: =D13*L13 -> 81651
B14: 경 | C14: 퇴 직 금 공 제 | F14: =D14+E14 -> 0 | G14: (직접 노무비) * 2.3 % | K14: 2.3 | L14: 1 | M14: =D14*L14 -> 0
C15: 건 강 보 험 료 | D15: =D8*3.595% -> 247346.82 | E15: =E8*3.595% -> 110737.65 | F15: =D15+E15 -> 358084.47 | G15: (직접 노무비) * 3.595% | M15: =D15*L15 -> 0
C16: 연 금 보 험 료 | D16: =D8*4.75% -> 326814.3 | E16: =E8*4.75% -> 146315.39 | F16: =D16+E16 -> 473129.69 | G16: (직접 노무비) * 4.75%
C17: 노인장기요양보험료 | D17: =D15*13.14% -> 32501.372 | E17: =E15*13.14% -> 14550.927 | F17: =D17+E17 -> 47052.299 | G17: (건강보험료) * 13.14%
A18: 사 | C18: 기 타 경 비 | D18: =TRUNC((D7+D10)*$K$18/100) -> 563917 | E18: =TRUNC((E7+E10)*$K$18/100) -> 247203 | F18: =D18+E18 -> 811120 | G18: (재료+노무) * 5 % | K18: 5 | L18: 1 | M18: =D18*L18 -> 563917
C19: 석 면 분 담 금 | D19: =TRUNC(D10*$K$19/100) -> 485 | E19: =TRUNC(E10*$K$19/100) -> 217 | F19: =D19+E19 -> 702 | G19: (노무비) * 0.006 % | K19: 0.006 | L19: 1 | M19: =D19*L19 -> 485
C20: 임금채권부담금 | D20: =TRUNC(D10*$K$20/100) -> 7275 | E20: =TRUNC(E10*$K$20/100) -> 3257 | F20: =D20+E20 -> 10532 | G20: (노무비) * 0.09 % | K20: 0.09 | L20: 1 | M20: =D20*L20 -> 7275
F21: =D21+E21 -> 0 | M21: =D21*L21 -> 0
F22: =D22+E22 -> 0 | M22: =D22*L22 -> 0
A23: 비 | B23: 비 | F23: =D23+E23 -> 0 | M23: =D23*L23 -> 0
F24: =D24+E24 -> 0 | M24: =D24*L24 -> 0
F25: =D25+E25 -> 0 | M25: =D25*L25 -> 0
C26: ( 소 계 ) | D26: =SUM(D11:D25) -> 1550387.5 | E26: =SUM(E11:E25) -> 687684.96 | F26: =D26+E26 -> 2238072.5 | M26: =D26*L26 -> 0
B27: ( 순 공 사 비 계 ) | D27: =D7+D10+D26 -> 12828729 | E27: =E7+E10+E26 -> 5631757 | F27: =D27+E27 -> 18460486 | M27: =D27*L27 -> 0
A28: 일 반 관 리 비 | D28: =D27*8% -> 1026298.4 | E28: =E27*8% -> 450540.56 | F28: =D28+E28 -> 1476838.9 | G28: (재료+노무+경비) * 8 % | K28: 8 | L28: 1 | M28: =D28*L28 -> 1026298.4
A29: 이 윤 | D29: =(D10+D26+D28)*15% -> 1599155.8 | E29: =(E10+E26+E28)*15% -> 713640.83 | F29: =D29+E29 -> 2312796.7 | G29: (노무+경비+일반관리비) * 15 % | K29: 15 | L29: 1 | M29: =D29*L29 -> 1599155.8 | N29: =TRUNC((D10+D26+D28)*K29/100) -> 1599155 | O29: 10000
A30: 공사손해보험료 | D30: =TRUNC((D7+D10+D26+D28+D29)*$K$30/100) -> 40918 | E30: =TRUNC((E7+E10+E26+E28+E29)*$K$30/100) -> 17993 | F30: =D30+E30 -> 58911 | G30: (보험가입대상공사총원가) * 0.26477 % | K30: 0.26477 | L30: 1 | M30: =D30*L30 -> 40918
A31: ( 총 원 가 ) | D31: =TRUNC(D27+D28+D29+D30,-3) -> 15495000 | E31: =TRUNC(E27+E28+E29+E30,-3) -> 6813000 | F31: =D31+E31 -> 22308000 | G31: 천원단위절사 | M31: =D31*L31 -> 0
A32: 부 가 가 치 세 | D32: =TRUNC(D31*$K$32/100) -> 1549500 | E32: =TRUNC(E31*$K$32/100) -> 681300 | F32: =D32+E32 -> 2230800 | K32: 10 | L32: 1 | M32: =D32*L32 -> 1549500
F33: =D33+E33 -> 0 | M33: =D33*L33 -> 0
F34: =D34+E34 -> 0 | M34: =D34*L34 -> 0
F35: =D35+E35 -> 0 | M35: =D35*L35 -> 0
A36: ( 총 계 ) | D36: =TRUNC(SUM(D31:D35),-3) -> 17044000 | E36: =TRUNC(SUM(E31:E35),-3) -> 7494000 | F36: =D36+E36 -> 24538000 | G36: 천원단위절사 | M36: =SUM(M5:M35) -> 16437939

Sheet 총괄표
A1: 총줄수-> | B1: 55 | C1: 2.0 | D1: [ 전곡초 외 1교(반도체고) 화장실 및 냉난방개선 전기공사 ] | AA1: 연속견적가로형식
A2: 번호 | B2: 공종코드 | C2: … | D2: 공 종 명 | E2: 규격 | F2: 단위 | G2: 수량 | H2: 재료비 | J2: 노무비 | M2: 경비 | P2: 계 | Q2: 비고
H3: 단가 | I3: 금액 | J3: 수량 | K3: 단가 | L3: 금액 | M3: 단가 | N3: 금액 | O3: 단가
B4: 공종줄 | D4: 1. [전곡초등학교 화장실개선 전기공사]
B5: 001 | D5: 가.전기공사 | F5: 식 | G5: 1 | H5: =총괄표!I55 -> 3193989 | I5: =G5*H5 -> 3193989 | K5: =총괄표!L55 -> 6880301 | L5: =G5*K5 -> 6880301 | M5: =총괄표!N55 -> 2595 | N5: =G5*M5 -> 2595 | P5: =SUM(I5,L5,N5) -> 10076885
I6: =G6*H6 -> 0 | L6: =G6*K6 -> 0 | N6: =G6*M6 -> 0 | P6: =SUM(I6,L6,N6) -> 0
D7: 2. [서울반도체고 냉난방 개선 전기공사]
D8: 가.전기공사 | F8: 식 | G8: 1 | H8: =I81 -> 1324692 | I8: =G8*H8 -> 1324692 | K8: =L81 -> 3080324 | L8: =G8*K8 -> 3080324 | N8: =G8*M8 -> 0 | P8: =SUM(I8,L8,N8) -> 4405016
I9: =G9*H9 -> 0 | L9: =G9*K9 -> 0 | N9: =G9*M9 -> 0 | P9: =SUM(I9,L9,N9) -> 0
I10: =G10*H10 -> 0 | L10: =G10*K10 -> 0 | N10: =G10*M10 -> 0 | P10: =SUM(I10,L10,N10) -> 0
I11: =G11*H11 -> 0 | L11: =G11*K11 -> 0 | N11: =G11*M11 -> 0 | P11: =SUM(I11,L11,N11) -> 0
I12: =G12*H12 -> 0 | L12: =G12*K12 -> 0 | N12: =G12*M12 -> 0 | P12: =SUM(I12,L12,N12) -> 0
I13: =G13*H13 -> 0 | L13: =G13*K13 -> 0 | N13: =G13*M13 -> 0 | P13: =SUM(I13,L13,N13) -> 0
I14: =G14*H14 -> 0 | L14: =G14*K14 -> 0 | N14: =G14*M14 -> 0 | P14: =SUM(I14,L14,N14) -> 0
I15: =G15*H15 -> 0 | L15: =G15*K15 -> 0 | N15: =G15*M15 -> 0 | P15: =SUM(I15,L15,N15) -> 0
I16: =G16*H16 -> 0 | L16: =G16*K16 -> 0 | N16: =G16*M16 -> 0 | P16: =SUM(I16,L16,N16) -> 0
I17: =G17*H17 -> 0 | L17: =G17*K17 -> 0 | N17: =G17*M17 -> 0 | P17: =SUM(I17,L17,N17) -> 0
I18: =G18*H18 -> 0 | L18: =G18*K18 -> 0 | N18: =G18*M18 -> 0 | P18: =SUM(I18,L18,N18) -> 0
I19: =G19*H19 -> 0 | L19: =G19*K19 -> 0 | N19: =G19*M19 -> 0 | P19: =SUM(I19,L19,N19) -> 0
I20: =G20*H20 -> 0 | L20: =G20*K20 -> 0 | N20: =G20*M20 -> 0 | P20: =SUM(I20,L20,N20) -> 0
... I28: =G28*H28 -> 0 | L28: =G28*K28 -> 0 | N28: =G28*M28 -> 0 | P28: =SUM(I28,L28,N28) -> 0
C29: Total | D29: ( 합 계 ) | I29: =TRUNC(SUM(I4:I28)) -> 4518681 | L29: =TRUNC(SUM(L4:L28)) -> 9960625 | N29: =TRUNC(SUM(N4:N28)) -> 2595 | P29: =TRUNC(SUM(P4:P28)) -> 14481901
B30: 공종줄 | D30: 1.전곡초등학교 화장실개선 전기공사
B31: 00101 | D31: 1-1.전력간선및동력설비공사 | F31: 식 | G31: 1 | H31: ='내역서(전곡초)'!I29 -> 1621073 | I31: =G31*H31 -> 1621073 | K31: ='내역서(전곡초)'!L29 -> 1923853 | L31: =G31*K31 -> 1923853 | M31: ='내역서(전곡초)'!N29 -> 519 | N31: =G31*M31 -> 519 | P31: =SUM(I31,L31,N31) -> 3545445
B32: 00102 | D32: 1-2.전열설비공사 | F32: 식 | G32: 1 | H32: ='내역서(전곡초)'!I55 -> 144468 | I32: =G32*H32 -> 144468 | K32: ='내역서(전곡초)'!L55 -> 1119185 | L32: =G32*K32 -> 1119185 | M32: ='내역서(전곡초)'!N55 -> 1038 | N32: =G32*M32 -> 1038 | P32: =SUM(I32,L32,N32) -> 1264691
B33: 00103 | D33: 1-3.전등설비공사 | F33: 식 | G33: 1 | H33: ='내역서(전곡초)'!I81 -> 627385 | I33: =G33*H33 -> 627385 | K33: ='내역서(전곡초)'!L81 -> 2416829 | L33: =G33*K33 -> 2416829 | M33: ='내역서(전곡초)'!N81 -> 519 | N33: =G33*M33 -> 519 | P33: =SUM(I33,L33,N33) -> 3044733
B34: 00104 | D34: 1-4.기타설비공사 | F34: 식 | G34: 1 | H34: ='내역서(전곡초)'!I107 -> 784383 | I34: =G34*H34 -> 784383 | K34: ='내역서(전곡초)'!L107 -> 877756 | L34: =G34*K34 -> 877756 | M34: ='내역서(전곡초)'!N107 -> 519 | N34: =G34*M34 -> 519 | P34: =SUM(I34,L34,N34) -> 1662658
B35: 00105 | D35: 1-5.철거공사 | F35: 식 | G35: 1 | H35: ='내역서(전곡초)'!I133 -> 16680 | I35: =G35*H35 -> 16680 | K35: ='내역서(전곡초)'!L133 -> 542678 | L35: =G35*K35 -> 542678 | M35: ='내역서(전곡초)'!N133 -> 0 | N35: =G35*M35 -> 0 | P35: =SUM(I35,L35,N35) -> 559358
I36: =G36*H36 -> 0 | L36: =G36*K36 -> 0 | N36: =G36*M36 -> 0 | P36: =SUM(I36,L36,N36) -> 0
I37: =G37*H37 -> 0 | L37: =G37*K37 -> 0 | N37: =G37*M37 -> 0 | P37: =SUM(I37,L37,N37) -> 0
I38: =G38*H38 -> 0 | L38: =G38*K38 -> 0 | N38: =G38*M38 -> 0 | P38: =SUM(I38,L38,N38) -> 0
I39: =G39*H39 -> 0 | L39: =G39*K39 -> 0 | N39: =G39*M39 -> 0 | P39: =SUM(I39,L39,N39) -> 0
I40: =G40*H40 -> 0 | L40: =G40*K40 -> 0 | N40: =G40*M40 -> 0 | P40: =SUM(I40,L40,N40) -> 0
I41: =G41*H41 -> 0 | L41: =G41*K41 -> 0 | N41: =G41*M41 -> 0 | P41: =SUM(I41,L41,N41) -> 0
I42: =G42*H42 -> 0 | L42: =G42*K42 -> 0 | N42: =G42*M42 -> 0 | P42: =SUM(I42,L42,N42) -> 0
I43: =G43*H43 -> 0 | L43: =G43*K43 -> 0 | N43: =G43*M43 -> 0 | P43: =SUM(I43,L43,N43) -> 0
I44: =G44*H44 -> 0 | L44: =G44*K44 -> 0 | N44: =G44*M44 -> 0 | P44: =SUM(I44,L44,N44) -> 0
I45: =G45*H45 -> 0 | L45: =G45*K45 -> 0 | N45: =G45*M45 -> 0 | P45: =SUM(I45,L45,N45) -> 0
I46: =G46*H46 -> 0 | L46: =G46*K46 -> 0 | N46: =G46*M46 -> 0 | P46: =SUM(I46,L46,N46) -> 0
I47: =G47*H47 -> 0 | L47: =G47*K47 -> 0 | N47: =G47*M47 -> 0 | P47: =SUM(I47,L47,N47) -> 0
... I54: =G54*H54 -> 0 | L54: =G54*K54 -> 0 | N54: =G54*M54 -> 0 | P54: =SUM(I54,L54,N54) -> 0
B55: 001 | C55: Total | D55: ( 합 계 ) | I55: =TRUNC(SUM(I30:I54)) -> 3193989 | L55: =TRUNC(SUM(L30:L54)) -> 6880301 | N55: =TRUNC(SUM(N30:N54)) -> 2595 | P55: =TRUNC(SUM(P30:P54)) -> 10076885
B56: 공종줄 | D56: 1.전곡초등학교 화장실개선 전기공사
B57: 00101 | D57: 1-1.냉난방공사 | F57: 식 | G57: 1 | H57: ='내역서(반도체고)'!I55 -> 1324692 | I57: =G57*H57 -> 1324692 | K57: ='내역서(반도체고)'!L55 -> 3080324 | L57: =G57*K57 -> 3080324 | N57: =G57*M57 -> 0 | P57: =SUM(I57,L57,N57) -> 4405016
B58: 00102
B59: 00103
B60: 00104
B61: 00105
I62: =G62*H62 -> 0 | L62: =G62*K62 -> 0 | N62: =G62*M62 -> 0 | P62: =SUM(I62,L62,N62) -> 0
I63: =G63*H63 -> 0 | L63: =G63*K63 -> 0 | N63: =G63*M63 -> 0 | P63: =SUM(I63,L63,N63) -> 0
I64: =G64*H64 -> 0 | L64: =G64*K64 -> 0 | N64: =G64*M64 -> 0 | P64: =SUM(I64,L64,N64) -> 0
I65: =G65*H65 -> 0 | L65: =G65*K65 -> 0 | N65: =G65*M65 -> 0 | P65: =SUM(I65,L65,N65) -> 0
I66: =G66*H66 -> 0 | L66: =G66*K66 -> 0 | N66: =G66*M66 -> 0 | P66: =SUM(I66,L66,N66) -> 0
I67: =G67*H67 -> 0 | L67: =G67*K67 -> 0 | N67: =G67*M67 -> 0 | P67: =SUM(I67,L67,N67) -> 0
I68: =G68*H68 -> 0 | L68: =G68*K68 -> 0 | N68: =G68*M68 -> 0 | P68: =SUM(I68,L68,N68) -> 0
I69: =G69*H69 -> 0 | L69: =G69*K69 -> 0 | N69: =G69*M69 -> 0 | P69: =SUM(I69,L69,N69) -> 0
I70: =G70*H70 -> 0 | L70: =G70*K70 -> 0 | N70: =G70*M70 -> 0 | P70: =SUM(I70,L70,N70) -> 0
I71: =G71*H71 -> 0 | L71: =G71*K71 -> 0 | N71: =G71*M71 -> 0 | P71: =SUM(I71,L71,N71) -> 0
I72: =G72*H72 -> 0 | L72: =G72*K72 -> 0 | N72: =G72*M72 -> 0 | P72: =SUM(I72,L72,N72) -> 0
I73: =G73*H73 -> 0 | L73: =G73*K73 -> 0 | N73: =G73*M73 -> 0 | P73: =SUM(I73,L73,N73) -> 0
... I80: =G80*H80 -> 0 | L80: =G80*K80 -> 0 | N80: =G80*M80 -> 0 | P80: =SUM(I80,L80,N80) -> 0
B81: 001 | C81: Total | D81: ( 합 계 ) | I81: =TRUNC(SUM(I56:I80)) -> 1324692 | L81: =TRUNC(SUM(L56:L80)) -> 3080324 | N81: =TRUNC(SUM(N56:N80)) -> 0 | P81: =TRUNC(SUM(P56:P80)) -> 4405016

Sheet 내역서(전곡초)
A1: 총줄수-> | B1: 133 | C1: 2.0 | D1: [ 전곡초등학교 화장실개선 전기공사 ] | W1: 노임 계산 정보 | AA1: 부속재 및 손료
A2: 번호 | B2: 공종코드 | C2: 코드 | D2: 명 칭 | E2: 규 격 | F2: 단위 | G2: 수량 | H2: 재료비 | J2: 노무비 | M2: 경비 | P2: 계 | Q2: 비고 | W2: 노임계 | X2: 전체(%) | Y2: 공종별(%) | Z2: 노임 소수 | AA2: CD배관재 | AB2: 일반배관재 | AC2: 소모재 | AD2: 자재계 | AE2: 노임계
H3: 단가 | I3: 금액 | J3: 수량 | K3: 단가 | L3: 금액 | M3: 단가 | N3: 금액 | O3: 단가 | AD3: =IF(옵션!$C$11 =0, "1", 옵션!$C$11) -> 1 | AE3: =IF(옵션!$C$12 =0, "1", 옵션!$C$12) -> 1
B4: 공종줄 | D4: 1.전기공사::1-1.전력간선및동력설비공사
A5: 5975A337015 | B5: 00101 | C5: E59750337015 | D5: 강제전선관(노출) | E5: 아연도 42 mm | F5: m | G5: 3 | H5: =일대목차!I8 -> 9544 | I5: =TRUNC(G5*H5) -> 28632 | J5: 3 | K5: =일대목차!L8 -> 68419 | L5: =TRUNC(G5*K5) -> 205257 | M5: =일대목차!N8 -> 0 | N5: =TRUNC(G5*M5) -> 0 | P5: =SUM(I5,L5,N5) -> 233889 | Q5: 제 5호 | AB5: =I5 -> 28632 | AC5: =G5*H5 -> 28632
A6: 59753017044 | B6: 00101 | C6: 3913170620174435 | D6: 1종금속제가요전선관 | E6: 커넥터, 22 mm 일반-비방수 | F6: 개 | G6: 4 | H6: =합산자재!H6 -> 517 | I6: =TRUNC(G6*H6) -> 2068 | J6: 4 | K6: =합산자재!I6 -> 0 | L6: =TRUNC(G6*K6) -> 0 | M6: =합산자재!J6 -> 0 | N6: =TRUNC(G6*M6) -> 0 | P6: =SUM(I6,L6,N6) -> 2068
A7: 56959100804 | B7: 00101 | C7: EAB110214000 | D7: 1종금속제가요전선관 | E7: 22 mm 고장력-비방수 | F7: m | G7: 23 | H7: =일대목차!I10 -> 1597 | I7: =TRUNC(G7*H7) -> 36731 | J7: 23 | K7: =일대목차!L10 -> 16146 | L7: =TRUNC(G7*K7) -> 371358 | M7: =일대목차!N10 -> 0 | N7: =TRUNC(G7*M7) -> 0 | P7: =SUM(I7,L7,N7) -> 408089 | Q7: 제 7호 | AC7: =G7*H7 -> 36731
A8: 59759017063 | B8: 00101 | C8: 3913170820176477 | D8: 강제전선관용 부품 | E8: 노말밴드, 아연도 42 mm | F8: 개 | G8: 1 | H8: =합산자재!H9 -> 5351 | I8: =TRUNC(G8*H8) -> 5351 | J8: 1 | K8: =합산자재!I9 -> 0 | L8: =TRUNC(G8*K8) -> 0 | M8: =합산자재!J9 -> 0 | N8: =TRUNC(G8*M8) -> 0 | P8: =SUM(I8,L8,N8) -> 5351
A9: 5975D767041 | B9: 00101 | C9: E59753767041 | D9: 아우트렛박스 | E9: 중형4각 54㎜ | F9: 개 | G9: 3 | H9: =일대목차!I12 -> 1958 | I9: =TRUNC(G9*H9) -> 5874 | J9: 3 | K9: =일대목차!L12 -> 32841 | L9: =TRUNC(G9*K9) -> 98523 | M9: =일대목차!N12 -> 0 | N9: =TRUNC(G9*M9) -> 0 | P9: =SUM(I9,L9,N9) -> 104397 | Q9: 제 9호
A10: 5975D777111 | B10: 00101 | C10: E59753777111 | D10: 스위치박스 | E10: 2 개용 54 mm | F10: 개 | G10: 2 | H10: =일대목차!I14 -> 2368 | I10: =TRUNC(G10*H10) -> 4736 | J10: 2 | K10: =일대목차!L14 -> 54735 | L10: =TRUNC(G10*K10) -> 109470 | M10: =일대목차!N14 -> 0 | N10: =TRUNC(G10*M10) -> 0 | P10: =SUM(I10,L10,N10) -> 114206 | Q10: 제 11호
A11: 59753767231 | B11: 00101 | C11: 3912130820174713 | D11: 아우트렛박스 커버 | E11: 커버, 4각, 평형 | F11: 개 | G11: 2 | H11: =합산자재!H15 -> 343 | I11: =TRUNC(G11*H11) -> 686 | J11: 2 | K11: =합산자재!I15 -> 0 | L11: =TRUNC(G11*K11) -> 0 | M11: =합산자재!J15 -> 0 | N11: =TRUNC(G11*M11) -> 0 | P11: =SUM(I11,L11,N11) -> 686
A12: MM300040279 | B12: 00101 | C12: 3912130820157231 | D12: 아우트렛박스 커버 | E12: 콘카바 | F12: 개 | G12: 1 | H12: =합산자재!H17 -> 343 | I12: =TRUNC(G12*H12) -> 343 | J12: 1 | K12: =합산자재!I17 -> 0 | L12: =TRUNC(G12*K12) -> 0 | M12: =합산자재!J17 -> 0 | N12: =TRUNC(G12*M12) -> 0 | P12: =SUM(I12,L12,N12) -> 343
A13: 6145F137894 | B13: 00101 | C13: E61455137894 | D13: 정션 박스 | E13: 100*100*50 | F13: EA | G13: 1 | H13: =일대목차!I15 -> 3018 | I13: =TRUNC(G13*H13) -> 3018 | J13: 1 | K13: =일대목차!L15 -> 10947 | L13: =TRUNC(G13*K13) -> 10947 | M13: =일대목차!N15 -> 0 | N13: =TRUNC(G13*M13) -> 0 | P13: =SUM(I13,L13,N13) -> 13965 | Q13: 제 12호
A14: 5975D857081 | B14: 00101 | C14: E59753857081 | D14: 풀박스 | E14: 200×200×200 | F14: 개 | G14: 1 | H14: =일대목차!I16 -> 7841 | I14: =TRUNC(G14*H14) -> 7841 | J14: 1 | K14: =일대목차!L16 -> 60208 | L14: =TRUNC(G14*K14) -> 60208 | M14: =일대목차!N16 -> 0 | N14: =TRUNC(G14*M14) -> 0 | P14: =SUM(I14,L14,N14) -> 68049 | Q14: 제 13호
A15: 5975B817222 | B15: 00101 | C15: E59751817222 | D15: 케이블트레이 | E15: STRAIGHT,St W300x100Hx2.3t | F15: m | G15: 2 | H15: =일대목차!I17 -> 15170 | I15: =TRUNC(G15*H15) -> 30340 | J15: 2 | K15: =일대목차!L17 -> 62945 | L15: =TRUNC(G15*K15) -> 125890 | M15: =일대목차!N17 -> 0 | N15: =TRUNC(G15*M15) -> 0 | P15: =SUM(I15,L15,N15) -> 156230 | Q15: 제 14호
A16: 5975B817334 | B16: 00101 | C16: E59751817334 | D16: 케이블트레이 | E16: COVER,St W300 | F16: m | G16: 2 | H16: =일대목차!I18 -> 27614 | I16: =TRUNC(G16*H16) -> 55228 | J16: 2 | K16: =일대목차!L18 -> 12589 | L16: =TRUNC(G16*K16) -> 25178 | M16: =일대목차!N18 -> 0 | N16: =TRUNC(G16*M16) -> 0 | P16: =SUM(I16,L16,N16) -> 80406 | Q16: 제 15호
A17: E145A667003 | B17: 00101 | C17: EE1450667003 | D17: 450/750V 내열비닐절연전선 | E17: HFIX 2.25mm(4㎟) | F17: m | G17: 76 | H17: =일대목차!I21 -> 1007 | I17: =TRUNC(G17*H17) -> 76532 | J17: 76 | K17: =일대목차!L21 -> 2736 | L17: =TRUNC(G17*K17) -> 207936 | M17: =일대목차!N21 -> 0 | N17: =TRUNC(G17*M17) -> 0 | P17: =SUM(I17,L17,N17) -> 284468 | Q17: 제 18호 | AC17: =G17*H17 -> 76532
A18: E145A927204 | B18: 00101 | C18: EE1450927204 | D18: 접지용비닐절연전선(F-GV) | E18: 10㎟ | F18: m | G18: 7 | H18: =일대목차!I22 -> 2414 | I18: =TRUNC(G18*H18) -> 16898 | J18: 7 | K18: =일대목차!L22 -> 2463 | L18: =TRUNC(G18*K18) -> 17241 | M18: =일대목차!N22 -> 0 | N18: =TRUNC(G18*M18) -> 0 | P18: =SUM(I18,L18,N18) -> 34139 | Q18: 제 19호 | AC18: =G18*H18 -> 16898
A19: E145A287564 | B19: 00101 | C19: EE1450287564 | D19: 폴리에틸렌 난연케이블 | E19: 0.6/1kv F-CV 4C×10㎟ | F19: m | G19: 7 | H19: =일대목차!I23 -> 10682 | I19: =TRUNC(G19*H19) -> 74774 | J19: 7 | K19: =일대목차!L23 -> 14903 | L19: =TRUNC(G19*K19) -> 104321 | M19: =일대목차!N23 -> 0 | N19: =TRUNC(G19*M19) -> 0 | P19: =SUM(I19,L19,N19) -> 179095 | Q19: 제 20호 | AC19: =G19*H19 -> 74774
A20: 5935A317206 | B20: 00101 | C20: E59350317206 | D20: 콘센트 | E20: 매입-접지형, 250V 2구 | F20: 개 | G20: 1 | H20: =일대목차!I25 -> 2067 | I20: =TRUNC(G20*H20) -> 2067 | J20: 1 | K20: =일대목차!L25 -> 21894 | L20: =TRUNC(G20*K20) -> 21894 | M20: =일대목차!N25 -> 0 | N20: =TRUNC(G20*M20) -> 0 | P20: =SUM(I20,L20,N20) -> 23961 | Q20: 제 22호
A21: 5925A327171 | B21: 00101 | C21: E59250327171 | D21: 배선용 차단기 | E21: 표준형, 4P 600V 50AF | F21: 대 | G21: 1 | H21: =일대목차!I28 -> 75075 | I21: =TRUNC(G21*H21) -> 75075 | J21: 1 | K21: =일대목차!L28 -> 92502 | L21: =TRUNC(G21*K21) -> 92502 | M21: =일대목차!N28 -> 0 | N21: =TRUNC(G21*M21) -> 0 | P21: =SUM(I21,L21,N21) -> 167577 | Q21: 제 25호
A22: E9400177001 | B22: 00101 | C22: 3912143210033786 | D22: 러그단자 | E22: 동관단자 1 HOLE 10 ㎟ | F22: 개 | G22: 8 | H22: =합산자재!H39 -> 299 | I22: =TRUNC(G22*H22) -> 2392 | J22: 8 | K22: =합산자재!I39 -> 0 | L22: =TRUNC(G22*K22) -> 0 | M22: =합산자재!J39 -> 0 | N22: =TRUNC(G22*M22) -> 0 | P22: =SUM(I22,L22,N22) -> 2392
A23: E9400267005 | B23: 00101 | C23: 3912143221650910 | D23: 압착단자 | E23: R형동선 나압착 10 ㎟ | F23: 개 | G23: 2 | H23: =합산자재!H40 -> 101 | I23: =TRUNC(G23*H23) -> 202 | J23: 2 | K23: =합산자재!I40 -> 0 | L23: =TRUNC(G23*K23) -> 0 | M23: =합산자재!J40 -> 0 | N23: =TRUNC(G23*M23) -> 0 | P23: =SUM(I23,L23,N23) -> 202
A24: 56950170114 | B24: 00101 | C24: EAA110640000 | D24: TRAY SUPPORT | E24: W300-1단 | F24: 식 | G24: 1 | H24: =일대목차!I4 -> 5439 | I24: =TRUNC(G24*H24) -> 5439 | J24: 1 | K24: =일대목차!L4 -> 19704 | L24: =TRUNC(G24*K24) -> 19704 | M24: =일대목차!N4 -> 0 | N24: =TRUNC(G24*M24) -> 0 | P24: =SUM(I24,L24,N24) -> 25143 | Q24: 제 1호
A25: 56959100801 | B25: 00101 | C25: EAB110211000 | D25: 배관용 홈파기 | E25: Φ22이하 | F25: m | G25: 5 | H25: =일대목차!I6 -> 412 | I25: =TRUNC(G25*H25) -> 2060 | J25: 5 | K25: =일대목차!L6 -> 13765 | L25: =TRUNC(G25*K25) -> 68825 | M25: =일대목차!N6 -> 0 | N25: =TRUNC(G25*M25) -> 0 | P25: =SUM(I25,L25,N25) -> 70885 | Q25: 제 3호
A26: 56953100908 | B26: 00101 | C26: EAB110220000 | D26: 벽관통 구멍(방화실링) | E26: Φ50-벽두께 25cm | F26: 개소 | G26: 1 | H26: =일대목차!I5 -> 4407 | I26: =TRUNC(G26*H26) -> 4407 | J26: 1 | K26: =일대목차!L5 -> 104903 | L26: =TRUNC(G26*K26) -> 104903 | M26: =일대목차!N5 -> 519 | N26: =TRUNC(G26*M26) -> 519 | P26: =SUM(I26,L26,N26) -> 109829 | Q26: 제 2호
A27: 56959100802 | B27: 00101 | C27: EAB110212000 | D27: 파이프지지대 벽체 | E27: 42C | F27: 개 | G27: 2 | H27: =일대목차!I7 -> 2290 | I27: =TRUNC(G27*H27) -> 4580 | J27: 2 | K27: =일대목차!L7 -> 9852 | L27: =TRUNC(G27*K27) -> 19704 | M27: =일대목차!N7 -> 0 | N27: =TRUNC(G27*M27) -> 0 | P27: =SUM(I27,L27,N27) -> 24284 | Q27: 제 4호
A28: 56959100809 | B28: 00101 | C28: E56959100809 | D28: 분전반 | E28: L-T(체육관동) PANEL | F28: 면 | G28: 1 | H28: =일대목차!I31 -> 1175799 | I28: =TRUNC(G28*H28) -> 1175799 | J28: 1 | K28: =일대목차!L31 -> 259992 | L28: =TRUNC(G28*K28) -> 259992 | M28: =일대목차!N31 -> 0 | N28: =TRUNC(G28*M28) -> 0 | P28: =SUM(I28,L28,N28) -> 1435791 | Q28: 제 28호
B29: 합계줄 | D29: ( 합 계 ) | I29: =TRUNC(SUM(I4:I28)) -> 1621073 | L29: =TRUNC(SUM(L4:L28)) -> 1923853 | N29: =TRUNC(SUM(N4:N28)) -> 519 | P29: =TRUNC(SUM(P4:P28)) -> 3545445 | AE29: =TRUNC(SUM(AE4:AE28)) -> 0
B30: 공종줄 | D30: 1.전기공사::1-2.전열설비공사
A31: 56959100804 | B31: 00102 | C31: EAB110214000 | D31: 1종금속제가요전선관 | E31: 22 mm 고장력-비방수 | F31: m | G31: 19 | H31: =일대목차!I10 -> 1597 | I31: =TRUNC(G31*H31) -> 30343 | J31: 19 | K31: =일대목차!L10 -> 16146 | L31: =TRUNC(G31*K31) -> 306774 | M31: =일대목차!N10 -> 0 | N31: =TRUNC(G31*M31) -> 0 | P31: =SUM(I31,L31,N31) -> 337117 | Q31: 제 7호 | AC31: =G31*H31 -> 30343
A32: 5975D767041 | B32: 00102 | C32: E59753767041 | D32: 아우트렛박스 | E32: 중형4각 54㎜ | F32: 개 | G32: 2 | H32: =일대목차!I12 -> 1958 | I32: =TRUNC(G32*H32) -> 3916 | J32: 2 | K32: =일대목차!L12 -> 32841 | L32: =TRUNC(G32*K32) -> 65682 | M32: =일대목차!N12 -> 0 | N32: =TRUNC(G32*M32) -> 0 | P32: =SUM(I32,L32,N32) -> 69598 | Q32: 제 9호
A33: 5975D777102 | B33: 00102 | C33: E59753777102 | D33: 스위치박스 | E33: 1 개용 54 mm | F33: 개 | G33: 2 | H33: =일대목차!I13 -> 2245 | I33: =TRUNC(G33*H33) -> 4490 | J33: 2 | K33: =일대목차!L13 -> 54735 | L33: =TRUNC(G33*K33) -> 109470 | M33: =일대목차!N13 -> 0 | N33: =TRUNC(G33*M33) -> 0 | P33: =SUM(I33,L33,N33) -> 113960 | Q33: 제 10호
A34: MM300040279 | B34: 00102 | C34: 3912130820157231 | D34: 아우트렛박스 커버 | E34: 콘카바 | F34: 개 | G34: 2 | H34: =합산자재!H17 -> 343 | I34: =TRUNC(G34*H34) -> 686 | J34: 2 | K34: =합산자재!I17 -> 0 | L34: =TRUNC(G34*K34) -> 0 | M34: =합산자재!J17 -> 0 | N34: =TRUNC(G34*M34) -> 0 | P34: =SUM(I34,L34,N34) -> 686
A35: 6145F137894 | B35: 00102 | C35: E61455137894 | D35: 정션 박스 | E35: 100*100*50 | F35: EA | G35: 6 | H35: =일대목차!I15 -> 3018 | I35: =TRUNC(G35*H35) -> 18108 | J35: 6 | K35: =일대목차!L15 -> 10947 | L35: =TRUNC(G35*K35) -> 65682 | M35: =일대목차!N15 -> 0 | N35: =TRUNC(G35*M35) -> 0 | P35: =SUM(I35,L35,N35) -> 83790 | Q35: 제 12호
A36: E145A667003 | B36: 00102 | C36: EE1450667003 | D36: 450/750V 내열비닐절연전선 | E36: HFIX 2.25mm(4㎟) | F36: m | G36: 65 | H36: =일대목차!I21 -> 1007 | I36: =TRUNC(G36*H36) -> 65455 | J36: 65 | K36: =일대목차!L21 -> 2736 | L36: =TRUNC(G36*K36) -> 177840 | M36: =일대목차!N21 -> 0 | N36: =TRUNC(G36*M36) -> 0 | P36: =SUM(I36,L36,N36) -> 243295 | Q36: 제 18호 | AC36: =G36*H36 -> 65455
A37: 5935A317206 | B37: 00102 | C37: E59350317206 | D37: 콘센트 | E37: 매입-접지형, 250V 2구 | F37: 개 | G37: 2 | H37: =일대목차!I25 -> 2067 | I37: =TRUNC(G37*H37) -> 4134 | J37: 2 | K37: =일대목차!L25 -> 21894 | L37: =TRUNC(G37*K37) -> 43788 | M37: =일대목차!N25 -> 0 | N37: =TRUNC(G37*M37) -> 0 | P37: =SUM(I37,L37,N37) -> 47922 | Q37: 제 22호
A38: 5935A317208 | B38: 00102 | C38: E59350317208 | D38: 방우콘센트 | E38: 매입-접지형, 250V 2구 | F38: 개 | G38: 2 | H38: =일대목차!I26 -> 2819 | I38: =TRUNC(G38*H38) -> 5638 | J38: 2 | K38: =일대목차!L26 -> 21894 | L38: =TRUNC(G38*K38) -> 43788 | M38: =일대목차!N26 -> 0 | N38: =TRUNC(G38*M38) -> 0 | P38: =SUM(I38,L38,N38) -> 49426 | Q38: 제 23호
A39: 56959100801 | B39: 00102 | C39: EAB110211000 | D39: 배관용 홈파기 | E39: Φ22이하 | F39: m | G39: 7 | H39: =일대목차!I6 -> 412 | I39: =TRUNC(G39*H39) -> 2884 | J39: 7 | K39: =일대목차!L6 -> 13765 | L39: =TRUNC(G39*K39) -> 96355 | M39: =일대목차!N6 -> 0 | N39: =TRUNC(G39*M39) -> 0 | P39: =SUM(I39,L39,N39) -> 99239 | Q39: 제 3호
A40: 56953100908 | B40: 00102 | C40: EAB110220000 | D40: 벽관통 구멍(방화실링) | E40: Φ50-벽두께 25cm | F40: 개소 | G40: 2 | H40: =일대목차!I5 -> 4407 | I40: =TRUNC(G40*H40) -> 8814 | J40: 2 | K40: =일대목차!L5 -> 104903 | L40: =TRUNC(G40*K40) -> 209806 | M40: =일대목차!N5 -> 519 | N40: =TRUNC(G40*M40) -> 1038 | P40: =SUM(I40,L40,N40) -> 219658 | Q40: 제 2호
I41: =TRUNC(G41*H41) -> 0 | L41: =TRUNC(G41*K41) -> 0 | N41: =TRUNC(G41*M41) -> 0 | P41: =SUM(I41,L41,N41) -> 0 | AE41: =TRUNC(SUM(AE30:AE40)) -> 0
I42: =TRUNC(G42*H42) -> 0 | L42: =TRUNC(G42*K42) -> 0 | N42: =TRUNC(G42*M42) -> 0 | P42: =SUM(I42,L42,N42) -> 0
I43: =TRUNC(G43*H43) -> 0 | L43: =TRUNC(G43*K43) -> 0 | N43: =TRUNC(G43*M43) -> 0 | P43: =SUM(I43,L43,N43) -> 0
I44: =TRUNC(G44*H44) -> 0 | L44: =TRUNC(G44*K44) -> 0 | N44: =TRUNC(G44*M44) -> 0 | P44: =SUM(I44,L44,N44) -> 0
I45: =TRUNC(G45*H45) -> 0 | L45: =TRUNC(G45*K45) -> 0 | N45: =TRUNC(G45*M45) -> 0 | P45: =SUM(I45,L45,N45) -> 0
I46: =TRUNC(G46*H46) -> 0 | L46: =TRUNC(G46*K46) -> 0 | N46: =TRUNC(G46*M46) -> 0 | P46: =SUM(I46,L46,N46) -> 0
I47: =TRUNC(G47*H47) -> 0 | L47: =TRUNC(G47*K47) -> 0 | N47: =TRUNC(G47*M47) -> 0 | P47: =SUM(I47,L47,N47) -> 0
I48: =TRUNC(G48*H48) -> 0 | L48: =TRUNC(G48*K48) -> 0 | N48: =TRUNC(G48*M48) -> 0 | P48: =SUM(I48,L48,N48) -> 0
I49: =TRUNC(G49*H49) -> 0 | L49: =TRUNC(G49*K49) -> 0 | N49: =TRUNC(G49*M49) -> 0 | P49: =SUM(I49,L49,N49) -> 0
I50: =TRUNC(G50*H50) -> 0 | L50: =TRUNC(G50*K50) -> 0 | N50: =TRUNC(G50*M50) -> 0 | P50: =SUM(I50,L50,N50) -> 0
I51: =TRUNC(G51*H51) -> 0 | L51: =TRUNC(G51*K51) -> 0 | N51: =TRUNC(G51*M51) -> 0 | P51: =SUM(I51,L51,N51) -> 0
I52: =TRUNC(G52*H52) -> 0 | L52: =TRUNC(G52*K52) -> 0 | N52: =TRUNC(G52*M52) -> 0 | P52: =SUM(I52,L52,N52) -> 0
I53: =TRUNC(G53*H53) -> 0 | L53: =TRUNC(G53*K53) -> 0 | N53: =TRUNC(G53*M53) -> 0 | P53: =SUM(I53,L53,N53) -> 0
I54: =TRUNC(G54*H54) -> 0 | L54: =TRUNC(G54*K54) -> 0 | N54: =TRUNC(G54*M54) -> 0 | P54: =SUM(I54,L54,N54) -> 0
B55: 합계줄 | D55: ( 합 계 ) | I55: =TRUNC(SUM(I30:I54)) -> 144468 | L55: =TRUNC(SUM(L30:L54)) -> 1119185 | N55: =TRUNC(SUM(N30:N54)) -> 1038 | P55: =TRUNC(SUM(P30:P54)) -> 1264691
B56: 공종줄 | D56: 1.전기공사::1-3.전등설비공사
A57: 59753017043 | B57: 00103 | C57: 3913170620174434 | D57: 1종금속제가요전선관 | E57: 커넥터, 16 mm 일반-비방수 | F57: 개 | G57: 28 | H57: =합산자재!H5 -> 346 | I57: =TRUNC(G57*H57) -> 9688 | J57: 28 | K57: =합산자재!I5 -> 0 | L57: =TRUNC(G57*K57) -> 0 | M57: =합산자재!J5 -> 0 | N57: =TRUNC(G57*M57) -> 0 | P57: =SUM(I57,L57,N57) -> 9688
A58: 56959100803 | B58: 00103 | C58: EAB110213000 | D58: 1종금속제가요전선관 | E58: 16 mm 고장력-비방수 | F58: m | G58: 32 | H58: =일대목차!I9 -> 970 | I58: =TRUNC(G58*H58) -> 31040 | J58: 32 | K58: =일대목차!L9 -> 12041 | L58: =TRUNC(G58*K58) -> 385312 | M58: =일대목차!N9 -> 0 | N58: =TRUNC(G58*M58) -> 0 | P58: =SUM(I58,L58,N58) -> 416352 | Q58: 제 6호 | AC58: =G58*H58 -> 31040
A59: 56959100804 | B59: 00103 | C59: EAB110214000 | D59: 1종금속제가요전선관 | E59: 22 mm 고장력-비방수 | F59: m | G59: 5 | H59: =일대목차!I10 -> 1597 | I59: =TRUNC(G59*H59) -> 7985 | J59: 5 | K59: =일대목차!L10 -> 16146 | L59: =TRUNC(G59*K59) -> 80730 | M59: =일대목차!N10 -> 0 | N59: =TRUNC(G59*M59) -> 0 | P59: =SUM(I59,L59,N59) -> 88715 | Q59: 제 7호 | AC59: =G59*H59 -> 7985
A60: 5975D767011 | B60: 00103 | C60: E59753767011 | D60: 아우트렛박스 | E60: 8각 54㎜ | F60: 개 | G60: 10 | H60: =일대목차!I11 -> 1623 | I60: =TRUNC(G60*H60) -> 16230 | J60: 10 | K60: =일대목차!L11 -> 32841 | L60: =TRUNC(G60*K60) -> 328410 | M60: =일대목차!N11 -> 0 | N60: =TRUNC(G60*M60) -> 0 | P60: =SUM(I60,L60,N60) -> 344640 | Q60: 제 8호
A61: 5975D767041 | B61: 00103 | C61: E59753767041 | D61: 아우트렛박스 | E61: 중형4각 54㎜ | F61: 개 | G61: 4 | H61: =일대목차!I12 -> 1958 | I61: =TRUNC(G61*H61) -> 7832 | J61: 4 | K61: =일대목차!L12 -> 32841 | L61: =TRUNC(G61*K61) -> 131364 | M61: =일대목차!N12 -> 0 | N61: =TRUNC(G61*M61) -> 0 | P61: =SUM(I61,L61,N61) -> 139196 | Q61: 제 9호
A62: 5975D777102 | B62: 00103 | C62: E59753777102 | D62: 스위치박스 | E62: 1 개용 54 mm | F62: 개 | G62: 2 | H62: =일대목차!I13 -> 2245 | I62: =TRUNC(G62*H62) -> 4490 | J62: 2 | K62: =일대목차!L13 -> 54735 | L62: =TRUNC(G62*K62) -> 109470 | M62: =일대목차!N13 -> 0 | N62: =TRUNC(G62*M62) -> 0 | P62: =SUM(I62,L62,N62) -> 113960 | Q62: 제 10호
A63: 59753767201 | B63: 00103 | C63: 3912130820174710 | D63: 아우트렛박스 커버 | E63: 커버, 8각, 평형 | F63: 개 | G63: 10 | H63: =합산자재!H14 -> 343 | I63: =TRUNC(G63*H63) -> 3430 | J63: 10 | K63: =합산자재!I14 -> 0 | L63: =TRUNC(G63*K63) -> 0 | M63: =합산자재!J14 -> 0 | N63: =TRUNC(G63*M63) -> 0 | P63: =SUM(I63,L63,N63) -> 3430
A64: 59753767231 | B64: 00103 | C64: 3912130820174713 | D64: 아우트렛박스 커버 | E64: 커버, 4각, 평형 | F64: 개 | G64: 4 | H64: =합산자재!H15 -> 343 | I64: =TRUNC(G64*H64) -> 1372 | J64: 4 | K64: =합산자재!I15 -> 0 | L64: =TRUNC(G64*K64) -> 0 | M64: =합산자재!J15 -> 0 | N64: =TRUNC(G64*M64) -> 0 | P64: =SUM(I64,L64,N64) -> 1372
A65: 6145F137894 | B65: 00103 | C65: E61455137894 | D65: 정션 박스 | E65: 100*100*50 | F65: EA | G65: 4 | H65: =일대목차!I15 -> 3018 | I65: =TRUNC(G65*H65) -> 12072 | J65: 4 | K65: =일대목차!L15 -> 10947 | L65: =TRUNC(G65*K65) -> 43788 | M65: =일대목차!N15 -> 0 | N65: =TRUNC(G65*M65) -> 0 | P65: =SUM(I65,L65,N65) -> 55860 | Q65: 제 12호
A66: 56959100806 | B66: 00103 | C66: EAB110216000 | D66: 450/750V 내열비닐절연전선 | E66: HFIX 1.78mm(2.5㎟) | F66: m | G66: 133 | H66: =일대목차!I20 -> 691 | I66: =TRUNC(G66*H66) -> 91903 | J66: 133 | K66: =일대목차!L20 -> 2736 | L66: =TRUNC(G66*K66) -> 363888 | M66: =일대목차!N20 -> 0 | N66: =TRUNC(G66*M66) -> 0 | P66: =SUM(I66,L66,N66) -> 455791 | Q66: 제 17호 | AC66: =G66*H66 -> 91903
A67: 5930B517003 | B67: 00103 | C67: E59301517003 | D67: 매입스위치 | E67: 250V 1로3구 | F67: 개 | G67: 2 | H67: =일대목차!I24 -> 3137 | I67: =TRUNC(G67*H67) -> 6274 | J67: 2 | K67: =일대목차!L24 -> 23262 | L67: =TRUNC(G67*K67) -> 46524 | M67: =일대목차!N24 -> 0 | N67: =TRUNC(G67*M67) -> 0 | P67: =SUM(I67,L67,N67) -> 52798 | Q67: 제 21호
A68: 56959100801 | B68: 00103 | C68: EAB110211000 | D68: 배관용 홈파기 | E68: Φ22이하 | F68: m | G68: 4 | H68: =일대목차!I6 -> 412 | I68: =TRUNC(G68*H68) -> 1648 | J68: 4 | K68: =일대목차!L6 -> 13765 | L68: =TRUNC(G68*K68) -> 55060 | M68: =일대목차!N6 -> 0 | N68: =TRUNC(G68*M68) -> 0 | P68: =SUM(I68,L68,N68) -> 56708 | Q68: 제 3호
A69: 56953100908 | B69: 00103 | C69: EAB110220000 | D69: 벽관통 구멍(방화실링) | E69: Φ50-벽두께 25cm | F69: 개소 | G69: 1 | H69: =일대목차!I5 -> 4407 | I69: =TRUNC(G69*H69) -> 4407 | J69: 1 | K69: =일대목차!L5 -> 104903 | L69: =TRUNC(G69*K69) -> 104903 | M69: =일대목차!N5 -> 519 | N69: =TRUNC(G69*M69) -> 519 | P69: =SUM(I69,L69,N69) -> 109829 | Q69: 제 2호
A70: 56959100808 | B70: 00103 | C70: E56959100808 | D70: 등기구타공 | E70: 다운라이트 | F70: 개소 | G70: 12 | H70: =일대목차!I30 -> 164 | I70: =TRUNC(G70*H70) -> 1968 | J70: 12 | K70: =일대목차!L30 -> 5473 | L70: =TRUNC(G70*K70) -> 65676 | M70: =일대목차!N30 -> 0 | N70: =TRUNC(G70*M70) -> 0 | P70: =SUM(I70,L70,N70) -> 67644 | Q70: 제 27호
A71: 56959100810 | B71: 00103 | C71: E56959100810 | D71: 재실센서 | E71: 화장실용 | F71: EA | G71: 2 | H71: =일대목차!I32 -> 78559 | I71: =TRUNC(G71*H71) -> 157118 | J71: 2 | K71: =일대목차!L32 -> 51998 | L71: =TRUNC(G71*K71) -> 103996 | M71: =일대목차!N32 -> 0 | N71: =TRUNC(G71*M71) -> 0 | P71: =SUM(I71,L71,N71) -> 261114 | Q71: 제 29호
A72: 56959100811 | B72: 00103 | C72: E56959100811 | D72: 조명기구 TYPE A | E72: LED 20W 다운라이트(방습) | F72: 개 | G72: 12 | H72: =일대목차!I33 -> 22494 | I72: =TRUNC(G72*H72) -> 269928 | J72: 12 | K72: =일대목차!L33 -> 49809 | L72: =TRUNC(G72*K72) -> 597708 | M72: =일대목차!N33 -> 0 | N72: =TRUNC(G72*M72) -> 0 | P72: =SUM(I72,L72,N72) -> 867636 | Q72: 제 30호
I73: =TRUNC(G73*H73) -> 0 | L73: =TRUNC(G73*K73) -> 0 | N73: =TRUNC(G73*M73) -> 0 | P73: =SUM(I73,L73,N73) -> 0 | AE73: =TRUNC(SUM(AE56:AE72)) -> 0
I74: =TRUNC(G74*H74) -> 0 | L74: =TRUNC(G74*K74) -> 0 | N74: =TRUNC(G74*M74) -> 0 | P74: =SUM(I74,L74,N74) -> 0
I75: =TRUNC(G75*H75) -> 0 | L75: =TRUNC(G75*K75) -> 0 | N75: =TRUNC(G75*M75) -> 0 | P75: =SUM(I75,L75,N75) -> 0
I76: =TRUNC(G76*H76) -> 0 | L76: =TRUNC(G76*K76) -> 0 | N76: =TRUNC(G76*M76) -> 0 | P76: =SUM(I76,L76,N76) -> 0
I77: =TRUNC(G77*H77) -> 0 | L77: =TRUNC(G77*K77) -> 0 | N77: =TRUNC(G77*M77) -> 0 | P77: =SUM(I77,L77,N77) -> 0
I78: =TRUNC(G78*H78) -> 0 | L78: =TRUNC(G78*K78) -> 0 | N78: =TRUNC(G78*M78) -> 0 | P78: =SUM(I78,L78,N78) -> 0
I79: =TRUNC(G79*H79) -> 0 | L79: =TRUNC(G79*K79) -> 0 | N79: =TRUNC(G79*M79) -> 0 | P79: =SUM(I79,L79,N79) -> 0
I80: =TRUNC(G80*H80) -> 0 | L80: =TRUNC(G80*K80) -> 0 | N80: =TRUNC(G80*M80) -> 0 | P80: =SUM(I80,L80,N80) -> 0
B81: 합계줄 | D81: ( 합 계 ) | I81: =TRUNC(SUM(I56:I80)) -> 627385 | L81: =TRUNC(SUM(L56:L80)) -> 2416829 | N81: =TRUNC(SUM(N56:N80)) -> 519 | P81: =TRUNC(SUM(P56:P80)) -> 3044733
B82: 공종줄 | D82: 1.전기공사::1-4.기타설비공사
A83: 59753017043 | B83: 00104 | C83: 3913170620174434 | D83: 1종금속제가요전선관 | E83: 커넥터, 16 mm 일반-비방수 | F83: 개 | G83: 8 | H83: =합산자재!H5 -> 346 | I83: =TRUNC(G83*H83) -> 2768 | J83: 8 | K83: =합산자재!I5 -> 0 | L83: =TRUNC(G83*K83) -> 0 | M83: =합산자재!J5 -> 0 | N83: =TRUNC(G83*M83) -> 0 | P83: =SUM(I83,L83,N83) -> 2768
A84: 56959100803 | B84: 00104 | C84: EAB110213000 | D84: 1종금속제가요전선관 | E84: 16 mm 고장력-비방수 | F84: m | G84: 20 | H84: =일대목차!I9 -> 970 | I84: =TRUNC(G84*H84) -> 19400 | J84: 20 | K84: =일대목차!L9 -> 12041 | L84: =TRUNC(G84*K84) -> 240820 | M84: =일대목차!N9 -> 0 | N84: =TRUNC(G84*M84) -> 0 | P84: =SUM(I84,L84,N84) -> 260220 | Q84: 제 6호 | AC84: =G84*H84 -> 19400
A85: 5975D767011 | B85: 00104 | C85: E59753767011 | D85: 아우트렛박스 | E85: 8각 54㎜ | F85: 개 | G85: 4 | H85: =일대목차!I11 -> 1623 | I85: =TRUNC(G85*H85) -> 6492 | J85: 4 | K85: =일대목차!L11 -> 32841 | L85: =TRUNC(G85*K85) -> 131364 | M85: =일대목차!N11 -> 0 | N85: =TRUNC(G85*M85) -> 0 | P85: =SUM(I85,L85,N85) -> 137856 | Q85: 제 8호
A86: 59753767201 | B86: 00104 | C86: 3912130820174710 | D86: 아우트렛박스 커버 | E86: 커버, 8각, 평형 | F86: 개 | G86: 4 | H86: =합산자재!H14 -> 343 | I86: =TRUNC(G86*H86) -> 1372 | J86: 4 | K86: =합산자재!I14 -> 0 | L86: =TRUNC(G86*K86) -> 0 | M86: =합산자재!J14 -> 0 | N86: =TRUNC(G86*M86) -> 0 | P86: =SUM(I86,L86,N86) -> 1372
A87: 6145F137894 | B87: 00104 | C87: E61455137894 | D87: 정션 박스 | E87: 100*100*50 | F87: EA | G87: 1 | H87: =일대목차!I15 -> 3018 | I87: =TRUNC(G87*H87) -> 3018 | J87: 1 | K87: =일대목차!L15 -> 10947 | L87: =TRUNC(G87*K87) -> 10947 | M87: =일대목차!N15 -> 0 | N87: =TRUNC(G87*M87) -> 0 | P87: =SUM(I87,L87,N87) -> 13965 | Q87: 제 12호
A88: 56959100805 | B88: 00104 | C88: EAB110215000 | D88: 450/750V 내열비닐절연전선 | E88: HFIX 1.38mm(1.5㎟) | F88: m | G88: 68 | H88: =일대목차!I19 -> 480 | I88: =TRUNC(G88*H88) -> 32640 | J88: 68 | K88: =일대목차!L19 -> 2736 | L88: =TRUNC(G88*K88) -> 186048 | M88: =일대목차!N19 -> 0 | N88: =TRUNC(G88*M88) -> 0 | P88: =SUM(I88,L88,N88) -> 218688 | Q88: 제 16호 | AC88: =G88*H88 -> 32640
A89: 6350A197001 | B89: 00104 | C89: E63500197001 | D89: 화재감지기 | E89: 열감지기,차동식스포트형 | F89: 개 | G89: 2 | H89: =일대목차!I27 -> 5156 | I89: =TRUNC(G89*H89) -> 10312 | J89: 2 | K89: =일대목차!L27 -> 35577 | L89: =TRUNC(G89*K89) -> 71154 | M89: =일대목차!N27 -> 0 | N89: =TRUNC(G89*M89) -> 0 | P89: =SUM(I89,L89,N89) -> 81466 | Q89: 제 24호
A90: 56953100908 | B90: 00104 | C90: EAB110220000 | D90: 벽관통 구멍(방화실링) | E90: Φ50-벽두께 25cm | F90: 개소 | G90: 1 | H90: =일대목차!I5 -> 4407 | I90: =TRUNC(G90*H90) -> 4407 | J90: 1 | K90: =일대목차!L5 -> 104903 | L90: =TRUNC(G90*K90) -> 104903 | M90: =일대목차!N5 -> 519 | N90: =TRUNC(G90*M90) -> 519 | P90: =SUM(I90,L90,N90) -> 109829 | Q90: 제 2호
A91: 56959100807 | B91: 00104 | C91: EAB110217000 | D91: BGM 스피커 | E91: 천정매입형(3W) | F91: 개 | G91: 2 | H91: =일대목차!I29 -> 351987 | I91: =TRUNC(G91*H91) -> 703974 | J91: 2 | K91: =일대목차!L29 -> 66260 | L91: =TRUNC(G91*K91) -> 132520 | M91: =일대목차!N29 -> 0 | N91: =TRUNC(G91*M91) -> 0 | P91: =SUM(I91,L91,N91) -> 836494 | Q91: 제 26호
I92: =TRUNC(G92*H92) -> 0 | L92: =TRUNC(G92*K92) -> 0 | N92: =TRUNC(G92*M92) -> 0 | P92: =SUM(I92,L92,N92) -> 0 | AE92: =TRUNC(SUM(AE82:AE91)) -> 0
I93: =TRUNC(G93*H93) -> 0 | L93: =TRUNC(G93*K93) -> 0 | N93: =TRUNC(G93*M93) -> 0 | P93: =SUM(I93,L93,N93) -> 0
I94: =TRUNC(G94*H94) -> 0 | L94: =TRUNC(G94*K94) -> 0 | N94: =TRUNC(G94*M94) -> 0 | P94: =SUM(I94,L94,N94) -> 0
I95: =TRUNC(G95*H95) -> 0 | L95: =TRUNC(G95*K95) -> 0 | N95: =TRUNC(G95*M95) -> 0 | P95: =SUM(I95,L95,N95) -> 0
I96: =TRUNC(G96*H96) -> 0 | L96: =TRUNC(G96*K96) -> 0 | N96: =TRUNC(G96*M96) -> 0 | P96: =SUM(I96,L96,N96) -> 0
I97: =TRUNC(G97*H97) -> 0 | L97: =TRUNC(G97*K97) -> 0 | N97: =TRUNC(G97*M97) -> 0 | P97: =SUM(I97,L97,N97) -> 0
I98: =TRUNC(G98*H98) -> 0 | L98: =TRUNC(G98*K98) -> 0 | N98: =TRUNC(G98*M98) -> 0 | P98: =SUM(I98,L98,N98) -> 0
I99: =TRUNC(G99*H99) -> 0 | L99: =TRUNC(G99*K99) -> 0 | N99: =TRUNC(G99*M99) -> 0 | P99: =SUM(I99,L99,N99) -> 0
I100: =TRUNC(G100*H100) -> 0 | L100: =TRUNC(G100*K100) -> 0 | N100: =TRUNC(G100*M100) -> 0 | P100: =SUM(I100,L100,N100) -> 0
...

Sheet 내역서(반도체고)
A1: 총줄수-> | B1: 55 | D1: [ 서울반도체고등학교 학생식당 냉난방개선 전기공사 ] | W1: 노임 계산 정보 | AA1: 부속재 및 손료
A2: 번호 | B2: 공종코드 | C2: 코드 | D2: 명 칭 | E2: 규 격 | F2: 단위 | G2: 수량 | H2: 재료비 | J2: 노무비 | M2: 경비 | P2: 계 | Q2: 비고 | W2: 노임계 | X2: 전체(%) | Y2: 공종별(%) | Z2: 노임 소수 | AA2: CD배관재 | AB2: 일반배관재 | AC2: 소모재 | AD2: 자재계 | AE2: 노임계
H3: 단가 | I3: 금액 | J3: 수량 | K3: 단가 | L3: 금액 | M3: 단가 | N3: 금액 | O3: 단가 | AD3: 1 | AE3: 1
B4: 공종줄 | D4: 1.전기공사::1-1.냉난방공사
A5: 59750337004 | B5: 0101 | C5: 3913170610034835 | D5: 강제전선관 | E5: 아연도 36 mm | F5: m | G5: 5 | H5: 5134 | I5: =TRUNC(G5*H5) -> 25670 | J5: 4 | K5: 0 | L5: =TRUNC(G5*K5) -> 0 | M5: 0 | N5: =TRUNC(G5*M5) -> 0 | O5: =IF((H5+K5+M5)=0, "", (H5+K5+M5)) -> 5134 | P5: =SUM(I5,L5,N5) -> 25670 | AB5: =I5 -> 25670 | AC5: =G5*H5 -> 25670
A6: A0500000000 | B6: 0101 | C6: RENT000000000002 | D6: [ 배관 부속재 ] | E6: 전선관의 15 % | F6: 식 | G6: 1 | H6: 3850 | I6: =TRUNC(G6*H6) -> 3850 | J6: 1 | L6: =TRUNC(G6*K6) -> 0 | N6: =TRUNC(G6*M6) -> 0 | O6: =IF((H6+K6+M6)=0, "", (H6+K6+M6)) -> 3850 | P6: =SUM(I6,L6,N6) -> 3850 | AB6: =TRUNC(SUM(AB4:AB5)) -> 25670
A7: 59753017003 | B7: 010104 | C7: 3913170620174410 | D7: 가요전선관 | E7: 16mm 비방수 | F7: m | G7: 18 | H7: 544 | I7: =TRUNC(G7*H7) -> 9792 | J7: 16 | K7: 0 | L7: =TRUNC(G7*K7) -> 0 | M7: 0 | N7: =TRUNC(G7*M7) -> 0 | O7: =IF((H7+K7+M7)=0, "", (H7+K7+M7)) -> 544 | P7: =SUM(I7,L7,N7) -> 9792 | AC7: =G7*H7 -> 9792
A8: MM496797030 | B8: 0101 | C8: 3913170620174471 | D8: 가요전선관 | E8: 22mm 고장력 방수 | F8: m | G8: 9 | H8: 1380 | I8: =TRUNC(G8*H8) -> 12420 | J8: 8 | K8: 0 | L8: =TRUNC(G8*K8) -> 0 | M8: 0 | N8: =TRUNC(G8*M8) -> 0 | O8: =IF((H8+K8+M8)=0, "", (H8+K8+M8)) -> 1380 | P8: =SUM(I8,L8,N8) -> 12420 | AC8: =G8*H8 -> 12420
A9: MM496797032 | B9: 0101 | C9: 3913170620174473 | D9: 가요전선관 | E9: 36mm 고장력 방수 | F9: m | G9: 13 | H9: 2710 | I9: =TRUNC(G9*H9) -> 35230 | J9: 11 | K9: 0 | L9: =TRUNC(G9*K9) -> 0 | M9: 0 | N9: =TRUNC(G9*M9) -> 0 | O9: =IF((H9+K9+M9)=0, "", (H9+K9+M9)) -> 2710 | P9: =SUM(I9,L9,N9) -> 35230 | AC9: =G9*H9 -> 35230
A10: 59753017043 | B10: 010104 | C10: 3913170620174434 | D10: 가요콘넥터 | E10: 16mm 비방수 | F10: EA | G10: 32 | H10: 346 | I10: =TRUNC(G10*H10) -> 11072 | J10: 32 | K10: 0 | L10: =TRUNC(G10*K10) -> 0 | M10: 0 | N10: =TRUNC(G10*M10) -> 0 | O10: =IF((H10+K10+M10)=0, "", (H10+K10+M10)) -> 346 | P10: =SUM(I10,L10,N10) -> 11072
A11: MM618792343 | B11: 0101 | C11: 3912120220176447 | D11: 가요콘넥터 | E11: 22mm 고장력 방수 | F11: EA | G11: 8 | H11: 1000 | I11: =TRUNC(G11*H11) -> 8000 | J11: 8 | K11: 0 | L11: =TRUNC(G11*K11) -> 0 | M11: 0 | N11: =TRUNC(G11*M11) -> 0 | O11: =IF((H11+K11+M11)=0, "", (H11+K11+M11)) -> 1000 | P11: =SUM(I11,L11,N11) -> 8000
A12: MM618792345 | B12: 0101 | C12: 3912120220176449 | D12: 가요콘넥터 | E12: 36mm 고장력 방수 | F12: EA | G12: 6 | H12: 1980 | I12: =TRUNC(G12*H12) -> 11880 | J12: 6 | K12: 0 | L12: =TRUNC(G12*K12) -> 0 | M12: 0 | N12: =TRUNC(G12*M12) -> 0 | O12: =IF((H12+K12+M12)=0, "", (H12+K12+M12)) -> 1980 | P12: =SUM(I12,L12,N12) -> 11880
A13: 59753767041 | B13: 0101 | C13: 3912130810035753 | D13: Outlet Box | E13: 4각 54㎜ | F13: EA | G13: 17 | H13: 973 | I13: =TRUNC(G13*H13) -> 16541 | J13: 17 | K13: 0 | L13: =TRUNC(G13*K13) -> 0 | M13: 0 | N13: =TRUNC(G13*M13) -> 0 | O13: =IF((H13+K13+M13)=0, "", (H13+K13+M13)) -> 973 | P13: =SUM(I13,L13,N13) -> 16541
A14: 59753767251 | B14: 0101 | C14: 3912130820174715 | D14: Box Cover | E14: 4각 | F14: EA | G14: 17 | H14: 343 | I14: =TRUNC(G14*H14) -> 5831 | J14: 17 | K14: 0 | L14: =TRUNC(G14*K14) -> 0 | M14: 0 | N14: =TRUNC(G14*M14) -> 0 | O14: =IF((H14+K14+M14)=0, "", (H14+K14+M14)) -> 343 | P14: =SUM(I14,L14,N14) -> 5831
A15: 59753857021 | B15: 0101 | C15: 3912130310035796 | D15: PULL BOX | E15: 100×100×100 | F15: EA | G15: 4 | H15: 2864 | I15: =TRUNC(G15*H15) -> 11456 | J15: 4 | K15: 0 | L15: =TRUNC(G15*K15) -> 0 | M15: 0 | N15: =TRUNC(G15*M15) -> 0 | O15: =IF((H15+K15+M15)=0, "", (H15+K15+M15)) -> 2864 | P15: =SUM(I15,L15,N15) -> 11456
A16: MM481669624 | B16: 010104 | C16: 2612162922076727 | D16: HFIX WIRE(단선) | E16: 2.5㎟ | F16: m | G16: 80 | H16: 544 | I16: =TRUNC(G16*H16) -> 43520 | J16: 72 | K16: 0 | L16: =TRUNC(G16*K16) -> 0 | M16: 0 | N16: =TRUNC(G16*M16) -> 0 | O16: =IF((H16+K16+M16)=0, "", (H16+K16+M16)) -> 544 | P16: =SUM(I16,L16,N16) -> 43520 | AC16: =G16*H16 -> 43520
A17: E1450927204 | B17: 0101 | C17: 2612152420683698 | D17: F-GV WIRE | E17: 10㎟ | F17: m | G17: 21 | H17: 2090 | I17: =TRUNC(G17*H17) -> 43890 | J17: 19 | K17: 0 | L17: =TRUNC(G17*K17) -> 0 | M17: 0 | N17: =TRUNC(G17*M17) -> 0 | O17: =IF((H17+K17+M17)=0, "", (H17+K17+M17)) -> 2090 | P17: =SUM(I17,L17,N17) -> 43890 | AC17: =G17*H17 -> 43890
A18: E1450287524 | B18: 0101 | C18: 2612162920683905 | D18: F-CV CABLE(0.6/1kv) | E18: 2C×10㎟ | F18: m | G18: 20 | H18: 5105 | I18: =TRUNC(G18*H18) -> 102100 | J18: 19 | K18: 0 | L18: =TRUNC(G18*K18) -> 0 | M18: 0 | N18: =TRUNC(G18*M18) -> 0 | O18: =IF((H18+K18+M18)=0, "", (H18+K18+M18)) -> 5105 | P18: =SUM(I18,L18,N18) -> 102100 | AC18: =G18*H18 -> 102100
A19: E1450287538 | B19: 0101 | C19: 2612162920683921 | D19: F-CV CABLE(0.6/1kv) | E19: 3C×2.5㎟ | F19: m | G19: 11 | H19: 2388 | I19: =TRUNC(G19*H19) -> 26268 | J19: 10 | K19: 0 | L19: =TRUNC(G19*K19) -> 0 | M19: 0 | N19: =TRUNC(G19*M19) -> 0 | O19: =IF((H19+K19+M19)=0, "", (H19+K19+M19)) -> 2388 | P19: =SUM(I19,L19,N19) -> 26268 | AC19: =G19*H19 -> 26268
A20: MM996337455 | B20: 0101 | C20: InMastDBNonCode | D20: 방화폼 | F20: 리터 | G20: 1 | H20: 16800 | I20: =TRUNC(G20*H20) -> 16800 | J20: 1 | K20: 0 | L20: =TRUNC(G20*K20) -> 0 | M20: 0 | N20: =TRUNC(G20*M20) -> 0 | O20: =IF((H20+K20+M20)=0, "", (H20+K20+M20)) -> 16800 | P20: =SUM(I20,L20,N20) -> 16800
A21: MM996337457 | B21: 0101 | C21: InMastDBNonCode | D21: 방화폼용 폼건 | F21: EA | G21: 1 | H21: 10000 | I21: =TRUNC(G21*H21) -> 10000 | J21: 1 | K21: 0 | L21: =TRUNC(G21*K21) -> 0 | M21: 0 | N21: =TRUNC(G21*M21) -> 0 | O21: =IF((H21+K21+M21)=0, "", (H21+K21+M21)) -> 10000 | P21: =SUM(I21,L21,N21) -> 10000
A22: MM934332953 | B22: 0101 | C22: InMastDBNonCode | D22: 벽관통 | E22: 150mm 이하 | F22: 개소 | G22: 2 | H22: 0 | I22: =TRUNC(G22*H22) -> 0 | J22: 2 | K22: 0 | L22: =TRUNC(G22*K22) -> 0 | M22: 0 | N22: =TRUNC(G22*M22) -> 0 | O22: =IF((H22+K22+M22)=0, "", (H22+K22+M22)) | P22: =SUM(I22,L22,N22) -> 0 | Q22: 인건비계상
A23: MM060264559 | B23: 0101 | C23: InMastDBNonCode | D23: 가요전선관(재사용철거) | E23: 고장력 방수42 mm | F23: Μ | G23: 2 | H23: 0 | I23: =TRUNC(G23*H23) -> 0 | J23: 2 | K23: 0 | L23: =TRUNC(G23*K23) -> 0 | M23: 0 | N23: =TRUNC(G23*M23) -> 0 | O23: =IF((H23+K23+M23)=0, "", (H23+K23+M23)) | P23: =SUM(I23,L23,N23) -> 0 | Q23: 인건비계상
A24: MM060264558 | B24: 0101 | C24: InMastDBNonCode | D24: 가요전선관(재설치) | E24: 고장력 방수42 mm | F24: Μ | G24: 2 | H24: 0 | I24: =TRUNC(G24*H24) -> 0 | J24: 2 | K24: 0 | L24: =TRUNC(G24*K24) -> 0 | M24: 0 | N24: =TRUNC(G24*M24) -> 0 | O24: =IF((H24+K24+M24)=0, "", (H24+K24+M24)) | P24: =SUM(I24,L24,N24) -> 0 | Q24: 인건비계상
A25: MM937497202 | B25: 0101 | C25: InMastDBNonCode | D25: F-GV WIRE(재사용철거) | E25: 16㎟ | F25: Μ | G25: 2 | H25: 0 | I25: =TRUNC(G25*H25) -> 0 | J25: 2 | K25: 0 | L25: =TRUNC(G25*K25) -> 0 | M25: 0 | N25: =TRUNC(G25*M25) -> 0 | O25: =IF((H25+K25+M25)=0, "", (H25+K25+M25)) | P25: =SUM(I25,L25,N25) -> 0 | Q25: 인건비계상
A26: MM937497243 | B26: 0101 | C26: InMastDBNonCode | D26: F-GV WIRE(재설치) | E26: 16㎟ | F26: Μ | G26: 2 | H26: 0 | I26: =TRUNC(G26*H26) -> 0 | J26: 2 | K26: 0 | L26: =TRUNC(G26*K26) -> 0 | M26: 0 | N26: =TRUNC(G26*M26) -> 0 | O26: =IF((H26+K26+M26)=0, "", (H26+K26+M26)) | P26: =SUM(I26,L26,N26) -> 0 | Q26: 인건비계상
A27: MM946568502 | B27: 0101 | C27: InMastDBNonCode | D27: F-CV CABLE(재사용철거) | E27: 4C×16㎟ | F27: Μ | G27: 2 | H27: 0 | I27: =TRUNC(G27*H27) -> 0 | J27: 2 | K27: 0 | L27: =TRUNC(G27*K27) -> 0 | M27: 0 | N27: =TRUNC(G27*M27) -> 0 | O27: =IF((H27+K27+M27)=0, "", (H27+K27+M27)) | P27: =SUM(I27,L27,N27) -> 0 | Q27: 인건비계상
A28: MM946568503 | B28: 0101 | C28: InMastDBNonCode | D28: F-CV CABLE(재설치) | E28: 4C×16㎟ | F28: Μ | G28: 2 | H28: 0 | I28: =TRUNC(G28*H28) -> 0 | J28: 2 | K28: 0 | L28: =TRUNC(G28*K28) -> 0 | M28: 0 | N28: =TRUNC(G28*M28) -> 0 | O28: =IF((H28+K28+M28)=0, "", (H28+K28+M28)) | P28: =SUM(I28,L28,N28) -> 0 | Q28: 인건비계상
A29: MM059756953 | B29: 0101 | C29: InMastDBNonCode | D29: 기존 실내기 전원선 재결선 | F29: 개소 | G29: 16 | H29: 0 | I29: =TRUNC(G29*H29) -> 0 | J29: 16 | K29: 0 | L29: =TRUNC(G29*K29) -> 0 | M29: 0 | N29: =TRUNC(G29*M29) -> 0 | O29: =IF((H29+K29+M29)=0, "", (H29+K29+M29)) | P29: =SUM(I29,L29,N29) -> 0 | Q29: 인건비계상
A30: MM059756952 | B30: 0101 | C30: InMastDBNonCode | D30: 기존 실내기 전원선 결선해체 | F30: 개소 | G30: 16 | H30: 0 | I30: =TRUNC(G30*H30) -> 0 | J30: 16 | K30: 0 | L30: =TRUNC(G30*K30) -> 0 | M30: 0 | N30: =TRUNC(G30*M30) -> 0 | O30: =IF((H30+K30+M30)=0, "", (H30+K30+M30)) | P30: =SUM(I30,L30,N30) -> 0 | Q30: 인건비계상
A31: MM059756955 | B31: 0101 | C31: InMastDBNonCode | D31: 분전반(철거) | E31: PN-PH | F31: 면 | G31: 1 | H31: 0 | I31: =TRUNC(G31*H31) -> 0 | J31: 1 | K31: 0 | L31: =TRUNC(G31*K31) -> 0 | M31: 0 | N31: =TRUNC(G31*M31) -> 0 | O31: =IF((H31+K31+M31)=0, "", (H31+K31+M31)) | P31: =SUM(I31,L31,N31) -> 0 | Q31: 인건비계상
A32: MM060264551 | B32: 0101 | C32: InMastDBNonCode | D32: 분전반 | E32: PN-PH | F32: 면 | G32: 1 | H32: 828000 | I32: =TRUNC(G32*H32) -> 828000 | J32: 1 | K32: 0 | L32: =TRUNC(G32*K32) -> 0 | M32: 0 | N32: =TRUNC(G32*M32) -> 0 | O32: =IF((H32+K32+M32)=0, "", (H32+K32+M32)) -> 828000 | P32: =SUM(I32,L32,N32) -> 828000
A33: 56800017200 | B33: 0101 | C33: S56800017200 | D33: PIPE SUPPORT(벽체) | E33: 36 C | F33: 개소 | G33: 2 | H33: 2584 | I33: =TRUNC(G33*H33) -> 5168 | J33: 2 | K33: 19704 | L33: =TRUNC(G33*K33) -> 39408 | M33: 0 | N33: =TRUNC(G33*M33) -> 0 | O33: =IF((H33+K33+M33)=0, "", (H33+K33+M33)) -> 22288 | P33: =SUM(I33,L33,N33) -> 44576 | Q33: 36호
A34: A0100000000 | B34: 0101 | C34: RENT000000000003 | D34: [ 소모 잡자재 ] | E34: 전선, 전선관의 2 % | F34: 식 | G34: 1 | H34: 5977 | I34: =H34 -> 5977 | J34: 1 | L34: =TRUNC(G34*K34) -> 0 | N34: =TRUNC(G34*M34) -> 0 | O34: =IF((H34+K34+M34)=0, "", (H34+K34+M34)) -> 5977 | P34: =SUM(I34,L34,N34) -> 5977 | AC34: 5977 | AD34: =TRUNC(SUM(I4:I33))+TRUNC(SUM(N4:N33)) -> 1227488
A35: 56900017016 | B35: 0101 | C35: L001010101000075 | D35: 노 무 비 | E35: 내선전공 | F35: 인 | G35: 10 | H35: 0 | I35: =TRUNC(G35*H35) -> 0 | J35: 10 | K35: 273676 | L35: =TRUNC(G35*K35) -> 2736760 | M35: 0 | N35: =TRUNC(G35*M35) -> 0 | O35: =IF((H35+K35+M35)=0, "", (H35+K35+M35)) -> 273676 | P35: =SUM(I35,L35,N35) -> 2736760 | AE35: =L35 -> 2736760
A36: 56900017076 | B36: 0101 | C36: L001010101000078 | D36: 노 무 비 | E36: 저압케이블전공 | F36: 인 | G36: 1 | H36: 0 | I36: =TRUNC(G36*H36) -> 0 | J36: 1 | K36: 304156 | L36: =TRUNC(G36*K36) -> 304156 | M36: 0 | N36: =TRUNC(G36*M36) -> 0 | O36: =IF((H36+K36+M36)=0, "", (H36+K36+M36)) -> 304156 | P36: =SUM(I36,L36,N36) -> 304156 | AE36: =L36 -> 304156
A37: A0300000000 | B37: 0101 | C37: RENT000000000006 | D37: [ 공 구 손 료 ] | E37: 노무비의 3 % | F37: 식 | G37: 1 | H37: 91227 | I37: =H37 -> 91227 | J37: 1 | L37: =TRUNC(G37*K37) -> 0 | N37: =TRUNC(G37*M37) -> 0 | O37: =IF((H37+K37+M37)=0, "", (H37+K37+M37)) -> 91227 | P37: =SUM(I37,L37,N37) -> 91227
AC38: 91227 | AD38: =TRUNC(SUM(L4:L36)) -> 3080324 | AE38: =TRUNC(SUM(AE4:AE37)) -> 3040916
B55: 합계줄 | D55: ( 합 계 ) | I55: =TRUNC(SUM(I4:I54)) -> 1324692 | L55: =TRUNC(SUM(L4:L54)) -> 3080324 | N55: =TRUNC(SUM(N4:N54)) -> 0 | O55: =IF((H55+K55+M55)=0, "", (H55+K55+M55)) | P55: =TRUNC(SUM(P4:P54)) -> 4405016

Sheet 노임근거
B1: 29 | D1: [ 서울반도체고등학교 학생식당 냉난방개선 전기공사 ] - 노임 산출근거 | AA1: 내선전공 | AB1: 저압케이블전공 | AC1: 특별인부 | AD1: 방수공
A2: 번호 | B2: 공종코드 | C2: 코드 | D2: 명 칭 | E2: 규 격 | F2: 단위 | G2: 수량 | K2: 코드 | L2: 공량산출 | P2: 단 위 단 가 산 출 | S2: 품셈근거 | T2: 비고
G3: 결정수량 | H3: 할증 | I3: 산출수량 | J3: 재할% | L3: 명칭 | M3: 품셈 | N3: 노할% | O3: 공량 | P3: 단가 | Q3: 단위단가 | R3: 단위계
B4: 공종줄 | D4: 1.서울반도체고등학교 학생식당 냉난방개선 전기공사::1-1.냉난방공사
B5: 0101 | C5: 3913170610034835 | D5: 강제전선관 | E5: 아연도 36 mm | F5: m | G5: 5 | H5: 1 | I5: 4 | J5: 10 | K5: 56900017016 | L5: 내선전공 | M5: 0.2 | N5: 90 | O5: 0.72 | Q5: 0 | S5: 전기5-1 | AA5: 0.72
B6: 010102 | C6: 3913170620174410 | D6: 가요전선관 | E6: 16mm 비방수 | F6: m | G6: 18 | H6: 2 | I6: 16 | J6: 10 | K6: 56900017016 | L6: 내선전공 | M6: 0.044 | N6: 100 | O6: 0.704 | Q6: 0 | S6: 전기5-1 | AA6: 0.704
B7: 0101 | C7: 3913170620174471 | D7: 가요전선관 | E7: 22mm 고장력 방수 | F7: m | G7: 9 | H7: 1 | I7: 8 | J7: 10 | K7: 56900017016 | L7: 내선전공 | M7: 0.059 | N7: 90 | O7: 0.4248 | Q7: 0 | S7: 전기5-1 | AA7: 0.4248
B8: 0101 | C8: 3913170620174473 | D8: 가요전선관 | E8: 36mm 고장력 방수 | F8: m | G8: 13 | H8: 2 | I8: 11 | J8: 10 | K8: 56900017016 | L8: 내선전공 | M8: 0.087 | N8: 90 | O8: 0.8613 | Q8: 0 | S8: 전기5-1 | AA8: 0.8613
B9: 0101 | C9: 3912130810035753 | D9: Outlet Box | E9: 4각 54㎜ | F9: EA | G9: 17 | H9: 0 | I9: 17 | K9: 56900017016 | L9: 내선전공 | M9: 0.2 | N9: 90 | O9: 3.06 | Q9: 0 | S9: 전기5-4 | AA9: 3.06
B10: 0101 | C10: 3912130820174715 | D10: Box Cover | E10: 4각 | F10: EA | G10: 17 | H10: 0 | I10: 17 | K10: 56900017016 | L10: 내선전공 | M10: 0.03 | N10: 90 | O10: 0.459 | Q10: 0 | S10: 전기5-29 | AA10: 0.459
B11: 0101 | C11: 3912130310035796 | D11: PULL BOX | E11: 100×100×100 | F11: EA | G11: 4 | H11: 0 | I11: 4 | K11: 56900017016 | L11: 내선전공 | M11: 0.04 | N11: 90 | O11: 0.144 | Q11: 0 | S11: 전기5-4 | AA11: 0.144
B12: 010102 | C12: 2612162922076727 | D12: HFIX WIRE(단선) | E12: 2.5㎟ | F12: m | G12: 80 | H12: 8 | I12: 72 | J12: 10 | K12: 56900017016 | L12: 내선전공 | M12: 0.01 | N12: 100 | O12: 0.72 | Q12: 0 | S12: 전기5-10 | AA12: 0.72
B13: 0101 | C13: 2612152420683698 | D13: F-GV WIRE | E13: 10㎟ | F13: m | G13: 21 | H13: 2 | I13: 19 | J13: 10 | K13: 56900017016 | L13: 내선전공 | M13: 0.006 | N13: 150 | O13: 0.171 | Q13: 0 | S13: 전기3-38 | AA13: 0.171
B14: 0101 | C14: 2612162920683905 | D14: F-CV CABLE(0.6/1kv) | E14: 2C×10㎟ | F14: m | G14: 20 | H14: 1 | I14: 19 | J14: 5 | K14: 56900017076 | L14: 저압케이블전공 | M14: 0.025 | N14: 100 | O14: 0.475 | Q14: 0 | S14: 전기5-13 | AB14: 0.475
B15: 0101 | C15: 2612162920683921 | D15: F-CV CABLE(0.6/1kv) | E15: 3C×2.5㎟ | F15: m | G15: 11 | H15: 1 | I15: 10 | J15: 5 | K15: 56900017076 | L15: 저압케이블전공 | M15: 0.019 | N15: 100 | O15: 0.19 | Q15: 0 | S15: 전기5-13 | AB15: 0.19
B16: 0101 | C16: InMastDBNonCode | D16: 방화폼 | F16: 리터 | G16: 1 | H16: 0 | I16: 1 | K16: 56900017029 | L16: 내선전공 | M16: 0.3 | N16: 100 | O16: 0.3 | Q16: 0 | AA16: 0.3
B17: 0101 | C17: InMastDBNonCode | D17: 벽관통 | E17: 150mm 이하 | F17: 개소 | G17: 2 | H17: 0 | I17: 2 | K17: 56900017118 | L17: 내선전공 | M17: 0.13 | N17: 50 | O17: 0.13 | Q17: 0 | T17: 인건비계상 | AA17: 0.13
B18: 0101 | C18: InMastDBNonCode | D18: 가요전선관(재사용철거) | E18: 고장력 방수42 mm | F18: Μ | G18: 2 | H18: 0 | I18: 2 | K18: 56900017016 | L18: 내선전공 | M18: 0.104 | N18: 40 | O18: 0.0832 | Q18: 0 | S18: 전기5-1 | T18: 인건비계상 | AA18: 0.0832
B19: 0101 | C19: InMastDBNonCode | D19: 가요전선관(재설치) | E19: 고장력 방수42 mm | F19: Μ | G19: 2 | H19: 0 | I19: 2 | K19: 56900017016 | L19: 내선전공 | M19: 0.104 | N19: 100 | O19: 0.208 | Q19: 0 | S19: 전기5-1 | T19: 인건비계상 | AA19: 0.208
B20: 0101 | C20: InMastDBNonCode | D20: F-GV WIRE(재사용철거) | E20: 16㎟ | F20: Μ | G20: 2 | H20: 0 | I20: 2 | K20: 56900017016 | L20: 내선전공 | M20: 0.007 | N20: 50 | O20: 0.007 | Q20: 0 | S20: 전기3-38 | T20: 인건비계상 | AA20: 0.007
B21: 0101 | C21: InMastDBNonCode | D21: F-GV WIRE(재설치) | E21: 16㎟ | F21: Μ | G21: 2 | H21: 0 | I21: 2 | K21: 56900017016 | L21: 내선전공 | M21: 0.007 | N21: 100 | O21: 0.014 | Q21: 0 | S21: 전기3-38 | T21: 인건비계상 | AA21: 0.014
B22: 0101 | C22: InMastDBNonCode | D22: F-CV CABLE(재사용철거) | E22: 4C×16㎟ | F22: Μ | G22: 2 | H22: 0 | I22: 2 | K22: 56900017076 | L22: 저압케이블전공 | M22: 0.0598 | N22: 90 | O22: 0.10764 | Q22: 0 | S22: 전기5-11 | T22: 인건비계상 | AB22: 0.10764
B23: 0101 | C23: InMastDBNonCode | D23: F-CV CABLE(재설치) | E23: 4C×16㎟ | F23: Μ | G23: 2 | H23: 0 | I23: 2 | K23: 56900017076 | L23: 저압케이블전공 | M23: 0.0598 | N23: 100 | O23: 0.1196 | Q23: 0 | S23: 전기5-11 | T23: 인건비계상 | AB23: 0.1196
B24: 0101 | C24: InMastDBNonCode | D24: 기존 실내기 전원선 재결선 | F24: 개소 | G24: 16 | H24: 0 | I24: 16 | K24: 56900017016 | L24: 내선전공 | M24: 0.03 | N24: 100 | O24: 0.48 | Q24: 0 | T24: 인건비계상 | AA24: 0.48
B25: 0101 | C25: InMastDBNonCode | D25: 기존 실내기 전원선 결선해체 | F25: 개소 | G25: 16 | H25: 0 | I25: 16 | K25: 56900017016 | L25: 내선전공 | M25: 0.03 | N25: 50 | O25: 0.24 | Q25: 0 | T25: 인건비계상 | AA25: 0.24
B26: 0101 | C26: InMastDBNonCode | D26: 분전반(철거) | E26: PN-PH | F26: 면 | G26: 1 | H26: 0 | I26: 1 | K26: 56900017016 | L26: 내선전공 | M26: 1.23 | N26: 30 | O26: 0.369 | Q26: 0 | S26: 전기5-4 | T26: 인건비계상 | AA26: 0.369
B27: 0101 | C27: InMastDBNonCode | D27: 분전반 | E27: PN-PH | F27: 면 | G27: 1 | H27: 0 | I27: 1 | K27: 56900017016 | L27: 내선전공 | M27: 1.23 | N27: 100 | O27: 1.23 | Q27: 0 | S27: 전기5-4 | AA27: 1.23
B28: 0101 | C28: L001010101000075 | D28: 노 무 비 | E28: 내선전공 | F28: 인 | G28: 10 | H28: 100 | I28: 10.3253 | J28: 0 | Q28: 0 | Z28: 노임계 | AA28: 10.3253 | AB28: 0.89224 | AC28: 0 | AD28: 0
B29: 0101 | C29: L001010101000078 | D29: 노 무 비 | E29: 저압케이블전공 | F29: 인 | G29: 1 | H29: 100 | I29: 0.89224 | J29: 0 | Q29: 0

Sheet 일대목차
A1: 총줄수-> | B1: 55 | C1: [ 전곡초 외 1교(반도체고) 화장실 및 냉난방개선 전기공사 ] - 일위대가목차
A2: 번호 | B2: … | C2: 코드 | D2: 명 칭 | E2: 규 격 | F2: 단위 | G2: 수량 | H2: 재료비 | J2: 노무비 | M2: 경비 | O2: 계 | P2: 계 | Q2: 비고
H3: 단가 | I3: 금액 | J3: 수량 | K3: 단가 | L3: 금액 | M3: 단가 | N3: 금액 | O3: 단가
A4: 56950170114 | B4: EAA110640000 | C4: 제 1호 | D4: TRAY SUPPORT | E4: W300-1단 | F4: 식 | H4: =일위대가!I13 -> 5439 | I4: =H4 -> 5439 | K4: =일위대가!L13 -> 19704 | L4: =K4 -> 19704 | M4: =일위대가!N13 -> 0 | N4: =M4 -> 0 | P4: =I4+L4+N4 -> 25143
A5: 56953100908 | B5: EAB110220000 | C5: 제 2호 | D5: 벽관통 구멍(방화실링) | E5: Φ50-벽두께 25cm | F5: 개소 | H5: =일위대가!I21 -> 4407 | I5: =H5 -> 4407 | K5: =일위대가!L21 -> 104903 | L5: =K5 -> 104903 | M5: =일위대가!N21 -> 519 | N5: =M5 -> 519 | P5: =I5+L5+N5 -> 109829
A6: 56959100801 | B6: EAB110211000 | C6: 제 3호 | D6: 배관용 홈파기 | E6: Φ22이하 | F6: m | H6: =일위대가!I26 -> 412 | I6: =H6 -> 412 | K6: =일위대가!L26 -> 13765 | L6: =K6 -> 13765 | M6: =일위대가!N26 -> 0 | N6: =M6 -> 0 | P6: =I6+L6+N6 -> 14177
A7: 56959100802 | B7: EAB110212000 | C7: 제 4호 | D7: 파이프지지대 벽체 | E7: 42C | F7: 개 | H7: =일위대가!I37 -> 2290 | I7: =H7 -> 2290 | K7: =일위대가!L37 -> 9852 | L7: =K7 -> 9852 | M7: =일위대가!N37 -> 0 | N7: =M7 -> 0 | P7: =I7+L7+N7 -> 12142
A8: 5975A337015 | B8: E59750337015 | C8: 제 5호 | D8: 강제전선관(노출) | E8: 아연도 42 mm | F8: M | H8: =일위대가!I46 -> 9544 | I8: =H8 -> 9544 | K8: =일위대가!L46 -> 68419 | L8: =K8 -> 68419 | M8: =일위대가!N46 -> 0 | N8: =M8 -> 0 | P8: =I8+L8+N8 -> 77963
A9: 56959100803 | B9: EAB110213000 | C9: 제 6호 | D9: 1종금속제가요전선관 | E9: 16 mm 고장력-비방수 | F9: M | H9: =일위대가!I54 -> 970 | I9: =H9 -> 970 | K9: =일위대가!L54 -> 12041 | L9: =K9 -> 12041 | M9: =일위대가!N54 -> 0 | N9: =M9 -> 0 | P9: =I9+L9+N9 -> 13011
A10: 56959100804 | B10: EAB110214000 | C10: 제 7호 | D10: 1종금속제가요전선관 | E10: 22 mm 고장력-비방수 | F10: M | H10: =일위대가!I62 -> 1597 | I10: =H10 -> 1597 | K10: =일위대가!L62 -> 16146 | L10: =K10 -> 16146 | M10: =일위대가!N62 -> 0 | N10: =M10 -> 0 | P10: =I10+L10+N10 -> 17743
A11: 5975D767011 | B11: E59753767011 | C11: 제 8호 | D11: 아우트렛박스 | E11: 8각 54㎜ | F11: 개 | H11: =일위대가!I68 -> 1623 | I11: =H11 -> 1623 | K11: =일위대가!L68 -> 32841 | L11: =K11 -> 32841 | M11: =일위대가!N68 -> 0 | N11: =M11 -> 0 | P11: =I11+L11+N11 -> 34464
A12: 5975D767041 | B12: E59753767041 | C12: 제 9호 | D12: 아우트렛박스 | E12: 중형4각 54㎜ | F12: 개 | H12: =일위대가!I74 -> 1958 | I12: =H12 -> 1958 | K12: =일위대가!L74 -> 32841 | L12: =K12 -> 32841 | M12: =일위대가!N74 -> 0 | N12: =M12 -> 0 | P12: =I12+L12+N12 -> 34799
A13: 5975D777102 | B13: E59753777102 | C13: 제 10호 | D13: 스위치박스 | E13: 1 개용 54 mm | F13: 개 | H13: =일위대가!I80 -> 2245 | I13: =H13 -> 2245 | K13: =일위대가!L80 -> 54735 | L13: =K13 -> 54735 | M13: =일위대가!N80 -> 0 | N13: =M13 -> 0 | P13: =I13+L13+N13 -> 56980
A14: 5975D777111 | B14: E59753777111 | C14: 제 11호 | D14: 스위치박스 | E14: 2 개용 54 mm | F14: 개 | H14: =일위대가!I86 -> 2368 | I14: =H14 -> 2368 | K14: =일위대가!L86 -> 54735 | L14: =K14 -> 54735 | M14: =일위대가!N86 -> 0 | N14: =M14 -> 0 | P14: =I14+L14+N14 -> 57103
A15: 6145F137894 | B15: E61455137894 | C15: 제 12호 | D15: 정션 박스 | E15: 100*100*50 | F15: EA | H15: =일위대가!I92 -> 3018 | I15: =H15 -> 3018 | K15: =일위대가!L92 -> 10947 | L15: =K15 -> 10947 | M15: =일위대가!N92 -> 0 | N15: =M15 -> 0 | P15: =I15+L15+N15 -> 13965
A16: 5975D857081 | B16: E59753857081 | C16: 제 13호 | D16: 풀박스 | E16: 200×200×200 | F16: 개 | H16: =일위대가!I98 -> 7841 | I16: =H16 -> 7841 | K16: =일위대가!L98 -> 60208 | L16: =K16 -> 60208 | M16: =일위대가!N98 -> 0 | N16: =M16 -> 0 | P16: =I16+L16+N16 -> 68049
A17: 5975B817222 | B17: E59751817222 | C17: 제 14호 | D17: 케이블트레이 | E17: STRAIGHT,St W300x100Hx2.3t | F17: m | H17: =일위대가!I104 -> 15170 | I17: =H17 -> 15170 | K17: =일위대가!L104 -> 62945 | L17: =K17 -> 62945 | M17: =일위대가!N104 -> 0 | N17: =M17 -> 0 | P17: =I17+L17+N17 -> 78115
A18: 5975B817334 | B18: E59751817334 | C18: 제 15호 | D18: 케이블트레이 | E18: COVER,St W300 | F18: m | H18: =일위대가!I110 -> 27614 | I18: =H18 -> 27614 | K18: =일위대가!L110 -> 12589 | L18: =K18 -> 12589 | M18: =일위대가!N110 -> 0 | N18: =M18 -> 0 | P18: =I18+L18+N18 -> 40203
A19: 56959100805 | B19: EAB110215000 | C19: 제 16호 | D19: 450/750V 내열비닐절연전선 | E19: HFIX 1.38mm(1.5㎟) | F19: M | H19: =일위대가!I118 -> 480 | I19: =H19 -> 480 | K19: =일위대가!L118 -> 2736 | L19: =K19 -> 2736 | M19: =일위대가!N118 -> 0 | N19: =M19 -> 0 | P19: =I19+L19+N19 -> 3216
A20: 56959100806 | B20: EAB110216000 | C20: 제 17호 | D20: 450/750V 내열비닐절연전선 | E20: HFIX 1.78mm(2.5㎟) | F20: M | H20: =일위대가!I126 -> 691 | I20: =H20 -> 691 | K20: =일위대가!L126 -> 2736 | L20: =K20 -> 2736 | M20: =일위대가!N126 -> 0 | N20: =M20 -> 0 | P20: =I20+L20+N20 -> 3427
A21: E145A667003 | B21: EE1450667003 | C21: 제 18호 | D21: 450/750V 내열비닐절연전선 | E21: HFIX 2.25mm(4㎟) | F21: M | H21: =일위대가!I134 -> 1007 | I21: =H21 -> 1007 | K21: =일위대가!L134 -> 2736 | L21: =K21 -> 2736 | M21: =일위대가!N134 -> 0 | N21: =M21 -> 0 | P21: =I21+L21+N21 -> 3743
A22: E145A927204 | B22: EE1450927204 | C22: 제 19호 | D22: 접지용비닐절연전선(F-GV) | E22: 10㎟ | F22: M | H22: =일위대가!I142 -> 2414 | I22: =H22 -> 2414 | K22: =일위대가!L142 -> 2463 | L22: =K22 -> 2463 | M22: =일위대가!N142 -> 0 | N22: =M22 -> 0 | P22: =I22+L22+N22 -> 4877
A23: E145A287564 | B23: EE1450287564 | C23: 제 20호 | D23: 폴리에틸렌 난연케이블 | E23: 0.6/1kv F-CV 4C×10㎟ | F23: M | H23: =일위대가!I150 -> 10682 | I23: =H23 -> 10682 | K23: =일위대가!L150 -> 14903 | L23: =K23 -> 14903 | M23: =일위대가!N150 -> 0 | N23: =M23 -> 0 | P23: =I23+L23+N23 -> 25585
A24: 5930B517003 | B24: E59301517003 | C24: 제 21호 | D24: 매입스위치 | E24: 250V 1로3구 | F24: 개 | H24: =일위대가!I156 -> 3137 | I24: =H24 -> 3137 | K24: =일위대가!L156 -> 23262 | L24: =K24 -> 23262 | M24: =일위대가!N156 -> 0 | N24: =M24 -> 0 | P24: =I24+L24+N24 -> 26399
A25: 5935A317206 | B25: E59350317206 | C25: 제 22호 | D25: 콘센트 | E25: 매입-접지형, 250V 2구 | F25: 개 | H25: =일위대가!I162 -> 2067 | I25: =H25 -> 2067 | K25: =일위대가!L162 -> 21894 | L25: =K25 -> 21894 | M25: =일위대가!N162 -> 0 | N25: =M25 -> 0 | P25: =I25+L25+N25 -> 23961
A26: 5935A317208 | B26: E59350317208 | C26: 제 23호 | D26: 방우콘센트 | E26: 매입-접지형, 250V 2구 | F26: 개 | H26: =일위대가!I168 -> 2819 | I26: =H26 -> 2819 | K26: =일위대가!L168 -> 21894 | L26: =K26 -> 21894 | M26: =일위대가!N168 -> 0 | N26: =M26 -> 0 | P26: =I26+L26+N26 -> 24713
A27: 6350A197001 | B27: E63500197001 | C27: 제 24호 | D27: 화재감지기 | E27: 열감지기,차동식스포트형 | F27: 개 | H27: =일위대가!I174 -> 5156 | I27: =H27 -> 5156 | K27: =일위대가!L174 -> 35577 | L27: =K27 -> 35577 | M27: =일위대가!N174 -> 0 | N27: =M27 -> 0 | P27: =I27+L27+N27 -> 40733
A28: 5925A327171 | B28: E59250327171 | C28: 제 25호 | D28: 배선용 차단기 | E28: 표준형, 4P 600V 50AF | F28: 대 | H28: =일위대가!I180 -> 75075 | I28: =H28 -> 75075 | K28: =일위대가!L180 -> 92502 | L28: =K28 -> 92502 | M28: =일위대가!N180 -> 0 | N28: =M28 -> 0 | P28: =I28+L28+N28 -> 167577
A29: 56959100807 | B29: EAB110217000 | C29: 제 26호 | D29: BGM 스피커 | E29: 천정매입형(3W) | F29: 개 | H29: =일위대가!I186 -> 351987 | I29: =H29 -> 351987 | K29: =일위대가!L186 -> 66260 | L29: =K29 -> 66260 | M29: =일위대가!N186 -> 0 | N29: =M29 -> 0 | P29: =I29+L29+N29 -> 418247
A30: 56959100808 | B30: E56959100808 | C30: 제 27호 | D30: 등기구타공 | E30: 다운라이트 | F30: 개소 | H30: =일위대가!I192 -> 164 | I30: =H30 -> 164 | K30: =일위대가!L192 -> 5473 | L30: =K30 -> 5473 | M30: =일위대가!N192 -> 0 | N30: =M30 -> 0 | P30: =I30+L30+N30 -> 5637
A31: 56959100809 | B31: E56959100809 | C31: 제 28호 | D31: 분전반 | E31: L-T(체육관동) PANEL | F31: 면 | H31: =일위대가!I198 -> 1175799 | I31: =H31 -> 1175799 | K31: =일위대가!L198 -> 259992 | L31: =K31 -> 259992 | M31: =일위대가!N198 -> 0 | N31: =M31 -> 0 | P31: =I31+L31+N31 -> 1435791
A32: 56959100810 | B32: E56959100810 | C32: 제 29호 | D32: 재실센서 | E32: 화장실용 | F32: EA | H32: =일위대가!I204 -> 78559 | I32: =H32 -> 78559 | K32: =일위대가!L204 -> 51998 | L32: =K32 -> 51998 | M32: =일위대가!N204 -> 0 | N32: =M32 -> 0 | P32: =I32+L32+N32 -> 130557
A33: 56959100811 | B33: E56959100811 | C33: 제 30호 | D33: 조명기구 TYPE A | E33: LED 20W 다운라이트(방습) | F33: 개 | H33: =일위대가!I210 -> 22494 | I33: =H33 -> 22494 | K33: =일위대가!L210 -> 49809 | L33: =K33 -> 49809 | M33: =일위대가!N210 -> 0 | N33: =M33 -> 0 | P33: =I33+L33+N33 -> 72303
A34: 56959100812 | B34: E56959100812 | C34: 제 31호 | D34: 철거 | E34: A TYPE LED 20W 다운라이트 | F34: 개 | H34: =일위대가!I216 -> 448 | I34: =H34 -> 448 | K34: =일위대가!L216 -> 14942 | L34: =K34 -> 14942 | M34: =일위대가!N216 -> 0 | N34: =M34 -> 0 | P34: =I34+L34+N34 -> 15390
A35: 56959100813 | B35: E56959100813 | C35: 제 32호 | D35: 철거 | E35: HFIX 1.78mm(2.5㎟) | F35: M | H35: =일위대가!I222 -> 24 | I35: =H35 -> 24 | K35: =일위대가!L222 -> 821 | L35: =K35 -> 821 | M35: =일위대가!N222 -> 0 | N35: =M35 -> 0 | P35: =I35+L35+N35 -> 845
A36: 56959100814 | B36: E56959100814 | C36: 제 33호 | D36: 철거 | E36: HFIX 2.25mm(4㎟) | F36: M | H36: =일위대가!I228 -> 24 | I36: =H36 -> 24 | K36: =일위대가!L228 -> 821 | L36: =K36 -> 821 | M36: =일위대가!N228 -> 0 | N36: =M36 -> 0 | P36: =I36+L36+N36 -> 845
A37: 56959100815 | B37: E56959100815 | C37: 제 34호 | D37: 철거 | E37: 배선기구 스위치 1,2,3,4구 | F37: 개 | H37: =일위대가!I234 -> 209 | I37: =H37 -> 209 | K37: =일위대가!L234 -> 6978 | L37: =K37 -> 6978 | M37: =일위대가!N234 -> 0 | N37: =M37 -> 0 | P37: =I37+L37+N37 -> 7187
A38: 56959100816 | B38: E56959100816 | C38: 제 35호 | D38: 철거 | E38: 연결용 박스 | F38: 개 | H38: =일위대가!I240 -> 98 | I38: =H38 -> 98 | K38: =일위대가!L240 -> 3284 | L38: =K38 -> 3284 | M38: =일위대가!N240 -> 0 | N38: =M38 -> 0 | P38: =I38+L38+N38 -> 3382
C39: 제 36호 | D39: PIPE SUPPORT(벽체) | E39: 36 C [개소] | F39: 개 | H39: =일위대가!I250 -> 2584 | I39: =H39 -> 2584 | K39: =일위대가!L250 -> 19704 | L39: =K39 -> 19704 | N39: =M39 -> 0 | P39: =I39+L39+N39 -> 22288
I40: =H40 -> 0 | L40: =K40 -> 0 | N40: =M40 -> 0 | P40: =I40+L40+N40 -> 0
I41: =H41 -> 0 | L41: =K41 -> 0 | N41: =M41 -> 0 | P41: =I41+L41+N41 -> 0
I42: =H42 -> 0 | L42: =K42 -> 0 | N42: =M42 -> 0 | P42: =I42+L42+N42 -> 0
I43: =H43 -> 0 | L43: =K43 -> 0 | N43: =M43 -> 0 | P43: =I43+L43+N43 -> 0
I44: =H44 -> 0 | L44: =K44 -> 0 | N44: =M44 -> 0 | P44: =I44+L44+N44 -> 0
I45: =H45 -> 0 | L45: =K45 -> 0 | N45: =M45 -> 0 | P45: =I45+L45+N45 -> 0
I46: =H46 -> 0 | L46: =K46 -> 0 | N46: =M46 -> 0 | P46: =I46+L46+N46 -> 0
I47: =H47 -> 0 | L47: =K47 -> 0 | N47: =M47 -> 0 | P47: =I47+L47+N47 -> 0
I48: =H48 -> 0 | L48: =K48 -> 0 | N48: =M48 -> 0 | P48: =I48+L48+N48 -> 0
I49: =H49 -> 0 | L49: =K49 -> 0 | N49: =M49 -> 0 | P49: =I49+L49+N49 -> 0
I50: =H50 -> 0 | L50: =K50 -> 0 | N50: =M50 -> 0 | P50: =I50+L50+N50 -> 0
I51: =H51 -> 0 | L51: =K51 -> 0 | N51: =M51 -> 0 | P51: =I51+L51+N51 -> 0
... I55: =H55 -> 0 | L55: =K55 -> 0 | N55: =M55 -> 0 | P55: =I55+L55+N55 -> 0

Sheet 일위대가
A1: 총줄수-> | B1: 263 | D1: [ 전곡초 외 1교(반도체고) 화장실 및 냉난방개선 전기공사] - 일위대가표 | W1: 노임 계산 정보 | AA1: 부속재 및 손료
A2: 번호 | B2: 목차코드 | C2: 코드 | D2: 명 칭 | E2: 규 격 | F2: 단위 | G2: 수량 | H2: 재료비 | J2: 노무비 | M2: 경비 | P2: 계 | Q2: 비고 | W2: 노임계 | X2: 전체(%) | Y2: 공종별(%) | Z2: 노임 소수 | AA2: CD배관재 | AB2: 일반배관재 | AC2: 소모재 | AD2: 자재계 | AE2: 노임계
H3: 단가 | I3: 금액 | J3: 수량 | K3: 단가 | L3: 금액 | M3: 단가 | N3: 금액 | O3: 단가 | AD3: 1 | AE3: 1
A4: 56950170114 | B4: 일목줄 | C4: EAA110640000 | D4: [제 1호] TRAY SUPPORT W300-1단 [식]
A5: 59754967601 | B5: 제 1호 | C5: 3913170520175128 | D5: 케이블트레이부속품 | E5: U CHANNEL, 41x41x2.6t | F5: m | G5: 0.4 | H5: =합산자재!H24 -> 6176 | I5: =IF(G5*H5<>0, TRUNC(G5*H5,1),"") -> 2470.4 | J5: 0.4 | K5: =합산자재!I24 -> 0 | L5: =IF(G5*K5<>0, TRUNC(G5*K5,1),"") | M5: =합산자재!J24 -> 0 | N5: =IF(G5*M5<>0, TRUNC(G5*M5,1),"") | P5: =IF(SUM(I5,L5,N5)<>0,TRUNC(SUM(I5,L5,N5),1),"") -> 2470.4
A6: 53060807001 | B6: 제 1호 | C6: 3116210220135769 | D6: 스트롱앵커 | E6: 3/8 | F6: 개 | G6: 2 | H6: =합산자재!H26 -> 200 | I6: =IF(G6*H6<>0, TRUNC(G6*H6,1),"") -> 400 | J6: 2 | K6: =합산자재!I26 -> 0 | L6: =IF(G6*K6<>0, TRUNC(G6*K6,1),"") | M6: =합산자재!J26 -> 0 | N6: =IF(G6*M6<>0, TRUNC(G6*M6,1),"") | P6: =IF(SUM(I6,L6,N6)<>0,TRUNC(SUM(I6,L6,N6),1),"") -> 400 | Z6: 노임계
A7: 53100027003 | B7: 제 1호 | C7: 3116172710024976 | D7: 6각너트 | E7: M10 | F7: 개 | G7: 4 | H7: =합산자재!H42 -> 28 | I7: =IF(G7*H7<>0, TRUNC(G7*H7,1),"") -> 112 | J7: 4 | K7: =합산자재!I42 -> 0 | L7: =IF(G7*K7<>0, TRUNC(G7*K7,1),"") | M7: =합산자재!J42 -> 0 | N7: =IF(G7*M7<>0, TRUNC(G7*M7,1),"") | P7: =IF(SUM(I7,L7,N7)<>0,TRUNC(SUM(I7,L7,N7),1),"") -> 112
A8: 52100327001 | B8: 제 1호 | C8: 3116181120136195 | D8: 스프링와샤 | E8: D10 | F8: EA | G8: 4 | H8: =합산자재!H43 -> 10 | I8: =IF(G8*H8<>0, TRUNC(G8*H8,1),"") -> 40 | J8: 4 | K8: =합산자재!I43 -> 0 | L8: =IF(G8*K8<>0, TRUNC(G8*K8,1),"") | M8: =합산자재!J43 -> 0 | N8: =IF(G8*M8<>0, TRUNC(G8*M8,1),"") | P8: =IF(SUM(I8,L8,N8)<>0,TRUNC(SUM(I8,L8,N8),1),"") -> 40
A9: 59754967571 | B9: 제 1호 | C9: 3913170520175125 | D9: 케이블트레이부속품 | E9: HOLD DOWN CLAMP, 아연도 | F9: 개 | G9: 2 | H9: =합산자재!H22 -> 373 | I9: =IF(G9*H9<>0, TRUNC(G9*H9,1),"") -> 746 | J9: 2 | K9: =합산자재!I22 -> 0 | L9: =IF(G9*K9<>0, TRUNC(G9*K9,1),"") | M9: =합산자재!J22 -> 0 | N9: =IF(G9*M9<>0, TRUNC(G9*M9,1),"") | P9: =IF(SUM(I9,L9,N9)<>0,TRUNC(SUM(I9,L9,N9),1),"") -> 746
A10: 59754967581 | B10: 제 1호 | C10: 3913170520175126 | D10: 케이블트레이부속품 | E10: 찬넬스프링 너트, 아연도 | F10: 개 | G10: 2 | H10: =합산자재!H23 -> 540 | I10: =IF(G10*H10<>0, TRUNC(G10*H10,1),"") -> 1080 | J10: 2 | K10: =합산자재!I23 -> 0 | L10: =IF(G10*K10<>0, TRUNC(G10*K10,1),"") | M10: =합산자재!J23 -> 0 | N10: =IF(G10*M10<>0, TRUNC(G10*M10,1),"") | P10: =IF(SUM(I10,L10,N10)<>0,TRUNC(SUM(I10,L10,N10),1),"") -> 1080 | Z10: 노임계
A11: 56900017016 | B11: 제 1호 | C11: L001010101000075 | D11: 노 무 비 | E11: 내선전공 | F11: 인 | G11: =일위노임!G6 -> 0.072 | H11: =합산자재!H56 -> 0 | I11: =IF(G11*H11<>0, TRUNC(G11*H11,1),"") | J11: 0.072 | K11: =합산자재!I56 -> 273676 | L11: =IF(G11*K11<>0, TRUNC(G11*K11,1),"") -> 19704.6 | M11: =합산자재!J56 -> 0 | N11: =IF(G11*M11<>0, TRUNC(G11*M11,1),"") | P11: =IF(SUM(I11,L11,N11)<>0,TRUNC(SUM(I11,L11,N11),1),"") -> 19704.6 | AE11: =L11 -> 19704.6
A12: A0300000000 | B12: 제 1호 | C12: RENT000000000006 | D12: [ 공 구 손 료 ] | E12: 노무비의 3 % | F12: 식 | G12: 1 | H12: =IF(TRUNC((AD13+AC13)/$AE$3,1)*$AE$3-AD13 <0, AC13, TRUNC((AD13+AC13)/$AE$3,1)*$AE$3-AD13) -> 591.1 | I12: =H12 -> 591.1 | J12: 1 | L12: =IF(G12*K12<>0, TRUNC(G12*K12,1),"") | N12: =IF(G12*M12<>0, TRUNC(G12*M12,1),"") | P12: =IF(SUM(I12,L12,N12)<>0,TRUNC(SUM(I12,L12,N12),1),"") -> 591
B13: 합계줄 | D13: ( 합 계 ) | I13: =TRUNC(SUM(I4:I12)) -> 5439 | L13: =TRUNC(SUM(L4:L12)) -> 19704 | N13: =TRUNC(SUM(N4:N12)) -> 0 | P13: =IF(SUM(I13,L13,N13)<>0,TRUNC(SUM(I13,L13,N13),1),"") -> 25143 | AC13: =TRUNC(AE13*옵션!$B$36/100,1) -> 591.1 | AD13: =TRUNC(SUM(L4:L11)) -> 19704 | AE13: =TRUNC(SUM(AE4:AE12)) -> 19704
B14: 일목줄 | Z14: 노임계
A15: 56953100908 | B15: 일목줄 | C15: EAB110220000 | D15: [제 2호] 벽관통 구멍(방화실링) Φ50-벽두께 25cm [개소]
A16: CA565826062 | B16: 제 2호 | C16: ECA565826062 | D16: 코어드릴 | E16: 15.24cm | F16: 시간 | G16: 1.1 | H16: =합산자재!H55 -> 0 | I16: =IF(G16*H16<>0, TRUNC(G16*H16,1),"") | J16: 1.1 | K16: =합산자재!I55 -> 0 | L16: =IF(G16*K16<>0, TRUNC(G16*K16,1),"") | M16: =합산자재!J55 -> 472 | N16: =IF(G16*M16<>0, TRUNC(G16*M16,1),"") -> 519.2 | P16: =IF(SUM(I16,L16,N16)<>0,TRUNC(SUM(I16,L16,N16),1),"") -> 519.2 | Q16: 종합적산713 | R16: ild
A17: MM955672241 | B17: 제 2호 | C17: 391115ZZ701Z0003 | D17: 방화실리콘실란트 | E17: 310 ㎖ | F17: ℓ | G17: 0.056 | H17: =합산자재!H46 -> 22500 | I17: =IF(G17*H17<>0, TRUNC(G17*H17,1),"") -> 1260 | J17: 0.056 | K17: =합산자재!I46 -> 0 | L17: =IF(G17*K17<>0, TRUNC(G17*K17,1),"") | M17: =합산자재!J46 -> 0 | N17: =IF(G17*M17<>0, TRUNC(G17*M17,1),"") | P17: =IF(SUM(I17,L17,N17)<>0,TRUNC(SUM(I17,L17,N17),1),"") -> 1260 | Z17: 노임계
A18: 56900017041 | B18: 제 2호 | C18: L001010101000002 | D18: 노 무 비 | E18: 보통인부 | F18: 인 | G18: =일위노임!G10 -> 0.266 | H18: =합산자재!H59 -> 0 | I18: =IF(G18*H18<>0, TRUNC(G18*H18,1),"") | J18: 0.266 | K18: =합산자재!I59 -> 172068 | L18: =IF(G18*K18<>0, TRUNC(G18*K18,1),"") -> 45770 | M18: =합산자재!J59 -> 0 | N18: =IF(G18*M18<>0, TRUNC(G18*M18,1),"") | P18: =IF(SUM(I18,L18,N18)<>0,TRUNC(SUM(I18,L18,N18),1),"") -> 45770 | AE18: =L18 -> 45770
A19: 56900017098 | B19: 제 2호 | C19: L001010101000015 | D19: 노 무 비 | E19: 착암공 | F19: 인 | G19: =일위노임!G11 -> 0.266 | H19: =합산자재!H60 -> 0 | I19: =IF(G19*H19<>0, TRUNC(G19*H19,1),"") | J19: 0.266 | K19: =합산자재!I60 -> 222306 | L19: =IF(G19*K19<>0, TRUNC(G19*K19,1),"") -> 59133.3 | M19: =합산자재!J60 -> 0 | N19: =IF(G19*M19<>0, TRUNC(G19*M19,1),"") | P19: =IF(SUM(I19,L19,N19)<>0,TRUNC(SUM(I19,L19,N19),1),"") -> 59133.3 | AE19: =L19 -> 59133.3
A20: A0300000000 | B20: 제 2호 | C20: RENT000000000006 | D20: [ 공 구 손 료 ] | E20: 노무비의 3 % | F20: 식 | G20: 1 | H20: =IF(TRUNC((AD21+AC21)/$AE$3,1)*$AE$3-AD21 <0, AC21, TRUNC((AD21+AC21)/$AE$3,1)*$AE$3-AD21) -> 3147 | I20: =H20 -> 3147 | J20: 1 | L20: =IF(G20*K20<>0, TRUNC(G20*K20,1),"") | N20: =IF(G20*M20<>0, TRUNC(G20*M20,1),"") | P20: =IF(SUM(I20,L20,N20)<>0,TRUNC(SUM(I20,L20,N20),1),"") -> 3147 | Z20: 노임계
B21: 합계줄 | D21: ( 합 계 ) | I21: =TRUNC(SUM(I15:I20)) -> 4407 | L21: =TRUNC(SUM(L15:L20)) -> 104903 | N21: =TRUNC(SUM(N15:N20)) -> 519 | P21: =IF(SUM(I21,L21,N21)<>0,TRUNC(SUM(I21,L21,N21),1),"") -> 109829 | AC21: =TRUNC(AE21*옵션!$B$36/100,1) -> 3147 | AD21: =TRUNC(SUM(L15:L19)) -> 104903 | AE21: =TRUNC(SUM(AE15:AE20)) -> 104903
I22: =IF(G22*H22<>0, TRUNC(G22*H22,1),"") | L22: =IF(G22*K22<>0, TRUNC(G22*K22,1),"") | N22: =IF(G22*M22<>0, TRUNC(G22*M22,1),"") | P22: =IF(SUM(I22,L22,N22)<>0,TRUNC(SUM(I22,L22,N22),1),"")
A23: 56959100801 | B23: 일목줄 | C23: EAB110211000 | D23: [제 3호] 배관용 홈파기 Φ22이하 [m] | Z23: 노임계
A24: 56900017041 | B24: 제 3호 | C24: L001010101000002 | D24: 노 무 비 | E24: 보통인부 | F24: 인 | G24: =일위노임!G14 -> 0.08 | H24: =합산자재!H59 -> 0 | I24: =IF(G24*H24<>0, TRUNC(G24*H24,1),"") | J24: 0.08 | K24: =합산자재!I59 -> 172068 | L24: =IF(G24*K24<>0, TRUNC(G24*K24,1),"") -> 13765.4 | M24: =합산자재!J59 -> 0 | N24: =IF(G24*M24<>0, TRUNC(G24*M24,1),"") | P24: =IF(SUM(I24,L24,N24)<>0,TRUNC(SUM(I24,L24,N24),1),"") -> 13765.4 | AE24: =L24 -> 13765.4
A25: A0300000000 | B25: 제 3호 | C25: RENT000000000006 | D25: [ 공 구 손 료 ] | E25: 노무비의 3 % | F25: 식 | G25: 1 | H25: =IF(TRUNC((AD26+AC26)/$AE$3,1)*$AE$3-AD26 <0, AC26, TRUNC((AD26+AC26)/$AE$3,1)*$AE$3-AD26) -> 412.9 | I25: =H25 -> 412.9 | J25: 1 | L25: =IF(G25*K25<>0, TRUNC(G25*K25,1),"") | N25: =IF(G25*M25<>0, TRUNC(G25*M25,1),"") | P25: =IF(SUM(I25,L25,N25)<>0,TRUNC(SUM(I25,L25,N25),1),"") -> 412.9
B26: 합계줄 | D26: ( 합 계 ) | I26: =TRUNC(SUM(I23:I25)) -> 412 | L26: =TRUNC(SUM(L23:L25)) -> 13765 | N26: =TRUNC(SUM(N23:N25)) -> 0 | P26: =IF(SUM(I26,L26,N26)<>0,TRUNC(SUM(I26,L26,N26),1),"") -> 14177 | Z26: 노임계 | AC26: =TRUNC(AE26*옵션!$B$36/100,1) -> 412.9 | AD26: =TRUNC(SUM(L23:L24)) -> 13765 | AE26: =TRUNC(SUM(AE23:AE25)) -> 13765
I27: =IF(G27*H27<>0, TRUNC(G27*H27,1),"") | L27: =IF(G27*K27<>0, TRUNC(G27*K27,1),"") | N27: =IF(G27*M27<>0, TRUNC(G27*M27,1),"") | P27: =IF(SUM(I27,L27,N27)<>0,TRUNC(SUM(I27,L27,N27),1),"")
A28: 56959100802 | B28: 일목줄 | C28: EAB110212000 | D28: [제 4호] 파이프지지대 벽체 42C [개]
A29: MM300001905 | B29: 제 4호 | C29: 3016160420165664 | D29: 찬넬 | E29: 3m (2.3t) 41 * 41 | F29: EA | G29: 0.05 | H29: =합산자재!H28 -> 22848 | I29: =IF(G29*H29<>0, TRUNC(G29*H29,1),"") -> 1142.4 | J29: 0.05 | K29: =합산자재!I28 -> 0 | L29: =IF(G29*K29<>0, TRUNC(G29*K29,1),"") | M29: =합산자재!J28 -> 0 | N29: =IF(G29*M29<>0, TRUNC(G29*M29,1),"") | P29: =IF(SUM(I29,L29,N29)<>0,TRUNC(SUM(I29,L29,N29),1),"") -> 1142.4 | Z29: 노임계
A30: 53060327011 | B30: 제 4호 | C30: 3116169820135160 | D30: 행거볼트 | E30: M10×1000㎜ | F30: 개 | G30: 0.1 | H30: =합산자재!H27 -> 1226 | I30: =IF(G30*H30<>0, TRUNC(G30*H30,1),"") -> 122.6 | J30: 0.1 | K30: =합산자재!I27 -> 0 | L30: =IF(G30*K30<>0, TRUNC(G30*K30,1),"") | M30: =합산자재!J27 -> 0 | N30: =IF(G30*M30<>0, TRUNC(G30*M30,1),"") | P30: =IF(SUM(I30,L30,N30)<>0,TRUNC(SUM(I30,L30,N30),1),"") -> 122.6
A31: 53060807001 | B31: 제 4호 | C31: 3116210220135769 | D31: 스트롱앵커 | E31: 3/8 | F31: 개 | G31: 1 | H31: =합산자재!H26 -> 200 | I31: =IF(G31*H31<>0, TRUNC(G31*H31,1),"") -> 200 | J31: 1 | K31: =합산자재!I26 -> 0 | L31: =IF(G31*K31<>0, TRUNC(G31*K31,1),"") | M31: =합산자재!J26 -> 0 | N31: =IF(G31*M31<>0, TRUNC(G31*M31,1),"") | P31: =IF(SUM(I31,L31,N31)<>0,TRUNC(SUM(I31,L31,N31),1),"") -> 200
A32: 52100327001 | B32: 제 4호 | C32: 3116181120136195 | D32: 스프링와샤 | E32: D10 | F32: EA | G32: 1 | H32: =합산자재!H43 -> 10 | I32: =IF(G32*H32<>0, TRUNC(G32*H32,1),"") -> 10 | J32: 1 | K32: =합산자재!I43 -> 0 | L32: =IF(G32*K32<>0, TRUNC(G32*K32,1),"") | M32: =합산자재!J43 -> 0 | N32: =IF(G32*M32<>0, TRUNC(G32*M32,1),"") | P32: =IF(SUM(I32,L32,N32)<>0,TRUNC(SUM(I32,L32,N32),1),"") -> 10 | Z32: 노임계
A33: 53060027000 | B33: 제 4호 | C33: 3116162010023390 | D33: 6각볼트 | E33: 3/8,M10 | F33: 개 | G33: 1 | H33: =합산자재!H41 -> 270 | I33: =IF(G33*H33<>0, TRUNC(G33*H33,1),"") -> 270 | J33: 1 | K33: =합산자재!I41 -> 0 | L33: =IF(G33*K33<>0, TRUNC(G33*K33,1),"") | M33: =합산자재!J41 -> 0 | N33: =IF(G33*M33<>0, TRUNC(G33*M33,1),"") | P33: =IF(SUM(I33,L33,N33)<>0,TRUNC(SUM(I33,L33,N33),1),"") -> 270
A34: 59759017055 | B34: 제 4호 | C34: 3913170810036338 | D34: 강제전선관용 부품 | E34: 파이프크램프, 42 C | F34: 개 | G34: 1 | H34: =합산자재!H25 -> 250 | I34: =IF(G34*H34<>0, TRUNC(G34*H34,1),"") -> 250 | J34: 1 | K34: =합산자재!I25 -> 0 | L34: =IF(G34*K34<>0, TRUNC(G34*K34,1),"") | M34: =합산자재!J25 -> 0 | N34: =IF(G34*M34<>0, TRUNC(G34*M34,1),"") | P34: =IF(SUM(I34,L34,N34)<>0,TRUNC(SUM(I34,L34,N34),1),"") -> 250
A35: 56900017016 | B35: 제 4호 | C35: L001010101000075 | D35: 노 무 비 | E35: 내선전공 | F35: 인 | G35: =일위노임!G17 -> 0.036 | H35: =합산자재!H56 -> 0 | I35: =IF(G35*H35<>0, TRUNC(G35*H35,1),"") | J35: 0.036 | K35: =합산자재!I56 -> 273676 | L35: =IF(G35*K35<>0, TRUNC(G35*K35,1),"") -> 9852.3 | M35: =합산자재!J56 -> 0 | N35: =IF(G35*M35<>0, TRUNC(G35*M35,1),"") | P35: =IF(SUM(I35,L35,N35)<>0,TRUNC(SUM(I35,L35,N35),1),"") -> 9852.3 | Z35: 노임계 | AE35: =L35 -> 9852.3
A36: A0300000000 | B36: 제 4호 | C36: RENT000000000006 | D36: [ 공 구 손 료 ] | E36: 노무비의 3 % | F36: 식 | G36: 1 | H36: =IF(TRUNC((AD37+AC37)/$AE$3,1)*$AE$3-AD37 <0, AC37, TRUNC((AD37+AC37)/$AE$3,1)*$AE$3-AD37) -> 295.5 | I36: =H36 -> 295.5 | J36: 1 | L36: =IF(G36*K36<>0, TRUNC(G36*K36,1),"") | N36: =IF(G36*M36<>0, TRUNC(G36*M36,1),"") | P36: =IF(SUM(I36,L36,N36)<>0,TRUNC(SUM(I36,L36,N36),1),"") -> 295.5
B37: 합계줄 | D37: ( 합 계 ) | I37: =TRUNC(SUM(I28:I36)) -> 2290 | L37: =TRUNC(SUM(L28:L36)) -> 9852 | N37: =TRUNC(SUM(N28:N36)) -> 0 | P37: =IF(SUM(I37,L37,N37)<>0,TRUNC(SUM(I37,L37,N37),1),"") -> 12142 | AC37: =TRUNC(AE37*옵션!$B$36/100,1) -> 295.5 | AD37: =TRUNC(SUM(L28:L35)) -> 9852 | AE37: =TRUNC(SUM(AE28:AE36)) -> 9852
I38: =IF(G38*H38<>0, TRUNC(G38*H38,1),"") | L38: =IF(G38*K38<>0, TRUNC(G38*K38,1),"") | N38: =IF(G38*M38<>0, TRUNC(G38*M38,1),"") | P38: =IF(SUM(I38,L38,N38)<>0,TRUNC(SUM(I38,L38,N38),1),"") | Z38: 노임계
A39: 5975A337015 | B39: 일목줄 | C39: E59750337015 | D39: [제 5호] 강제전선관(노출) 아연도 42 mm [M.]
A40: 59750337015 | B40: 제 5호 | C40: 3913170610034836 | D40: 강제전선관 | E40: 아연도 42 mm | F40: m | G40: 1 | H40: =합산자재!H4 -> 5899 | I40: =IF(G40*H40<>0, TRUNC(G40*H40,1),"") -> 5899 | J40: 1 | K40: =합산자재!I4 -> 0 | L40: =IF(G40*K40<>0, TRUNC(G40*K40,1),"") | M40: =합산자재!J4 -> 0 | N40: =IF(G40*M40<>0, TRUNC(G40*M40,1),"") | P40: =IF(SUM(I40,L40,N40)<>0,TRUNC(SUM(I40,L40,N40),1),"") -> 5899 | R40: ST | AB40: =I40 -> 5899 | AC40: =G40*H40 -> 5899
A41: 59750337015 | B41: 제 5호 | C41: 3913170610034836 | D41: 강제전선관 | E41: 아연도 42 mm | F41: m | G41: 0.1 | H41: =합산자재!H4 -> 5899 | I41: =IF(G41*H41<>0, TRUNC(G41*H41,1),"") -> 589.9 | J41: 0.1 | K41: =합산자재!I4 -> 0 | L41: =IF(G41*K41<>0, TRUNC(G41*K41,1),"") | M41: =합산자재!J4 -> 0 | N41: =IF(G41*M41<>0, TRUNC(G41*M41,1),"") | P41: =IF(SUM(I41,L41,N41)<>0,TRUNC(SUM(I41,L41,N41),1),"") -> 589.9 | R41: ST | Z41: 노임계
A42: A0500000000 | B42: 제 5호 | C42: RENT000000000002 | D42: [ 배관 부속재 ] | E42: 전선관의 15 % | F42: 식 | G42: 1 | H42: =TRUNC(AB42*옵션!$B$31/100,1) -> 884.8 | I42: =IF(G42*H42<>0, TRUNC(G42*H42,1),"") -> 884.8 | J42: 1 | L42: =IF(G42*K42<>0, TRUNC(G42*K42,1),"") | N42: =IF(G42*M42<>0, TRUNC(G42*M42,1),"") | P42: =IF(SUM(I42,L42,N42)<>0,TRUNC(SUM(I42,L42,N42),1),"") -> 884.8 | AB42: =TRUNC(SUM(AB39:AB41)) -> 5899
A43: A0100000000 | B43: 제 5호 | C43: RENT000000000003 | D43: [ 소모 잡자재 ] | E43: 전선, 전선관의 2 % | F43: 식 | G43: 1 | H43: =IF(TRUNC((AD43+AC43)/$AD$3,1)*$AD$3-AD43 <0, AC43, TRUNC((AD43+AC43)/$AD$3,1)*$AD$3-AD43) -> 117.9 | I43: =H43 -> 117.9 | J43: 1 | L43: =IF(G43*K43<>0, TRUNC(G43*K43,1),"") | N43: =IF(G43*M43<>0, TRUNC(G43*M43,1),"") | P43: =IF(SUM(I43,L43,N43)<>0,TRUNC(SUM(I43,L43,N43),1),"") -> 117.9 | AC43: =TRUNC(TRUNC(SUM(AC39:AC42))*옵션!$B$33/100,1) -> 117.9 | AD43: =TRUNC(SUM(I39:I42))+TRUNC(SUM(N39:N42)) -> 7373
A44: 56900017016 | B44: 제 5호 | C44: L001010101000075 | D44: 노 무 비 | E44: 내선전공 | F44: 인 | G44: =일위노임!G20 -> 0.25 | H44: =합산자재!H56 -> 0 | I44: =IF(G44*H44<>0, TRUNC(G44*H44,1),"") | J44: 0.25 | K44: =합산자재!I56 -> 273676 | L44: =IF(G44*K44<>0, TRUNC(G44*K44,1),"") -> 68419 | M44: =합산자재!J56 -> 0 | N44: =IF(G44*M44<>0, TRUNC(G44*M44,1),"") | P44: =IF(SUM(I44,L44,N44)<>0,TRUNC(SUM(I44,L44,N44),1),"") -> 68419 | Z44: 노임계 | AE44: =L44 -> 68419
A45: A0300000000 | B45: 제 5호 | C45: RENT000000000006 | D45: [ 공 구 손 료 ] | E45: 노무비의 3 % | F45: 식 | G45: 1 | H45: =IF(TRUNC((AD46+AC46)/$AE$3,1)*$AE$3-AD46 <0, AC46, TRUNC((AD46+AC46)/$AE$3,1)*$AE$3-AD46) -> 2052.5 | I45: =H45 -> 2052.5 | J45: 1 | L45: =IF(G45*K45<>0, TRUNC(G45*K45,1),"") | N45: =IF(G45*M45<>0, TRUNC(G45*M45,1),"") | P45: =IF(SUM(I45,L45,N45)<>0,TRUNC(SUM(I45,L45,N45),1),"") -> 2052.5
B46: 합계줄 | D46: ( 합 계 ) | I46: =TRUNC(SUM(I39:I45)) -> 9544 | L46: =TRUNC(SUM(L39:L45)) -> 68419 | N46: =TRUNC(SUM(N39:N45)) -> 0 | P46: =IF(SUM(I46,L46,N46)<>0,TRUNC(SUM(I46,L46,N46),1),"") -> 77963 | AC46: =TRUNC(AE46*옵션!$B$36/100,1) -> 2052.5 | AD46: =TRUNC(SUM(L39:L44)) -> 68419 | AE46: =TRUNC(SUM(AE39:AE45)) -> 68419
I47: =IF(G47*H47<>0, TRUNC(G47*H47,1),"") | L47: =IF(G47*K47<>0, TRUNC(G47*K47,1),"") | N47: =IF(G47*M47<>0, TRUNC(G47*M47,1),"") | P47: =IF(SUM(I47,L47,N47)<>0,TRUNC(SUM(I47,L47,N47),1),"") | Z47: 노임계
A48: 56959100803 | B48: 일목줄 | C48: EAB110213000 | D48: [제 6호] 1종금속제가요전선관 16 mm 고장력-비방수 [M]
A49: MM496797011 | B49: 제 6호 | C49: 3913170620174478 | D49: 1종금속제가요전선관 | E49: 16 mm 고장력-비방수 | F49: m | G49: 1 | H49: =합산자재!H7 -> 544 | I49: =IF(G49*H49<>0, TRUNC(G49*H49,1),"") -> 544 | J49: 1 | K49: =합산자재!I7 -> 0 | L49: =IF(G49*K49<>0, TRUNC(G49*K49,1),"") | M49: =합산자재!J7 -> 0 | N49: =IF(G49*M49<>0, TRUNC(G49*M49,1),"") | P49: =IF(SUM(I49,L49,N49)<>0,TRUNC(SUM(I49,L49,N49),1),"") -> 544 | R49: ST | AC49: =G49*H49 -> 544
A50: MM496797011 | B50: 제 6호 | C50: 3913170620174478 | D50: 1종금속제가요전선관 | E50: 16 mm 고장력-비방수 | F50: m | G50: 0.1 | H50: =합산자재!H7 -> 544 | I50: =IF(G50*H50<>0, TRUNC(G50*H50,1),"") -> 54.4 | J50: 0.1 | K50: =합산자재!I7 -> 0 | L50: =IF(G50*K50<>0, TRUNC(G50*K50,1),"") | M50: =합산자재!J7 -> 0 | N50: =IF(G50*M50<>0, TRUNC(G50*M50,1),"") | P50: =IF(SUM(I50,L50,N50)<>0,TRUNC(SUM(I50,L50,N50),1),"") -> 54.4 | R50: ST | Z50: 노임계
A51: A0100000000 | B51: 제 6호 | C51: RENT000000000003 | D51: [ 소모 잡자재 ] | E51: 전선, 전선관의 2 % | F51: 식 | G51: 1 | H51: =IF(TRUNC((AD51+AC51)/$AD$3,1)*$AD$3-AD51 <0, AC51, TRUNC((AD51+AC51)/$AD$3,1)*$AD$3-AD51) -> 10.8 | I51: =H51 -> 10.8 | J51: 1 | L51: =IF(G51*K51<>0, TRUNC(G51*K51,1),"") | N51: =IF(G51*M51<>0, TRUNC(G51*M51,1),"") | P51: =IF(SUM(I51,L51,N51)<>0,TRUNC(SUM(I51,L51,N51),1),"") -> 10.8 | AC51: =TRUNC(TRUNC(SUM(AC48:AC50))*옵션!$B$33/100,1) -> 10.8 | AD51: =TRUNC(SUM(I48:I50))+TRUNC(SUM(N48:N50)) -> 598
A52: 56900017016 | B52: 제 6호 | C52: L001010101000075 | D52: 노 무 비 | E52: 내선전공 | F52: 인 | G52: =일위노임!G23 -> 0.044 | H52: =합산자재!H56 -> 0 | I52: =IF(G52*H52<>0, TRUNC(G52*H52,1),"") | J52: 0.044 | K52: =합산자재!I56 -> 273676 | L52: =IF(G52*K52<>0, TRUNC(G52*K52,1),"") -> 12041.7 | M52: =합산자재!J56 -> 0 | N52: =IF(G52*M52<>0, TRUNC(G52*M52,1),"") | P52: =IF(SUM(I52,L52,N52)<>0,TRUNC(SUM(I52,L52,N52),1),"") -> 12041.7 | AE52: =L52 -> 12041.7
A53: A0300000000 | B53: 제 6호 | C53: RENT000000000006 | D53: [ 공 구 손 료 ] | E53: 노무비의 3 % | F53: 식 | G53: 1 | H53: =IF(TRUNC((AD54+AC54)/$AE$3,1)*$AE$3-AD54 <0, AC54, TRUNC((AD54+AC54)/$AE$3,1)*$AE$3-AD54) -> 361.2 | I53: =H53 -> 361.2 | J53: 1 | L53: =IF(G53*K53<>0, TRUNC(G53*K53,1),"") | N53: =IF(G53*M53<>0, TRUNC(G53*M53,1),"") | P53: =IF(SUM(I53,L53,N53)<>0,TRUNC(SUM(I53,L53,N53),1),"") -> 361.2 | Z53: 노임계
B54: 합계줄 | D54: ( 합 계 ) | I54: =TRUNC(SUM(I48:I53)) -> 970 | L54: =TRUNC(SUM(L48:L53)) -> 12041 | N54: =TRUNC(SUM(N48:N53)) -> 0 | P54: =IF(SUM(I54,L54,N54)<>0,TRUNC(SUM(I54,L54,N54),1),"") -> 13011 | AC54: =TRUNC(AE54*옵션!$B$36/100,1) -> 361.2 | AD54: =TRUNC(SUM(L48:L52)) -> 12041 | AE54: =TRUNC(SUM(AE48:AE53)) -> 12041
I55: =IF(G55*H55<>0, TRUNC(G55*H55,1),"") | L55: =IF(G55*K55<>0, TRUNC(G55*K55,1),"") | N55: =IF(G55*M55<>0, TRUNC(G55*M55,1),"") | P55: =IF(SUM(I55,L55,N55)<>0,TRUNC(SUM(I55,L55,N55),1),"")
A56: 56959100804 | B56: 일목줄 | C56: EAB110214000 | D56: [제 7호] 1종금속제가요전선관 22 mm 고장력-비방수 [M] | Z56: 노임계
A57: MM496797012 | B57: 제 7호 | C57: 3913170620174479 | D57: 1종금속제가요전선관 | E57: 22 mm 고장력-비방수 | F57: m | G57: 1 | H57: =합산자재!H8 -> 994 | I57: =IF(G57*H57<>0, TRUNC(G57*H57,1),"") -> 994 | J57: 1 | K57: =합산자재!I8 -> 0 | L57: =IF(G57*K57<>0, TRUNC(G57*K57,1),"") | M57: =합산자재!J8 -> 0 | N57: =IF(G57*M57<>0, TRUNC(G57*M57,1),"") | P57: =IF(SUM(I57,L57,N57)<>0,TRUNC(SUM(I57,L57,N57),1),"") -> 994 | R57: ST | AC57: =G57*H57 -> 994
A58: MM496797012 | B58: 제 7호 | C58: 3913170620174479 | D58: 1종금속제가요전선관 | E58: 22 mm 고장력-비방수 | F58: m | G58: 0.1 | H58: =합산자재!H8 -> 994 | I58: =IF(G58*H58<>0, TRUNC(G58*H58,1),"") -> 99.4 | J58: 0.1 | K58: =합산자재!I8 -> 0 | L58: =IF(G58*K58<>0, TRUNC(G58*K58,1),"") | M58: =합산자재!J8 -> 0 | N58: =IF(G58*M58<>0, TRUNC(G58*M58,1),"") | P58: =IF(SUM(I58,L58,N58)<>0,TRUNC(SUM(I58,L58,N58),1),"") -> 99.4 | R58: ST
A59: A0100000000 | B59: 제 7호 | C59: RENT000000000003 | D59: [ 소모 잡자재 ] | E59: 전선, 전선관의 2 % | F59: 식 | G59: 1 | H59: =IF(TRUNC((AD59+AC59)/$AD$3,1)*$AD$3-AD59 <0, AC59, TRUNC((AD59+AC59)/$AD$3,1)*$AD$3-AD59) -> 19.8 | I59: =H59 -> 19.8 | J59: 1 | L59: =IF(G59*K59<>0, TRUNC(G59*K59,1),"") | N59: =IF(G59*M59<>0, TRUNC(G59*M59,1),"") | P59: =IF(SUM(I59,L59,N59)<>0,TRUNC(SUM(I59,L59,N59),1),"") -> 19.8 | Z59: 노임계 | AC59: =TRUNC(TRUNC(SUM(AC56:AC58))*옵션!$B$33/100,1) -> 19.8 | AD59: =TRUNC(SUM(I56:I58))+TRUNC(SUM(N56:N58)) -> 1093
A60: 56900017016 | B60: 제 7호 | C60: L001010101000075 | D60: 노 무 비 | E60: 내선전공 | F60: 인 | G60: =일위노임!G26 -> 0.059 | H60: =합산자재!H56 -> 0 | I60: =IF(G60*H60<>0, TRUNC(G60*H60,1),"") | J60: 0.059 | K60: =합산자재!I56 -> 273676 | L60: =IF(G60*K60<>0, TRUNC(G60*K60,1),"") -> 16146.8 | M60: =합산자재!J56 -> 0 | N60: =IF(G60*M60<>0, TRUNC(G60*M60,1),"") | P60: =IF(SUM(I60,L60,N60)<>0,TRUNC(SUM(I60,L60,N60),1),"") -> 16146.8 | AE60: =L60 -> 16146.8
A61: A0300000000 | B61: 제 7호 | C61: RENT000000000006 | D61: [ 공 구 손 료 ] | E61: 노무비의 3 % | F61: 식 | G61: 1 | H61: =IF(TRUNC((AD62+AC62)/$AE$3,1)*$AE$3-AD62 <0, AC62, TRUNC((AD62+AC62)/$AE$3,1)*$AE$3-AD62) -> 484.3 | I61: =H61 -> 484.3 | J61: 1 | L61: =IF(G61*K61<>0, TRUNC(G61*K61,1),"") | N61: =IF(G61*M61<>0, TRUNC(G61*M61,1),"") | P61: =IF(SUM(I61,L61,N61)<>0,TRUNC(SUM(I61,L61,N61),1),"") -> 484.2
B62: 합계줄 | D62: ( 합 계 ) | I62: =TRUNC(SUM(I56:I61)) -> 1597 | L62: =TRUNC(SUM(L56:L61)) -> 16146 | N62: =TRUNC(SUM(N56:N61)) -> 0 | P62: =IF(SUM(I62,L62,N62)<>0,TRUNC(SUM(I62,L62,N62),1),"") -> 17743 | Z62: 노임계 | AC62: =TRUNC(AE62*옵션!$B$36/100,1) -> 484.3 | AD62: =TRUNC(SUM(L56:L60)) -> 16146 | AE62: =TRUNC(SUM(AE56:AE61)) -> 16146
I63: =IF(G63*H63<>0, TRUNC(G63*H63,1),"") | L63: =IF(G63*K63<>0, TRUNC(G63*K63,1),"") | N63: =IF(G63*M63<>0, TRUNC(G63*M63,1),"") | P63: =IF(SUM(I63,L63,N63)<>0,TRUNC(SUM(I63,L63,N63),1),"")
A64: 5975D767011 | B64: 일목줄 | C64: E59753767011 | D64: [제 8호] 아우트렛박스 8각 54㎜ [개]
A65: 59753767011 | B65: 제 8호 | C65: 3912130810035750 | D65: 아우트렛박스 | E65: 8각 54㎜ | F65: 개 | G65: 1 | H65: =합산자재!H10 -> 638 | I65: =IF(G65*H65<>0, TRUNC(G65*H65,1),"") -> 638 | J65: 1 | K65: =합산자재!I10 -> 0 | L65: =IF(G65*K65<>0, TRUNC(G65*K65,1),"") | M65: =합산자재!J10 -> 0 | N65: =IF(G65*M65<>0, TRUNC(G65*M65,1),"") | P65: =IF(SUM(I65,L65,N65)<>0,TRUNC(SUM(I65,L65,N65),1),"") -> 638 | Z65: 노임계
A66: 56900017016 | B66: 제 8호 | C66: L001010101000075 | D66: 노 무 비 | E66: 내선전공 | F66: 인 | G66: =일위노임!G29 -> 0.12 | H66: =합산자재!H56 -> 0 | I66: =IF(G66*H66<>0, TRUNC(G66*H66,1),"") | J66: 0.12 | K66: =합산자재!I56 -> 273676 | L66: =IF(G66*K66<>0, TRUNC(G66*K66,1),"") -> 32841.1 | M66: =합산자재!J56 -> 0 | N66: =IF(G66*M66<>0, TRUNC(G66*M66,1),"") | P66: =IF(SUM(I66,L66,N66)<>0,TRUNC(SUM(I66,L66,N66),1),"") -> 32841.1 | AE66: =L66 -> 32841.1
A67: A0300000000 | B67: 제 8호 | C67: RENT000000000006 | D67: [ 공 구 손 료 ] | E67: 노무비의 3 % | F67: 식 | G67: 1 | H67: =IF(TRUNC((AD68+AC68)/$AE$3,1)*$AE$3-AD68 <0, AC68, TRUNC((AD68+AC68)/$AE$3,1)*$AE$3-AD68) -> 985.2 | I67: =H67 -> 985.2 | J67: 1 | L67: =IF(G67*K67<>0, TRUNC(G67*K67,1),"") | N67: =IF(G67*M67<>0, TRUNC(G67*M67,1),"") | P67: =IF(SUM(I67,L67,N67)<>0,TRUNC(SUM(I67,L67,N67),1),"") -> 985.1
B68: 합계줄 | D68: ( 합 계 ) | I68: =TRUNC(SUM(I64:I67)) -> 1623 | L68: =TRUNC(SUM(L64:L67)) -> 32841 | N68: =TRUNC(SUM(N64:N67)) -> 0 | P68: =IF(SUM(I68,L68,N68)<>0,TRUNC(SUM(I68,L68,N68),1),"") -> 34464 | Z68: 노임계 | AC68: =TRUNC(AE68*옵션!$B$36/100,1) -> 985.2 | AD68: =TRUNC(SUM(L64:L66)) -> 32841 | AE68: =TRUNC(SUM(AE64:AE67)) -> 32841
I69: =IF(G69*H69<>0, TRUNC(G69*H69,1),"") | L69: =IF(G69*K69<>0, TRUNC(G69*K69,1),"") | N69: =IF(G69*M69<>0, TRUNC(G69*M69,1),"") | P69: =IF(SUM(I69,L69,N69)<>0,TRUNC(SUM(I69,L69,N69),1),"")
A70: 5975D767041 | B70: 일목줄 | C70: E59753767041 | D70: [제 9호] 아우트렛박스 중형4각 54㎜ [개]
A71: 59753767041 | B71: 제 9호 | C71: 3912130810035753 | D71: 아우트렛박스 | E71: 중형4각 54㎜ | F71: 개 | G71: 1 | H71: =합산자재!H11 -> 973 | I71: =IF(G71*H71<>0, TRUNC(G71*H71,1),"") -> 973 | J71: 1 | K71: =합산자재!I11 -> 0 | L71: =IF(G71*K71<>0, TRUNC(G71*K71,1),"") | M71: =합산자재!J11 -> 0 | N71: =IF(G71*M71<>0, TRUNC(G71*M71,1),"") | P71: =IF(SUM(I71,L71,N71)<>0,TRUNC(SUM(I71,L71,N71),1),"") -> 973 | Z71: 노임계
A72: 56900017016 | B72: 제 9호 | C72: L001010101000075 | D72: 노 무 비 | E72: 내선전공 | F72: 인 | G72: =일위노임!G32 -> 0.12 | H72: =합산자재!H56 -> 0 | I72: =IF(G72*H72<>0, TRUNC(G72*H72,1),"") | J72: 0.12 | K72: =합산자재!I56 -> 273676 | L72: =IF(G72*K72<>0, TRUNC(G72*K72,1),"") -> 32841.1 | M72: =합산자재!J56 -> 0 | N72: =IF(G72*M72<>0, TRUNC(G72*M72,1),"") | P72: =IF(SUM(I72,L72,N72)<>0,TRUNC(SUM(I72,L72,N72),1),"") -> 32841.1 | AE72: =L72 -> 32841.1
A73: A0300000000 | B73: 제 9호 | C73: RENT000000000006 | D73: [ 공 구 손 료 ] | E73: 노무비의 3 % | F73: 식 | G73: 1 | H73: =IF(TRUNC((AD74+AC74)/$AE$3,1)*$AE$3-AD74 <0, AC74, TRUNC((AD74+AC74)/$AE$3,1)*$AE$3-AD74) -> 985.2 | I73: =H73 -> 985.2 | J73: 1 | L73: =IF(G73*K73<>0, TRUNC(G73*K73,1),"") | N73: =IF(G73*M73<>0, TRUNC(G73*M73,1),"") | P73: =IF(SUM(I73,L73,N73)<>0,TRUNC(SUM(I73,L73,N73),1),"") -> 985.1
B74: 합계줄 | D74: ( 합 계 ) | I74: =TRUNC(SUM(I70:I73)) -> 1958 | L74: =TRUNC(SUM(L70:L73)) -> 32841 | N74: =TRUNC(SUM(N70:N73)) -> 0 | P74: =IF(SUM(I74,L74,N74)<>0,TRUNC(SUM(I74,L74,N74),1),"") -> 34799 | Z74: 노임계 | AC74: =TRUNC(AE74*옵션!$B$36/100,1) -> 985.2 | AD74: =TRUNC(SUM(L70:L72)) -> 32841 | AE74: =TRUNC(SUM(AE70:AE73)) -> 32841
I75: =IF(G75*H75<>0, TRUNC(G75*H75,1),"") | L75: =IF(G75*K75<>0, TRUNC(G75*K75,1),"") | N75: =IF(G75*M75<>0, TRUNC(G75*M75,1),"") | P75: =IF(SUM(I75,L75,N75)<>0,TRUNC(SUM(I75,L75,N75),1),"")
A76: 5975D777102 | B76: 일목줄 | C76: E59753777102 | D76: [제 10호] 스위치박스 1 개용 54 mm [개]
A77: 59753777102 | B77: 제 10호 | C77: 3912130610035778 | D77: 스위치박스 | E77: 1 개용 54 mm | F77: 개 | G77: 1 | H77: =합산자재!H12 -> 603 | I77: =IF(G77*H77<>0, TRUNC(G77*H77,1),"") -> 603 | J77: 1 | K77: =합산자재!I12 -> 0 | L77: =IF(G77*K77<>0, TRUNC(G77*K77,1),"") | M77: =합산자재!J12 -> 0 | N77: =IF(G77*M77<>0, TRUNC(G77*M77,1),"") | P77: =IF(SUM(I77,L77,N77)<>0,TRUNC(SUM(I77,L77,N77),1),"") -> 603 | Z77: 노임계
A78: 56900017016 | B78: 제 10호 | C78: L001010101000075 | D78: 노 무 비 | E78: 내선전공 | F78: 인 | G78: =일위노임!G35 -> 0.2 | H78: =합산자재!H56 -> 0 | I78: =IF(G78*H78<>0, TRUNC(G78*H78,1),"") | J78: 0.2 | K78: =합산자재!I56 -> 273676 | L78: =IF(G78*K78<>0, TRUNC(G78*K78,1),"") -> 54735.2 | M78: =합산자재!J56 -> 0 | N78: =IF(G78*M78<>0, TRUNC(G78*M78,1),"") | P78: =IF(SUM(I78,L78,N78)<>0,TRUNC(SUM(I78,L78,N78),1),"") -> 54735.2 | AE78: =L78 -> 54735.2
A79: A0300000000 | B79: 제 10호 | C79: RENT000000000006 | D79: [ 공 구 손 료 ] | E79: 노무비의 3 % | F79: 식 | G79: 1 | H79: =IF(TRUNC((AD80+AC80)/$AE$3,1)*$AE$3-AD80 <0, AC80, TRUNC((AD80+AC80)/$AE$3,1)*$AE$3-AD80) -> 1642 | I79: =H79 -> 1642 | J79: 1 | L79: =IF(G79*K79<>0, TRUNC(G79*K79,1),"") | N79: =IF(G79*M79<>0, TRUNC(G79*M79,1),"") | P79: =IF(SUM(I79,L79,N79)<>0,TRUNC(SUM(I79,L79,N79),1),"") -> 1642
B80: 합계줄 | D80: ( 합 계 ) | I80: =TRUNC(SUM(I76:I79)) -> 2245 | L80: =TRUNC(SUM(L76:L79)) -> 54735 | N80: =TRUNC(SUM(N76:N79)) -> 0 | P80: =IF(SUM(I80,L80,N80)<>0,TRUNC(SUM(I80,L80,N80),1),"") -> 56980 | Z80: 노임계 | AC80: =TRUNC(AE80*옵션!$B$36/100,1) -> 1642 | AD80: =TRUNC(SUM(L76:L78)) -> 54735 | AE80: =TRUNC(SUM(AE76:AE79)) -> 54735
I81: =IF(G81*H81<>0, TRUNC(G81*H81,1),"") | L81: =IF(G81*K81<>0, TRUNC(G81*K81,1),"") | N81: =IF(G81*M81<>0, TRUNC(G81*M81,1),"") | P81: =IF(SUM(I81,L81,N81)<>0,TRUNC(SUM(I81,L81,N81),1),"")
A82: 5975D777111 | B82: 일목줄 | C82: E59753777111 | D82: [제 11호] 스위치박스 2 개용 54 mm [개]
A83: 59753777111 | B83: 제 11호 | C83: 3912130610035781 | D83: 스위치박스 | E83: 2 개용 54 mm | F83: 개 | G83: 1 | H83: =합산자재!H13 -> 726 | I83: =IF(G83*H83<>0, TRUNC(G83*H83,1),"") -> 726 | J83: 1 | K83: =합산자재!I13 -> 0 | L83: =IF(G83*K83<>0, TRUNC(G83*K83,1),"") | M83: =합산자재!J13 -> 0 | N83: =IF(G83*M83<>0, TRUNC(G83*M83,1),"") | P83: =IF(SUM(I83,L83,N83)<>0,TRUNC(SUM(I83,L83,N83),1),"") -> 726 | Z83: 노임계
A84: 56900017016 | B84: 제 11호 | C84: L001010101000075 | D84: 노 무 비 | E84: 내선전공 | F84: 인 | G84: =일위노임!G38 -> 0.2 | H84: =합산자재!H56 -> 0 | I84: =IF(G84*H84<>0, TRUNC(G84*H84,1),"") | J84: 0.2 | K84: =합산자재!I56 -> 273676 | L84: =IF(G84*K84<>0, TRUNC(G84*K84,1),"") -> 54735.2 | M84: =합산자재!J56 -> 0 | N84: =IF(G84*M84<>0, TRUNC(G84*M84,1),"") | P84: =IF(SUM(I84,L84,N84)<>0,TRUNC(SUM(I84,L84,N84),1),"") -> 54735.2 | AE84: =L84 -> 54735.2
A85: A0300000000 | B85: 제 11호 | C85: RENT000000000006 | D85: [ 공 구 손 료 ] | E85: 노무비의 3 % | F85: 식 | G85: 1 | H85: =IF(TRUNC((AD86+AC86)/$AE$3,1)*$AE$3-AD86 <0, AC86, TRUNC((AD86+AC86)/$AE$3,1)*$AE$3-AD86) -> 1642 | I85: =H85 -> 1642 | J85: 1 | L85: =IF(G85*K85<>0, TRUNC(G85*K85,1),"") | N85: =IF(G85*M85<>0, TRUNC(G85*M85,1),"") | P85: =IF(SUM(I85,L85,N85)<>0,TRUNC(SUM(I85,L85,N85),1),"") -> 1642
B86: 합계줄 | D86: ( 합 계 ) | I86: =TRUNC(SUM(I82:I85)) -> 2368 | L86: =TRUNC(SUM(L82:L85)) -> 54735 | N86: =TRUNC(SUM(N82:N85)) -> 0 | P86: =IF(SUM(I86,L86,N86)<>0,TRUNC(SUM(I86,L86,N86),1),"") -> 57103 | Z86: 노임계 | AC86: =TRUNC(AE86*옵션!$B$36/100,1) -> 1642 | AD86: =TRUNC(SUM(L82:L84)) -> 54735 | AE86: =TRUNC(SUM(AE82:AE85)) -> 54735
I87: =IF(G87*H87<>0, TRUNC(G87*H87,1),"") | L87: =IF(G87*K87<>0, TRUNC(G87*K87,1),"") | N87: =IF(G87*M87<>0, TRUNC(G87*M87,1),"") | P87: =IF(SUM(I87,L87,N87)<>0,TRUNC(SUM(I87,L87,N87),1),"")
A88: 6145F137894 | B88: 일목줄 | C88: E61455137894 | D88: [제 12호] 정션 박스 100*100*50 [EA]
A89: 61455137894 | B89: 제 12호 | C89: 3912130320175917 | D89: 정션 박스 | E89: 100*100*50 | F89: EA | G89: 1 | H89: =합산자재!H18 -> 2690 | I89: =IF(G89*H89<>0, TRUNC(G89*H89,1),"") -> 2690 | J89: 1 | K89: =합산자재!I18 -> 0 | L89: =IF(G89*K89<>0, TRUNC(G89*K89,1),"") | M89: =합산자재!J18 -> 0 | N89: =IF(G89*M89<>0, TRUNC(G89*M89,1),"") | P89: =IF(SUM(I89,L89,N89)<>0,TRUNC(SUM(I89,L89,N89),1),"") -> 2690 | Z89: 노임계
A90: 56900017016 | B90: 제 12호 | C90: L001010101000075 | D90: 노 무 비 | E90: 내선전공 | F90: 인 | G90: =일위노임!G41 -> 0.04 | H90: =합산자재!H56 -> 0 | I90: =IF(G90*H90<>0, TRUNC(G90*H90,1),"") | J90: 0.04 | K90: =합산자재!I56 -> 273676 | L90: =IF(G90*K90<>0, TRUNC(G90*K90,1),"") -> 10947 | M90: =합산자재!J56 -> 0 | N90: =IF(G90*M90<>0, TRUNC(G90*M90,1),"") | P90: =IF(SUM(I90,L90,N90)<>0,TRUNC(SUM(I90,L90,N90),1),"") -> 10947 | AE90: =L90 -> 10947
A91: A0300000000 | B91: 제 12호 | C91: RENT000000000006 | D91: [ 공 구 손 료 ] | E91: 노무비의 3 % | F91: 식 | G91: 1 | H91: =IF(TRUNC((AD92+AC92)/$AE$3,1)*$AE$3-AD92 <0, AC92, TRUNC((AD92+AC92)/$AE$3,1)*$AE$3-AD92) -> 328.4 | I91: =H91 -> 328.4 | J91: 1 | L91: =IF(G91*K91<>0, TRUNC(G91*K91,1),"") | N91: =IF(G91*M91<>0, TRUNC(G91*M91,1),"") | P91: =IF(SUM(I91,L91,N91)<>0,TRUNC(SUM(I91,L91,N91),1),"") -> 328.4
B92: 합계줄 | D92: ( 합 계 ) | I92: =TRUNC(SUM(I88:I91)) -> 3018 | L92: =TRUNC(SUM(L88:L91)) -> 10947 | N92: =TRUNC(SUM(N88:N91)) -> 0 | P92: =IF(SUM(I92,L92,N92)<>0,TRUNC(SUM(I92,L92,N92),1),"") -> 13965 | Z92: 노임계 | AC92: =TRUNC(AE92*옵션!$B$36/100,1) -> 328.4 | AD92: =TRUNC(SUM(L88:L90)) -> 10947 | AE92: =TRUNC(SUM(AE88:AE91)) -> 10947
I93: =IF(G93*H93<>0, TRUNC(G93*H93,1),"") | L93: =IF(G93*K93<>0, TRUNC(G93*K93,1),"") | N93: =IF(G93*M93<>0, TRUNC(G93*M93,1),"") | P93: =IF(SUM(I93,L93,N93)<>0,TRUNC(SUM(I93,L93,N93),1),"")
A94: 5975D857081 | B94: 일목줄 | C94: E59753857081 | D94: [제 13호] 풀박스 200×200×200 [개]
A95: 59753857081 | B95: 제 13호 | C95: 3912130310035801 | D95: 풀박스 | E95: 200×200×200 | F95: 개 | G95: 1 | H95: =합산자재!H19 -> 6035 | I95: =IF(G95*H95<>0, TRUNC(G95*H95,1),"") -> 6035 | J95: 1 | K95: =합산자재!I19 -> 0 | L95: =IF(G95*K95<>0, TRUNC(G95*K95,1),"") | M95: =합산자재!J19 -> 0 | N95: =IF(G95*M95<>0, TRUNC(G95*M95,1),"") | P95: =IF(SUM(I95,L95,N95)<>0,TRUNC(SUM(I95,L95,N95),1),"") -> 6035 | Z95: 노임계
A96: 56900017016 | B96: 제 13호 | C96: L001010101000075 | D96: 노 무 비 | E96: 내선전공 | F96: 인 | G96: =일위노임!G44 -> 0.22 | H96: =합산자재!H56 -> 0 | I96: =IF(G96*H96<>0, TRUNC(G96*H96,1),"") | J96: 0.22 | K96: =합산자재!I56 -> 273676 | L96: =IF(G96*K96<>0, TRUNC(G96*K96,1),"") -> 60208.7 | M96: =합산자재!J56 -> 0 | N96: =IF(G96*M96<>0, TRUNC(G96*M96,1),"") | P96: =IF(SUM(I96,L96,N96)<>0,TRUNC(SUM(I96,L96,N96),1),"") -> 60208.7 | AE96: =L96 -> 60208.7
A97: A0300000000 | B97: 제 13호 | C97: RENT000000000006 | D97: [ 공 구 손 료 ] | E97: 노무비의 3 % | F97: 식 | G97: 1 | H97: =IF(TRUNC((AD98+AC98)/$AE$3,1)*$AE$3-AD98 <0, AC98, TRUNC((AD98+AC98)/$AE$3,1)*$AE$3-AD98) -> 1806.2 | I97: =H97 -> 1806.2 | J97: 1 | L97: =IF(G97*K97<>0, TRUNC(G97*K97,1),"") | N97: =IF(G97*M97<>0, TRUNC(G97*M97,1),"") | P97: =IF(SUM(I97,L97,N97)<>0,TRUNC(SUM(I97,L97,N97),1),"") -> 1806.2
B98: 합계줄 | D98: ( 합 계 ) | I98: =TRUNC(SUM(I94:I97)) -> 7841 | L98: =TRUNC(SUM(L94:L97)) -> 60208 | N98: =TRUNC(SUM(N94:N97)) -> 0 | P98: =IF(SUM(I98,L98,N98)<>0,TRUNC(SUM(I98,L98,N98),1),"") -> 68049 | Z98: 노임계 | AC98: =TRUNC(AE98*옵션!$B$36/100,1) -> 1806.2 | AD98: =TRUNC(SUM(L94:L96)) -> 60208 | AE98: =TRUNC(SUM(AE94:AE97)) -> 60208
I99: =IF(G99*H99<>0, TRUNC(G99*H99,1),"") | L99: =IF(G99*K99<>0, TRUNC(G99*K99,1),"") | N99: =IF(G99*M99<>0, TRUNC(G99*M99,1),"") | P99: =IF(SUM(I99,L99,N99)<>0,TRUNC(SUM(I99,L99,N99),1),"")
A100: 5975B817222 | B100: 일목줄 | C100: E59751817222 | D100: [제 14호] 케이블트레이 STRAIGHT,St W300x100Hx2.3t [m]
...

Sheet 일위노임
A1: 총줄수-> | B1: 133 | D1: [ 전곡초 외 1교(반도체고) 화장실 및 냉난방개선 전기공사 ] - 일위노임 산출근거 | AA1: 내선전공 | AB1: 저압케이블전공 | AC1: 통신설비공 | AD1: 보통인부 | AE1: 착암공
A2: 번호 | B2: 공종코드 | C2: 코드 | D2: 명 칭 | E2: 규 격 | F2: 단위 | G2: 수량 | K2: 코드 | L2: 공량산출 | P2: 단 위 단 가 산 출 | S2: 품셈근거 | T2: 비고
G3: 결정수량 | H3: 할증 | I3: 산출수량 | J3: 재할% | L3: 명칭 | M3: 품셈 | N3: 할증% | O3: 공량 | P3: 단가 | Q3: 단위단가 | R3: 단위계
B4: 공종줄 | D4: [ 제 1호 ] TRAY SUPPORT W300-1단 [식]
B5: 800 | C5: 3116210220135769 | D5: 스트롱앵커 | E5: 3/8 | F5: 개 | G5: 2 | H5: =IF(I5<>0,G5-I5,"") -> 0 | I5: 2 | K5: 56900017016 | L5: 내선전공 | M5: 0.036 | N5: 100 | O5: =IF(I5*M5=0,"",I5*M5*(N5/100)) -> 0.072 | S5: 전기5-29 | AA5: =O5 -> 0.072
B6: 800 | C6: L001010101000075 | D6: 노 무 비 | E6: 내선전공 | F6: 인 | G6: =IF(H6*I6/100+0.000005 <1, TRUNC(H6*I6/100+0.000005, 옵션!$E$13), TRUNC(H6*I6/100+0.000005, 옵션!$E$13)) -> 0.072 | H6: =옵션!$B$13 -> 100 | I6: =SUM(AA5:AA5) -> 0.072 | O6: =IF(I6*M6=0,"",I6*M6*(N6/100)) | AA6: =SUM(AA5:AA5) -> 0.072
B7: 공종줄 | D7: [ 제 2호 ] 벽관통 구멍(방화실링) Φ50-벽두께 25cm [개소]
B8: 800 | C8: 391115ZZ701Z0013 | D8: 품셈 산출근거 | E8: 벽두께 25cm | F8: 식 | G8: 1 | H8: =IF(I8<>0,G8-I8,"") -> 0 | I8: 1 | K8: 56900017041 | L8: 보통인부 | M8: 0.266 | N8: 100 | O8: =IF(I8*M8=0,"",I8*M8*(N8/100)) -> 0.266 | S8: 전기5-29-1 | AD8: =O8 -> 0.266
B9: 800 | C9: 391115ZZ701Z0013 | G9: 1 | H9: =IF(I9<>0,G9-I9,"") -> 0 | I9: 1 | K9: 56900017098 | L9: 착암공 | M9: 0.266 | N9: 100 | O9: =IF(I9*M9=0,"",I9*M9*(N9/100)) -> 0.266 | S9: 전기5-29-1 | AE9: =O9 -> 0.266
B10: 800 | C10: L001010101000002 | D10: 노 무 비 | E10: 보통인부 | F10: 인 | G10: =IF(H10*I10/100+0.000005 <1, TRUNC(H10*I10/100+0.000005, 옵션!$E$13), TRUNC(H10*I10/100+0.000005, 옵션!$E$13)) -> 0.266 | H10: =옵션!$B$13 -> 100 | I10: =SUM(AD8:AD9) -> 0.266 | O10: =IF(I10*M10=0,"",I10*M10*(N10/100)) | AD10: =SUM(AD8:AD9) -> 0.266 | AE10: =SUM(AE8:AE9) -> 0.266
B11: 800 | C11: L001010101000015 | D11: 노 무 비 | E11: 착암공 | F11: 인 | G11: =IF(H11*I11/100+0.000005 <1, TRUNC(H11*I11/100+0.000005, 옵션!$E$13), TRUNC(H11*I11/100+0.000005, 옵션!$E$13)) -> 0.266 | H11: =옵션!$B$13 -> 100 | I11: =SUM(AE8:AE9) -> 0.266 | O11: =IF(I11*M11=0,"",I11*M11*(N11/100))
B12: 공종줄 | D12: [ 제 3호 ] 배관용 홈파기 Φ22이하 [m]
B13: 800 | C13: 391115ZZ701Z0012 | D13: 품셈 산출근거 | E13: Φ22이하 | F13: 식 | G13: 1 | H13: =IF(I13<>0,G13-I13,"") -> 0 | I13: 1 | K13: 56900017041 | L13: 보통인부 | M13: 0.08 | N13: 100 | O13: =IF(I13*M13=0,"",I13*M13*(N13/100)) -> 0.08 | S13: 전기5-29 | AD13: =O13 -> 0.08
B14: 800 | C14: L001010101000002 | D14: 노 무 비 | E14: 보통인부 | F14: 인 | G14: =IF(H14*I14/100+0.000005 <1, TRUNC(H14*I14/100+0.000005, 옵션!$E$13), TRUNC(H14*I14/100+0.000005, 옵션!$E$13)) -> 0.08 | H14: =옵션!$B$13 -> 100 | I14: =SUM(AD13:AD13) -> 0.08 | O14: =IF(I14*M14=0,"",I14*M14*(N14/100)) | AD14: =SUM(AD13:AD13) -> 0.08
B15: 공종줄 | D15: [ 제 4호 ] 파이프지지대 벽체 42C [개]
B16: 800 | C16: 3116210220135769 | D16: 스트롱앵커 | E16: 3/8 | F16: 개 | G16: 1 | H16: =IF(I16<>0,G16-I16,"") -> 0 | I16: 1 | K16: 56900017016 | L16: 내선전공 | M16: 0.036 | N16: 100 | O16: =IF(I16*M16=0,"",I16*M16*(N16/100)) -> 0.036 | S16: 전기5-29 | AA16: =O16 -> 0.036
B17: 800 | C17: L001010101000075 | D17: 노 무 비 | E17: 내선전공 | F17: 인 | G17: =IF(H17*I17/100+0.000005 <1, TRUNC(H17*I17/100+0.000005, 옵션!$E$13), TRUNC(H17*I17/100+0.000005, 옵션!$E$13)) -> 0.036 | H17: =옵션!$B$13 -> 100 | I17: =SUM(AA16:AA16) -> 0.036 | O17: =IF(I17*M17=0,"",I17*M17*(N17/100)) | AA17: =SUM(AA16:AA16) -> 0.036
B18: 공종줄 | D18: [ 제 5호 ] 강제전선관(노출) 아연도 42 mm [M.]
B19: 800 | C19: 3913170610034836 | D19: 강제전선관 | E19: 아연도 42 mm | F19: m | G19: 1 | H19: =IF(I19<>0,G19-I19,"") -> 0 | I19: 1 | K19: 56900017016 | L19: 내선전공 | M19: 0.25 | N19: 100 | O19: =IF(I19*M19=0,"",I19*M19*(N19/100)) -> 0.25 | S19: 전기5-1 | AA19: =O19 -> 0.25
B20: 800 | C20: L001010101000075 | D20: 노 무 비 | E20: 내선전공 | F20: 인 | G20: =IF(H20*I20/100+0.000005 <1, TRUNC(H20*I20/100+0.000005, 옵션!$E$13), TRUNC(H20*I20/100+0.000005, 옵션!$E$13)) -> 0.25 | H20: =옵션!$B$13 -> 100 | I20: =SUM(AA19:AA19) -> 0.25 | O20: =IF(I20*M20=0,"",I20*M20*(N20/100)) | AA20: =SUM(AA19:AA19) -> 0.25
B21: 공종줄 | D21: [ 제 6호 ] 1종금속제가요전선관 16 mm 고장력-비방수 [M]
B22: 800 | C22: 3913170620174478 | D22: 1종금속제가요전선관 | E22: 16 mm 고장력-비방수 | F22: m | G22: 1 | H22: =IF(I22<>0,G22-I22,"") -> 0 | I22: 1 | K22: 56900017016 | L22: 내선전공 | M22: 0.044 | N22: 100 | O22: =IF(I22*M22=0,"",I22*M22*(N22/100)) -> 0.044 | S22: 전기5-1 | AA22: =O22 -> 0.044
B23: 800 | C23: L001010101000075 | D23: 노 무 비 | E23: 내선전공 | F23: 인 | G23: =IF(H23*I23/100+0.000005 <1, TRUNC(H23*I23/100+0.000005, 옵션!$E$13), TRUNC(H23*I23/100+0.000005, 옵션!$E$13)) -> 0.044 | H23: =옵션!$B$13 -> 100 | I23: =SUM(AA22:AA22) -> 0.044 | O23: =IF(I23*M23=0,"",I23*M23*(N23/100)) | AA23: =SUM(AA22:AA22) -> 0.044
B24: 공종줄 | D24: [ 제 7호 ] 1종금속제가요전선관 22 mm 고장력-비방수 [M]
B25: 800 | C25: 3913170620174479 | D25: 1종금속제가요전선관 | E25: 22 mm 고장력-비방수 | F25: m | G25: 1 | H25: =IF(I25<>0,G25-I25,"") -> 0 | I25: 1 | K25: 56900017016 | L25: 내선전공 | M25: 0.059 | N25: 100 | O25: =IF(I25*M25=0,"",I25*M25*(N25/100)) -> 0.059 | S25: 전기5-1 | AA25: =O25 -> 0.059
B26: 800 | C26: L001010101000075 | D26: 노 무 비 | E26: 내선전공 | F26: 인 | G26: =IF(H26*I26/100+0.000005 <1, TRUNC(H26*I26/100+0.000005, 옵션!$E$13), TRUNC(H26*I26/100+0.000005, 옵션!$E$13)) -> 0.059 | H26: =옵션!$B$13 -> 100 | I26: =SUM(AA25:AA25) -> 0.059 | O26: =IF(I26*M26=0,"",I26*M26*(N26/100)) | AA26: =SUM(AA25:AA25) -> 0.059
B27: 공종줄 | D27: [ 제 8호 ] 아우트렛박스 8각 54㎜ [개]
B28: 800 | C28: 3912130810035750 | D28: 아우트렛박스 | E28: 8각 54㎜ | F28: 개 | G28: 1 | H28: =IF(I28<>0,G28-I28,"") -> 0 | I28: 1 | K28: 56900017016 | L28: 내선전공 | M28: 0.12 | N28: 100 | O28: =IF(I28*M28=0,"",I28*M28*(N28/100)) -> 0.12 | S28: 전기5-3 | AA28: =O28 -> 0.12
B29: 800 | C29: L001010101000075 | D29: 노 무 비 | E29: 내선전공 | F29: 인 | G29: =IF(H29*I29/100+0.000005 <1, TRUNC(H29*I29/100+0.000005, 옵션!$E$13), TRUNC(H29*I29/100+0.000005, 옵션!$E$13)) -> 0.12 | H29: =옵션!$B$13 -> 100 | I29: =SUM(AA28:AA28) -> 0.12 | O29: =IF(I29*M29=0,"",I29*M29*(N29/100)) | AA29: =SUM(AA28:AA28) -> 0.12
B30: 공종줄 | D30: [ 제 9호 ] 아우트렛박스 중형4각 54㎜ [개]
B31: 800 | C31: 3912130810035753 | D31: 아우트렛박스 | E31: 중형4각 54㎜ | F31: 개 | G31: 1 | H31: =IF(I31<>0,G31-I31,"") -> 0 | I31: 1 | K31: 56900017016 | L31: 내선전공 | M31: 0.12 | N31: 100 | O31: =IF(I31*M31=0,"",I31*M31*(N31/100)) -> 0.12 | S31: 전기5-3 | AA31: =O31 -> 0.12
B32: 800 | C32: L001010101000075 | D32: 노 무 비 | E32: 내선전공 | F32: 인 | G32: =IF(H32*I32/100+0.000005 <1, TRUNC(H32*I32/100+0.000005, 옵션!$E$13), TRUNC(H32*I32/100+0.000005, 옵션!$E$13)) -> 0.12 | H32: =옵션!$B$13 -> 100 | I32: =SUM(AA31:AA31) -> 0.12 | O32: =IF(I32*M32=0,"",I32*M32*(N32/100)) | AA32: =SUM(AA31:AA31) -> 0.12
B33: 공종줄 | D33: [ 제 10호 ] 스위치박스 1 개용 54 mm [개]
B34: 800 | C34: 3912130610035778 | D34: 스위치박스 | E34: 1 개용 54 mm | F34: 개 | G34: 1 | H34: =IF(I34<>0,G34-I34,"") -> 0 | I34: 1 | K34: 56900017016 | L34: 내선전공 | M34: 0.2 | N34: 100 | O34: =IF(I34*M34=0,"",I34*M34*(N34/100)) -> 0.2 | S34: 전기5-3 | AA34: =O34 -> 0.2
B35: 800 | C35: L001010101000075 | D35: 노 무 비 | E35: 내선전공 | F35: 인 | G35: =IF(H35*I35/100+0.000005 <1, TRUNC(H35*I35/100+0.000005, 옵션!$E$13), TRUNC(H35*I35/100+0.000005, 옵션!$E$13)) -> 0.2 | H35: =옵션!$B$13 -> 100 | I35: =SUM(AA34:AA34) -> 0.2 | O35: =IF(I35*M35=0,"",I35*M35*(N35/100)) | AA35: =SUM(AA34:AA34) -> 0.2
B36: 공종줄 | D36: [ 제 11호 ] 스위치박스 2 개용 54 mm [개]
B37: 800 | C37: 3912130610035781 | D37: 스위치박스 | E37: 2 개용 54 mm | F37: 개 | G37: 1 | H37: =IF(I37<>0,G37-I37,"") -> 0 | I37: 1 | K37: 56900017016 | L37: 내선전공 | M37: 0.2 | N37: 100 | O37: =IF(I37*M37=0,"",I37*M37*(N37/100)) -> 0.2 | S37: 전기5-3 | AA37: =O37 -> 0.2
B38: 800 | C38: L001010101000075 | D38: 노 무 비 | E38: 내선전공 | F38: 인 | G38: =IF(H38*I38/100+0.000005 <1, TRUNC(H38*I38/100+0.000005, 옵션!$E$13), TRUNC(H38*I38/100+0.000005, 옵션!$E$13)) -> 0.2 | H38: =옵션!$B$13 -> 100 | I38: =SUM(AA37:AA37) -> 0.2 | O38: =IF(I38*M38=0,"",I38*M38*(N38/100)) | AA38: =SUM(AA37:AA37) -> 0.2
B39: 공종줄 | D39: [ 제 12호 ] 정션 박스 100*100*50 [EA]
B40: 800 | C40: 3912130320175917 | D40: 정션 박스 | E40: 100*100*50 | F40: EA | G40: 1 | H40: =IF(I40<>0,G40-I40,"") -> 0 | I40: 1 | K40: 56900017016 | L40: 내선전공 | M40: 0.04 | N40: 100 | O40: =IF(I40*M40=0,"",I40*M40*(N40/100)) -> 0.04 | S40: 전기5-3 | AA40: =O40 -> 0.04
B41: 800 | C41: L001010101000075 | D41: 노 무 비 | E41: 내선전공 | F41: 인 | G41: =IF(H41*I41/100+0.000005 <1, TRUNC(H41*I41/100+0.000005, 옵션!$E$13), TRUNC(H41*I41/100+0.000005, 옵션!$E$13)) -> 0.04 | H41: =옵션!$B$13 -> 100 | I41: =SUM(AA40:AA40) -> 0.04 | O41: =IF(I41*M41=0,"",I41*M41*(N41/100)) | AA41: =SUM(AA40:AA40) -> 0.04
B42: 공종줄 | D42: [ 제 13호 ] 풀박스 200×200×200 [개]
B43: 800 | C43: 3912130310035801 | D43: 풀박스 | E43: 200×200×200 | F43: 개 | G43: 1 | H43: =IF(I43<>0,G43-I43,"") -> 0 | I43: 1 | K43: 56900017016 | L43: 내선전공 | M43: 0.22 | N43: 100 | O43: =IF(I43*M43=0,"",I43*M43*(N43/100)) -> 0.22 | S43: 전기5-4 | AA43: =O43 -> 0.22
B44: 800 | C44: L001010101000075 | D44: 노 무 비 | E44: 내선전공 | F44: 인 | G44: =IF(H44*I44/100+0.000005 <1, TRUNC(H44*I44/100+0.000005, 옵션!$E$13), TRUNC(H44*I44/100+0.000005, 옵션!$E$13)) -> 0.22 | H44: =옵션!$B$13 -> 100 | I44: =SUM(AA43:AA43) -> 0.22 | O44: =IF(I44*M44=0,"",I44*M44*(N44/100)) | AA44: =SUM(AA43:AA43) -> 0.22
B45: 공종줄 | D45: [ 제 14호 ] 케이블트레이 STRAIGHT,St W300x100Hx2.3t [m]
B46: 800 | C46: 3913170420174048 | D46: 케이블트레이 | E46: STRAIGHT,St W300x100Hx2.3t | F46: m | G46: 1.05 | H46: =IF(I46<>0,G46-I46,"") -> 0.05 | I46: 1 | J46: 5 | K46: 56900017016 | L46: 내선전공 | M46: 0.23 | N46: 100 | O46: =IF(I46*M46=0,"",I46*M46*(N46/100)) -> 0.23 | S46: 전기5-8 | AA46: =O46 -> 0.23
B47: 800 | C47: L001010101000075 | D47: 노 무 비 | E47: 내선전공 | F47: 인 | G47: =IF(H47*I47/100+0.000005 <1, TRUNC(H47*I47/100+0.000005, 옵션!$E$13), TRUNC(H47*I47/100+0.000005, 옵션!$E$13)) -> 0.23 | H47: =옵션!$B$13 -> 100 | I47: =SUM(AA46:AA46) -> 0.23 | O47: =IF(I47*M47=0,"",I47*M47*(N47/100)) | AA47: =SUM(AA46:AA46) -> 0.23
B48: 공종줄 | D48: [ 제 15호 ] 케이블트레이 COVER,St W300 [m]
B49: 800 | C49: 3913170420171161 | D49: 케이블트레이 | E49: COVER,St W300 | F49: m | G49: 1.05 | H49: =IF(I49<>0,G49-I49,"") -> 0.05 | I49: 1 | J49: 5 | K49: 56900017016 | L49: 내선전공 | M49: 0.046 | N49: 100 | O49: =IF(I49*M49=0,"",I49*M49*(N49/100)) -> 0.046 | S49: 전기5-8 | AA49: =O49 -> 0.046
B50: 800 | C50: L001010101000075 | D50: 노 무 비 | E50: 내선전공 | F50: 인 | G50: =IF(H50*I50/100+0.000005 <1, TRUNC(H50*I50/100+0.000005, 옵션!$E$13), TRUNC(H50*I50/100+0.000005, 옵션!$E$13)) -> 0.046 | H50: =옵션!$B$13 -> 100 | I50: =SUM(AA49:AA49) -> 0.046 | O50: =IF(I50*M50=0,"",I50*M50*(N50/100)) | AA50: =SUM(AA49:AA49) -> 0.046
B51: 공종줄 | D51: [ 제 16호 ] 450/750V 내열비닐절연전선 HFIX 1.38mm(1.5㎟) [M]
B52: 800 | C52: 2612162922076726 | D52: 450/750V 내열비닐절연전선 | E52: HFIX 1.38mm(1.5㎟) | F52: m | G52: 1 | H52: =IF(I52<>0,G52-I52,"") -> 0 | I52: 1 | K52: 56900017016 | L52: 내선전공 | M52: 0.01 | N52: 100 | O52: =IF(I52*M52=0,"",I52*M52*(N52/100)) -> 0.01 | S52: 전기5-10 | AA52: =O52 -> 0.01
B53: 800 | C53: L001010101000075 | D53: 노 무 비 | E53: 내선전공 | F53: 인 | G53: =IF(H53*I53/100+0.000005 <1, TRUNC(H53*I53/100+0.000005, 옵션!$E$13), TRUNC(H53*I53/100+0.000005, 옵션!$E$13)) -> 0.01 | H53: =옵션!$B$13 -> 100 | I53: =SUM(AA52:AA52) -> 0.01 | O53: =IF(I53*M53=0,"",I53*M53*(N53/100)) | AA53: =SUM(AA52:AA52) -> 0.01
B54: 공종줄 | D54: [ 제 17호 ] 450/750V 내열비닐절연전선 HFIX 1.78mm(2.5㎟) [M]
B55: 800 | C55: 2612162922076727 | D55: 450/750V 내열비닐절연전선 | E55: HFIX 1.78mm(2.5㎟) | F55: m | G55: 1 | H55: =IF(I55<>0,G55-I55,"") -> 0 | I55: 1 | K55: 56900017016 | L55: 내선전공 | M55: 0.01 | N55: 100 | O55: =IF(I55*M55=0,"",I55*M55*(N55/100)) -> 0.01 | S55: 전기5-10 | AA55: =O55 -> 0.01
B56: 800 | C56: L001010101000075 | D56: 노 무 비 | E56: 내선전공 | F56: 인 | G56: =IF(H56*I56/100+0.000005 <1, TRUNC(H56*I56/100+0.000005, 옵션!$E$13), TRUNC(H56*I56/100+0.000005, 옵션!$E$13)) -> 0.01 | H56: =옵션!$B$13 -> 100 | I56: =SUM(AA55:AA55) -> 0.01 | O56: =IF(I56*M56=0,"",I56*M56*(N56/100)) | AA56: =SUM(AA55:AA55) -> 0.01
B57: 공종줄 | D57: [ 제 18호 ] 450/750V 내열비닐절연전선 HFIX 2.25mm(4㎟) [M]
B58: 800 | C58: 2612162922076728 | D58: 450/750V 내열비닐절연전선 | E58: HFIX 2.25mm(4㎟) | F58: m | G58: 1 | H58: =IF(I58<>0,G58-I58,"") -> 0 | I58: 1 | K58: 56900017016 | L58: 내선전공 | M58: 0.01 | N58: 100 | O58: =IF(I58*M58=0,"",I58*M58*(N58/100)) -> 0.01 | S58: 전기5-10 | AA58: =O58 -> 0.01
B59: 800 | C59: L001010101000075 | D59: 노 무 비 | E59: 내선전공 | F59: 인 | G59: =IF(H59*I59/100+0.000005 <1, TRUNC(H59*I59/100+0.000005, 옵션!$E$13), TRUNC(H59*I59/100+0.000005, 옵션!$E$13)) -> 0.01 | H59: =옵션!$B$13 -> 100 | I59: =SUM(AA58:AA58) -> 0.01 | O59: =IF(I59*M59=0,"",I59*M59*(N59/100)) | AA59: =SUM(AA58:AA58) -> 0.01
B60: 공종줄 | D60: [ 제 19호 ] 접지용비닐절연전선(F-GV) 10㎟ [M]
B61: 800 | C61: 2612152420683698 | D61: 접지용비닐절연전선(F-GV) | E61: 10㎟ | F61: m | G61: 1 | H61: =IF(I61<>0,G61-I61,"") -> 0 | I61: 1 | K61: 56900017016 | L61: 내선전공 | M61: 0.006 | N61: 150 | O61: =IF(I61*M61=0,"",I61*M61*(N61/100)) -> 0.009 | S61: 전기3-38 | AA61: =O61 -> 0.009
B62: 800 | C62: L001010101000075 | D62: 노 무 비 | E62: 내선전공 | F62: 인 | G62: =IF(H62*I62/100+0.000005 <1, TRUNC(H62*I62/100+0.000005, 옵션!$E$13), TRUNC(H62*I62/100+0.000005, 옵션!$E$13)) -> 0.009 | H62: =옵션!$B$13 -> 100 | I62: =SUM(AA61:AA61) -> 0.009 | O62: =IF(I62*M62=0,"",I62*M62*(N62/100)) | AA62: =SUM(AA61:AA61) -> 0.009
B63: 공종줄 | D63: [ 제 20호 ] 폴리에틸렌 난연케이블 0.6/1kv F-CV 4C×10㎟ [M]
B64: 800 | C64: 2612162920683946 | D64: 폴리에틸렌 난연케이블 | E64: 0.6/1kv F-CV 4C×10㎟ | F64: m | G64: 1 | H64: =IF(I64<>0,G64-I64,"") -> 0 | I64: 1 | K64: 56900017076 | L64: 저압케이블전공 | M64: 0.049 | N64: 100 | O64: =IF(I64*M64=0,"",I64*M64*(N64/100)) -> 0.049 | S64: 전기5-13 | AB64: =O64 -> 0.049
B65: 800 | C65: L001010101000078 | D65: 노 무 비 | E65: 저압케이블전공 | F65: 인 | G65: =IF(H65*I65/100+0.000005 <1, TRUNC(H65*I65/100+0.000005, 옵션!$E$13), TRUNC(H65*I65/100+0.000005, 옵션!$E$13)) -> 0.049 | H65: =옵션!$B$13 -> 100 | I65: =SUM(AB64:AB64) -> 0.049 | O65: =IF(I65*M65=0,"",I65*M65*(N65/100)) | AB65: =SUM(AB64:AB64) -> 0.049
B66: 공종줄 | D66: [ 제 21호 ] 매입스위치 250V 1로3구 [개]
B67: 800 | C67: 3912998720170519 | D67: 매입스위치 | E67: 250V 1로3구 | F67: 개 | G67: 1 | H67: =IF(I67<>0,G67-I67,"") -> 0 | I67: 1 | K67: 56900017016 | L67: 내선전공 | M67: 0.085 | N67: 100 | O67: =IF(I67*M67=0,"",I67*M67*(N67/100)) -> 0.085 | S67: 전기5-23-2 | AA67: =O67 -> 0.085
B68: 800 | C68: L001010101000075 | D68: 노 무 비 | E68: 내선전공 | F68: 인 | G68: =IF(H68*I68/100+0.000005 <1, TRUNC(H68*I68/100+0.000005, 옵션!$E$13), TRUNC(H68*I68/100+0.000005, 옵션!$E$13)) -> 0.085 | H68: =옵션!$B$13 -> 100 | I68: =SUM(AA67:AA67) -> 0.085 | O68: =IF(I68*M68=0,"",I68*M68*(N68/100)) | AA68: =SUM(AA67:AA67) -> 0.085
B69: 공종줄 | D69: [ 제 22호 ] 콘센트 매입-접지형, 250V 2구 [개]
B70: 800 | C70: 3912140620170850 | D70: 콘센트 | E70: 매입-접지형, 250V 2구 | F70: 개 | G70: 1 | H70: =IF(I70<>0,G70-I70,"") -> 0 | I70: 1 | K70: 56900017016 | L70: 내선전공 | M70: 0.08 | N70: 100 | O70: =IF(I70*M70=0,"",I70*M70*(N70/100)) -> 0.08 | S70: 전기5-23-1 | AA70: =O70 -> 0.08
B71: 800 | C71: L001010101000075 | D71: 노 무 비 | E71: 내선전공 | F71: 인 | G71: =IF(H71*I71/100+0.000005 <1, TRUNC(H71*I71/100+0.000005, 옵션!$E$13), TRUNC(H71*I71/100+0.000005, 옵션!$E$13)) -> 0.08 | H71: =옵션!$B$13 -> 100 | I71: =SUM(AA70:AA70) -> 0.08 | O71: =IF(I71*M71=0,"",I71*M71*(N71/100)) | AA71: =SUM(AA70:AA70) -> 0.08
B72: 공종줄 | D72: [ 제 23호 ] 방우콘센트 매입-접지형, 250V 2구 [개]
B73: 800 | C73: 3912140621030228 | D73: 방우콘센트 | E73: 매입-접지형, 250V 2구 | F73: 개 | G73: 1 | H73: =IF(I73<>0,G73-I73,"") -> 0 | I73: 1 | K73: 56900017016 | L73: 내선전공 | M73: 0.08 | N73: 100 | O73: =IF(I73*M73=0,"",I73*M73*(N73/100)) -> 0.08 | S73: 전기5-23-1 | AA73: =O73 -> 0.08
B74: 800 | C74: L001010101000075 | D74: 노 무 비 | E74: 내선전공 | F74: 인 | G74: =IF(H74*I74/100+0.000005 <1, TRUNC(H74*I74/100+0.000005, 옵션!$E$13), TRUNC(H74*I74/100+0.000005, 옵션!$E$13)) -> 0.08 | H74: =옵션!$B$13 -> 100 | I74: =SUM(AA73:AA73) -> 0.08 | O74: =IF(I74*M74=0,"",I74*M74*(N74/100)) | AA74: =SUM(AA73:AA73) -> 0.08
B75: 공종줄 | D75: [ 제 24호 ] 화재감지기 열감지기,차동식스포트형 [개]
B76: 800 | C76: 4619150120192512 | D76: 화재감지기 | E76: 열감지기,차동식스포트형 | F76: 개 | G76: 1 | H76: =IF(I76<>0,G76-I76,"") -> 0 | I76: 1 | K76: 56900017016 | L76: 내선전공 | M76: 0.13 | N76: 100 | O76: =IF(I76*M76=0,"",I76*M76*(N76/100)) -> 0.13 | S76: 전기10-2-1 | AA76: =O76 -> 0.13
B77: 800 | C77: L001010101000075 | D77: 노 무 비 | E77: 내선전공 | F77: 인 | G77: =IF(H77*I77/100+0.000005 <1, TRUNC(H77*I77/100+0.000005, 옵션!$E$13), TRUNC(H77*I77/100+0.000005, 옵션!$E$13)) -> 0.13 | H77: =옵션!$B$13 -> 100 | I77: =SUM(AA76:AA76) -> 0.13 | O77: =IF(I77*M77=0,"",I77*M77*(N77/100)) | AA77: =SUM(AA76:AA76) -> 0.13
B78: 공종줄 | D78: [ 제 25호 ] 배선용 차단기 표준형, 4P 600V 50AF [대]
B79: 800 | C79: 3912161620169704 | D79: 배선용 차단기 | E79: 표준형, 4P 600V 50AF | F79: 대 | G79: 1 | H79: =IF(I79<>0,G79-I79,"") -> 0 | I79: 1 | K79: 56900017016 | L79: 내선전공 | M79: 0.338 | N79: 100 | O79: =IF(I79*M79=0,"",I79*M79*(N79/100)) -> 0.338 | S79: 전기5-19 | AA79: =O79 -> 0.338
B80: 800 | C80: L001010101000075 | D80: 노 무 비 | E80: 내선전공 | F80: 인 | G80: =IF(H80*I80/100+0.000005 <1, TRUNC(H80*I80/100+0.000005, 옵션!$E$13), TRUNC(H80*I80/100+0.000005, 옵션!$E$13)) -> 0.338 | H80: =옵션!$B$13 -> 100 | I80: =SUM(AA79:AA79) -> 0.338 | O80: =IF(I80*M80=0,"",I80*M80*(N80/100)) | AA80: =SUM(AA79:AA79) -> 0.338
B81: 공종줄 | D81: [ 제 26호 ] BGM 스피커 천정매입형(3W) [개]
B82: 800 | C82: 391115ZZ701Z0001 | D82: BGM 스피커 | E82: 천정매입형(3W) | F82: 개 | G82: 1 | H82: =IF(I82<>0,G82-I82,"") -> 0 | I82: 1 | K82: 56900017114 | L82: 통신설비공 | M82: 0.21 | N82: 100 | O82: =IF(I82*M82=0,"",I82*M82*(N82/100)) -> 0.21 | S82: 통신7-11-5 | AC82: =O82 -> 0.21
B83: 800 | C83: L001010101000087 | D83: 노 무 비 | E83: 통신설비공 | F83: 인 | G83: =IF(H83*I83/100+0.000005 <1, TRUNC(H83*I83/100+0.000005, 옵션!$E$13), TRUNC(H83*I83/100+0.000005, 옵션!$E$13)) -> 0.21 | H83: =옵션!$B$13 -> 100 | I83: =SUM(AC82:AC82) -> 0.21 | O83: =IF(I83*M83=0,"",I83*M83*(N83/100)) | AC83: =SUM(AC82:AC82) -> 0.21
B84: 공종줄 | D84: [ 제 27호 ] 등기구타공 다운라이트 [개소]
B85: 800 | C85: 391115ZZ701Z0002 | D85: 등기구타공 | E85: 다운라이트 | F85: 개소 | G85: 1 | H85: =IF(I85<>0,G85-I85,"") -> 0 | I85: 1 | K85: 56900017016 | L85: 내선전공 | M85: 0.02 | N85: 100 | O85: =IF(I85*M85=0,"",I85*M85*(N85/100)) -> 0.02 | S85: 전기5-29 | AA85: =O85 -> 0.02
B86: 800 | C86: L001010101000075 | D86: 노 무 비 | E86: 내선전공 | F86: 인 | G86: =IF(H86*I86/100+0.000005 <1, TRUNC(H86*I86/100+0.000005, 옵션!$E$13), TRUNC(H86*I86/100+0.000005, 옵션!$E$13)) -> 0.02 | H86: =옵션!$B$13 -> 100 | I86: =SUM(AA85:AA85) -> 0.02 | O86: =IF(I86*M86=0,"",I86*M86*(N86/100)) | AA86: =SUM(AA85:AA85) -> 0.02
B87: 공종줄 | D87: [ 제 28호 ] 분전반 L-T(체육관동) PANEL [면]
B88: 800 | C88: 391115ZZ701Z0004 | D88: 분전반 | E88: L-T(체육관동) PANEL | F88: 면 | G88: 1 | H88: =IF(I88<>0,G88-I88,"") -> 0 | I88: 1 | K88: 56900017016 | L88: 내선전공 | M88: 0.95 | N88: 100 | O88: =IF(I88*M88=0,"",I88*M88*(N88/100)) -> 0.95 | S88: 전기5-4 | AA88: =O88 -> 0.95
B89: 800 | C89: L001010101000075 | D89: 노 무 비 | E89: 내선전공 | F89: 인 | G89: =IF(H89*I89/100+0.000005 <1, TRUNC(H89*I89/100+0.000005, 옵션!$E$13), TRUNC(H89*I89/100+0.000005, 옵션!$E$13)) -> 0.95 | H89: =옵션!$B$13 -> 100 | I89: =SUM(AA88:AA88) -> 0.95 | O89: =IF(I89*M89=0,"",I89*M89*(N89/100)) | AA89: =SUM(AA88:AA88) -> 0.95
B90: 공종줄 | D90: [ 제 29호 ] 재실센서 화장실용 [EA]
B91: 800 | C91: 391115ZZ701Z0005 | D91: 재실센서 | E91: 화장실용 | F91: EA | G91: 1 | H91: =IF(I91<>0,G91-I91,"") -> 0 | I91: 1 | K91: 56900017016 | L91: 내선전공 | M91: 0.19 | N91: 100 | O91: =IF(I91*M91=0,"",I91*M91*(N91/100)) -> 0.19 | S91: 전기5-23-나 | AA91: =O91 -> 0.19
B92: 800 | C92: L001010101000075 | D92: 노 무 비 | E92: 내선전공 | F92: 인 | G92: =IF(H92*I92/100+0.000005 <1, TRUNC(H92*I92/100+0.000005, 옵션!$E$13), TRUNC(H92*I92/100+0.000005, 옵션!$E$13)) -> 0.19 | H92: =옵션!$B$13 -> 100 | I92: =SUM(AA91:AA91) -> 0.19 | O92: =IF(I92*M92=0,"",I92*M92*(N92/100)) | AA92: =SUM(AA91:AA91) -> 0.19
B93: 공종줄 | D93: [ 제 30호 ] 조명기구 TYPE A LED 20W 다운라이트(방습) [개]
B94: 800 | C94: 391115ZZ701Z0006 | D94: 조명기구 TYPE A | E94: LED 20W 다운라이트(방습) | F94: 개 | G94: 1 | H94: =IF(I94<>0,G94-I94,"") -> 0 | I94: 1 | K94: 56900017016 | L94: 내선전공 | M94: 0.182 | N94: 100 | O94: =IF(I94*M94=0,"",I94*M94*(N94/100)) -> 0.182 | S94: 전기5-25-3 | AA94: =O94 -> 0.182
B95: 800 | C95: L001010101000075 | D95: 노 무 비 | E95: 내선전공 | F95: 인 | G95: =IF(H95*I95/100+0.000005 <1, TRUNC(H95*I95/100+0.000005, 옵션!$E$13), TRUNC(H95*I95/100+0.000005, 옵션!$E$13)) -> 0.182 | H95: =옵션!$B$13 -> 100 | I95: =SUM(AA94:AA94) -> 0.182 | O95: =IF(I95*M95=0,"",I95*M95*(N95/100)) | AA95: =SUM(AA94:AA94) -> 0.182
B96: 공종줄 | D96: [ 제 31호 ] 철거 A TYPE LED 20W 다운라이트 [개]
B97: 800 | C97: 391115ZZ701Z0007 | D97: 철거 | E97: A TYPE LED 20W 다운라이트 | F97: 개 | G97: 1 | H97: =IF(I97<>0,G97-I97,"") -> 0 | I97: 1 | K97: 56900017016 | L97: 내선전공 | M97: 0.182 | N97: 30 | O97: =IF(I97*M97=0,"",I97*M97*(N97/100)) -> 0.0546 | S97: 전기5-25-3 | AA97: =O97 -> 0.0546
B98: 800 | C98: L001010101000075 | D98: 노 무 비 | E98: 내선전공 | F98: 인 | G98: =IF(H98*I98/100+0.000005 <1, TRUNC(H98*I98/100+0.000005, 옵션!$E$13), TRUNC(H98*I98/100+0.000005, 옵션!$E$13)) -> 0.0546 | H98: =옵션!$B$13 -> 100 | I98: =SUM(AA97:AA97) -> 0.0546 | O98: =IF(I98*M98=0,"",I98*M98*(N98/100)) | AA98: =SUM(AA97:AA97) -> 0.0546
B99: 공종줄 | D99: [ 제 32호 ] 철거 HFIX 1.78mm(2.5㎟) [M]
B100: 800 | C100: 391115ZZ701Z0008 | D100: 철거 | E100: HFIX 1.78mm(2.5㎟) | F100: m | G100: 1 | H100: =IF(I100<>0,G100-I100,"") -> 0 | I100: 1 | K100: 56900017016 | L100: 내선전공 | M100: 0.01 | N100: 30 | O100: =IF(I100*M100=0,"",I100*M100*(N100/100)) -> 0.003 | S100: 전기5-10 | AA100: =O100 -> 0.003
...

Sheet 합산자재
A1: 총줄수-> | B1: 81 | C1: [ 전곡초등학교 화장실개선 전기공사 ] - 합산자재목록
A2: 번호 | B2: … | C2: 코드 | D2: 명 칭 | E2: 규 격 | F2: 단위 | G2: 수량 | H2: 재료비 | I2: 노무비 | J2: 경비 | K2: 지급비 | L2: 계 | M2: 비고
C4: 3913170610034836 | D4: 강제전선관 | E4: 아연도 42 mm | F4: m | G4: 3.3 | H4: =TRUNC(단가조사!G4*옵션!$D$11) -> 5899 | L4: =SUM(H4,I4,J4) -> 5899
C5: 3913170620174434 | D5: 1종금속제가요전선관 | E5: 커넥터, 16 mm 일반-비방수 | F5: 개 | G5: 36 | H5: =TRUNC(단가조사!G6*옵션!$D$11) -> 346 | L5: =SUM(H5,I5,J5) -> 346
C6: 3913170620174435 | D6: 1종금속제가요전선관 | E6: 커넥터, 22 mm 일반-비방수 | F6: 개 | G6: 4 | H6: =TRUNC(단가조사!G7*옵션!$D$11) -> 517 | L6: =SUM(H6,I6,J6) -> 517
C7: 3913170620174478 | D7: 1종금속제가요전선관 | E7: 16 mm 고장력-비방수 | F7: m | G7: 57.2 | H7: =TRUNC(단가조사!G8*옵션!$D$11) -> 544 | L7: =SUM(H7,I7,J7) -> 544
C8: 3913170620174479 | D8: 1종금속제가요전선관 | E8: 22 mm 고장력-비방수 | F8: m | G8: 51.7 | H8: =TRUNC(단가조사!G9*옵션!$D$11) -> 994 | L8: =SUM(H8,I8,J8) -> 994
C9: 3913170820176477 | D9: 강제전선관용 부품 | E9: 노말밴드, 아연도 42 mm | F9: 개 | G9: 1 | H9: =TRUNC(단가조사!G14*옵션!$D$11) -> 5351 | L9: =SUM(H9,I9,J9) -> 5351
C10: 3912130810035750 | D10: 아우트렛박스 | E10: 8각 54㎜ | F10: 개 | G10: 14 | H10: =TRUNC(단가조사!G15*옵션!$D$11) -> 638 | L10: =SUM(H10,I10,J10) -> 638
C11: 3912130810035753 | D11: 아우트렛박스 | E11: 중형4각 54㎜ | F11: 개 | G11: 9 | H11: =TRUNC(단가조사!G16*옵션!$D$11) -> 973 | L11: =SUM(H11,I11,J11) -> 973
C12: 3912130610035778 | D12: 스위치박스 | E12: 1 개용 54 mm | F12: 개 | G12: 4 | H12: =TRUNC(단가조사!G17*옵션!$D$11) -> 603 | L12: =SUM(H12,I12,J12) -> 603
C13: 3912130610035781 | D13: 스위치박스 | E13: 2 개용 54 mm | F13: 개 | G13: 2 | H13: =TRUNC(단가조사!G18*옵션!$D$11) -> 726 | L13: =SUM(H13,I13,J13) -> 726
C14: 3912130820174710 | D14: 아우트렛박스 커버 | E14: 커버, 8각, 평형 | F14: 개 | G14: 14 | H14: =TRUNC(단가조사!G19*옵션!$D$11) -> 343 | L14: =SUM(H14,I14,J14) -> 343
C15: 3912130820174713 | D15: 아우트렛박스 커버 | E15: 커버, 4각, 평형 | F15: 개 | G15: 6 | H15: =TRUNC(단가조사!G20*옵션!$D$11) -> 343 | L15: =SUM(H15,I15,J15) -> 343
C16: 3912130820174717 | D16: 아우트렛박스 커버 | E16: 커버, 4각,1개용S/W | F16: 개 | G16: 2 | H16: =TRUNC(단가조사!G21*옵션!$D$11) -> 343 | L16: =SUM(H16,I16,J16) -> 343
C17: 3912130820157231 | D17: 아우트렛박스 커버 | E17: 콘카바 | F17: 개 | G17: 3 | H17: =TRUNC(단가조사!G22*옵션!$D$11) -> 343 | L17: =SUM(H17,I17,J17) -> 343
C18: 3912130320175917 | D18: 정션 박스 | E18: 100*100*50 | F18: EA | G18: 12 | H18: =TRUNC(단가조사!G23*옵션!$D$11) -> 2690 | L18: =SUM(H18,I18,J18) -> 2690
C19: 3912130310035801 | D19: 풀박스 | E19: 200×200×200 | F19: 개 | G19: 1 | H19: =TRUNC(단가조사!G24*옵션!$D$11) -> 6035 | L19: =SUM(H19,I19,J19) -> 6035
C20: 3913170420174048 | D20: 케이블트레이 | E20: STRAIGHT,St W300x100Hx2.3t | F20: m | G20: 2.1 | H20: =TRUNC(단가조사!G29*옵션!$D$11) -> 12650 | L20: =SUM(H20,I20,J20) -> 12650
C21: 3913170420171161 | D21: 케이블트레이 | E21: COVER,St W300 | F21: m | G21: 2.1 | H21: =TRUNC(단가조사!G30*옵션!$D$11) -> 25940 | L21: =SUM(H21,I21,J21) -> 25940
C22: 3913170520175125 | D22: 케이블트레이부속품 | E22: HOLD DOWN CLAMP, 아연도 | F22: 개 | G22: 2 | H22: =TRUNC(단가조사!G31*옵션!$D$11) -> 373 | L22: =SUM(H22,I22,J22) -> 373
C23: 3913170520175126 | D23: 케이블트레이부속품 | E23: 찬넬스프링 너트, 아연도 | F23: 개 | G23: 2 | H23: =TRUNC(단가조사!G32*옵션!$D$11) -> 540 | L23: =SUM(H23,I23,J23) -> 540
C24: 3913170520175128 | D24: 케이블트레이부속품 | E24: U CHANNEL, 41x41x2.6t | F24: m | G24: 0.4 | H24: =TRUNC(단가조사!G33*옵션!$D$11) -> 6176 | L24: =SUM(H24,I24,J24) -> 6176
C25: 3913170810036338 | D25: 강제전선관용 부품 | E25: 파이프크램프, 42 C | F25: 개 | G25: 2 | H25: =TRUNC(단가조사!G34*옵션!$D$11) -> 250 | L25: =SUM(H25,I25,J25) -> 250
C26: 3116210220135769 | D26: 스트롱앵커 | E26: 3/8 | F26: 개 | G26: 4 | H26: =TRUNC(단가조사!G35*옵션!$D$11) -> 200 | L26: =SUM(H26,I26,J26) -> 200
C27: 3116169820135160 | D27: 행거볼트 | E27: M10×1000㎜ | F27: 개 | G27: 0.2 | H27: =TRUNC(단가조사!G36*옵션!$D$11) -> 1226 | L27: =SUM(H27,I27,J27) -> 1226
C28: 3016160420165664 | D28: 찬넬 | E28: 3m (2.3t) 41 * 41 | F28: EA | G28: 0.1 | H28: =TRUNC(단가조사!G37*옵션!$D$11) -> 22848 | L28: =SUM(H28,I28,J28) -> 22848
C29: 2612162922076726 | D29: 450/750V 내열비닐절연전선 | E29: HFIX 1.38mm(1.5㎟) | F29: m | G29: 74.8 | H29: =TRUNC(단가조사!G38*옵션!$D$11) -> 356 | L29: =SUM(H29,I29,J29) -> 356
C30: 2612162922076727 | D30: 450/750V 내열비닐절연전선 | E30: HFIX 1.78mm(2.5㎟) | F30: m | G30: 146.3 | H30: =TRUNC(단가조사!G39*옵션!$D$11) -> 544 | L30: =SUM(H30,I30,J30) -> 544
C31: 2612162922076728 | D31: 450/750V 내열비닐절연전선 | E31: HFIX 2.25mm(4㎟) | F31: m | G31: 155.1 | H31: =TRUNC(단가조사!G40*옵션!$D$11) -> 826 | L31: =SUM(H31,I31,J31) -> 826
C32: 2612152420683698 | D32: 접지용비닐절연전선(F-GV) | E32: 10㎟ | F32: m | G32: 7.7 | H32: =TRUNC(단가조사!G41*옵션!$D$11) -> 2090 | L32: =SUM(H32,I32,J32) -> 2090
C33: 2612162920683946 | D33: 폴리에틸렌 난연케이블 | E33: 0.6/1kv F-CV 4C×10㎟ | F33: m | G33: 7.35 | H33: =TRUNC(단가조사!G44*옵션!$D$11) -> 9566 | L33: =SUM(H33,I33,J33) -> 9566
C34: 3912998720170519 | D34: 매입스위치 | E34: 250V 1로3구 | F34: 개 | G34: 2 | H34: =TRUNC(단가조사!G45*옵션!$D$11) -> 2440 | L34: =SUM(H34,I34,J34) -> 2440
C35: 3912140620170850 | D35: 콘센트 | E35: 매입-접지형, 250V 2구 | F35: 개 | G35: 3 | H35: =TRUNC(단가조사!G46*옵션!$D$11) -> 1411 | L35: =SUM(H35,I35,J35) -> 1411
C36: 3912140621030228 | D36: 방우콘센트 | E36: 매입-접지형, 250V 2구 | F36: 개 | G36: 2 | H36: =TRUNC(단가조사!G47*옵션!$D$11) -> 2163 | L36: =SUM(H36,I36,J36) -> 2163
C37: 4619150120192512 | D37: 화재감지기 | E37: 열감지기,차동식스포트형 | F37: 개 | G37: 2 | H37: =TRUNC(단가조사!G48*옵션!$D$11) -> 4089 | L37: =SUM(H37,I37,J37) -> 4089
C38: 3912161620169704 | D38: 배선용 차단기 | E38: 표준형, 4P 600V 50AF | F38: 대 | G38: 1 | H38: =TRUNC(단가조사!G49*옵션!$D$11) -> 72300 | L38: =SUM(H38,I38,J38) -> 72300
C39: 3912143210033786 | D39: 러그단자 | E39: 동관단자 1 HOLE 10 ㎟ | F39: 개 | G39: 8 | H39: =TRUNC(단가조사!G50*옵션!$D$11) -> 299 | L39: =SUM(H39,I39,J39) -> 299
C40: 3912143221650910 | D40: 압착단자 | E40: R형동선 나압착 10 ㎟ | F40: 개 | G40: 2 | H40: =TRUNC(단가조사!G51*옵션!$D$11) -> 101 | L40: =SUM(H40,I40,J40) -> 101
C41: 3116162010023390 | D41: 6각볼트 | E41: 3/8,M10 | F41: 개 | G41: 2 | H41: =TRUNC(단가조사!G52*옵션!$D$11) -> 270 | L41: =SUM(H41,I41,J41) -> 270
C42: 3116172710024976 | D42: 6각너트 | E42: M10 | F42: 개 | G42: 4 | H42: =TRUNC(단가조사!G53*옵션!$D$11) -> 28 | L42: =SUM(H42,I42,J42) -> 28
C43: 3116181120136195 | D43: 스프링와샤 | E43: D10 | F43: EA | G43: 6 | H43: =TRUNC(단가조사!G54*옵션!$D$11) -> 10 | L43: =SUM(H43,I43,J43) -> 10
C44: 391115ZZ701Z0001 | D44: BGM 스피커 | E44: 천정매입형(3W) | F44: 개 | G44: 2 | H44: =TRUNC(단가조사!G55*옵션!$D$11) -> 350000 | L44: =SUM(H44,I44,J44) -> 350000
... C46: 391115ZZ701Z0003 | D46: 방화실리콘실란트 | E46: 310 ㎖ | F46: ℓ | G46: 0.28 | H46: =TRUNC(단가조사!G57*옵션!$D$11) -> 22500 | L46: =SUM(H46,I46,J46) -> 22500
C47: 391115ZZ701Z0004 | D47: 분전반 | E47: L-T(체육관동) PANEL | F47: 면 | G47: 1 | H47: =TRUNC(단가조사!G60*옵션!$D$11) -> 1168000 | L47: =SUM(H47,I47,J47) -> 1168000
C48: 391115ZZ701Z0005 | D48: 재실센서 | E48: 화장실용 | F48: EA | G48: 2 | H48: =TRUNC(단가조사!G62*옵션!$D$11) -> 77000 | L48: =SUM(H48,I48,J48) -> 77000
C49: 391115ZZ701Z0006 | D49: 조명기구 TYPE A | E49: LED 20W 다운라이트(방습) | F49: 개 | G49: 12 | H49: =TRUNC(단가조사!G63*옵션!$D$11) -> 21000 | L49: =SUM(H49,I49,J49) -> 21000
C50: 391115ZZ701Z0007 | D50: 철거 | E50: A TYPE LED 20W 다운라이트 | F50: 개 | G50: 10 | H50: =TRUNC(단가조사!G64*옵션!$D$11) -> 0 | L50: =SUM(H50,I50,J50) -> 0
C51: 391115ZZ701Z0008 | D51: 철거 | E51: HFIX 1.78mm(2.5㎟) | F51: m | G51: 68 | H51: =TRUNC(단가조사!G65*옵션!$D$11) -> 0 | L51: =SUM(H51,I51,J51) -> 0
C52: 391115ZZ701Z0009 | D52: 철거 | E52: HFIX 2.25mm(4㎟) | F52: m | G52: 378 | H52: =TRUNC(단가조사!G66*옵션!$D$11) -> 0 | L52: =SUM(H52,I52,J52) -> 0
C53: 391115ZZ701Z0010 | D53: 철거 | E53: 배선기구 스위치 1,2,3,4구 | F53: 개 | G53: 2 | H53: =TRUNC(단가조사!G67*옵션!$D$11) -> 0 | L53: =SUM(H53,I53,J53) -> 0
C54: 391115ZZ701Z0011 | D54: 철거 | E54: 연결용 박스 | F54: 개 | G54: 4 | H54: =TRUNC(단가조사!G68*옵션!$D$11) -> 0 | L54: =SUM(H54,I54,J54) -> 0
C55: ECA565826062 | D55: 코어드릴 | E55: 15.24cm | F55: 시간 | G55: 5.5 | H55: =단가조사!H69 -> 0 | I55: =단가조사!J69 -> 0 | J55: =단가조사!L69 -> 472 | L55: =SUM(H55,I55,J55) -> 472 | M55: 종합적산713
C56: L001010101000075 | D56: 노 무 비 | E56: 내선전공 | F56: 인 | G56: 21.555 | I56: =TRUNC(단가조사!G70) -> 273676 | L56: =SUM(H56,I56,J56) -> 273676
C57: L001010101000078 | D57: 노 무 비 | E57: 저압케이블전공 | F57: 인 | G57: 0.343 | I57: =TRUNC(단가조사!G71) -> 304156 | L57: =SUM(H57,I57,J57) -> 304156
C58: L001010101000087 | D58: 노 무 비 | E58: 통신설비공 | F58: 인 | G58: 0.42 | I58: =TRUNC(단가조사!G72) -> 315528 | L58: =SUM(H58,I58,J58) -> 315528
C59: L001010101000002 | D59: 노 무 비 | E59: 보통인부 | F59: 인 | G59: 2.61 | I59: =TRUNC(단가조사!G73) -> 172068 | L59: =SUM(H59,I59,J59) -> 172068
C60: L001010101000015 | D60: 노 무 비 | E60: 착암공 | F60: 인 | G60: 1.33 | I60: =TRUNC(단가조사!G74) -> 222306 | L60: =SUM(H60,I60,J60) -> 222306
L61: =SUM(H61,I61,J61) -> 0
L62: =SUM(H62,I62,J62) -> 0
L63: =SUM(H63,I63,J63) -> 0
L64: =SUM(H64,I64,J64) -> 0
L65: =SUM(H65,I65,J65) -> 0
L66: =SUM(H66,I66,J66) -> 0
L67: =SUM(H67,I67,J67) -> 0
L68: =SUM(H68,I68,J68) -> 0
L69: =SUM(H69,I69,J69) -> 0
L70: =SUM(H70,I70,J70) -> 0
L71: =SUM(H71,I71,J71) -> 0
L72: =SUM(H72,I72,J72) -> 0
... L81: =SUM(H81,I81,J81) -> 0

Sheet 단가조사
A1: 총줄수-> | B1: 63 | D1: [ 전곡초 외 1교(반도체고) 화장실 및 냉난방개선 전기공사 ] - 단가조사서(1/6단가:2026년07월)
A2: 번호 | B2: 공종코드 | C2: 코드 | D2: 명 칭 | E2: 규 격 | F2: 단위 | G2: 적용단가 | H2: 시설단가 | J2: 거래가격 | L2: 물가정보 | N2: 물가자료 | P2: 조사단가1 | R2: 조사단가2 | T2: 비고
H3: 단가 | I3: 코드 | J3: 단가 | K3: PAGE | L3: 단가 | M3: PAGE | N3: 단가 | O3: PAGE | P3: 단가 | Q3: PAGE | R3: 단가 | S3: PAGE
C4: 3913170610034836 | D4: 강제전선관 | E4: 아연도 42 mm | F4: m | G4: 5899 | H4: 5899 | J4: 6940 | K4: 1029 | L4: 8402 | M4: I-1202
D5: 강제전선관 | E5: 아연도 36 mm | F5: m | G5: 5134 | H5: 5134 | J5: 6040 | K5: 1029 | L5: 7306 | M5: I-1202
C6: 3913170620174434 | D6: 1종금속제가요전선관 | E6: 커넥터, 16 mm 일반-비방수 | F6: 개 | G6: 346 | H6: 407 | L6: 346 | M6: I-1205
C7: 3913170620174435 | D7: 1종금속제가요전선관 | E7: 커넥터, 22 mm 일반-비방수 | F7: 개 | G7: 517 | H7: 600 | L7: 517 | M7: I-1205
C8: 3913170620174478 | D8: 1종금속제가요전선관 | E8: 16 mm 고장력-비방수 | F8: m | G8: 544 | H8: 690 | L8: 544 | M8: I-1205
C9: 3913170620174479 | D9: 1종금속제가요전선관 | E9: 22 mm 고장력-비방수 | F9: m | G9: 994 | H9: 994 | L9: 1042 | M9: I-1205
D10: 1종금속제가요전선관 | E10: 22 mm 고장력-방수 | F10: m | G10: 1380 | H10: 1965 | N10: 1380 | O10: 1101
D11: 1종금속제가요전선관 | E11: 36 mm 고장력-방수 | F11: m | G11: 2710 | H11: 3821 | N11: 2710 | O11: 1101
D12: 가요콘넥터 | E12: 22mm 고장력 방수 | F12: EA | G12: 1000 | N12: 1000 | O12: 1101
D13: 가요콘넥터 | E13: 36mm 고장력 방수 | F13: EA | G13: 1980 | N13: 1980 | O13: 1101
C14: 3913170820176477 | D14: 강제전선관용 부품 | E14: 노말밴드, 아연도 42 mm | F14: 개 | G14: 5351 | H14: 5351 | J14: 6030 | K14: 1029 | L14: 6800 | M14: I-1203
C15: 3912130810035750 | D15: 아우트렛박스 | E15: 8각 54㎜ | F15: 개 | G15: 638 | H15: 638 | J15: 800 | K15: 1028 | L15: 845 | M15: I-1207
C16: 3912130810035753 | D16: 아우트렛박스 | E16: 중형4각 54㎜ | F16: 개 | G16: 973 | J16: 3100 | K16: 1028 | L16: 973 | M16: I-1207
C17: 3912130610035778 | D17: 스위치박스 | E17: 1 개용 54 mm | F17: 개 | G17: 603 | H17: 603 | J17: 650 | K17: 1028 | L17: 700 | M17: I-1207
C18: 3912130610035781 | D18: 스위치박스 | E18: 2 개용 54 mm | F18: 개 | G18: 726 | H18: 839 | J18: 1000 | K18: 1028 | L18: 726 | M18: I-1207
C19: 3912130820174710 | D19: 아우트렛박스 커버 | E19: 커버, 8각, 평형 | F19: 개 | G19: 343 | J19: 400 | K19: 1028 | L19: 343 | M19: I-1207
C20: 3912130820174713 | D20: 아우트렛박스 커버 | E20: 커버, 4각, 평형 | F20: 개 | G20: 343 | J20: 400 | K20: 1028 | L20: 343 | M20: I-1207
C21: 3912130820174717 | D21: 아우트렛박스 커버 | E21: 커버, 4각,1개용S/W | F21: 개 | G21: 343 | J21: 400 | K21: 1028 | L21: 343 | M21: I-1207
C22: 3912130820157231 | D22: 아우트렛박스 커버 | E22: 콘카바 | F22: 개 | G22: 343 | J22: 400 | K22: 1028 | L22: 343 | M22: I-1207
C23: 3912130320175917 | D23: 정션 박스 | E23: 100*100*50 | F23: EA | G23: 2690 | J23: 4620 | K23: 1028 | L23: 2690 | M23: I-1207
C24: 3912130310035801 | D24: 풀박스 | E24: 200×200×200 | F24: 개 | G24: 6035 | H24: 6035 | J24: 16060 | K24: 1028 | L24: 7100 | M24: I-1207
D25: 풀박스 | E25: 100×100×100 | F25: 개 | G25: 2864 | H25: 2864 | J25: 6380 | K25: 1028 | L25: 3520 | M25: I-1207
D26: U CHANNEL | E26: 41x41x2.6t | F26: Μ | G26: 6176 | H26: 6176
D27: PIPE CLAMP | E27: 36C | F27: EA | G27: 210 | H27: 210
D28: 스트롱앵커 | E28: 3/8 | F28: EA | G28: 200 | L28: 200 | M28: I-643
C29: 3913170420174048 | D29: 케이블트레이 | E29: STRAIGHT,St W300x100Hx2.3t | F29: m | G29: 12650 | H29: 12650 | J29: 42290 | K29: 1038 | L29: 25550 | M29: I-1216
C30: 3913170420171161 | D30: 케이블트레이 | E30: COVER,St W300 | F30: m | G30: 25940 | L30: 25940 | M30: I-1216
C31: 3913170520175125 | D31: 케이블트레이부속품 | E31: HOLD DOWN CLAMP, 아연도 | F31: 개 | G31: 373 | H31: 373 | L31: 470 | M31: I-1216
C32: 3913170520175126 | D32: 케이블트레이부속품 | E32: 찬넬스프링 너트, 아연도 | F32: 개 | G32: 540 | H32: 750 | L32: 540 | M32: I-1216
C33: 3913170520175128 | D33: 케이블트레이부속품 | E33: U CHANNEL, 41x41x2.6t | F33: m | G33: 6176 | H33: 6176 | L33: 11030 | M33: I-1216
C34: 3913170810036338 | D34: 강제전선관용 부품 | E34: 파이프크램프, 42 C | F34: 개 | G34: 250 | H34: 250 | L34: 317 | M34: I-1203
C35: 3116210220135769 | D35: 스트롱앵커 | E35: 3/8 | F35: 개 | G35: 200 | L35: 200 | M35: 1-642
C36: 3116169820135160 | D36: 행거볼트 | E36: M10×1000㎜ | F36: 개 | G36: 1226 | L36: 1226 | M36: 1-43
C37: 3016160420165664 | D37: 찬넬 | E37: 3m (2.3t) 41 * 41 | F37: EA | G37: 22848 | L37: 22848 | M37: 1-1202
C38: 2612162922076726 | D38: 450/750V 내열비닐절연전선 | E38: HFIX 1.38mm(1.5㎟) | F38: m | G38: 356 | H38: 356 | J38: 493 | K38: 993 | L38: 610 | M38: I-1165
C39: 2612162922076727 | D39: 450/750V 내열비닐절연전선 | E39: HFIX 1.78mm(2.5㎟) | F39: m | G39: 544 | H39: 544 | J39: 749 | K39: 993 | L39: 1004 | M39: I-1165
C40: 2612162922076728 | D40: 450/750V 내열비닐절연전선 | E40: HFIX 2.25mm(4㎟) | F40: m | G40: 826 | H40: 826 | J40: 1135 | K40: 993 | L40: 1564 | M40: I-1165
C41: 2612152420683698 | D41: 접지용비닐절연전선(F-GV) | E41: 10㎟ | F41: m | G41: 2090 | H41: 2090 | J41: 3347 | K41: 994 | L41: 3060 | M41: I-1165
D42: F-CV CABLE(0.6/1kv) | E42: 2C×10㎟ | F42: m | G42: 5105 | H42: 5105 | J42: 6114 | K42: 993 | L42: 5548 | M42: I-1168
D43: F-CV CABLE(0.6/1kv) | E43: 3C×2.5㎟ | F43: m | G43: 2388 | H43: 2388 | J43: 2779 | K43: 993 | L43: 2523 | M43: I-1168
C44: 2612162920683946 | D44: 폴리에틸렌 난연케이블 | E44: 0.6/1kv F-CV 4C×10㎟ | F44: m | G44: 9566 | H44: 9566 | J44: 12465 | K44: 993 | L44: 10556 | M44: I-1168
C45: 3912998720170519 | D45: 매입스위치 | E45: 250V 1로3구 | F45: 개 | G45: 2440 | H45: 2440 | J45: 7070 | K45: 1098 | L45: 7812 | M45: I-1280
C46: 3912140620170850 | D46: 콘센트 | E46: 매입-접지형, 250V 2구 | F46: 개 | G46: 1411 | H46: 1411 | J46: 2834 | K46: 1099 | L46: 3182 | M46: I-1280
C47: 3912140621030228 | D47: 방우콘센트 | E47: 매입-접지형, 250V 2구 | F47: 개 | G47: 2163 | H47: 2163 | J47: 4251 | K47: 1099
C48: 4619150120192512 | D48: 화재감지기 | E48: 열감지기,차동식스포트형 | F48: 개 | G48: 4089 | H48: 4089 | J48: 5000 | K48: 1194 | L48: 5000 | M48: I-1389
C49: 3912161620169704 | D49: 배선용 차단기 | E49: 표준형, 4P 600V 50AF | F49: 대 | G49: 72300 | J49: 74900 | K49: 1069 | L49: 72300 | M49: I-1237
C50: 3912143210033786 | D50: 러그단자 | E50: 동관단자 1 HOLE 10 ㎟ | F50: 개 | G50: 299 | J50: 315 | K50: 1019 | L50: 299 | M50: I-1199
C51: 3912143221650910 | D51: 압착단자 | E51: R형동선 나압착 10 ㎟ | F51: 개 | G51: 101 | H51: 101 | J51: 133 | K51: 1019 | L51: 262 | M51: I-1199
C52: 3116162010023390 | D52: 6각볼트 | E52: 3/8,M10 | F52: 개 | G52: 270 | L52: 270 | M52: 1-41
C53: 3116172710024976 | D53: 6각너트 | E53: M10 | F53: 개 | G53: 28 | L53: 28 | M53: I-39
C54: 3116181120136195 | D54: 스프링와샤 | E54: D10 | F54: EA | G54: 10 | L54: 10 | M54: 1-43
C55: 391115ZZ701Z0001 | D55: BGM 스피커 | E55: 천정매입형(3W) | F55: 개 | G55: 350000 | J55: 350000 | K55: 인터넷조사가
C56: 391115ZZ701Z0002 | D56: 등기구타공 | E56: 다운라이트 | F56: 개소
C57: 391115ZZ701Z0003 | D57: 방화실리콘실란트 | E57: 310 ㎖ | F57: ℓ | G57: 22500 | N57: 22500 | O57: 964
D58: 방화폼 | F58: 리터 | G58: 16800 | P58: 16800
D59: 방화폼용 폼건 | F59: EA | G59: 10000 | P59: 10000
C60: 391115ZZ701Z0004 | D60: 분전반 | E60: L-T(체육관동) PANEL | F60: 면 | G60: 1168000 | J60: 1168000 | K60: 스마트파워 | L60: 1508000 | M60: 엠파워 | N60: 1568000 | O60: 이룸파워
D61: 분전반 | E61: PN-PH | F61: 면 | G61: 828000 | N61: 828000 | O61: 삼성 | P61: 894000 | Q61: 스페이스 | R61: 954000 | S61: 동성
C62: 391115ZZ701Z0005 | D62: 재실센서 | E62: 화장실용 | F62: EA | G62: 77000 | L62: 77000 | M62: I-1297
C63: 391115ZZ701Z0006 | D63: 조명기구 TYPE A | E63: LED 20W 다운라이트(방습) | F63: 개 | G63: 21000 | J63: 21000 | K63: 대한장애인복지협회 | L63: 25000 | M63: 행복일자리 | N63: 27300 | O63: 한국장애인자립협회
C64: 391115ZZ701Z0007 | D64: 철거 | E64: A TYPE LED 20W 다운라이트 | F64: 개
C65: 391115ZZ701Z0008 | D65: 철거 | E65: HFIX 1.78mm(2.5㎟) | F65: m
C66: 391115ZZ701Z0009 | D66: 철거 | E66: HFIX 2.25mm(4㎟) | F66: m
C67: 391115ZZ701Z0010 | D67: 철거 | E67: 배선기구 스위치 1,2,3,4구 | F67: 개
C68: 391115ZZ701Z0011 | D68: 철거 | E68: 연결용 박스 | F68: 개
C69: ECA565826062 | D69: 코어드릴 | E69: 15.24cm | F69: 시간 | G69: 경비 | I69: 재료 | K69: 노무 | L69: 472 | M69: 경비
C70: L001010101000075 | D70: 노 무 비 | E70: 내선전공 | F70: 인 | G70: 273676
C71: L001010101000078 | D71: 노 무 비 | E71: 저압케이블전공 | F71: 인 | G71: 304156
C72: L001010101000087 | D72: 노 무 비 | E72: 통신설비공 | F72: 인 | G72: 315528
C73: L001010101000002 | D73: 노 무 비 | E73: 보통인부 | F73: 인 | G73: 172068
C74: L001010101000015 | D74: 노 무 비 | E74: 착암공 | F74: 인 | G74: 222306
D75: 노 무 비 | E75: 방수공 | F75: 인 | G75: 228286
D76: 노 무 비 | E76: 특별인부 | F76: 인 | G76: 226122

Sheet 옵션
B1: 재료비 | C1: 노무비 | D1: 경비 | F1: 계
A2: 총 급 액 | B2: =총괄표!I29 -> 4518681 | C2: =총괄표!L29 -> 9960625 | D2: =총괄표!N29 -> 2595 | F2: =SUM(B2,C2,D2) -> 14481901
A3: 관급 자재비 | F3: =SUM(B3,C3,D3) -> 0 | H3: 금액조정이 안되나요?
H6: 이지테크에서 변환할 때 2번 옵션을 지정하여 다시 해보세요
H9: 시트를 삭제할 때 에러가 뜨면 1번 옵션으로 하면 됩니다.
B10: 적용율(%) | C10: 끝자리 | D10: 적용율(%)/100 | E10: 일위대가소수
A11: 전체자재 적용율(%)(공종/일위대가) | B11: 100 | C11: 1 | D11: =$B$11/100 -> 1
A12: 전체노임 적용율(%)(공종) | B12: 100 | C12: 1 | D12: =$B$12/100 -> 1 | E12: 2 | H12: 2번 옵션으로 변환했을 때에는 결과값이 다를 수 있습니다.
A13: 전체노임 적용율(%)(일위대가) | B13: 100 | C13: 1 | D13: =$B$13/100 -> 1 | E13: 5
A20: *(그룹별 자재 단가 추가 할증)* | B20: 적용율(%) | D20: 적용율(%)/100
A21: Cable(CAB) 할증(%) | B21: =B11 -> 100 | D21: =$B$21/100 -> 1
A22: Wire (WIR) 할증(%) | B22: =B11 -> 100 | D22: =$B$22/100 -> 1
A23: Pipe (PIP) 할증(%) | B23: =B11 -> 100 | D23: =$B$23/100 -> 1
A24: 제 4그룹 할증(%) | B24: =B11 -> 100 | D24: =$B$24/100 -> 1
A25: 제 5그룹 할증(%) | B25: =B11 -> 100 | D25: =$B$25/100 -> 1
A30: *(그룹별 노임 추가 할증)* | B30: 적용율(%) | C30: 자동부속재(전기) | D30: 자동부속재(통신)
A31: 배관부속재(%) | B31: 15 | C31: 15 | D31: 20
A32: CD관부속재(%) | B32: 40 | C32: 40 | D32: 40
A33: 소모잡자재(%) | B33: 2 | H33: 본 파일은 이지테크에서 2번 옵션으로 만들었습니다.
A34: 방폭할증(%)
A35: 고소할증(%) | B35: 2
A36: 공구손료(%) | B36: 3
A40: *(공종별 노임 적용율(%))* | B40: 적용율(%) | C40: 소수자릿수
A41: 1-1.전력간선및동력설비공사 | B41: 100 | C41: 3
A42: 1-2.전열설비공사 | B42: 100 | C42: 3
A43: 1-3.전등설비공사 | B43: 100 | C43: 3
A44: 1-4.기타설비공사 | B44: 100 | C44: 3
A45: 1-5.철거공사 | B45: 100 | C45: 3

Sheet 사용설명
B1: ** 반드시 다음 사항을 숙지하신 다음 수정 작업을 하십시오 **
A2: 1. | B2: 속성이 숫자인 셀을 삭제할 때는 반드시 'Delete' 키를 사용하십시오.
B3: **주의:'Space Bar' 로 지웠을 때는 '#Value' Error가 발생됩니다.
A4: 2. | B4: 일위대가(을지)는 소수점 처리 때문에 셀 속성을 '일반'으로 하였습니다.(소수점 능동 처리)
B5: **참고: (수량*단가)의 결과는 소수 한자리, 금액을 취합한 소계는 1원 이하 절사입니다.
A6: 3. | B6: 내역서에서는 수량에만 셀 속성을 '일반'으로 하였습니다.(소수점 능동 처리)
A7: 4. | B7: 단가수정은 '단가조사서'시트 에서 하십시오.
B8: a)표지와 원가 -> 총괄표 -> 내역서 ->일위대가와 합산자재 ->단가조사서 를 참조하고
B9: 있으므로 단가조사서의 결정단가를 수정하면 전체 금액이 갱신됩니다.
B10: **주의: 금액란은 공식이 걸려있으므로 조심하여 수정하십시오.
B11: b)전체 자재를 일정 요율(%)로 변경할 때는 옵션시트의 자재 적용율을 조정하면 됩니다.
A12: 5. | B12: 노임 단가는 '단가조사서'시트에서 품셈은 '노임근거'시트에서 수정하십시오.
B13: a)전체 노임을 일정 요율(%)로 변경할 때는 '옵션시트'의 전체노임 적용율을 조정하면 됩니다.
B14: b)공종별로 노임을 수정하려면 '옵션시트'의 공종별 노임 적용율을 조정하면 됩니다.
B15: c)케이블 및 전선 자재 단가를 추가로 조정하려면 그룹별 자재 적용율을 조정하면 됩니다.
B16: 그룹은 견적 프로그램에서 엑셀파일이 만들어질때 지정됩니다.
A17: 6. | B17: 겉표지의 모든 정보는 표지를 참조하였습니다.(정보 수정은 표지에서만 하시면 됩니다.)
A18: 7. | B18: 필수 :본 프로그램의 총 금액을 확인한 후 사용하십시오.
A19: 8. | B19: 본 파일의 내용을 인쇄할 경우, 미리보기를 통하여 페이지 절선을 확인 후 인쇄하십시오.
A20: 9. | B20: 관급자재 Sheet가 해당이 없을 경우엔 삭제하십시오.
A21: 10. | B21: 페이지 절선이 맞지 않으면 다음을 참고하십시오.
B33: a. 해당시트의 셀 전체를 선택합니다.
B34: b. 행높이를 적절히 가감하면 페이지 절선을 맞출 수 있습니다.
