Workbook

Sheet 원가계산서(총괄)
B1: 공 사 원 가 계 산 서
B2: 공사명 : 김천시 농촌신활력플러스 신축공사
B3: 비 목 | E3: 건축+토목+기계 | N3: 합계 | O3: 구 성 비 | P3: 비 고
A4: A1 | B4: 순 공 사 원 가 | C4: 재 료 비 | D4: 직 접 재 료 비 | E4: =원가계산서!I4 -> 637702991 | N4: =SUM(E4:H4) -> 637702991 | R4: =#REF!+#REF!+#REF! -> #REF! | S4: =E4-R4 -> #REF!
A5: A2 | D5: 간 접 재 료 비 | E5: =원가계산서!I5 -> 0 | N5: =E5+J5+F5+G5+H5 -> 0 | R5: =#REF!+#REF!+#REF! -> #REF! | S5: =E5-R5 -> #REF!
A6: A3 | D6: 작업설, 부산물(△) | E6: =원가계산서!I6 -> 0 | N6: =E6+J6+F6+G6+H6 -> 0 | R6: =#REF!+#REF!+#REF! -> #REF! | S6: =E6-R6 -> #REF!
A7: AS | D7: [ 소 계 ] | E7: =원가계산서!I7 -> 637702991 | N7: =SUM(E7:H7) -> 637702991 | R7: =#REF!+#REF!+#REF! -> #REF! | S7: =E7-R7 -> #REF!
A8: B1 | C8: 노 무 비 | D8: 직 접 노 무 비 | E8: =원가계산서!I8 -> 537125953 | N8: =SUM(E8:H8) -> 537125953 | R8: =#REF!+#REF!+#REF! -> #REF! | S8: =E8-R8 -> #REF!
A9: B2 | D9: 간 접 노 무 비 | E9: =원가계산서!I9 -> 80031765 | N9: =SUM(E9:H9) -> 80031765 | O9: 직접노무비 * 14.9% | R9: =#REF!+#REF!+#REF! -> #REF! | S9: =E9-R9 -> #REF!
A10: BS | D10: [ 소 계 ] | E10: =원가계산서!I10 -> 617157718 | N10: =SUM(E10:H10) -> 617157718 | R10: =#REF!+#REF!+#REF! -> #REF! | S10: =E10-R10 -> #REF!
A11: C2 | C11: 경 비 | D11: 경 비 | E11: =원가계산서!I11 -> 24852287 | N11: =SUM(E11:H11) -> 24852287 | R11: =#REF!+#REF!+#REF! -> #REF! | S11: =E11-R11 -> #REF!
A12: C3 | D12: 품 질 관 리 비 | E12: =원가계산서!I12 -> 1801524 | N12: =SUM(E12:H12) -> 1801524 | R12: =#REF!+#REF!+#REF! -> #REF! | S12: =E12-R12 -> #REF!
A13: C9 | D13: 안 전 관 리 비 | E13: =원가계산서!I13 -> 9650000 | N13: =SUM(E13:H13) -> 9650000 | R13: =#REF!+#REF!+#REF! -> #REF! | S13: =E13-R13 -> #REF!
A14: C4 | D14: 산 재 보 험 료 | E14: =원가계산서!I14 -> 21970814 | N14: =SUM(E14:H14) -> 21970814 | O14: 노무비 * 3.56% | R14: =#REF!+#REF!+#REF! -> #REF! | S14: =E14-R14 -> #REF!
A15: C5 | D15: 고 용 보 험 료 | E15: =원가계산서!I15 -> 6233291 | N15: =SUM(E15:H15) -> 6233291 | O15: 노무비 * 1.01% | R15: =#REF!+#REF!+#REF! -> #REF! | S15: =E15-R15 -> #REF!
A16: C6 | D16: 국민 건강 보험료 | E16: =원가계산서!I16 -> 19041114 | N16: =SUM(E16:H16) -> 19041114 | O16: 직접노무비 * 3.545% | R16: =#REF!+#REF!+#REF! -> #REF! | S16: =E16-R16 -> #REF!
A17: C7 | D17: 국민 연금 보험료 | E17: =원가계산서!I17 -> 24170666 | N17: =SUM(E17:H17) -> 24170666 | O17: 직접노무비 * 4.5% | R17: =#REF!+#REF!+#REF! -> #REF! | S17: =E17-R17 -> #REF!
A18: CB | D18: 노인장기요양보험료 | E18: =원가계산서!I18 -> 2465822 | N18: =SUM(E18:H18) -> 2465822 | O18: 건강보험료 * 12.95% | R18: =#REF!+#REF!+#REF! -> #REF! | S18: =E18-R18 -> #REF!
A19: C8 | D19: 퇴직 공제 부금비 | E19: =원가계산서!I19 -> 12353896 | N19: =SUM(E19:H19) -> 12353896 | O19: 직접노무비 * 2.3% | R19: =#REF!+#REF!+#REF! -> #REF! | S19: =E19-R19 -> #REF!
A20: CC | D20: 산업안전보건관리비 | E20: =원가계산서!I20 -> 32236062 | N20: =SUM(E20:H20) -> 32236062 | O20: (재료비+직노+도급자관급/1.1) * 2.28% + 4,325천원 | R20: =#REF!+#REF!+#REF! -> #REF! | S20: =E20-R20 -> #REF!
A21: CE | D21: 산업안전보건관리비 | E21: =원가계산서!I21 -> 37333319 | N21: =SUM(E21:H21) -> 37333319 | O21: [(재료비+직노) * 2.28% + 4,325천원]x1.2배 | P21: 제외(작은금액 적용) | R21: =#REF!+#REF!+#REF! -> #REF! | S21: =E21-R21 -> #REF!
A22: CG | D22: 기 타 경 비 | E22: =원가계산서!I22 -> 60233313 | N22: =SUM(E22:H22) -> 60233313 | O22: (재료비+노무비) * 4.8% | R22: =#REF!+#REF!+#REF! -> #REF! | S22: =E22-R22 -> #REF!
A23: CH | D23: 환 경 보 전 비 | E23: =원가계산서!I23 -> 5998405 | N23: =SUM(E23:H23) -> 5998405 | O23: (재료비+직노+경비) * 0.5% | R23: =#REF!+#REF!+#REF! -> #REF! | S23: =E23-R23 -> #REF!
A24: CK | D24: 하도급지급보증수수료 | E24: =원가계산서!I24 -> 971740 | N24: =SUM(E24:H24) -> 971740 | O24: (재료비+직노+경비) * 0.081% | R24: =#REF!+#REF!+#REF! -> #REF! | S24: =E24-R24 -> #REF!
A25: CL | D25: 건설기계대여금지급보증서발급수수료 | E25: =원가계산서!I25 -> 839776 | N25: =SUM(E25:H25) -> 839776 | O25: (재료비+직노+경비) * 0.07% | R25: =#REF!+#REF!+#REF! -> #REF! | S25: =E25-R25 -> #REF!
A26: CS | D26: [ 소 계 ] | E26: =원가계산서!I26 -> 222818710 | N26: =SUM(E26:H26) -> 222818710 | R26: =#REF!+#REF!+#REF! -> #REF! | S26: =E26-R26 -> #REF!
A27: S1 | B27: 계 | E27: =원가계산서!I27 -> 1477679419 | N27: =SUM(E27:H27) -> 1477679419 | R27: =#REF!+#REF!+#REF! -> #REF! | S27: =E27-R27 -> #REF!
A28: D1 | B28: 일 반 관 리 비 | E28: =원가계산서!I28 -> 88660764 | N28: =SUM(E28:H28) -> 88660764 | O28: 계 * 6% | R28: =#REF!+#REF!+#REF! -> #REF! | S28: =E28-R28 -> #REF!
A29: D2 | B29: 이 윤 | E29: =원가계산서!I29 -> 139290336 | N29: =SUM(E29:H29) -> 139290336 | O29: (노무비+경비+일반관리비) * 15% | R29: =#REF!+#REF!+#REF! -> #REF! | S29: =E29-R29 -> #REF!
A30: D2 | B30: 작업부산물(철거공사) | N30: =SUM(E30:H30) -> 0 | O30: (노무비+경비+일반관리비) * 15% | R30: =#REF!+#REF!+#REF! -> #REF! | S30: =E30-R30 -> #REF!
A31: D2 | B31: 폐기물상차비 | N31: =SUM(E31:H31) -> 0 | O31: (노무비+경비+일반관리비) * 15% | R31: =#REF!+#REF!+#REF! -> #REF! | S31: =E31-R31 -> #REF!
A32: D2 | B32: 폐기물처리비및운반 | N32: =SUM(E32:M32) -> 0 | O32: (노무비+경비+일반관리비) * 15% | R32: =#REF!+#REF!+#REF! -> #REF! | S32: =E32-R32 -> #REF!
A33: D9 | B33: 공 급 가 액 | E33: =원가계산서!I30 -> 1705630519 | N33: =SUM(E33:M33) -> 1705630519 | R33: =#REF!+#REF!+#REF! -> #REF! | S33: =E33-R33 -> #REF!
A34: D9 | B34: 배상책임공제료 | N34: =SUM(E34:H34) -> 0 | R34: =#REF!+#REF!+#REF! -> #REF! | S34: =E34-R34 -> #REF!
A35: DB | B35: 부 가 가 치 세 | E35: =원가계산서!I31 -> 170563051 | N35: =SUM(E35:M35) -> 170563051 | O35: 공급가액 * 10% | R35: =#REF!+#REF!+#REF! -> #REF! | S35: =E35-R35 -> #REF!
A36: DH | B36: 도 급 액 | E36: =원가계산서!I32 -> 1876193570 | N36: =SUM(E36:M36) -> 1876193570 | R36: =#REF!+#REF!+#REF! -> #REF! | S36: =E36-R36 -> #REF!
A37: DK | B37: 도급자설치관급 | E37: =원가계산서!I33 -> 54567628 | N37: =SUM(E37:M37) -> 54567628 | R37: =#REF!+#REF!+#REF! -> #REF! | S37: =E37-R37 -> #REF!
A38: DL | B38: 관급자설치관급 | E38: =원가계산서!I34 -> 74239000 | N38: =SUM(E38:M38) -> 74239000 | R38: =#REF!+#REF!+#REF! -> #REF! | S38: =E38-R38 -> #REF!
A39: DL | B39: 각종분담금 | E39: =원가계산서!I35 -> 5700000 | N39: =SUM(E39:M39) -> 5700000 | P39: 합계제외(기타부대비) | R39: =#REF!+#REF!+#REF! -> #REF! | S39: =E39-R39 -> #REF!
A40: S2 | B40: 총 공 사 비 | E40: =SUM(E36:E39)-E39 -> 2005000198 | N40: =SUM(E40:M40) -> 2005000198 | R40: =#REF!+#REF!+#REF! -> #REF! | S40: =E40-R40 -> #REF!

Sheet 원가계산서
B1: 공 사 원 가 계 산 서
B2: 공사명 : 김천시 농촌신활력플러스 신축공사
B3: 비 목 | E3: 건축 | G3: 토목 | H3: 기계 | I3: 합계 | J3: 구 성 비 | K3: 비 고
A4: A1 | B4: 순 공 사 원 가 | C4: 재 료 비 | D4: 직 접 재 료 비 | E4: =공종별집계표!F6 -> 432536963 | G4: =공종별집계표!F28 -> 73226981 | H4: =공종별집계표!F31 -> 131939047 | I4: =+E4+G4+H4 -> 637702991 | M4: =E4+G4+H4 -> 637702991 | N4: =I4-M4 -> 0
A5: A2 | D5: 간 접 재 료 비 | E5: 0 | G5: 0 | H5: 0 | I5: =+E5+G5+H5 -> 0 | M5: =E5+G5+H5 -> 0 | N5: =I5-M5 -> 0
A6: A3 | D6: 작업설, 부산물(△) | E6: 0 | G6: 0 | H6: 0 | I6: =+E6+G6+H6 -> 0 | M6: =E6+G6+H6 -> 0 | N6: =I6-M6 -> 0
A7: AS | D7: [ 소 계 ] | E7: =TRUNC(E4+E5-E6, 0) -> 432536963 | G7: =TRUNC(G4+G5-G6, 0) -> 73226981 | H7: =TRUNC(H4+H5-H6, 0) -> 131939047 | I7: =+E7+G7+H7 -> 637702991 | M7: =E7+G7+H7 -> 637702991 | N7: =I7-M7 -> 0
A8: B1 | C8: 노 무 비 | D8: 직 접 노 무 비 | E8: =공종별집계표!H6 -> 456036394 | G8: =공종별집계표!H28 -> 44013929 | H8: =공종별집계표!H31 -> 37075630 | I8: =+E8+G8+H8 -> 537125953 | M8: =E8+G8+H8 -> 537125953 | N8: =I8-M8 -> 0
A9: B2 | D9: 간 접 노 무 비 | E9: =TRUNC(E8*0.149, 0) -> 67949422 | G9: =TRUNC(G8*0.149, 0) -> 6558075 | H9: =TRUNC(H8*0.149, 0) -> 5524268 | I9: =+E9+G9+H9 -> 80031765 | J9: 직접노무비 * 14.9% | M9: =E9+G9+H9 -> 80031765 | N9: =I9-M9 -> 0
A10: BS | D10: [ 소 계 ] | E10: =TRUNC(E8+E9, 0) -> 523985816 | G10: =TRUNC(G8+G9, 0) -> 50572004 | H10: =TRUNC(H8+H9, 0) -> 42599898 | I10: =+E10+G10+H10 -> 617157718 | M10: =E10+G10+H10 -> 617157718 | N10: =I10-M10 -> 0
A11: C2 | C11: 경 비 | D11: 경 비 | E11: =공종별집계표!J6 -> 20939865 | G11: =공종별집계표!J28 -> 3912422 | I11: =+E11+G11+H11 -> 24852287 | M11: =E11+G11+H11 -> 24852287 | N11: =I11-M11 -> 0
A12: C3 | D12: 품 질 관 리 비 | E12: =공종별집계표!L24 -> 1801524 | I12: =+E12+G12+H12 -> 1801524 | M12: =E12+G12+H12 -> 1801524 | N12: =I12-M12 -> 0
A13: C9 | D13: 안 전 관 리 비 | E13: =공종별집계표!L25 -> 9650000 | I13: =+E13+G13+H13 -> 9650000 | M13: =E13+G13+H13 -> 9650000 | N13: =I13-M13 -> 0
A14: C4 | D14: 산 재 보 험 료 | E14: =TRUNC(E10*0.0356, 0) -> 18653895 | G14: =TRUNC(G10*0.0356, 0) -> 1800363 | H14: =TRUNC(H10*0.0356, 0) -> 1516556 | I14: =+E14+G14+H14 -> 21970814 | J14: 노무비 * 3.56% | M14: =E14+G14+H14 -> 21970814 | N14: =I14-M14 -> 0
A15: C5 | D15: 고 용 보 험 료 | E15: =TRUNC(E10*0.0101, 0) -> 5292256 | G15: =TRUNC(G10*0.0101, 0) -> 510777 | H15: =TRUNC(H10*0.0101, 0) -> 430258 | I15: =+E15+G15+H15 -> 6233291 | J15: 노무비 * 1.01% | M15: =E15+G15+H15 -> 6233291 | N15: =I15-M15 -> 0
A16: C6 | D16: 국민 건강 보험료 | E16: =TRUNC(E8*0.03545, 0) -> 16166490 | G16: =TRUNC(G8*0.03545, 0) -> 1560293 | H16: =TRUNC(H8*0.03545, 0) -> 1314331 | I16: =+E16+G16+H16 -> 19041114 | J16: 직접노무비 * 3.545% | M16: =E16+G16+H16 -> 19041114 | N16: =I16-M16 -> 0
A17: C7 | D17: 국민 연금 보험료 | E17: =TRUNC(E8*0.045, 0) -> 20521637 | G17: =TRUNC(G8*0.045, 0) -> 1980626 | H17: =TRUNC(H8*0.045, 0) -> 1668403 | I17: =+E17+G17+H17 -> 24170666 | J17: 직접노무비 * 4.5% | M17: =E17+G17+H17 -> 24170666 | N17: =I17-M17 -> 0
A18: CB | D18: 노인장기요양보험료 | E18: =TRUNC(E16*0.1295, 0) -> 2093560 | G18: =TRUNC(G16*0.1295, 0) -> 202057 | H18: =TRUNC(H16*0.1295, 0) -> 170205 | I18: =+E18+G18+H18 -> 2465822 | J18: 건강보험료 * 12.95% | M18: =E18+G18+H18 -> 2465822 | N18: =I18-M18 -> 0
A19: C8 | D19: 퇴직 공제 부금비 | E19: =TRUNC(E8*0.023, 0) -> 10488837 | G19: =TRUNC(G8*0.023, 0) -> 1012320 | H19: =TRUNC(H8*0.023, 0) -> 852739 | I19: =+E19+G19+H19 -> 12353896 | J19: 직접노무비 * 2.3% | M19: =E19+G19+H19 -> 12353896 | N19: =I19-M19 -> 0
A20: CC | D20: 산업안전보건관리비 | E20: =TRUNC((E7+E8+(E33/1.1/1.0054))*0.0228+4325000, 0) -> 25334679 | G20: =TRUNC((G7+G8+(G33/1.1/1.0054))*0.0228, 0) -> 3047849 | H20: =TRUNC((H7+H8+(H33/1.1/1.0054))*0.0228, 0) -> 3853534 | I20: =+E20+G20+H20 -> 32236062 | J20: (재료비+직노+도급자관급/1.1) * 2.28% + 4,325천원 | K20: 도급자관급 조달수수료제외금액 | M20: =E20+G20+H20 -> 32236062 | N20: =I20-M20 -> 0
A21: CE | D21: 산업안전보건관리비 | E21: =TRUNC(((E7+E8)*0.0228+4325000)*1.2, 0) -> 29501367 | G21: =TRUNC(((G7+G8)*0.0228)*1.2, 0) -> 3207711 | H21: =TRUNC(((H7+H8)*0.0228)*1.2, 0) -> 4624241 | I21: =+E21+G21+H21 -> 37333319 | J21: [(재료비+직노) * 2.28% + 4,325천원]x1.2배 | K21: 제외 | M21: =E21+G21+H21 -> 37333319 | N21: =I21-M21 -> 0
A22: CG | D22: 기 타 경 비 | E22: =TRUNC((E7+E10)*0.048, 0) -> 45913093 | G22: =TRUNC((G7+G10)*0.048, 0) -> 5942351 | H22: =TRUNC((H7+H10)*0.048, 0) -> 8377869 | I22: =+E22+G22+H22 -> 60233313 | J22: (재료비+노무비) * 4.8% | M22: =E22+G22+H22 -> 60233313 | N22: =I22-M22 -> 0
A23: CH | D23: 환 경 보 전 비 | E23: =TRUNC((E7+E8+E11)*0.005, 0) -> 4547566 | G23: =TRUNC((G7+G8+G11)*0.005, 0) -> 605766 | H23: =TRUNC((H7+H8+H11)*0.005, 0) -> 845073 | I23: =+E23+G23+H23 -> 5998405 | J23: (재료비+직노+경비) * 0.5% | M23: =E23+G23+H23 -> 5998405 | N23: =I23-M23 -> 0
A24: CK | D24: 하도급지급보증수수료 | E24: =TRUNC((E7+E8+E11)*0.00081, 0) -> 736705 | G24: =TRUNC((G7+G8+G11)*0.00081, 0) -> 98134 | H24: =TRUNC((H7+H8+H11)*0.00081, 0) -> 136901 | I24: =+E24+G24+H24 -> 971740 | J24: (재료비+직노+경비) * 0.081% | K24: 최저가대상공사 | M24: =E24+G24+H24 -> 971740 | N24: =I24-M24 -> 0
A25: CL | D25: 건설기계대여금지급보증서발급수수료 | E25: =TRUNC((E7+E8+E11)*0.0007, 0) -> 636659 | G25: =TRUNC((G7+G8+G11)*0.0007, 0) -> 84807 | H25: =TRUNC((H7+H8+H11)*0.0007, 0) -> 118310 | I25: =+E25+G25+H25 -> 839776 | J25: (재료비+직노+경비) * 0.07% | M25: =E25+G25+H25 -> 839776 | N25: =I25-M25 -> 0
A26: CS | D26: [ 소 계 ] | E26: =TRUNC(E11+E12+E14+E15+E16+E17+E19+E13+E18+E20+E22+E23+E24+E25, 0) -> 182776766 | G26: =TRUNC(G11+G12+G14+G15+G16+G17+G19+G13+G18+G20+G22+G23+G24+G25, 0) -> 20757765 | H26: =TRUNC(H11+H12+H14+H15+H16+H17+H19+H13+H18+H20+H22+H23+H24+H25, 0) -> 19284179 | I26: =+E26+G26+H26 -> 222818710 | M26: =E26+G26+H26 -> 222818710 | N26: =I26-M26 -> 0
A27: S1 | B27: 계 | E27: =TRUNC(E7+E10+E26, 0) -> 1139299545 | G27: =TRUNC(G7+G10+G26, 0) -> 144556750 | H27: =TRUNC(H7+H10+H26, 0) -> 193823124 | I27: =+E27+G27+H27 -> 1477679419 | M27: =E27+G27+H27 -> 1477679419 | N27: =I27-M27 -> 0
A28: D1 | B28: 일 반 관 리 비 | E28: =TRUNC(E27*0.06, 0) -> 68357972 | G28: =TRUNC(G27*0.06, 0) -> 8673405 | H28: =TRUNC(H27*0.06, 0) -> 11629387 | I28: =+E28+G28+H28 -> 88660764 | J28: 계 * 6% | M28: =E28+G28+H28 -> 88660764 | N28: =I28-M28 -> 0
A29: D2 | B29: 이 윤 | E29: =TRUNC((E10+E26+E28)*0.15-3386/1.1, 0) -> 116265004 | G29: =TRUNC((G10+G26+G28)*0.15-905/1.1, 0) -> 11999653 | H29: =TRUNC((H10+H26+H28)*0.15-1474/1.1, 0) -> 11025679 | I29: =+E29+G29+H29 -> 139290336 | J29: (노무비+경비+일반관리비) * 15% | M29: =E29+G29+H29 -> 139290336 | N29: =I29-M29 -> 0
A30: D9 | B30: 공 급 가 액 | E30: =TRUNC(E27+E28+E29, 0) -> 1323922521 | G30: =TRUNC(G27+G28+G29, 0) -> 165229808 | H30: =TRUNC(H27+H28+H29, 0) -> 216478190 | I30: =+E30+G30+H30 -> 1705630519 | L30: 낙찰률 | M30: =E30+G30+H30 -> 1705630519 | N30: =I30-M30 -> 0 | O30: 0.87529
A31: DB | B31: 부 가 가 치 세 | E31: =TRUNC(E30*0.1, 0) -> 132392252 | G31: =TRUNC(G30*0.1, 0) -> 16522980 | H31: =TRUNC(H30*0.1, 0) -> 21647819 | I31: =+E31+G31+H31 -> 170563051 | J31: 공급가액 * 10% | L31: 재산정시 | M31: =E31+G31+H31 -> 170563051 | N31: =I31-M31 -> 0 | O31: =1/O30 -> 1.1424785
A32: DH | B32: 도 급 액 | E32: =TRUNC(E30+E31, 0) -> 1456314773 | G32: =TRUNC(G30+G31, 0) -> 181752788 | H32: =TRUNC(H30+H31, 0) -> 238126009 | I32: =+E32+G32+H32 -> 1876193570 | M32: =E32+G32+H32 -> 1876193570 | N32: =I32-M32 -> 0
A33: DK | B33: 도급자설치관급 | E33: =공종별집계표!L26 -> 36389628 | G33: =공종별집계표!L30 -> 18178000 | I33: =+E33+G33+H33 -> 54567628 | M33: =E33+G33+H33 -> 54567628 | N33: =I33-M33 -> 0
A34: DL | B34: 관급자설치관급 | E34: =공종별집계표!L27 -> 67395000 | H34: =공종별집계표!L33 -> 6844000 | I34: =+E34+G34+H34 -> 74239000 | M34: =E34+G34+H34 -> 74239000 | N34: =I34-M34 -> 0
A35: DL | B35: 각종분담금 | H35: 5700000 | I35: =+E35+G35+H35 -> 5700000 | K35: 합계제외(기타부대비) | M35: =E35+G35+H35 -> 5700000 | N35: =I35-M35 -> 0
A36: S2 | B36: 총 공 사 비 | E36: =TRUNC(E32+0+E33+E34, 0) -> 1560099401 | G36: =TRUNC(G32+0+G33+G34, 0) -> 199930788 | H36: =SUM(H32:H35) -> 250670009 | I36: =+E36+G36+H36 -> 2010700198 | M36: =E36+G36+H36 -> 2010700198 | N36: =I36-M36 -> 0

Sheet 공종별집계표
A1: 공 종 별 집 계 표
A2: [ 김천시 농촌신활력플러스 신축공사 ]
A3: 품 명 | B3: 규 격 | C3: 단위 | D3: 수량 | E3: 재 료 비 | G3: 노 무 비 | I3: 경 비 | K3: 합 계 | M3: 비 고 | N3: 공종코드 | O3: 변수 | P3: 상위공종 | Q3: 공종구분 | R3: 공종레벨 | S3: 공종소계 | T3: 원가계산서 연결금액
E4: 단 가 | F4: 금 액 | G4: 단 가 | H4: 금 액 | I4: 단 가 | J4: 금 액 | K4: 단 가 | L4: 금 액
A5: 01 김천시 농촌신활력플러스 신축공사 | D5: 1 | E5: =F6+F28+F31 -> 637702991 | F5: =E5*D5 -> 637702991 | G5: =H6+H28+H31 -> 537125953 | H5: =G5*D5 -> 537125953 | I5: =J6+J28+J31 -> 24852287 | J5: =I5*D5 -> 24852287 | K5: =E5+G5+I5 -> 1199681231 | L5: =F5+H5+J5 -> 1199681231 | N5: 01 | R5: 1
A6: 0101 ■ 건축공사 | D6: 1 | E6: =F7+F8+F9+F10+F11+F12+F13+F14+F15+F16+F17+F18+F19+F20+F21+F22+F23 -> 432536963 | F6: =E6*D6 -> 432536963 | G6: =H7+H8+H9+H10+H11+H12+H13+H14+H15+H16+H17+H18+H19+H20+H21+H22+H23 -> 456036394 | H6: =G6*D6 -> 456036394 | I6: =J7+J8+J9+J10+J11+J12+J13+J14+J15+J16+J17+J18+J19+J20+J21+J22+J23 -> 20939865 | J6: =I6*D6 -> 20939865 | K6: =E6+G6+I6 -> 909513222 | L6: =F6+H6+J6 -> 909513222 | N6: 0101 | P6: 01 | R6: 2
A7: 010101 공통 가설 공사 | D7: 1 | E7: =공종별내역서!F29 -> 0 | F7: =E7*D7 -> 0 | G7: =공종별내역서!H29 -> 0 | H7: =G7*D7 -> 0 | I7: =공종별내역서!J29 -> 3773689 | J7: =I7*D7 -> 3773689 | K7: =E7+G7+I7 -> 3773689 | L7: =F7+H7+J7 -> 3773689 | N7: 010101 | P7: 0101 | R7: 3
A8: 010102 가 설 공 사 | D8: 1 | E8: =공종별내역서!F55 -> 17072196 | F8: =E8*D8 -> 17072196 | G8: =공종별내역서!H55 -> 90357379 | H8: =G8*D8 -> 90357379 | I8: =공종별내역서!J55 -> 1550636 | J8: =I8*D8 -> 1550636 | K8: =E8+G8+I8 -> 108980211 | L8: =F8+H8+J8 -> 108980211 | N8: 010102 | P8: 0101 | R8: 3
A9: 010103 토공및기초공사 | D9: 1 | E9: =공종별내역서!F81 -> 0 | F9: =E9*D9 -> 0 | G9: =공종별내역서!H81 -> 0 | H9: =G9*D9 -> 0 | I9: =공종별내역서!J81 -> 0 | J9: =I9*D9 -> 0 | K9: =E9+G9+I9 -> 0 | L9: =F9+H9+J9 -> 0 | N9: 010103 | P9: 0101 | R9: 3
A10: 010104 철근콘크리트공사 | D10: 1 | E10: =공종별내역서!F133 -> 61083178 | F10: =E10*D10 -> 61083178 | G10: =공종별내역서!H133 -> 115242204 | H10: =G10*D10 -> 115242204 | I10: =공종별내역서!J133 -> 4968785 | J10: =I10*D10 -> 4968785 | K10: =E10+G10+I10 -> 181294167 | L10: =F10+H10+J10 -> 181294167 | N10: 010104 | P10: 0101 | R10: 3
A11: 010105 조 적 공 사 | D11: 1 | E11: =공종별내역서!F159 -> 52606346 | F11: =E11*D11 -> 52606346 | G11: =공종별내역서!H159 -> 58933790 | H11: =G11*D11 -> 58933790 | I11: =공종별내역서!J159 -> 2324918 | J11: =I11*D11 -> 2324918 | K11: =E11+G11+I11 -> 113865054 | L11: =F11+H11+J11 -> 113865054 | N11: 010105 | P11: 0101 | R11: 3
A12: 010106 방 수 공 사 | D12: 1 | E12: =공종별내역서!F185 -> 8149703 | F12: =E12*D12 -> 8149703 | G12: =공종별내역서!H185 -> 9021435 | H12: =G12*D12 -> 9021435 | I12: =공종별내역서!J185 -> 118040 | J12: =I12*D12 -> 118040 | K12: =E12+G12+I12 -> 17289178 | L12: =F12+H12+J12 -> 17289178 | N12: 010106 | P12: 0101 | R12: 3
A13: 010107 타 일 공 사 | D13: 1 | E13: =공종별내역서!F211 -> 4098556 | F13: =E13*D13 -> 4098556 | G13: =공종별내역서!H211 -> 11113841 | H13: =G13*D13 -> 11113841 | I13: =공종별내역서!J211 -> 275792 | J13: =I13*D13 -> 275792 | K13: =E13+G13+I13 -> 15488189 | L13: =F13+H13+J13 -> 15488189 | N13: 010107 | P13: 0101 | R13: 3
A14: 010108 석 공 사 | D14: 1 | E14: =공종별내역서!F237 -> 3666506 | F14: =E14*D14 -> 3666506 | G14: =공종별내역서!H237 -> 5367625 | H14: =G14*D14 -> 5367625 | I14: =공종별내역서!J237 -> 36142 | J14: =I14*D14 -> 36142 | K14: =E14+G14+I14 -> 9070273 | L14: =F14+H14+J14 -> 9070273 | N14: 010108 | P14: 0101 | R14: 3
A15: 010109 금 속 공 사 | D15: 1 | E15: =공종별내역서!F263 -> 52393147 | F15: =E15*D15 -> 52393147 | G15: =공종별내역서!H263 -> 57302116 | H15: =G15*D15 -> 57302116 | I15: =공종별내역서!J263 -> 4873135 | J15: =I15*D15 -> 4873135 | K15: =E15+G15+I15 -> 114568398 | L15: =F15+H15+J15 -> 114568398 | N15: 010109 | P15: 0101 | R15: 3
A16: 010110 미 장 공 사 | D16: 1 | E16: =공종별내역서!F289 -> 0 | F16: =E16*D16 -> 0 | G16: =공종별내역서!H289 -> 10513300 | H16: =G16*D16 -> 10513300 | I16: =공종별내역서!J289 -> 161325 | J16: =I16*D16 -> 161325 | K16: =E16+G16+I16 -> 10674625 | L16: =F16+H16+J16 -> 10674625 | N16: 010110 | P16: 0101 | R16: 3
A17: 010111 창 호 공 사 | D17: 1 | E17: =공종별내역서!F341 -> 29959450 | F17: =E17*D17 -> 29959450 | G17: =공종별내역서!H341 -> 9269773 | H17: =G17*D17 -> 9269773 | I17: =공종별내역서!J341 -> 63130 | J17: =I17*D17 -> 63130 | K17: =E17+G17+I17 -> 39292353 | L17: =F17+H17+J17 -> 39292353 | N17: 010111 | P17: 0101 | R17: 3
A18: 010112 유 리 공 사 | D18: 1 | E18: =공종별내역서!F367 -> 27250657 | F18: =E18*D18 -> 27250657 | G18: =공종별내역서!H367 -> 13218930 | H18: =G18*D18 -> 13218930 | I18: =공종별내역서!J367 -> 3888 | J18: =I18*D18 -> 3888 | K18: =E18+G18+I18 -> 40473475 | L18: =F18+H18+J18 -> 40473475 | N18: 010112 | P18: 0101 | R18: 3
A19: 010113 도 장 공 사 | D19: 1 | E19: =공종별내역서!F393 -> 55038848 | F19: =E19*D19 -> 55038848 | G19: =공종별내역서!H393 -> 31693449 | H19: =G19*D19 -> 31693449 | I19: =공종별내역서!J393 -> 0 | J19: =I19*D19 -> 0 | K19: =E19+G19+I19 -> 86732297 | L19: =F19+H19+J19 -> 86732297 | N19: 010113 | P19: 0101 | R19: 3
A20: 010114 수 장 공 사 | D20: 1 | E20: =공종별내역서!F419 -> 54187682 | F20: =E20*D20 -> 54187682 | G20: =공종별내역서!H419 -> 35886536 | H20: =G20*D20 -> 35886536 | I20: =공종별내역서!J419 -> 395624 | J20: =I20*D20 -> 395624 | K20: =E20+G20+I20 -> 90469842 | L20: =F20+H20+J20 -> 90469842 | N20: 010114 | P20: 0101 | R20: 3
A21: 010115 기 타 공 사 | D21: 1 | E21: =공종별내역서!F445 -> 42682162 | F21: =E21*D21 -> 42682162 | G21: =공종별내역서!H445 -> 533384 | H21: =G21*D21 -> 533384 | I21: =공종별내역서!J445 -> 2686 | J21: =I21*D21 -> 2686 | K21: =E21+G21+I21 -> 43218232 | L21: =F21+H21+J21 -> 43218232 | N21: 010115 | P21: 0101 | R21: 3
A22: 010116 오수처리시설 | D22: 1 | E22: =공종별내역서!F471 -> 18650000 | F22: =E22*D22 -> 18650000 | G22: =공종별내역서!H471 -> 7582632 | H22: =G22*D22 -> 7582632 | I22: =공종별내역서!J471 -> 1600000 | J22: =I22*D22 -> 1600000 | K22: =E22+G22+I22 -> 27832632 | L22: =F22+H22+J22 -> 27832632 | N22: 010116 | P22: 0101 | R22: 3
A23: 010117 골재대및운반비 | D23: 1 | E23: =공종별내역서!F497 -> 5698532 | F23: =E23*D23 -> 5698532 | G23: =공종별내역서!H497 -> 0 | H23: =G23*D23 -> 0 | I23: =공종별내역서!J497 -> 792075 | J23: =I23*D23 -> 792075 | K23: =E23+G23+I23 -> 6490607 | L23: =F23+H23+J23 -> 6490607 | N23: 010117 | P23: 0101 | R23: 3
A24: 010118 >> 품 질 관 리 비 | B24: 별도집계 | D24: 1 | E24: =공종별내역서!F523 -> 0 | F24: =E24*D24 -> 0 | G24: =공종별내역서!H523 -> 0 | H24: =G24*D24 -> 0 | I24: =공종별내역서!J523 -> 1801524 | J24: =I24*D24 -> 1801524 | K24: =E24+G24+I24 -> 1801524 | L24: =F24+H24+J24 -> 1801524 | N24: 010118 | Q24: 5 | R24: 3 | T24: =L24*1 -> 1801524
A25: 010119 >> 안 전 관 리 비 | B25: 별도집계 | D25: 1 | E25: =공종별내역서!F549 -> 0 | F25: =E25*D25 -> 0 | G25: =공종별내역서!H549 -> 0 | H25: =G25*D25 -> 0 | I25: =공종별내역서!J549 -> 9650000 | J25: =I25*D25 -> 9650000 | K25: =E25+G25+I25 -> 9650000 | L25: =F25+H25+J25 -> 9650000 | N25: 010119 | Q25: 6 | R25: 3 | T25: =L25*1 -> 9650000
A26: 010120 >> 도급자설치관급 | B26: 별도집계 | D26: 1 | E26: =공종별내역서!F575 -> 36389628 | F26: =E26*D26 -> 36389628 | G26: =공종별내역서!H575 -> 0 | H26: =G26*D26 -> 0 | I26: =공종별내역서!J575 -> 0 | J26: =I26*D26 -> 0 | K26: =E26+G26+I26 -> 36389628 | L26: =F26+H26+J26 -> 36389628 | N26: 010120 | Q26: 3 | R26: 3 | T26: =L26*1 -> 36389628
A27: 010121 >> 관급자설치관급 | B27: 별도집계 | D27: 1 | E27: =공종별내역서!F601 -> 67395000 | F27: =E27*D27 -> 67395000 | G27: =공종별내역서!H601 -> 0 | H27: =G27*D27 -> 0 | I27: =공종별내역서!J601 -> 0 | J27: =I27*D27 -> 0 | K27: =E27+G27+I27 -> 67395000 | L27: =F27+H27+J27 -> 67395000 | N27: 010121 | Q27: 4 | R27: 3 | T27: =L27*1 -> 67395000
A28: 0102 ■ 토목공사 | D28: 1 | E28: =F29 -> 73226981 | F28: =E28*D28 -> 73226981 | G28: =H29 -> 44013929 | H28: =G28*D28 -> 44013929 | I28: =J29 -> 3912422 | J28: =I28*D28 -> 3912422 | K28: =E28+G28+I28 -> 121153332 | L28: =F28+H28+J28 -> 121153332 | N28: 0102 | P28: 01 | R28: 2
A29: 010201 순공사비 | D29: 1 | E29: =공종별내역서!F627 -> 73226981 | F29: =E29*D29 -> 73226981 | G29: =공종별내역서!H627 -> 44013929 | H29: =G29*D29 -> 44013929 | I29: =공종별내역서!J627 -> 3912422 | J29: =I29*D29 -> 3912422 | K29: =E29+G29+I29 -> 121153332 | L29: =F29+H29+J29 -> 121153332 | N29: 010201 | P29: 0102 | R29: 3
A30: 010202 >> 도급자설치관급 | B30: 별도집계 | D30: 1 | E30: =공종별내역서!F653 -> 18178000 | F30: =E30*D30 -> 18178000 | G30: =공종별내역서!H653 -> 0 | H30: =G30*D30 -> 0 | I30: =공종별내역서!J653 -> 0 | J30: =I30*D30 -> 0 | K30: =E30+G30+I30 -> 18178000 | L30: =F30+H30+J30 -> 18178000 | N30: 010202 | Q30: 3 | R30: 3 | T30: =L30*1 -> 18178000
A31: 0103 ■ 기계공사 | D31: 1 | E31: =F32 -> 131939047 | F31: =E31*D31 -> 131939047 | G31: =H32 -> 37075630 | H31: =G31*D31 -> 37075630 | I31: =J32 -> 0 | J31: =I31*D31 -> 0 | K31: =E31+G31+I31 -> 169014677 | L31: =F31+H31+J31 -> 169014677 | N31: 0103 | P31: 01 | R31: 2
A32: 010301 순공사비 | D32: 1 | E32: =공종별내역서!F679 -> 131939047 | F32: =E32*D32 -> 131939047 | G32: =공종별내역서!H679 -> 37075630 | H32: =G32*D32 -> 37075630 | I32: =공종별내역서!J679 -> 0 | J32: =I32*D32 -> 0 | K32: =E32+G32+I32 -> 169014677 | L32: =F32+H32+J32 -> 169014677 | N32: 010301 | P32: 0103 | R32: 3
A33: 010302 >> 관급자설치관급 | B33: 별도집계 | D33: 1 | E33: =공종별내역서!F705 -> 6844000 | F33: =E33*D33 -> 6844000 | G33: =공종별내역서!H705 -> 0 | H33: =G33*D33 -> 0 | I33: =공종별내역서!J705 -> 0 | J33: =I33*D33 -> 0 | K33: =E33+G33+I33 -> 6844000 | L33: =F33+H33+J33 -> 6844000 | N33: 010302 | Q33: 4 | R33: 3 | T33: =L33*1 -> 6844000
A52: [ 합 계 ] | F52: =F5 -> 637702991 | H52: =H5 -> 537125953 | J52: =J5 -> 24852287 | L52: =L5 -> 1199681231

Sheet 공종별내역서
A1: [ 김천시 농촌신활력플러스 신축공사 ]
A2: 품 명 | B2: 규 격 | C2: 단위 | D2: 수량 | E2: 재 료 비 | G2: 노 무 비 | I2: 경 비 | K2: 합 계 | M2: 비 고 | N2: 품목코드 | O2: 변수 | P2: 설정 | Q2: 공종코드 | R2: 일위 | S2: 단산 | T2: 자재 | U2: 손료적용 | V2: 손료저장 | W2: 적용율 | X2: JUK1 | Y2: JUK2 | Z2: JUK3 | AA2: JUK4 | AB2: JUK5 | AC2: JUK6 | AD2: JUK7 | AE2: JUK8 | AF2: JUK9 | AG2: JUK10 | AH2: JUK11 | AI2: JUK12 | AJ2: JUK13 | AK2: JUK14 | AL2: JUK15 | AM2: JUK16 | AN2: JUK17 | AO2: JUK18 | AP2: JUK19 | AQ2: JUK20 | AR2: 자재구분 | AS2: 공종구분 | AT2: 공종레벨 | AU2: 공종+자재 | AV2: 고유번호
E3: 단 가 | F3: 금 액 | G3: 단 가 | H3: 금 액 | I3: 단 가 | J3: 금 액 | K3: 단 가 | L3: 금 액
A4: 010101 공통 가설 공사 | Q4: 010101
A5: 콘테이너형 가설사무소 설치 및 해체 | B5: 3.0*6.0m, 12개월 | C5: 개소 | D5: 0.5 | E5: =TRUNC(일위대가목록!E4,0) -> 0 | F5: =TRUNC(E5*D5, 0) -> 0 | G5: =TRUNC(일위대가목록!F4,0) -> 0 | H5: =TRUNC(G5*D5, 0) -> 0 | I5: =TRUNC(일위대가목록!G4,0) -> 1482710 | J5: =TRUNC(I5*D5, 0) -> 741355 | K5: =TRUNC(E5+G5+I5, 0) -> 1482710 | L5: =TRUNC(F5+H5+J5, 0) -> 741355 | M5: 호표 1 | N5: 5E4774EA62E3DC978997176034C319 | Q5: 010101 | R5: T | S5: F | T5: F | AU5: 0101015E4774EA62E3DC978997176034C319 | AV5: 15
A6: 콘테이너형 가설창고 설치 및 해체 | B6: 3.0*6.0m, 12개월 | C6: 개소 | D6: 0.5 | E6: =TRUNC(일위대가목록!E5,0) -> 0 | F6: =TRUNC(E6*D6, 0) -> 0 | G6: =TRUNC(일위대가목록!F5,0) -> 0 | H6: =TRUNC(G6*D6, 0) -> 0 | I6: =TRUNC(일위대가목록!G5,0) -> 1337142 | J6: =TRUNC(I6*D6, 0) -> 668571 | K6: =TRUNC(E6+G6+I6, 0) -> 1337142 | L6: =TRUNC(F6+H6+J6, 0) -> 668571 | M6: 호표 2 | N6: 5E4774EA62E3DF9338A6B920CE9100 | Q6: 010101 | R6: T | S6: F | T6: F | AU6: 0101015E4774EA62E3DF9338A6B920CE9100 | AV6: 16
A7: 조립식가설울타리/E.G.I철판 | B7: H=3.0, 12개월 | C7: M | D7: 14 | E7: =TRUNC(일위대가목록!E6,0) -> 0 | F7: =TRUNC(E7*D7, 0) -> 0 | G7: =TRUNC(일위대가목록!F6,0) -> 0 | H7: =TRUNC(G7*D7, 0) -> 0 | I7: =TRUNC(일위대가목록!G6,0) -> 29727 | J7: =TRUNC(I7*D7, 0) -> 416178 | K7: =TRUNC(E7+G7+I7, 0) -> 29727 | L7: =TRUNC(F7+H7+J7, 0) -> 416178 | M7: 호표 3 | N7: 5E4774E9424379917BA44DF066A848 | Q7: 010101 | R7: T | S7: F | T7: F | AU7: 0101015E4774E9424379917BA44DF066A848 | AV7: 4
A8: 조립식가설대문손료(홀딩도어) | B8: 8000*5500,12개월 | C8: 개소 | D8: 0.5 | E8: =TRUNC(일위대가목록!E7,0) -> 0 | F8: =TRUNC(E8*D8, 0) -> 0 | G8: =TRUNC(일위대가목록!F7,0) -> 0 | H8: =TRUNC(G8*D8, 0) -> 0 | I8: =TRUNC(일위대가목록!G7,0) -> 2993998 | J8: =TRUNC(I8*D8, 0) -> 1496999 | K8: =TRUNC(E8+G8+I8, 0) -> 2993998 | L8: =TRUNC(F8+H8+J8, 0) -> 1496999 | M8: 호표 4 | N8: 5E4774EC1283D89509C25BA0F64926 | Q8: 010101 | R8: T | S8: F | T8: F | AU8: 0101015E4774EC1283D89509C25BA0F64926 | AV8: 18
A9: 공사용 가설전기설치 | B9: 분전반+강재전선관+배선 | C9: 개소 | D9: 0 | E9: =TRUNC(일위대가목록!E8,0) -> 0 | F9: =TRUNC(E9*D9, 0) -> 0 | G9: =TRUNC(일위대가목록!F8,0) -> 0 | H9: =TRUNC(G9*D9, 0) -> 0 | I9: =TRUNC(일위대가목록!G8,0) -> 524919 | J9: =TRUNC(I9*D9, 0) -> 0 | K9: =TRUNC(E9+G9+I9, 0) -> 524919 | L9: =TRUNC(F9+H9+J9, 0) -> 0 | M9: 호표 5 | N9: 5E4774EC1283DA901CF22FE0AA0910 | Q9: 010101 | R9: T | S9: F | T9: F | AU9: 0101015E4774EC1283DA901CF22FE0AA0910 | AV9: 565
A10: 공사용 가설수도설치 | B10: 수도용배관+수도밸브 | C10: 개소 | D10: 1 | E10: =TRUNC(일위대가목록!E9,0) -> 0 | F10: =TRUNC(E10*D10, 0) -> 0 | G10: =TRUNC(일위대가목록!F9,0) -> 0 | H10: =TRUNC(G10*D10, 0) -> 0 | I10: =TRUNC(일위대가목록!G9,0) -> 450586 | J10: =TRUNC(I10*D10, 0) -> 450586 | K10: =TRUNC(E10+G10+I10, 0) -> 450586 | L10: =TRUNC(F10+H10+J10, 0) -> 450586 | M10: 호표 6 | N10: 5E4774EC1283DA901CF22FE0AA0914 | Q10: 010101 | R10: T | S10: F | T10: F | AU10: 0101015E4774EC1283DA901CF22FE0AA0914 | AV10: 566
Q11: 010101
Q12: 010101
Q13: 010101
Q14: 010101
Q15: 010101
Q16: 010101
Q17: 010101
Q18: 010101
Q19: 010101
Q20: 010101
Q21: 010101
Q22: 010101
... Q28: 010101
A29: [ 합 계 ] | F29: =SUMIF(Q5:Q28,"010101",F5:F28) -> 0 | H29: =SUMIF(Q5:Q28,"010101",H5:H28) -> 0 | J29: =SUMIF(Q5:Q28,"010101",J5:J28) -> 3773689 | L29: =SUMIF(Q5:Q28,"010101",L5:L28) -> 3773689 | N29: TOTAL | AW29: =L29*AX29 -> 3303072.2 | AX29: =0.87529 -> 0.87529
A30: 010102 가 설 공 사 | Q30: 010102
A31: 수평 규준틀 | B31: 평 | C31: 개소 | D31: 0 | E31: =TRUNC(일위대가목록!E10,0) -> 7394 | F31: =TRUNC(E31*D31, 0) -> 0 | G31: =TRUNC(일위대가목록!F10,0) -> 92625 | H31: =TRUNC(G31*D31, 0) -> 0 | I31: =TRUNC(일위대가목록!G10,0) -> 0 | J31: =TRUNC(I31*D31, 0) -> 0 | K31: =TRUNC(E31+G31+I31, 0) -> 100019 | L31: =TRUNC(F31+H31+J31, 0) -> 0 | M31: 호표 7 | N31: 5E4774E942632D919932977034A615 | Q31: 010102 | R31: T | S31: F | T31: F | AU31: 0101025E4774E942632D919932977034A615 | AV31: 12
A32: 수평 규준틀 | B32: 귀 | C32: 개소 | D32: 0 | E32: =TRUNC(일위대가목록!E11,0) -> 11620 | F32: =TRUNC(E32*D32, 0) -> 0 | G32: =TRUNC(일위대가목록!F11,0) -> 159780 | H32: =TRUNC(G32*D32, 0) -> 0 | I32: =TRUNC(일위대가목록!G11,0) -> 0 | J32: =TRUNC(I32*D32, 0) -> 0 | K32: =TRUNC(E32+G32+I32, 0) -> 171400 | L32: =TRUNC(F32+H32+J32, 0) -> 0 | M32: 호표 8 | N32: 5E4774E942632D919932974060C81C | Q32: 010102 | R32: T | S32: F | T32: F | AU32: 0101025E4774E942632D919932974060C81C | AV32: 13
A33: 강관 조립말비계(이동식)설치 및 해체 | B33: 높이 2m, 3개월 | C33: 대 | D33: 0 | E33: =TRUNC(일위대가목록!E12,0) -> 28678 | F33: =TRUNC(E33*D33, 0) -> 0 | G33: =TRUNC(일위대가목록!F12,0) -> 93630 | H33: =TRUNC(G33*D33, 0) -> 0 | I33: =TRUNC(일위대가목록!G12,0) -> 0 | J33: =TRUNC(I33*D33, 0) -> 0 | K33: =TRUNC(E33+G33+I33, 0) -> 122308 | L33: =TRUNC(F33+H33+J33, 0) -> 0 | M33: 호표 9 | N33: 5E4774E942632D91888591B0AC7C15 | Q33: 010102 | R33: T | S33: F | T33: F | AU33: 0101025E4774E942632D91888591B0AC7C15 | AV33: 6
A34: 내부수평비계(시스템비계) / 카페테리아 | B34: H7.0m(발판 유), 3개월, 천장작업용 | C34: M2 | D34: 120 | E34: =TRUNC(일위대가목록!E14,0) -> 29779 | F34: =TRUNC(E34*D34, 0) -> 3573480 | G34: =TRUNC(일위대가목록!F14,0) -> 116361 | H34: =TRUNC(G34*D34, 0) -> 13963320 | I34: =TRUNC(일위대가목록!G14,0) -> 0 | J34: =TRUNC(I34*D34, 0) -> 0 | K34: =TRUNC(E34+G34+I34, 0) -> 146140 | L34: =TRUNC(F34+H34+J34, 0) -> 17536800 | M34: 호표 11 | N34: 5E4774E942632D91996F93C0DA1458 | Q34: 010102 | R34: T | S34: F | T34: F | AU34: 0101025E4774E942632D91996F93C0DA1458 | AV34: 264
A35: 내부수평비계(시스템비계) / 3층 | B35: H4.0m(발판 유), 3개월, 천장작업용 | C35: M2 | D35: 200 | E35: =TRUNC(일위대가목록!E13,0) -> 19012 | F35: =TRUNC(E35*D35, 0) -> 3802400 | G35: =TRUNC(일위대가목록!F13,0) -> 66492 | H35: =TRUNC(G35*D35, 0) -> 13298400 | I35: =TRUNC(일위대가목록!G13,0) -> 0 | J35: =TRUNC(I35*D35, 0) -> 0 | K35: =TRUNC(E35+G35+I35, 0) -> 85504 | L35: =TRUNC(F35+H35+J35, 0) -> 17100800 | M35: 호표 10 | N35: 5E4774E942632D91996F93C0D866FC | Q35: 010102 | R35: T | S35: F | T35: F | AU35: 0101025E4774E942632D91996F93C0D866FC | AV35: 259
A36: 시스템비계 설치, 해체(외부) | B36: 10m이하, 6개월(발판2열)-계단설치해체비포함 | C36: M2 | D36: 613 | E36: =TRUNC(일위대가목록!E15,0) -> 5038 | F36: =TRUNC(E36*D36, 0) -> 3088294 | G36: =TRUNC(일위대가목록!F15,0) -> 12875 | H36: =TRUNC(G36*D36, 0) -> 7892375 | I36: =TRUNC(일위대가목록!G15,0) -> 0 | J36: =TRUNC(I36*D36, 0) -> 0 | K36: =TRUNC(E36+G36+I36, 0) -> 17913 | L36: =TRUNC(F36+H36+J36, 0) -> 10980669 | M36: 호표 12 | N36: 5E64545AA2F3E29CECFD8B10DBF3BE | Q36: 010102 | R36: T | S36: F | T36: F | AU36: 0101025E64545AA2F3E29CECFD8B10DBF3BE | AV36: 26
A37: 시스템비계 설치, 해체(외부) | B37: H=10m초과∼20m이하, 6개월(발판2열)-계단설치해체비포함 | C37: M2 | D37: 84 | E37: =TRUNC(일위대가목록!E16,0) -> 5038 | F37: =TRUNC(E37*D37, 0) -> 423192 | G37: =TRUNC(일위대가목록!F16,0) -> 15669 | H37: =TRUNC(G37*D37, 0) -> 1316196 | I37: =TRUNC(일위대가목록!G16,0) -> 0 | J37: =TRUNC(I37*D37, 0) -> 0 | K37: =TRUNC(E37+G37+I37, 0) -> 20707 | L37: =TRUNC(F37+H37+J37, 0) -> 1739388 | M37: 호표 13 | N37: 5E64545AA2F3E29CECFD8B10DBF0EA | Q37: 010102 | R37: T | S37: F | T37: F | AU37: 0101025E64545AA2F3E29CECFD8B10DBF0EA | AV37: 27
A38: 비계주위 보호망 설치 및 해체 | B38: P.E망, 210合, 10cm | C38: M2 | D38: 697 | E38: =TRUNC(일위대가목록!E17,0) -> 1690 | F38: =TRUNC(E38*D38, 0) -> 1177930 | G38: =TRUNC(일위대가목록!F17,0) -> 2794 | H38: =TRUNC(G38*D38, 0) -> 1947418 | I38: =TRUNC(일위대가목록!G17,0) -> 0 | J38: =TRUNC(I38*D38, 0) -> 0 | K38: =TRUNC(E38+G38+I38, 0) -> 4484 | L38: =TRUNC(F38+H38+J38, 0) -> 3125348 | M38: 호표 14 | N38: 5E4774E942733B9B9B72DB808FF49E | Q38: 010102 | R38: T | S38: F | T38: F | AU38: 0101025E4774E942733B9B9B72DB808FF49E | AV38: 5
A39: 강관동바리 | B39: 3개월,3.5m이하 | C39: M2 | D39: 148 | E39: =TRUNC(일위대가목록!E18,0) -> 2878 | F39: =TRUNC(E39*D39, 0) -> 425944 | G39: =TRUNC(일위대가목록!F18,0) -> 15339 | H39: =TRUNC(G39*D39, 0) -> 2270172 | I39: =TRUNC(일위대가목록!G18,0) -> 0 | J39: =TRUNC(I39*D39, 0) -> 0 | K39: =TRUNC(E39+G39+I39, 0) -> 18217 | L39: =TRUNC(F39+H39+J39, 0) -> 2696116 | M39: 호표 15 | N39: 5E4774E942632E93DE9CDF90FF334A | Q39: 010102 | R39: T | S39: F | T39: F | AU39: 0101025E4774E942632E93DE9CDF90FF334A | AV39: 265
A40: 강관동바리 | B40: 3개월,3.5m초과 ~ 4.2m이하 | C40: M2 | D40: 64 | E40: =TRUNC(일위대가목록!E19,0) -> 3242 | F40: =TRUNC(E40*D40, 0) -> 207488 | G40: =TRUNC(일위대가목록!F19,0) -> 18067 | H40: =TRUNC(G40*D40, 0) -> 1156288 | I40: =TRUNC(일위대가목록!G19,0) -> 0 | J40: =TRUNC(I40*D40, 0) -> 0 | K40: =TRUNC(E40+G40+I40, 0) -> 21309 | L40: =TRUNC(F40+H40+J40, 0) -> 1363776 | M40: 호표 16 | N40: 5E4774E942632E93DE9CDF90FF30F6 | Q40: 010102 | R40: T | S40: F | T40: F | AU40: 0101025E4774E942632E93DE9CDF90FF30F6 | AV40: 14
A41: 시스템동바리 설치 및 해체 / 계단실 | B41: H=10m이하, 3개월 | C41: M3 | D41: 952 | E41: =TRUNC(일위대가목록!E20,0) -> 2684 | F41: =TRUNC(E41*D41, 0) -> 2555168 | G41: =TRUNC(일위대가목록!F20,0) -> 19850 | H41: =TRUNC(G41*D41, 0) -> 18897200 | I41: =TRUNC(일위대가목록!G20,0) -> 713 | J41: =TRUNC(I41*D41, 0) -> 678776 | K41: =TRUNC(E41+G41+I41, 0) -> 23247 | L41: =TRUNC(F41+H41+J41, 0) -> 22131144 | M41: 호표 17 | N41: 5E64545AA2F3E29CECFDFE00AA5AA4 | Q41: 010102 | R41: T | S41: F | T41: F | AU41: 0101025E64545AA2F3E29CECFDFE00AA5AA4 | AV41: 22
A42: 시스템동바리 설치 및 해체 / 계단실홀 | B42: H=10m초과∼20m이하, 3개월 | C42: M3 | D42: 660 | E42: =TRUNC(일위대가목록!E21,0) -> 2755 | F42: =TRUNC(E42*D42, 0) -> 1818300 | G42: =TRUNC(일위대가목록!F21,0) -> 23545 | H42: =TRUNC(G42*D42, 0) -> 15539700 | I42: =TRUNC(일위대가목록!G21,0) -> 1049 | J42: =TRUNC(I42*D42, 0) -> 692340 | K42: =TRUNC(E42+G42+I42, 0) -> 27349 | L42: =TRUNC(F42+H42+J42, 0) -> 18050340 | M42: 호표 18 | N42: 5E64545AA2F3E29CECFDFE00AA599F | Q42: 010102 | R42: T | S42: F | T42: F | AU42: 0101025E64545AA2F3E29CECFDFE00AA599F | AV42: 23
A43: 구조부 먹매김 | B43: 일반 | C43: M2 | D43: 421 | E43: =TRUNC(일위대가목록!E22,0) -> 0 | F43: =TRUNC(E43*D43, 0) -> 0 | G43: =TRUNC(일위대가목록!F22,0) -> 1389 | H43: =TRUNC(G43*D43, 0) -> 584769 | I43: =TRUNC(일위대가목록!G22,0) -> 0 | J43: =TRUNC(I43*D43, 0) -> 0 | K43: =TRUNC(E43+G43+I43, 0) -> 1389 | L43: =TRUNC(F43+H43+J43, 0) -> 584769 | M43: 호표 19 | N43: 5E4774EC12B3929A247DEE70C432F0 | Q43: 010102 | R43: T | S43: F | T43: F | AU43: 0101025E4774EC12B3929A247DEE70C432F0 | AV43: 19
A44: 거푸집 먹매김 | B44: 일반 | C44: M2 | D44: 256 | E44: =TRUNC(일위대가목록!E23,0) -> 0 | F44: =TRUNC(E44*D44, 0) -> 0 | G44: =TRUNC(일위대가목록!F23,0) -> 3334 | H44: =TRUNC(G44*D44, 0) -> 853504 | I44: =TRUNC(일위대가목록!G23,0) -> 0 | J44: =TRUNC(I44*D44, 0) -> 0 | K44: =TRUNC(E44+G44+I44, 0) -> 3334 | L44: =TRUNC(F44+H44+J44, 0) -> 853504 | M44: 호표 20 | N44: 5E4774EC12B3929A247DC3A04F23DD | Q44: 010102 | R44: T | S44: F | T44: F | AU44: 0101025E4774EC12B3929A247DC3A04F23DD | AV44: 20
A45: 건축물보양 - 콘크리트 | B45: 살수 | C45: M2 | D45: 885 | E45: =TRUNC(일위대가목록!E24,0) -> 0 | F45: =TRUNC(E45*D45, 0) -> 0 | G45: =TRUNC(일위대가목록!F24,0) -> 679 | H45: =TRUNC(G45*D45, 0) -> 600915 | I45: =TRUNC(일위대가목록!G24,0) -> 0 | J45: =TRUNC(I45*D45, 0) -> 0 | K45: =TRUNC(E45+G45+I45, 0) -> 679 | L45: =TRUNC(F45+H45+J45, 0) -> 600915 | M45: 호표 21 | N45: 5E4774EC12B3929A1BCAF6A08E8D95 | Q45: 010102 | R45: T | S45: F | T45: F | AU45: 0101025E4774EC12B3929A1BCAF6A08E8D95 | AV45: 21
A46: 건축물 현장정리 | B46: 철근콘크리트조, 철골·철근콘크리트조 | C46: M2 | D46: 421 | E46: =TRUNC(일위대가목록!E25,0) -> 0 | F46: =TRUNC(E46*D46, 0) -> 0 | G46: =TRUNC(일위대가목록!F25,0) -> 22074 | H46: =TRUNC(G46*D46, 0) -> 9293154 | I46: =TRUNC(일위대가목록!G25,0) -> 0 | J46: =TRUNC(I46*D46, 0) -> 0 | K46: =TRUNC(E46+G46+I46, 0) -> 22074 | L46: =TRUNC(F46+H46+J46, 0) -> 9293154 | M46: 호표 22 | N46: 5E4774EC1283D895353A0CD044CCAB | Q46: 010102 | R46: T | S46: F | T46: F | AU46: 0101025E4774EC1283D895353A0CD044CCAB | AV46: 17
A47: 준공청소비 | C47: M2 | D47: 808 | E47: =TRUNC(일위대가목록!E26,0) -> 0 | F47: =TRUNC(E47*D47, 0) -> 0 | G47: =TRUNC(일위대가목록!F26,0) -> 3396 | H47: =TRUNC(G47*D47, 0) -> 2743968 | I47: =TRUNC(일위대가목록!G26,0) -> 0 | J47: =TRUNC(I47*D47, 0) -> 0 | K47: =TRUNC(E47+G47+I47, 0) -> 3396 | L47: =TRUNC(F47+H47+J47, 0) -> 2743968 | M47: 호표 23 | N47: 5E4774EC1283D89535447B70353A93 | Q47: 010102 | R47: T | S47: F | T47: F | AU47: 0101025E4774EC1283D89535447B70353A93 | AV47: 266
A48: 폐기물상차비 | B48: 신축(시공발생)폐기물 | C48: TON | D48: 51 | E48: =TRUNC(단가대비표!O339,0) -> 0 | F48: =TRUNC(E48*D48, 0) -> 0 | G48: =TRUNC(단가대비표!P339,0) -> 0 | H48: =TRUNC(G48*D48, 0) -> 0 | I48: =TRUNC(단가대비표!V339,0) -> 3520 | J48: =TRUNC(I48*D48, 0) -> 179520 | K48: =TRUNC(E48+G48+I48, 0) -> 3520 | L48: =TRUNC(F48+H48+J48, 0) -> 179520 | M48: 토목단가 | N48: 5FFCD49FC2931B90A7B75270BA224D41D99561 | Q48: 010102 | R48: F | S48: F | T48: T | AU48: 0101025FFCD49FC2931B90A7B75270BA224D41D99561 | AV48: 530
Q49: 010102
Q50: 010102
Q51: 010102
Q52: 010102
Q53: 010102
Q54: 010102
A55: [ 합 계 ] | F55: =SUMIF(Q31:Q54,"010102",F31:F54) -> 17072196 | H55: =SUMIF(Q31:Q54,"010102",H31:H54) -> 90357379 | J55: =SUMIF(Q31:Q54,"010102",J31:J54) -> 1550636 | L55: =SUMIF(Q31:Q54,"010102",L31:L54) -> 108980211 | N55: TOTAL | AW55: =L55*AX55 -> 95389289 | AX55: =0.87529 -> 0.87529
A56: 010103 토공및기초공사 | Q56: 010103
A57: 터파기/토사 | B57: 보통, 굴착기 0.7m3 | C57: M3 | D57: 0 | E57: =TRUNC(단가산출목록!E4,0) -> 323 | F57: =TRUNC(E57*D57, 0) -> 0 | G57: =TRUNC(단가산출목록!F4,0) -> 967 | H57: =TRUNC(G57*D57, 0) -> 0 | I57: =TRUNC(단가산출목록!G4,0) -> 407 | J57: =TRUNC(I57*D57, 0) -> 0 | K57: =TRUNC(E57+G57+I57, 0) -> 1697 | L57: =TRUNC(F57+H57+J57, 0) -> 0 | M57: 산근 1 | N57: 5E6404DCC2D3BB9C18D4EB808644C7 | Q57: 010103 | R57: F | S57: T | T57: F | AU57: 0101035E6404DCC2D3BB9C18D4EB808644C7 | AV57: 30
A58: 되메우기 | B58: 보통, 유압식백호 0.7m3 | C58: M3 | D58: 0 | E58: =TRUNC(단가산출목록!E5,0) -> 248 | F58: =TRUNC(E58*D58, 0) -> 0 | G58: =TRUNC(단가산출목록!F5,0) -> 744 | H58: =TRUNC(G58*D58, 0) -> 0 | I58: =TRUNC(단가산출목록!G5,0) -> 313 | J58: =TRUNC(I58*D58, 0) -> 0 | K58: =TRUNC(E58+G58+I58, 0) -> 1305 | L58: =TRUNC(F58+H58+J58, 0) -> 0 | M58: 산근 2 | N58: 5E6404D12233C39FF5C3DDF05C886E | Q58: 010103 | R58: F | S58: T | T58: F | AU58: 0101035E6404D12233C39FF5C3DDF05C886E | AV58: 268
A59: 토사 운반/단지외 10km | B59: 보통, 덤프 15ton+굴착기 0.7m3 | C59: M3 | D59: 0 | E59: =TRUNC(단가산출목록!E6,0) -> 2941 | F59: =TRUNC(E59*D59, 0) -> 0 | G59: =TRUNC(단가산출목록!F6,0) -> 5683 | H59: =TRUNC(G59*D59, 0) -> 0 | I59: =TRUNC(단가산출목록!G6,0) -> 2061 | J59: =TRUNC(I59*D59, 0) -> 0 | K59: =TRUNC(E59+G59+I59, 0) -> 10685 | L59: =TRUNC(F59+H59+J59, 0) -> 0 | M59: 산근 3 | N59: 5E6404DF82332F9A4607405036B051 | Q59: 010103 | R59: F | S59: T | T59: F | AU59: 0101035E6404DF82332F9A4607405036B051 | AV59: 32
A60: 방습필름 설치 - 바닥 | B60: 폴리에틸렌필름, 두께, 0.03mm, 2겹 | C60: M2 | D60: 0 | E60: =TRUNC(일위대가목록!E27,0) -> 422 | F60: =TRUNC(E60*D60, 0) -> 0 | G60: =TRUNC(일위대가목록!F27,0) -> 1431 | H60: =TRUNC(G60*D60, 0) -> 0 | I60: =TRUNC(일위대가목록!G27,0) -> 0 | J60: =TRUNC(I60*D60, 0) -> 0 | K60: =TRUNC(E60+G60+I60, 0) -> 1853 | L60: =TRUNC(F60+H60+J60, 0) -> 0 | M60: 호표 24 | N60: 5E47943112234894BB5C8F600E00D3 | Q60: 010103 | R60: T | S60: F | T60: F | AU60: 0101035E47943112234894BB5C8F600E00D3 | AV60: 29
Q61: 010103
Q62: 010103
Q63: 010103
Q64: 010103
Q65: 010103
Q66: 010103
Q67: 010103
Q68: 010103
Q69: 010103
Q70: 010103
Q71: 010103
Q72: 010103
... Q80: 010103
A81: [ 합 계 ] | F81: =SUMIF(Q57:Q80,"010103",F57:F80) -> 0 | H81: =SUMIF(Q57:Q80,"010103",H57:H80) -> 0 | J81: =SUMIF(Q57:Q80,"010103",J57:J80) -> 0 | L81: =SUMIF(Q57:Q80,"010103",L57:L80) -> 0 | N81: TOTAL
A82: 010104 철근콘크리트공사 | Q82: 010104
A83: 레미콘 【 도급자관급 】 | B83: 버림 25-18-120 | C83: M3 | D83: 31 | E83: =TRUNC(단가대비표!O49,0) -> 0 | F83: =TRUNC(E83*D83, 0) -> 0 | G83: =TRUNC(단가대비표!P49,0) -> 0 | H83: =TRUNC(G83*D83, 0) -> 0 | I83: =TRUNC(단가대비표!V49,0) -> 0 | J83: =TRUNC(I83*D83, 0) -> 0 | K83: =TRUNC(E83+G83+I83, 0) -> 0 | L83: =TRUNC(F83+H83+J83, 0) -> 0 | N83: 596D84E2B2F3409C275FED80815D70EE0048BC | Q83: 010104 | R83: F | S83: F | T83: T | AU83: 010104596D84E2B2F3409C275FED80815D70EE0048BC | AV83: 272
A84: 레미콘 【 도급자관급 】 | B84: 누름 25-21-120 | C84: M3 | D84: 108 | E84: =TRUNC(단가대비표!O50,0) -> 0 | F84: =TRUNC(E84*D84, 0) -> 0 | G84: =TRUNC(단가대비표!P50,0) -> 0 | H84: =TRUNC(G84*D84, 0) -> 0 | I84: =TRUNC(단가대비표!V50,0) -> 0 | J84: =TRUNC(I84*D84, 0) -> 0 | K84: =TRUNC(E84+G84+I84, 0) -> 0 | L84: =TRUNC(F84+H84+J84, 0) -> 0 | N84: 596D84E2B2F3409C275FED80815D70EE0048BE | Q84: 010104 | R84: F | S84: F | T84: T | AU84: 010104596D84E2B2F3409C275FED80815D70EE0048BE | AV84: 270
A85: 레미콘 【 도급자관급 】 | B85: 구체 25-30-150 | C85: M3 | D85: 896 | E85: =TRUNC(단가대비표!O52,0) -> 0 | F85: =TRUNC(E85*D85, 0) -> 0 | G85: =TRUNC(단가대비표!P52,0) -> 0 | H85: =TRUNC(G85*D85, 0) -> 0 | I85: =TRUNC(단가대비표!V52,0) -> 0 | J85: =TRUNC(I85*D85, 0) -> 0 | K85: =TRUNC(E85+G85+I85, 0) -> 0 | L85: =TRUNC(F85+H85+J85, 0) -> 0 | N85: 596D84E2B2F3409C275FED80815D70EE0048BA | Q85: 010104 | R85: F | S85: F | T85: T | AU85: 010104596D84E2B2F3409C275FED80815D70EE0048BA | AV85: 271
A86: 콘크리트 펌프차 타설(무근, 진동기無) | B86: slump 8~12cm, 매트기초 등, f2 : Type-Ⅱ, 36m | C86: M3 | D86: 120 | E86: =TRUNC(일위대가목록!E28,0) -> 1415 | F86: =TRUNC(E86*D86, 0) -> 169800 | G86: =TRUNC(일위대가목록!F28,0) -> 7593 | H86: =TRUNC(G86*D86, 0) -> 911160 | I86: =TRUNC(일위대가목록!G28,0) -> 4135 | J86: =TRUNC(I86*D86, 0) -> 496200 | K86: =TRUNC(E86+G86+I86, 0) -> 13143 | L86: =TRUNC(F86+H86+J86, 0) -> 1577160 | M86: 호표 25 | N86: 5E47246012D3CC9020073AB00125DE | Q86: 010104 | R86: T | S86: F | T86: F | AU86: 0101045E47246012D3CC9020073AB00125DE | AV86: 273
A87: 콘크리트 펌프차 타설 | B87: slump 15cm, 매트기초 등, f2 : Type-Ⅰ, 36m | C87: M3 | D87: 0 | E87: =TRUNC(일위대가목록!E29,0) -> 1177 | F87: =TRUNC(E87*D87, 0) -> 0 | G87: =TRUNC(일위대가목록!F29,0) -> 9782 | H87: =TRUNC(G87*D87, 0) -> 0 | I87: =TRUNC(일위대가목록!G29,0) -> 3613 | J87: =TRUNC(I87*D87, 0) -> 0 | K87: =TRUNC(E87+G87+I87, 0) -> 14572 | L87: =TRUNC(F87+H87+J87, 0) -> 0 | M87: 호표 26 | N87: 5E47246012E3D79D23D087E0145CF0 | Q87: 010104 | R87: T | S87: F | T87: F | AU87: 0101045E47246012E3D79D23D087E0145CF0 | AV87: 275
A88: 콘크리트 펌프차 타설 | B88: slump 15cm, 벽,기둥,슬래브 등, f2 : Type-Ⅰ, 36m | C88: M3 | D88: 229 | E88: =TRUNC(일위대가목록!E30,0) -> 1650 | F88: =TRUNC(E88*D88, 0) -> 377850 | G88: =TRUNC(일위대가목록!F30,0) -> 13668 | H88: =TRUNC(G88*D88, 0) -> 3129972 | I88: =TRUNC(일위대가목록!G30,0) -> 5062 | J88: =TRUNC(I88*D88, 0) -> 1159198 | K88: =TRUNC(E88+G88+I88, 0) -> 20380 | L88: =TRUNC(F88+H88+J88, 0) -> 4667020 | M88: 호표 27 | N88: 5E47246012E3D491EB750AA06D6666 | Q88: 010104 | R88: T | S88: F | T88: F | AU88: 0101045E47246012E3D491EB750AA06D6666 | AV88: 274
A89: 이형철근 【 도급자관급 】 | B89: SD400,HD10 | C89: TON | D89: 24.9 | E89: =TRUNC(단가대비표!O53,0) -> 0 | F89: =TRUNC(E89*D89, 0) -> 0 | G89: =TRUNC(단가대비표!P53,0) -> 0 | H89: =TRUNC(G89*D89, 0) -> 0 | I89: =TRUNC(단가대비표!V53,0) -> 0 | J89: =TRUNC(I89*D89, 0) -> 0 | K89: =TRUNC(E89+G89+I89, 0) -> 0 | L89: =TRUNC(F89+H89+J89, 0) -> 0 | N89: 596D84E2B2F3409C275FED80815D70EE004944 | Q89: 010104 | R89: F | S89: F | T89: T | AU89: 010104596D84E2B2F3409C275FED80815D70EE004944 | AV89: 276
A90: 이형철근 【 도급자관급 】 | B90: SD400,HD13 | C90: TON | D90: 21.6 | E90: =TRUNC(단가대비표!O54,0) -> 0 | F90: =TRUNC(E90*D90, 0) -> 0 | G90: =TRUNC(단가대비표!P54,0) -> 0 | H90: =TRUNC(G90*D90, 0) -> 0 | I90: =TRUNC(단가대비표!V54,0) -> 0 | J90: =TRUNC(I90*D90, 0) -> 0 | K90: =TRUNC(E90+G90+I90, 0) -> 0 | L90: =TRUNC(F90+H90+J90, 0) -> 0 | N90: 596D84E2B2F3409C275FED80815D70EE004945 | Q90: 010104 | R90: F | S90: F | T90: T | AU90: 010104596D84E2B2F3409C275FED80815D70EE004945 | AV90: 277
A91: 이형철근 【 도급자관급 】 | B91: SD400,HD16 | C91: TON | D91: 2.1 | E91: =TRUNC(단가대비표!O55,0) -> 0 | F91: =TRUNC(E91*D91, 0) -> 0 | G91: =TRUNC(단가대비표!P55,0) -> 0 | H91: =TRUNC(G91*D91, 0) -> 0 | I91: =TRUNC(단가대비표!V55,0) -> 0 | J91: =TRUNC(I91*D91, 0) -> 0 | K91: =TRUNC(E91+G91+I91, 0) -> 0 | L91: =TRUNC(F91+H91+J91, 0) -> 0 | N91: 596D84E2B2F3409C275FED80815D70EE004946 | Q91: 010104 | R91: F | S91: F | T91: T | AU91: 010104596D84E2B2F3409C275FED80815D70EE004946 | AV91: 278
A92: 이형철근 【 도급자관급 】 | B92: SD500,HD22 | C92: TON | D92: 37 | E92: =TRUNC(단가대비표!O56,0) -> 0 | F92: =TRUNC(E92*D92, 0) -> 0 | G92: =TRUNC(단가대비표!P56,0) -> 0 | H92: =TRUNC(G92*D92, 0) -> 0 | I92: =TRUNC(단가대비표!V56,0) -> 0 | J92: =TRUNC(I92*D92, 0) -> 0 | K92: =TRUNC(E92+G92+I92, 0) -> 0 | L92: =TRUNC(F92+H92+J92, 0) -> 0 | N92: 596D84E2B2F3409C275FED80815D70EE004940 | Q92: 010104 | R92: F | S92: F | T92: T | AU92: 010104596D84E2B2F3409C275FED80815D70EE004940 | AV92: 560
A93: 내진이형철근 【 도급자관급 】 | B93: SD500S,HD22 | C93: TON | D93: 34.2 | E93: =TRUNC(단가대비표!O57,0) -> 0 | F93: =TRUNC(E93*D93, 0) -> 0 | G93: =TRUNC(단가대비표!P57,0) -> 0 | H93: =TRUNC(G93*D93, 0) -> 0 | I93: =TRUNC(단가대비표!V57,0) -> 0 | J93: =TRUNC(I93*D93, 0) -> 0 | K93: =TRUNC(E93+G93+I93, 0) -> 0 | L93: =TRUNC(F93+H93+J93, 0) -> 0 | N93: 596D84E2B2F3409C275FED80815D70EE004941 | Q93: 010104 | R93: F | S93: F | T93: T | AU93: 010104596D84E2B2F3409C275FED80815D70EE004941 | AV93: 280
A94: 내진이형철근 【 도급자관급 】 | B94: SD500S,HD25 | C94: TON | D94: 10.2 | E94: =TRUNC(단가대비표!O58,0) -> 0 | F94: =TRUNC(E94*D94, 0) -> 0 | G94: =TRUNC(단가대비표!P58,0) -> 0 | H94: =TRUNC(G94*D94, 0) -> 0 | I94: =TRUNC(단가대비표!V58,0) -> 0 | J94: =TRUNC(I94*D94, 0) -> 0 | K94: =TRUNC(E94+G94+I94, 0) -> 0 | L94: =TRUNC(F94+H94+J94, 0) -> 0 | N94: 596D84E2B2F3409C275FED80815D70EE004942 | Q94: 010104 | R94: F | S94: F | T94: T | AU94: 010104596D84E2B2F3409C275FED80815D70EE004942 | AV94: 281
A95: 철근 공장가공 및 현장조립 | B95: Type-Ⅰ | C95: TON | D95: 29.2 | E95: =TRUNC(일위대가목록!E31,0) -> 10770 | F95: =TRUNC(E95*D95, 0) -> 314484 | G95: =TRUNC(일위대가목록!F31,0) -> 630845 | H95: =TRUNC(G95*D95, 0) -> 18420674 | I95: =TRUNC(일위대가목록!G31,0) -> 50802 | J95: =TRUNC(I95*D95, 0) -> 1483418 | K95: =TRUNC(E95+G95+I95, 0) -> 692417 | L95: =TRUNC(F95+H95+J95, 0) -> 20218576 | M95: 호표 28 | N95: 5E472464F273B49757C7ADD06897DA | Q95: 010104 | R95: T | S95: F | T95: F | AU95: 0101045E472464F273B49757C7ADD06897DA | AV95: 282
A96: 와이어메시 바닥깔기 | B96: #8-150*150 | C96: M2 | D96: 1130 | E96: =TRUNC(일위대가목록!E32,0) -> 2510 | F96: =TRUNC(E96*D96, 0) -> 2836300 | G96: =TRUNC(일위대가목록!F32,0) -> 1329 | H96: =TRUNC(G96*D96, 0) -> 1501770 | I96: =TRUNC(일위대가목록!G32,0) -> 0 | J96: =TRUNC(I96*D96, 0) -> 0 | K96: =TRUNC(E96+G96+I96, 0) -> 3839 | L96: =TRUNC(F96+H96+J96, 0) -> 4338070 | M96: 호표 29 | N96: 5E47C46D42D37A99C61376B0CCC2E0 | Q96: 010104 | R96: T | S96: F | T96: F | AU96: 0101045E47C46D42D37A99C61376B0CCC2E0 | AV96: 46
A97: 합판거푸집 설치 및 해체 | B97: 매우복잡 2회, 수직고 7m까지 | C97: M2 | D97: 4 | E97: =TRUNC(일위대가목록!E33,0) -> 18439 | F97: =TRUNC(E97*D97, 0) -> 73756 | G97: =TRUNC(일위대가목록!F33,0) -> 68150 | H97: =TRUNC(G97*D97, 0) -> 272600 | I97: =TRUNC(일위대가목록!G33,0) -> 681 | J97: =TRUNC(I97*D97, 0) -> 2724 | K97: =TRUNC(E97+G97+I97, 0) -> 87270 | L97: =TRUNC(F97+H97+J97, 0) -> 349080 | M97: 호표 30 | N97: 5E47246742F36E9A5D8D232051961F | Q97: 010104 | R97: T | S97: F | T97: F | AU97: 0101045E47246742F36E9A5D8D232051961F | AV97: 386
A98: 합판거푸집 설치 및 해체 | B98: 보통 4회, 수직고 7m까지 | C98: M2 | D98: 126 | E98: =TRUNC(일위대가목록!E34,0) -> 12978 | F98: =TRUNC(E98*D98, 0) -> 1635228 | G98: =TRUNC(일위대가목록!F34,0) -> 37755 | H98: =TRUNC(G98*D98, 0) -> 4757130 | I98: =TRUNC(일위대가목록!G34,0) -> 377 | J98: =TRUNC(I98*D98, 0) -> 47502 | K98: =TRUNC(E98+G98+I98, 0) -> 51110 | L98: =TRUNC(F98+H98+J98, 0) -> 6439860 | M98: 호표 31 | N98: 5E47246742E3489A0B5121607CC91B | Q98: 010104 | R98: T | S98: F | T98: F | AU98: 0101045E47246742E3489A0B5121607CC91B | AV98: 387
A99: 합판거푸집 설치 및 해체 | B99: 보통 4회, 슬래브(경사도 20˚미만) | C99: M2 | D99: 453 | E99: =TRUNC(일위대가목록!E35,0) -> 12978 | F99: =TRUNC(E99*D99, 0) -> 5879034 | G99: =TRUNC(일위대가목록!F35,0) -> 45728 | H99: =TRUNC(G99*D99, 0) -> 20714784 | I99: =TRUNC(일위대가목록!G35,0) -> 457 | J99: =TRUNC(I99*D99, 0) -> 207021 | K99: =TRUNC(E99+G99+I99, 0) -> 59163 | L99: =TRUNC(F99+H99+J99, 0) -> 26800839 | M99: 호표 32 | N99: 5E47246742E349948C5861C074314B | Q99: 010104 | R99: T | S99: F | T99: F | AU99: 0101045E47246742E349948C5861C074314B | AV99: 388
A100: 유로폼 설치 및 해체 | B100: 보통, 수직고 7m까지 | C100: M2 | D100: 1443 | E100: =TRUNC(일위대가목록!E36,0) -> 4157 | F100: =TRUNC(E100*D100, 0) -> 5998551 | G100: =TRUNC(일위대가목록!F36,0) -> 36027 | H100: =TRUNC(G100*D100, 0) -> 51986961 | I100: =TRUNC(일위대가목록!G36,0) -> 1080 | J100: =TRUNC(I100*D100, 0) -> 1558440 | K100: =TRUNC(E100+G100+I100, 0) -> 41264 | L100: =TRUNC(F100+H100+J100, 0) -> 59543952 | M100: 호표 33 | N100: 5E47246742833F9D716E8DE08CE345 | Q100: 010104 | R100: T | S100: F | T100: F | AU100: 0101045E47246742833F9D716E8DE08CE345 | AV100: 390
A101: 유로폼 설치 및 해체 | B101: 간단, 수직고 7m까지 | C101: M2 | D101: 0 | E101: =TRUNC(일위대가목록!E37,0) -> 3415 | F101: =TRUNC(E101*D101, 0) -> 0 | G101: =TRUNC(일위대가목록!F37,0) -> 31528 | H101: =TRUNC(G101*D101, 0) -> 0 | I101: =TRUNC(일위대가목록!G37,0) -> 945 | J101: =TRUNC(I101*D101, 0) -> 0 | K101: =TRUNC(E101+G101+I101, 0) -> 35888 | L101: =TRUNC(F101+H101+J101, 0) -> 0 | M101: 호표 34 | N101: 5E47246742833F9D716E8DE08CE2BE | Q101: 010104 | R101: T | S101: F | T101: F | AU101: 0101045E47246742833F9D716E8DE08CE2BE | AV101: 391
A102: 지수판설치 - 소켓 연결 | B102: PVC, H200*5t | C102: M | D102: 0 | E102: =TRUNC(일위대가목록!E38,0) -> 3620 | F102: =TRUNC(E102*D102, 0) -> 0 | G102: =TRUNC(일위대가목록!F38,0) -> 23752 | H102: =TRUNC(G102*D102, 0) -> 0 | I102: =TRUNC(일위대가목록!G38,0) -> 0 | J102: =TRUNC(I102*D102, 0) -> 0 | K102: =TRUNC(E102+G102+I102, 0) -> 27372 | L102: =TRUNC(F102+H102+J102, 0) -> 0 | M102: 호표 35 | N102: 5E47246EF2F3619838011340281E0D | Q102: 010104 | R102: T | S102: F | T102: F | AU102: 0101045E47246EF2F3619838011340281E0D | AV102: 283
A103: 단열재접착제붙이기 / W1(직접외기) | B103: PF보드(심재준불연),T=90mm | C103: M2 | D103: 614 | E103: =TRUNC(일위대가목록!E39,0) -> 30587 | F103: =TRUNC(E103*D103, 0) -> 18780418 | G103: =TRUNC(일위대가목록!F39,0) -> 16183 | H103: =TRUNC(G103*D103, 0) -> 9936362 | I103: =TRUNC(일위대가목록!G39,0) -> 0 | J103: =TRUNC(I103*D103, 0) -> 0 | K103: =TRUNC(E103+G103+I103, 0) -> 46770 | L103: =TRUNC(F103+H103+J103, 0) -> 28716780 | M103: 호표 36 | N103: 5E47E4BC0243BD942426F780F4AC50 | Q103: 010104 | R103: T | S103: F | T103: F | AU103: 0101045E47E4BC0243BD942426F780F4AC50 | AV103: 40
A104: 단열재 콘크리트타설부착 / F1 | B104: 바닥, PF보드(심재준불연),T=100mm | C104: M2 | D104: 23 | E104: =TRUNC(일위대가목록!E40,0) -> 33000 | F104: =TRUNC(E104*D104, 0) -> 759000 | G104: =TRUNC(일위대가목록!F40,0) -> 9692 | H104: =TRUNC(G104*D104, 0) -> 222916 | I104: =TRUNC(일위대가목록!G40,0) -> 193 | J104: =TRUNC(I104*D104, 0) -> 4439 | K104: =TRUNC(E104+G104+I104, 0) -> 42885 | L104: =TRUNC(F104+H104+J104, 0) -> 986355 | M104: 호표 37 | N104: 5E47E4BC0243BD9424269EF049F484 | Q104: 010104 | R104: T | S104: F | T104: F | AU104: 0101045E47E4BC0243BD9424269EF049F484 | AV104: 42
A105: 단열재 콘크리트타설부착 / R2 | B105: 스라브, 경질우레탄2종2호,T=150mm | C105: M2 | D105: 51 | E105: =TRUNC(일위대가목록!E41,0) -> 36300 | F105: =TRUNC(E105*D105, 0) -> 1851300 | G105: =TRUNC(일위대가목록!F41,0) -> 9692 | H105: =TRUNC(G105*D105, 0) -> 494292 | I105: =TRUNC(일위대가목록!G41,0) -> 193 | J105: =TRUNC(I105*D105, 0) -> 9843 | K105: =TRUNC(E105+G105+I105, 0) -> 46185 | L105: =TRUNC(F105+H105+J105, 0) -> 2355435 | M105: 호표 38 | N105: 5E47E4BC0243BD9424269EF049F6B3 | Q105: 010104 | R105: T | S105: F | T105: F | AU105: 0101045E47E4BC0243BD9424269EF049F6B3 | AV105: 43
A106: 단열재 슬래브 위 깔기 / F2 | B106: (가등급)압출법,비중0.03,T=90mm | C106: M2 | D106: 337 | E106: =TRUNC(일위대가목록!E42,0) -> 12511 | F106: =TRUNC(E106*D106, 0) -> 4216207 | G106: =TRUNC(일위대가목록!F42,0) -> 3059 | H106: =TRUNC(G106*D106, 0) -> 1030883 | I106: =TRUNC(일위대가목록!G42,0) -> 0 | J106: =TRUNC(I106*D106, 0) -> 0 | K106: =TRUNC(E106+G106+I106, 0) -> 15570 | L106: =TRUNC(F106+H106+J106, 0) -> 5247090 | M106: 호표 39 | N106: 5E47E4BC0243BD942426B9D023064E | Q106: 010104 | R106: T | S106: F | T106: F | AU106: 0101045E47E4BC0243BD942426B9D023064E | AV106: 44
A107: 단열재 슬래브 위 깔기 / R1 | B107: 지붕, 경질우레탄2종2호,T=150mm | C107: M2 | D107: 525 | E107: =TRUNC(일위대가목록!E43,0) -> 34650 | F107: =TRUNC(E107*D107, 0) -> 18191250 | G107: =TRUNC(일위대가목록!F43,0) -> 3548 | H107: =TRUNC(G107*D107, 0) -> 1862700 | I107: =TRUNC(일위대가목록!G43,0) -> 0 | J107: =TRUNC(I107*D107, 0) -> 0 | K107: =TRUNC(E107+G107+I107, 0) -> 38198 | L107: =TRUNC(F107+H107+J107, 0) -> 20053950 | M107: 호표 40 | N107: 5E47E4BC0243BD942426B9D0226DA2 | Q107: 010104 | R107: T | S107: F | T107: F | AU107: 0101045E47E4BC0243BD942426B9D0226DA2 | AV107: 45
Q108: 010104
Q109: 010104
Q110: 010104
Q111: 010104
Q112: 010104
...

Sheet 일위대가목록
B1: 일 위 대 가 목 록
B2: [ 김천시 농촌신활력플러스 신축공사 ]
A3: 코 드 | B3: 품 명 | C3: 규 격 | D3: 단위 | E3: 재 료 비 | F3: 노 무 비 | G3: 경 비 | H3: 합 계 | I3: 번 호 | J3: 비 고 | K3: 노임계수 | L3: 할증 | M3: 품셈개요 | N3: 장비일위
A4: 5E4774EA62E3DC978997176034C319 | B4: 콘테이너형 가설사무소 설치 및 해체 | C4: 3.0*6.0m, 12개월 | D4: 개소 | E4: =일위대가!F8 -> 0 | F4: =일위대가!H8 -> 0 | G4: =일위대가!J8 -> 1482710 | H4: =E4+F4+G4 -> 1482710 | I4: 호표 1
A5: 5E4774EA62E3DF9338A6B920CE9100 | B5: 콘테이너형 가설창고 설치 및 해체 | C5: 3.0*6.0m, 12개월 | D5: 개소 | E5: =일위대가!F14 -> 0 | F5: =일위대가!H14 -> 0 | G5: =일위대가!J14 -> 1337142 | H5: =E5+F5+G5 -> 1337142 | I5: 호표 2
A6: 5E4774E9424379917BA44DF066A848 | B6: 조립식가설울타리/E.G.I철판 | C6: H=3.0, 12개월 | D6: M | E6: =일위대가!F27 -> 0 | F6: =일위대가!H27 -> 0 | G6: =일위대가!J27 -> 29727 | H6: =E6+F6+G6 -> 29727 | I6: 호표 3
A7: 5E4774EC1283D89509C25BA0F64926 | B7: 조립식가설대문손료(홀딩도어) | C7: 8000*5500,12개월 | D7: 개소 | E7: =일위대가!F40 -> 0 | F7: =일위대가!H40 -> 0 | G7: =일위대가!J40 -> 2993998 | H7: =E7+F7+G7 -> 2993998 | I7: 호표 4
A8: 5E4774EC1283DA901CF22FE0AA0910 | B8: 공사용 가설전기설치 | C8: 분전반+강재전선관+배선 | D8: 개소 | E8: =일위대가!F50 -> 0 | F8: =일위대가!H50 -> 0 | G8: =일위대가!J50 -> 524919 | H8: =E8+F8+G8 -> 524919 | I8: 호표 5
A9: 5E4774EC1283DA901CF22FE0AA0914 | B9: 공사용 가설수도설치 | C9: 수도용배관+수도밸브 | D9: 개소 | E9: =일위대가!F58 -> 0 | F9: =일위대가!H58 -> 0 | G9: =일위대가!J58 -> 450586 | H9: =E9+F9+G9 -> 450586 | I9: 호표 6
A10: 5E4774E942632D919932977034A615 | B10: 수평 규준틀 | C10: 평 | D10: 개소 | E10: =일위대가!F64 -> 7394 | F10: =일위대가!H64 -> 92625 | G10: =일위대가!J64 -> 0 | H10: =E10+F10+G10 -> 100019 | I10: 호표 7
A11: 5E4774E942632D919932974060C81C | B11: 수평 규준틀 | C11: 귀 | D11: 개소 | E11: =일위대가!F70 -> 11620 | F11: =일위대가!H70 -> 159780 | G11: =일위대가!J70 -> 0 | H11: =E11+F11+G11 -> 171400 | I11: 호표 8
A12: 5E4774E942632D91888591B0AC7C15 | B12: 강관 조립말비계(이동식)설치 및 해체 | C12: 높이 2m, 3개월 | D12: 대 | E12: =일위대가!F83 -> 28678 | F12: =일위대가!H83 -> 93630 | G12: =일위대가!J83 -> 0 | H12: =E12+F12+G12 -> 122308 | I12: 호표 9
A13: 5E4774E942632D91996F93C0D866FC | B13: 내부수평비계(시스템비계) / 3층 | C13: H4.0m(발판 유), 3개월, 천장작업용 | D13: M2 | E13: =일위대가!F95 -> 19012 | F13: =일위대가!H95 -> 66492 | G13: =일위대가!J95 -> 0 | H13: =E13+F13+G13 -> 85504 | I13: 호표 10
A14: 5E4774E942632D91996F93C0DA1458 | B14: 내부수평비계(시스템비계) / 카페테리아 | C14: H7.0m(발판 유), 3개월, 천장작업용 | D14: M2 | E14: =일위대가!F107 -> 29779 | F14: =일위대가!H107 -> 116361 | G14: =일위대가!J107 -> 0 | H14: =E14+F14+G14 -> 146140 | I14: 호표 11
A15: 5E64545AA2F3E29CECFD8B10DBF3BE | B15: 시스템비계 설치, 해체(외부) | C15: 10m이하, 6개월(발판2열)-계단설치해체비포함 | D15: M2 | E15: =일위대가!F123 -> 5038 | F15: =일위대가!H123 -> 12875 | G15: =일위대가!J123 -> 0 | H15: =E15+F15+G15 -> 17913 | I15: 호표 12
A16: 5E64545AA2F3E29CECFD8B10DBF0EA | B16: 시스템비계 설치, 해체(외부) | C16: H=10m초과∼20m이하, 6개월(발판2열)-계단설치해체비포함 | D16: M2 | E16: =일위대가!F139 -> 5038 | F16: =일위대가!H139 -> 15669 | G16: =일위대가!J139 -> 0 | H16: =E16+F16+G16 -> 20707 | I16: 호표 13
A17: 5E4774E942733B9B9B72DB808FF49E | B17: 비계주위 보호망 설치 및 해체 | C17: P.E망, 210合, 10cm | D17: M2 | E17: =일위대가!F144 -> 1690 | F17: =일위대가!H144 -> 2794 | G17: =일위대가!J144 -> 0 | H17: =E17+F17+G17 -> 4484 | I17: 호표 14
A18: 5E4774E942632E93DE9CDF90FF334A | B18: 강관동바리 | C18: 3개월,3.5m이하 | D18: M2 | E18: =일위대가!F150 -> 2878 | F18: =일위대가!H150 -> 15339 | G18: =일위대가!J150 -> 0 | H18: =E18+F18+G18 -> 18217 | I18: 호표 15
A19: 5E4774E942632E93DE9CDF90FF30F6 | B19: 강관동바리 | C19: 3개월,3.5m초과 ~ 4.2m이하 | D19: M2 | E19: =일위대가!F156 -> 3242 | F19: =일위대가!H156 -> 18067 | G19: =일위대가!J156 -> 0 | H19: =E19+F19+G19 -> 21309 | I19: 호표 16
A20: 5E64545AA2F3E29CECFDFE00AA5AA4 | B20: 시스템동바리 설치 및 해체 / 계단실 | C20: H=10m이하, 3개월 | D20: M3 | E20: =일위대가!F168 -> 2684 | F20: =일위대가!H168 -> 19850 | G20: =일위대가!J168 -> 713 | H20: =E20+F20+G20 -> 23247 | I20: 호표 17
A21: 5E64545AA2F3E29CECFDFE00AA599F | B21: 시스템동바리 설치 및 해체 / 계단실홀 | C21: H=10m초과∼20m이하, 3개월 | D21: M3 | E21: =일위대가!F180 -> 2755 | F21: =일위대가!H180 -> 23545 | G21: =일위대가!J180 -> 1049 | H21: =E21+F21+G21 -> 27349 | I21: 호표 18
A22: 5E4774EC12B3929A247DEE70C432F0 | B22: 구조부 먹매김 | C22: 일반 | D22: M2 | E22: =일위대가!F184 -> 0 | F22: =일위대가!H184 -> 1389 | G22: =일위대가!J184 -> 0 | H22: =E22+F22+G22 -> 1389 | I22: 호표 19
A23: 5E4774EC12B3929A247DC3A04F23DD | B23: 거푸집 먹매김 | C23: 일반 | D23: M2 | E23: =일위대가!F188 -> 0 | F23: =일위대가!H188 -> 3334 | G23: =일위대가!J188 -> 0 | H23: =E23+F23+G23 -> 3334 | I23: 호표 20
A24: 5E4774EC12B3929A1BCAF6A08E8D95 | B24: 건축물보양 - 콘크리트 | C24: 살수 | D24: M2 | E24: =일위대가!F192 -> 0 | F24: =일위대가!H192 -> 679 | G24: =일위대가!J192 -> 0 | H24: =E24+F24+G24 -> 679 | I24: 호표 21
A25: 5E4774EC1283D895353A0CD044CCAB | B25: 건축물 현장정리 | C25: 철근콘크리트조, 철골·철근콘크리트조 | D25: M2 | E25: =일위대가!F196 -> 0 | F25: =일위대가!H196 -> 22074 | G25: =일위대가!J196 -> 0 | H25: =E25+F25+G25 -> 22074 | I25: 호표 22
A26: 5E4774EC1283D89535447B70353A93 | B26: 준공청소비 | D26: M2 | E26: =일위대가!F200 -> 0 | F26: =일위대가!H200 -> 3396 | G26: =일위대가!J200 -> 0 | H26: =E26+F26+G26 -> 3396 | I26: 호표 23
A27: 5E47943112234894BB5C8F600E00D3 | B27: 방습필름 설치 - 바닥 | C27: 폴리에틸렌필름, 두께, 0.03mm, 2겹 | D27: M2 | E27: =일위대가!F205 -> 422 | F27: =일위대가!H205 -> 1431 | G27: =일위대가!J205 -> 0 | H27: =E27+F27+G27 -> 1853 | I27: 호표 24
A28: 5E47246012D3CC9020073AB00125DE | B28: 콘크리트 펌프차 타설(무근, 진동기無) | C28: slump 8~12cm, 매트기초 등, f2 : Type-Ⅱ, 36m | D28: M3 | E28: =일위대가!F213 -> 1415 | F28: =일위대가!H213 -> 7593 | G28: =일위대가!J213 -> 4135 | H28: =E28+F28+G28 -> 13143 | I28: 호표 25
A29: 5E47246012E3D79D23D087E0145CF0 | B29: 콘크리트 펌프차 타설 | C29: slump 15cm, 매트기초 등, f2 : Type-Ⅰ, 36m | D29: M3 | E29: =일위대가!F221 -> 1177 | F29: =일위대가!H221 -> 9782 | G29: =일위대가!J221 -> 3613 | H29: =E29+F29+G29 -> 14572 | I29: 호표 26
A30: 5E47246012E3D491EB750AA06D6666 | B30: 콘크리트 펌프차 타설 | C30: slump 15cm, 벽,기둥,슬래브 등, f2 : Type-Ⅰ, 36m | D30: M3 | E30: =일위대가!F229 -> 1650 | F30: =일위대가!H229 -> 13668 | G30: =일위대가!J229 -> 5062 | H30: =E30+F30+G30 -> 20380 | I30: 호표 27
A31: 5E472464F273B49757C7ADD06897DA | B31: 철근 공장가공 및 현장조립 | C31: Type-Ⅰ | D31: TON | E31: =일위대가!F234 -> 10770 | F31: =일위대가!H234 -> 630845 | G31: =일위대가!J234 -> 50802 | H31: =E31+F31+G31 -> 692417 | I31: 호표 28
A32: 5E47C46D42D37A99C61376B0CCC2E0 | B32: 와이어메시 바닥깔기 | C32: #8-150*150 | D32: M2 | E32: =일위대가!F240 -> 2510 | F32: =일위대가!H240 -> 1329 | G32: =일위대가!J240 -> 0 | H32: =E32+F32+G32 -> 3839 | I32: 호표 29
A33: 5E47246742F36E9A5D8D232051961F | B33: 합판거푸집 설치 및 해체 | C33: 매우복잡 2회, 수직고 7m까지 | D33: M2 | E33: =일위대가!F245 -> 18439 | F33: =일위대가!H245 -> 68150 | G33: =일위대가!J245 -> 681 | H33: =E33+F33+G33 -> 87270 | I33: 호표 30
A34: 5E47246742E3489A0B5121607CC91B | B34: 합판거푸집 설치 및 해체 | C34: 보통 4회, 수직고 7m까지 | D34: M2 | E34: =일위대가!F250 -> 12978 | F34: =일위대가!H250 -> 37755 | G34: =일위대가!J250 -> 377 | H34: =E34+F34+G34 -> 51110 | I34: 호표 31
A35: 5E47246742E349948C5861C074314B | B35: 합판거푸집 설치 및 해체 | C35: 보통 4회, 슬래브(경사도 20˚미만) | D35: M2 | E35: =일위대가!F255 -> 12978 | F35: =일위대가!H255 -> 45728 | G35: =일위대가!J255 -> 457 | H35: =E35+F35+G35 -> 59163 | I35: 호표 32
A36: 5E47246742833F9D716E8DE08CE345 | B36: 유로폼 설치 및 해체 | C36: 보통, 수직고 7m까지 | D36: M2 | E36: =일위대가!F262 -> 4157 | F36: =일위대가!H262 -> 36027 | G36: =일위대가!J262 -> 1080 | H36: =E36+F36+G36 -> 41264 | I36: 호표 33
A37: 5E47246742833F9D716E8DE08CE2BE | B37: 유로폼 설치 및 해체 | C37: 간단, 수직고 7m까지 | D37: M2 | E37: =일위대가!F269 -> 3415 | F37: =일위대가!H269 -> 31528 | G37: =일위대가!J269 -> 945 | H37: =E37+F37+G37 -> 35888 | I37: 호표 34
A38: 5E47246EF2F3619838011340281E0D | B38: 지수판설치 - 소켓 연결 | C38: PVC, H200*5t | D38: M | E38: =일위대가!F276 -> 3620 | F38: =일위대가!H276 -> 23752 | G38: =일위대가!J276 -> 0 | H38: =E38+F38+G38 -> 27372 | I38: 호표 35
A39: 5E47E4BC0243BD942426F780F4AC50 | B39: 단열재접착제붙이기 / W1(직접외기) | C39: PF보드(심재준불연),T=90mm | D39: M2 | E39: =일위대가!F282 -> 30587 | F39: =일위대가!H282 -> 16183 | G39: =일위대가!J282 -> 0 | H39: =E39+F39+G39 -> 46770 | I39: 호표 36
A40: 5E47E4BC0243BD9424269EF049F484 | B40: 단열재 콘크리트타설부착 / F1 | C40: 바닥, PF보드(심재준불연),T=100mm | D40: M2 | E40: =일위대가!F287 -> 33000 | F40: =일위대가!H287 -> 9692 | G40: =일위대가!J287 -> 193 | H40: =E40+F40+G40 -> 42885 | I40: 호표 37
A41: 5E47E4BC0243BD9424269EF049F6B3 | B41: 단열재 콘크리트타설부착 / R2 | C41: 스라브, 경질우레탄2종2호,T=150mm | D41: M2 | E41: =일위대가!F292 -> 36300 | F41: =일위대가!H292 -> 9692 | G41: =일위대가!J292 -> 193 | H41: =E41+F41+G41 -> 46185 | I41: 호표 38
A42: 5E47E4BC0243BD942426B9D023064E | B42: 단열재 슬래브 위 깔기 / F2 | C42: (가등급)압출법,비중0.03,T=90mm | D42: M2 | E42: =일위대가!F297 -> 12511 | F42: =일위대가!H297 -> 3059 | G42: =일위대가!J297 -> 0 | H42: =E42+F42+G42 -> 15570 | I42: 호표 39
A43: 5E47E4BC0243BD942426B9D0226DA2 | B43: 단열재 슬래브 위 깔기 / R1 | C43: 지붕, 경질우레탄2종2호,T=150mm | D43: M2 | E43: =일위대가!F302 -> 34650 | F43: =일위대가!H302 -> 3548 | G43: =일위대가!J302 -> 0 | H43: =E43+F43+G43 -> 38198 | I43: 호표 40
A44: 5E47041992B3A296CB2E41E0F48157 | B44: 벽돌 소운반 | C44: 장비운반 | D44: 천매 | E44: =일위대가!F306 -> 2787 | F44: =일위대가!H306 -> 26997 | G44: =일위대가!J306 -> 14184 | H44: =E44+F44+G44 -> 43968 | I44: 호표 41
A45: 5E4704199293F794432C16B0A36379 | B45: 0.5B 벽돌쌓기 | C45: 3.6m 이하, 시공량 25m2/일당 | D45: M2 | E45: =일위대가!F314 -> 0 | F45: =일위대가!H314 -> 40916 | G45: =일위대가!J314 -> 775 | H45: =E45+F45+G45 -> 41691 | I45: 호표 42
A46: 5E4704199293F7946FF0DD7029C411 | B46: 1.0B 벽돌쌓기 | C46: 3.6m 이하, 시공량 15m2/일당 | D46: M2 | E46: =일위대가!F322 -> 0 | F46: =일위대가!H322 -> 70193 | G46: =일위대가!J322 -> 1294 | H46: =E46+F46+G46 -> 71487 | I46: 호표 43
A47: 5E4704199293F49F9EFF38609C636F | B47: 치장쌓기 및 줄눈설치 | C47: 3.6m 이하, 0.5B, 시공량 20m2/일당 | D47: M2 | E47: =일위대가!F332 -> 0 | F47: =일위대가!H332 -> 71218 | G47: =일위대가!J332 -> 1375 | H47: =E47+F47+G47 -> 72593 | I47: 호표 44
A48: 5E47040A1253579834EA548074AFEC | B48: 치장벽돌정착철물 | C48: 아연도L타입철물+아연도강선 | D48: M2 | E48: =일위대가!F338 -> 4390 | F48: =일위대가!H338 -> 0 | G48: =일위대가!J338 -> 0 | H48: =E48+F48+G48 -> 4390 | I48: 호표 45
A49: 5E47040A1253549CF8B72FD0B7BCF6 | B49: 내진형 열교차단 조적인방 | C49: ST-165, 브라켓(W265*H300, 기본형) | D49: M | E49: =일위대가!F346 -> 142497 | F49: =일위대가!H346 -> 51606 | G49: =일위대가!J346 -> 2580 | H49: =E49+F49+G49 -> 196683 | I49: 호표 46
A50: 5E47040A1223839240F38CF085711F | B50: P.C 경량인방설치 | C50: 1.0B, 80*190 | D50: M | E50: =일위대가!F351 -> 28000 | F50: =일위대가!H351 -> 15997 | G50: =일위대가!J351 -> 0 | H50: =E50+F50+G50 -> 43997 | I50: 호표 47
A51: 5E47E4B05263679392F4E8A0777333 | B51: 방수모르타르 바름 / 트렌치 | C51: 바닥 20mm | D51: M2 | E51: =일위대가!F356 -> 2671 | F51: =일위대가!H356 -> 13673 | G51: =일위대가!J356 -> 228 | H51: =E51+F51+G51 -> 16572 | I51: 호표 48
A52: 5E47E4BE32530C91C2179960C4AEE9 | B52: 시멘트 액체 방수 | C52: 바닥 | D52: M2 | E52: =일위대가!F362 -> 2457 | F52: =일위대가!H362 -> 25587 | G52: =일위대가!J362 -> 700 | H52: =E52+F52+G52 -> 28744 | I52: 호표 49
A53: 5E47E4BE32530C91C217ABD0D2D371 | B53: 시멘트 액체 방수 | C53: 수직부 | D53: M2 | E53: =일위대가!F368 -> 1725 | F53: =일위대가!H368 -> 19457 | G53: =일위대가!J368 -> 550 | H53: =E53+F53+G53 -> 21732 | I53: 호표 50
A54: 5E47E4B322831A98B23C383032713E | B54: 침투성 액체방수 | C54: 바닥 | D54: M2 | E54: =일위대가!F375 -> 3987 | F54: =일위대가!H375 -> 16588 | G54: =일위대가!J375 -> 497 | H54: =E54+F54+G54 -> 21072 | I54: 호표 51
A55: 5E47E4B322831A98B23C38007E4AA8 | B55: 침투성 액체방수 | C55: 벽체 | D55: M2 | E55: =일위대가!F382 -> 3987 | F55: =일위대가!H382 -> 18252 | G55: =일위대가!J382 -> 547 | H55: =E55+F55+G55 -> 22786 | I55: 호표 52
A56: 5E47E4BD22E31A944EE59FC058987C | B56: 방수층보호재 붙임 | C56: 벽체, 방수층 보호재 5mm | D56: M2 | E56: =일위대가!F387 -> 3861 | F56: =일위대가!H387 -> 4380 | G56: =일위대가!J387 -> 0 | H56: =E56+F56+G56 -> 8241 | I56: 호표 53
A57: 5E47E4BA52B342996ACD0960CFE7A0 | B57: 배수판설치 | C57: 지하바닥용, 500*500*45mm | D57: M2 | E57: =일위대가!F393 -> 14300 | F57: =일위대가!H393 -> 2913 | G57: =일위대가!J393 -> 0 | H57: =E57+F57+G57 -> 17213 | I57: 호표 54
A58: 5E47B40302333895D8418620E3CDE1 | B58: 타일 압착붙이기 | C58: 바닥, 바탕47mm + 압5mm + 논슬립자기질300*300 | D58: M2 | E58: =일위대가!F400 -> 12769 | F58: =일위대가!H400 -> 56417 | G58: =일위대가!J400 -> 1460 | H58: =E58+F58+G58 -> 70646 | I58: 호표 55
A59: 5E47B40302333B9137923C005E2276 | B59: 타일 접착붙이기 | C59: 벽, 몰탈18mm + 접착제3mm + 도기질300*600 | D59: M2 | E59: =일위대가!F405 -> 18819 | F59: =일위대가!H405 -> 46082 | G59: =일위대가!J405 -> 1164 | H59: =E59+F59+G59 -> 66065 | I59: 호표 56
A60: 5E47B40302130D91405C97306FDC2C | B60: 타일코너비드 | C60: 스텐,OUT | D60: M | E60: =일위대가!F410 -> 2708 | F60: =일위대가!H410 -> 6536 | G60: =일위대가!J410 -> 0 | H60: =E60+F60+G60 -> 9244 | I60: 호표 57
A61: 5E47B4004283C29014734910EF92FE | B61: 화강석붙임(습식) | C61: 바닥, 몰탈30mm + 포천석(버너)30mm | D61: M2 | E61: =일위대가!F416 -> 62700 | F61: =일위대가!H416 -> 109670 | G61: =일위대가!J416 -> 1063 | H61: =E61+F61+G61 -> 173433 | I61: 호표 58
A62: 5E47B40042A3F599EF388970FE56BE | B62: 화강석두겁(건식) | C62: AL후레싱 + 스텐앙카 + 포천석(버너) W420*T50 + 코킹포함 | D62: M | E62: =일위대가!F421 -> 64178 | F62: =일위대가!H421 -> 37335 | G62: =일위대가!J421 -> 0 | H62: =E62+F62+G62 -> 101513 | I62: 호표 59
A63: 5E47B40042C3BF9B77C2908042A924 | B63: 화강석 통석(습식, 버너) / 하부 받침턱 | C63: 몰탈30MM + 포천석(버너)120*70 | D63: M | E63: =일위대가!F427 -> 19080 | F63: =일위대가!H427 -> 24403 | G63: =일위대가!J427 -> 0 | H63: =E63+F63+G63 -> 43483 | I63: 호표 60
A64: 5E47B40042C3BD98961FB800BE912E | B64: 인조대리석붙임(습식) / 화장실 | C64: 선반, 150*20mm, 모르타르 30mm | D64: M | E64: =일위대가!F433 -> 20460 | F64: =일위대가!H433 -> 20754 | G64: =일위대가!J433 -> 0 | H64: =E64+F64+G64 -> 41214 | I64: 호표 61
A65: 5E47943232E3D492C438C100E74F86 | B65: 화강석 재료분리대(습식, 물갈기) / 타일 | C65: 마천석, 100*30mm, 모르타르 30mm | D65: M | E65: =일위대가!F439 -> 17770 | F65: =일위대가!H439 -> 37172 | G65: =일위대가!J439 -> 0 | H65: =E65+F65+G65 -> 54942 | I65: 호표 62
A66: 5E47C46AF2B3E89C810B63200316AA | B66: 핸드레일 / B-TYPE(2~3층 홀) | C66: H1400, FB-50*9-6줄+FB-50*9@1000 | D66: M | E66: =일위대가!F445 -> 32360 | F66: =일위대가!H445 -> 99843 | G66: =일위대가!J445 -> 1785 | H66: =E66+F66+G66 -> 133988 | I66: 호표 63
A67: 5E47C46AF2B3E89C810B63200317B0 | B67: 핸드레일 / C-TYPE(벽부형) | C67: (M12세트앙카+L-75*100*7T)@1000 + FB-50*9 | D67: M | E67: =일위대가!F451 -> 5424 | F67: =일위대가!H451 -> 15067 | G67: =일위대가!J451 -> 310 | H67: =E67+F67+G67 -> 20801 | I67: 호표 64
A68: 5E47C46AF2B3E89C810B6320031001 | B68: 핸드레일 / D-TYPE(돌출계단) | C68: H1200, FB-50*9-2줄 + FB-25*9@100 | D68: M | E68: =일위대가!F458 -> 35766 | F68: =일위대가!H458 -> 109334 | G68: =일위대가!J458 -> 1938 | H68: =E68+F68+G68 -> 147038 | I68: 호표 65
A69: 5E47C46AF2B3E89C810B6320031128 | B69: 핸드레일 / E-TYPE(3층 테라스) | C69: H1200, FB-50*9-4줄 + FB-50*9@1000 | D69: M | E69: =일위대가!F464 -> 22891 | F69: =일위대가!H464 -> 70229 | G69: =일위대가!J464 -> 1257 | H69: =E69+F69+G69 -> 94377 | I69: 호표 66
A70: 5E47C46B823342900B6CA600636C55 | B70: 스테인리스사다리 / ELEV PIT | C70: W400*H1500, D38.1+25.4*2t | D70: 개 | E70: =일위대가!F468 -> 44928 | F70: =일위대가!H468 -> 53556 | G70: =일위대가!J468 -> 2136 | H70: =E70+F70+G70 -> 100620 | I70: 호표 67
A71: 5E47943DC233149788EDAB8063AA6F | B71: 층간방화구획 | C71: 미네랄울48K + 방화실란트 +갈바1.6t | D71: M | E71: =일위대가!F476 -> 25608 | F71: =일위대가!H476 -> 15315 | G71: =일위대가!J476 -> 404 | H71: =E71+F71+G71 -> 41327 | I71: 호표 68
A72: 5E47C46E5203F09673468DF0D1B70B | B72: 트랜치 / 테라스 | C72: 아연도그레이팅, W200. I-25*5*3t | D72: M | E72: =일위대가!F490 -> 27526 | F72: =일위대가!H490 -> 33558 | G72: =일위대가!J490 -> 1571 | H72: =E72+F72+G72 -> 62655 | I72: 호표 69
A73: 5E479434E2738893BA3050C08A68F6 | B73: 세라믹 논슬립 설치 | C73: 앵글논슬립,W=50*23 | D73: M | E73: =일위대가!F495 -> 16000 | F73: =일위대가!H495 -> 6136 | G73: =일위대가!J495 -> 184 | H73: =E73+F73+G73 -> 22320 | I73: 호표 70
A74: 5E479432329350965407B4C0759689 | B74: 스테인리스재료분리대 | C74: 바닥, W45*H20*1.5t | D74: M | E74: =일위대가!F505 -> 6751 | F74: =일위대가!H505 -> 19512 | G74: =일위대가!J505 -> 905 | H74: =E74+F74+G74 -> 27168 | I74: 호표 71
A75: 5E47D453E213C69C60F7DA30A41EF1 | B75: 루프드레인 설치 | C75: 수직형, D150mm | D75: 개소 | E75: =일위대가!F511 -> 205306 | F75: =일위대가!H511 -> 47276 | G75: =일위대가!J511 -> 0 | H75: =E75+F75+G75 -> 252582 | I75: 호표 72
A76: 5E47D453E223E9974C1F0DD0CBB0C1 | B76: 루프드레인 설치 | C76: L형, D150mm | D76: 개소 | E76: =일위대가!F517 -> 211941 | F76: =일위대가!H517 -> 47276 | G76: =일위대가!J517 -> 0 | H76: =E76+F76+G76 -> 259217 | I76: 호표 73
A77: 5E47D452D2B3F996A03DBA502AD297 | B77: 스텐 선홈통 설치 | C77: D152.4 x 1.2t | D77: M | E77: =일위대가!F523 -> 36122 | F77: =일위대가!H523 -> 24829 | G77: =일위대가!J523 -> 496 | H77: =E77+F77+G77 -> 61447 | I77: 호표 74
A78: 5E47943DC233139528B6DAB0ABC7EB | B78: 철재커텐박스(ㄷ자형) | C78: 150*160*1.2t, 갈바ST'L(분체도장) | D78: M | E78: =일위대가!F531 -> 10767 | F78: =일위대가!H531 -> 30975 | G78: =일위대가!J531 -> 1110 | H78: =E78+F78+G78 -> 42852 | I78: 호표 75
A79: 5E47943DC2331099D3EEA8502F01B9 | B79: 간접조명박스 | C79: 아연도각관30*30*1.6t + 250*300*1.2t, 갈바ST'L(분체도장) | D79: M | E79: =일위대가!F537 -> 19450 | F79: =일위대가!H537 -> 41601 | G79: =일위대가!J537 -> 1597 | H79: =E79+F79+G79 -> 62648 | I79: 호표 76
A80: 5E47C46AF2B3E89C810B63106236AB | B80: 천정단부후레싱 | C80: 아연도각관ㅁ30*30*1.6t@900*900 + 갈바륨강판1.5t | D80: M2 | E80: =일위대가!F542 -> 23271 | F80: =일위대가!H542 -> 23746 | G80: =일위대가!J542 -> 1180 | H80: =E80+F80+G80 -> 48197 | I80: 호표 77
A81: 5E47943DC233149788EDAB80628344 | B81: 커튼월 백시트 | C81: PF보드(심재불연재)90T + 1.2t아연도불소강판 | D81: M2 | E81: =일위대가!F550 -> 48462 | F81: =일위대가!H550 -> 44753 | G81: =일위대가!J550 -> 1422 | H81: =E81+F81+G81 -> 94637 | I81: 호표 78
A82: 5E47943DC233149788EDAB80628197 | B82: 스틸플랜트 쇄석자갈박스 | C82: 300*7600*H100, ST'L-5t, 아연도금 | D82: EA | E82: =일위대가!F557 -> 272450 | F82: =일위대가!H557 -> 459499 | G82: =일위대가!J557 -> 22876 | H82: =E82+F82+G82 -> 754825 | I82: 호표 79
A83: 5E47943DC233149788EDAB806280F0 | B83: 스틸플랜트 쇄석자갈박스 | C83: 550*15500*H100, ST'L-5t, 아연도금 | D83: EA | E83: =일위대가!F564 -> 828364 | F83: =일위대가!H564 -> 1396999 | G83: =일위대가!J564 -> 69550 | H83: =E83+F83+G83 -> 2294913 | I83: 호표 80
A84: 5E47147E4253E1972C7761E0D7A62A | B84: 모르타르 바름 / PS 조적벽 | C84: 내벽, 9mm(초벌), 3.6m 이하 | D84: M2 | E84: =일위대가!F569 -> 0 | F84: =일위대가!H569 -> 18870 | G84: =일위대가!J569 -> 357 | H84: =E84+F84+G84 -> 19227 | I84: 호표 81
A85: 5E47147E4253E1972C7761E0D7A62E | B85: 모르타르 바름 / 화장실천정속 조적벽 | C85: 내벽, 9mm(초벌), 3.6m 이하 | D85: M2 | E85: =일위대가!F574 -> 0 | F85: =일위대가!H574 -> 18870 | G85: =일위대가!J574 -> 357 | H85: =E85+F85+G85 -> 19227 | I85: 호표 82
A86: 5E47147E4253E1972C7761F0E0465E | B86: 모르타르 바름 | C86: 내벽, 15mm, 3.6m 이하 | D86: M2 | E86: =일위대가!F579 -> 0 | F86: =일위대가!H579 -> 26246 | G86: =일위대가!J579 -> 491 | H86: =E86+F86+G86 -> 26737 | I86: 호표 83
A87: 5E47147E4253E1972C39B4E00CAA08 | B87: 모르타르 바름 | C87: 외벽, 25mm | D87: M2 | E87: =일위대가!F584 -> 0 | F87: =일위대가!H584 -> 27366 | G87: =일위대가!J584 -> 491 | H87: =E87+F87+G87 -> 27857 | I87: 호표 84
A88: 5E47147E4253E393EAA996F0F86072 | B88: 모르타르 바름 | C88: 바닥, 57mm | D88: M2 | E88: =일위대가!F589 -> 0 | F88: =일위대가!H589 -> 17819 | G88: =일위대가!J589 -> 228 | H88: =E88+F88+G88 -> 18047 | I88: 호표 85
A89: 5E47147E4263869CCC7DBA10F9966C | B89: 콘크리트면처리(면정리+전면마감) | C89: 천정,3.6m 이하 | D89: M2 | E89: =일위대가!F595 -> 0 | F89: =일위대가!H595 -> 10380 | G89: =일위대가!J595 -> 96 | H89: =E89+F89+G89 -> 10476 | I89: 호표 86
A90: 5E47147E4263869CCC7DBA10FE15D2 | B90: 콘크리트면처리(면정리+부분마감) / EPS | C90: 벽체,3.6m 이하 | D90: M2 | E90: =일위대가!F601 -> 0 | F90: =일위대가!H601 -> 6888 | G90: =일위대가!J601 -> 80 | H90: =E90+F90+G90 -> 6968 | I90: 호표 87
A91: 5E47147E42037D961A47E150D842C9 | B91: 표면 마무리(기계휘니셔마감) | C91: 바닥, 기계마감 | D91: M2 | E91: =일위대가!F607 -> 0 | F91: =일위대가!H607 -> 1048 | G91: =일위대가!J607 -> 53 | H91: =E91+F91+G91 -> 1101 | I91: 호표 88
A92: 5E6404D012D3FA9FF6751620C456A1 | B92: 쇄석자갈채움 | C92: T=100mm | D92: M2 | E92: =일위대가!F613 -> 0 | F92: =일위대가!H613 -> 1956 | G92: =일위대가!J613 -> 0 | H92: =E92+F92+G92 -> 1956 | I92: 호표 89
A93: 5E47A41DE2C3FA9CC15EFF90158FD5 | B93: 2/SD[ST'L도어,정전분체도장] | C93: 0.840 x 2.000 = 1.68 | D93: EA | E93: =일위대가!F618 -> 225960 | F93: =일위대가!H618 -> 124777 | G93: =일위대가!J618 -> 3743 | H93: =E93+F93+G93 -> 354480 | I93: 호표 90
A94: 5E47A41DE2C3FA9CC15EFF90158FD3 | B94: 3/SD[ST'L도어,정전분체도장] | C94: 0.840 x 2.000 = 1.68 | D94: EA | E94: =일위대가!F623 -> 225960 | F94: =일위대가!H623 -> 124777 | G94: =일위대가!J623 -> 3743 | H94: =E94+F94+G94 -> 354480 | I94: 호표 91
A95: 5E47A41DE2C3FA9CC15EFF90158050 | B95: 10/SD[ST'L도어,정전분체도장] | C95: 1.040 x 2.200 = 2.288 | D95: EA | E95: =일위대가!F628 -> 307736 | F95: =일위대가!H628 -> 124777 | G95: =일위대가!J628 -> 3743 | H95: =E95+F95+G95 -> 436256 | I95: 호표 92
A96: 5E47A41DE2C3FA9CC15EFF90158052 | B96: 13/SD[ST'L도어,정전분체도장] | C96: 0.940 x 2.200 = 2.068 | D96: EA | E96: =일위대가!F633 -> 278146 | F96: =일위대가!H633 -> 124777 | G96: =일위대가!J633 -> 3743 | H96: =E96+F96+G96 -> 406666 | I96: 호표 93
A97: 5E47A41DE2C3FA9CC15EF9207E2ADE | B97: 1/WD[발포문틀 W155 + ABS 갤러리도아] | C97: 0.900 x 2.100 = 1.890 | D97: EA | E97: =일위대가!F639 -> 507500 | F97: =일위대가!H639 -> 88600 | G97: =일위대가!J639 -> 2658 | H97: =E97+F97+G97 -> 598758 | I97: 호표 94
A98: 5E47A41DE2C3FA9CC15EF91059CFB6 | B98: 1/SSD[SST-150*40*1.5T] | C98: 4.240 x 2.400 = 10.176 | D98: EA | E98: =일위대가!F645 -> 916540 | F98: =일위대가!H645 -> 396406 | G98: =일위대가!J645 -> 0 | H98: =E98+F98+G98 -> 1312946 | I98: 호표 95
A99: 5E47A41DE2C3FA9CC15EF91059CD89 | B99: 3/SSD[SST-150*40*1.5T] | C99: 1.800 x 2.400 = 4.320 | D99: EA | E99: =일위대가!F649 -> 297785 | F99: =일위대가!H649 -> 128574 | G99: =일위대가!J649 -> 0 | H99: =E99+F99+G99 -> 426359 | I99: 호표 96
A100: 5E47A41DE2C3FA9CC15EF91059CBDB | B100: 5/SSD[SST-150*40*1.5T] | C100: 2.800 x 2.700 = 7.560 | D100: EA | E100: =일위대가!F655 -> 909689 | F100: =일위대가!H655 -> 389950 | G100: =일위대가!J655 -> 0 | H100: =E100+F100+G100 -> 1299639 | I100: 호표 97
...

Sheet 일위대가
A1: [ 김천시 농촌신활력플러스 신축공사 ]
A2: 품 명 | B2: 규 격 | C2: 단위 | D2: 수량 | E2: 재 료 비 | G2: 노 무 비 | I2: 경 비 | K2: 합 계 | M2: 비 고 | N2: 일위대가 | O2: 품목코드 | P2: 일위 | Q2: 단산 | R2: 자재 | S2: 손료적용 | T2: 손료저장 | U2: 적용율 | V2: JUK1 | W2: JUK2 | X2: JUK3 | Y2: JUK4 | Z2: JUK5 | AA2: JUK6 | AB2: JUK7 | AC2: JUK8 | AD2: JUK9 | AE2: JUK10 | AF2: JUK11 | AG2: JUK12 | AH2: JUK13 | AI2: JUK14 | AJ2: JUK15 | AK2: JUK16 | AL2: JUK17 | AM2: JUK18 | AN2: JUK19 | AO2: JUK20 | AP2: 할증적용 | AQ2: 할증저장 | AR2: 할증율 | AS2: HAL1 | AT2: HAL2 | AU2: HAL3 | AV2: 자재구분 | AW2: 일위대가+자재 | AX2: 장비일위 | AY2: 설정 | AZ2: 할증체크
E3: 단 가 | F3: 금 액 | G3: 단 가 | H3: 금 액 | I3: 단 가 | J3: 금 액 | K3: 단 가 | L3: 금 액
A4: 콘테이너형 가설사무소 설치 및 해체 3.0*6.0m, 12개월 개소 ( 호표 1 ) | N4: 5E4774EA62E3DC978997176034C319
A5: 컨테이너하우스 | B5: 컨테이너하우스, 사무실용, 3.0*6.0*2.6m | C5: 개 | D5: 0.34 | E5: =단가대비표!O150 -> 3104015 | F5: =TRUNC(E5*D5,1) -> 1055365.1 | G5: =단가대비표!P150 -> 0 | H5: =TRUNC(G5*D5,1) -> 0 | I5: =단가대비표!V150 -> 0 | J5: =TRUNC(I5*D5,1) -> 0 | K5: =TRUNC(E5+G5+I5,1) -> 3104015 | L5: =TRUNC(F5+H5+J5,1) -> 1055365.1 | M5: 금액제외 | O5: 596D84E19243DD9FC637D420B09BDBAB2D5EDA | P5: F | Q5: F | R5: T | V5: 1 | AW5: 5E4774EA62E3DC978997176034C319596D84E19243DD9FC637D420B09BDBAB2D5EDA | AY5: -
A6: 콘테이너형 가설건축물 설치 및 해체 | B6: 3.0*6.0m | C6: 개소 | D6: 1 | E6: =일위대가목록!E144 -> 0 | F6: =TRUNC(E6*D6,1) -> 0 | G6: =일위대가목록!F144 -> 0 | H6: =TRUNC(G6*D6,1) -> 0 | I6: =일위대가목록!G144 -> 427345 | J6: =TRUNC(I6*D6,1) -> 427345 | K6: =TRUNC(E6+G6+I6,1) -> 427345 | L6: =TRUNC(F6+H6+J6,1) -> 427345 | M6: 금액제외 | O6: 5E4774EA62E3DC978913BB70402F69 | P6: T | Q6: F | R6: F | V6: 1 | AW6: 5E4774EA62E3DC978997176034C3195E4774EA62E3DC978913BB70402F69 | AY6: -
A7: 경비로 적용 | B7: 합계의 100% | C7: 식 | D7: 1 | E7: 0 | F7: =TRUNC(E7*D7,1) -> 0 | G7: 0 | H7: =TRUNC(G7*D7,1) -> 0 | I7: =TRUNC(SUMIF(V5:V7, RIGHTB(O7, 1), L5:L7)*U7, 2) -> 1482710.1 | J7: =TRUNC(I7*D7,1) -> 1482710.1 | K7: =TRUNC(E7+G7+I7,1) -> 1482710.1 | L7: =TRUNC(F7+H7+J7,1) -> 1482710.1 | N7: 5E4774EA62E3DC978997176034C319 | O7: 5F5D94B452D3789F390BE0B0BC18001 | P7: F | Q7: F | R7: F | S7: 3 | T7: 2 | U7: 1 | AW7: 5E4774EA62E3DC978997176034C3195F5D94B452D3789F390BE0B0BC18001
A8: [ 합 계 ] | F8: =TRUNC(SUMIF(N5:N7, N4, F5:F7),0) -> 0 | H8: =TRUNC(SUMIF(N5:N7, N4, H5:H7),0) -> 0 | J8: =TRUNC(SUMIF(N5:N7, N4, J5:J7),0) -> 1482710 | L8: =F8+H8+J8 -> 1482710 | N8: TOTAL | O8: TOTAL
A10: 콘테이너형 가설창고 설치 및 해체 3.0*6.0m, 12개월 개소 ( 호표 2 ) | N10: 5E4774EA62E3DF9338A6B920CE9100
A11: 컨테이너하우스 | B11: 컨테이너하우스, 창고용, 3.0*6.0*2.6m | C11: 개 | D11: 0.34 | E11: =단가대비표!O151 -> 2675875 | F11: =TRUNC(E11*D11,1) -> 909797.5 | G11: =단가대비표!P151 -> 0 | H11: =TRUNC(G11*D11,1) -> 0 | I11: =단가대비표!V151 -> 0 | J11: =TRUNC(I11*D11,1) -> 0 | K11: =TRUNC(E11+G11+I11,1) -> 2675875 | L11: =TRUNC(F11+H11+J11,1) -> 909797.5 | M11: 금액제외 | O11: 596D84E19243DD9FC637D420B09BDBAB2D58BC | P11: F | Q11: F | R11: T | V11: 1 | AW11: 5E4774EA62E3DF9338A6B920CE9100596D84E19243DD9FC637D420B09BDBAB2D58BC | AY11: -
A12: 콘테이너형 가설건축물 설치 및 해체 | B12: 3.0*6.0m | C12: 개소 | D12: 1 | E12: =일위대가목록!E144 -> 0 | F12: =TRUNC(E12*D12,1) -> 0 | G12: =일위대가목록!F144 -> 0 | H12: =TRUNC(G12*D12,1) -> 0 | I12: =일위대가목록!G144 -> 427345 | J12: =TRUNC(I12*D12,1) -> 427345 | K12: =TRUNC(E12+G12+I12,1) -> 427345 | L12: =TRUNC(F12+H12+J12,1) -> 427345 | M12: 금액제외 | O12: 5E4774EA62E3DC978913BB70402F69 | P12: T | Q12: F | R12: F | V12: 1 | AW12: 5E4774EA62E3DF9338A6B920CE91005E4774EA62E3DC978913BB70402F69 | AY12: -
A13: 경비로 적용 | B13: 합계의 100% | C13: 식 | D13: 1 | E13: 0 | F13: =TRUNC(E13*D13,1) -> 0 | G13: 0 | H13: =TRUNC(G13*D13,1) -> 0 | I13: =TRUNC(SUMIF(V11:V13, RIGHTB(O13, 1), L11:L13)*U13, 2) -> 1337142.5 | J13: =TRUNC(I13*D13,1) -> 1337142.5 | K13: =TRUNC(E13+G13+I13,1) -> 1337142.5 | L13: =TRUNC(F13+H13+J13,1) -> 1337142.5 | N13: 5E4774EA62E3DF9338A6B920CE9100 | O13: 5F5D94B452D3789F390BE0B0BC18001 | P13: F | Q13: F | R13: F | S13: 3 | T13: 2 | U13: 1 | AW13: 5E4774EA62E3DF9338A6B920CE91005F5D94B452D3789F390BE0B0BC18001
A14: [ 합 계 ] | F14: =TRUNC(SUMIF(N11:N13, N10, F11:F13),0) -> 0 | H14: =TRUNC(SUMIF(N11:N13, N10, H11:H13),0) -> 0 | J14: =TRUNC(SUMIF(N11:N13, N10, J11:J13),0) -> 1337142 | L14: =F14+H14+J14 -> 1337142 | N14: TOTAL | O14: TOTAL
A16: 조립식가설울타리/E.G.I철판 H=3.0, 12개월 M ( 호표 3 ) | N16: 5E4774E9424379917BA44DF066A848
A17: 조립식 가설울타리 부재 | B17: EGI철판, 550*2400 | C17: 매 | D17: 2 | E17: =단가대비표!O136 -> 11280 | F17: =TRUNC(E17*D17,1) -> 22560 | G17: =단가대비표!P136 -> 0 | H17: =TRUNC(G17*D17,1) -> 0 | I17: =단가대비표!V136 -> 0 | J17: =TRUNC(I17*D17,1) -> 0 | K17: =TRUNC(E17+G17+I17,1) -> 11280 | L17: =TRUNC(F17+H17+J17,1) -> 22560 | M17: 금액제외 | O17: 596D84E2B2730A901164FE6056BA562C305265 | P17: F | Q17: F | R17: T | V17: 1 | AW17: 5E4774E9424379917BA44DF066A848596D84E2B2730A901164FE6056BA562C305265 | AY17: -
A18: 경비로 적용 | B18: 주재료비의 43% | C18: 식 | D18: 1 | E18: 0 | F18: =TRUNC(E18*D18,1) -> 0 | G18: 0 | H18: =TRUNC(G18*D18,1) -> 0 | I18: =TRUNC(SUMIF(V17:V26, RIGHTB(O18, 1), F17:F26)*U18, 2) -> 9700.8 | J18: =TRUNC(I18*D18,1) -> 9700.8 | K18: =TRUNC(E18+G18+I18,1) -> 9700.8 | L18: =TRUNC(F18+H18+J18,1) -> 9700.8 | N18: 5E4774E9424379917BA44DF066A848 | O18: 5F5D94B452D3789F390BE0B0BC18001 | P18: F | Q18: F | R18: F | S18: 0 | T18: 2 | U18: 0.43 | AW18: 5E4774E9424379917BA44DF066A8485F5D94B452D3789F390BE0B0BC18001
A19: 강관비계 | B19: 강관비계, 비계파이프, 48.6*2.3mm | C19: M | D19: 6.6 | E19: =단가대비표!O113 -> 3983.33 | F19: =TRUNC(E19*D19,1) -> 26289.9 | G19: =단가대비표!P113 -> 0 | H19: =TRUNC(G19*D19,1) -> 0 | I19: =단가대비표!V113 -> 0 | J19: =TRUNC(I19*D19,1) -> 0 | K19: =TRUNC(E19+G19+I19,1) -> 3983.3 | L19: =TRUNC(F19+H19+J19,1) -> 26289.9 | M19: 금액제외 | O19: 596D84E2B2730A9023D517504B8296B3742141 | P19: F | Q19: F | R19: T | W19: 2 | AW19: 5E4774E9424379917BA44DF066A848596D84E2B2730A9023D517504B8296B3742141 | AY19: -
A20: 경비로 적용 | B20: 주재료비의 19% | C20: 식 | D20: 1 | E20: 0 | F20: =TRUNC(E20*D20,1) -> 0 | G20: 0 | H20: =TRUNC(G20*D20,1) -> 0 | I20: =TRUNC(SUMIF(W17:W26, RIGHTB(O20, 1), F17:F26)*U20, 2) -> 4995.08 | J20: =TRUNC(I20*D20,1) -> 4995 | K20: =TRUNC(E20+G20+I20,1) -> 4995 | L20: =TRUNC(F20+H20+J20,1) -> 4995 | N20: 5E4774E9424379917BA44DF066A848 | O20: 5F5D94B452D3789F390BE0B0BC1B002 | P20: F | Q20: F | R20: F | S20: 0 | T20: 2 | U20: 0.19 | AW20: 5E4774E9424379917BA44DF066A8485F5D94B452D3789F390BE0B0BC1B002
A21: 강관비계 부속철물 | B21: 클램프 고정, 자동 | C21: 개 | D21: 0.54 | E21: =단가대비표!O118 -> 1590 | F21: =TRUNC(E21*D21,1) -> 858.6 | G21: =단가대비표!P118 -> 0 | H21: =TRUNC(G21*D21,1) -> 0 | I21: =단가대비표!V118 -> 0 | J21: =TRUNC(I21*D21,1) -> 0 | K21: =TRUNC(E21+G21+I21,1) -> 1590 | L21: =TRUNC(F21+H21+J21,1) -> 858.6 | M21: 금액제외 | O21: 596D84E2B2730A9023D517504B8296B375CD08 | P21: F | Q21: F | R21: T | X21: 3 | AW21: 5E4774E9424379917BA44DF066A848596D84E2B2730A9023D517504B8296B375CD08 | AY21: -
A22: 강관비계 부속철물 | B22: 이음철물, 연결핀 | C22: 개 | D22: 0.56 | E22: =단가대비표!O114 -> 1400 | F22: =TRUNC(E22*D22,1) -> 784 | G22: =단가대비표!P114 -> 0 | H22: =TRUNC(G22*D22,1) -> 0 | I22: =단가대비표!V114 -> 0 | J22: =TRUNC(I22*D22,1) -> 0 | K22: =TRUNC(E22+G22+I22,1) -> 1400 | L22: =TRUNC(F22+H22+J22,1) -> 784 | M22: 금액제외 | O22: 596D84E2B2730A9023D517504B8296B375CD0F | P22: F | Q22: F | R22: T | X22: 3 | AW22: 5E4774E9424379917BA44DF066A848596D84E2B2730A9023D517504B8296B375CD0F | AY22: -
A23: 조립식 가설울타리 부재 | B23: 볼트/넛트 | C23: 개 | D23: 13.33 | E23: =단가대비표!O137 -> 350 | F23: =TRUNC(E23*D23,1) -> 4665.5 | G23: =단가대비표!P137 -> 0 | H23: =TRUNC(G23*D23,1) -> 0 | I23: =단가대비표!V137 -> 0 | J23: =TRUNC(I23*D23,1) -> 0 | K23: =TRUNC(E23+G23+I23,1) -> 350 | L23: =TRUNC(F23+H23+J23,1) -> 4665.5 | M23: 금액제외 | O23: 596D84E2B2730A901164FE6056BA562C3056DE | P23: F | Q23: F | R23: T | X23: 3 | AW23: 5E4774E9424379917BA44DF066A848596D84E2B2730A901164FE6056BA562C3056DE | AY23: -
A24: 경비로 적용 | B24: 주재료비의 38% | C24: 식 | D24: 1 | E24: 0 | F24: =TRUNC(E24*D24,1) -> 0 | G24: 0 | H24: =TRUNC(G24*D24,1) -> 0 | I24: =TRUNC(SUMIF(X17:X26, RIGHTB(O24, 1), F17:F26)*U24, 2) -> 2397.07 | J24: =TRUNC(I24*D24,1) -> 2397 | K24: =TRUNC(E24+G24+I24,1) -> 2397 | L24: =TRUNC(F24+H24+J24,1) -> 2397 | N24: 5E4774E9424379917BA44DF066A848 | O24: 5F5D94B452D3789F390BE0B0BC1A003 | P24: F | Q24: F | R24: F | S24: 0 | T24: 2 | U24: 0.38 | AW24: 5E4774E9424379917BA44DF066A8485F5D94B452D3789F390BE0B0BC1A003
A25: 가설울타리판 설치 | B25: 설치높이 3m 이하 | C25: 10M | D25: 0.1 | E25: =일위대가목록!E146 -> 0 | F25: =TRUNC(E25*D25,1) -> 0 | G25: =일위대가목록!F146 -> 0 | H25: =TRUNC(G25*D25,1) -> 0 | I25: =일위대가목록!G146 -> 90572 | J25: =TRUNC(I25*D25,1) -> 9057.2 | K25: =TRUNC(E25+G25+I25,1) -> 90572 | L25: =TRUNC(F25+H25+J25,1) -> 9057.2 | M25: 호표 143 | N25: 5E4774E9424379917BA44DF066A848 | O25: 5E4774E9424379917BB6BE802AF712 | P25: T | Q25: F | R25: F | AW25: 5E4774E9424379917BA44DF066A8485E4774E9424379917BB6BE802AF712
A26: 가설울타리판 해체 | B26: 설치높이 3m 이하 | C26: 10M | D26: 0.1 | E26: =일위대가목록!E147 -> 0 | F26: =TRUNC(E26*D26,1) -> 0 | G26: =일위대가목록!F147 -> 0 | H26: =TRUNC(G26*D26,1) -> 0 | I26: =일위대가목록!G147 -> 35777 | J26: =TRUNC(I26*D26,1) -> 3577.7 | K26: =TRUNC(E26+G26+I26,1) -> 35777 | L26: =TRUNC(F26+H26+J26,1) -> 3577.7 | M26: 호표 144 | N26: 5E4774E9424379917BA44DF066A848 | O26: 5E4774E9424379917BB6BE802AF60C | P26: T | Q26: F | R26: F | AW26: 5E4774E9424379917BA44DF066A8485E4774E9424379917BB6BE802AF60C
A27: [ 합 계 ] | F27: =TRUNC(SUMIF(N17:N26, N16, F17:F26),0) -> 0 | H27: =TRUNC(SUMIF(N17:N26, N16, H17:H26),0) -> 0 | J27: =TRUNC(SUMIF(N17:N26, N16, J17:J26),0) -> 29727 | L27: =F27+H27+J27 -> 29727 | N27: TOTAL | O27: TOTAL
A29: 조립식가설대문손료(홀딩도어) 8000*5500,12개월 개소 ( 호표 4 ) | N29: 5E4774EC1283D89509C25BA0F64926
A30: 아연도칼라강판 | B30: 1.6t <불소수지> | C30: M2 | D30: 44 | E30: =일위대가목록!E148 -> 24471 | F30: =TRUNC(E30*D30,1) -> 1076724 | G30: =일위대가목록!F148 -> 38094 | H30: =TRUNC(G30*D30,1) -> 1676136 | I30: =일위대가목록!G148 -> 1896 | J30: =TRUNC(I30*D30,1) -> 83424 | K30: =TRUNC(E30+G30+I30,1) -> 64461 | L30: =TRUNC(F30+H30+J30,1) -> 2836284 | M30: 금액제외 | O30: 5E47943DC233149788ED7E4083E578 | P30: T | Q30: F | R30: F | V30: 1 | AW30: 5E4774EC1283D89509C25BA0F649265E47943DC233149788ED7E4083E578 | AY30: -
A31: 철판 손료<가설울타리> | B31: 합계의 100% | C31: 100% | D31: 0.43 | E31: 0 | F31: =TRUNC(E31*D31,1) -> 0 | G31: 0 | H31: =TRUNC(G31*D31,1) -> 0 | I31: =TRUNC(SUMIF(V30:V39, RIGHTB(O31, 1), L30:L39)*U31, 2) -> 2836284 | J31: =TRUNC(I31*D31,1) -> 1219602.1 | K31: =TRUNC(E31+G31+I31,1) -> 2836284 | L31: =TRUNC(F31+H31+J31,1) -> 1219602.1 | N31: 5E4774EC1283D89509C25BA0F64926 | O31: 5F5D94B452D3789F390BE0B0BC18001 | P31: F | Q31: F | R31: F | S31: 3 | T31: 2 | U31: 1 | AW31: 5E4774EC1283D89509C25BA0F649265F5D94B452D3789F390BE0B0BC1D004
A32: ST'L 각관 제작설치 | B32: ㅁ-50*50*2.3,아연도각관 | C32: M | D32: 106 | E32: =일위대가목록!E149 -> 5086 | F32: =TRUNC(E32*D32,1) -> 539116 | G32: =일위대가목록!F149 -> 10130 | H32: =TRUNC(G32*D32,1) -> 1073780 | I32: =일위대가목록!G149 -> 504 | J32: =TRUNC(I32*D32,1) -> 53424 | K32: =TRUNC(E32+G32+I32,1) -> 15720 | L32: =TRUNC(F32+H32+J32,1) -> 1666320 | M32: 금액제외 | O32: 5E47943DC233149788ED7E10CD0A3F | P32: T | Q32: F | R32: F | W32: 2 | AW32: 5E4774EC1283D89509C25BA0F649265E47943DC233149788ED7E10CD0A3F | AY32: -
A33: ST'L 각관 제작설치 | B33: ㅁ-75*75*2.3,아연도각관 | C33: M | D33: 19 | E33: =일위대가목록!E150 -> 7813 | F33: =TRUNC(E33*D33,1) -> 148447 | G33: =일위대가목록!F150 -> 15601 | H33: =TRUNC(G33*D33,1) -> 296419 | I33: =일위대가목록!G150 -> 776 | J33: =TRUNC(I33*D33,1) -> 14744 | K33: =TRUNC(E33+G33+I33,1) -> 24190 | L33: =TRUNC(F33+H33+J33,1) -> 459610 | M33: 금액제외 | O33: 5E47943DC233149788ED7E30FED9D2 | P33: T | Q33: F | R33: F | W33: 2 | AW33: 5E4774EC1283D89509C25BA0F649265E47943DC233149788ED7E30FED9D2 | AY33: -
A34: 파이프 손료<구조물비계> | B34: 합계의 100% | C34: 100% | D34: 0.19 | E34: 0 | F34: =TRUNC(E34*D34,1) -> 0 | G34: 0 | H34: =TRUNC(G34*D34,1) -> 0 | I34: =TRUNC(SUMIF(W30:W39, RIGHTB(O34, 1), L30:L39)*U34, 2) -> 2125930 | J34: =TRUNC(I34*D34,1) -> 403926.7 | K34: =TRUNC(E34+G34+I34,1) -> 2125930 | L34: =TRUNC(F34+H34+J34,1) -> 403926.7 | N34: 5E4774EC1283D89509C25BA0F64926 | O34: 5F5D94B452D3789F390BE0B0BC1B002 | P34: F | Q34: F | R34: F | S34: 3 | T34: 2 | U34: 1 | AW34: 5E4774EC1283D89509C25BA0F649265F5D94B452D3789F390BE0B0BC1C005
A35: 철공 | B35: 일반공사 직종 | C35: 인 | D35: 1 | E35: =단가대비표!O261 -> 0 | F35: =TRUNC(E35*D35,1) -> 0 | G35: =단가대비표!P261 -> 237754 | H35: =TRUNC(G35*D35,1) -> 237754 | I35: =단가대비표!V261 -> 0 | J35: =TRUNC(I35*D35,1) -> 0 | K35: =TRUNC(E35+G35+I35,1) -> 237754 | L35: =TRUNC(F35+H35+J35,1) -> 237754 | M35: 금액제외 | O35: 5E9884F722235E983893ED1026885697AE1A9D | P35: F | Q35: F | R35: T | X35: 3 | AW35: 5E4774EC1283D89509C25BA0F649265E9884F722235E983893ED1026885697AE1A9D | AY35: -
A36: 철판공 | B36: 일반공사 직종 | C36: 인 | D36: 2 | E36: =단가대비표!O262 -> 0 | F36: =TRUNC(E36*D36,1) -> 0 | G36: =단가대비표!P262 -> 219236 | H36: =TRUNC(G36*D36,1) -> 438472 | I36: =단가대비표!V262 -> 0 | J36: =TRUNC(I36*D36,1) -> 0 | K36: =TRUNC(E36+G36+I36,1) -> 219236 | L36: =TRUNC(F36+H36+J36,1) -> 438472 | M36: 금액제외 | O36: 5E9884F722235E983893ED1026885697AE1BBB | P36: F | Q36: F | R36: T | X36: 3 | AW36: 5E4774EC1283D89509C25BA0F649265E9884F722235E983893ED1026885697AE1BBB | AY36: -
A37: 보통인부 | B37: 일반공사 직종 | C37: 인 | D37: 2 | E37: =단가대비표!O256 -> 0 | F37: =TRUNC(E37*D37,1) -> 0 | G37: =단가대비표!P256 -> 169804 | H37: =TRUNC(G37*D37,1) -> 339608 | I37: =단가대비표!V256 -> 0 | J37: =TRUNC(I37*D37,1) -> 0 | K37: =TRUNC(E37+G37+I37,1) -> 169804 | L37: =TRUNC(F37+H37+J37,1) -> 339608 | M37: 금액제외 | O37: 5E9884F722235E983893ED1026885697AE1A96 | P37: F | Q37: F | R37: T | X37: 3 | AW37: 5E4774EC1283D89509C25BA0F649265E9884F722235E983893ED1026885697AE1A96 | AY37: -
A38: 트럭탑재형 크레인 | B38: 10ton | C38: HR | D38: 4 | E38: =일위대가목록!E151 -> 16641 | F38: =TRUNC(E38*D38,1) -> 66564 | G38: =일위대가목록!F151 -> 49479 | H38: =TRUNC(G38*D38,1) -> 197916 | I38: =일위대가목록!G151 -> 22539 | J38: =TRUNC(I38*D38,1) -> 90156 | K38: =TRUNC(E38+G38+I38,1) -> 88659 | L38: =TRUNC(F38+H38+J38,1) -> 354636 | M38: 금액제외 | O38: 595314B98233999B713E9E1007063AA26D3ABDAD | P38: T | Q38: F | R38: F | X38: 3 | AW38: 5E4774EC1283D89509C25BA0F64926595314B98233999B713E9E1007063AA26D3ABDAD | AY38: -
A39: 경비로 적용 | B39: 합계의 100% | C39: 식 | D39: 1 | E39: 0 | F39: =TRUNC(E39*D39,1) -> 0 | G39: 0 | H39: =TRUNC(G39*D39,1) -> 0 | I39: =TRUNC(SUMIF(X30:X39, RIGHTB(O39, 1), L30:L39)*U39, 2) -> 1370470 | J39: =TRUNC(I39*D39,1) -> 1370470 | K39: =TRUNC(E39+G39+I39,1) -> 1370470 | L39: =TRUNC(F39+H39+J39,1) -> 1370470 | N39: 5E4774EC1283D89509C25BA0F64926 | O39: 5F5D94B452D3789F390BE0B0BC1A003 | P39: F | Q39: F | R39: F | S39: 3 | T39: 2 | U39: 1 | AW39: 5E4774EC1283D89509C25BA0F649265F5D94B452D3789F390BE0B0BC1A003
A40: [ 합 계 ] | F40: =TRUNC(SUMIF(N30:N39, N29, F30:F39),0) -> 0 | H40: =TRUNC(SUMIF(N30:N39, N29, H30:H39),0) -> 0 | J40: =TRUNC(SUMIF(N30:N39, N29, J30:J39),0) -> 2993998 | L40: =F40+H40+J40 -> 2993998 | N40: TOTAL | O40: TOTAL
A42: 공사용 가설전기설치 분전반+강재전선관+배선 개소 ( 호표 5 ) | N42: 5E4774EC1283DA901CF22FE0AA0910
A43: 강제전선관 | B43: 강제전선관, 후강전선관, 아연도, 36mm | C43: m | D43: 20 | E43: =단가대비표!O186 -> 3049 | F43: =TRUNC(E43*D43,1) -> 60980 | G43: =단가대비표!P186 -> 0 | H43: =TRUNC(G43*D43,1) -> 0 | I43: =단가대비표!V186 -> 0 | J43: =TRUNC(I43*D43,1) -> 0 | K43: =TRUNC(E43+G43+I43,1) -> 3049 | L43: =TRUNC(F43+H43+J43,1) -> 60980 | M43: 금액제외 | O43: 596D14B2C2B39D98E16D0610AE90C0CB372EC0 | P43: F | Q43: F | R43: T | V43: 1 | AW43: 5E4774EC1283DA901CF22FE0AA0910596D14B2C2B39D98E16D0610AE90C0CB372EC0 | AY43: -
A44: 내열전선 | B44: 내열전선, 내열전선, F-FR-3, 10C*1.78mm | C44: m | D44: 20 | E44: =단가대비표!O29 -> 3171 | F44: =TRUNC(E44*D44,1) -> 63420 | G44: =단가대비표!P29 -> 0 | H44: =TRUNC(G44*D44,1) -> 0 | I44: =단가대비표!V29 -> 0 | J44: =TRUNC(I44*D44,1) -> 0 | K44: =TRUNC(E44+G44+I44,1) -> 3171 | L44: =TRUNC(F44+H44+J44,1) -> 63420 | M44: 금액제외 | O44: 597F9465C2B3AB98DDAFEAF0EA56798190EA3F | P44: F | Q44: F | R44: T | V44: 1 | AW44: 5E4774EC1283DA901CF22FE0AA0910597F9465C2B3AB98DDAFEAF0EA56798190EA3F | AY44: -
A45: 분전반 | B45: 분전함, Steel문짝, 매입형, 400*500*150 | C45: 개 | D45: 1 | E45: =단가대비표!O185 -> 48000 | F45: =TRUNC(E45*D45,1) -> 48000 | G45: =단가대비표!P185 -> 0 | H45: =TRUNC(G45*D45,1) -> 0 | I45: =단가대비표!V185 -> 0 | J45: =TRUNC(I45*D45,1) -> 0 | K45: =TRUNC(E45+G45+I45,1) -> 48000 | L45: =TRUNC(F45+H45+J45,1) -> 48000 | M45: 금액제외 | O45: 596D14B2C2A3F49533DD76902449CD9D9CCECB | P45: F | Q45: F | R45: T | V45: 1 | AW45: 5E4774EC1283DA901CF22FE0AA0910596D14B2C2A3F49533DD76902449CD9D9CCECB | AY45: -
A46: 경비로 적용(손료50%) | B46: 주재료비의 50% | C46: 식 | D46: 1 | E46: 0 | F46: =TRUNC(E46*D46,1) -> 0 | G46: 0 | H46: =TRUNC(G46*D46,1) -> 0 | I46: =TRUNC(SUMIF(V43:V49, RIGHTB(O46, 1), F43:F49)*U46, 2) -> 86200 | J46: =TRUNC(I46*D46,1) -> 86200 | K46: =TRUNC(E46+G46+I46,1) -> 86200 | L46: =TRUNC(F46+H46+J46,1) -> 86200 | N46: 5E4774EC1283DA901CF22FE0AA0910 | O46: 5F5D94B452D3789F390BE0B0BC18001 | P46: F | Q46: F | R46: F | S46: 0 | T46: 2 | U46: 0.5 | AW46: 5E4774EC1283DA901CF22FE0AA09105F5D94B452D3789F390BE0B0BC18001
A47: 내선전공 | B47: 일반공사 직종 | C47: 인 | D47: 1 | E47: =단가대비표!O282 -> 0 | F47: =TRUNC(E47*D47,1) -> 0 | G47: =단가대비표!P282 -> 268915 | H47: =TRUNC(G47*D47,1) -> 268915 | I47: =단가대비표!V282 -> 0 | J47: =TRUNC(I47*D47,1) -> 0 | K47: =TRUNC(E47+G47+I47,1) -> 268915 | L47: =TRUNC(F47+H47+J47,1) -> 268915 | M47: 금액제외 | O47: 5E9884F722235E983893ED1026885697AE1D6C | P47: F | Q47: F | R47: T | W47: 2 | AW47: 5E4774EC1283DA901CF22FE0AA09105E9884F722235E983893ED1026885697AE1D6C | AY47: -
A48: 보통인부 | B48: 일반공사 직종 | C48: 인 | D48: 1 | E48: =단가대비표!O256 -> 0 | F48: =TRUNC(E48*D48,1) -> 0 | G48: =단가대비표!P256 -> 169804 | H48: =TRUNC(G48*D48,1) -> 169804 | I48: =단가대비표!V256 -> 0 | J48: =TRUNC(I48*D48,1) -> 0 | K48: =TRUNC(E48+G48+I48,1) -> 169804 | L48: =TRUNC(F48+H48+J48,1) -> 169804 | M48: 금액제외 | O48: 5E9884F722235E983893ED1026885697AE1A96 | P48: F | Q48: F | R48: T | W48: 2 | AW48: 5E4774EC1283DA901CF22FE0AA09105E9884F722235E983893ED1026885697AE1A96 | AY48: -
A49: 경비로 적용(설치+해체포함) | B49: 인력품의 100% | C49: 식 | D49: 1 | E49: 0 | F49: =TRUNC(E49*D49,1) -> 0 | G49: 0 | H49: =TRUNC(G49*D49,1) -> 0 | I49: =TRUNC(SUMIF(W43:W49, RIGHTB(O49, 1), H43:H49)*U49, 2) -> 438719 | J49: =TRUNC(I49*D49,1) -> 438719 | K49: =TRUNC(E49+G49+I49,1) -> 438719 | L49: =TRUNC(F49+H49+J49,1) -> 438719 | N49: 5E4774EC1283DA901CF22FE0AA0910 | O49: 5F5D94B452D3789F390BE0B0BC1B002 | P49: F | Q49: F | R49: F | S49: 1 | T49: 2 | U49: 1 | AW49: 5E4774EC1283DA901CF22FE0AA09105F5D94B452D3789F390BE0B0BC1B002
A50: [ 합 계 ] | F50: =TRUNC(SUMIF(N43:N49, N42, F43:F49),0) -> 0 | H50: =TRUNC(SUMIF(N43:N49, N42, H43:H49),0) -> 0 | J50: =TRUNC(SUMIF(N43:N49, N42, J43:J49),0) -> 524919 | L50: =F50+H50+J50 -> 524919 | N50: TOTAL | O50: TOTAL
A52: 공사용 가설수도설치 수도용배관+수도밸브 개소 ( 호표 6 ) | N52: 5E4774EC1283DA901CF22FE0AA0914
A53: 압력배관용탄소강관 | B53: 압력배관용탄소강관, 백관(Sch80), Φ20mm | C53: m | D53: 20 | E53: =단가대비표!O188 -> 3021 | F53: =TRUNC(E53*D53,1) -> 60420 | G53: =단가대비표!P188 -> 0 | H53: =TRUNC(G53*D53,1) -> 0 | I53: =단가대비표!V188 -> 0 | J53: =TRUNC(I53*D53,1) -> 0 | K53: =TRUNC(E53+G53+I53,1) -> 3021 | L53: =TRUNC(F53+H53+J53,1) -> 60420 | M53: 금액제외 | O53: 591564E822F30195DE093130826EACD7167166 | P53: F | Q53: F | R53: T | V53: 1 | AW53: 5E4774EC1283DA901CF22FE0AA0914591564E822F30195DE093130826EACD7167166 | AY53: -
A54: 경비로 적용(손료50%) | B54: 주재료비의 50% | C54: 식 | D54: 1 | E54: 0 | F54: =TRUNC(E54*D54,1) -> 0 | G54: 0 | H54: =TRUNC(G54*D54,1) -> 0 | I54: =TRUNC(SUMIF(V53:V57, RIGHTB(O54, 1), F53:F57)*U54, 2) -> 30210 | J54: =TRUNC(I54*D54,1) -> 30210 | K54: =TRUNC(E54+G54+I54,1) -> 30210 | L54: =TRUNC(F54+H54+J54,1) -> 30210 | N54: 5E4774EC1283DA901CF22FE0AA0914 | O54: 5F5D94B452D3789F390BE0B0BC18001 | P54: F | Q54: F | R54: F | S54: 0 | T54: 2 | U54: 0.5 | AW54: 5E4774EC1283DA901CF22FE0AA09145F5D94B452D3789F390BE0B0BC18001
A55: 배관공(수도) | B55: 일반공사 직종 | C55: 인 | D55: 1 | E55: =단가대비표!O278 -> 0 | F55: =TRUNC(E55*D55,1) -> 0 | G55: =단가대비표!P278 -> 250572 | H55: =TRUNC(G55*D55,1) -> 250572 | I55: =단가대비표!V278 -> 0 | J55: =TRUNC(I55*D55,1) -> 0 | K55: =TRUNC(E55+G55+I55,1) -> 250572 | L55: =TRUNC(F55+H55+J55,1) -> 250572 | M55: 금액제외 | O55: 5E9884F722235E983893ED1026885697AE1E0F | P55: F | Q55: F | R55: T | W55: 2 | AW55: 5E4774EC1283DA901CF22FE0AA09145E9884F722235E983893ED1026885697AE1E0F | AY55: -
A56: 보통인부 | B56: 일반공사 직종 | C56: 인 | D56: 1 | E56: =단가대비표!O256 -> 0 | F56: =TRUNC(E56*D56,1) -> 0 | G56: =단가대비표!P256 -> 169804 | H56: =TRUNC(G56*D56,1) -> 169804 | I56: =단가대비표!V256 -> 0 | J56: =TRUNC(I56*D56,1) -> 0 | K56: =TRUNC(E56+G56+I56,1) -> 169804 | L56: =TRUNC(F56+H56+J56,1) -> 169804 | M56: 금액제외 | O56: 5E9884F722235E983893ED1026885697AE1A96 | P56: F | Q56: F | R56: T | W56: 2 | AW56: 5E4774EC1283DA901CF22FE0AA09145E9884F722235E983893ED1026885697AE1A96 | AY56: -
A57: 경비로 적용(설치+해체포함) | B57: 인력품의 100% | C57: 식 | D57: 1 | E57: 0 | F57: =TRUNC(E57*D57,1) -> 0 | G57: 0 | H57: =TRUNC(G57*D57,1) -> 0 | I57: =TRUNC(SUMIF(W53:W57, RIGHTB(O57, 1), H53:H57)*U57, 2) -> 420376 | J57: =TRUNC(I57*D57,1) -> 420376 | K57: =TRUNC(E57+G57+I57,1) -> 420376 | L57: =TRUNC(F57+H57+J57,1) -> 420376 | N57: 5E4774EC1283DA901CF22FE0AA0914 | O57: 5F5D94B452D3789F390BE0B0BC1B002 | P57: F | Q57: F | R57: F | S57: 1 | T57: 2 | U57: 1 | AW57: 5E4774EC1283DA901CF22FE0AA09145F5D94B452D3789F390BE0B0BC1B002
A58: [ 합 계 ] | F58: =TRUNC(SUMIF(N53:N57, N52, F53:F57),0) -> 0 | H58: =TRUNC(SUMIF(N53:N57, N52, H53:H57),0) -> 0 | J58: =TRUNC(SUMIF(N53:N57, N52, J53:J57),0) -> 450586 | L58: =F58+H58+J58 -> 450586 | N58: TOTAL | O58: TOTAL
A60: 수평 규준틀 평 개소 ( 호표 7 ) | N60: 5E4774E942632D919932977034A615
A61: 각재 | B61: 각재, 외송 | C61: M3 | D61: 0.014 | E61: =단가대비표!O48 -> 528205 | F61: =TRUNC(E61*D61,1) -> 7394.8 | G61: =단가대비표!P48 -> 0 | H61: =TRUNC(G61*D61,1) -> 0 | I61: =단가대비표!V48 -> 0 | J61: =TRUNC(I61*D61,1) -> 0 | K61: =TRUNC(E61+G61+I61,1) -> 528205 | L61: =TRUNC(F61+H61+J61,1) -> 7394.8 | N61: 5E4774E942632D919932977034A615 | O61: 596D84E2B2E3B9973C2513E0A86907793456A5 | P61: F | Q61: F | R61: T | AW61: 5E4774E942632D919932977034A615596D84E2B2E3B9973C2513E0A86907793456A5
A62: 건축목공 | B62: 일반공사 직종 | C62: 인 | D62: 0.15 | E62: =단가대비표!O267 -> 0 | F62: =TRUNC(E62*D62,1) -> 0 | G62: =단가대비표!P267 -> 277894 | H62: =TRUNC(G62*D62,1) -> 41684.1 | I62: =단가대비표!V267 -> 0 | J62: =TRUNC(I62*D62,1) -> 0 | K62: =TRUNC(E62+G62+I62,1) -> 277894 | L62: =TRUNC(F62+H62+J62,1) -> 41684.1 | N62: 5E4774E942632D919932977034A615 | O62: 5E9884F722235E983893ED1026885697AE18E4 | P62: F | Q62: F | R62: T | AW62: 5E4774E942632D919932977034A6155E9884F722235E983893ED1026885697AE18E4
A63: 보통인부 | B63: 일반공사 직종 | C63: 인 | D63: 0.3 | E63: =단가대비표!O256 -> 0 | F63: =TRUNC(E63*D63,1) -> 0 | G63: =단가대비표!P256 -> 169804 | H63: =TRUNC(G63*D63,1) -> 50941.2 | I63: =단가대비표!V256 -> 0 | J63: =TRUNC(I63*D63,1) -> 0 | K63: =TRUNC(E63+G63+I63,1) -> 169804 | L63: =TRUNC(F63+H63+J63,1) -> 50941.2 | N63: 5E4774E942632D919932977034A615 | O63: 5E9884F722235E983893ED1026885697AE1A96 | P63: F | Q63: F | R63: T | AW63: 5E4774E942632D919932977034A6155E9884F722235E983893ED1026885697AE1A96
A64: [ 합 계 ] | F64: =TRUNC(SUMIF(N61:N63, N60, F61:F63),0) -> 7394 | H64: =TRUNC(SUMIF(N61:N63, N60, H61:H63),0) -> 92625 | J64: =TRUNC(SUMIF(N61:N63, N60, J61:J63),0) -> 0 | L64: =F64+H64+J64 -> 100019 | N64: TOTAL | O64: TOTAL
A66: 수평 규준틀 귀 개소 ( 호표 8 ) | N66: 5E4774E942632D919932974060C81C
A67: 각재 | B67: 각재, 외송 | C67: M3 | D67: 0.022 | E67: =단가대비표!O48 -> 528205 | F67: =TRUNC(E67*D67,1) -> 11620.5 | G67: =단가대비표!P48 -> 0 | H67: =TRUNC(G67*D67,1) -> 0 | I67: =단가대비표!V48 -> 0 | J67: =TRUNC(I67*D67,1) -> 0 | K67: =TRUNC(E67+G67+I67,1) -> 528205 | L67: =TRUNC(F67+H67+J67,1) -> 11620.5 | N67: 5E4774E942632D919932974060C81C | O67: 596D84E2B2E3B9973C2513E0A86907793456A5 | P67: F | Q67: F | R67: T | AW67: 5E4774E942632D919932974060C81C596D84E2B2E3B9973C2513E0A86907793456A5
A68: 건축목공 | B68: 일반공사 직종 | C68: 인 | D68: 0.3 | E68: =단가대비표!O267 -> 0 | F68: =TRUNC(E68*D68,1) -> 0 | G68: =단가대비표!P267 -> 277894 | H68: =TRUNC(G68*D68,1) -> 83368.2 | I68: =단가대비표!V267 -> 0 | J68: =TRUNC(I68*D68,1) -> 0 | K68: =TRUNC(E68+G68+I68,1) -> 277894 | L68: =TRUNC(F68+H68+J68,1) -> 83368.2 | N68: 5E4774E942632D919932974060C81C | O68: 5E9884F722235E983893ED1026885697AE18E4 | P68: F | Q68: F | R68: T | AW68: 5E4774E942632D919932974060C81C5E9884F722235E983893ED1026885697AE18E4
A69: 보통인부 | B69: 일반공사 직종 | C69: 인 | D69: 0.45 | E69: =단가대비표!O256 -> 0 | F69: =TRUNC(E69*D69,1) -> 0 | G69: =단가대비표!P256 -> 169804 | H69: =TRUNC(G69*D69,1) -> 76411.8 | I69: =단가대비표!V256 -> 0 | J69: =TRUNC(I69*D69,1) -> 0 | K69: =TRUNC(E69+G69+I69,1) -> 169804 | L69: =TRUNC(F69+H69+J69,1) -> 76411.8 | N69: 5E4774E942632D919932974060C81C | O69: 5E9884F722235E983893ED1026885697AE1A96 | P69: F | Q69: F | R69: T | AW69: 5E4774E942632D919932974060C81C5E9884F722235E983893ED1026885697AE1A96
A70: [ 합 계 ] | F70: =TRUNC(SUMIF(N67:N69, N66, F67:F69),0) -> 11620 | H70: =TRUNC(SUMIF(N67:N69, N66, H67:H69),0) -> 159780 | J70: =TRUNC(SUMIF(N67:N69, N66, J67:J69),0) -> 0 | L70: =F70+H70+J70 -> 171400 | N70: TOTAL | O70: TOTAL
A72: 강관 조립말비계(이동식)설치 및 해체 높이 2m, 3개월 대 ( 호표 9 ) | N72: 5E4774E942632D91888591B0AC7C15
A73: 비계안정장치 | B73: 비계안정장치, 비계기본틀, 기둥, 1.2*1.7m | C73: 개 | D73: 0.12 | E73: =단가대비표!O126 -> 30941 | F73: =TRUNC(E73*D73,1) -> 3712.9 | G73: =단가대비표!P126 -> 0 | H73: =TRUNC(G73*D73,1) -> 0 | I73: =단가대비표!V126 -> 0 | J73: =TRUNC(I73*D73,1) -> 0 | K73: =TRUNC(E73+G73+I73,1) -> 30941 | L73: =TRUNC(F73+H73+J73,1) -> 3712.9 | N73: 5E4774E942632D91888591B0AC7C15 | O73: 596D84E2B2730A901164B0B0C638A3BB03268A | P73: F | Q73: F | R73: T | AW73: 5E4774E942632D91888591B0AC7C15596D84E2B2730A901164B0B0C638A3BB03268A
A74: 비계안정장치 | B74: 비계안정장치, 가새, 1.2*1.9m | C74: 개 | D74: 0.12 | E74: =단가대비표!O127 -> 9099 | F74: =TRUNC(E74*D74,1) -> 1091.8 | G74: =단가대비표!P127 -> 0 | H74: =TRUNC(G74*D74,1) -> 0 | I74: =단가대비표!V127 -> 0 | J74: =TRUNC(I74*D74,1) -> 0 | K74: =TRUNC(E74+G74+I74,1) -> 9099 | L74: =TRUNC(F74+H74+J74,1) -> 1091.8 | N74: 5E4774E942632D91888591B0AC7C15 | O74: 596D84E2B2730A901164B0B0C638A3BB032684 | P74: F | Q74: F | R74: T | AW74: 5E4774E942632D91888591B0AC7C15596D84E2B2730A901164B0B0C638A3BB032684
A75: 비계안정장치 | B75: 비계안정장치, 수평띠장, 1829mm | C75: 개 | D75: 0.24 | E75: =단가대비표!O128 -> 25000 | F75: =TRUNC(E75*D75,1) -> 6000 | G75: =단가대비표!P128 -> 0 | H75: =TRUNC(G75*D75,1) -> 0 | I75: =단가대비표!V128 -> 0 | J75: =TRUNC(I75*D75,1) -> 0 | K75: =TRUNC(E75+G75+I75,1) -> 25000 | L75: =TRUNC(F75+H75+J75,1) -> 6000 | N75: 5E4774E942632D91888591B0AC7C15 | O75: 596D84E2B2730A901164B0B0C638A3BB032940 | P75: F | Q75: F | R75: T | AW75: 5E4774E942632D91888591B0AC7C15596D84E2B2730A901164B0B0C638A3BB032940
A76: 비계안정장치 | B76: 비계안정장치, 손잡이기둥 | C76: 개 | D76: 0.24 | E76: =단가대비표!O131 -> 6000 | F76: =TRUNC(E76*D76,1) -> 1440 | G76: =단가대비표!P131 -> 0 | H76: =TRUNC(G76*D76,1) -> 0 | I76: =단가대비표!V131 -> 0 | J76: =TRUNC(I76*D76,1) -> 0 | K76: =TRUNC(E76+G76+I76,1) -> 6000 | L76: =TRUNC(F76+H76+J76,1) -> 1440 | N76: 5E4774E942632D91888591B0AC7C15 | O76: 596D84E2B2730A901164B0B0C638A3BB032947 | P76: F | Q76: F | R76: T | AW76: 5E4774E942632D91888591B0AC7C15596D84E2B2730A901164B0B0C638A3BB032947
A77: 비계안정장치 | B77: 비계안정장치, 손잡이, 1229mm | C77: 개 | D77: 0.12 | E77: =단가대비표!O129 -> 6000 | F77: =TRUNC(E77*D77,1) -> 720 | G77: =단가대비표!P129 -> 0 | H77: =TRUNC(G77*D77,1) -> 0 | I77: =단가대비표!V129 -> 0 | J77: =TRUNC(I77*D77,1) -> 0 | K77: =TRUNC(E77+G77+I77,1) -> 6000 | L77: =TRUNC(F77+H77+J77,1) -> 720 | N77: 5E4774E942632D91888591B0AC7C15 | O77: 596D84E2B2730A901164B0B0C638A3BB032941 | P77: F | Q77: F | R77: T | AW77: 5E4774E942632D91888591B0AC7C15596D84E2B2730A901164B0B0C638A3BB032941
A78: 비계안정장치 | B78: 비계안정장치, 손잡이, 1829mm | C78: 개 | D78: 0.24 | E78: =단가대비표!O130 -> 8000 | F78: =TRUNC(E78*D78,1) -> 1920 | G78: =단가대비표!P130 -> 0 | H78: =TRUNC(G78*D78,1) -> 0 | I78: =단가대비표!V130 -> 0 | J78: =TRUNC(I78*D78,1) -> 0 | K78: =TRUNC(E78+G78+I78,1) -> 8000 | L78: =TRUNC(F78+H78+J78,1) -> 1920 | N78: 5E4774E942632D91888591B0AC7C15 | O78: 596D84E2B2730A901164B0B0C638A3BB032946 | P78: F | Q78: F | R78: T | AW78: 5E4774E942632D91888591B0AC7C15596D84E2B2730A901164B0B0C638A3BB032946
A79: 비계안정장치 | B79: 비계안정장치, 바퀴 | C79: 개 | D79: 0.36 | E79: =단가대비표!O132 -> 9500 | F79: =TRUNC(E79*D79,1) -> 3420 | G79: =단가대비표!P132 -> 0 | H79: =TRUNC(G79*D79,1) -> 0 | I79: =단가대비표!V132 -> 0 | J79: =TRUNC(I79*D79,1) -> 0 | K79: =TRUNC(E79+G79+I79,1) -> 9500 | L79: =TRUNC(F79+H79+J79,1) -> 3420 | N79: 5E4774E942632D91888591B0AC7C15 | O79: 596D84E2B2730A901164B0B0C638A3BB032944 | P79: F | Q79: F | R79: T | AW79: 5E4774E942632D91888591B0AC7C15596D84E2B2730A901164B0B0C638A3BB032944
A80: 비계안정장치 | B80: 비계안정장치, 쟈키 | C80: 개 | D80: 0.36 | E80: =단가대비표!O133 -> 11000 | F80: =TRUNC(E80*D80,1) -> 3960 | G80: =단가대비표!P133 -> 0 | H80: =TRUNC(G80*D80,1) -> 0 | I80: =단가대비표!V133 -> 0 | J80: =TRUNC(I80*D80,1) -> 0 | K80: =TRUNC(E80+G80+I80,1) -> 11000 | L80: =TRUNC(F80+H80+J80,1) -> 3960 | N80: 5E4774E942632D91888591B0AC7C15 | O80: 596D84E2B2730A901164B0B0C638A3BB032945 | P80: F | Q80: F | R80: T | AW80: 5E4774E942632D91888591B0AC7C15596D84E2B2730A901164B0B0C638A3BB032945
A81: 비계안정장치 | B81: 비계안정장치, 발판, 400*1817 | C81: 개 | D81: 0.3467 | E81: =단가대비표!O135 -> 18500 | F81: =TRUNC(E81*D81,1) -> 6413.9 | G81: =단가대비표!P135 -> 0 | H81: =TRUNC(G81*D81,1) -> 0 | I81: =단가대비표!V135 -> 0 | J81: =TRUNC(I81*D81,1) -> 0 | K81: =TRUNC(E81+G81+I81,1) -> 18500 | L81: =TRUNC(F81+H81+J81,1) -> 6413.9 | N81: 5E4774E942632D91888591B0AC7C15 | O81: 596D84E2B2730A901164B0B0C40F2DCF68372D | P81: F | Q81: F | R81: T | AW81: 5E4774E942632D91888591B0AC7C15596D84E2B2730A901164B0B0C40F2DCF68372D
A82: 강관 조립말비계(이동식)설치 및 해체 | B82: 높이 2m, 노무비 | C82: 대 | D82: 1 | E82: =일위대가목록!E153 -> 0 | F82: =TRUNC(E82*D82,1) -> 0 | G82: =일위대가목록!F153 -> 93630 | H82: =TRUNC(G82*D82,1) -> 93630 | I82: =일위대가목록!G153 -> 0 | J82: =TRUNC(I82*D82,1) -> 0 | K82: =TRUNC(E82+G82+I82,1) -> 93630 | L82: =TRUNC(F82+H82+J82,1) -> 93630 | M82: 호표 150 | N82: 5E4774E942632D91888591B0AC7C15 | O82: 5E4774E942632D91888591A0867B6B | P82: T | Q82: F | R82: F | AW82: 5E4774E942632D91888591B0AC7C155E4774E942632D91888591A0867B6B
A83: [ 합 계 ] | F83: =TRUNC(SUMIF(N73:N82, N72, F73:F82),0) -> 28678 | H83: =TRUNC(SUMIF(N73:N82, N72, H73:H82),0) -> 93630 | J83: =TRUNC(SUMIF(N73:N82, N72, J73:J82),0) -> 0 | L83: =F83+H83+J83 -> 122308 | N83: TOTAL | O83: TOTAL
A85: 내부수평비계(시스템비계) / 3층 H4.0m(발판 유), 3개월, 천장작업용 M2 ( 호표 10 ) | N85: 5E4774E942632D91996F93C0D866FC
A86: 강관비계 | B86: 강관비계, 비계파이프, 48.6*2.3mm | C86: M | D86: 28.9 | E86: =단가대비표!O113 -> 3983.33 | F86: =TRUNC(E86*D86,1) -> 115118.2 | G86: =단가대비표!P113 -> 0 | H86: =TRUNC(G86*D86,1) -> 0 | I86: =단가대비표!V113 -> 0 | J86: =TRUNC(I86*D86,1) -> 0 | K86: =TRUNC(E86+G86+I86,1) -> 3983.3 | L86: =TRUNC(F86+H86+J86,1) -> 115118.2 | M86: 금액제외 | O86: 596D84E2B2730A9023D517504B8296B3742141 | P86: F | Q86: F | R86: T | V86: 1 | AW86: 5E4774E942632D91996F93C0D866FC596D84E2B2730A9023D517504B8296B3742141 | AY86: -
A87: 강관손료 | B87: 주재료비의 6% | C87: 식 | D87: 1 | E87: =TRUNC(SUMIF(V86:V94, RIGHTB(O87, 1), F86:F94)*U87, 2) -> 6907.09 | F87: =TRUNC(E87*D87,1) -> 6907 | G87: 0 | H87: =TRUNC(G87*D87,1) -> 0 | I87: 0 | J87: =TRUNC(I87*D87,1) -> 0 | K87: =TRUNC(E87+G87+I87,1) -> 6907 | L87: =TRUNC(F87+H87+J87,1) -> 6907 | N87: 5E4774E942632D91996F93C0D866FC | O87: 5F5D94B452D3789F390BE0B0BC18001 | P87: F | Q87: F | R87: F | S87: 0 | T87: 0 | U87: 0.06 | AW87: 5E4774E942632D91996F93C0D866FC5F5D94B452D3789F390BE0B0BC1A003
A88: 강관비계 부속철물 | B88: 이음철물, 연결핀 | C88: 개 | D88: 8 | E88: =단가대비표!O114 -> 1400 | F88: =TRUNC(E88*D88,1) -> 11200 | G88: =단가대비표!P114 -> 0 | H88: =TRUNC(G88*D88,1) -> 0 | I88: =단가대비표!V114 -> 0 | J88: =TRUNC(I88*D88,1) -> 0 | K88: =TRUNC(E88+G88+I88,1) -> 1400 | L88: =TRUNC(F88+H88+J88,1) -> 11200 | M88: 금액제외 | O88: 596D84E2B2730A9023D517504B8296B375CD0F | P88: F | Q88: F | R88: T | W88: 2 | AW88: 5E4774E942632D91996F93C0D866FC596D84E2B2730A9023D517504B8296B375CD0F | AY88: -
A89: 강관비계 부속철물 | B89: 조임철물, 직교 및 가새 | C89: 개 | D89: 32 | E89: =단가대비표!O115 -> 1560 | F89: =TRUNC(E89*D89,1) -> 49920 | G89: =단가대비표!P115 -> 0 | H89: =TRUNC(G89*D89,1) -> 0 | I89: =단가대비표!V115 -> 0 | J89: =TRUNC(I89*D89,1) -> 0 | K89: =TRUNC(E89+G89+I89,1) -> 1560 | L89: =TRUNC(F89+H89+J89,1) -> 49920 | M89: 금액제외 | O89: 596D84E2B2730A9023D517504B8296B375CD0C | P89: F | Q89: F | R89: T | W89: 2 | AW89: 5E4774E942632D91996F93C0D866FC596D84E2B2730A9023D517504B8296B375CD0C | AY89: -
A90: 이음,조임철물손료 | B90: 주재료비의 12% | C90: 식 | D90: 1 | E90: =TRUNC(SUMIF(W86:W94, RIGHTB(O90, 1), F86:F94)*U90, 2) -> 7334.4 | F90: =TRUNC(E90*D90,1) -> 7334.4 | G90: 0 | H90: =TRUNC(G90*D90,1) -> 0 | I90: 0 | J90: =TRUNC(I90*D90,1) -> 0 | K90: =TRUNC(E90+G90+I90,1) -> 7334.4 | L90: =TRUNC(F90+H90+J90,1) -> 7334.4 | N90: 5E4774E942632D91996F93C0D866FC | O90: 5F5D94B452D3789F390BE0B0BC1B002 | P90: F | Q90: F | R90: F | S90: 0 | T90: 0 | U90: 0.12 | AW90: 5E4774E942632D91996F93C0D866FC5F5D94B452D3789F390BE0B0BC1D004
A91: 강관비계 부속철물 | B91: 받침철물 | C91: 개 | D91: 4 | E91: =단가대비표!O116 -> 3500 | F91: =TRUNC(E91*D91,1) -> 14000 | G91: =단가대비표!P116 -> 0 | H91: =TRUNC(G91*D91,1) -> 0 | I91: =단가대비표!V116 -> 0 | J91: =TRUNC(I91*D91,1) -> 0 | K91: =TRUNC(E91+G91+I91,1) -> 3500 | L91: =TRUNC(F91+H91+J91,1) -> 14000 | M91: 금액제외 | O91: 596D84E2B2730A9023D517504B8296B375CD0A | P91: F | Q91: F | R91: T | X91: 3 | AW91: 5E4774E942632D91996F93C0D866FC596D84E2B2730A9023D517504B8296B375CD0A | AY91: -
A92: 계단식발판 | B92: 계단식발판, 안전발판, 400*3000mm | C92: 매 | D92: 0.84 | E92: =단가대비표!O138 -> 28876 | F92: =TRUNC(E92*D92,1) -> 24255.8 | G92: =단가대비표!P138 -> 0 | H92: =TRUNC(G92*D92,1) -> 0 | I92: =단가대비표!V138 -> 0 | J92: =TRUNC(I92*D92,1) -> 0 | K92: =TRUNC(E92+G92+I92,1) -> 28876 | L92: =TRUNC(F92+H92+J92,1) -> 24255.8 | M92: 금액제외 | O92: 596D84E2B2730A901164FE60574A06DCFD761E | P92: F | Q92: F | R92: T | X92: 3 | AW92: 5E4774E942632D91996F93C0D866FC596D84E2B2730A901164FE60574A06DCFD761E | AY92: -
A93: 받침철물손료 | B93: 주재료비의 9% | C93: 식 | D93: 1 | E93: =TRUNC(SUMIF(X86:X94, RIGHTB(O93, 1), F86:F94)*U93, 2) -> 3443.02 | F93: =TRUNC(E93*D93,1) -> 3443 | G93: 0 | H93: =TRUNC(G93*D93,1) -> 0 | I93: 0 | J93: =TRUNC(I93*D93,1) -> 0 | K93: =TRUNC(E93+G93+I93,1) -> 3443 | L93: =TRUNC(F93+H93+J93,1) -> 3443 | N93: 5E4774E942632D91996F93C0D866FC | O93: 5F5D94B452D3789F390BE0B0BC1A003 | P93: F | Q93: F | R93: F | S93: 0 | T93: 0 | U93: 0.09 | AW93: 5E4774E942632D91996F93C0D866FC5F5D94B452D3789F390BE0B0BC1C005
A94: 내부수평비계(시스템비계) | B94: 10m이하, 천장작업용, 재료비 별도 | C94: ㎥ | D94: 4 | E94: =단가대비표!O235 -> 332 | F94: =TRUNC(E94*D94,1) -> 1328 | G94: =단가대비표!P235 -> 16623 | H94: =TRUNC(G94*D94,1) -> 66492 | I94: =단가대비표!V235 -> 0 | J94: =TRUNC(I94*D94,1) -> 0 | K94: =TRUNC(E94+G94+I94,1) -> 16955 | L94: =TRUNC(F94+H94+J94,1) -> 67820 | N94: 5E4774E942632D91996F93C0D866FC | O94: 5E4774E942632D918885CEB06EB09B | P94: F | Q94: F | R94: T | AW94: 5E4774E942632D91996F93C0D866FC5E4774E942632D918885CEB06EB09B
A95: [ 합 계 ] | F95: =TRUNC(SUMIF(N86:N94, N85, F86:F94),0) -> 19012 | H95: =TRUNC(SUMIF(N86:N94, N85, H86:H94),0) -> 66492 | J95: =TRUNC(SUMIF(N86:N94, N85, J86:J94),0) -> 0 | L95: =F95+H95+J95 -> 85504 | N95: TOTAL | O95: TOTAL
A97: 내부수평비계(시스템비계) / 카페테리아 H7.0m(발판 유), 3개월, 천장작업용 M2 ( 호표 11 ) | N97: 5E4774E942632D91996F93C0DA1458
A98: 강관비계 | B98: 강관비계, 비계파이프, 48.6*2.3mm | C98: M | D98: 42.55 | E98: =단가대비표!O113 -> 3983.33 | F98: =TRUNC(E98*D98,1) -> 169490.6 | G98: =단가대비표!P113 -> 0 | H98: =TRUNC(G98*D98,1) -> 0 | I98: =단가대비표!V113 -> 0 | J98: =TRUNC(I98*D98,1) -> 0 | K98: =TRUNC(E98+G98+I98,1) -> 3983.3 | L98: =TRUNC(F98+H98+J98,1) -> 169490.6 | M98: 금액제외 | O98: 596D84E2B2730A9023D517504B8296B3742141 | P98: F | Q98: F | R98: T | V98: 1 | AW98: 5E4774E942632D91996F93C0DA1458596D84E2B2730A9023D517504B8296B3742141 | AY98: -
A99: 강관손료 | B99: 주재료비의 6% | C99: 식 | D99: 1 | E99: =TRUNC(SUMIF(V98:V106, RIGHTB(O99, 1), F98:F106)*U99, 2) -> 10169.43 | F99: =TRUNC(E99*D99,1) -> 10169.4 | G99: 0 | H99: =TRUNC(G99*D99,1) -> 0 | I99: 0 | J99: =TRUNC(I99*D99,1) -> 0 | K99: =TRUNC(E99+G99+I99,1) -> 10169.4 | L99: =TRUNC(F99+H99+J99,1) -> 10169.4 | N99: 5E4774E942632D91996F93C0DA1458 | O99: 5F5D94B452D3789F390BE0B0BC18001 | P99: F | Q99: F | R99: F | S99: 0 | T99: 0 | U99: 0.06 | AW99: 5E4774E942632D91996F93C0DA14585F5D94B452D3789F390BE0B0BC1A003
A100: 강관비계 부속철물 | B100: 이음철물, 연결핀 | C100: 개 | D100: 20 | E100: =단가대비표!O114 -> 1400 | F100: =TRUNC(E100*D100,1) -> 28000 | G100: =단가대비표!P114 -> 0 | H100: =TRUNC(G100*D100,1) -> 0 | I100: =단가대비표!V114 -> 0 | J100: =TRUNC(I100*D100,1) -> 0 | K100: =TRUNC(E100+G100+I100,1) -> 1400 | L100: =TRUNC(F100+H100+J100,1) -> 28000 | M100: 금액제외 | O100: 596D84E2B2730A9023D517504B8296B375CD0F | P100: F | Q100: F | R100: T | W100: 2 | AW100: 5E4774E942632D91996F93C0DA1458596D84E2B2730A9023D517504B8296B375CD0F | AY100: -
A101: 강관비계 부속철물 | B101: 조임철물, 직교 및 가새 | C101: 개 | D101: 56 | E101: =단가대비표!O115 -> 1560 | F101: =TRUNC(E101*D101,1) -> 87360 | G101: =단가대비표!P115 -> 0 | H101: =TRUNC(G101*D101,1) -> 0 | I101: =단가대비표!V115 -> 0 | J101: =TRUNC(I101*D101,1) -> 0 | K101: =TRUNC(E101+G101+I101,1) -> 1560 | L101: =TRUNC(F101+H101+J101,1) -> 87360 | M101: 금액제외 | O101: 596D84E2B2730A9023D517504B8296B375CD0C | P101: F | Q101: F | R101: T | W101: 2 | AW101: 5E4774E942632D91996F93C0DA1458596D84E2B2730A9023D517504B8296B375CD0C | AY101: -
A102: 이음,조임철물손료 | B102: 주재료비의 12% | C102: 식 | D102: 1 | E102: =TRUNC(SUMIF(W98:W106, RIGHTB(O102, 1), F98:F106)*U102, 2) -> 13843.2 | F102: =TRUNC(E102*D102,1) -> 13843.2 | G102: 0 | H102: =TRUNC(G102*D102,1) -> 0 | I102: 0 | J102: =TRUNC(I102*D102,1) -> 0 | K102: =TRUNC(E102+G102+I102,1) -> 13843.2 | L102: =TRUNC(F102+H102+J102,1) -> 13843.2 | N102: 5E4774E942632D91996F93C0DA1458 | O102: 5F5D94B452D3789F390BE0B0BC1B002 | P102: F | Q102: F | R102: F | S102: 0 | T102: 0 | U102: 0.12 | AW102: 5E4774E942632D91996F93C0DA14585F5D94B452D3789F390BE0B0BC1D004
A103: 강관비계 부속철물 | B103: 받침철물 | C103: 개 | D103: 4 | E103: =단가대비표!O116 -> 3500 | F103: =TRUNC(E103*D103,1) -> 14000 | G103: =단가대비표!P116 -> 0 | H103: =TRUNC(G103*D103,1) -> 0 | I103: =단가대비표!V116 -> 0 | J103: =TRUNC(I103*D103,1) -> 0 | K103: =TRUNC(E103+G103+I103,1) -> 3500 | L103: =TRUNC(F103+H103+J103,1) -> 14000 | M103: 금액제외 | O103: 596D84E2B2730A9023D517504B8296B375CD0A | P103: F | Q103: F | R103: T | X103: 3 | AW103: 5E4774E942632D91996F93C0DA1458596D84E2B2730A9023D517504B8296B375CD0A | AY103: -
A104: 계단식발판 | B104: 계단식발판, 안전발판, 400*3000mm | C104: 매 | D104: 0.84 | E104: =단가대비표!O138 -> 28876 | F104: =TRUNC(E104*D104,1) -> 24255.8 | G104: =단가대비표!P138 -> 0 | H104: =TRUNC(G104*D104,1) -> 0 | I104: =단가대비표!V138 -> 0 | J104: =TRUNC(I104*D104,1) -> 0 | K104: =TRUNC(E104+G104+I104,1) -> 28876 | L104: =TRUNC(F104+H104+J104,1) -> 24255.8 | M104: 금액제외 | O104: 596D84E2B2730A901164FE60574A06DCFD761E | P104: F | Q104: F | R104: T | X104: 3 | AW104: 5E4774E942632D91996F93C0DA1458596D84E2B2730A901164FE60574A06DCFD761E | AY104: -
A105: 받침철물손료 | B105: 주재료비의 9% | C105: 식 | D105: 1 | E105: =TRUNC(SUMIF(X98:X106, RIGHTB(O105, 1), F98:F106)*U105, 2) -> 3443.02 | F105: =TRUNC(E105*D105,1) -> 3443 | G105: 0 | H105: =TRUNC(G105*D105,1) -> 0 | I105: 0 | J105: =TRUNC(I105*D105,1) -> 0 | K105: =TRUNC(E105+G105+I105,1) -> 3443 | L105: =TRUNC(F105+H105+J105,1) -> 3443 | N105: 5E4774E942632D91996F93C0DA1458 | O105: 5F5D94B452D3789F390BE0B0BC1A003 | P105: F | Q105: F | R105: F | S105: 0 | T105: 0 | U105: 0.09 | AW105: 5E4774E942632D91996F93C0DA14585F5D94B452D3789F390BE0B0BC1C005
A106: 내부수평비계(시스템비계) | B106: 10m이하, 천장작업용, 재료비 별도 | C106: ㎥ | D106: 7 | E106: =단가대비표!O235 -> 332 | F106: =TRUNC(E106*D106,1) -> 2324 | G106: =단가대비표!P235 -> 16623 | H106: =TRUNC(G106*D106,1) -> 116361 | I106: =단가대비표!V235 -> 0 | J106: =TRUNC(I106*D106,1) -> 0 | K106: =TRUNC(E106+G106+I106,1) -> 16955 | L106: =TRUNC(F106+H106+J106,1) -> 118685 | N106: 5E4774E942632D91996F93C0DA1458 | O106: 5E4774E942632D918885CEB06EB09B | P106: F | Q106: F | R106: T | AW106: 5E4774E942632D91996F93C0DA14585E4774E942632D918885CEB06EB09B
A107: [ 합 계 ] | F107: =TRUNC(SUMIF(N98:N106, N97, F98:F106),0) -> 29779 | H107: =TRUNC(SUMIF(N98:N106, N97, H98:H106),0) -> 116361 | J107: =TRUNC(SUMIF(N98:N106, N97, J98:J106),0) -> 0 | L107: =F107+H107+J107 -> 146140 | N107: TOTAL | O107: TOTAL
A109: 시스템비계 설치, 해체(외부) 10m이하, 6개월(발판2열)-계단설치해체비포함 M2 ( 호표 12 ) | N109: 5E64545AA2F3E29CECFD8B10DBF3BE
A110: 시스템비계-수직재 | B110: S-38(3800mm) | C110: 본 | D110: 0.3009 | E110: =단가대비표!O139 -> 39000 | F110: =TRUNC(E110*D110,1) -> 11735.1 | G110: =단가대비표!P139 -> 0 | H110: =TRUNC(G110*D110,1) -> 0 | I110: =단가대비표!V139 -> 0 | J110: =TRUNC(I110*D110,1) -> 0 | K110: =TRUNC(E110+G110+I110,1) -> 39000 | L110: =TRUNC(F110+H110+J110,1) -> 11735.1 | M110: 금액제외 | O110: 596D84E2B2730A901164FE60548F2CBDBC02 | P110: F | Q110: F | R110: T | V110: 1 | AW110: 5E64545AA2F3E29CECFD8B10DBF3BE596D84E2B2730A901164FE60548F2CBDBC02 | AY110: -
A111: 시스템비계-대각재 | B111: B-1918(2484mm) | C111: 본 | D111: 0.0543 | E111: =단가대비표!O142 -> 19600 | F111: =TRUNC(E111*D111,1) -> 1064.2 | G111: =단가대비표!P142 -> 0 | H111: =TRUNC(G111*D111,1) -> 0 | I111: =단가대비표!V142 -> 0 | J111: =TRUNC(I111*D111,1) -> 0 | K111: =TRUNC(E111+G111+I111,1) -> 19600 | L111: =TRUNC(F111+H111+J111,1) -> 1064.2 | M111: 금액제외 | O111: 596D84E2B2730A901164FE60548F2CBDB8A7 | P111: F | Q111: F | R111: T | V111: 1 | AW111: 5E64545AA2F3E29CECFD8B10DBF3BE596D84E2B2730A901164FE60548F2CBDB8A7 | AY111: -
...

Sheet 단가산출목록
B1: 단 가 산 출 목 록
B2: [ 김천시 농촌신활력플러스 신축공사 ]
A3: 코 드 | B3: 품 명 | C3: 규 격 | D3: 단위 | E3: 재 료 비 | F3: 노 무 비 | G3: 경 비 | H3: 합 계 | I3: 번 호 | J3: 비 고 | K3: START | L3: 품셈개요
A4: 5E6404DCC2D3BB9C18D4EB808644C7 | B4: 터파기/토사 | C4: 보통, 굴착기 0.7m3 | D4: M3 | E4: =단가산출서!B20 -> 323 | F4: =단가산출서!C20 -> 967 | G4: =단가산출서!D20 -> 407 | H4: =단가산출서!E20 -> 1697 | I4: 산근 1 | K4: 5E6404DCC2D3BB9C18D4EB808644C7 | L4: 공통 8-2-3
A5: 5E6404D12233C39FF5C3DDF05C886E | B5: 되메우기 | C5: 보통, 유압식백호 0.7m3 | D5: M3 | E5: =단가산출서!B39 -> 248 | F5: =단가산출서!C39 -> 744 | G5: =단가산출서!D39 -> 313 | H5: =단가산출서!E39 -> 1305 | I5: 산근 2 | K5: 5E6404D12233C39FF5C3DDF05C886E | L5: 토목 9-3+10
A6: 5E6404DF82332F9A4607405036B051 | B6: 토사 운반/단지외 10km | C6: 보통, 덤프 15ton+굴착기 0.7m3 | D6: M3 | E6: =단가산출서!B88 -> 2941 | F6: =단가산출서!C88 -> 5683 | G6: =단가산출서!D88 -> 2061 | H6: =단가산출서!E88 -> 10685 | I6: 산근 3 | K6: 5E6404DF82332F9A4607405036B051 | L6: 공통 8-2-8
A7: 5E4624FB8293E49165B02B30058036 | B7: 시멘트운반 | C7: L:10km, 덤프 8ton | D7: 포 | E7: =단가산출서!B159 -> 0 | F7: =단가산출서!C159 -> 0 | G7: =단가산출서!D159 -> 1475 | H7: =단가산출서!E159 -> 1475 | I7: 산근 4 | K7: 5E4624FB8293E49165B02B30058036 | L7: 공통 8-2-8
A8: 5E4624FB82E3669503A776302B9355 | B8: 운반비(트레일러 20ton+크레인 10ton) | C8: 철근, L:10km | D8: TON | E8: =단가산출서!B217 -> 0 | F8: =단가산출서!C217 -> 0 | G8: =단가산출서!D217 -> 10925 | H8: =단가산출서!E217 -> 10925 | I8: 산근 5 | K8: 5E4624FB82E3669503A776302B9355
A9: 5E4624FB82E3669503A776302B924F | B9: 운반비(트레일러 20ton+크레인 10ton) | C9: 철근, L:10km(공장→현장) | D9: TON | E9: =단가산출서!B275 -> 0 | F9: =단가산출서!C275 -> 0 | G9: =단가산출서!D275 -> 10925 | H9: =단가산출서!E275 -> 10925 | I9: 산근 6 | K9: 5E4624FB82E3669503A776302B924F

Sheet 단가산출서
A1: 단 가 산 출 서
A2: [ 김천시 농촌신활력플러스 신축공사 ]
A3: 산 출 내 역 | B3: 재 료 비 | C3: 노 무 비 | D3: 경 비 | E3: 합 계 | F3: 비 고 | G3: START | H3: 코드 | I3: 품명 | J3: 규격 | K3: 단위 | L3: 수량 | M3: 변수 | N3: 값 | O3: 소계 | P3: 소계 | Q3: 소계 | R3: 소계 | S3: 소계 | T3: 총계
A4: 터파기/토사 보통, 굴착기 0.7m3 M3 ( 산근 1 ) | G4: 5E6404DCC2D3BB9C18D4EB808644C7 | I4: 터파기/토사 | J4: 보통, 굴착기 0.7m3 | K4: M3
G5: 5E6404DCC2D3BB9C18D4EB808644C7 | H5: C | L5: 1
A6: 굴삭기(무한궤도),0.7㎥ M3 | B6: 0 | C6: 0 | D6: 0 | E6: 0 | G6: 5E6404DCC2D3BB9C18D4EB808644C7 | H6: C! | I6: '굴삭기(무한궤도),0.7㎥ M3'
B7: 0 | C7: 0 | D7: 0 | E7: 0 | G7: 5E6404DCC2D3BB9C18D4EB808644C7 | H7: C!
A8: Q1 바켓용량(M3) =0.70 | B8: 0 | C8: 0 | D8: 0 | E8: 0 | G8: 5E6404DCC2D3BB9C18D4EB808644C7 | H8: C! | I8: q1 '바켓용량(M3)' =0.70
A9: K 바켓계수(양호1.1,보통0.90,불량0.70,파쇄암0.55) = 0.90 | B9: 0 | C9: 0 | D9: 0 | E9: 0 | G9: 5E6404DCC2D3BB9C18D4EB808644C7 | H9: C! | I9: k '바켓계수(양호1.1,보통0.90,불량0.70,파쇄암0.55)'= 0.90
A10: F 토량환산계수(1/L) = 1/1.25= 0.8 | B10: 0 | C10: 0 | D10: 0 | E10: 0 | G10: 5E6404DCC2D3BB9C18D4EB808644C7 | H10: C! | I10: f '토량환산계수(1/L)'= 1/1.25=?
A11: E1 터파기에 대하여 -0.05 =0.05 | B11: 0 | C11: 0 | D11: 0 | E11: 0 | G11: 5E6404DCC2D3BB9C18D4EB808644C7 | H11: C! | I11: E1 '터파기에 대하여 -0.05'=0.05
A12: E 작업효율사질토(양호0.85,보통0.70,불량0.55) = 0.70-E1= 0.65 | B12: 0 | C12: 0 | D12: 0 | E12: 0 | G12: 5E6404DCC2D3BB9C18D4EB808644C7 | H12: C! | I12: E '작업효율사질토(양호0.85,보통0.70,불량0.55)'= 0.70-E1=?
A13: CM 1회 싸이클시간(135˚SEC) =20 | B13: 0 | C13: 0 | D13: 0 | E13: 0 | G13: 5E6404DCC2D3BB9C18D4EB808644C7 | H13: C! | I13: Cm '1회 싸이클시간(135˚SEC)'=20
A14: Q 시간당 작업량 (M3/HR) = 3600*Q1*K*F*E/CM= 58.968 | B14: 0 | C14: 0 | D14: 0 | E14: 0 | G14: 5E6404DCC2D3BB9C18D4EB808644C7 | H14: C! | I14: Q '시간당 작업량 (M3/Hr)'= 3600*q1*k*f*E/Cm=?
B15: 0 | C15: 0 | D15: 0 | E15: 0 | G15: 5E6404DCC2D3BB9C18D4EB808644C7 | H15: C!
A16: 재료비: 19053 / 58.968 = 323.1 | B16: 323.1 | C16: 0 | D16: 0 | E16: 323.1 | G16: 5E6404DCC2D3BB9C18D4EB808644C7 | H16: C! | I16: '재료비:' ~00000201007000000.M~ / {Q} =?MA+
A17: 노무비: 57077 / 58.968 = 967.9 | B17: 0 | C17: 967.9 | D17: 0 | E17: 967.9 | G17: 5E6404DCC2D3BB9C18D4EB808644C7 | H17: C! | I17: '노무비:' ~00000201007000000.L~ / {Q} =?LA+
A18: 경 비: 24001 / 58.968 = 407 | B18: 0 | C18: 0 | D18: 407 | E18: 407 | G18: 5E6404DCC2D3BB9C18D4EB808644C7 | H18: C! | I18: '경 비:' ~00000201007000000.E~ / {Q} =?EQ+
A19: 소 계 | B19: 323.1 | C19: 967.9 | D19: 407 | E19: 1698 | G19: 5E6404DCC2D3BB9C18D4EB808644C7 | H19: C! | I19: >'소 계'
A20: 총 계 | B20: 323 | C20: 967 | D20: 407 | E20: 1697
A22: 되메우기 보통, 유압식백호 0.7m3 M3 ( 산근 2 ) | G22: 5E6404D12233C39FF5C3DDF05C886E | I22: 되메우기 | J22: 보통, 유압식백호 0.7m3 | K22: M3
G23: 5E6404D12233C39FF5C3DDF05C886E | H23: C | K23: M3 | L23: 1
A24: 1.굴삭기 (무한궤도)0.7㎥M3 | B24: 0 | C24: 0 | D24: 0 | E24: 0 | G24: 5E6404D12233C39FF5C3DDF05C886E | H24: C! | I24: '1.굴삭기 (무한궤도)0.7㎥M3 '
A25: Q1 바켓용량(M3) = 0.7 | B25: 0 | C25: 0 | D25: 0 | E25: 0 | G25: 5E6404D12233C39FF5C3DDF05C886E | H25: C! | I25: q1 '바켓용량(M3)'= 0.7
A26: k 바켓계수 = 1.1 | B26: 0 | C26: 0 | D26: 0 | E26: 0 | G26: 5E6404D12233C39FF5C3DDF05C886E | H26: C! | I26: k '바켓계수'= 1.1
A27: L1 흐트러진상태 =1.24 | B27: 0 | C27: 0 | D27: 0 | E27: 0 | G27: 5E6404D12233C39FF5C3DDF05C886E | H27: C! | I27: L1 '흐트러진상태' =1.24
A28: C 다져진상태 =0.98 | B28: 0 | C28: 0 | D28: 0 | E28: 0 | G28: 5E6404D12233C39FF5C3DDF05C886E | H28: C! | I28: C '다져진상태'=0.98
A29: F 토량환산계(C/L) =C/L1= 0.7903 | B29: 0 | C29: 0 | D29: 0 | E29: 0 | G29: 5E6404D12233C39FF5C3DDF05C886E | H29: C! | I29: f '토량환산계(C/L)'=C/L1=?
A30: E 작업효율(양호0.9,보통0.75,불량0.6) = 0.7 | B30: 0 | C30: 0 | D30: 0 | E30: 0 | G30: 5E6404D12233C39FF5C3DDF05C886E | H30: C! | I30: E '작업효율(양호0.9,보통0.75,불량0.6)'= 0.7
A31: CM 1회 싸이클시간(135˚SEC) =20 | B31: 0 | C31: 0 | D31: 0 | E31: 0 | G31: 5E6404D12233C39FF5C3DDF05C886E | H31: C! | I31: Cm '1회 싸이클시간(135˚sec)'=20
A32: Q 시간당 작업량 (M3/HR) = 3600*Q1*K*F*E/CM= 76.675 | B32: 0 | C32: 0 | D32: 0 | E32: 0 | G32: 5E6404D12233C39FF5C3DDF05C886E | H32: C! | I32: Q '시간당 작업량 (M3/Hr)'= 3600*q1*k*f*E/Cm=?
A33: 재료비: 19053 / 76.675 = 248.4 | B33: 248.4 | C33: 0 | D33: 0 | E33: 248.4 | G33: 5E6404D12233C39FF5C3DDF05C886E | H33: C! | I33: '재료비:' ~00000201007000000.M~ / {Q} =?MA+
A34: 노무비: 57077 / 76.675 = 744.4 | B34: 0 | C34: 744.4 | D34: 0 | E34: 744.4 | G34: 5E6404D12233C39FF5C3DDF05C886E | H34: C! | I34: '노무비:' ~00000201007000000.L~ / {Q} =?LA+
A35: 경 비: 24001 / 76.675 = 313 | B35: 0 | C35: 0 | D35: 313 | E35: 313 | G35: 5E6404D12233C39FF5C3DDF05C886E | H35: C! | I35: '경 비:' ~00000201007000000.E~ / {Q} =?EQ+
A36: 소 계 | B36: 248.4 | C36: 744.4 | D36: 313 | E36: 1305.8 | G36: 5E6404D12233C39FF5C3DDF05C886E | H36: C! | I36: >'소 계'
B37: 0 | C37: 0 | D37: 0 | E37: 0 | G37: 5E6404D12233C39FF5C3DDF05C886E | H37: C!
A38: 합 계 | B38: 248.4 | C38: 744.4 | D38: 313 | E38: 1305.8 | G38: 5E6404D12233C39FF5C3DDF05C886E | H38: C! | I38: >>'합 계'
A39: 총 계 | B39: 248 | C39: 744 | D39: 313 | E39: 1305
A41: 토사 운반/단지외 10km 보통, 덤프 15ton+굴착기 0.7m3 M3 ( 산근 3 ) | G41: 5E6404DF82332F9A4607405036B051 | I41: 토사 운반/단지외 10km | J41: 보통, 덤프 15ton+굴착기 0.7m3 | K41: M3
G42: 5E6404DF82332F9A4607405036B051 | H42: C | K42: M3 | L42: 1
A43: 운반거리 L=10KN,(적재,고르기별도) M3 | B43: 0 | C43: 0 | D43: 0 | E43: 0 | G43: 5E6404DF82332F9A4607405036B051 | H43: C! | I43: '운반거리 L=10KN,(적재,고르기별도) M3'
A44: 차량속도= 30KM/V1,35KM/V2,35KM/V3,35KM/V4,30KM/V5,35KM/V6 | B44: 0 | C44: 0 | D44: 0 | E44: 0 | G44: 5E6404DF82332F9A4607405036B051 | H44: C! | I44: '차량속도= 30KM/V1,35KM/V2,35KM/V3,35KM/V4,30KM/V5,35KM/V6 '
A45: ○------------------0------------0----------------○10KM | B45: 0 | C45: 0 | D45: 0 | E45: 0 | G45: 5E6404DF82332F9A4607405036B051 | H45: C! | I45: ' ○------------------0------------0----------------○10KM '
A46: 운반거리=단지대L1=0.5KM,시내외L2=9.0KM,사토장L3=0.5KM | B46: 0 | C46: 0 | D46: 0 | E46: 0 | G46: 5E6404DF82332F9A4607405036B051 | H46: C! | I46: '운반거리=단지대L1=0.5KM,시내외L2=9.0KM,사토장L3=0.5KM'
B47: 0 | C47: 0 | D47: 0 | E47: 0 | G47: 5E6404DF82332F9A4607405036B051 | H47: C!
A48: 1.덤프트럭,15톤 | B48: 0 | C48: 0 | D48: 0 | E48: 0 | G48: 5E6404DF82332F9A4607405036B051 | H48: C! | I48: '1.덤프트럭,15톤'
A49: T 적재용량(톤) =15 | B49: 0 | C49: 0 | D49: 0 | E49: 0 | G49: 5E6404DF82332F9A4607405036B051 | H49: C! | I49: T '적재용량(톤)' =15
A50: R1 토석의 단위중량(톤) =1.7 | B50: 0 | C50: 0 | D50: 0 | E50: 0 | G50: 5E6404DF82332F9A4607405036B051 | H50: C! | I50: r1 '토석의 단위중량(톤)' =1.7
A51: L 토량 변화율 =1.25 | B51: 0 | C51: 0 | D51: 0 | E51: 0 | G51: 5E6404DF82332F9A4607405036B051 | H51: C! | I51: L '토량 변화율' =1.25
A52: Q1 1회 적재량(M3) =T/R1*L= 11.0294 | B52: 0 | C52: 0 | D52: 0 | E52: 0 | G52: 5E6404DF82332F9A4607405036B051 | H52: C! | I52: q1 '1회 적재량(M3)' =T/r1*L=?
A53: F 토량 환산계수(1/L) =1/L= 0.8 | B53: 0 | C53: 0 | D53: 0 | E53: 0 | G53: 5E6404DF82332F9A4607405036B051 | H53: C! | I53: f '토량 환산계수(1/L)' =1/L=?
A54: E 작업효율 =0.9 | B54: 0 | C54: 0 | D54: 0 | E54: 0 | G54: 5E6404DF82332F9A4607405036B051 | H54: C! | I54: E '작업효율' =0.9
A55: CMS 적재기계 1회 싸이클시간(SEC) =20 | B55: 0 | C55: 0 | D55: 0 | E55: 0 | G55: 5E6404DF82332F9A4607405036B051 | H55: C! | I55: Cms '적재기계 1회 싸이클시간(SEC)' =20
A56: V1 단지내적재운반속도(KM/HR) =15 | B56: 0 | C56: 0 | D56: 0 | E56: 0 | G56: 5E6404DF82332F9A4607405036B051 | H56: C! | I56: V1 '단지내적재운반속도(KM/HR)' =15
A57: V2 단지내공차운반속도(KM/HR) =20 | B57: 0 | C57: 0 | D57: 0 | E57: 0 | G57: 5E6404DF82332F9A4607405036B051 | H57: C! | I57: V2 '단지내공차운반속도(KM/HR)' =20
A58: V3 시내외포장적재운반속도(KM/HR) =35 | B58: 0 | C58: 0 | D58: 0 | E58: 0 | G58: 5E6404DF82332F9A4607405036B051 | H58: C! | I58: V3 '시내외포장적재운반속도(KM/HR)' =35
A59: V4 시내외포장공차운반속도(KM/HR) =35 | B59: 0 | C59: 0 | D59: 0 | E59: 0 | G59: 5E6404DF82332F9A4607405036B051 | H59: C! | I59: V4 '시내외포장공차운반속도(KM/HR)' =35
... A64: L3 사토장비포장(KM) =0.5 | B64: 0 | C64: 0 | D64: 0 | E64: 0 | G64: 5E6404DF82332F9A4607405036B051 | H64: C! | I64: L3 '사토장비포장(KM)' =0.5
B65: 0 | C65: 0 | D65: 0 | E65: 0 | G65: 5E6404DF82332F9A4607405036B051 | H65: C!
A66: T2 왕복시간(MIN) =((L1/V1)+(L1/V2)+(L2/V3)+(L2/V4)+(L3/V5)+(L3/V6))*60= 37.8571 | B66: 0 | C66: 0 | D66: 0 | E66: 0 | G66: 5E6404DF82332F9A4607405036B051 | H66: C! | I66: t2 '왕복시간(MIN)' =((L1/V1)+(L1/V2)+(L2/V3)+(L2/V4)+(L3/V5)+(L3/V6))*60=?
A67: T3 적하시간(MIN)양호0.5,보통0.8,불량1.1 =0.8 | B67: 0 | C67: 0 | D67: 0 | E67: 0 | G67: 5E6404DF82332F9A4607405036B051 | H67: C! | I67: t3 '적하시간(MIN)양호0.5,보통0.8,불량1.1'=0.8
A68: T4 적재대기(MIN)양호0.15,보통0.42,불량0.7 =0.42 | B68: 0 | C68: 0 | D68: 0 | E68: 0 | G68: 5E6404DF82332F9A4607405036B051 | H68: C! | I68: t4 '적재대기(MIN)양호0.15,보통0.42,불량0.7 '=0.42
A69: T5 적재합자동덮개설치및해체(MIN) =0.5 | B69: 0 | C69: 0 | D69: 0 | E69: 0 | G69: 5E6404DF82332F9A4607405036B051 | H69: C! | I69: t5 '적재합자동덮개설치및해체(MIN)' =0.5
A70: T6 세륜시간 (MIN) =1.5 | B70: 0 | C70: 0 | D70: 0 | E70: 0 | G70: 5E6404DF82332F9A4607405036B051 | H70: C! | I70: t6 '세륜시간 (MIN)' =1.5
B71: 0 | C71: 0 | D71: 0 | E71: 0 | G71: 5E6404DF82332F9A4607405036B051 | H71: C!
A72: k 백호바켓계수 =1.1 | B72: 0 | C72: 0 | D72: 0 | E72: 0 | G72: 5E6404DF82332F9A4607405036B051 | H72: C! | I72: k '백호바켓계수' =1.1
A73: ES 작업효율(양호0.9,보통0.75,불량0.6) = 0.75 | B73: 0 | C73: 0 | D73: 0 | E73: 0 | G73: 5E6404DF82332F9A4607405036B051 | H73: C! | I73: Es '작업효율(양호0.9,보통0.75,불량0.6)'= 0.75
A74: N 덤프트럭 소요 백호 적재회수 =Q1/(0.7*K)= 14.32 | B74: 0 | C74: 0 | D74: 0 | E74: 0 | G74: 5E6404DF82332F9A4607405036B051 | H74: C! | I74: n '덤프트럭 소요 백호 적재회수' =q1/(0.7*k)=?
A75: CM 1회 싸이클 시간(MIN) =CMS*N/(60*ES)+T2+T3+T4+T5+T6= 47.442 | B75: 0 | C75: 0 | D75: 0 | E75: 0 | G75: 5E6404DF82332F9A4607405036B051 | H75: C! | I75: Cm '1회 싸이클 시간(MIN)' =Cms*n/(60*Es)+t2+t3+t4+t5+t6=?
A76: Q 시간당 작업량(M3/HR) =60*Q1*F*E/CM= 10.043 | B76: 0 | C76: 0 | D76: 0 | E76: 0 | G76: 5E6404DF82332F9A4607405036B051 | H76: C! | I76: Q '시간당 작업량(M3/HR)' =60*q1*f*E/Cm=?
A77: 재료비: 29541 / 10.043 = 2941.4 | B77: 2941.4 | C77: 0 | D77: 0 | E77: 2941.4 | G77: 5E6404DF82332F9A4607405036B051 | H77: C! | I77: '재료비:' ~00000602015000000.M~ / {Q} =?MA+
A78: 노무비: 57077 / 10.043 = 5683.2 | B78: 0 | C78: 5683.2 | D78: 0 | E78: 5683.2 | G78: 5E6404DF82332F9A4607405036B051 | H78: C! | I78: '노무비:' ~00000602015000000.L~ / {Q} =?LA+
A79: 경 비: 20276 / 10.043 = 2018.9 | B79: 0 | C79: 0 | D79: 2018.9 | E79: 2018.9 | G79: 5E6404DF82332F9A4607405036B051 | H79: C! | I79: '경 비:' ~00000602015000000.E~ / {Q} =?EQ+
A80: 소계 | B80: 2941.4 | C80: 5683.2 | D80: 2018.9 | E80: 10643.5 | G80: 5E6404DF82332F9A4607405036B051 | H80: C! | I80: >'소계'
B81: 0 | C81: 0 | D81: 0 | E81: 0 | G81: 5E6404DF82332F9A4607405036B051 | H81: C!
A82: 2.자동덮개시설,덤프15톤용 M3 | B82: 0 | C82: 0 | D82: 0 | E82: 0 | G82: 5E6404DF82332F9A4607405036B051 | H82: C! | I82: '2.자동덮개시설,덤프15톤용 M3'
A83: 재료비: 0 / 10.043 = 0 | B83: 0 | C83: 0 | D83: 0 | E83: 0 | G83: 5E6404DF82332F9A4607405036B051 | H83: C! | I83: '재료비:' ~00000610015000000.M~ / {Q} =?MA+
A84: 노무비: 0 / 10.043 = 0 | B84: 0 | C84: 0 | D84: 0 | E84: 0 | G84: 5E6404DF82332F9A4607405036B051 | H84: C! | I84: '노무비:' ~00000610015000000.L~ / {Q} =?LA+
A85: 경 비: 430 / 10.043 = 42.8 | B85: 0 | C85: 0 | D85: 42.8 | E85: 42.8 | G85: 5E6404DF82332F9A4607405036B051 | H85: C! | I85: '경 비:' ~00000610015000000.E~ / {Q} =?EQ+
A86: 소계 | B86: 0 | C86: 0 | D86: 42.8 | E86: 42.8 | G86: 5E6404DF82332F9A4607405036B051 | H86: C! | I86: >'소계'
B87: 0 | C87: 0 | D87: 0 | E87: 0 | G87: 5E6404DF82332F9A4607405036B051 | H87: C!
A88: 총 계 | B88: 2941 | C88: 5683 | D88: 2061 | E88: 10685
A90: 시멘트운반 L:10km, 덤프 8ton 포 ( 산근 4 ) | G90: 5E4624FB8293E49165B02B30058036 | I90: 시멘트운반 | J90: L:10km, 덤프 8ton | K90: 포
G91: 5E4624FB8293E49165B02B30058036 | H91: C | L91: 1
A92: 운반거리 L=10KM 덤프트럭(8톤), 포대당 | B92: 0 | C92: 0 | D92: 0 | E92: 0 | G92: 5E4624FB8293E49165B02B30058036 | H92: C! | I92: '운반거리 L=10KM 덤프트럭(8톤), 포대당'
B93: 0 | C93: 0 | D93: 0 | E93: 0 | G93: 5E4624FB8293E49165B02B30058036 | H93: C!
A94: 차량속도= 25/V1,25/V2,40KM/V3,40KM/V4,25KM/V5,25KM/V6 | B94: 0 | C94: 0 | D94: 0 | E94: 0 | G94: 5E4624FB8293E49165B02B30058036 | H94: C! | I94: '차량속도= 25/V1,25/V2,40KM/V3,40KM/V4,25KM/V5,25KM/V6 '
A95: 하치장○-----------------0------------0---------○10KM | B95: 0 | C95: 0 | D95: 0 | E95: 0 | G95: 5E4624FB8293E49165B02B30058036 | H95: C! | I95: '하치장○-----------------0------------0---------○10KM '
A96: 운반거리=하치장L1=0.0KM,시내L2=9.5KM,공사장L3=0.5KM | B96: 0 | C96: 0 | D96: 0 | E96: 0 | G96: 5E4624FB8293E49165B02B30058036 | H96: C! | I96: '운반거리=하치장L1=0.0KM,시내L2=9.5KM,공사장L3=0.5KM'
B97: 0 | C97: 0 | D97: 0 | E97: 0 | G97: 5E4624FB8293E49165B02B30058036 | H97: C!
A98: 인력운반 (품셈 1-5-1) 적재비(하치장 상차도 미계상,공장상차도 계상) | B98: 0 | C98: 0 | D98: 0 | E98: 0 | G98: 5E4624FB8293E49165B02B30058036 | H98: C! | I98: '인력운반 (품셈 1-5-1) 적재비(하치장 상차도 미계상,공장상차도 계상)'
A99: L 소운반거리(M) =20 | B99: 0 | C99: 0 | D99: 0 | E99: 0 | G99: 5E4624FB8293E49165B02B30058036 | H99: C! | I99: L '소운반거리(M)' =20
A100: A 1회 운반량(BG) =1 | B100: 0 | C100: 0 | D100: 0 | E100: 0 | G100: 5E4624FB8293E49165B02B30058036 | H100: C! | I100: A '1회 운반량(BG)' =1
A101: T 단위(KG) =8000 | B101: 0 | C101: 0 | D101: 0 | E101: 0 | G101: 5E4624FB8293E49165B02B30058036 | H101: C! | I101: T '단위(KG)' =8000
A102: RT 단위중량(KG) =40 | B102: 0 | C102: 0 | D102: 0 | E102: 0 | G102: 5E4624FB8293E49165B02B30058036 | H102: C! | I102: RT '단위중량(KG)' =40
A103: MV 운반인부의 속도2500M/HR =2500/60= 41.6667 | B103: 0 | C103: 0 | D103: 0 | E103: 0 | G103: 5E4624FB8293E49165B02B30058036 | H103: C! | I103: MV '운반인부의 속도2500M/HR' =2500/60=?
A104: T1 어깨메고부리기시간(MIN) =2.0 | B104: 0 | C104: 0 | D104: 0 | E104: 0 | G104: 5E4624FB8293E49165B02B30058036 | H104: C! | I104: T1 '어깨메고부리기시간(MIN)' =2.0
A105: QT 차량 1대당 적재용량(BG) =T/RT= 200 | B105: 0 | C105: 0 | D105: 0 | E105: 0 | G105: 5E4624FB8293E49165B02B30058036 | H105: C! | I105: QT '차량 1대당 적재용량(BG)' =T/RT=?
A106: N 차량 1대당 소요운반회수 =QT/A= 200 | B106: 0 | C106: 0 | D106: 0 | E106: 0 | G106: 5E4624FB8293E49165B02B30058036 | H106: C! | I106: N '차량 1대당 소요운반회수' =QT/A=?
A107: CMS 운반 1회당 소요시간(MIN) =L*2/MV+T1= 2.96 | B107: 0 | C107: 0 | D107: 0 | E107: 0 | G107: 5E4624FB8293E49165B02B30058036 | H107: C! | I107: CMS '운반 1회당 소요시간(MIN)' =L*2/MV+T1=?
...

Sheet 단가대비표
A1: 단 가 대 비 표
A2: [ 김천시 농촌신활력플러스 신축공사 ]
A3: 코 드 | B3: 품 명 | C3: 규격 | D3: 단위 | E3: 재 료 비 | P3: 노 무 비 | Q3: 경 비 | W3: 번 호 | X3: 비 고 | Y3: 품목구분 | Z3: 노임구분 | AA3: 소수점처리 | AB3: 자재구분
E4: 조달청가격 | F4: PAGE | G4: 거래가격 | H4: PAGE | I4: 유통물가 | J4: PAGE | K4: 물가자료 | L4: PAGE | M4: 조사가격 | N4: PAGE | O4: 적용단가 | Q4: 조달청가격 | R4: 거래가격 | S4: 유통물가 | T4: 물가자료 | U4: 조사가격 | V4: 적용단가
A5: 595314B982339B96113BC6E0C3F2B9AFFC337B | B5: 굴착기(무한궤도) | C5: 0.7㎥ | D5: 대 | E5: 0 | G5: 0 | I5: 0 | K5: 0 | M5: 0 | O5: 0 | P5: 0 | Q5: 0 | R5: 0 | S5: 0 | T5: 0 | U5: 115116 | V5: =SMALL(Q5:U5,COUNTIF(Q5:U5,0)+1) -> 115116 | W5: 자재 1 | X5: 천원
A6: 595314B982339B96113BC6E0C2EE1B17D956A5 | B6: 굴착기(무한궤도) | C6: 1.0㎥ | D6: 대 | E6: 0 | G6: 0 | I6: 0 | K6: 0 | M6: 0 | O6: 0 | P6: 0 | Q6: 0 | R6: 0 | S6: 0 | T6: 0 | U6: 138873 | V6: =SMALL(Q6:U6,COUNTIF(Q6:U6,0)+1) -> 138873 | W6: 자재 2 | X6: 천원
A7: 595314B982339B9658E475E0F16977DA7BA58B | B7: 덤프트럭 | C7: 8ton | D7: 대 | E7: 0 | G7: 0 | I7: 0 | K7: 0 | M7: 0 | O7: 0 | P7: 0 | Q7: 0 | R7: 0 | S7: 0 | T7: 0 | U7: 36694 | V7: =SMALL(Q7:U7,COUNTIF(Q7:U7,0)+1) -> 36694 | W7: 자재 3 | X7: 천원
A8: 595314B982339B9658E475E0F05FB1A4F05558 | B8: 덤프트럭 | C8: 15ton | D8: 대 | E8: 0 | G8: 0 | I8: 0 | K8: 0 | M8: 0 | O8: 0 | P8: 0 | Q8: 0 | R8: 0 | S8: 0 | T8: 0 | U8: 88973 | V8: =SMALL(Q8:U8,COUNTIF(Q8:U8,0)+1) -> 88973 | W8: 자재 4 | X8: 천원
A9: 595314B982339B9658F6B930D4E54A95C0416B | B9: 덤프트럭 자동덮개시설 | C9: 15ton | D9: 대 | E9: 0 | G9: 0 | I9: 0 | K9: 0 | M9: 0 | O9: 0 | P9: 0 | Q9: 0 | R9: 0 | S9: 0 | T9: 0 | U9: 1604 | V9: =SMALL(Q9:U9,COUNTIF(Q9:U9,0)+1) -> 1604 | W9: 자재 5 | X9: 천원
A10: 595314B98233999B713E8DA015B1DC4AB9AA93 | B10: 크레인(타이어) | C10: 10ton | D10: 대 | E10: 0 | G10: 0 | I10: 0 | K10: 0 | M10: 0 | O10: 0 | P10: 0 | Q10: 0 | R10: 0 | S10: 0 | T10: 0 | U10: 134000 | V10: =SMALL(Q10:U10,COUNTIF(Q10:U10,0)+1) -> 134000 | W10: 자재 6 | X10: 천원
A11: 595314B98233999B713E8DA015B1D9F67A434A | B11: 크레인(타이어) | C11: 15ton | D11: 대 | E11: 0 | G11: 0 | I11: 0 | K11: 0 | M11: 0 | O11: 0 | P11: 0 | Q11: 0 | R11: 0 | S11: 0 | T11: 0 | U11: 182749 | V11: =SMALL(Q11:U11,COUNTIF(Q11:U11,0)+1) -> 182749 | W11: 자재 7 | X11: 천원
A12: 595314B98233999B713E9E1007063AA26D3ABD | B12: 트럭탑재형 크레인 | C12: 10ton | D12: 대 | E12: 0 | G12: 0 | I12: 0 | K12: 0 | M12: 0 | O12: 0 | P12: 0 | Q12: 0 | R12: 0 | S12: 0 | T12: 0 | U12: 86757 | V12: =SMALL(Q12:U12,COUNTIF(Q12:U12,0)+1) -> 86757 | W12: 자재 8 | X12: 천원
A13: 595314B98233999B18ABD4800C3A2355D78ED1 | B13: 트럭 트랙터 및 평판트레일러 | C13: 20ton | D13: 대 | E13: 0 | G13: 0 | I13: 0 | K13: 0 | M13: 0 | O13: 0 | P13: 0 | Q13: 0 | R13: 0 | S13: 0 | T13: 0 | U13: 65504 | V13: =SMALL(Q13:U13,COUNTIF(Q13:U13,0)+1) -> 65504 | W13: 자재 9 | X13: 천원
A14: 595314B982339F9DB1402A408CAFA63A697F98 | B14: 콘크리트 펌프차 | C14: 36m(80∼95㎥/hr) | D14: 대 | E14: 0 | G14: 0 | I14: 0 | K14: 0 | M14: 0 | O14: 0 | P14: 0 | Q14: 0 | R14: 0 | S14: 0 | T14: 0 | U14: 334167 | V14: =SMALL(Q14:U14,COUNTIF(Q14:U14,0)+1) -> 334167 | W14: 자재 10 | X14: 천원
A15: 5942B46F52D36296FBF2AAD01E76FC3654743A | B15: 자갈 | C15: (별도), 25mm, #57 | D15: M3 | E15: 0 | G15: 0 | I15: 0 | K15: 0 | M15: 0 | O15: 0 | P15: 0 | Q15: 0 | R15: 0 | S15: 0 | T15: 0 | U15: 0 | V15: 0 | W15: 자재 11 | X15: 별도
A16: 5942B46F52D36296FBF2AAD01E76FC365476E3 | B16: 쇄석자갈 | C16: 자갈, 현장도착도 | D16: M3 | E16: 0 | G16: 36000 | H16: 101 | I16: 29000 | J16: 101 | K16: 0 | M16: 0 | O16: =SMALL(E16:M16,COUNTIF(E16:M16,0)+1) -> 29000 | P16: 0 | Q16: 0 | R16: 0 | S16: 0 | T16: 0 | U16: 0 | V16: 0 | W16: 자재 12
A17: 5942B46F52D36296E977B0B0757B88F910EFB0 | B17: 모래 | C17: (별도) | D17: M3 | E17: 0 | G17: 0 | I17: 0 | K17: 0 | M17: 0 | O17: 0 | P17: 0 | Q17: 0 | R17: 0 | S17: 0 | T17: 0 | U17: 0 | V17: 0 | W17: 자재 13 | X17: 별도
A18: 5942B46F52D36296E977B0B0757B88F910EEA8 | B18: 모래 | C18: 모래, 현장도착도 | D18: M3 | E18: 0 | G18: 32000 | H18: 101 | I18: 31000 | J18: 61 | K18: 0 | M18: 0 | O18: =SMALL(E18:M18,COUNTIF(E18:M18,0)+1) -> 31000 | P18: 0 | Q18: 0 | R18: 0 | S18: 0 | T18: 0 | U18: 0 | V18: 0 | W18: 자재 14
A19: 5942B46F52E3089CDDB3B54067380C02AA3274 | B19: 내수합판 | C19: 내수합판, 1급, 12*1220*2440mm | D19: M2 | E19: 10934 | G19: 12093.52 | H19: 671 | I19: 10986.29 | J19: 407 | K19: 0 | M19: 0 | O19: =SMALL(E19:M19,COUNTIF(E19:M19,0)+1) -> 10934 | P19: 0 | Q19: 0 | R19: 0 | S19: 0 | T19: 0 | U19: 0 | V19: 0 | W19: 자재 15
A20: 5942B46F52532C9AF24CAB40D102BB32A51118 | B20: 철강설 | C20: 철강설, 고철, 작업설부산물 | D20: kg | E20: 0 | G20: 345 | H20: 1472 | I20: 0 | J20: 1198 | K20: 0 | M20: 0 | O20: =SMALL(E20:M20,COUNTIF(E20:M20,0)+1) -> 345 | P20: 0 | Q20: 0 | R20: 0 | S20: 0 | T20: 0 | U20: 0 | V20: 0 | W20: 자재 16 | X20: 수집상차도
A21: 5942B46F52532C9AF24CAB40D102BB32A51072 | B21: 철강설 | C21: 철강설, 스텐레스, 작업설부산물 | D21: kg | E21: 0 | G21: 1850 | H21: 1472 | I21: 0 | J21: 1198 | K21: 0 | M21: 0 | O21: =SMALL(E21:M21,COUNTIF(E21:M21,0)+1) -> 1850 | P21: 0 | Q21: 0 | R21: 0 | S21: 0 | T21: 0 | U21: 0 | V21: 0 | W21: 자재 17 | X21: 수집상차도
A22: 5942849BF2B32A9606270E507136D65AD18273 | B22: 감수제 | C22: 감수제, 혼화제, 메도로스1000 | D22: g | E22: 0 | G22: 0 | I22: 0 | K22: 0 | M22: 0 | O22: 0 | P22: 0 | Q22: 0 | R22: 0 | S22: 0 | T22: 0 | U22: 0 | V22: 0 | W22: 자재 18
A23: 5942849BF2B32A96EC0ACA00CB56441FF2F22B | B23: 침투성방수제 | C23: 침투성방수제, 규산질계 분말형 | D23: KG | E23: 0 | G23: 2800 | H23: 583 | I23: 0 | K23: 4694 | L23: 468 | M23: 0 | O23: =SMALL(E23:M23,COUNTIF(E23:M23,0)+1) -> 2800 | P23: 0 | Q23: 0 | R23: 0 | S23: 0 | T23: 0 | U23: 0 | V23: 0 | W23: 자재 19
A24: 5942849BF2B32A96EC982BF018E0C3AF183D59 | B24: 기타도막방수재 | C24: 기타도막방수재, 방수액고점도(1:50희석) | D24: L | E24: 0 | G24: 5363 | H24: 382 | I24: 0 | K24: 3752 | L24: 463 | M24: 0 | O24: =SMALL(E24:M24,COUNTIF(E24:M24,0)+1) -> 3752 | P24: 0 | Q24: 0 | R24: 0 | S24: 0 | T24: 0 | U24: 0 | V24: 0 | W24: 자재 20
A25: 594294A022330F98CAD3FF505F23E534DA5576 | B25: 폴리에틸렌필름 | C25: 폴리에틸렌필름, 두께, 0.03mm | D25: M2 | E25: 184 | G25: 183.91 | H25: 1460 | I25: 228.65 | J25: 1182 | K25: 0 | M25: 0 | O25: =SMALL(E25:M25,COUNTIF(E25:M25,0)+1) -> 183.91 | P25: 0 | Q25: 0 | R25: 0 | S25: 0 | T25: 0 | U25: 0 | V25: 0 | W25: 자재 21
A26: 5942F4C892F3B1977D6A856036015958B2A140 | B26: 경유 | C26: 경유, 저유황 | D26: L | E26: 0 | G26: 1576.36 | H26: 1451 | I26: 1346.36 | J26: 1189 | K26: 0 | M26: 0 | O26: =SMALL(E26:M26,COUNTIF(E26:M26,0)+1) -> 1346.36 | P26: 0 | Q26: 0 | R26: 0 | S26: 0 | T26: 0 | U26: 0 | V26: 0 | W26: 자재 22
A27: 597FC43A4283D69B53872FC07E6E7B018EC126 | B27: PVC용접봉 | C27: PVC용접봉, ∮2.6mm | D27: kg | E27: 5177 | G27: 5000 | H27: 1327 | I27: 0 | K27: 0 | M27: 0 | O27: =SMALL(E27:M27,COUNTIF(E27:M27,0)+1) -> 5000 | P27: 0 | Q27: 0 | R27: 0 | S27: 0 | T27: 0 | U27: 0 | V27: 0 | W27: 자재 23
A28: 597FB410D203BE9FCE3BD0F0BC376540907BE7 | B28: 안전발판(유공발판) | C28: 400*1829mm | D28: 매 | E28: 0 | G28: 18500 | H28: 169 | I28: 0 | K28: 18500 | L28: 106 | M28: 0 | O28: =SMALL(E28:M28,COUNTIF(E28:M28,0)+1) -> 18500 | P28: 0 | Q28: 0 | R28: 0 | S28: 0 | T28: 0 | U28: 0 | V28: 0 | W28: 자재 24
A29: 597F9465C2B3AB98DDAFEAF0EA56798190EA3F | B29: 내열전선 | C29: 내열전선, 내열전선, F-FR-3, 10C*1.78mm | D29: m | E29: 3171 | G29: 4043 | H29: 966 | I29: 3540 | J29: 867 | K29: 0 | M29: 0 | O29: =SMALL(E29:M29,COUNTIF(E29:M29,0)+1) -> 3171 | P29: 0 | Q29: 0 | R29: 0 | S29: 0 | T29: 0 | U29: 0 | V29: 0 | W29: 자재 25
A30: 596D84E2B2E3BB927CF5FE008F19F2A1BF1DAA | B30: ㄱ형강 | C30: ㄱ형강, 등변, 25*25*3mm | D30: kg | E30: 950 | G30: 970 | H30: 55 | I30: 1070 | J30: 21 | K30: 0 | M30: 0 | O30: =SMALL(E30:M30,COUNTIF(E30:M30,0)+1) -> 950 | P30: 0 | Q30: 0 | R30: 0 | S30: 0 | T30: 0 | U30: 0 | V30: 0 | W30: 자재 26
A31: 596D84E2B2E3BB927CF5FE008F19F2A0976C50 | B31: ㄱ형강 | C31: ㄱ형강, 부등변, 100*75*7mm, 대리점상차도 | D31: kg | E31: 0 | G31: 0 | I31: 1350 | J31: 21 | K31: 0 | M31: 0 | O31: =SMALL(E31:M31,COUNTIF(E31:M31,0)+1) -> 1350 | P31: 0 | Q31: 0 | R31: 0 | S31: 0 | T31: 0 | U31: 0 | V31: 0 | W31: 자재 27
A32: 596D84E2B2E3BB9247B59B805E08F3873EE562 | B32: 평강 | C32: 평강, t3*19∼50mm | D32: kg | E32: 0 | G32: 960 | H32: 52 | I32: 1030 | J32: 23 | K32: 0 | M32: 0 | O32: =SMALL(E32:M32,COUNTIF(E32:M32,0)+1) -> 960 | P32: 0 | Q32: 0 | R32: 0 | S32: 0 | T32: 0 | U32: 0 | V32: 0 | W32: 자재 28
A33: 596D84E2B2E3BB9247B59B805E08F3873EE561 | B33: 평강 | C33: 평강, t6*38∼75mm | D33: kg | E33: 0 | G33: 960 | H33: 52 | I33: 1030 | J33: 23 | K33: 0 | M33: 0 | O33: =SMALL(E33:M33,COUNTIF(E33:M33,0)+1) -> 960 | P33: 0 | Q33: 0 | R33: 0 | S33: 0 | T33: 0 | U33: 0 | V33: 0 | W33: 자재 29
A34: 596D84E2B2E3BB9247B59B805E08F3873B2D07 | B34: 평강 | C34: 평강, 50mm*t3, 4.5, 6, 9, 12, 16, 19, 대리점상차도 | D34: kg | E34: 0 | G34: 1020 | H34: 52 | I34: 1050 | J34: 23 | K34: 0 | M34: 0 | O34: =SMALL(E34:M34,COUNTIF(E34:M34,0)+1) -> 1020 | P34: 0 | Q34: 0 | R34: 0 | S34: 0 | T34: 0 | U34: 0 | V34: 0 | W34: 자재 30
A35: 596D84E2B2E3B896CD9FAC50FB346587EBC788 | B35: 일반구조용압연강판 | C35: 일반구조용압연강판, 5mm | D35: TON | E35: 1123500 | G35: 1123500 | H35: 63 | I35: 0 | K35: 0 | M35: 0 | O35: =SMALL(E35:M35,COUNTIF(E35:M35,0)+1) -> 1123500 | P35: 0 | Q35: 0 | R35: 0 | S35: 0 | T35: 0 | U35: 0 | V35: 0 | W35: 자재 31
A36: 596D84E2B2E3B896CD9FAC50FB346587EBC6E4 | B36: 일반구조용압연강판 | C36: 일반구조용압연강판, 1.6mm | D36: kg | E36: 896 | G36: 895.9 | H36: 63 | I36: 0 | K36: 0 | M36: 0 | O36: =SMALL(E36:M36,COUNTIF(E36:M36,0)+1) -> 895.9 | P36: 0 | Q36: 0 | R36: 0 | S36: 0 | T36: 0 | U36: 0 | V36: 0 | W36: 자재 32
A37: 596D84E2B2E3B896CD9FAC50FB346587EBC6E3 | B37: 일반구조용압연강판 | C37: 일반구조용압연강판, 2.3mm | D37: kg | E37: 0 | G37: 884 | H37: 63 | I37: 0 | K37: 0 | M37: 0 | O37: =SMALL(E37:M37,COUNTIF(E37:M37,0)+1) -> 884 | P37: 0 | Q37: 0 | R37: 0 | S37: 0 | T37: 0 | U37: 0 | V37: 0 | W37: 자재 33
A38: 596D84E2B2E3B896CD9FAC50FB3465888FFC91 | B38: 도장용융아연도강판 | C38: 도장용융아연도강판, 불소수지(일면), 1.20mm | D38: kg | E38: 0 | G38: 0 | I38: 1759.38 | J38: 29 | K38: 0 | M38: 0 | O38: =SMALL(E38:M38,COUNTIF(E38:M38,0)+1) -> 1759.38 | P38: 0 | Q38: 0 | R38: 0 | S38: 0 | T38: 0 | U38: 0 | V38: 0 | W38: 자재 34
A39: 596D84E2B2E3B896CD9FAC50FB3465888FFC90 | B39: 도장용융아연도강판 | C39: 도장용융아연도강판, 불소수지(일면), 1.60mm | D39: kg | E39: 0 | G39: 0 | I39: 1719.88 | J39: 29 | K39: 0 | M39: 0 | O39: =SMALL(E39:M39,COUNTIF(E39:M39,0)+1) -> 1719.88 | P39: 0 | Q39: 0 | R39: 0 | S39: 0 | T39: 0 | U39: 0 | V39: 0 | W39: 자재 35
A40: 596D84E2B2E3B896CD9FAC50FB3465888FF56A | B40: 합금화용융아연도금강판 | C40: 합금화용융아연도금강판, 갈바륨, 1.20mm | D40: kg | E40: 0 | G40: 1314 | H40: 66 | I40: 1670.2 | J40: 30 | K40: 0 | M40: 0 | O40: =SMALL(E40:M40,COUNTIF(E40:M40,0)+1) -> 1314 | P40: 0 | Q40: 0 | R40: 0 | S40: 0 | T40: 0 | U40: 0 | V40: 0 | W40: 자재 36
A41: 596D84E2B2E3B896CD9FAC50FB3465888FF45A | B41: 합금화용융아연도금강판 | C41: 합금화용융아연도금강판, 갈바륨, 1.60mm | D41: kg | E41: 0 | G41: 1299 | H41: 66 | I41: 0 | K41: 0 | M41: 0 | O41: =SMALL(E41:M41,COUNTIF(E41:M41,0)+1) -> 1299 | P41: 0 | Q41: 0 | R41: 0 | S41: 0 | T41: 0 | U41: 0 | V41: 0 | W41: 자재 37
A42: 596D84E2B2E3B896CD9FAC50F9092182527246 | B42: 갈바륨강판 | C42: 갈바륨강판, 1.50<t≤<1.60mm, 대리점상차도 | D42: kg | E42: 0 | G42: 1364.27 | H42: 66 | I42: 0 | K42: 0 | M42: 0 | O42: =SMALL(E42:M42,COUNTIF(E42:M42,0)+1) -> 1364.27 | P42: 0 | Q42: 0 | R42: 0 | S42: 0 | T42: 0 | U42: 0 | V42: 0 | W42: 자재 38
A43: 596D84E2B2E3B896CD9FBEF059DD2B6299DCE1 | B43: 스테인리스강판 | C43: 스테인리스강판, STS304, 1.2mm | D43: kg | E43: 3737 | G43: 3800 | H43: 73 | I43: 3787 | J43: 36 | K43: 0 | M43: 0 | O43: =SMALL(E43:M43,COUNTIF(E43:M43,0)+1) -> 3737 | P43: 0 | Q43: 0 | R43: 0 | S43: 0 | T43: 0 | U43: 0 | V43: 0 | W43: 자재 39
A44: 596D84E2B2E3B896CD9FBEF059DD2B6299DCE0 | B44: 스테인리스강판 | C44: 스테인리스강판, STS304, 1.5mm | D44: kg | E44: 3686 | G44: 3750 | H44: 73 | I44: 3737 | J44: 36 | K44: 0 | M44: 0 | O44: =SMALL(E44:M44,COUNTIF(E44:M44,0)+1) -> 3686 | P44: 0 | Q44: 0 | R44: 0 | S44: 0 | T44: 0 | U44: 0 | V44: 0 | W44: 자재 40
A45: 596D84E2B2E3B896CD8DD210DC0BDC4AF16396 | B45: 폴리염화비닐지수판 | C45: 폴리염화비닐지수판, 200*5mm | D45: M | E45: 3000 | G45: 3800 | H45: 375 | I45: 0 | K45: 0 | M45: 0 | O45: =SMALL(E45:M45,COUNTIF(E45:M45,0)+1) -> 3000 | P45: 0 | Q45: 0 | R45: 0 | S45: 0 | T45: 0 | U45: 0 | V45: 0 | W45: 자재 41
A46: 596D84E2B2E3B896B32B1760A5D8202D4C332F | B46: 아연도금 | D46: kg | E46: 0 | G46: 0 | I46: 0 | K46: 506 | L46: 16 | M46: 550 | O46: =SMALL(E46:M46,COUNTIF(E46:M46,0)+1) -> 506 | P46: 0 | Q46: 0 | R46: 0 | S46: 0 | T46: 0 | U46: 0 | V46: 0 | W46: 자재 42
A47: 596D84E2B2E3B9977A6071105D7FF875B859CD | B47: 스틸그레이팅 | C47: 상판용, I-25*5*3, 995*1000mm | D47: M2 | E47: 0 | G47: 94200 | H47: 238 | I47: 94200 | J47: 209 | K47: 0 | M47: 0 | O47: =SMALL(E47:M47,COUNTIF(E47:M47,0)+1) -> 94200 | P47: 0 | Q47: 0 | R47: 0 | S47: 0 | T47: 0 | U47: 0 | V47: 0 | W47: 자재 43 | X47: 공장상차도
A48: 596D84E2B2E3B9973C2513E0A86907793456A5 | B48: 각재 | C48: 각재, 외송 | D48: M3 | E48: 528205 | G48: 577844.31 | H48: 149 | I48: 571556.88 | J48: 73 | K48: 0 | M48: 0 | O48: =SMALL(E48:M48,COUNTIF(E48:M48,0)+1) -> 528205 | P48: 0 | Q48: 0 | R48: 0 | S48: 0 | T48: 0 | U48: 0 | V48: 0 | W48: 자재 44
A49: 596D84E2B2F3409C275FED80815D70EE0048BC | B49: 레미콘 【 도급자관급 】 | C49: 버림 25-18-120 | D49: M3 | E49: 0 | G49: 0 | I49: 0 | K49: 0 | M49: 0 | O49: 0 | P49: 0 | Q49: 0 | R49: 0 | S49: 0 | T49: 0 | U49: 0 | V49: 0 | W49: 자재 45
A50: 596D84E2B2F3409C275FED80815D70EE0048BE | B50: 레미콘 【 도급자관급 】 | C50: 누름 25-21-120 | D50: M3 | E50: 0 | G50: 0 | I50: 0 | K50: 0 | M50: 0 | O50: 0 | P50: 0 | Q50: 0 | R50: 0 | S50: 0 | T50: 0 | U50: 0 | V50: 0 | W50: 자재 46
A51: 596D84E2B2F3409C275FED80815D70EE0048B9 | B51: 레미콘 【 도급자관급 】 | C51: 구체 25-27-150 | D51: M3 | E51: 0 | G51: 0 | I51: 0 | K51: 0 | M51: 0 | O51: 0 | P51: 0 | Q51: 0 | R51: 0 | S51: 0 | T51: 0 | U51: 0 | V51: 0 | W51: 자재 47
A52: 596D84E2B2F3409C275FED80815D70EE0048BA | B52: 레미콘 【 도급자관급 】 | C52: 구체 25-30-150 | D52: M3 | E52: 0 | G52: 0 | I52: 0 | K52: 0 | M52: 0 | O52: 0 | P52: 0 | Q52: 0 | R52: 0 | S52: 0 | T52: 0 | U52: 0 | V52: 0 | W52: 자재 48
A53: 596D84E2B2F3409C275FED80815D70EE004944 | B53: 이형철근 【 도급자관급 】 | C53: SD400,HD10 | D53: TON | E53: 0 | G53: 0 | I53: 0 | K53: 0 | M53: 0 | O53: 0 | P53: 0 | Q53: 0 | R53: 0 | S53: 0 | T53: 0 | U53: 0 | V53: 0 | W53: 자재 49
A54: 596D84E2B2F3409C275FED80815D70EE004945 | B54: 이형철근 【 도급자관급 】 | C54: SD400,HD13 | D54: TON | E54: 0 | G54: 0 | I54: 0 | K54: 0 | M54: 0 | O54: 0 | P54: 0 | Q54: 0 | R54: 0 | S54: 0 | T54: 0 | U54: 0 | V54: 0 | W54: 자재 50
A55: 596D84E2B2F3409C275FED80815D70EE004946 | B55: 이형철근 【 도급자관급 】 | C55: SD400,HD16 | D55: TON | E55: 0 | G55: 0 | I55: 0 | K55: 0 | M55: 0 | O55: 0 | P55: 0 | Q55: 0 | R55: 0 | S55: 0 | T55: 0 | U55: 0 | V55: 0 | W55: 자재 51
A56: 596D84E2B2F3409C275FED80815D70EE004940 | B56: 이형철근 【 도급자관급 】 | C56: SD500,HD22 | D56: TON | E56: 0 | G56: 0 | I56: 0 | K56: 0 | M56: 0 | O56: 0 | P56: 0 | Q56: 0 | R56: 0 | S56: 0 | T56: 0 | U56: 0 | V56: 0 | W56: 자재 52
A57: 596D84E2B2F3409C275FED80815D70EE004941 | B57: 내진이형철근 【 도급자관급 】 | C57: SD500S,HD22 | D57: TON | E57: 0 | G57: 0 | I57: 0 | K57: 0 | M57: 0 | O57: 0 | P57: 0 | Q57: 0 | R57: 0 | S57: 0 | T57: 0 | U57: 0 | V57: 0 | W57: 자재 53
A58: 596D84E2B2F3409C275FED80815D70EE004942 | B58: 내진이형철근 【 도급자관급 】 | C58: SD500S,HD25 | D58: TON | E58: 0 | G58: 0 | I58: 0 | K58: 0 | M58: 0 | O58: 0 | P58: 0 | Q58: 0 | R58: 0 | S58: 0 | T58: 0 | U58: 0 | V58: 0 | W58: 자재 54
A59: 596D84E2B2F3409C275FED80815D70EF27505F | B59: 알루미늄창호 【 관급자관급 】 | D59: 식 | E59: 0 | G59: 0 | I59: 0 | K59: 0 | M59: 0 | O59: 0 | P59: 0 | Q59: 0 | R59: 0 | S59: 0 | T59: 0 | U59: 0 | V59: 0 | W59: 자재 55
A60: 596D84E2B2F3409C16E88EE0CBAC3D60966FD5 | B60: 시멘트 | C60: 시멘트(별도) | D60: kg | E60: 0 | G60: 0 | I60: 0 | K60: 0 | M60: 0 | O60: 0 | P60: 0 | Q60: 0 | R60: 0 | S60: 0 | T60: 0 | U60: 0 | V60: 0 | W60: 자재 56 | X60: 별도
A61: 596D84E2B2F3409C16E88EE0CBAC3D60966FD0 | B61: 시멘트 | C61: 대리점 40KG | D61: 포 | E61: 0 | G61: 6636 | H61: 102 | I61: 7272 | J61: 62 | K61: 0 | M61: 0 | O61: =SMALL(E61:M61,COUNTIF(E61:M61,0)+1) -> 6636 | P61: 0 | Q61: 0 | R61: 0 | S61: 0 | T61: 0 | U61: 0 | V61: 0 | W61: 자재 57
A62: 596D84E2B2F3409C16E88EE0CBAC3D663EA074 | B62: 특수시멘트 | C62: 특수시멘트, 백색시멘트 | D62: kg | E62: 0 | G62: 375 | H62: 102 | I62: 445.45 | J62: 62 | K62: 0 | M62: 0 | O62: =SMALL(E62:M62,COUNTIF(E62:M62,0)+1) -> 375 | P62: 0 | Q62: 0 | R62: 0 | S62: 0 | T62: 0 | U62: 0 | V62: 0 | W62: 자재 58
A63: 596D84E2B2F3409CFCDCCA10A815A506C9530B | B63: 용접철망 | C63: 용접철망, 와이어메시, #8-150*150 | D63: M2 | E63: 0 | G63: 2170 | H63: 99 | I63: 2101 | J63: 58 | K63: 0 | M63: 0 | O63: =SMALL(E63:M63,COUNTIF(E63:M63,0)+1) -> 2101 | P63: 0 | Q63: 0 | R63: 0 | S63: 0 | T63: 0 | U63: 0 | V63: 0 | W63: 자재 59
A64: 596D84E2B2C38D9208400DC0857EF33605A419 | B64: 토목용부직포 | C64: 토목용부직포, 부직포, 장섬유 | D64: M2 | E64: 0 | G64: 3400 | H64: 384 | I64: 0 | K64: 0 | M64: 0 | O64: =SMALL(E64:M64,COUNTIF(E64:M64,0)+1) -> 3400 | P64: 0 | Q64: 0 | R64: 0 | S64: 0 | T64: 0 | U64: 0 | V64: 0 | W64: 자재 60
A65: 596D84E2B2C38D9208401E705286162753EAFA | B65: 아연도금강선 | C65: ￠4 | D65: m | E65: 0 | G65: 0 | I65: 300 | J65: 363 | K65: 700 | L65: 437 | M65: 0 | O65: =SMALL(E65:M65,COUNTIF(E65:M65,0)+1) -> 300 | P65: 0 | Q65: 0 | R65: 0 | S65: 0 | T65: 0 | U65: 0 | V65: 0 | W65: 자재 61
A66: 596D84E2B2C38D9208401E705286162753EAFB | B66: L형앵커 | C66: 아연도180~200*25, 1.6t | D66: EA | E66: 0 | G66: 0 | I66: 0 | K66: 1000 | L66: 437 | M66: 0 | O66: =SMALL(E66:M66,COUNTIF(E66:M66,0)+1) -> 1000 | P66: 0 | Q66: 0 | R66: 0 | S66: 0 | T66: 0 | U66: 0 | V66: 0 | W66: 자재 62
A67: 596D84E2B2C38D9208401E705286162753EAFC | B67: 칼블럭 | C67: 6*110 | D67: EA | E67: 0 | G67: 0 | I67: 0 | K67: 150 | L67: 437 | M67: 0 | O67: =SMALL(E67:M67,COUNTIF(E67:M67,0)+1) -> 150 | P67: 0 | Q67: 0 | R67: 0 | S67: 0 | T67: 0 | U67: 0 | V67: 0 | W67: 자재 63
A68: 596D84E2B2C38D9208401E705286162753EE51 | B68: P.C 경량인방재-1.0B조적용 | C68: 80*190 | D68: M | E68: 0 | G68: 0 | I68: 0 | K68: 0 | M68: 28000 | O68: =SMALL(E68:M68,COUNTIF(E68:M68,0)+1) -> 28000 | P68: 0 | Q68: 0 | R68: 0 | S68: 0 | T68: 0 | U68: 0 | V68: 0 | W68: 자재 64
A69: 596D84E2B2C38D9208401E70528578C9E8286A | B69: 열교차단브래킷 | C69: ST-165, 265*300*1219 | D69: M | E69: 0 | G69: 142497 | H69: 건설적산437 | I69: 0 | K69: 0 | M69: 0 | O69: =SMALL(E69:M69,COUNTIF(E69:M69,0)+1) -> 142497 | P69: 0 | Q69: 0 | R69: 0 | S69: 0 | T69: 0 | U69: 0 | V69: 0 | W69: 자재 65
A70: 596D84E2B2D39296DDCED590EA33CB0ADCDC3F | B70: 미장벽돌 | C70: 미장벽돌, 190*90*57mm, 견출1종 - 별도 - | D70: 매 | E70: 0 | G70: 0 | I70: 0 | K70: 0 | M70: 0 | O70: 0 | P70: 0 | Q70: 0 | R70: 0 | S70: 0 | T70: 0 | U70: 0 | V70: 0 | W70: 자재 66 | X70: 별도
A71: 596D84E2B2D39296DDCED590EA33CB0ADF90ED | B71: 미장벽돌 | C71: 미장벽돌, 190*90*57mm | D71: 매 | E71: 0 | G71: 500 | H71: 545 | I71: 500 | J71: 361 | K71: 0 | M71: 0 | O71: =SMALL(E71:M71,COUNTIF(E71:M71,0)+1) -> 500 | P71: 0 | Q71: 0 | R71: 0 | S71: 0 | T71: 0 | U71: 0 | V71: 0 | W71: 자재 67
A72: 596D84E2B2D39296DDCECB5034E9B3F8761AB2 | B72: 콘크리트벽돌 | C72: 콘크리트벽돌, 190*57*90mm, C종2급 | D72: 매 | E72: 0 | G72: 95 | H72: 545 | I72: 95 | J72: 361 | K72: 0 | M72: 0 | O72: =SMALL(E72:M72,COUNTIF(E72:M72,0)+1) -> 95 | P72: 0 | Q72: 0 | R72: 0 | S72: 0 | T72: 0 | U72: 0 | V72: 0 | W72: 자재 68
A73: 596D84E2B2D39296DDCECB60DA036E6F19B114 | B73: 콘크리트벽돌 | C73: 콘크리트벽돌, 190*57*90mm, C종2급 | D73: 매 | E73: 0 | G73: 0 | I73: 0 | K73: 0 | M73: 0 | O73: 0 | P73: 0 | Q73: 0 | R73: 0 | S73: 0 | T73: 0 | U73: 0 | V73: 0 | W73: 자재 69 | X73: 별도
A74: 596D84E2B2D39296C364FEF04C60344D617128 | B74: 자연석판석 | C74: 자연석판석, 버너마감, 30mm, 포천석판재 | D74: M2 | E74: 0 | G74: 57000 | H74: 560 | I74: 57000 | J74: 368 | K74: 0 | M74: 0 | O74: =SMALL(E74:M74,COUNTIF(E74:M74,0)+1) -> 57000 | P74: 0 | Q74: 0 | R74: 0 | S74: 0 | T74: 0 | U74: 0 | V74: 0 | W74: 자재 70
A75: 596D84E2B2D39296C364FEF04C60344D606BDD | B75: 자연석판석 | C75: 자연석판석, 물갈기, 30mm, 마천석판재 | D75: M2 | E75: 0 | G75: 151500 | H75: 560 | I75: 0 | K75: 0 | M75: 0 | O75: =SMALL(E75:M75,COUNTIF(E75:M75,0)+1) -> 151500 | P75: 0 | Q75: 0 | R75: 0 | S75: 0 | T75: 0 | U75: 0 | V75: 0 | W75: 자재 71
A76: 596D84E2B2D39296C364FEF04D000C4A5913FE | B76: 자연석판석 | C76: 자연석판석, 버너마감, 50mm, 포천석판재 | D76: M2 | E76: 0 | G76: 88500 | H76: 560 | I76: 88500 | J76: 368 | K76: 0 | M76: 0 | O76: =SMALL(E76:M76,COUNTIF(E76:M76,0)+1) -> 88500 | P76: 0 | Q76: 0 | R76: 0 | S76: 0 | T76: 0 | U76: 0 | V76: 0 | W76: 자재 72
A77: 596D84E2B2D39296C364FEF04E2E433683CC39 | B77: 자연석판석 | C77: 통석, 120*70 포천석(버너) | D77: M | E77: 0 | G77: 0 | I77: 0 | K77: 0 | M77: 18000 | O77: =SMALL(E77:M77,COUNTIF(E77:M77,0)+1) -> 18000 | P77: 0 | Q77: 0 | R77: 0 | S77: 0 | T77: 0 | U77: 0 | V77: 0 | W77: 자재 73
A78: 596D84E2B2D39296C364FEF04E2E4336807440 | B78: 인조대리석 | C78: 20t | D78: M2 | E78: 0 | G78: 0 | I78: 0 | K78: 124000 | L78: 455 | M78: 0 | O78: =SMALL(E78:M78,COUNTIF(E78:M78,0)+1) -> 124000 | P78: 0 | Q78: 0 | R78: 0 | S78: 0 | T78: 0 | U78: 0 | V78: 0 | W78: 자재 74
A79: 596D84E2B2D39296C3649470B08C0FAB65E3DA | B79: 도기질타일 | C79: 도기질타일, 일반색, 300*600*10mm | D79: M2 | E79: 15000 | G79: 19000 | H79: 565 | I79: 15000 | J79: 373 | K79: 0 | M79: 0 | O79: =SMALL(E79:M79,COUNTIF(E79:M79,0)+1) -> 15000 | P79: 0 | Q79: 0 | R79: 0 | S79: 0 | T79: 0 | U79: 0 | V79: 0 | W79: 자재 75
A80: 596D84E2B2D39296C3649470B2B7B7F2021CF0 | B80: 자기질타일 | C80: 자기질타일, 시유, 300*300*8mm | D80: M2 | E80: 12000 | G80: 18000 | H80: 565 | I80: 0 | K80: 0 | M80: 0 | O80: =SMALL(E80:M80,COUNTIF(E80:M80,0)+1) -> 12000 | P80: 0 | Q80: 0 | R80: 0 | S80: 0 | T80: 0 | U80: 0 | V80: 0 | W80: 자재 76
A81: 596D84E2B2A3DE9A14D488D0DF5B1FCE83D547 | B81: 섬유단열재 | C81: 섬유단열재, 밀도24kg/㎥, 50mm, 유리면보드 | D81: M2 | E81: 0 | G81: 4280 | H81: 696 | I81: 4320 | J81: 391 | K81: 0 | M81: 0 | O81: =SMALL(E81:M81,COUNTIF(E81:M81,0)+1) -> 4280 | P81: 0 | Q81: 0 | R81: 0 | S81: 0 | T81: 0 | U81: 0 | V81: 0 | W81: 자재 77
A82: 596D84E2B2A3DE9A14D488D0DF5B1FCE83D669 | B82: 섬유단열재 | C82: 섬유단열재, 밀도48kg/㎥, 75mm, 유리면보드 | D82: M2 | E82: 10974 | G82: 12840 | H82: 696 | I82: 12960 | J82: 391 | K82: 0 | M82: 0 | O82: =SMALL(E82:M82,COUNTIF(E82:M82,0)+1) -> 10974 | P82: 0 | Q82: 0 | R82: 0 | S82: 0 | T82: 0 | U82: 0 | V82: 0 | W82: 자재 78
A83: 596D84E2B2A3DE9A14CBD4005C3191BB83EC9A | B83: 심재 페놀폼 단열재 | C83: PF보드, 준불연심재, 1mm | D83: M3 | E83: 0 | G83: 300 | H83: 701 | I83: 420 | J83: 397 | K83: 420 | L83: 663 | M83: 0 | O83: =SMALL(E83:M83,COUNTIF(E83:M83,0)+1) -> 300 | P83: 0 | Q83: 0 | R83: 0 | S83: 0 | T83: 0 | U83: 0 | V83: 0 | W83: 자재 79
A84: 596D84E2B2A3DE9A14CBCBE00830750FE3A9BE | B84: 압출발포폴리스티렌단열재(가등급) | C84: 압출법, 0.03, 1mm | D84: M2 | E84: 132.4 | G84: 185.1 | H84: 698 | I84: 132.4 | J84: 394 | K84: 0 | M84: 0 | O84: =SMALL(E84:M84,COUNTIF(E84:M84,0)+1) -> 132.4 | P84: 0 | Q84: 0 | R84: 0 | S84: 0 | T84: 0 | U84: 0 | V84: 0 | W84: 자재 80
A85: 596D84E2B2A3DE9A14CBCBE00830750FE1FFB8 | B85: 경질 우레탄폼 단열재 | C85: 2종2호,1mm | D85: M2 | E85: 0 | G85: 220 | H85: 703 | I85: 235 | J85: 396 | K85: 0 | M85: 0 | O85: =SMALL(E85:M85,COUNTIF(E85:M85,0)+1) -> 220 | P85: 0 | Q85: 0 | R85: 0 | S85: 0 | T85: 0 | U85: 0 | V85: 0 | W85: 자재 81
A86: 596D84E2B2B3E79466216DD066CBD01B287D7F | B86: 방수층 보호재 | C86: 5mm | D86: M2 | E86: 0 | G86: 0 | I86: 3510 | J86: 395 | K86: 0 | M86: 0 | O86: =SMALL(E86:M86,COUNTIF(E86:M86,0)+1) -> 3510 | P86: 0 | Q86: 0 | R86: 0 | S86: 0 | T86: 0 | U86: 0 | V86: 0 | W86: 자재 82
A87: 596D84E2B2B3E79455B26370CCFB3196B91650 | B87: 루프드레인 | C87: 루프드레인, ISRD1610, 150mm | D87: 개 | E87: 201281 | G87: 0 | I87: 0 | K87: 0 | M87: 0 | O87: =SMALL(E87:M87,COUNTIF(E87:M87,0)+1) -> 201281 | P87: 0 | Q87: 0 | R87: 0 | S87: 0 | T87: 0 | U87: 0 | V87: 0 | W87: 자재 83
A88: 596D84E2B2B3E79455B26370CCFB3196B9177D | B88: 루프드레인 | C88: 루프드레인, L형, ISRD8570, 150mm | D88: 개 | E88: 207786 | G88: 0 | I88: 0 | K88: 0 | M88: 0 | O88: =SMALL(E88:M88,COUNTIF(E88:M88,0)+1) -> 207786 | P88: 0 | Q88: 0 | R88: 0 | S88: 0 | T88: 0 | U88: 0 | V88: 0 | W88: 자재 84
A89: 596D84E2B2B3E794BE30B2F0134E805231F34C | B89: 코너비드 | C89: 코너비드, SUS 타일코너, 10mm | D89: M | E89: 0 | G89: 0 | I89: 0 | K89: 2708 | L89: 579 | M89: 0 | O89: =SMALL(E89:M89,COUNTIF(E89:M89,0)+1) -> 2708 | P89: 0 | Q89: 0 | R89: 0 | S89: 0 | T89: 0 | U89: 0 | V89: 0 | W89: 자재 85
A90: 596D84E2B283109570DABE609667286C88C439 | B90: 석고보드 | C90: 석고보드, 평보드, 9.5*900*1800mm(㎡) | D90: M2 | E90: 2902 | G90: 2901.23 | H90: 675 | I90: 3177.77 | J90: 408 | K90: 0 | M90: 0 | O90: =SMALL(E90:M90,COUNTIF(E90:M90,0)+1) -> 2901.23 | P90: 0 | Q90: 0 | R90: 0 | S90: 0 | T90: 0 | U90: 0 | V90: 0 | W90: 자재 86
A91: 596D84E2B283109570DABE609667286C88C5D2 | B91: 석고보드 | C91: 석고보드, 평보드, 12.5*900*1800mm(㎡) | D91: M2 | E91: 3891 | G91: 4012.34 | H91: 675 | I91: 4318.51 | J91: 408 | K91: 0 | M91: 0 | O91: =SMALL(E91:M91,COUNTIF(E91:M91,0)+1) -> 3891 | P91: 0 | Q91: 0 | R91: 0 | S91: 0 | T91: 0 | U91: 0 | V91: 0 | W91: 자재 87
A92: 596D84E2B283109570DABE50F085B89C0E70F5 | B92: CRC 보드 | C92: 9mm | D92: M2 | E92: 0 | G92: 10987 | H92: 658 | I92: 0 | K92: 0 | M92: 0 | O92: =SMALL(E92:M92,COUNTIF(E92:M92,0)+1) -> 10987 | P92: 0 | Q92: 0 | R92: 0 | S92: 0 | T92: 0 | U92: 0 | V92: 0 | W92: 자재 88
A93: 596D84E2B28310954B961F707B5CA48627D7F3 | B93: 불연천장재 | C93: 불연천장재, MCD-900, T-Bar용, 15*603*603mm | D93: M2 | E93: 15700 | G93: 17300 | H93: 679 | I93: 0 | K93: 0 | M93: 0 | O93: =SMALL(E93:M93,COUNTIF(E93:M93,0)+1) -> 15700 | P93: 0 | Q93: 0 | R93: 0 | S93: 0 | T93: 0 | U93: 0 | V93: 0 | W93: 자재 89
A94: 596D84E2B28310954B961F7079AECDDCA5EBF5 | B94: 금속천장재 / 방풍실,외부 | C94: 내진CLIP-BAR + 평판600*600*0.4T(외풍압용), 현장설치도 | D94: M2 | E94: 0 | G94: 0 | I94: 0 | K94: 58000 | L94: 692 | M94: 0 | O94: =SMALL(E94:M94,COUNTIF(E94:M94,0)+1) -> 58000 | P94: 0 | Q94: 0 | R94: 0 | S94: 0 | T94: 0 | U94: 0 | V94: 0 | W94: 자재 90
A95: 596D84E2B28310954B961F7079AECDDCA68A26 | B95: 알루미늄 마이너스 몰딩 | D95: M | E95: 0 | G95: 0 | I95: 0 | K95: 0 | M95: 5720 | O95: =SMALL(E95:M95,COUNTIF(E95:M95,0)+1) -> 5720 | P95: 0 | Q95: 0 | R95: 0 | S95: 0 | T95: 0 | U95: 0 | V95: 0 | W95: 자재 91
A96: 596D84E2B28310954B9671C0454334AD0B13 | B96: C-RUNNER | C96: 102*40*0.8t | D96: M | E96: 0 | G96: 3340 | H96: 661 | I96: 3340 | J96: 420 | K96: 3340 | L96: 543 | M96: 0 | O96: =SMALL(E96:M96,COUNTIF(E96:M96,0)+1) -> 3340 | P96: 0 | Q96: 0 | R96: 0 | S96: 0 | T96: 0 | U96: 0 | V96: 0 | W96: 자재 92
A97: 596D84E2B28310954B9671C0454334AC64A9 | B97: METAL STUD | C97: 100*45*0.8t | D97: M | E97: 0 | G97: 3930 | H97: 661 | I97: 3930 | J97: 420 | K97: 3930 | L97: 543 | M97: 0 | O97: =SMALL(E97:M97,COUNTIF(E97:M97,0)+1) -> 3930 | P97: 0 | Q97: 0 | R97: 0 | S97: 0 | T97: 0 | U97: 0 | V97: 0 | W97: 자재 93
A98: 596D84E2B2831095540324C007DB74DA5B4DA8 | B98: 비닐타일 | C98: 비닐타일, 3.0*450*450mm, 갤런트타일 | D98: M2 | E98: 22200 | G98: 22200 | H98: 710 | I98: 0 | K98: 0 | M98: 0 | O98: =SMALL(E98:M98,COUNTIF(E98:M98,0)+1) -> 22200 | P98: 0 | Q98: 0 | R98: 0 | S98: 0 | T98: 0 | U98: 0 | V98: 0 | W98: 자재 94
A99: 596D84E2B2831095BE83A400D3500AEEC11845 | B99: 세라믹논슬립(일반형). | C99: 앵글논슬립,W=50*23 | D99: M | E99: 0 | G99: 0 | I99: 0 | K99: 16000 | L99: 617 | M99: 0 | O99: =SMALL(E99:M99,COUNTIF(E99:M99,0)+1) -> 16000 | P99: 0 | Q99: 0 | R99: 0 | S99: 0 | T99: 0 | U99: 0 | V99: 0 | W99: 자재 95
A100: 596D84E2B2933992C96E7890F5B01B95543D5E | B100: 손보호용강화유리문 | C100: 900*2100*12T,투명 | D100: EA | E100: 0 | G100: 0 | I100: 280000 | J100: 450 | K100: 0 | M100: 0 | O100: =SMALL(E100:M100,COUNTIF(E100:M100,0)+1) -> 280000 | P100: 25000 | Q100: 0 | R100: 0 | S100: 0 | T100: 0 | U100: 0 | V100: 0 | W100: 자재 96
...

Sheet  공사설정 
A1: 이 Sheet는 수정하지 마십시요
A2: 공사구분 | B2: A | C2: 타이틀
A3: 확정내역 | B3: 원내역
A4: 자재단가적용 | B4: 5
A5: 경비단가적용 | B5: 5
A6: 품목코드형식 | B6: XXXX-XXXX-XXXXXXXXX
A7: 내역금액소수점처리 | B7: C | C7: T
A8: 일위대가내역소수점처리 | B8: C | C8: 2
A9: 단가명 | B9: 조달청가격 | C9: 거래가격 | D9: 유통물가 | E9: 물가자료 | F9: 조사가격 | G9: TTTTT
A10: 환율 | B10: 1402 | C10: 0 | D10: 0
A11: 시간당작업량 | B11: R | C11: 4
A12: 1회 사이클시간 | B12: R | C12: 4
A13: 시간당 작업사이클 | B13: R | C13: 3
A14: 일반변수 | B14: R | C14: 5
A15: 시간당 노임산출 계수 | B15: A | C15: 1/8*16/12*25/20 | D15: 1/8*16/12*25/20 | E15: 1/8*16/12*25/20 | F15: 1
A16: 재료비 할증 계수 | B16: 1.11 | C16: 1.12
A17: 노무비 할증 계수 | B17: 1 | C17: 1.5 | D17: 1.16 | E17: 1.6 | F17: 1.6 | G17: 1.6 | H17: 1.94 | I17: 1.94 | J17: 1.94 | K17: 1 | L17: 1 | M17: 1
A18: 경비 할증 계수 | B18: 1.25 | C18: 1.071
A19: 내역,일위대가 품명,규격,단위 따로적용
A20: 내역단가 소수점처리 | B20: C | C20: 1
A21: 코드 | B21: 공종구분명 | C21: 원가비목코드
A22: 1 | B22: 작 업 부 산 물 | C22: A3
A23: 2 | B23: 운 반 비 | C23: C1
A24: 3 | B24: 도급자설치관급 | C24: DK
A25: 4 | B25: 관급자설치관급 | C25: DL
A26: 5 | B26: 품 질 관 리 비 | C26: C3
A27: 6 | B27: 안 전 관 리 비 | C27: C9
A28: 7 | B28: 작업부산물(철거 | C28: D4
A29: 8 | B29: 건설폐기물처리비 | C29: D7
A30: 9 | B30: ...
A43: 단가 순서 | B43: 1234

Sheet Sheet1
