Workbook

Sheet 원가계산서(총괄)
B1: 공 사 원 가 계 산 서
B2: 공사명 : 김천시 농촌신활력플러스 신축공사
B3: 비 목 | E3: 건축+토목+기계 | N3: 합계 | O3: 구 성 비 | P3: 비 고
A4: A1 | B4: 순 공 사 원 가 | C4: 재 료 비 | D4: 직 접 재 료 비 | E4: =원가계산서!I4 -> 637702991 | N4: =SUM(E4:H4) -> 637702991 | R4: =#REF!+#REF!+#REF! -> #REF! | S4: =E4-R4 -> #REF!
A5: A2 | D5: 간 접 재 료 비 | E5: =원가계산서!I5 -> 0 | N5: =E5+J5+F5+G5+H5 -> 0 | R5: =#REF!+#REF!+#REF! -> #REF! | S5: =E5-R5 -> #REF!
A6: A3 | D6: 작업설, 부산물(△) | E6: =원가계산서!I6 -> 0 | N6: =E6+J6+F6+G6+H6 -> 0 | R6: =#REF!+#REF!+#REF! -> #REF! | S6: =E6-R6 -> #REF!
A7: AS | D7: [ 소 계 ] | E7: =원가계산서!I7 -> 637702991 | N7: =SUM(E7:H7) -> 637702991 | R7: =#REF!+#REF!+#REF! -> #REF! | S7: =E7-R7 -> #REF!
A8: B1 | C8: 노 무 비 | D8: 직 접 노 무 비 | E8: =원가계산서!I8 -> 537125953 | N8: =SUM(E8:H8) -> 537125953 | R8: =#REF!+#REF!+#REF! -> #REF! | S8: =E8-R8 -> #REF!
A9: B2 | D9: 간 접 노 무 비 | E9: =원가계산서!I9 -> 80031765 | N9: =SUM(E9:H9) -> 80031765 | O9: 직접노무비 * 14.9% | R9: =#REF!+#REF!+#REF! -> #REF! | S9: =E9-R9 -> #REF!
A10: BS | D10: [ 소 계 ] | E10: =원가계산서!I10 -> 617157718 | N10: =SUM(E10:H10) -> 617157718 | R10: =#REF!+#REF!+#REF! -> #REF! | S10: =E10-R10 -> #REF!
A11: C2 | C11: 경 비 | D11: 경 비 | E11: =원가계산서!I11 -> 24852287 | N11: =SUM(E11:H11) -> 24852287 | R11: =#REF!+#REF!+#REF! -> #REF! | S11: =E11-R11 -> #REF!
A12: C3 | D12: 품 질 관 리 비 | E12: =원가계산서!I12 -> 1801524 | N12: =SUM(E12:H12) -> 1801524 | R12: =#REF!+#REF!+#REF! -> #REF! | S12: =E12-R12 -> #REF!
A13: C9 | D13: 안 전 관 리 비 | E13: =원가계산서!I13 -> 9650000 | N13: =SUM(E13:H13) -> 9650000 | R13: =#REF!+#REF!+#REF! -> #REF! | S13: =E13-R13 -> #REF!
A14: C4 | D14: 산 재 보 험 료 | E14: =원가계산서!I14 -> 21970814 | N14: =SUM(E14:H14) -> 21970814 | O14: 노무비 * 3.56% | R14: =#REF!+#REF!+#REF! -> #REF! | S14: =E14-R14 -> #REF!
A15: C5 | D15: 고 용 보 험 료 | E15: =원가계산서!I15 -> 6233291 | N15: =SUM(E15:H15) -> 6233291 | O15: 노무비 * 1.01% | R15: =#REF!+#REF!+#REF! -> #REF! | S15: =E15-R15 -> #REF!
A16: C6 | D16: 국민 건강 보험료 | E16: =원가계산서!I16 -> 19041114 | N16: =SUM(E16:H16) -> 19041114 | O16: 직접노무비 * 3.545% | R16: =#REF!+#REF!+#REF! -> #REF! | S16: =E16-R16 -> #REF!
A17: C7 | D17: 국민 연금 보험료 | E17: =원가계산서!I17 -> 24170666 | N17: =SUM(E17:H17) -> 24170666 | O17: 직접노무비 * 4.5% | R17: =#REF!+#REF!+#REF! -> #REF! | S17: =E17-R17 -> #REF!
A18: CB | D18: 노인장기요양보험료 | E18: =원가계산서!I18 -> 2465822 | N18: =SUM(E18:H18) -> 2465822 | O18: 건강보험료 * 12.95% | R18: =#REF!+#REF!+#REF! -> #REF! | S18: =E18-R18 -> #REF!
A19: C8 | D19: 퇴직 공제 부금비 | E19: =원가계산서!I19 -> 12353896 | N19: =SUM(E19:H19) -> 12353896 | O19: 직접노무비 * 2.3% | R19: =#REF!+#REF!+#REF! -> #REF! | S19: =E19-R19 -> #REF!
A20: CC | D20: 산업안전보건관리비 | E20: =원가계산서!I20 -> 32236062 | N20: =SUM(E20:H20) -> 32236062 | O20: (재료비+직노+도급자관급/1.1) * 2.28% + 4,325천원 | R20: =#REF!+#REF!+#REF! -> #REF! | S20: =E20-R20 -> #REF!
A21: CE | D21: 산업안전보건관리비 | E21: =원가계산서!I21 -> 37333319 | N21: =SUM(E21:H21) -> 37333319 | O21: [(재료비+직노) * 2.28% + 4,325천원]x1.2배 | P21: 제외(작은금액 적용) | R21: =#REF!+#REF!+#REF! -> #REF! | S21: =E21-R21 -> #REF!
A22: CG | D22: 기 타 경 비 | E22: =원가계산서!I22 -> 60233313 | N22: =SUM(E22:H22) -> 60233313 | O22: (재료비+노무비) * 4.8% | R22: =#REF!+#REF!+#REF! -> #REF! | S22: =E22-R22 -> #REF!
A23: CH | D23: 환 경 보 전 비 | E23: =원가계산서!I23 -> 5998405 | N23: =SUM(E23:H23) -> 5998405 | O23: (재료비+직노+경비) * 0.5% | R23: =#REF!+#REF!+#REF! -> #REF! | S23: =E23-R23 -> #REF!
A24: CK | D24: 하도급지급보증수수료 | E24: =원가계산서!I24 -> 971740 | N24: =SUM(E24:H24) -> 971740 | O24: (재료비+직노+경비) * 0.081% | R24: =#REF!+#REF!+#REF! -> #REF! | S24: =E24-R24 -> #REF!
A25: CL | D25: 건설기계대여금지급보증서발급수수료 | E25: =원가계산서!I25 -> 839776 | N25: =SUM(E25:H25) -> 839776 | O25: (재료비+직노+경비) * 0.07% | R25: =#REF!+#REF!+#REF! -> #REF! | S25: =E25-R25 -> #REF!
A26: CS | D26: [ 소 계 ] | E26: =원가계산서!I26 -> 222818710 | N26: =SUM(E26:H26) -> 222818710 | R26: =#REF!+#REF!+#REF! -> #REF! | S26: =E26-R26 -> #REF!
A27: S1 | B27: 계 | E27: =원가계산서!I27 -> 1477679419 | N27: =SUM(E27:H27) -> 1477679419 | R27: =#REF!+#REF!+#REF! -> #REF! | S27: =E27-R27 -> #REF!
A28: D1 | B28: 일 반 관 리 비 | E28: =원가계산서!I28 -> 88660764 | N28: =SUM(E28:H28) -> 88660764 | O28: 계 * 6% | R28: =#REF!+#REF!+#REF! -> #REF! | S28: =E28-R28 -> #REF!
A29: D2 | B29: 이 윤 | E29: =원가계산서!I29 -> 139290336 | N29: =SUM(E29:H29) -> 139290336 | O29: (노무비+경비+일반관리비) * 15% | R29: =#REF!+#REF!+#REF! -> #REF! | S29: =E29-R29 -> #REF!
A30: D2 | B30: 작업부산물(철거공사) | N30: =SUM(E30:H30) -> 0 | O30: (노무비+경비+일반관리비) * 15% | R30: =#REF!+#REF!+#REF! -> #REF! | S30: =E30-R30 -> #REF!
A31: D2 | B31: 폐기물상차비 | N31: =SUM(E31:H31) -> 0 | O31: (노무비+경비+일반관리비) * 15% | R31: =#REF!+#REF!+#REF! -> #REF! | S31: =E31-R31 -> #REF!
A32: D2 | B32: 폐기물처리비및운반 | N32: =SUM(E32:M32) -> 0 | O32: (노무비+경비+일반관리비) * 15% | R32: =#REF!+#REF!+#REF! -> #REF! | S32: =E32-R32 -> #REF!
A33: D9 | B33: 공 급 가 액 | E33: =원가계산서!I30 -> 1705630519 | N33: =SUM(E33:M33) -> 1705630519 | R33: =#REF!+#REF!+#REF! -> #REF! | S33: =E33-R33 -> #REF!
A34: D9 | B34: 배상책임공제료 | N34: =SUM(E34:H34) -> 0 | R34: =#REF!+#REF!+#REF! -> #REF! | S34: =E34-R34 -> #REF!
A35: DB | B35: 부 가 가 치 세 | E35: =원가계산서!I31 -> 170563051 | N35: =SUM(E35:M35) -> 170563051 | O35: 공급가액 * 10% | R35: =#REF!+#REF!+#REF! -> #REF! | S35: =E35-R35 -> #REF!
A36: DH | B36: 도 급 액 | E36: =원가계산서!I32 -> 1876193570 | N36: =SUM(E36:M36) -> 1876193570 | R36: =#REF!+#REF!+#REF! -> #REF! | S36: =E36-R36 -> #REF!
A37: DK | B37: 도급자설치관급 | E37: =원가계산서!I33 -> 54567628 | N37: =SUM(E37:M37) -> 54567628 | R37: =#REF!+#REF!+#REF! -> #REF! | S37: =E37-R37 -> #REF!
A38: DL | B38: 관급자설치관급 | E38: =원가계산서!I34 -> 74239000 | N38: =SUM(E38:M38) -> 74239000 | R38: =#REF!+#REF!+#REF! -> #REF! | S38: =E38-R38 -> #REF!
A39: DL | B39: 각종분담금 | E39: =원가계산서!I35 -> 5700000 | N39: =SUM(E39:M39) -> 5700000 | P39: 합계제외(기타부대비) | R39: =#REF!+#REF!+#REF! -> #REF! | S39: =E39-R39 -> #REF!
A40: S2 | B40: 총 공 사 비 | E40: =SUM(E36:E39)-E39 -> 2005000198 | N40: =SUM(E40:M40) -> 2005000198 | R40: =#REF!+#REF!+#REF! -> #REF! | S40: =E40-R40 -> #REF!

Sheet 원가계산서
B1: 공 사 원 가 계 산 서
B2: 공사명 : 김천시 농촌신활력플러스 신축공사
B3: 비 목 | E3: 건축 | G3: 토목 | H3: 기계 | I3: 합계 | J3: 구 성 비 | K3: 비 고
A4: A1 | B4: 순 공 사 원 가 | C4: 재 료 비 | D4: 직 접 재 료 비 | E4: =공종별집계표!F6 -> 432536963 | G4: =공종별집계표!F28 -> 73226981 | H4: =공종별집계표!F31 -> 131939047 | I4: =+E4+G4+H4 -> 637702991 | M4: =E4+G4+H4 -> 637702991 | N4: =I4-M4 -> 0
A5: A2 | D5: 간 접 재 료 비 | E5: 0 | G5: 0 | H5: 0 | I5: =+E5+G5+H5 -> 0 | M5: =E5+G5+H5 -> 0 | N5: =I5-M5 -> 0
A6: A3 | D6: 작업설, 부산물(△) | E6: 0 | G6: 0 | H6: 0 | I6: =+E6+G6+H6 -> 0 | M6: =E6+G6+H6 -> 0 | N6: =I6-M6 -> 0
A7: AS | D7: [ 소 계 ] | E7: =TRUNC(E4+E5-E6, 0) -> 432536963 | G7: =TRUNC(G4+G5-G6, 0) -> 73226981 | H7: =TRUNC(H4+H5-H6, 0) -> 131939047 | I7: =+E7+G7+H7 -> 637702991 | M7: =E7+G7+H7 -> 637702991 | N7: =I7-M7 -> 0
A8: B1 | C8: 노 무 비 | D8: 직 접 노 무 비 | E8: =공종별집계표!H6 -> 456036394 | G8: =공종별집계표!H28 -> 44013929 | H8: =공종별집계표!H31 -> 37075630 | I8: =+E8+G8+H8 -> 537125953 | M8: =E8+G8+H8 -> 537125953 | N8: =I8-M8 -> 0
A9: B2 | D9: 간 접 노 무 비 | E9: =TRUNC(E8*0.149, 0) -> 67949422 | G9: =TRUNC(G8*0.149, 0) -> 6558075 | H9: =TRUNC(H8*0.149, 0) -> 5524268 | I9: =+E9+G9+H9 -> 80031765 | J9: 직접노무비 * 14.9% | M9: =E9+G9+H9 -> 80031765 | N9: =I9-M9 -> 0
A10: BS | D10: [ 소 계 ] | E10: =TRUNC(E8+E9, 0) -> 523985816 | G10: =TRUNC(G8+G9, 0) -> 50572004 | H10: =TRUNC(H8+H9, 0) -> 42599898 | I10: =+E10+G10+H10 -> 617157718 | M10: =E10+G10+H10 -> 617157718 | N10: =I10-M10 -> 0
A11: C2 | C11: 경 비 | D11: 경 비 | E11: =공종별집계표!J6 -> 20939865 | G11: =공종별집계표!J28 -> 3912422 | I11: =+E11+G11+H11 -> 24852287 | M11: =E11+G11+H11 -> 24852287 | N11: =I11-M11 -> 0
A12: C3 | D12: 품 질 관 리 비 | E12: =공종별집계표!L24 -> 1801524 | I12: =+E12+G12+H12 -> 1801524 | M12: =E12+G12+H12 -> 1801524 | N12: =I12-M12 -> 0
A13: C9 | D13: 안 전 관 리 비 | E13: =공종별집계표!L25 -> 9650000 | I13: =+E13+G13+H13 -> 9650000 | M13: =E13+G13+H13 -> 9650000 | N13: =I13-M13 -> 0
A14: C4 | D14: 산 재 보 험 료 | E14: =TRUNC(E10*0.0356, 0) -> 18653895 | G14: =TRUNC(G10*0.0356, 0) -> 1800363 | H14: =TRUNC(H10*0.0356, 0) -> 1516556 | I14: =+E14+G14+H14 -> 21970814 | J14: 노무비 * 3.56% | M14: =E14+G14+H14 -> 21970814 | N14: =I14-M14 -> 0
A15: C5 | D15: 고 용 보 험 료 | E15: =TRUNC(E10*0.0101, 0) -> 5292256 | G15: =TRUNC(G10*0.0101, 0) -> 510777 | H15: =TRUNC(H10*0.0101, 0) -> 430258 | I15: =+E15+G15+H15 -> 6233291 | J15: 노무비 * 1.01% | M15: =E15+G15+H15 -> 6233291 | N15: =I15-M15 -> 0
A16: C6 | D16: 국민 건강 보험료 | E16: =TRUNC(E8*0.03545, 0) -> 16166490 | G16: =TRUNC(G8*0.03545, 0) -> 1560293 | H16: =TRUNC(H8*0.03545, 0) -> 1314331 | I16: =+E16+G16+H16 -> 19041114 | J16: 직접노무비 * 3.545% | M16: =E16+G16+H16 -> 19041114 | N16: =I16-M16 -> 0
A17: C7 | D17: 국민 연금 보험료 | E17: =TRUNC(E8*0.045, 0) -> 20521637 | G17: =TRUNC(G8*0.045, 0) -> 1980626 | H17: =TRUNC(H8*0.045, 0) -> 1668403 | I17: =+E17+G17+H17 -> 24170666 | J17: 직접노무비 * 4.5% | M17: =E17+G17+H17 -> 24170666 | N17: =I17-M17 -> 0
A18: CB | D18: 노인장기요양보험료 | E18: =TRUNC(E16*0.1295, 0) -> 2093560 | G18: =TRUNC(G16*0.1295, 0) -> 202057 | H18: =TRUNC(H16*0.1295, 0) -> 170205 | I18: =+E18+G18+H18 -> 2465822 | J18: 건강보험료 * 12.95% | M18: =E18+G18+H18 -> 2465822 | N18: =I18-M18 -> 0
A19: C8 | D19: 퇴직 공제 부금비 | E19: =TRUNC(E8*0.023, 0) -> 10488837 | G19: =TRUNC(G8*0.023, 0) -> 1012320 | H19: =TRUNC(H8*0.023, 0) -> 852739 | I19: =+E19+G19+H19 -> 12353896 | J19: 직접노무비 * 2.3% | M19: =E19+G19+H19 -> 12353896 | N19: =I19-M19 -> 0
A20: CC | D20: 산업안전보건관리비 | E20: =TRUNC((E7+E8+(E33/1.1/1.0054))*0.0228+4325000, 0) -> 25334679 | G20: =TRUNC((G7+G8+(G33/1.1/1.0054))*0.0228, 0) -> 3047849 | H20: =TRUNC((H7+H8+(H33/1.1/1.0054))*0.0228, 0) -> 3853534 | I20: =+E20+G20+H20 -> 32236062 | J20: (재료비+직노+도급자관급/1.1) * 2.28% + 4,325천원 | K20: 도급자관급 조달수수료제외금액 | M20: =E20+G20+H20 -> 32236062 | N20: =I20-M20 -> 0
A21: CE | D21: 산업안전보건관리비 | E21: =TRUNC(((E7+E8)*0.0228+4325000)*1.2, 0) -> 29501367 | G21: =TRUNC(((G7+G8)*0.0228)*1.2, 0) -> 3207711 | H21: =TRUNC(((H7+H8)*0.0228)*1.2, 0) -> 4624241 | I21: =+E21+G21+H21 -> 37333319 | J21: [(재료비+직노) * 2.28% + 4,325천원]x1.2배 | K21: 제외 | M21: =E21+G21+H21 -> 37333319 | N21: =I21-M21 -> 0
A22: CG | D22: 기 타 경 비 | E22: =TRUNC((E7+E10)*0.048, 0) -> 45913093 | G22: =TRUNC((G7+G10)*0.048, 0) -> 5942351 | H22: =TRUNC((H7+H10)*0.048, 0) -> 8377869 | I22: =+E22+G22+H22 -> 60233313 | J22: (재료비+노무비) * 4.8% | M22: =E22+G22+H22 -> 60233313 | N22: =I22-M22 -> 0
A23: CH | D23: 환 경 보 전 비 | E23: =TRUNC((E7+E8+E11)*0.005, 0) -> 4547566 | G23: =TRUNC((G7+G8+G11)*0.005, 0) -> 605766 | H23: =TRUNC((H7+H8+H11)*0.005, 0) -> 845073 | I23: =+E23+G23+H23 -> 5998405 | J23: (재료비+직노+경비) * 0.5% | M23: =E23+G23+H23 -> 5998405 | N23: =I23-M23 -> 0
A24: CK | D24: 하도급지급보증수수료 | E24: =TRUNC((E7+E8+E11)*0.00081, 0) -> 736705 | G24: =TRUNC((G7+G8+G11)*0.00081, 0) -> 98134 | H24: =TRUNC((H7+H8+H11)*0.00081, 0) -> 136901 | I24: =+E24+G24+H24 -> 971740 | J24: (재료비+직노+경비) * 0.081% | K24: 최저가대상공사 | M24: =E24+G24+H24 -> 971740 | N24: =I24-M24 -> 0
A25: CL | D25: 건설기계대여금지급보증서발급수수료 | E25: =TRUNC((E7+E8+E11)*0.0007, 0) -> 636659 | G25: =TRUNC((G7+G8+G11)*0.0007, 0) -> 84807 | H25: =TRUNC((H7+H8+H11)*0.0007, 0) -> 118310 | I25: =+E25+G25+H25 -> 839776 | J25: (재료비+직노+경비) * 0.07% | M25: =E25+G25+H25 -> 839776 | N25: =I25-M25 -> 0
A26: CS | D26: [ 소 계 ] | E26: =TRUNC(E11+E12+E14+E15+E16+E17+E19+E13+E18+E20+E22+E23+E24+E25, 0) -> 182776766 | G26: =TRUNC(G11+G12+G14+G15+G16+G17+G19+G13+G18+G20+G22+G23+G24+G25, 0) -> 20757765 | H26: =TRUNC(H11+H12+H14+H15+H16+H17+H19+H13+H18+H20+H22+H23+H24+H25, 0) -> 19284179 | I26: =+E26+G26+H26 -> 222818710 | M26: =E26+G26+H26 -> 222818710 | N26: =I26-M26 -> 0
A27: S1 | B27: 계 | E27: =TRUNC(E7+E10+E26, 0) -> 1139299545 | G27: =TRUNC(G7+G10+G26, 0) -> 144556750 | H27: =TRUNC(H7+H10+H26, 0) -> 193823124 | I27: =+E27+G27+H27 -> 1477679419 | M27: =E27+G27+H27 -> 1477679419 | N27: =I27-M27 -> 0
A28: D1 | B28: 일 반 관 리 비 | E28: =TRUNC(E27*0.06, 0) -> 68357972 | G28: =TRUNC(G27*0.06, 0) -> 8673405 | H28: =TRUNC(H27*0.06, 0) -> 11629387 | I28: =+E28+G28+H28 -> 88660764 | J28: 계 * 6% | M28: =E28+G28+H28 -> 88660764 | N28: =I28-M28 -> 0
A29: D2 | B29: 이 윤 | E29: =TRUNC((E10+E26+E28)*0.15-3386/1.1, 0) -> 116265004 | G29: =TRUNC((G10+G26+G28)*0.15-905/1.1, 0) -> 11999653 | H29: =TRUNC((H10+H26+H28)*0.15-1474/1.1, 0) -> 11025679 | I29: =+E29+G29+H29 -> 139290336 | J29: (노무비+경비+일반관리비) * 15% | M29: =E29+G29+H29 -> 139290336 | N29: =I29-M29 -> 0
A30: D9 | B30: 공 급 가 액 | E30: =TRUNC(E27+E28+E29, 0) -> 1323922521 | G30: =TRUNC(G27+G28+G29, 0) -> 165229808 | H30: =TRUNC(H27+H28+H29, 0) -> 216478190 | I30: =+E30+G30+H30 -> 1705630519 | L30: 낙찰률 | M30: =E30+G30+H30 -> 1705630519 | N30: =I30-M30 -> 0 | O30: 0.87529
A31: DB | B31: 부 가 가 치 세 | E31: =TRUNC(E30*0.1, 0) -> 132392252 | G31: =TRUNC(G30*0.1, 0) -> 16522980 | H31: =TRUNC(H30*0.1, 0) -> 21647819 | I31: =+E31+G31+H31 -> 170563051 | J31: 공급가액 * 10% | L31: 재산정시 | M31: =E31+G31+H31 -> 170563051 | N31: =I31-M31 -> 0 | O31: =1/O30 -> 1.1424785
A32: DH | B32: 도 급 액 | E32: =TRUNC(E30+E31, 0) -> 1456314773 | G32: =TRUNC(G30+G31, 0) -> 181752788 | H32: =TRUNC(H30+H31, 0) -> 238126009 | I32: =+E32+G32+H32 -> 1876193570 | M32: =E32+G32+H32 -> 1876193570 | N32: =I32-M32 -> 0
A33: DK | B33: 도급자설치관급 | E33: =공종별집계표!L26 -> 36389628 | G33: =공종별집계표!L30 -> 18178000 | I33: =+E33+G33+H33 -> 54567628 | M33: =E33+G33+H33 -> 54567628 | N33: =I33-M33 -> 0
A34: DL | B34: 관급자설치관급 | E34: =공종별집계표!L27 -> 67395000 | H34: =공종별집계표!L33 -> 6844000 | I34: =+E34+G34+H34 -> 74239000 | M34: =E34+G34+H34 -> 74239000 | N34: =I34-M34 -> 0
A35: DL | B35: 각종분담금 | H35: 5700000 | I35: =+E35+G35+H35 -> 5700000 | K35: 합계제외(기타부대비) | M35: =E35+G35+H35 -> 5700000 | N35: =I35-M35 -> 0
A36: S2 | B36: 총 공 사 비 | E36: =TRUNC(E32+0+E33+E34, 0) -> 1560099401 | G36: =TRUNC(G32+0+G33+G34, 0) -> 199930788 | H36: =SUM(H32:H35) -> 250670009 | I36: =+E36+G36+H36 -> 2010700198 | M36: =E36+G36+H36 -> 2010700198 | N36: =I36-M36 -> 0

Sheet 공종별집계표
A1: 공 종 별 집 계 표
A2: [ 김천시 농촌신활력플러스 신축공사 ]
A3: 품 명 | B3: 규 격 | C3: 단위 | D3: 수량 | E3: 재 료 비 | G3: 노 무 비 | I3: 경 비 | K3: 합 계 | M3: 비 고 | N3: 공종코드 | O3: 변수 | P3: 상위공종 | Q3: 공종구분 | R3: 공종레벨 | S3: 공종소계 | T3: 원가계산서 연결금액
E4: 단 가 | F4: 금 액 | G4: 단 가 | H4: 금 액 | I4: 단 가 | J4: 금 액 | K4: 단 가 | L4: 금 액
A5: 01 김천시 농촌신활력플러스 신축공사 | D5: 1 | E5: =F6+F28+F31 -> 637702991 | F5: =E5*D5 -> 637702991 | G5: =H6+H28+H31 -> 537125953 | H5: =G5*D5 -> 537125953 | I5: =J6+J28+J31 -> 24852287 | J5: =I5*D5 -> 24852287 | K5: =E5+G5+I5 -> 1199681231 | L5: =F5+H5+J5 -> 1199681231 | N5: 01 | R5: 1
A6: 0101 ■ 건축공사 | D6: 1 | E6: =F7+F8+F9+F10+F11+F12+F13+F14+F15+F16+F17+F18+F19+F20+F21+F22+F23 -> 432536963 | F6: =E6*D6 -> 432536963 | G6: =H7+H8+H9+H10+H11+H12+H13+H14+H15+H16+H17+H18+H19+H20+H21+H22+H23 -> 456036394 | H6: =G6*D6 -> 456036394 | I6: =J7+J8+J9+J10+J11+J12+J13+J14+J15+J16+J17+J18+J19+J20+J21+J22+J23 -> 20939865 | J6: =I6*D6 -> 20939865 | K6: =E6+G6+I6 -> 909513222 | L6: =F6+H6+J6 -> 909513222 | N6: 0101 | P6: 01 | R6: 2
A7: 010101 공통 가설 공사 | D7: 1 | E7: =공종별내역서!F29 -> 0 | F7: =E7*D7 -> 0 | G7: =공종별내역서!H29 -> 0 | H7: =G7*D7 -> 0 | I7: =공종별내역서!J29 -> 3773689 | J7: =I7*D7 -> 3773689 | K7: =E7+G7+I7 -> 3773689 | L7: =F7+H7+J7 -> 3773689 | N7: 010101 | P7: 0101 | R7: 3
A8: 010102 가 설 공 사 | D8: 1 | E8: =공종별내역서!F55 -> 17072196 | F8: =E8*D8 -> 17072196 | G8: =공종별내역서!H55 -> 90357379 | H8: =G8*D8 -> 90357379 | I8: =공종별내역서!J55 -> 1550636 | J8: =I8*D8 -> 1550636 | K8: =E8+G8+I8 -> 108980211 | L8: =F8+H8+J8 -> 108980211 | N8: 010102 | P8: 0101 | R8: 3
A9: 010103 토공및기초공사 | D9: 1 | E9: =공종별내역서!F81 -> 0 | F9: =E9*D9 -> 0 | G9: =공종별내역서!H81 -> 0 | H9: =G9*D9 -> 0 | I9: =공종별내역서!J81 -> 0 | J9: =I9*D9 -> 0 | K9: =E9+G9+I9 -> 0 | L9: =F9+H9+J9 -> 0 | N9: 010103 | P9: 0101 | R9: 3
A10: 010104 철근콘크리트공사 | D10: 1 | E10: =공종별내역서!F133 -> 61083178 | F10: =E10*D10 -> 61083178 | G10: =공종별내역서!H133 -> 115242204 | H10: =G10*D10 -> 115242204 | I10: =공종별내역서!J133 -> 4968785 | J10: =I10*D10 -> 4968785 | K10: =E10+G10+I10 -> 181294167 | L10: =F10+H10+J10 -> 181294167 | N10: 010104 | P10: 0101 | R10: 3
A11: 010105 조 적 공 사 | D11: 1 | E11: =공종별내역서!F159 -> 52606346 | F11: =E11*D11 -> 52606346 | G11: =공종별내역서!H159 -> 58933790 | H11: =G11*D11 -> 58933790 | I11: =공종별내역서!J159 -> 2324918 | J11: =I11*D11 -> 2324918 | K11: =E11+G11+I11 -> 113865054 | L11: =F11+H11+J11 -> 113865054 | N11: 010105 | P11: 0101 | R11: 3
A12: 010106 방 수 공 사 | D12: 1 | E12: =공종별내역서!F185 -> 8149703 | F12: =E12*D12 -> 8149703 | G12: =공종별내역서!H185 -> 9021435 | H12: =G12*D12 -> 9021435 | I12: =공종별내역서!J185 -> 118040 | J12: =I12*D12 -> 118040 | K12: =E12+G12+I12 -> 17289178 | L12: =F12+H12+J12 -> 17289178 | N12: 010106 | P12: 0101 | R12: 3
A13: 010107 타 일 공 사 | D13: 1 | E13: =공종별내역서!F211 -> 4098556 | F13: =E13*D13 -> 4098556 | G13: =공종별내역서!H211 -> 11113841 | H13: =G13*D13 -> 11113841 | I13: =공종별내역서!J211 -> 275792 | J13: =I13*D13 -> 275792 | K13: =E13+G13+I13 -> 15488189 | L13: =F13+H13+J13 -> 15488189 | N13: 010107 | P13: 0101 | R13: 3
A14: 010108 석 공 사 | D14: 1 | E14: =공종별내역서!F237 -> 3666506 | F14: =E14*D14 -> 3666506 | G14: =공종별내역서!H237 -> 5367625 | H14: =G14*D14 -> 5367625 | I14: =공종별내역서!J237 -> 36142 | J14: =I14*D14 -> 36142 | K14: =E14+G14+I14 -> 9070273 | L14: =F14+H14+J14 -> 9070273 | N14: 010108 | P14: 0101 | R14: 3
A15: 010109 금 속 공 사 | D15: 1 | E15: =공종별내역서!F263 -> 52393147 | F15: =E15*D15 -> 52393147 | G15: =공종별내역서!H263 -> 57302116 | H15: =G15*D15 -> 57302116 | I15: =공종별내역서!J263 -> 4873135 | J15: =I15*D15 -> 4873135 | K15: =E15+G15+I15 -> 114568398 | L15: =F15+H15+J15 -> 114568398 | N15: 010109 | P15: 0101 | R15: 3
A16: 010110 미 장 공 사 | D16: 1 | E16: =공종별내역서!F289 -> 0 | F16: =E16*D16 -> 0 | G16: =공종별내역서!H289 -> 10513300 | H16: =G16*D16 -> 10513300 | I16: =공종별내역서!J289 -> 161325 | J16: =I16*D16 -> 161325 | K16: =E16+G16+I16 -> 10674625 | L16: =F16+H16+J16 -> 10674625 | N16: 010110 | P16: 0101 | R16: 3
A17: 010111 창 호 공 사 | D17: 1 | E17: =공종별내역서!F341 -> 29959450 | F17: =E17*D17 -> 29959450 | G17: =공종별내역서!H341 -> 9269773 | H17: =G17*D17 -> 9269773 | I17: =공종별내역서!J341 -> 63130 | J17: =I17*D17 -> 63130 | K17: =E17+G17+I17 -> 39292353 | L17: =F17+H17+J17 -> 39292353 | N17: 010111 | P17: 0101 | R17: 3
A18: 010112 유 리 공 사 | D18: 1 | E18: =공종별내역서!F367 -> 27250657 | F18: =E18*D18 -> 27250657 | G18: =공종별내역서!H367 -> 13218930 | H18: =G18*D18 -> 13218930 | I18: =공종별내역서!J367 -> 3888 | J18: =I18*D18 -> 3888 | K18: =E18+G18+I18 -> 40473475 | L18: =F18+H18+J18 -> 40473475 | N18: 010112 | P18: 0101 | R18: 3
A19: 010113 도 장 공 사 | D19: 1 | E19: =공종별내역서!F393 -> 55038848 | F19: =E19*D19 -> 55038848 | G19: =공종별내역서!H393 -> 31693449 | H19: =G19*D19 -> 31693449 | I19: =공종별내역서!J393 -> 0 | J19: =I19*D19 -> 0 | K19: =E19+G19+I19 -> 86732297 | L19: =F19+H19+J19 -> 86732297 | N19: 010113 | P19: 0101 | R19: 3
A20: 010114 수 장 공 사 | D20: 1 | E20: =공종별내역서!F419 -> 54187682 | F20: =E20*D20 -> 54187682 | G20: =공종별내역서!H419 -> 35886536 | H20: =G20*D20 -> 35886536 | I20: =공종별내역서!J419 -> 395624 | J20: =I20*D20 -> 395624 | K20: =E20+G20+I20 -> 90469842 | L20: =F20+H20+J20 -> 90469842 | N20: 010114 | P20: 0101 | R20: 3
A21: 010115 기 타 공 사 | D21: 1 | E21: =공종별내역서!F445 -> 42682162 | F21: =E21*D21 -> 42682162 | G21: =공종별내역서!H445 -> 533384 | H21: =G21*D21 -> 533384 | I21: =공종별내역서!J445 -> 2686 | J21: =I21*D21 -> 2686 | K21: =E21+G21+I21 -> 43218232 | L21: =F21+H21+J21 -> 43218232 | N21: 010115 | P21: 0101 | R21: 3
A22: 010116 오수처리시설 | D22: 1 | E22: =공종별내역서!F471 -> 18650000 | F22: =E22*D22 -> 18650000 | G22: =공종별내역서!H471 -> 7582632 | H22: =G22*D22 -> 7582632 | I22: =공종별내역서!J471 -> 1600000 | J22: =I22*D22 -> 1600000 | K22: =E22+G22+I22 -> 27832632 | L22: =F22+H22+J22 -> 27832632 | N22: 010116 | P22: 0101 | R22: 3
A23: 010117 골재대및운반비 | D23: 1 | E23: =공종별내역서!F497 -> 5698532 | F23: =E23*D23 -> 5698532 | G23: =공종별내역서!H497 -> 0 | H23: =G23*D23 -> 0 | I23: =공종별내역서!J497 -> 792075 | J23: =I23*D23 -> 792075 | K23: =E23+G23+I23 -> 6490607 | L23: =F23+H23+J23 -> 6490607 | N23: 010117 | P23: 0101 | R23: 3
A24: 010118 >> 품 질 관 리 비 | B24: 별도집계 | D24: 1 | E24: =공종별내역서!F523 -> 0 | F24: =E24*D24 -> 0 | G24: =공종별내역서!H523 -> 0 | H24: =G24*D24 -> 0 | I24: =공종별내역서!J523 -> 1801524 | J24: =I24*D24 -> 1801524 | K24: =E24+G24+I24 -> 1801524 | L24: =F24+H24+J24 -> 1801524 | N24: 010118 | Q24: 5 | R24: 3 | T24: =L24*1 -> 1801524
A25: 010119 >> 안 전 관 리 비 | B25: 별도집계 | D25: 1 | E25: =공종별내역서!F549 -> 0 | F25: =E25*D25 -> 0 | G25: =공종별내역서!H549 -> 0 | H25: =G25*D25 -> 0 | I25: =공종별내역서!J549 -> 9650000 | J25: =I25*D25 -> 9650000 | K25: =E25+G25+I25 -> 9650000 | L25: =F25+H25+J25 -> 9650000 | N25: 010119 | Q25: 6 | R25: 3 | T25: =L25*1 -> 9650000
A26: 010120 >> 도급자설치관급 | B26: 별도집계 | D26: 1 | E26: =공종별내역서!F575 -> 36389628 | F26: =E26*D26 -> 36389628 | G26: =공종별내역서!H575 -> 0 | H26: =G26*D26 -> 0 | I26: =공종별내역서!J575 -> 0 | J26: =I26*D26 -> 0 | K26: =E26+G26+I26 -> 36389628 | L26: =F26+H26+J26 -> 36389628 | N26: 010120 | Q26: 3 | R26: 3 | T26: =L26*1 -> 36389628
A27: 010121 >> 관급자설치관급 | B27: 별도집계 | D27: 1 | E27: =공종별내역서!F601 -> 67395000 | F27: =E27*D27 -> 67395000 | G27: =공종별내역서!H601 -> 0 | H27: =G27*D27 -> 0 | I27: =공종별내역서!J601 -> 0 | J27: =I27*D27 -> 0 | K27: =E27+G27+I27 -> 67395000 | L27: =F27+H27+J27 -> 67395000 | N27: 010121 | Q27: 4 | R27: 3 | T27: =L27*1 -> 67395000
A28: 0102 ■ 토목공사 | D28: 1 | E28: =F29 -> 73226981 | F28: =E28*D28 -> 73226981 | G28: =H29 -> 44013929 | H28: =G28*D28 -> 44013929 | I28: =J29 -> 3912422 | J28: =I28*D28 -> 3912422 | K28: =E28+G28+I28 -> 121153332 | L28: =F28+H28+J28 -> 121153332 | N28: 0102 | P28: 01 | R28: 2
A29: 010201 순공사비 | D29: 1 | E29: =공종별내역서!F627 -> 73226981 | F29: =E29*D29 -> 73226981 | G29: =공종별내역서!H627 -> 44013929 | H29: =G29*D29 -> 44013929 | I29: =공종별내역서!J627 -> 3912422 | J29: =I29*D29 -> 3912422 | K29: =E29+G29+I29 -> 121153332 | L29: =F29+H29+J29 -> 121153332 | N29: 010201 | P29: 0102 | R29: 3
A30: 010202 >> 도급자설치관급 | B30: 별도집계 | D30: 1 | E30: =공종별내역서!F653 -> 18178000 | F30: =E30*D30 -> 18178000 | G30: =공종별내역서!H653 -> 0 | H30: =G30*D30 -> 0 | I30: =공종별내역서!J653 -> 0 | J30: =I30*D30 -> 0 | K30: =E30+G30+I30 -> 18178000 | L30: =F30+H30+J30 -> 18178000 | N30: 010202 | Q30: 3 | R30: 3 | T30: =L30*1 -> 18178000
A31: 0103 ■ 기계공사 | D31: 1 | E31: =F32 -> 131939047 | F31: =E31*D31 -> 131939047 | G31: =H32 -> 37075630 | H31: =G31*D31 -> 37075630 | I31: =J32 -> 0 | J31: =I31*D31 -> 0 | K31: =E31+G31+I31 -> 169014677 | L31: =F31+H31+J31 -> 169014677 | N31: 0103 | P31: 01 | R31: 2
A32: 010301 순공사비 | D32: 1 | E32: =공종별내역서!F679 -> 131939047 | F32: =E32*D32 -> 131939047 | G32: =공종별내역서!H679 -> 37075630 | H32: =G32*D32 -> 37075630 | I32: =공종별내역서!J679 -> 0 | J32: =I32*D32 -> 0 | K32: =E32+G32+I32 -> 169014677 | L32: =F32+H32+J32 -> 169014677 | N32: 010301 | P32: 0103 | R32: 3
A33: 010302 >> 관급자설치관급 | B33: 별도집계 | D33: 1 | E33: =공종별내역서!F705 -> 6844000 | F33: =E33*D33 -> 6844000 | G33: =공종별내역서!H705 -> 0 | H33: =G33*D33 -> 0 | I33: =공종별내역서!J705 -> 0 | J33: =I33*D33 -> 0 | K33: =E33+G33+I33 -> 6844000 | L33: =F33+H33+J33 -> 6844000 | N33: 010302 | Q33: 4 | R33: 3 | T33: =L33*1 -> 6844000
A52: [ 합 계 ] | F52: =F5 -> 637702991 | H52: =H5 -> 537125953 | J52: =J5 -> 24852287 | L52: =L5 -> 1199681231

Sheet 공종별내역서
A1: [ 김천시 농촌신활력플러스 신축공사 ]
A2: 품 명 | B2: 규 격 | C2: 단위 | D2: 수량 | E2: 재 료 비 | G2: 노 무 비 | I2: 경 비 | K2: 합 계 | M2: 비 고 | N2: 품목코드 | O2: 변수 | P2: 설정 | Q2: 공종코드 | R2: 일위 | S2: 단산 | T2: 자재 | U2: 손료적용 | V2: 손료저장 | W2: 적용율 | X2: JUK1 | Y2: JUK2 | Z2: JUK3 | AA2: JUK4 | AB2: JUK5 | AC2: JUK6 | AD2: JUK7 | AE2: JUK8 | AF2: JUK9 | AG2: JUK10 | AH2: JUK11 | AI2: JUK12 | AJ2: JUK13 | AK2: JUK14 | AL2: JUK15 | AM2: JUK16 | AN2: JUK17 | AO2: JUK18 | AP2: JUK19 | AQ2: JUK20 | AR2: 자재구분 | AS2: 공종구분 | AT2: 공종레벨 | AU2: 공종+자재 | AV2: 고유번호
E3: 단 가 | F3: 금 액 | G3: 단 가 | H3: 금 액 | I3: 단 가 | J3: 금 액 | K3: 단 가 | L3: 금 액
A4: 010101 공통 가설 공사 | Q4: 010101
A5: 콘테이너형 가설사무소 설치 및 해체 | B5: 3.0*6.0m, 12개월 | C5: 개소 | D5: 0.5 | E5: =TRUNC(일위대가목록!E4,0) -> 0 | F5: =TRUNC(E5*D5, 0) -> 0 | G5: =TRUNC(일위대가목록!F4,0) -> 0 | H5: =TRUNC(G5*D5, 0) -> 0 | I5: =TRUNC(일위대가목록!G4,0) -> 1482710 | J5: =TRUNC(I5*D5, 0) -> 741355 | K5: =TRUNC(E5+G5+I5, 0) -> 1482710 | L5: =TRUNC(F5+H5+J5, 0) -> 741355 | M5: 호표 1 | N5: 5E4774EA62E3DC978997176034C319 | Q5: 010101 | R5: T | S5: F | T5: F | AU5: 0101015E4774EA62E3DC978997176034C319 | AV5: 15
A6: 콘테이너형 가설창고 설치 및 해체 | B6: 3.0*6.0m, 12개월 | C6: 개소 | D6: 0.5 | E6: =TRUNC(일위대가목록!E5,0) -> 0 | F6: =TRUNC(E6*D6, 0) -> 0 | G6: =TRUNC(일위대가목록!F5,0) -> 0 | H6: =TRUNC(G6*D6, 0) -> 0 | I6: =TRUNC(일위대가목록!G5,0) -> 1337142 | J6: =TRUNC(I6*D6, 0) -> 668571 | K6: =TRUNC(E6+G6+I6, 0) -> 1337142 | L6: =TRUNC(F6+H6+J6, 0) -> 668571 | M6: 호표 2 | N6: 5E4774EA62E3DF9338A6B920CE9100 | Q6: 010101 | R6: T | S6: F | T6: F | AU6: 0101015E4774EA62E3DF9338A6B920CE9100 | AV6: 16
A7: 조립식가설울타리/E.G.I철판 | B7: H=3.0, 12개월 | C7: M | D7: 14 | E7: =TRUNC(일위대가목록!E6,0) -> 0 | F7: =TRUNC(E7*D7, 0) -> 0 | G7: =TRUNC(일위대가목록!F6,0) -> 0 | H7: =TRUNC(G7*D7, 0) -> 0 | I7: =TRUNC(일위대가목록!G6,0) -> 29727 | J7: =TRUNC(I7*D7, 0) -> 416178 | K7: =TRUNC(E7+G7+I7, 0) -> 29727 | L7: =TRUNC(F7+H7+J7, 0) -> 416178 | M7: 호표 3 | N7: 5E4774E9424379917BA44DF066A848 | Q7: 010101 | R7: T | S7: F | T7: F | AU7: 0101015E4774E9424379917BA44DF066A848 | AV7: 4
A8: 조립식가설대문손료(홀딩도어) | B8: 8000*5500,12개월 | C8: 개소 | D8: 0.5 | E8: =TRUNC(일위대가목록!E7,0) -> 0 | F8: =TRUNC(E8*D8, 0) -> 0 | G8: =TRUNC(일위대가목록!F7,0) -> 0 | H8: =TRUNC(G8*D8, 0) -> 0 | I8: =TRUNC(일위대가목록!G7,0) -> 2993998 | J8: =TRUNC(I8*D8, 0) -> 1496999 | K8: =TRUNC(E8+G8+I8, 0) -> 2993998 | L8: =TRUNC(F8+H8+J8, 0) -> 1496999 | M8: 호표 4 | N8: 5E4774EC1283D89509C25BA0F64926 | Q8: 010101 | R8: T | S8: F | T8: F | AU8: 0101015E4774EC1283D89509C25BA0F64926 | AV8: 18
A9: 공사용 가설전기설치 | B9: 분전반+강재전선관+배선 | C9: 개소 | D9: 0 | E9: =TRUNC(일위대가목록!E8,0) -> 0 | F9: =TRUNC(E9*D9, 0) -> 0 | G9: =TRUNC(일위대가목록!F8,0) -> 0 | H9: =TRUNC(G9*D9, 0) -> 0 | I9: =TRUNC(일위대가목록!G8,0) -> 524919 | J9: =TRUNC(I9*D9, 0) -> 0 | K9: =TRUNC(E9+G9+I9, 0) -> 524919 | L9: =TRUNC(F9+H9+J9, 0) -> 0 | M9: 호표 5 | N9: 5E4774EC1283DA901CF22FE0AA0910 | Q9: 010101 | R9: T | S9: F | T9: F | AU9: 0101015E4774EC1283DA901CF22FE0AA0910 | AV9: 565
A10: 공사용 가설수도설치 | B10: 수도용배관+수도밸브 | C10: 개소 | D10: 1 | E10: =TRUNC(일위대가목록!E9,0) -> 0 | F10: =TRUNC(E10*D10, 0) -> 0 | G10: =TRUNC(일위대가목록!F9,0) -> 0 | H10: =TRUNC(G10*D10, 0) -> 0 | I10: =TRUNC(일위대가목록!G9,0) -> 450586 | J10: =TRUNC(I10*D10, 0) -> 450586 | K10: =TRUNC(E10+G10+I10, 0) -> 450586 | L10: =TRUNC(F10+H10+J10, 0) -> 450586 | M10: 호표 6 | N10: 5E4774EC1283DA901CF22FE0AA0914 | Q10: 010101 | R10: T | S10: F | T10: F | AU10: 0101015E4774EC1283DA901CF22FE0AA0914 | AV10: 566
Q11: 010101
Q12: 010101
Q13: 010101
Q14: 010101
Q15: 010101
Q16: 010101
Q17: 010101
Q18: 010101
Q19: 010101
Q20: 010101
Q21: 010101
Q22: 010101
... Q28: 010101
A29: [ 합 계 ] | F29: =SUMIF(Q5:Q28,"010101",F5:F28) -> 0 | H29: =SUMIF(Q5:Q28,"010101",H5:H28) -> 0 | J29: =SUMIF(Q5:Q28,"010101",J5:J28) -> 3773689 | L29: =SUMIF(Q5:Q28,"010101",L5:L28) -> 3773689 | N29: TOTAL | AW29: =L29*AX29 -> 3303072.2 | AX29: =0.87529 -> 0.87529
A30: 010102 가 설 공 사 | Q30: 010102
A31: 수평 규준틀 | B31: 평 | C31: 개소 | D31: 0 | E31: =TRUNC(일위대가목록!E10,0) -> 7394 | F31: =TRUNC(E31*D31, 0) -> 0 | G31: =TRUNC(일위대가목록!F10,0) -> 92625 | H31: =TRUNC(G31*D31, 0) -> 0 | I31: =TRUNC(일위대가목록!G10,0) -> 0 | J31: =TRUNC(I31*D31, 0) -> 0 | K31: =TRUNC(E31+G31+I31, 0) -> 100019 | L31: =TRUNC(F31+H31+J31, 0) -> 0 | M31: 호표 7 | N31: 5E4774E942632D919932977034A615 | Q31: 010102 | R31: T | S31: F | T31: F | AU31: 0101025E4774E942632D919932977034A615 | AV31: 12
A32: 수평 규준틀 | B32: 귀 | C32: 개소 | D32: 0 | E32: =TRUNC(일위대가목록!E11,0) -> 11620 | F32: =TRUNC(E32*D32, 0) -> 0 | G32: =TRUNC(일위대가목록!F11,0) -> 159780 | H32: =TRUNC(G32*D32, 0) -> 0 | I32: =TRUNC(일위대가목록!G11,0) -> 0 | J32: =TRUNC(I32*D32, 0) -> 0 | K32: =TRUNC(E32+G32+I32, 0) -> 171400 | L32: =TRUNC(F32+H32+J32, 0) -> 0 | M32: 호표 8 | N32: 5E4774E942632D919932974060C81C | Q32: 010102 | R32: T | S32: F | T32: F | AU32: 0101025E4774E942632D919932974060C81C | AV32: 13
A33: 강관 조립말비계(이동식)설치 및 해체 | B33: 높이 2m, 3개월 | C33: 대 | D33: 0 | E33: =TRUNC(일위대가목록!E12,0) -> 28678 | F33: =TRUNC(E33*D33, 0) -> 0 | G33: =TRUNC(일위대가목록!F12,0) -> 93630 | H33: =TRUNC(G33*D33, 0) -> 0 | I33: =TRUNC(일위대가목록!G12,0) -> 0 | J33: =TRUNC(I33*D33, 0) -> 0 | K33: =TRUNC(E33+G33+I33, 0) -> 122308 | L33: =TRUNC(F33+H33+J33, 0) -> 0 | M33: 호표 9 | N33: 5E4774E942632D91888591B0AC7C15 | Q33: 010102 | R33: T | S33: F | T33: F | AU33: 0101025E4774E942632D91888591B0AC7C15 | AV33: 6
A34: 내부수평비계(시스템비계) / 카페테리아 | B34: H7.0m(발판 유), 3개월, 천장작업용 | C34: M2 | D34: 120 | E34: =TRUNC(일위대가목록!E14,0) -> 29779 | F34: =TRUNC(E34*D34, 0) -> 3573480 | G34: =TRUNC(일위대가목록!F14,0) -> 116361 | H34: =TRUNC(G34*D34, 0) -> 13963320 | I34: =TRUNC(일위대가목록!G14,0) -> 0 | J34: =TRUNC(I34*D34, 0) -> 0 | K34: =TRUNC(E34+G34+I34, 0) -> 146140 | L34: =TRUNC(F34+H34+J34, 0) -> 17536800 | M34: 호표 11 | N34: 5E4774E942632D91996F93C0DA1458 | Q34: 010102 | R34: T | S34: F | T34: F | AU34: 0101025E4774E942632D91996F93C0DA1458 | AV34: 264
A35: 내부수평비계(시스템비계) / 3층 | B35: H4.0m(발판 유), 3개월, 천장작업용 | C35: M2 | D35: 200 | E35: =TRUNC(일위대가목록!E13,0) -> 19012 | F35: =TRUNC(E35*D35, 0) -> 3802400 | G35: =TRUNC(일위대가목록!F13,0) -> 66492 | H35: =TRUNC(G35*D35, 0) -> 13298400 | I35: =TRUNC(일위대가목록!G13,0) -> 0 | J35: =TRUNC(I35*D35, 0) -> 0 | K35: =TRUNC(E35+G35+I35, 0) -> 85504 | L35: =TRUNC(F35+H35+J35, 0) -> 17100800 | M35: 호표 10 | N35: 5E4774E942632D91996F93C0D866FC | Q35: 010102 | R35: T | S35: F | T35: F | AU35: 0101025E4774E942632D91996F93C0D866FC | AV35: 259
A36: 시스템비계 설치, 해체(외부) | B36: 10m이하, 6개월(발판2열)-계단설치해체비포함 | C36: M2 | D36: 613 | E36: =TRUNC(일위대가목록!E15,0) -> 5038 | F36: =TRUNC(E36*D36, 0) -> 3088294 | G36: =TRUNC(일위대가목록!F15,0) -> 12875 | H36: =TRUNC(G36*D36, 0) -> 7892375 | I36: =TRUNC(일위대가목록!G15,0) -> 0 | J36: =TRUNC(I36*D36, 0) -> 0 | K36: =TRUNC(E36+G36+I36, 0) -> 17913 | L36: =TRUNC(F36+H36+J36, 0) -> 10980669 | M36: 호표 12 | N36: 5E64545AA2F3E29CECFD8B10DBF3BE | Q36: 010102 | R36: T | S36: F | T36: F | AU36: 0101025E64545AA2F3E29CECFD8B10DBF3BE | AV36: 26
A37: 시스템비계 설치, 해체(외부) | B37: H=10m초과∼20m이하, 6개월(발판2열)-계단설치해체비포함 | C37: M2 | D37: 84 | E37: =TRUNC(일위대가목록!E16,0) -> 5038 | F37: =TRUNC(E37*D37, 0) -> 423192 | G37: =TRUNC(일위대가목록!F16,0) -> 15669 | H37: =TRUNC(G37*D37, 0) -> 1316196 | I37: =TRUNC(일위대가목록!G16,0) -> 0 | J37: =TRUNC(I37*D37, 0) -> 0 | K37: =TRUNC(E37+G37+I37, 0) -> 20707 | L37: =TRUNC(F37+H37+J37, 0) -> 1739388 | M37: 호표 13 | N37: 5E64545AA2F3E29CECFD8B10DBF0EA | Q37: 010102 | R37: T | S37: F | T37: F | AU37: 0101025E64545AA2F3E29CECFD8B10DBF0EA | AV37: 27
A38: 비계주위 보호망 설치 및 해체 | B38: P.E망, 210合, 10cm | C38: M2 | D38: 697 | E38: =TRUNC(일위대가목록!E17,0) -> 1690 | F38: =TRUNC(E38*D38, 0) -> 1177930 | G38: =TRUNC(일위대가목록!F17,0) -> 2794 | H38: =TRUNC(G38*D38, 0) -> 1947418 | I38: =TRUNC(일위대가목록!G17,0) -> 0 | J38: =TRUNC(I38*D38, 0) -> 0 | K38: =TRUNC(E38+G38+I38, 0) -> 4484 | L38: =TRUNC(F38+H38+J38, 0) -> 3125348 | M38: 호표 14 | N38: 5E4774E942733B9B9B72DB808FF49E | Q38: 010102 | R38: T | S38: F | T38: F | AU38: 0101025E4774E942733B9B9B72DB808FF49E | AV38: 5
A39: 강관동바리 | B39: 3개월,3.5m이하 | C39: M2 | D39: 148 | E39: =TRUNC(일위대가목록!E18,0) -> 2878 | F39: =TRUNC(E39*D39, 0) -> 425944 | G39: =TRUNC(일위대가목록!F18,0) -> 15339 | H39: =TRUNC(G39*D39, 0) -> 2270172 | I39: =TRUNC(일위대가목록!G18,0) -> 0 | J39: =TRUNC(I39*D39, 0) -> 0 | K39: =TRUNC(E39+G39+I39, 0) -> 18217 | L39: =TRUNC(F39+H39+J39, 0) -> 2696116 | M39: 호표 15 | N39: 5E4774E942632E93DE9CDF90FF334A | Q39: 010102 | R39: T | S39: F | T39: F | AU39: 0101025E4774E942632E93DE9CDF90FF334A | AV39: 265
A40: 강관동바리 | B40: 3개월,3.5m초과 ~ 4.2m이하 | C40: M2 | D40: 64 | E40: =TRUNC(일위대가목록!E19,0) -> 3242 | F40: =TRUNC(E40*D40, 0) -> 207488 | G40: =TRUNC(일위대가목록!F19,0) -> 18067 | H40: =TRUNC(G40*D40, 0) -> 1156288 | I40: =TRUNC(일위대가목록!G19,0) -> 0 | J40: =TRUNC(I40*D40, 0) -> 0 | K40: =TRUNC(E40+G40+I40, 0) -> 21309 | L40: =TRUNC(F40+H40+J40, 0) -> 1363776 | M40: 호표 16 | N40: 5E4774E942632E93DE9CDF90FF30F6 | Q40: 010102 | R40: T | S40: F | T40: F | AU40: 0101025E4774E942632E93DE9CDF90FF30F6 | AV40: 14
A41: 시스템동바리 설치 및 해체 / 계단실 | B41: H=10m이하, 3개월 | C41: M3 | D41: 952 | E41: =TRUNC(일위대가목록!E20,0) -> 2684 | F41: =TRUNC(E41*D41, 0) -> 2555168 | G41: =TRUNC(일위대가목록!F20,0) -> 19850 | H41: =TRUNC(G41*D41, 0) -> 18897200 | I41: =TRUNC(일위대가목록!G20,0) -> 713 | J41: =TRUNC(I41*D41, 0) -> 678776 | K41: =TRUNC(E41+G41+I41, 0) -> 23247 | L41: =TRUNC(F41+H41+J41, 0) -> 22131144 | M41: 호표 17 | N41: 5E64545AA2F3E29CECFDFE00AA5AA4 | Q41: 010102 | R41: T | S41: F | T41: F | AU41: 0101025E64545AA2F3E29CECFDFE00AA5AA4 | AV41: 22
A42: 시스템동바리 설치 및 해체 / 계단실홀 | B42: H=10m초과∼20m이하, 3개월 | C42: M3 | D42: 660 | E42: =TRUNC(일위대가목록!E21,0) -> 2755 | F42: =TRUNC(E42*D42, 0) -> 1818300 | G42: =TRUNC(일위대가목록!F21,0) -> 23545 | H42: =TRUNC(G42*D42, 0) -> 15539700 | I42: =TRUNC(일위대가목록!G21,0) -> 1049 | J42: =TRUNC(I42*D42, 0) -> 692340 | K42: =TRUNC(E42+G42+I42, 0) -> 27349 | L42: =TRUNC(F42+H42+J42, 0) -> 18050340 | M42: 호표 18 | N42: 5E64545AA2F3E29CECFDFE00AA599F | Q42: 010102 | R42: T | S42: F | T42: F | AU42: 0101025E64545AA2F3E29CECFDFE00AA599F | AV42: 23
A43: 구조부 먹매김 | B43: 일반 | C43: M2 | D43: 421 | E43: =TRUNC(일위대가목록!E22,0) -> 0 | F43: =TRUNC(E43*D43, 0) -> 0 | G43: =TRUNC(일위대가목록!F22,0) -> 1389 | H43: =TRUNC(G43*D43, 0) -> 584769 | I43: =TRUNC(일위대가목록!G22,0) -> 0 | J43: =TRUNC(I43*D43, 0) -> 0 | K43: =TRUNC(E43+G43+I43, 0) -> 1389 | L43: =TRUNC(F43+H43+J43, 0) -> 584769 | M43: 호표 19 | N43: 5E4774EC12B3929A247DEE70C432F0 | Q43: 010102 | R43: T | S43: F | T43: F | AU43: 0101025E4774EC12B3929A247DEE70C432F0 | AV43: 19
A44: 거푸집 먹매김 | B44: 일반 | C44: M2 | D44: 256 | E44: =TRUNC(일위대가목록!E23,0) -> 0 | F44: =TRUNC(E44*D44, 0) -> 0 | G44: =TRUNC(일위대가목록!F23,0) -> 3334 | H44: =TRUNC(G44*D44, 0) -> 853504 | I44: =TRUNC(일위대가목록!G23,0) -> 0 | J44: =TRUNC(I44*D44, 0) -> 0 | K44: =TRUNC(E44+G44+I44, 0) -> 3334 | L44: =TRUNC(F44+H44+J44, 0) -> 853504 | M44: 호표 20 | N44: 5E4774EC12B3929A247DC3A04F23DD | Q44: 010102 | R44: T | S44: F | T44: F | AU44: 0101025E4774EC12B3929A247DC3A04F23DD | AV44: 20
A45: 건축물보양 - 콘크리트 | B45: 살수 | C45: M2 | D45: 885 | E45: =TRUNC(일위대가목록!E24,0) -> 0 | F45: =TRUNC(E45*D45, 0) -> 0 | G45: =TRUNC(일위대가목록!F24,0) -> 679 | H45: =TRUNC(G45*D45, 0) -> 600915 | I45: =TRUNC(일위대가목록!G24,0) -> 0 | J45: =TRUNC(I45*D45, 0) -> 0 | K45: =TRUNC(E45+G45+I45, 0) -> 679 | L45: =TRUNC(F45+H45+J45, 0) -> 600915 | M45: 호표 21 | N45: 5E4774EC12B3929A1BCAF6A08E8D95 | Q45: 010102 | R45: T | S45: F | T45: F | AU45: 0101025E4774EC12B3929A1BCAF6A08E8D95 | AV45: 21
...

Sheet 일위대가목록
B1: 일 위 대 가 목 록
B2: [ 김천시 농촌신활력플러스 신축공사 ]
A3: 코 드 | B3: 품 명 | C3: 규 격 | D3: 단위 | E3: 재 료 비 | F3: 노 무 비 | G3: 경 비 | H3: 합 계 | I3: 번 호 | J3: 비 고 | K3: 노임계수 | L3: 할증 | M3: 품셈개요 | N3: 장비일위
A4: 5E4774EA62E3DC978997176034C319 | B4: 콘테이너형 가설사무소 설치 및 해체 | C4: 3.0*6.0m, 12개월 | D4: 개소 | E4: =일위대가!F8 -> 0 | F4: =일위대가!H8 -> 0 | G4: =일위대가!J8 -> 1482710 | H4: =E4+F4+G4 -> 1482710 | I4: 호표 1
A5: 5E4774EA62E3DF9338A6B920CE9100 | B5: 콘테이너형 가설창고 설치 및 해체 | C5: 3.0*6.0m, 12개월 | D5: 개소 | E5: =일위대가!F14 -> 0 | F5: =일위대가!H14 -> 0 | G5: =일위대가!J14 -> 1337142 | H5: =E5+F5+G5 -> 1337142 | I5: 호표 2
A6: 5E4774E9424379917BA44DF066A848 | B6: 조립식가설울타리/E.G.I철판 | C6: H=3.0, 12개월 | D6: M | E6: =일위대가!F27 -> 0 | F6: =일위대가!H27 -> 0 | G6: =일위대가!J27 -> 29727 | H6: =E6+F6+G6 -> 29727 | I6: 호표 3
A7: 5E4774EC1283D89509C25BA0F64926 | B7: 조립식가설대문손료(홀딩도어) | C7: 8000*5500,12개월 | D7: 개소 | E7: =일위대가!F40 -> 0 | F7: =일위대가!H40 -> 0 | G7: =일위대가!J40 -> 2993998 | H7: =E7+F7+G7 -> 2993998 | I7: 호표 4
A8: 5E4774EC1283DA901CF22FE0AA0910 | B8: 공사용 가설전기설치 | C8: 분전반+강재전선관+배선 | D8: 개소 | E8: =일위대가!F50 -> 0 | F8: =일위대가!H50 -> 0 | G8: =일위대가!J50 -> 524919 | H8: =E8+F8+G8 -> 524919 | I8: 호표 5
A9: 5E4774EC1283DA901CF22FE0AA0914 | B9: 공사용 가설수도설치 | C9: 수도용배관+수도밸브 | D9: 개소 | E9: =일위대가!F58 -> 0 | F9: =일위대가!H58 -> 0 | G9: =일위대가!J58 -> 450586 | H9: =E9+F9+G9 -> 450586 | I9: 호표 6
A10: 5E4774E942632D919932977034A615 | B10: 수평 규준틀 | C10: 평 | D10: 개소 | E10: =일위대가!F64 -> 7394 | F10: =일위대가!H64 -> 92625 | G10: =일위대가!J64 -> 0 | H10: =E10+F10+G10 -> 100019 | I10: 호표 7
A11: 5E4774E942632D919932974060C81C | B11: 수평 규준틀 | C11: 귀 | D11: 개소 | E11: =일위대가!F70 -> 11620 | F11: =일위대가!H70 -> 159780 | G11: =일위대가!J70 -> 0 | H11: =E11+F11+G11 -> 171400 | I11: 호표 8
A12: 5E4774E942632D91888591B0AC7C15 | B12: 강관 조립말비계(이동식)설치 및 해체 | C12: 높이 2m, 3개월 | D12: 대 | E12: =일위대가!F83 -> 28678 | F12: =일위대가!H83 -> 93630 | G12: =일위대가!J83 -> 0 | H12: =E12+F12+G12 -> 122308 | I12: 호표 9
A13: 5E4774E942632D91996F93C0D866FC | B13: 내부수평비계(시스템비계) / 3층 | C13: H4.0m(발판 유), 3개월, 천장작업용 | D13: M2 | E13: =일위대가!F95 -> 19012 | F13: =일위대가!H95 -> 66492 | G13: =일위대가!J95 -> 0 | H13: =E13+F13+G13 -> 85504 | I13: 호표 10
A14: 5E4774E942632D91996F93C0DA1458 | B14: 내부수평비계(시스템비계) / 카페테리아 | C14: H7.0m(발판 유), 3개월, 천장작업용 | D14: M2 | E14: =일위대가!F107 -> 29779 | F14: =일위대가!H107 -> 116361 | G14: =일위대가!J107 -> 0 | H14: =E14+F14+G14 -> 146140 | I14: 호표 11
A15: 5E64545AA2F3E29CECFD8B10DBF3BE | B15: 시스템비계 설치, 해체(외부) | C15: 10m이하, 6개월(발판2열)-계단설치해체비포함 | D15: M2 | E15: =일위대가!F123 -> 5038 | F15: =일위대가!H123 -> 12875 | G15: =일위대가!J123 -> 0 | H15: =E15+F15+G15 -> 17913 | I15: 호표 12
A16: 5E64545AA2F3E29CECFD8B10DBF0EA | B16: 시스템비계 설치, 해체(외부) | C16: H=10m초과∼20m이하, 6개월(발판2열)-계단설치해체비포함 | D16: M2 | E16: =일위대가!F139 -> 5038 | F16: =일위대가!H139 -> 15669 | G16: =일위대가!J139 -> 0 | H16: =E16+F16+G16 -> 20707 | I16: 호표 13
A17: 5E4774E942733B9B9B72DB808FF49E | B17: 비계주위 보호망 설치 및 해체 | C17: P.E망, 210合, 10cm | D17: M2 | E17: =일위대가!F144 -> 1690 | F17: =일위대가!H144 -> 2794 | G17: =일위대가!J144 -> 0 | H17: =E17+F17+G17 -> 4484 | I17: 호표 14
A18: 5E4774E942632E93DE9CDF90FF334A | B18: 강관동바리 | C18: 3개월,3.5m이하 | D18: M2 | E18: =일위대가!F150 -> 2878 | F18: =일위대가!H150 -> 15339 | G18: =일위대가!J150 -> 0 | H18: =E18+F18+G18 -> 18217 | I18: 호표 15
A19: 5E4774E942632E93DE9CDF90FF30F6 | B19: 강관동바리 | C19: 3개월,3.5m초과 ~ 4.2m이하 | D19: M2 | E19: =일위대가!F156 -> 3242 | F19: =일위대가!H156 -> 18067 | G19: =일위대가!J156 -> 0 | H19: =E19+F19+G19 -> 21309 | I19: 호표 16
A20: 5E64545AA2F3E29CECFDFE00AA5AA4 | B20: 시스템동바리 설치 및 해체 / 계단실 | C20: H=10m이하, 3개월 | D20: M3 | E20: =일위대가!F168 -> 2684 | F20: =일위대가!H168 -> 19850 | G20: =일위대가!J168 -> 713 | H20: =E20+F20+G20 -> 23247 | I20: 호표 17
A21: 5E64545AA2F3E29CECFDFE00AA599F | B21: 시스템동바리 설치 및 해체 / 계단실홀 | C21: H=10m초과∼20m이하, 3개월 | D21: M3 | E21: =일위대가!F180 -> 2755 | F21: =일위대가!H180 -> 23545 | G21: =일위대가!J180 -> 1049 | H21: =E21+F21+G21 -> 27349 | I21: 호표 18
A22: 5E4774EC12B3929A247DEE70C432F0 | B22: 구조부 먹매김 | C22: 일반 | D22: M2 | E22: =일위대가!F184 -> 0 | F22: =일위대가!H184 -> 1389 | G22: =일위대가!J184 -> 0 | H22: =E22+F22+G22 -> 1389 | I22: 호표 19
A23: 5E4774EC12B3929A247DC3A04F23DD | B23: 거푸집 먹매김 | C23: 일반 | D23: M2 | E23: =일위대가!F188 -> 0 | F23: =일위대가!H188 -> 3334 | G23: =일위대가!J188 -> 0 | H23: =E23+F23+G23 -> 3334 | I23: 호표 20
A24: 5E4774EC12B3929A1BCAF6A08E8D95 | B24: 건축물보양 - 콘크리트 | C24: 살수 | D24: M2 | E24: =일위대가!F192 -> 0 | F24: =일위대가!H192 -> 679 | G24: =일위대가!J192 -> 0 | H24: =E24+F24+G24 -> 679 | I24: 호표 21
A25: 5E4774EC1283D895353A0CD044CCAB | B25: 건축물 현장정리 | C25: 철근콘크리트조, 철골·철근콘크리트조 | D25: M2 | E25: =일위대가!F196 -> 0 | F25: =일위대가!H196 -> 22074 | G25: =일위대가!J196 -> 0 | H25: =E25+F25+G25 -> 22074 | I25: 호표 22
A26: 5E4774EC1283D89535447B70353A93 | B26: 준공청소비 | D26: M2 | E26: =일위대가!F200 -> 0 | F26: =일위대가!H200 -> 3396 | G26: =일위대가!J200 -> 0 | H26: =E26+F26+G26 -> 3396 | I26: 호표 23
A27: 5E47943112234894BB5C8F600E00D3 | B27: 방습필름 설치 - 바닥 | C27: 폴리에틸렌필름, 두께, 0.03mm, 2겹 | D27: M2 | E27: =일위대가!F205 -> 422 | F27: =일위대가!H205 -> 1431 | G27: =일위대가!J205 -> 0 | H27: =E27+F27+G27 -> 1853 | I27: 호표 24
A28: 5E47246012D3CC9020073AB00125DE | B28: 콘크리트 펌프차 타설(무근, 진동기無) | C28: slump 8~12cm, 매트기초 등, f2 : Type-Ⅱ, 36m | D28: M3 | E28: =일위대가!F213 -> 1415 | F28: =일위대가!H213 -> 7593 | G28: =일위대가!J213 -> 4135 | H28: =E28+F28+G28 -> 13143 | I28: 호표 25
A29: 5E47246012E3D79D23D087E0145CF0 | B29: 콘크리트 펌프차 타설 | C29: slump 15cm, 매트기초 등, f2 : Type-Ⅰ, 36m | D29: M3 | E29: =일위대가!F221 -> 1177 | F29: =일위대가!H221 -> 9782 | G29: =일위대가!J221 -> 3613 | H29: =E29+F29+G29 -> 14572 | I29: 호표 26
A30: 5E47246012E3D491EB750AA06D6666 | B30: 콘크리트 펌프차 타설 | C30: slump 15cm, 벽,기둥,슬래브 등, f2 : Type-Ⅰ, 36m | D30: M3 | E30: =일위대가!F229 -> 1650 | F30: =일위대가!H229 -> 13668 | G30: =일위대가!J229 -> 5062 | H30: =E30+F30+G30 -> 20380 | I30: 호표 27
A31: 5E472464F273B49757C7ADD06897DA | B31: 철근 공장가공 및 현장조립 | C31: Type-Ⅰ | D31: TON | E31: =일위대가!F234 -> 10770 | F31: =일위대가!H234 -> 630845 | G31: =일위대가!J234 -> 50802 | H31: =E31+F31+G31 -> 692417 | I31: 호표 28
A32: 5E47C46D42D37A99C61376B0CCC2E0 | B32: 와이어메시 바닥깔기 | C32: #8-150*150 | D32: M2 | E32: =일위대가!F240 -> 2510 | F32: =일위대가!H240 -> 1329 | G32: =일위대가!J240 -> 0 | H32: =E32+F32+G32 -> 3839 | I32: 호표 29
A33: 5E47246742F36E9A5D8D232051961F | B33: 합판거푸집 설치 및 해체 | C33: 매우복잡 2회, 수직고 7m까지 | D33: M2 | E33: =일위대가!F245 -> 18439 | F33: =일위대가!H245 -> 68150 | G33: =일위대가!J245 -> 681 | H33: =E33+F33+G33 -> 87270 | I33: 호표 30
A34: 5E47246742E3489A0B5121607CC91B | B34: 합판거푸집 설치 및 해체 | C34: 보통 4회, 수직고 7m까지 | D34: M2 | E34: =일위대가!F250 -> 12978 | F34: =일위대가!H250 -> 37755 | G34: =일위대가!J250 -> 377 | H34: =E34+F34+G34 -> 51110 | I34: 호표 31
A35: 5E47246742E349948C5861C074314B | B35: 합판거푸집 설치 및 해체 | C35: 보통 4회, 슬래브(경사도 20˚미만) | D35: M2 | E35: =일위대가!F255 -> 12978 | F35: =일위대가!H255 -> 45728 | G35: =일위대가!J255 -> 457 | H35: =E35+F35+G35 -> 59163 | I35: 호표 32
A36: 5E47246742833F9D716E8DE08CE345 | B36: 유로폼 설치 및 해체 | C36: 보통, 수직고 7m까지 | D36: M2 | E36: =일위대가!F262 -> 4157 | F36: =일위대가!H262 -> 36027 | G36: =일위대가!J262 -> 1080 | H36: =E36+F36+G36 -> 41264 | I36: 호표 33
A37: 5E47246742833F9D716E8DE08CE2BE | B37: 유로폼 설치 및 해체 | C37: 간단, 수직고 7m까지 | D37: M2 | E37: =일위대가!F269 -> 3415 | F37: =일위대가!H269 -> 31528 | G37: =일위대가!J269 -> 945 | H37: =E37+F37+G37 -> 35888 | I37: 호표 34
A38: 5E47246EF2F3619838011340281E0D | B38: 지수판설치 - 소켓 연결 | C38: PVC, H200*5t | D38: M | E38: =일위대가!F276 -> 3620 | F38: =일위대가!H276 -> 23752 | G38: =일위대가!J276 -> 0 | H38: =E38+F38+G38 -> 27372 | I38: 호표 35
A39: 5E47E4BC0243BD942426F780F4AC50 | B39: 단열재접착제붙이기 / W1(직접외기) | C39: PF보드(심재준불연),T=90mm | D39: M2 | E39: =일위대가!F282 -> 30587 | F39: =일위대가!H282 -> 16183 | G39: =일위대가!J282 -> 0 | H39: =E39+F39+G39 -> 46770 | I39: 호표 36
A40: 5E47E4BC0243BD9424269EF049F484 | B40: 단열재 콘크리트타설부착 / F1 | C40: 바닥, PF보드(심재준불연),T=100mm | D40: M2 | E40: =일위대가!F287 -> 33000 | F40: =일위대가!H287 -> 9692 | G40: =일위대가!J287 -> 193 | H40: =E40+F40+G40 -> 42885 | I40: 호표 37
...

Sheet 일위대가
A1: [ 김천시 농촌신활력플러스 신축공사 ]
A2: 품 명 | B2: 규 격 | C2: 단위 | D2: 수량 | E2: 재 료 비 | G2: 노 무 비 | I2: 경 비 | K2: 합 계 | M2: 비 고 | N2: 일위대가 | O2: 품목코드 | P2: 일위 | Q2: 단산 | R2: 자재 | S2: 손료적용 | T2: 손료저장 | U2: 적용율 | V2: JUK1 | W2: JUK2 | X2: JUK3 | Y2: JUK4 | Z2: JUK5 | AA2: JUK6 | AB2: JUK7 | AC2: JUK8 | AD2: JUK9 | AE2: JUK10 | AF2: JUK11 | AG2: JUK12 | AH2: JUK13 | AI2: JUK14 | AJ2: JUK15 | AK2: JUK16 | AL2: JUK17 | AM2: JUK18 | AN2: JUK19 | AO2: JUK20 | AP2: 할증적용 | AQ2: 할증저장 | AR2: 할증율 | AS2: HAL1 | AT2: HAL2 | AU2: HAL3 | AV2: 자재구분 | AW2: 일위대가+자재 | AX2: 장비일위 | AY2: 설정 | AZ2: 할증체크
E3: 단 가 | F3: 금 액 | G3: 단 가 | H3: 금 액 | I3: 단 가 | J3: 금 액 | K3: 단 가 | L3: 금 액
A4: 콘테이너형 가설사무소 설치 및 해체 3.0*6.0m, 12개월 개소 ( 호표 1 ) | N4: 5E4774EA62E3DC978997176034C319
A5: 컨테이너하우스 | B5: 컨테이너하우스, 사무실용, 3.0*6.0*2.6m | C5: 개 | D5: 0.34 | E5: =단가대비표!O150 -> 3104015 | F5: =TRUNC(E5*D5,1) -> 1055365.1 | G5: =단가대비표!P150 -> 0 | H5: =TRUNC(G5*D5,1) -> 0 | I5: =단가대비표!V150 -> 0 | J5: =TRUNC(I5*D5,1) -> 0 | K5: =TRUNC(E5+G5+I5,1) -> 3104015 | L5: =TRUNC(F5+H5+J5,1) -> 1055365.1 | M5: 금액제외 | O5: 596D84E19243DD9FC637D420B09BDBAB2D5EDA | P5: F | Q5: F | R5: T | V5: 1 | AW5: 5E4774EA62E3DC978997176034C319596D84E19243DD9FC637D420B09BDBAB2D5EDA | AY5: -
A6: 콘테이너형 가설건축물 설치 및 해체 | B6: 3.0*6.0m | C6: 개소 | D6: 1 | E6: =일위대가목록!E144 -> 0 | F6: =TRUNC(E6*D6,1) -> 0 | G6: =일위대가목록!F144 -> 0 | H6: =TRUNC(G6*D6,1) -> 0 | I6: =일위대가목록!G144 -> 427345 | J6: =TRUNC(I6*D6,1) -> 427345 | K6: =TRUNC(E6+G6+I6,1) -> 427345 | L6: =TRUNC(F6+H6+J6,1) -> 427345 | M6: 금액제외 | O6: 5E4774EA62E3DC978913BB70402F69 | P6: T | Q6: F | R6: F | V6: 1 | AW6: 5E4774EA62E3DC978997176034C3195E4774EA62E3DC978913BB70402F69 | AY6: -
A7: 경비로 적용 | B7: 합계의 100% | C7: 식 | D7: 1 | E7: 0 | F7: =TRUNC(E7*D7,1) -> 0 | G7: 0 | H7: =TRUNC(G7*D7,1) -> 0 | I7: =TRUNC(SUMIF(V5:V7, RIGHTB(O7, 1), L5:L7)*U7, 2) -> 1482710.1 | J7: =TRUNC(I7*D7,1) -> 1482710.1 | K7: =TRUNC(E7+G7+I7,1) -> 1482710.1 | L7: =TRUNC(F7+H7+J7,1) -> 1482710.1 | N7: 5E4774EA62E3DC978997176034C319 | O7: 5F5D94B452D3789F390BE0B0BC18001 | P7: F | Q7: F | R7: F | S7: 3 | T7: 2 | U7: 1 | AW7: 5E4774EA62E3DC978997176034C3195F5D94B452D3789F390BE0B0BC18001
A8: [ 합 계 ] | F8: =TRUNC(SUMIF(N5:N7, N4, F5:F7),0) -> 0 | H8: =TRUNC(SUMIF(N5:N7, N4, H5:H7),0) -> 0 | J8: =TRUNC(SUMIF(N5:N7, N4, J5:J7),0) -> 1482710 | L8: =F8+H8+J8 -> 1482710 | N8: TOTAL | O8: TOTAL
A10: 콘테이너형 가설창고 설치 및 해체 3.0*6.0m, 12개월 개소 ( 호표 2 ) | N10: 5E4774EA62E3DF9338A6B920CE9100
A11: 컨테이너하우스 | B11: 컨테이너하우스, 창고용, 3.0*6.0*2.6m | C11: 개 | D11: 0.34 | E11: =단가대비표!O151 -> 2675875 | F11: =TRUNC(E11*D11,1) -> 909797.5 | G11: =단가대비표!P151 -> 0 | H11: =TRUNC(G11*D11,1) -> 0 | I11: =단가대비표!V151 -> 0 | J11: =TRUNC(I11*D11,1) -> 0 | K11: =TRUNC(E11+G11+I11,1) -> 2675875 | L11: =TRUNC(F11+H11+J11,1) -> 909797.5 | M11: 금액제외 | O11: 596D84E19243DD9FC637D420B09BDBAB2D58BC | P11: F | Q11: F | R11: T | V11: 1 | AW11: 5E4774EA62E3DF9338A6B920CE9100596D84E19243DD9FC637D420B09BDBAB2D58BC | AY11: -
A12: 콘테이너형 가설건축물 설치 및 해체 | B12: 3.0*6.0m | C12: 개소 | D12: 1 | E12: =일위대가목록!E144 -> 0 | F12: =TRUNC(E12*D12,1) -> 0 | G12: =일위대가목록!F144 -> 0 | H12: =TRUNC(G12*D12,1) -> 0 | I12: =일위대가목록!G144 -> 427345 | J12: =TRUNC(I12*D12,1) -> 427345 | K12: =TRUNC(E12+G12+I12,1) -> 427345 | L12: =TRUNC(F12+H12+J12,1) -> 427345 | M12: 금액제외 | O12: 5E4774EA62E3DC978913BB70402F69 | P12: T | Q12: F | R12: F | V12: 1 | AW12: 5E4774EA62E3DF9338A6B920CE91005E4774EA62E3DC978913BB70402F69 | AY12: -
A13: 경비로 적용 | B13: 합계의 100% | C13: 식 | D13: 1 | E13: 0 | F13: =TRUNC(E13*D13,1) -> 0 | G13: 0 | H13: =TRUNC(G13*D13,1) -> 0 | I13: =TRUNC(SUMIF(V11:V13, RIGHTB(O13, 1), L11:L13)*U13, 2) -> 1337142.5 | J13: =TRUNC(I13*D13,1) -> 1337142.5 | K13: =TRUNC(E13+G13+I13,1) -> 1337142.5 | L13: =TRUNC(F13+H13+J13,1) -> 1337142.5 | N13: 5E4774EA62E3DF9338A6B920CE9100 | O13: 5F5D94B452D3789F390BE0B0BC18001 | P13: F | Q13: F | R13: F | S13: 3 | T13: 2 | U13: 1 | AW13: 5E4774EA62E3DF9338A6B920CE91005F5D94B452D3789F390BE0B0BC18001
A14: [ 합 계 ] | F14: =TRUNC(SUMIF(N11:N13, N10, F11:F13),0) -> 0 | H14: =TRUNC(SUMIF(N11:N13, N10, H11:H13),0) -> 0 | J14: =TRUNC(SUMIF(N11:N13, N10, J11:J13),0) -> 1337142 | L14: =F14+H14+J14 -> 1337142 | N14: TOTAL | O14: TOTAL
A16: 조립식가설울타리/E.G.I철판 H=3.0, 12개월 M ( 호표 3 ) | N16: 5E4774E9424379917BA44DF066A848
A17: 조립식 가설울타리 부재 | B17: EGI철판, 550*2400 | C17: 매 | D17: 2 | E17: =단가대비표!O136 -> 11280 | F17: =TRUNC(E17*D17,1) -> 22560 | G17: =단가대비표!P136 -> 0 | H17: =TRUNC(G17*D17,1) -> 0 | I17: =단가대비표!V136 -> 0 | J17: =TRUNC(I17*D17,1) -> 0 | K17: =TRUNC(E17+G17+I17,1) -> 11280 | L17: =TRUNC(F17+H17+J17,1) -> 22560 | M17: 금액제외 | O17: 596D84E2B2730A901164FE6056BA562C305265 | P17: F | Q17: F | R17: T | V17: 1 | AW17: 5E4774E9424379917BA44DF066A848596D84E2B2730A901164FE6056BA562C305265 | AY17: -
A18: 경비로 적용 | B18: 주재료비의 43% | C18: 식 | D18: 1 | E18: 0 | F18: =TRUNC(E18*D18,1) -> 0 | G18: 0 | H18: =TRUNC(G18*D18,1) -> 0 | I18: =TRUNC(SUMIF(V17:V26, RIGHTB(O18, 1), F17:F26)*U18, 2) -> 9700.8 | J18: =TRUNC(I18*D18,1) -> 9700.8 | K18: =TRUNC(E18+G18+I18,1) -> 9700.8 | L18: =TRUNC(F18+H18+J18,1) -> 9700.8 | N18: 5E4774E9424379917BA44DF066A848 | O18: 5F5D94B452D3789F390BE0B0BC18001 | P18: F | Q18: F | R18: F | S18: 0 | T18: 2 | U18: 0.43 | AW18: 5E4774E9424379917BA44DF066A8485F5D94B452D3789F390BE0B0BC18001
A19: 강관비계 | B19: 강관비계, 비계파이프, 48.6*2.3mm | C19: M | D19: 6.6 | E19: =단가대비표!O113 -> 3983.33 | F19: =TRUNC(E19*D19,1) -> 26289.9 | G19: =단가대비표!P113 -> 0 | H19: =TRUNC(G19*D19,1) -> 0 | I19: =단가대비표!V113 -> 0 | J19: =TRUNC(I19*D19,1) -> 0 | K19: =TRUNC(E19+G19+I19,1) -> 3983.3 | L19: =TRUNC(F19+H19+J19,1) -> 26289.9 | M19: 금액제외 | O19: 596D84E2B2730A9023D517504B8296B3742141 | P19: F | Q19: F | R19: T | W19: 2 | AW19: 5E4774E9424379917BA44DF066A848596D84E2B2730A9023D517504B8296B3742141 | AY19: -
A20: 경비로 적용 | B20: 주재료비의 19% | C20: 식 | D20: 1 | E20: 0 | F20: =TRUNC(E20*D20,1) -> 0 | G20: 0 | H20: =TRUNC(G20*D20,1) -> 0 | I20: =TRUNC(SUMIF(W17:W26, RIGHTB(O20, 1), F17:F26)*U20, 2) -> 4995.08 | J20: =TRUNC(I20*D20,1) -> 4995 | K20: =TRUNC(E20+G20+I20,1) -> 4995 | L20: =TRUNC(F20+H20+J20,1) -> 4995 | N20: 5E4774E9424379917BA44DF066A848 | O20: 5F5D94B452D3789F390BE0B0BC1B002 | P20: F | Q20: F | R20: F | S20: 0 | T20: 2 | U20: 0.19 | AW20: 5E4774E9424379917BA44DF066A8485F5D94B452D3789F390BE0B0BC1B002
A21: 강관비계 부속철물 | B21: 클램프 고정, 자동 | C21: 개 | D21: 0.54 | E21: =단가대비표!O118 -> 1590 | F21: =TRUNC(E21*D21,1) -> 858.6 | G21: =단가대비표!P118 -> 0 | H21: =TRUNC(G21*D21,1) -> 0 | I21: =단가대비표!V118 -> 0 | J21: =TRUNC(I21*D21,1) -> 0 | K21: =TRUNC(E21+G21+I21,1) -> 1590 | L21: =TRUNC(F21+H21+J21,1) -> 858.6 | M21: 금액제외 | O21: 596D84E2B2730A9023D517504B8296B375CD08 | P21: F | Q21: F | R21: T | X21: 3 | AW21: 5E4774E9424379917BA44DF066A848596D84E2B2730A9023D517504B8296B375CD08 | AY21: -
A22: 강관비계 부속철물 | B22: 이음철물, 연결핀 | C22: 개 | D22: 0.56 | E22: =단가대비표!O114 -> 1400 | F22: =TRUNC(E22*D22,1) -> 784 | G22: =단가대비표!P114 -> 0 | H22: =TRUNC(G22*D22,1) -> 0 | I22: =단가대비표!V114 -> 0 | J22: =TRUNC(I22*D22,1) -> 0 | K22: =TRUNC(E22+G22+I22,1) -> 1400 | L22: =TRUNC(F22+H22+J22,1) -> 784 | M22: 금액제외 | O22: 596D84E2B2730A9023D517504B8296B375CD0F | P22: F | Q22: F | R22: T | X22: 3 | AW22: 5E4774E9424379917BA44DF066A848596D84E2B2730A9023D517504B8296B375CD0F | AY22: -
A23: 조립식 가설울타리 부재 | B23: 볼트/넛트 | C23: 개 | D23: 13.33 | E23: =단가대비표!O137 -> 350 | F23: =TRUNC(E23*D23,1) -> 4665.5 | G23: =단가대비표!P137 -> 0 | H23: =TRUNC(G23*D23,1) -> 0 | I23: =단가대비표!V137 -> 0 | J23: =TRUNC(I23*D23,1) -> 0 | K23: =TRUNC(E23+G23+I23,1) -> 350 | L23: =TRUNC(F23+H23+J23,1) -> 4665.5 | M23: 금액제외 | O23: 596D84E2B2730A901164FE6056BA562C3056DE | P23: F | Q23: F | R23: T | X23: 3 | AW23: 5E4774E9424379917BA44DF066A848596D84E2B2730A901164FE6056BA562C3056DE | AY23: -
A24: 경비로 적용 | B24: 주재료비의 38% | C24: 식 | D24: 1 | E24: 0 | F24: =TRUNC(E24*D24,1) -> 0 | G24: 0 | H24: =TRUNC(G24*D24,1) -> 0 | I24: =TRUNC(SUMIF(X17:X26, RIGHTB(O24, 1), F17:F26)*U24, 2) -> 2397.07 | J24: =TRUNC(I24*D24,1) -> 2397 | K24: =TRUNC(E24+G24+I24,1) -> 2397 | L24: =TRUNC(F24+H24+J24,1) -> 2397 | N24: 5E4774E9424379917BA44DF066A848 | O24: 5F5D94B452D3789F390BE0B0BC1A003 | P24: F | Q24: F | R24: F | S24: 0 | T24: 2 | U24: 0.38 | AW24: 5E4774E9424379917BA44DF066A8485F5D94B452D3789F390BE0B0BC1A003
A25: 가설울타리판 설치 | B25: 설치높이 3m 이하 | C25: 10M | D25: 0.1 | E25: =일위대가목록!E146 -> 0 | F25: =TRUNC(E25*D25,1) -> 0 | G25: =일위대가목록!F146 -> 0 | H25: =TRUNC(G25*D25,1) -> 0 | I25: =일위대가목록!G146 -> 90572 | J25: =TRUNC(I25*D25,1) -> 9057.2 | K25: =TRUNC(E25+G25+I25,1) -> 90572 | L25: =TRUNC(F25+H25+J25,1) -> 9057.2 | M25: 호표 143 | N25: 5E4774E9424379917BA44DF066A848 | O25: 5E4774E9424379917BB6BE802AF712 | P25: T | Q25: F | R25: F | AW25: 5E4774E9424379917BA44DF066A8485E4774E9424379917BB6BE802AF712
A26: 가설울타리판 해체 | B26: 설치높이 3m 이하 | C26: 10M | D26: 0.1 | E26: =일위대가목록!E147 -> 0 | F26: =TRUNC(E26*D26,1) -> 0 | G26: =일위대가목록!F147 -> 0 | H26: =TRUNC(G26*D26,1) -> 0 | I26: =일위대가목록!G147 -> 35777 | J26: =TRUNC(I26*D26,1) -> 3577.7 | K26: =TRUNC(E26+G26+I26,1) -> 35777 | L26: =TRUNC(F26+H26+J26,1) -> 3577.7 | M26: 호표 144 | N26: 5E4774E9424379917BA44DF066A848 | O26: 5E4774E9424379917BB6BE802AF60C | P26: T | Q26: F | R26: F | AW26: 5E4774E9424379917BA44DF066A8485E4774E9424379917BB6BE802AF60C
A27: [ 합 계 ] | F27: =TRUNC(SUMIF(N17:N26, N16, F17:F26),0) -> 0 | H27: =TRUNC(SUMIF(N17:N26, N16, H17:H26),0) -> 0 | J27: =TRUNC(SUMIF(N17:N26, N16, J17:J26),0) -> 29727 | L27: =F27+H27+J27 -> 29727 | N27: TOTAL | O27: TOTAL
A29: 조립식가설대문손료(홀딩도어) 8000*5500,12개월 개소 ( 호표 4 ) | N29: 5E4774EC1283D89509C25BA0F64926
A30: 아연도칼라강판 | B30: 1.6t <불소수지> | C30: M2 | D30: 44 | E30: =일위대가목록!E148 -> 24471 | F30: =TRUNC(E30*D30,1) -> 1076724 | G30: =일위대가목록!F148 -> 38094 | H30: =TRUNC(G30*D30,1) -> 1676136 | I30: =일위대가목록!G148 -> 1896 | J30: =TRUNC(I30*D30,1) -> 83424 | K30: =TRUNC(E30+G30+I30,1) -> 64461 | L30: =TRUNC(F30+H30+J30,1) -> 2836284 | M30: 금액제외 | O30: 5E47943DC233149788ED7E4083E578 | P30: T | Q30: F | R30: F | V30: 1 | AW30: 5E4774EC1283D89509C25BA0F649265E47943DC233149788ED7E4083E578 | AY30: -
A31: 철판 손료<가설울타리> | B31: 합계의 100% | C31: 100% | D31: 0.43 | E31: 0 | F31: =TRUNC(E31*D31,1) -> 0 | G31: 0 | H31: =TRUNC(G31*D31,1) -> 0 | I31: =TRUNC(SUMIF(V30:V39, RIGHTB(O31, 1), L30:L39)*U31, 2) -> 2836284 | J31: =TRUNC(I31*D31,1) -> 1219602.1 | K31: =TRUNC(E31+G31+I31,1) -> 2836284 | L31: =TRUNC(F31+H31+J31,1) -> 1219602.1 | N31: 5E4774EC1283D89509C25BA0F64926 | O31: 5F5D94B452D3789F390BE0B0BC18001 | P31: F | Q31: F | R31: F | S31: 3 | T31: 2 | U31: 1 | AW31: 5E4774EC1283D89509C25BA0F649265F5D94B452D3789F390BE0B0BC1D004
A32: ST'L 각관 제작설치 | B32: ㅁ-50*50*2.3,아연도각관 | C32: M | D32: 106 | E32: =일위대가목록!E149 -> 5086 | F32: =TRUNC(E32*D32,1) -> 539116 | G32: =일위대가목록!F149 -> 10130 | H32: =TRUNC(G32*D32,1) -> 1073780 | I32: =일위대가목록!G149 -> 504 | J32: =TRUNC(I32*D32,1) -> 53424 | K32: =TRUNC(E32+G32+I32,1) -> 15720 | L32: =TRUNC(F32+H32+J32,1) -> 1666320 | M32: 금액제외 | O32: 5E47943DC233149788ED7E10CD0A3F | P32: T | Q32: F | R32: F | W32: 2 | AW32: 5E4774EC1283D89509C25BA0F649265E47943DC233149788ED7E10CD0A3F | AY32: -
A33: ST'L 각관 제작설치 | B33: ㅁ-75*75*2.3,아연도각관 | C33: M | D33: 19 | E33: =일위대가목록!E150 -> 7813 | F33: =TRUNC(E33*D33,1) -> 148447 | G33: =일위대가목록!F150 -> 15601 | H33: =TRUNC(G33*D33,1) -> 296419 | I33: =일위대가목록!G150 -> 776 | J33: =TRUNC(I33*D33,1) -> 14744 | K33: =TRUNC(E33+G33+I33,1) -> 24190 | L33: =TRUNC(F33+H33+J33,1) -> 459610 | M33: 금액제외 | O33: 5E47943DC233149788ED7E30FED9D2 | P33: T | Q33: F | R33: F | W33: 2 | AW33: 5E4774EC1283D89509C25BA0F649265E47943DC233149788ED7E30FED9D2 | AY33: -
A34: 파이프 손료<구조물비계> | B34: 합계의 100% | C34: 100% | D34: 0.19 | E34: 0 | F34: =TRUNC(E34*D34,1) -> 0 | G34: 0 | H34: =TRUNC(G34*D34,1) -> 0 | I34: =TRUNC(SUMIF(W30:W39, RIGHTB(O34, 1), L30:L39)*U34, 2) -> 2125930 | J34: =TRUNC(I34*D34,1) -> 403926.7 | K34: =TRUNC(E34+G34+I34,1) -> 2125930 | L34: =TRUNC(F34+H34+J34,1) -> 403926.7 | N34: 5E4774EC1283D89509C25BA0F64926 | O34: 5F5D94B452D3789F390BE0B0BC1B002 | P34: F | Q34: F | R34: F | S34: 3 | T34: 2 | U34: 1 | AW34: 5E4774EC1283D89509C25BA0F649265F5D94B452D3789F390BE0B0BC1C005
A35: 철공 | B35: 일반공사 직종 | C35: 인 | D35: 1 | E35: =단가대비표!O261 -> 0 | F35: =TRUNC(E35*D35,1) -> 0 | G35: =단가대비표!P261 -> 237754 | H35: =TRUNC(G35*D35,1) -> 237754 | I35: =단가대비표!V261 -> 0 | J35: =TRUNC(I35*D35,1) -> 0 | K35: =TRUNC(E35+G35+I35,1) -> 237754 | L35: =TRUNC(F35+H35+J35,1) -> 237754 | M35: 금액제외 | O35: 5E9884F722235E983893ED1026885697AE1A9D | P35: F | Q35: F | R35: T | X35: 3 | AW35: 5E4774EC1283D89509C25BA0F649265E9884F722235E983893ED1026885697AE1A9D | AY35: -
A36: 철판공 | B36: 일반공사 직종 | C36: 인 | D36: 2 | E36: =단가대비표!O262 -> 0 | F36: =TRUNC(E36*D36,1) -> 0 | G36: =단가대비표!P262 -> 219236 | H36: =TRUNC(G36*D36,1) -> 438472 | I36: =단가대비표!V262 -> 0 | J36: =TRUNC(I36*D36,1) -> 0 | K36: =TRUNC(E36+G36+I36,1) -> 219236 | L36: =TRUNC(F36+H36+J36,1) -> 438472 | M36: 금액제외 | O36: 5E9884F722235E983893ED1026885697AE1BBB | P36: F | Q36: F | R36: T | X36: 3 | AW36: 5E4774EC1283D89509C25BA0F649265E9884F722235E983893ED1026885697AE1BBB | AY36: -
A37: 보통인부 | B37: 일반공사 직종 | C37: 인 | D37: 2 | E37: =단가대비표!O256 -> 0 | F37: =TRUNC(E37*D37,1) -> 0 | G37: =단가대비표!P256 -> 169804 | H37: =TRUNC(G37*D37,1) -> 339608 | I37: =단가대비표!V256 -> 0 | J37: =TRUNC(I37*D37,1) -> 0 | K37: =TRUNC(E37+G37+I37,1) -> 169804 | L37: =TRUNC(F37+H37+J37,1) -> 339608 | M37: 금액제외 | O37: 5E9884F722235E983893ED1026885697AE1A96 | P37: F | Q37: F | R37: T | X37: 3 | AW37: 5E4774EC1283D89509C25BA0F649265E9884F722235E983893ED1026885697AE1A96 | AY37: -
A38: 트럭탑재형 크레인 | B38: 10ton | C38: HR | D38: 4 | E38: =일위대가목록!E151 -> 16641 | F38: =TRUNC(E38*D38,1) -> 66564 | G38: =일위대가목록!F151 -> 49479 | H38: =TRUNC(G38*D38,1) -> 197916 | I38: =일위대가목록!G151 -> 22539 | J38: =TRUNC(I38*D38,1) -> 90156 | K38: =TRUNC(E38+G38+I38,1) -> 88659 | L38: =TRUNC(F38+H38+J38,1) -> 354636 | M38: 금액제외 | O38: 595314B98233999B713E9E1007063AA26D3ABDAD | P38: T | Q38: F | R38: F | X38: 3 | AW38: 5E4774EC1283D89509C25BA0F64926595314B98233999B713E9E1007063AA26D3ABDAD | AY38: -
A39: 경비로 적용 | B39: 합계의 100% | C39: 식 | D39: 1 | E39: 0 | F39: =TRUNC(E39*D39,1) -> 0 | G39: 0 | H39: =TRUNC(G39*D39,1) -> 0 | I39: =TRUNC(SUMIF(X30:X39, RIGHTB(O39, 1), L30:L39)*U39, 2) -> 1370470 | J39: =TRUNC(I39*D39,1) -> 1370470 | K39: =TRUNC(E39+G39+I39,1) -> 1370470 | L39: =TRUNC(F39+H39+J39,1) -> 1370470 | N39: 5E4774EC1283D89509C25BA0F64926 | O39: 5F5D94B452D3789F390BE0B0BC1A003 | P39: F | Q39: F | R39: F | S39: 3 | T39: 2 | U39: 1 | AW39: 5E4774EC1283D89509C25BA0F649265F5D94B452D3789F390BE0B0BC1A003
A40: [ 합 계 ] | F40: =TRUNC(SUMIF(N30:N39, N29, F30:F39),0) -> 0 | H40: =TRUNC(SUMIF(N30:N39, N29, H30:H39),0) -> 0 | J40: =TRUNC(SUMIF(N30:N39, N29, J30:J39),0) -> 2993998 | L40: =F40+H40+J40 -> 2993998 | N40: TOTAL | O40: TOTAL
A42: 공사용 가설전기설치 분전반+강재전선관+배선 개소 ( 호표 5 ) | N42: 5E4774EC1283DA901CF22FE0AA0910
A43: 강제전선관 | B43: 강제전선관, 후강전선관, 아연도, 36mm | C43: m | D43: 20 | E43: =단가대비표!O186 -> 3049 | F43: =TRUNC(E43*D43,1) -> 60980 | G43: =단가대비표!P186 -> 0 | H43: =TRUNC(G43*D43,1) -> 0 | I43: =단가대비표!V186 -> 0 | J43: =TRUNC(I43*D43,1) -> 0 | K43: =TRUNC(E43+G43+I43,1) -> 3049 | L43: =TRUNC(F43+H43+J43,1) -> 60980 | M43: 금액제외 | O43: 596D14B2C2B39D98E16D0610AE90C0CB372EC0 | P43: F | Q43: F | R43: T | V43: 1 | AW43: 5E4774EC1283DA901CF22FE0AA0910596D14B2C2B39D98E16D0610AE90C0CB372EC0 | AY43: -
A44: 내열전선 | B44: 내열전선, 내열전선, F-FR-3, 10C*1.78mm | C44: m | D44: 20 | E44: =단가대비표!O29 -> 3171 | F44: =TRUNC(E44*D44,1) -> 63420 | G44: =단가대비표!P29 -> 0 | H44: =TRUNC(G44*D44,1) -> 0 | I44: =단가대비표!V29 -> 0 | J44: =TRUNC(I44*D44,1) -> 0 | K44: =TRUNC(E44+G44+I44,1) -> 3171 | L44: =TRUNC(F44+H44+J44,1) -> 63420 | M44: 금액제외 | O44: 597F9465C2B3AB98DDAFEAF0EA56798190EA3F | P44: F | Q44: F | R44: T | V44: 1 | AW44: 5E4774EC1283DA901CF22FE0AA0910597F9465C2B3AB98DDAFEAF0EA56798190EA3F | AY44: -
...

Sheet 단가산출목록
B1: 단 가 산 출 목 록
B2: [ 김천시 농촌신활력플러스 신축공사 ]
A3: 코 드 | B3: 품 명 | C3: 규 격 | D3: 단위 | E3: 재 료 비 | F3: 노 무 비 | G3: 경 비 | H3: 합 계 | I3: 번 호 | J3: 비 고 | K3: START | L3: 품셈개요
A4: 5E6404DCC2D3BB9C18D4EB808644C7 | B4: 터파기/토사 | C4: 보통, 굴착기 0.7m3 | D4: M3 | E4: =단가산출서!B20 -> 323 | F4: =단가산출서!C20 -> 967 | G4: =단가산출서!D20 -> 407 | H4: =단가산출서!E20 -> 1697 | I4: 산근 1 | K4: 5E6404DCC2D3BB9C18D4EB808644C7 | L4: 공통 8-2-3
A5: 5E6404D12233C39FF5C3DDF05C886E | B5: 되메우기 | C5: 보통, 유압식백호 0.7m3 | D5: M3 | E5: =단가산출서!B39 -> 248 | F5: =단가산출서!C39 -> 744 | G5: =단가산출서!D39 -> 313 | H5: =단가산출서!E39 -> 1305 | I5: 산근 2 | K5: 5E6404D12233C39FF5C3DDF05C886E | L5: 토목 9-3+10
A6: 5E6404DF82332F9A4607405036B051 | B6: 토사 운반/단지외 10km | C6: 보통, 덤프 15ton+굴착기 0.7m3 | D6: M3 | E6: =단가산출서!B88 -> 2941 | F6: =단가산출서!C88 -> 5683 | G6: =단가산출서!D88 -> 2061 | H6: =단가산출서!E88 -> 10685 | I6: 산근 3 | K6: 5E6404DF82332F9A4607405036B051 | L6: 공통 8-2-8
A7: 5E4624FB8293E49165B02B30058036 | B7: 시멘트운반 | C7: L:10km, 덤프 8ton | D7: 포 | E7: =단가산출서!B159 -> 0 | F7: =단가산출서!C159 -> 0 | G7: =단가산출서!D159 -> 1475 | H7: =단가산출서!E159 -> 1475 | I7: 산근 4 | K7: 5E4624FB8293E49165B02B30058036 | L7: 공통 8-2-8
A8: 5E4624FB82E3669503A776302B9355 | B8: 운반비(트레일러 20ton+크레인 10ton) | C8: 철근, L:10km | D8: TON | E8: =단가산출서!B217 -> 0 | F8: =단가산출서!C217 -> 0 | G8: =단가산출서!D217 -> 10925 | H8: =단가산출서!E217 -> 10925 | I8: 산근 5 | K8: 5E4624FB82E3669503A776302B9355
A9: 5E4624FB82E3669503A776302B924F | B9: 운반비(트레일러 20ton+크레인 10ton) | C9: 철근, L:10km(공장→현장) | D9: TON | E9: =단가산출서!B275 -> 0 | F9: =단가산출서!C275 -> 0 | G9: =단가산출서!D275 -> 10925 | H9: =단가산출서!E275 -> 10925 | I9: 산근 6 | K9: 5E4624FB82E3669503A776302B924F

Sheet 단가산출서
A1: 단 가 산 출 서
A2: [ 김천시 농촌신활력플러스 신축공사 ]
A3: 산 출 내 역 | B3: 재 료 비 | C3: 노 무 비 | D3: 경 비 | E3: 합 계 | F3: 비 고 | G3: START | H3: 코드 | I3: 품명 | J3: 규격 | K3: 단위 | L3: 수량 | M3: 변수 | N3: 값 | O3: 소계 | P3: 소계 | Q3: 소계 | R3: 소계 | S3: 소계 | T3: 총계
A4: 터파기/토사 보통, 굴착기 0.7m3 M3 ( 산근 1 ) | G4: 5E6404DCC2D3BB9C18D4EB808644C7 | I4: 터파기/토사 | J4: 보통, 굴착기 0.7m3 | K4: M3
G5: 5E6404DCC2D3BB9C18D4EB808644C7 | H5: C | L5: 1
A6: 굴삭기(무한궤도),0.7㎥ M3 | B6: 0 | C6: 0 | D6: 0 | E6: 0 | G6: 5E6404DCC2D3BB9C18D4EB808644C7 | H6: C! | I6: '굴삭기(무한궤도),0.7㎥ M3'
