Workbook

Sheet 원가
A1: 원 가 계 산 서
A2: 공사명: | C2: 경기고 교사동 샌드위치패널 해소 전기공사
A3: 비 목 | C3: 구 분 | D3: 금 액 | E3: 구 성 비
B4: 재 료 비 | C4: 직 접 재 료 비
C5: 간 접 재 료 비
A6: 순 | C6: ( 소 계 )
B7: 노 무 비 | C7: 직 접 노 무 비
C8: 간 접 노 무 비 | E8: 직접노무비 | F8: x | G8: 0.175
C9: ( 소 계 )
C10: 기 계 경 비
A11: 공 | C11: 산 재 보 험 료 | E11: 노무비 | F11: x | G11: 0.0356
C12: 고 용 보 험 료 | E12: 노무비 | F12: x | G12: 0.0101
B13: 경 | C13: 건 강 보 험 료 | D13: 367765 | E13: 직접노무비 | F13: x | G13: 0.03595
C14: 연 금 보 험 료 | D14: 485921 | E14: 직접노무비 | F14: x | G14: 0.0475
C15: 노인장기요양보험료 | D15: 48324 | E15: 건강보험료 | F15: x | G15: 0.1314
A16: 사 | C16: 퇴직공제부금비 | D16: 0 | E16: 직접노무비 | F16: x | G16: 0
C17: 산업안전보건관리비 | D17: 349184 | E17: (재료+직노) | F17: x | G17: 0.0311
C18: 기 타 경 비 | E18: (재료+노무) | F18: x | G18: 0.05
C19: 석 면 분 담 금 | E19: 노무비 | F19: x | G19: 6e-05
B20: 비 | C20: 임금채권부담금 | E20: 노무비 | F20: x | G20: 0.0009
A21: 비 | C21: 환 경 보 전 비
C23: ( 소 계 )
A24: 일 반 관 리 비 | E24: (재료+노무+경비) | F24: x | G24: 0.08
A25: 이 윤 | E25: (노무비+경비+일관) | F25: x | G25: 0.15
A26: ( 총 원 가 ) | D26: 19077671
A27: 손해배상 책임보험 | D27: 50511 | E27: 총원가 | F27: x | G27: 0.0026477
A28: 부 가 가 치 세 | D28: 1912818 | E28: 공급가액 | F28: x | G28: 0.1
A29: ( 합 계 ) | D29: 21041000
A34: ( 총 계 ) | D34: 21041000

Sheet 총괄표
A1: 총줄수-> | B1: 29 | D1: [ 경기고 교사동 샌드위치패널 해소 전기공사 ] | AA1: 연속견적가로형식
A2: 번호 | B2: 공종코드 | C2: … | D2: 공 종 명 | E2: 규격 | F2: 단위 | G2: 수량 | H2: 재료비 | J2: 노무비 | M2: 경비 | P2: 계 | Q2: 비고
H3: 단가 | I3: 금액 | J3: 수량 | K3: 단가 | L3: 금액 | M3: 단가 | N3: 금액 | O3: 단가
B4: 공종줄 | D4: 경기고 교사동 샌드위치패널 해소 전기공사
B5: 01 | D5: 1.전기설비공사 | F5: 식 | G5: 1
B6: 02 | D6: 2.기타설비공사 | F6: 식 | G6: 1
C29: Total | D29: ( 합 계 )

Sheet 내역서
A1: 총줄수-> | B1: 133 | D1: [ 경기고 교사동 샌드위치패널 해소 전기공사 ] | W1: 노임 계산 정보 | AA1: 부속재 및 손료
A2: 번호 | B2: 공종코드 | C2: 코드 | D2: 명 칭 | E2: 규 격 | F2: 단위 | G2: 수량 | H2: 재료비 | J2: 노무비 | M2: 경비 | P2: 계 | Q2: 비고 | W2: 노임계 | X2: 전체(%) | Y2: 공종별(%) | Z2: 노임 소수 | AA2: CD배관재 | AB2: 일반배관재 | AC2: 소모재 | AD2: 자재계 | AE2: 노임계
H3: 단가 | I3: 금액 | J3: 수량 | K3: 단가 | L3: 금액 | M3: 단가 | N3: 금액 | O3: 단가 | AD3: =IF(옵션!$C$11 =0, "1", 옵션!$C$11) -> 1 | AE3: =IF(옵션!$C$12 =0, "1", 옵션!$C$12) -> 1
B4: 공종줄 | D4: 1.전기설비공사
A5: 59750337011 | B5: 01 | C5: 3913170620935608 | D5: 강제전선관(노출) | E5: 아연도 16 mm | F5: M | AB5: =J5*H5 -> 0 | AC5: =J5*H5 -> 0
A6: 59753017003 | B6: 01 | C6: 3913170620174410 | D6: 1종금속제가요전선관 | E6: 16 mm 일반-비방수 | F6: M | AB6: =J6*H6 -> 0 | AC6: =J6*H6 -> 0
A7: A0500000000 | B7: 01 | C7: RENT000000000002 | D7: [ 배관 부속재 ] | E7: 전선관의 15 % | F7: 식 | AB7: =TRUNC(SUM(AB4:AB6)) -> 0
A8: 59753017043 | B8: 01 | C8: 3913170620174434 | D8: 1종금속제가요전선관 | E8: 커넥터, 16 mm 일반-비방수 | F8: 개
A9: 59753767011 | B9: 01 | C9: 3912130810035750 | D9: 아우트렛박스 | E9: 8각 54㎜ | F9: 개
A10: 59753767041 | B10: 01 | C10: 3912130810035753 | D10: 아우트렛박스 | E10: 중형4각 54㎜ | F10: 개
A11: 59753777102 | B11: 01 | C11: 3912130610035778 | D11: 스위치박스 | E11: 1 개용 54 mm | F11: 개
A12: MM300040259 | B12: 01 | C12: 3912130610035785 | D12: 콘센트박스 | E12: 1 개용 54 mm | F12: 개
A13: MM666894664 | B13: 01 | C13: InMastDBNonCode | D13: 연결박스 | E13: 8각 54㎜ | F13: 개
A14: 61455137894 | B14: 01 | C14: 3912130320175917 | D14: 정션 박스 | E14: 100*100*50 | F14: 개
A15: 59751477029 | B15: 01 | C15: 3913171220173817 | D15: 전선덕트 | E15: 알루미늄 100x50 mm | F15: M
A16: 59350187023 | B16: 01 | C16: 3912120421650781 | D16: 알루미늄몰드 | E16: 중(03호) 36x14 mm | F16: 개
A17: 59350187023 | B17: 01 | C17: 3912120421650781 | D17: 알루미늄몰드 | E17: 중(03호) 36x14 mm | F17: 개 | Q17: 철거자재
A18: MM300040388 | B18: 01 | C18: 3913171221650785 | D18: PVC MOLD(고강도) | E18: 중(03호) 39x15 mm | F18: 개
A19: MM300040388 | B19: 01 | C19: 3913171221650785 | D19: PVC MOLD(고강도) | E19: 중(03호) 39x15 mm | F19: 개 | Q19: 철거자재
A20: MM481669623 | B20: 01 | C20: 2612162922076726 | D20: 450/750V 저독성난연절연전선 | E20: HFIX 1.38mm(1.5㎟) | F20: M | AC20: =J20*H20 -> 0
A21: MM481669624 | B21: 01 | C21: 2612162922076727 | D21: 450/750V 저독성난연절연전선 | E21: HFIX 1.78mm(2.5㎟) | F21: M | AC21: =J21*H21 -> 0
A22: E1450667003 | B22: 01 | C22: 2612162922076728 | D22: 450/750V 저독성난연절연전선 | E22: HFIX 2.25mm(4㎟) | F22: M | AC22: =J22*H22 -> 0
A23: 59301517001 | B23: 01 | C23: 3912998720170517 | D23: 매입스위치 | E23: 15A, 250V 1로1구 | F23: 개
A24: 59301517002 | B24: 01 | C24: 3912998720170518 | D24: 매입스위치 | E24: 15A, 250V 1로2구 | F24: 개
A25: 59300457325 | B25: 01 | C25: InMastDBNonCode | D25: 스위치 | E25: 선풍기용 | F25: 개 | Q25: 철거재사용
A26: 59350317121 | B26: 01 | C26: 3912140620170834 | D26: 콘센트 | E26: 노출-접지형, 15A 250V 1구 | F26: 개
A27: 59350317205 | B27: 01 | C27: 3912140620170849 | D27: 콘센트 | E27: 매입-접지형, 15A 250V 1구 | F27: 개
A28: 59350317206 | B28: 01 | C28: 3912140620170850 | D28: 콘센트 | E28: 매입-접지형, 15A 250V 2구 | F28: 개
A29: 63500197001 | B29: 01 | C29: 4619150120192512 | D29: 화재감지기 | E29: 열감지기,차동식스포트형 | F29: 개
A30: 63500197004 | B30: 01 | C30: 4619150120192515 | D30: 화재감지기 | E30: 열감지기,정온식스포트형 | F30: 개
A31: MM550686423 | B31: 01 | C31: InMastDBNonCode | D31: 비상라이트 | E31: LED 1W x 1W 60분 | F31: 조 | Q31: 철거재사용
A32: 59753867002 | B32: 01 | C32: 3912110220186112 | D32: 세대분전반 | E32: 30AF(Main), 3회로 | F32: 개
A33: 56931750104 | B33: 01 | C33: G56931750104 | D33: 스위치 철거 | E33: 매입스위치(단로,삼로) | F33: 개 | Q33: G56931750104 | AE33: =L33 -> 0
A34: 56931750108 | B34: 01 | C34: G56931750108 | D34: 콘센트 철거 | E34: 매입콘센트(접지,15A) | F34: 개 | Q34: G56931750108 | AE34: =L34 -> 0
A35: 56931750110 | B35: 01 | C35: G56931750110 | D35: 콘센트 철거 | E35: 노출콘센트(접지,15A) | F35: 개 | Q35: G56931750110 | AE35: =L35 -> 0
A36: 56931750115 | B36: 01 | C36: G56931750115 | D36: 선풍기 철거재사용 | E36: 벽부형 | F36: 개 | Q36: G56931750115 | AE36: =L36 -> 0
A37: 56931750116 | B37: 01 | C37: G56931750116 | D37: 감지기 철거 | E37: SPOT형 감지기 | F37: 개 | Q37: G56931750116 | AE37: =L37 -> 0
A38: 56931750134 | B38: 01 | C38: G56931750134 | D38: 선로 정리비 | E38: 보통인부(0.1인) | F38: 개소 | Q38: G56931750134 | AE38: =L38 -> 0
A39: 56931750408 | B39: 01 | C39: G56931750408 | D39: 전선관 철거재사용 | E39: ST 16C | F39: M | Q39: G56931750408 | AE39: =L39 -> 0
A40: 56931750414 | B40: 01 | C40: G56931750414 | D40: 전선관 철거재사용 | E40: ST 36C | F40: M | Q40: G56931750414 | AE40: =L40 -> 0
A41: 56931750418 | B41: 01 | C41: G56931750418 | D41: 전선관 철거재사용 | E41: ST 54C | F41: M | Q41: G56931750418 | AE41: =L41 -> 0
A42: 56931750436 | B42: 01 | C42: G56931750436 | D42: 전선관 철거재사용 | E42: HI 54C | F42: M | Q42: G56931750436 | AE42: =L42 -> 0
A43: 56931750444 | B43: 01 | C43: G56931750444 | D43: 전선관 철거재사용 | E43: FX 16C | F43: M | Q43: G56931750444 | AE43: =L43 -> 0
A44: 56931750446 | B44: 01 | C44: G56931750446 | D44: 전선관 철거재사용 | E44: FX 22C | F44: M | Q44: G56931750446 | AE44: =L44 -> 0
... A50: 56931750704 | B50: 01 | C50: G56931750704 | D50: 케이블 철거재사용 | E50: 4C/4sq 이하 | F50: M | Q50: G56931750704 | AE50: =L50 -> 0
A51: 56931750769 | B51: 01 | C51: G56931750769 | D51: 분전반 철거 | F51: 면 | Q51: G56931750769 | AE51: =L51 -> 0
A52: MM681771133 | B52: 01 | C52: InMastDBNonCode | D52: 온도조절기 | E52: 냉난방용 | F52: 개 | Q52: 철거재사용
A53: MM681771147 | B53: 01 | C53: InMastDBNonCode | D53: 자동환기감지기 | E53: 환기용센서 | F53: 개 | Q53: 철거재사용
A54: MM456895042 | B54: 01 | C54: 391115ZZ701Z0004 | D54: 조명기구 TYPE "A" | E54: LED 40W, 직부등(1200*300) | F54: 개
A55: MM736909461 | B55: 01 | C55: 391115ZZ701Z0005 | D55: 조명기구 TYPE "A1" | E55: FL 2/32W, 직부등 | F55: 개 | Q55: 철거자재
A56: MM728788976 | B56: 01 | C56: 391115ZZ701Z0006 | D56: 조명기구 TYPE "B" | E56: LED 2/12W, 매입등(직관형) | F56: 개 | Q56: 철거재사용
A57: MM060037347 | B57: 01 | C57: 391115ZZ701Z0007 | D57: 조명기구 TYPE "C" | E57: LED 12W, 원형직부등 | F57: 개
A58: MM060037347 | B58: 01 | C58: 391115ZZ701Z0007 | D58: 조명기구 TYPE "C" | E58: LED 12W, 원형직부등 | F58: 개 | Q58: 철거재사용
A59: MM060037347 | B59: 01 | C59: 391115ZZ701Z0007 | D59: 조명기구 TYPE "C" | E59: LED 12W, 원형직부등 | F59: 개 | Q59: 철거자재
A60: A0100000000 | B60: 01 | C60: RENT000000000003 | D60: [ 소모 잡자재 ] | E60: 전선, 전선관의 2 % | F60: 식 | AC60: =TRUNC(TRUNC(SUM(AC4:AC59))*옵션!$B$33/100) -> 0 | AD60: =TRUNC(SUM(I4:I59))+TRUNC(SUM(N4:N59)) -> 0
A61: 56900017016 | B61: 01 | C61: L001010101000075 | D61: 노 무 비 | E61: 내선전공 | F61: 인 | AE61: =L61 -> 0
A62: A0300000000 | B62: 01 | C62: RENT000000000006 | D62: [ 공 구 손 료 ] | E62: 노무비의 3 % | F62: 식
AC63: =TRUNC(AE63*옵션!$B$36/100) -> 0 | AD63: =TRUNC(SUM(L4:L61)) -> 0 | AE63: =TRUNC(SUM(AE4:AE62)) -> 0
B81: 합계줄 | D81: ( 합 계 )
B82: 공종줄 | D82: 2.기타설비공사
A83: 59753017003 | B83: 02 | C83: 3913170620174410 | D83: 1종금속제가요전선관 | E83: 16 mm 일반-비방수 | F83: M | AB83: =J83*H83 -> 0 | AC83: =J83*H83 -> 0
A84: A0500000000 | B84: 02 | C84: RENT000000000002 | D84: [ 배관 부속재 ] | E84: 전선관의 15 % | F84: 식 | AB84: =TRUNC(SUM(AB82:AB83)) -> 0
A85: 59753017043 | B85: 02 | C85: 3913170620174434 | D85: 1종금속제가요전선관 | E85: 커넥터, 16 mm 일반-비방수 | F85: 개
A86: 59753777102 | B86: 02 | C86: 3912130610035778 | D86: 스위치박스 | E86: 1 개용 54 mm | F86: 개
A87: 61455137894 | B87: 02 | C87: 3912130320175917 | D87: 정션 박스 | E87: 100*100*50 | F87: 개
A88: MM300040388 | B88: 02 | C88: 3913171221650785 | D88: PVC MOLD(고강도) | E88: 중(03호) 39x15 mm | F88: 개
A89: MM300040388 | B89: 02 | C89: 3913171221650785 | D89: PVC MOLD(고강도) | E89: 중(03호) 39x15 mm | F89: 개 | Q89: 철거자재
A90: MM666916697 | B90: 02 | C90: InMastDBNonCode | D90: 비닐캡타이어원형코드 | E90: VCT-F, 2C/1.5sq | F90: M | Q90: 철거재사용 | AC90: =J90*H90 -> 0
A91: EC452167502 | B91: 02 | C91: InMastDBNonCode | D91: UTP케이블-2열동시 1열당 | E91: Cat.6 0.5mm 4P | F91: M | AC91: =J91*H91 -> 0
A92: MM619136765 | B92: 02 | C92: InMastDBNonCode | D92: 랜용 커플러(4P) | E92: Cat.6 | F92: 개
A93: 58051750201 | B93: 02 | C93: 3912140620937656 | D93: 모듈라짹 | E93: 매입용, Cat.6 1구 | F93: 개
A94: 58051750202 | B94: 02 | C94: 3912140620937657 | D94: 모듈라짹 | E94: 매입용, Cat.6 2구 | F94: 개
A95: 58200297002 | B95: 02 | C95: 4322179220164893 | D95: 분할기 | E95: TV 유니트, 단말용 | F95: 개
A96: 56931750134 | B96: 02 | C96: G56931750134 | D96: 선로 정리비 | E96: 보통인부(0.1인) | F96: 개소 | Q96: G56931750134 | AE96: =L96 -> 0
A97: 56931750124 | B97: 02 | C97: G56931750124 | D97: 선로 정리비 | E97: 보통인부(0.5인) | F97: 개소 | Q97: G56931750124 | AE97: =L97 -> 0
A98: 56931750301 | B98: 02 | C98: G56931750301 | D98: 모듈라짹 철거 | E98: 매입, 1구 | F98: 개 | Q98: G56931750301 | AE98: =L98 -> 0
A99: 56931750303 | B99: 02 | C99: G56931750303 | D99: 모듈라짹 철거 | E99: 매입, 2구 | F99: 개 | Q99: G56931750303 | AE99: =L99 -> 0
A100: 56931750305 | B100: 02 | C100: G56931750305 | D100: TV UNIT 철거 | E100: 매입, 유니트 | F100: 개 | Q100: G56931750305 | AE100: =L100 -> 0
A101: 56931750308 | B101: 02 | C101: G56931750308 | D101: 스피커 철거재사용 | E101: 매입, 고정형, 5W 이하 | F101: 개 | Q101: G56931750308 | AE101: =L101 -> 0
A102: 56931750314 | B102: 02 | C102: G56931750314 | D102: 스피커 철거재사용 | E102: 노출, 고정형, 30W 이하 | F102: 개 | Q102: G56931750314 | AE102: =L102 -> 0
A103: 56931750316 | B103: 02 | C103: G56931750316 | D103: 통신용랙 철거재사용 | E103: 19" RACK, 네트워크용 | F103: 개 | Q103: G56931750316 | AE103: =L103 -> 0
A104: 56931750337 | B104: 02 | C104: G56931750337 | D104: 빔프로젝터 철거재사용 | F104: 개 | Q104: G56931750337 | AE104: =L104 -> 0
A105: 56931750345 | B105: 02 | C105: G56931750345 | D105: 방범감지기 철거재사용 | F105: 개 | Q105: G56931750345 | AE105: =L105 -> 0
A106: 56931750352 | B106: 02 | C106: G56931750352 | D106: 무선AP 철거재사용 | F106: 개 | Q106: G56931750352 | AE106: =L106 -> 0
A107: 56931750466 | B107: 02 | C107: G56931750466 | D107: 전선관 철거재사용 | E107: CD 28C | F107: M | Q107: G56931750466 | AE107: =L107 -> 0
A108: 56931750468 | B108: 02 | C108: G56931750468 | D108: 전선관 철거재사용 | E108: CD 36C | F108: M | Q108: G56931750468 | AE108: =L108 -> 0
A109: 56931750752 | B109: 02 | C109: G56931750752 | D109: 케이블 철거재사용 | E109: UTP 4P | F109: M | Q109: G56931750752 | AE109: =L109 -> 0
A110: MM681771134 | B110: 02 | C110: InMastDBNonCode | D110: 콘트롤스위치 | E110: 전동스크린용 | F110: 개 | Q110: 철거재사용
A111: A0100000000 | B111: 02 | C111: RENT000000000003 | D111: [ 소모 잡자재 ] | E111: 전선, 전선관의 2 % | F111: 식 | AC111: =TRUNC(TRUNC(SUM(AC82:AC110))*옵션!$B$33/100) -> 0 | AD111: =TRUNC(SUM(I82:I110))+TRUNC(SUM(N82:N110)) -> 0
A112: 56900017016 | B112: 02 | C112: L001010101000075 | D112: 노 무 비 | E112: 내선전공 | F112: 인 | AE112: =L112 -> 0
A113: 56900017076 | B113: 02 | C113: L001010101000078 | D113: 노 무 비 | E113: 저압케이블전공 | F113: 인 | AE113: =L113 -> 0
A114: 56900017113 | B114: 02 | C114: L001010101000086 | D114: 노 무 비 | E114: 통신내선공 | F114: 인 | AE114: =L114 -> 0
A115: A0300000000 | B115: 02 | C115: RENT000000000006 | D115: [ 공 구 손 료 ] | E115: 노무비의 3 % | F115: 식
AC116: =TRUNC(AE116*옵션!$B$36/100) -> 0 | AD116: =TRUNC(SUM(L82:L114)) -> 0 | AE116: =TRUNC(SUM(AE82:AE115)) -> 0
B133: 합계줄 | D133: ( 합 계 )

Sheet 합산자재
B1: 55 | C1: [ 경기고 방수및샌드위치패널해소공사(전기) ] - 합산자재목록
A2: 번호 | B2: … | C2: 코드 | D2: 명 칭 | E2: 규 격 | F2: 단위 | G2: 수량 | H2: 재료비 | I2: 노무비 | J2: 경비 | K2: 지급비 | L2: 계 | M2: 비고
B4: 59750337011 | C4: 3913170620935608 | D4: 강제전선관(노출) | E4: 아연도 16 mm | F4: M | G4: 2 | H4: =ROUNDDOWN(#REF!*옵션!$D$11, 0) -> #REF! | L4: =SUM(H4,I4,J4) -> #REF!
B5: 59753017003 | C5: 3913170620174410 | D5: 1종금속제가요전선관 | E5: 16 mm 일반-비방수 | F5: M | G5: 99 | H5: =ROUNDDOWN(#REF!*옵션!$D$11, 0) -> #REF! | L5: =SUM(H5,I5,J5) -> #REF!
B6: 59753017043 | C6: 3913170620174434 | D6: 1종금속제가요전선관 | E6: 커넥터, 16 mm 일반-비방수 | F6: 개 | G6: 56 | H6: =ROUNDDOWN(#REF!*옵션!$D$11, 0) -> #REF! | L6: =SUM(H6,I6,J6) -> #REF!
B7: 59753767011 | C7: 3912130810035750 | D7: 아우트렛박스 | E7: 8각 54㎜ | F7: 개 | G7: 8 | H7: =ROUNDDOWN(#REF!*옵션!$D$11, 0) -> #REF! | L7: =SUM(H7,I7,J7) -> #REF!
B8: 59753767041 | C8: 3912130810035753 | D8: 아우트렛박스 | E8: 중형4각 54㎜ | F8: 개 | G8: 1 | H8: =ROUNDDOWN(#REF!*옵션!$D$11, 0) -> #REF! | L8: =SUM(H8,I8,J8) -> #REF!
B9: 59753777102 | C9: 3912130610035778 | D9: 스위치박스 | E9: 1 개용 54 mm | F9: 개 | G9: 6 | H9: =ROUNDDOWN(#REF!*옵션!$D$11, 0) -> #REF! | L9: =SUM(H9,I9,J9) -> #REF!
B10: MM300040259 | C10: 3912130610035785 | D10: 콘센트박스 | E10: 1 개용 54 mm | F10: 개 | G10: 10 | H10: =ROUNDDOWN(#REF!*옵션!$D$11, 0) -> #REF! | L10: =SUM(H10,I10,J10) -> #REF!
B11: MM666894664 | C11: InMastDBNonCode | D11: 연결박스 | E11: 8각 54㎜ | F11: 개 | G11: 1 | H11: =ROUNDDOWN(#REF!*옵션!$D$11, 0) -> #REF! | L11: =SUM(H11,I11,J11) -> #REF!
B12: 61455137894 | C12: 3912130320175917 | D12: 정션 박스 | E12: 100*100*50 | F12: 개 | G12: 7 | H12: =ROUNDDOWN(#REF!*옵션!$D$11, 0) -> #REF! | L12: =SUM(H12,I12,J12) -> #REF!
B13: 59751477029 | C13: 3913171220173817 | D13: 전선덕트 | E13: 알루미늄 100x50 mm | F13: M | G13: 4 | H13: =ROUNDDOWN(#REF!*옵션!$D$11, 0) -> #REF! | L13: =SUM(H13,I13,J13) -> #REF!
B14: 59350187023 | C14: 3912120421650781 | D14: 알루미늄몰드 | E14: 중(03호) 36x14 mm | F14: 개 | G14: 19 | H14: =ROUNDDOWN(#REF!*옵션!$D$11, 0) -> #REF! | L14: =SUM(H14,I14,J14) -> #REF!
B15: MM300040388 | C15: 3913171221650785 | D15: PVC MOLD(고강도) | E15: 중(03호) 39x15 mm | F15: 개 | G15: 65 | H15: =ROUNDDOWN(#REF!*옵션!$D$11, 0) -> #REF! | L15: =SUM(H15,I15,J15) -> #REF!
... B42: MM060037347 | C42: 391115ZZ701Z0007 | D42: 조명기구 TYPE "C" | E42: LED 12W, 원형직부등 | F42: 개 | G42: 3 | H42: =ROUNDDOWN(#REF!*옵션!$D$11, 0) -> #REF! | L42: =SUM(H42,I42,J42) -> #REF!
B43: 56900017016 | C43: L001010101000075 | D43: 노 무 비 | E43: 내선전공 | F43: 인 | G43: 35.1712 | I43: =ROUNDDOWN(#REF!, 0) -> #REF! | L43: =SUM(H43,I43,J43) -> #REF!
B44: 56900017076 | C44: L001010101000078 | D44: 노 무 비 | E44: 저압케이블전공 | F44: 인 | G44: 0.5125 | I44: =ROUNDDOWN(#REF!, 0) -> #REF! | L44: =SUM(H44,I44,J44) -> #REF!
B45: 56900017113 | C45: L001010101000086 | D45: 노 무 비 | E45: 통신내선공 | F45: 인 | G45: 0.1704 | I45: =ROUNDDOWN(#REF!, 0) -> #REF! | L45: =SUM(H45,I45,J45) -> #REF!
B46: 56900017116 | C46: L001010101000089 | D46: 노 무 비 | E46: 통신케이블공 | F46: 인 | G46: 0.09 | I46: =ROUNDDOWN(#REF!, 0) -> #REF! | L46: =SUM(H46,I46,J46) -> #REF!
B47: 56900017114 | C47: L001010101000087 | D47: 노 무 비 | E47: 통신설비공 | F47: 인 | G47: 4.002 | I47: =ROUNDDOWN(#REF!, 0) -> #REF! | L47: =SUM(H47,I47,J47) -> #REF!
B48: 56900017112 | C48: L001010501000112 | D48: 노 무 비 | E48: 통신관련산업기사 | F48: 인 | G48: 1.47 | I48: =ROUNDDOWN(#REF!, 0) -> #REF! | L48: =SUM(H48,I48,J48) -> #REF!
B49: 56900017041 | C49: L001010101000002 | D49: 노 무 비 | E49: 보통인부 | F49: 인 | G49: 2.54 | I49: =ROUNDDOWN(#REF!, 0) -> #REF! | L49: =SUM(H49,I49,J49) -> #REF!

Sheet 옵션
B1: 재료비 | C1: 노무비 | D1: 경비 | F1: 계
A2: 총 급 액 | B2: =총괄표!I29 -> 0 | C2: =총괄표!L29 -> 0 | D2: =총괄표!N29 -> 0 | F2: =SUM(B2,C2,D2) -> 0
A3: 관급 자재비 | F3: =SUM(B3,C3,D3) -> 0 | H3: 금액조정이 안되나요?
H6: 이지테크에서 변환할 때 2번 옵션을 지정하여 다시 해보세요
H9: 시트를 삭제할 때 에러가 뜨면 1번 옵션으로 하면 됩니다.
B10: 적용율(%) | C10: 끝자리 | D10: 적용율(%)/100 | E10: 일위대가소수
A11: 전체자재 적용율(%)(공종/일위대가) | B11: 100 | C11: 1 | D11: =$B$11/100 -> 1
A12: 전체노임 적용율(%)(공종) | B12: 100 | C12: 1 | D12: =$B$12/100 -> 1 | E12: 2 | H12: 2번 옵션으로 변환했을 때에는 결과값이 다를 수 있습니다.
A13: 전체노임 적용율(%)(일위대가) | B13: 100 | C13: 1 | D13: =$B$13/100 -> 1 | E13: 5
A20: *(그룹별 자재 단가 추가 할증)* | B20: 적용율(%) | D20: 적용율(%)/100
A21: Cable(CAB) 할증(%) | B21: =B11 -> 100 | D21: =$B$21/100 -> 1
A22: Wire (WIR) 할증(%) | B22: =B11 -> 100 | D22: =$B$22/100 -> 1
A23: Pipe (PIP) 할증(%) | B23: =B11 -> 100 | D23: =$B$23/100 -> 1
A24: 제 4그룹 할증(%) | B24: =B11 -> 100 | D24: =$B$24/100 -> 1
A25: 제 5그룹 할증(%) | B25: =B11 -> 100 | D25: =$B$25/100 -> 1
A30: *(그룹별 노임 추가 할증)* | B30: 적용율(%) | C30: 자동부속재(전기) | D30: 자동부속재(통신)
A31: 배관부속재(%) | B31: 15 | C31: 15 | D31: 20
A32: CD관부속재(%) | B32: 40 | C32: 40 | D32: 40
A33: 소모잡자재(%) | B33: 2 | H33: 본 파일은 이지테크에서 2번 옵션으로 만들었습니다.
A34: 방폭할증(%)
A35: 고소할증(%) | B35: 2
A36: 공구손료(%) | B36: 3
A40: *(공종별 노임 적용율(%))* | B40: 적용율(%) | C40: 소수자릿수
A41: 1.전기설비공사 | B41: 100 | C41: 0
A42: 2.기타설비공사 | B42: 100 | C42: 0
