Workbook

Sheet 원가
A1: 원 가 계 산 서
A2: 공사명: | C2: 경기고 교사동 샌드위치패널 해소 전기공사
A3: 비 목 | C3: 구 분 | D3: 금 액 | E3: 구 성 비
B4: 재 료 비 | C4: 직 접 재 료 비
C5: 간 접 재 료 비
A6: 순 | C6: ( 소 계 )
B7: 노 무 비 | C7: 직 접 노 무 비
C8: 간 접 노 무 비 | E8: 직접노무비 | F8: x | G8: 0.175
C9: ( 소 계 )
C10: 기 계 경 비
A11: 공 | C11: 산 재 보 험 료 | E11: 노무비 | F11: x | G11: 0.0356
C12: 고 용 보 험 료 | E12: 노무비 | F12: x | G12: 0.0101
B13: 경 | C13: 건 강 보 험 료 | D13: 367765 | E13: 직접노무비 | F13: x | G13: 0.03595
C14: 연 금 보 험 료 | D14: 485921 | E14: 직접노무비 | F14: x | G14: 0.0475
C15: 노인장기요양보험료 | D15: 48324 | E15: 건강보험료 | F15: x | G15: 0.1314
A16: 사 | C16: 퇴직공제부금비 | D16: 0 | E16: 직접노무비 | F16: x | G16: 0
C17: 산업안전보건관리비 | D17: 349184 | E17: (재료+직노) | F17: x | G17: 0.0311
C18: 기 타 경 비 | E18: (재료+노무) | F18: x | G18: 0.05
C19: 석 면 분 담 금 | E19: 노무비 | F19: x | G19: 6e-05
B20: 비 | C20: 임금채권부담금 | E20: 노무비 | F20: x | G20: 0.0009
A21: 비 | C21: 환 경 보 전 비
C23: ( 소 계 )
A24: 일 반 관 리 비 | E24: (재료+노무+경비) | F24: x | G24: 0.08
A25: 이 윤 | E25: (노무비+경비+일관) | F25: x | G25: 0.15
A26: ( 총 원 가 ) | D26: 19077671
A27: 손해배상 책임보험 | D27: 50511 | E27: 총원가 | F27: x | G27: 0.0026477
A28: 부 가 가 치 세 | D28: 1912818 | E28: 공급가액 | F28: x | G28: 0.1
A29: ( 합 계 ) | D29: 21041000
A34: ( 총 계 ) | D34: 21041000

Sheet 총괄표
A1: 총줄수-> | B1: 29 | D1: [ 경기고 교사동 샌드위치패널 해소 전기공사 ] | AA1: 연속견적가로형식
A2: 번호 | B2: 공종코드 | C2: … | D2: 공 종 명 | E2: 규격 | F2: 단위 | G2: 수량 | H2: 재료비 | J2: 노무비 | M2: 경비 | P2: 계 | Q2: 비고
H3: 단가 | I3: 금액 | J3: 수량 | K3: 단가 | L3: 금액 | M3: 단가 | N3: 금액 | O3: 단가
B4: 공종줄 | D4: 경기고 교사동 샌드위치패널 해소 전기공사
B5: 01 | D5: 1.전기설비공사 | F5: 식 | G5: 1
B6: 02 | D6: 2.기타설비공사 | F6: 식 | G6: 1
C29: Total | D29: ( 합 계 )

Sheet 내역서
A1: 총줄수-> | B1: 133 | D1: [ 경기고 교사동 샌드위치패널 해소 전기공사 ] | W1: 노임 계산 정보 | AA1: 부속재 및 손료
A2: 번호 | B2: 공종코드 | C2: 코드 | D2: 명 칭 | E2: 규 격 | F2: 단위 | G2: 수량 | H2: 재료비 | J2: 노무비 | M2: 경비 | P2: 계 | Q2: 비고 | W2: 노임계 | X2: 전체(%) | Y2: 공종별(%) | Z2: 노임 소수 | AA2: CD배관재 | AB2: 일반배관재 | AC2: 소모재 | AD2: 자재계 | AE2: 노임계
H3: 단가 | I3: 금액 | J3: 수량 | K3: 단가 | L3: 금액 | M3: 단가 | N3: 금액 | O3: 단가 | AD3: =IF(옵션!$C$11 =0, "1", 옵션!$C$11) -> 1 | AE3: =IF(옵션!$C$12 =0, "1", 옵션!$C$12) -> 1
B4: 공종줄 | D4: 1.전기설비공사
A5: 59750337011 | B5: 01 | C5: 3913170620935608 | D5: 강제전선관(노출) | E5: 아연도 16 mm | F5: M | AB5: =J5*H5 -> 0 | AC5: =J5*H5 -> 0
A6: 59753017003 | B6: 01 | C6: 3913170620174410 | D6: 1종금속제가요전선관 | E6: 16 mm 일반-비방수 | F6: M | AB6: =J6*H6 -> 0 | AC6: =J6*H6 -> 0
A7: A0500000000 | B7: 01 | C7: RENT000000000002 | D7: [ 배관 부속재 ] | E7: 전선관의 15 % | F7: 식 | AB7: =TRUNC(SUM(AB4:AB6)) -> 0
A8: 59753017043 | B8: 01 | C8: 3913170620174434 | D8: 1종금속제가요전선관 | E8: 커넥터, 16 mm 일반-비방수 | F8: 개
A9: 59753767011 | B9: 01 | C9: 3912130810035750 | D9: 아우트렛박스 | E9: 8각 54㎜ | F9: 개
A10: 59753767041 | B10: 01 | C10: 3912130810035753 | D10: 아우트렛박스 | E10: 중형4각 54㎜ | F10: 개
A11: 59753777102 | B11: 01 | C11: 3912130610035778 | D11: 스위치박스 | E11: 1 개용 54 mm | F11: 개
A12: MM300040259 | B12: 01 | C12: 3912130610035785 | D12: 콘센트박스 | E12: 1 개용 54 mm | F12: 개
A13: MM666894664 | B13: 01 | C13: InMastDBNonCode | D13: 연결박스 | E13: 8각 54㎜ | F13: 개
A14: 61455137894 | B14: 01 | C14: 3912130320175917 | D14: 정션 박스 | E14: 100*100*50 | F14: 개
A15: 59751477029 | B15: 01 | C15: 3913171220173817 | D15: 전선덕트 | E15: 알루미늄 100x50 mm | F15: M
A16: 59350187023 | B16: 01 | C16: 3912120421650781 | D16: 알루미늄몰드 | E16: 중(03호) 36x14 mm | F16: 개
A17: 59350187023 | B17: 01 | C17: 3912120421650781 | D17: 알루미늄몰드 | E17: 중(03호) 36x14 mm | F17: 개 | Q17: 철거자재
A18: MM300040388 | B18: 01 | C18: 3913171221650785 | D18: PVC MOLD(고강도) | E18: 중(03호) 39x15 mm | F18: 개
A19: MM300040388 | B19: 01 | C19: 3913171221650785 | D19: PVC MOLD(고강도) | E19: 중(03호) 39x15 mm | F19: 개 | Q19: 철거자재
A20: MM481669623 | B20: 01 | C20: 2612162922076726 | D20: 450/750V 저독성난연절연전선 | E20: HFIX 1.38mm(1.5㎟) | F20: M | AC20: =J20*H20 -> 0
A21: MM481669624 | B21: 01 | C21: 2612162922076727 | D21: 450/750V 저독성난연절연전선 | E21: HFIX 1.78mm(2.5㎟) | F21: M | AC21: =J21*H21 -> 0
A22: E1450667003 | B22: 01 | C22: 2612162922076728 | D22: 450/750V 저독성난연절연전선 | E22: HFIX 2.25mm(4㎟) | F22: M | AC22: =J22*H22 -> 0
A23: 59301517001 | B23: 01 | C23: 3912998720170517 | D23: 매입스위치 | E23: 15A, 250V 1로1구 | F23: 개
A24: 59301517002 | B24: 01 | C24: 3912998720170518 | D24: 매입스위치 | E24: 15A, 250V 1로2구 | F24: 개
A25: 59300457325 | B25: 01 | C25: InMastDBNonCode | D25: 스위치 | E25: 선풍기용 | F25: 개 | Q25: 철거재사용
A26: 59350317121 | B26: 01 | C26: 3912140620170834 | D26: 콘센트 | E26: 노출-접지형, 15A 250V 1구 | F26: 개
A27: 59350317205 | B27: 01 | C27: 3912140620170849 | D27: 콘센트 | E27: 매입-접지형, 15A 250V 1구 | F27: 개
A28: 59350317206 | B28: 01 | C28: 3912140620170850 | D28: 콘센트 | E28: 매입-접지형, 15A 250V 2구 | F28: 개
A29: 63500197001 | B29: 01 | C29: 4619150120192512 | D29: 화재감지기 | E29: 열감지기,차동식스포트형 | F29: 개
A30: 63500197004 | B30: 01 | C30: 4619150120192515 | D30: 화재감지기 | E30: 열감지기,정온식스포트형 | F30: 개
A31: MM550686423 | B31: 01 | C31: InMastDBNonCode | D31: 비상라이트 | E31: LED 1W x 1W 60분 | F31: 조 | Q31: 철거재사용
A32: 59753867002 | B32: 01 | C32: 3912110220186112 | D32: 세대분전반 | E32: 30AF(Main), 3회로 | F32: 개
A33: 56931750104 | B33: 01 | C33: G56931750104 | D33: 스위치 철거 | E33: 매입스위치(단로,삼로) | F33: 개 | Q33: G56931750104 | AE33: =L33 -> 0
A34: 56931750108 | B34: 01 | C34: G56931750108 | D34: 콘센트 철거 | E34: 매입콘센트(접지,15A) | F34: 개 | Q34: G56931750108 | AE34: =L34 -> 0
A35: 56931750110 | B35: 01 | C35: G56931750110 | D35: 콘센트 철거 | E35: 노출콘센트(접지,15A) | F35: 개 | Q35: G56931750110 | AE35: =L35 -> 0
A36: 56931750115 | B36: 01 | C36: G56931750115 | D36: 선풍기 철거재사용 | E36: 벽부형 | F36: 개 | Q36: G56931750115 | AE36: =L36 -> 0
A37: 56931750116 | B37: 01 | C37: G56931750116 | D37: 감지기 철거 | E37: SPOT형 감지기 | F37: 개 | Q37: G56931750116 | AE37: =L37 -> 0
A38: 56931750134 | B38: 01 | C38: G56931750134 | D38: 선로 정리비 | E38: 보통인부(0.1인) | F38: 개소 | Q38: G56931750134 | AE38: =L38 -> 0
A39: 56931750408 | B39: 01 | C39: G56931750408 | D39: 전선관 철거재사용 | E39: ST 16C | F39: M | Q39: G56931750408 | AE39: =L39 -> 0
A40: 56931750414 | B40: 01 | C40: G56931750414 | D40: 전선관 철거재사용 | E40: ST 36C | F40: M | Q40: G56931750414 | AE40: =L40 -> 0
...

Sheet 합산자재
B1: 55 | C1: [ 경기고 방수및샌드위치패널해소공사(전기) ] - 합산자재목록
A2: 번호 | B2: … | C2: 코드 | D2: 명 칭 | E2: 규 격 | F2: 단위 | G2: 수량 | H2: 재료비 | I2: 노무비 | J2: 경비 | K2: 지급비 | L2: 계 | M2: 비고
B4: 59750337011 | C4: 3913170620935608 | D4: 강제전선관(노출) | E4: 아연도 16 mm | F4: M | G4: 2 | H4: =ROUNDDOWN(#REF!*옵션!$D$11, 0) -> #REF! | L4: =SUM(H4,I4,J4) -> #REF!
B5: 59753017003 | C5: 3913170620174410 | D5: 1종금속제가요전선관 | E5: 16 mm 일반-비방수 | F5: M | G5: 99 | H5: =ROUNDDOWN(#REF!*옵션!$D$11, 0) -> #REF! | L5: =SUM(H5,I5,J5) -> #REF!
B6: 59753017043 | C6: 3913170620174434 | D6: 1종금속제가요전선관 | E6: 커넥터, 16 mm 일반-비방수 | F6: 개 | G6: 56 | H6: =ROUNDDOWN(#REF!*옵션!$D$11, 0) -> #REF! | L6: =SUM(H6,I6,J6) -> #REF!
B7: 59753767011 | C7: 3912130810035750 | D7: 아우트렛박스 | E7: 8각 54㎜ | F7: 개 | G7: 8 | H7: =ROUNDDOWN(#REF!*옵션!$D$11, 0) -> #REF! | L7: =SUM(H7,I7,J7) -> #REF!
B8: 59753767041 | C8: 3912130810035753 | D8: 아우트렛박스 | E8: 중형4각 54㎜ | F8: 개 | G8: 1 | H8: =ROUNDDOWN(#REF!*옵션!$D$11, 0) -> #REF! | L8: =SUM(H8,I8,J8) -> #REF!
B9: 59753777102 | C9: 3912130610035778 | D9: 스위치박스 | E9: 1 개용 54 mm | F9: 개 | G9: 6 | H9: =ROUNDDOWN(#REF!*옵션!$D$11, 0) -> #REF! | L9: =SUM(H9,I9,J9) -> #REF!
B10: MM300040259 | C10: 3912130610035785 | D10: 콘센트박스 | E10: 1 개용 54 mm | F10: 개 | G10: 10 | H10: =ROUNDDOWN(#REF!*옵션!$D$11, 0) -> #REF! | L10: =SUM(H10,I10,J10) -> #REF!
B11: MM666894664 | C11: InMastDBNonCode | D11: 연결박스 | E11: 8각 54㎜ | F11: 개 | G11: 1 | H11: =ROUNDDOWN(#REF!*옵션!$D$11, 0) -> #REF! | L11: =SUM(H11,I11,J11) -> #REF!
B12: 61455137894 | C12: 3912130320175917 | D12: 정션 박스 | E12: 100*100*50 | F12: 개 | G12: 7 | H12: =ROUNDDOWN(#REF!*옵션!$D$11, 0) -> #REF! | L12: =SUM(H12,I12,J12) -> #REF!
B13: 59751477029 | C13: 3913171220173817 | D13: 전선덕트 | E13: 알루미늄 100x50 mm | F13: M | G13: 4 | H13: =ROUNDDOWN(#REF!*옵션!$D$11, 0) -> #REF! | L13: =SUM(H13,I13,J13) -> #REF!
B14: 59350187023 | C14: 3912120421650781 | D14: 알루미늄몰드 | E14: 중(03호) 36x14 mm | F14: 개 | G14: 19 | H14: =ROUNDDOWN(#REF!*옵션!$D$11, 0) -> #REF! | L14: =SUM(H14,I14,J14) -> #REF!
B15: MM300040388 | C15: 3913171221650785 | D15: PVC MOLD(고강도) | E15: 중(03호) 39x15 mm | F15: 개 | G15: 65 | H15: =ROUNDDOWN(#REF!*옵션!$D$11, 0) -> #REF! | L15: =SUM(H15,I15,J15) -> #REF!
... B42: MM060037347 | C42: 391115ZZ701Z0007 | D42: 조명기구 TYPE "C" | E42: LED 12W, 원형직부등 | F42: 개 | G42: 3 | H42: =ROUNDDOWN(#REF!*옵션!$D$11, 0) -> #REF! | L42: =SUM(H42,I42,J42) -> #REF!
B43: 56900017016 | C43: L001010101000075 | D43: 노 무 비 | E43: 내선전공 | F43: 인 | G43: 35.1712 | I43: =ROUNDDOWN(#REF!, 0) -> #REF! | L43: =SUM(H43,I43,J43) -> #REF!
B44: 56900017076 | C44: L001010101000078 | D44: 노 무 비 | E44: 저압케이블전공 | F44: 인 | G44: 0.5125 | I44: =ROUNDDOWN(#REF!, 0) -> #REF! | L44: =SUM(H44,I44,J44) -> #REF!
B45: 56900017113 | C45: L001010101000086 | D45: 노 무 비 | E45: 통신내선공 | F45: 인 | G45: 0.1704 | I45: =ROUNDDOWN(#REF!, 0) -> #REF! | L45: =SUM(H45,I45,J45) -> #REF!
B46: 56900017116 | C46: L001010101000089 | D46: 노 무 비 | E46: 통신케이블공 | F46: 인 | G46: 0.09 | I46: =ROUNDDOWN(#REF!, 0) -> #REF! | L46: =SUM(H46,I46,J46) -> #REF!
B47: 56900017114 | C47: L001010101000087 | D47: 노 무 비 | E47: 통신설비공 | F47: 인 | G47: 4.002 | I47: =ROUNDDOWN(#REF!, 0) -> #REF! | L47: =SUM(H47,I47,J47) -> #REF!
B48: 56900017112 | C48: L001010501000112 | D48: 노 무 비 | E48: 통신관련산업기사 | F48: 인 | G48: 1.47 | I48: =ROUNDDOWN(#REF!, 0) -> #REF! | L48: =SUM(H48,I48,J48) -> #REF!
B49: 56900017041 | C49: L001010101000002 | D49: 노 무 비 | E49: 보통인부 | F49: 인 | G49: 2.54 | I49: =ROUNDDOWN(#REF!, 0) -> #REF! | L49: =SUM(H49,I49,J49) -> #REF!

Sheet 옵션
B1: 재료비 | C1: 노무비 | D1: 경비 | F1: 계
A2: 총 급 액 | B2: =총괄표!I29 -> 0 | C2: =총괄표!L29 -> 0 | D2: =총괄표!N29 -> 0 | F2: =SUM(B2,C2,D2) -> 0
A3: 관급 자재비 | F3: =SUM(B3,C3,D3) -> 0 | H3: 금액조정이 안되나요?
H6: 이지테크에서 변환할 때 2번 옵션을 지정하여 다시 해보세요
H9: 시트를 삭제할 때 에러가 뜨면 1번 옵션으로 하면 됩니다.
B10: 적용율(%) | C10: 끝자리 | D10: 적용율(%)/100 | E10: 일위대가소수
A11: 전체자재 적용율(%)(공종/일위대가) | B11: 100 | C11: 1 | D11: =$B$11/100 -> 1
A12: 전체노임 적용율(%)(공종) | B12: 100 | C12: 1 | D12: =$B$12/100 -> 1 | E12: 2 | H12: 2번 옵션으로 변환했을 때에는 결과값이 다를 수 있습니다.
A13: 전체노임 적용율(%)(일위대가) | B13: 100 | C13: 1 | D13: =$B$13/100 -> 1 | E13: 5
A20: *(그룹별 자재 단가 추가 할증)* | B20: 적용율(%) | D20: 적용율(%)/100
A21: Cable(CAB) 할증(%) | B21: =B11 -> 100 | D21: =$B$21/100 -> 1
A22: Wire (WIR) 할증(%) | B22: =B11 -> 100 | D22: =$B$22/100 -> 1
A23: Pipe (PIP) 할증(%) | B23: =B11 -> 100 | D23: =$B$23/100 -> 1
A24: 제 4그룹 할증(%) | B24: =B11 -> 100 | D24: =$B$24/100 -> 1
A25: 제 5그룹 할증(%) | B25: =B11 -> 100 | D25: =$B$25/100 -> 1
A30: *(그룹별 노임 추가 할증)* | B30: 적용율(%) | C30: 자동부속재(전기) | D30: 자동부속재(통신)
A31: 배관부속재(%) | B31: 15 | C31: 15 | D31: 20
A32: CD관부속재(%) | B32: 40 | C32: 40 | D32: 40
A33: 소모잡자재(%) | B33: 2 | H33: 본 파일은 이지테크에서 2번 옵션으로 만들었습니다.
A34: 방폭할증(%)
A35: 고소할증(%) | B35: 2
A36: 공구손료(%) | B36: 3
A40: *(공종별 노임 적용율(%))* | B40: 적용율(%) | C40: 소수자릿수
A41: 1.전기설비공사 | B41: 100 | C41: 0
A42: 2.기타설비공사 | B42: 100 | C42: 0
