Workbook
Name _1: #REF!
Name _10_3_0Criteria: #REF!
Name _11_3__Crite: #REF!
Name _12: #N/A
Name _12_3__Criteria: #REF!
Name _13: #REF!
Name _13: #N/A
Name _13a1234_: #REF!
Name _16a16385_: #REF!
Name _18G_0Extr: #REF!
Name _19G_0Extract: #REF!
Name _1a16385_: #REF!
Name _1월: #REF!
Name _2: #REF!
Name _2: #N/A
Name _2._날_개_벽: #REF!
Name _20G__Extr: #REF!
Name _21_3_0Crite: #REF!
Name _21G__Extract: #REF!
Name _22p1_: #REF!
Name _23_3_0Crite: #REF!
Name _23_3_0Crite: #REF!
Name _24_3_0Criteria: #REF!
Name _26_3_0Criteria: #REF!
Name _26_3_0Criteria: #REF!
Name _27_3__Crite: #REF!
Name _29_3__Crite: #REF!
Name _29단: #REF!
Name _2월: #REF!
Name _3: #REF!
Name _30_3__Crite: #REF!
Name _30_3__Crite: #REF!
Name _31_3__Criteria: #REF!
Name _33_3__Criteria: #REF!
Name _34_3__Criteria: #REF!
Name _34_3__Criteria: #REF!
Name _36a16385_: #REF!
Name _38a16385_: #REF!
Name _39a16385_: #REF!
Name _39a16385_: #REF!
Name _3월: #REF!
Name _4: #REF!
Name _4: #REF!
Name _4: #REF!
Name _4: #REF!
Name _4: #REF!
Name _40G_0Extr: #REF!
Name _42G_0Extr: #REF!
Name _42G_0Extr: #REF!
Name _43G_0Extract: #REF!
Name _45G_0Extract: #REF!
Name _45G_0Extract: #REF!
Name _46G__Extr: #REF!
Name _48G__Extr: #REF!
Name _48G__Extr: #REF!
Name _49G__Extract: #REF!
Name _4월: #REF!
Name _5: #REF!
Name _5: #REF!
Name _5: #REF!

Sheet 갑지
B3: 2026 | C3: 년도
A5: 앞골용수지선 외 8개소 수문 보수공사(해평)
A6: (사업위치 : 구미시 관내)
D13: - 총 사 업 비 : | F13: ="일금 " & NUMBERSTRING(J13,1)& "원정" -> 일금 일천사백삼십일만일천원정 | J13: =SUM(J14:J20) -> 14311000
D14: ① 순 공 사 비 : | F14: ="일금 " & NUMBERSTRING(J14,1)& "원정" -> 일금 일천사백삼십일만일천원정 | J14: =기계총괄!G32 -> 14311000
D15: ② 관 급 자 재 대 : | F15: ="일금 " & NUMBERSTRING(J15,1)& "원정" -> 일금 영원정 | J15: 0
D18: 한국농어촌공사 구미.김천지사
D20: ISO 9001 / ISO 14001 인증

Sheet 개요
A2: 기 계 설 계 개 요
B3: 1. 사 업 개 요
B4: 가) 사 업 명 : 앞골용수지선 외 8개소 수문 보수공사(해평)
B5: 나) 위 치 : 경상북도 구미시
B6: 다) 시 행 자 : 한국농어촌공사 구미·김천지사
B7: 2. 시 설 규 모
C9: 구 분 | D9: 설 계 내 용 | E9: 비 고
C10: =공사명세서!A6 -> 1.앞골용수지선 분수문 교체 | D10: =공사명세서!A24 -> -랙크형 일체식 문비 설치(b0.88*h0.14*H0.5)
C11: =공사명세서!A7 -> 2.낙산3-8용수지선 개폐기 설치 | D11: -급수개폐기(150mm*2개소)설치
C12: =공사명세서!A8 -> 3.해평2양수장 흡입구 스크린 설치 | D12: =공사명세서!A68 -> -랙크형 일체식 문비 설치(b0.88*h0.54*H1.3)
C13: =공사명세서!A9 -> 4. 오상1용수지선 외 4개소 물막이 설치 | D13: =공사명세서!A68 -> -랙크형 일체식 문비 설치(b0.88*h0.54*H1.3)
C14: =공사명세서!A10 -> 5.해평3용수간선 제수문 교체 | D14: =공사명세서!A90 -> -삽자루형 문비 설치(b0.3*h0.35*H0.6)
C15: =공사명세서!A11 -> 6. 해평2-16용수지선 분수문 설치 | D15: =공사명세서!A107 -> -랙크형 일체식 문비 설치(b0.31*h0.29*H0.8)
C16: =공사명세서!A12 -> 7.낙산1용수간선 분수문 4개소 교체 | D16: =공사명세서!A107 -> -랙크형 일체식 문비 설치(b0.31*h0.29*H0.8)
C17: =공사명세서!A13 -> 8.낙산3-8용수지선 개폐기 설치 | D17: -급수개폐기(150mm*1개소)설치
C18: =공사명세서!A14 -> 9.광덕양수장 다단펌프 보수공사 | D18: -다단펌프(150mm)베어링,슬리브 교체 및 점검
B25: 3. 단가 및 품셈적용
C26: -. 단가는 2026년 공사원가계산 산출기준에 따라 시중 물가지 공사 설계단가에 의거 작성.
C27: -. 공사비 산출품은 2026년 건설공사표준품셈 적용

Sheet 기계총괄
B2: 공사명 : 앞골용수지선 외 8개소 수문 보수공사(해평)
B3: 공 사 원 가 계 산 서
C4: 일 금 : | D4: =G32 -> 14311000 | E4: 원
B5: 공 종 구 분 | G5: 금 액 | H5: 대상액 및 요율 | J5: 계
B7: 주 요 자 재 | J7: =SUM(G7:I7) -> 0
C8: 재 | D8: 직접 재료비 | G8: =공사명세서!J20 -> 5864320
C9: 료 | D9: 간접 재료비
C10: 비 | D10: 소 계 | G10: =SUM(G8:G9) -> 5864320
B11: 순 | C11: 노 | D11: 직접 노무비 | G11: =공사명세서!H20 -> 3578812
C12: 무 | D12: 간접 노무비( | E12: 0.165 | F12: ) | G12: =TRUNC($E$12*G11) -> 590503 | H12: 직접노무비 × 14.3 % | J12: 50억미만(6개월이하)
C13: 비 | D13: 소 계 | G13: =SUM(G11:G12) -> 4169315
B14: 공 | D14: 경 비 | G14: =공사명세서!L20 -> 557698
D15: 산재보험료 ( | E15: 0.0356 | F15: ) | G15: =TRUNC($E$15*G13) -> 148427 | H15: 노 무 비 × 3.56% | I15: 노 무 비 × 3.70%
C16: 경 | D16: 고용보험료 ( | E16: 0.0101 | F16: ) | G16: =TRUNC($E$16*G13) -> 42110 | H16: 노 무 비 × 1.01% | I16: 노 무 비 × 0.69% | J16: 7등급 이하
B17: 사 | D17: 건강보험료 ( | E17: 0 | F17: ) | G17: =TRUNC($E$17*G11) -> 0 | J17: 공사기간 1개월이상 모든공사
D18: 연금보험료 ( | E18: 0 | F18: ) | G18: =TRUNC($E$18*G11) -> 0 | J18: 공사기간 1개월이상 모든공사
D19: 노인장기요양보험료( | E19: 0 | F19: ) | G19: =INT(G17*$E19) -> 0 | J19: 공사기간 1개월이상 모든공사
D20: 산업안전보건관리비 ( | E20: 0.0315 | F20: ) | G20: =TRUNC(($E$20*(G11+G10))) -> 297458 | H20: (직접노무비+재료비(관급포함)) × 3.15% | J20: 5억미만(일반건설"갑")
C21: 비 | D21: 환경보존비 ( | E21: 0 | F21: ) | G21: =TRUNC(($E$21*(G10+G11+G14))) -> 0 | J21: 기타
D22: 퇴직부금비 ( | E22: 0 | F22: ) | G22: =TRUNC($E$22*G11) -> 0 | J22: 3억이상
D23: 기타경비 ( | E23: 0.0101 | F23: ) | G23: =TRUNC($E$23*(G10+G13)) -> 101339 | H23: (노무비+재료비) × 5.8% | J23: 50억미만(토목공사 6개월이하)
D24: 소 계 | G24: =SUM(G14:G23) -> 1147032
D25: 계 | G25: =G10+G13+G24 -> 11180667
D26: 지급보증서발급수수료 ( | E26: 0 | F26: ) | G26: =TRUNC($E$26*(G10+G11+G24)) -> 0 | J26: 50억 미만
D27: 일반관리비 ( | E27: 0.08 | F27: ) | G27: =TRUNC(G25*$E$27) -> 894453 | H27: (직노+재료비+산출경비) × 6.00% | J27: 50억 미만(토목,조경)
D28: 이 윤 ( | E28: 0.15 | F28: ) | G28: =INT((G13+G24+G27)*E28) -> 931620 | H28: (노무비+경비+일반관리비) × 15.00% | J28: 50억 미만
D29: 계 | G29: =ROUND((G25+G26+G27+((G13+G24+G27)*$E$28)-0),-4) -> 13010000
D30: 부가가치세 ( | E30: 0.1 | F30: ) | G30: =ROUND($E$30*G29,-3) -> 1301000
D31: 합 계 | G31: =G29+G30 -> 14311000
B32: 총 계 | G32: =G31 -> 14311000

Sheet 공사명세서
A1: <앞골용수지선 외 8개소 수문 보수공사(해평)>
A2: 공 사 비 명 세 서
A3: 일금: | B3: =F20 -> 10000830 | C3: 원
A4: 종 별 | B4: 재료 또는 | C4: 원수 | D4: 단위 | E4: 총 액 | G4: 노 무 비 | I4: 재 료 비 | K4: 경 비 | M4: 비 고
E5: 단가 | F5: 금 액 | G5: 단 가 | H5: 금 액 | I5: 단 가 | J5: 금 액 | K5: 단 가 | L5: 금 액
A6: =A23 -> 1.앞골용수지선 분수문 교체 | C6: 1 | D6: 식 | F6: =SUM(H6,J6,L6) -> 1199142 | H6: =H40 -> 320213 | J6: =J40 -> 864276 | L6: =L40 -> 14653
A7: =A44 -> 2.낙산3-8용수지선 개폐기 설치 | C7: 2 | D7: 식 | F7: =SUM(H7,J7,L7) -> 391700 | H7: =H50 -> 26168 | J7: =J50 -> 364224 | L7: =L50 -> 1308
A8: =A51 -> 3.해평2양수장 흡입구 스크린 설치 | C8: 1 | D8: 식 | F8: =SUM(H8,J8,L8) -> 356559 | H8: =H56 -> 282745 | J8: =J56 -> 60876 | L8: =L56 -> 12938
A9: =A57 -> 4. 오상1용수지선 외 4개소 물막이 설치 | C9: 5 | D9: 식 | F9: =SUM(H9,J9,L9) -> 554440 | H9: =H64 -> 448830 | J9: =J64 -> 86145 | L9: =L64 -> 19465
A10: =A67 -> 5.해평3용수간선 제수문 교체 | C10: 1 | D10: 식 | F10: =SUM(H10,J10,L10) -> 1582387 | H10: =H86 -> 705830 | J10: =J86 -> 843587 | L10: =L86 -> 32970
A11: =A89 -> 6. 해평2-16용수지선 분수문 설치 | C11: 1 | D11: 식 | F11: =SUM(H11,J11,L11) -> 223917 | H11: =H103 -> 139731 | J11: =J103 -> 77792 | L11: =L103 -> 6394
A12: =A106 -> 7.낙산1용수간선 분수문 4개소 교체 | C12: 4 | D12: 식 | F12: =SUM(H12,J12,L12) -> 4753724 | H12: =H126 -> 1369204 | J12: =J126 -> 3320308 | L12: =L126 -> 64212
A13: =A129 -> 8.낙산3-8용수지선 개폐기 설치 | C13: 1 | D13: 식 | F13: =SUM(H13,J13,L13) -> 195850 | H13: =H133 -> 13084 | J13: =J133 -> 182112 | L13: =L133 -> 654
A14: =A134 -> 9.광덕양수장 다단펌프 보수공사 | C14: 1 | D14: 식 | F14: =SUM(H14,J14,L14) -> 743111 | H14: =H144 -> 273007 | J14: =J144 -> 65000 | L14: =L144 -> 405104
A20: 소 계 | F20: =SUM(H20,J20,L20) -> 10000830 | H20: =SUM(H6:H19) -> 3578812 | J20: =SUM(J6:J19) -> 5864320 | L20: =SUM(L6:L19) -> 557698
A21: 종 별 | B21: 재료 또는 | C21: 원수 | D21: 단위 | E21: 총 액 | G21: 노 무 비 | I21: 재 료 비 | K21: 경 비 | M21: 비 고
E22: 단가 | F22: 금 액 | G22: 단 가 | H22: 금 액 | I22: 단 가 | J22: 금 액 | K22: 단 가 | L22: 금 액
A23: =재료산출서!B4 -> 1.앞골용수지선 분수문 교체
A24: =재료산출서!B5 -> -랙크형 일체식 문비 설치(b0.88*h0.14*H0.5)
A25: =재료산출서!B6 -> 강판(SS400)(문틀용) | B25: =재료산출서!C6 -> ㄷ형강 100*65*6t | C25: =재료산출서!M6 -> 10.362 | D25: =재료산출서!D6 -> kg | F25: =SUM(H25,J25,L25) -> 10569 | I25: =단가대비표!N25 -> 1020 | J25: =INT(I25*$C25) -> 10569
A26: =재료산출서!B7 -> 평강(SS400)(문틀용) | B26: =재료산출서!C7 -> 100*9t | C26: =재료산출서!M7 -> 7.065 | D26: =재료산출서!D7 -> kg | F26: =SUM(H26,J26,L26) -> 7135 | I26: =단가대비표!N26 -> 1010 | J26: =INT(I26*$C26) -> 7135
A27: =재료산출서!B8 -> 강판(SS400)(문틀용) | B27: =재료산출서!C8 -> ㄱ형강65*65*6t | C27: =재료산출서!M8 -> 12.246 | D27: =재료산출서!D8 -> kg | F27: =SUM(H27,J27,L27) -> 12490 | I27: =단가대비표!N27 -> 1020 | J27: =INT(I27*$C27) -> 12490
A28: =재료산출서!B9 -> 강판(SS401)(문틀용) | B28: =재료산출서!C9 -> 280*200*12t | C28: =재료산출서!M9 -> 5.275 | D28: =재료산출서!D9 -> kg | F28: =SUM(H28,J28,L28) -> 4747 | I28: =단가대비표!N28 -> 900 | J28: =INT(I28*$C28) -> 4747
A29: =재료산출서!B10 -> 강판(SS400)(문비용) | B29: =재료산출서!C10 -> 6t | C29: =재료산출서!M10 -> 6.462 | D29: =재료산출서!D10 -> kg | F29: =SUM(H29,J29,L29) -> 5815 | I29: =단가대비표!N29 -> 900 | J29: =INT(I29*$C29) -> 5815
A30: =재료산출서!B11 -> 강판(SS400)(문비용) | B30: =재료산출서!C11 -> 25*9t | C30: =재료산출서!M11 -> 0.459 | D30: =재료산출서!D11 -> kg | F30: =SUM(H30,J30,L30) -> 413 | I30: =단가대비표!N30 -> 900 | J30: =INT(I30*$C30) -> 413
A31: =재료산출서!B12 -> 강판(SS400)(문비용) | B31: =재료산출서!C12 -> 50*9t | C31: =재료산출서!M12 -> 0.388 | D31: =재료산출서!D12 -> kg | F31: =SUM(H31,J31,L31) -> 349 | I31: =단가대비표!N31 -> 900 | J31: =INT(I31*$C31) -> 349
A32: =재료산출서!B13 -> 강판(SS400)(문비용) | B32: =재료산출서!C13 -> 50*9t | C32: =재료산출서!M13 -> 9.643 | D32: =재료산출서!D13 -> kg | F32: =SUM(H32,J32,L32) -> 8678 | I32: =단가대비표!N32 -> 900 | J32: =INT(I32*$C32) -> 8678
A33: =재료산출서!B14 -> 강판(SS400)(문비용) | B33: =재료산출서!C14 -> 40*6t | C33: =재료산출서!M14 -> 3.353 | D33: =재료산출서!D14 -> kg | F33: =SUM(H33,J33,L33) -> 3017 | I33: =단가대비표!N33 -> 900 | J33: =INT(I33*$C33) -> 3017
A34: =재료산출서!B15 -> 강판(SS400)(문비용) | B34: =재료산출서!C15 -> 40*6t | C34: =재료산출서!M15 -> 0.339 | D34: =재료산출서!D15 -> kg | F34: =SUM(H34,J34,L34) -> 305 | H34: =INT(G34*$C34) -> 0 | I34: =단가대비표!N34 -> 900 | J34: =INT(I34*$C34) -> 305
A35: =재료산출서!B16 -> 권양기 | B35: =재료산출서!C16 -> 랙크형-분수문용 | C35: =재료산출서!M16 -> 1 | D35: =재료산출서!D16 -> 대 | F35: =SUM(H35,J35,L35) -> 700000 | H35: =SUM(H25:H34) -> 0 | I35: =단가대비표!N37 -> 700000 | J35: =INT(I35*$C35) -> 700000
A36: =재료산출서!B17 -> 랙크바 | B36: =재료산출서!C17 -> 랙크형권양기용 | C36: =재료산출서!M17 -> 1 | D36: =재료산출서!D17 -> m | F36: =SUM(H36,J36,L36) -> 50000 | G36: =H35 -> 0 | H36: =INT(G36*$C36) -> 0 | I36: =단가대비표!N38 -> 50000 | J36: =INT(I36*$C36) -> 50000
A37: =재료산출서!B18 -> 취부금구(SS400) | B37: =재료산출서!C18 -> Φ38용 | C37: =재료산출서!M18 -> 1 | D37: =재료산출서!D18 -> 조 | F37: =SUM(H37,J37,L37) -> 48900 | H37: =INT(G37*$C37) -> 0 | I37: =단가대비표!N39 -> 48900 | J37: =INT(I37*$C37) -> 48900
A38: =재료산출서!B19 -> 도장비 | B38: =재료산출서!C19 -> 보통부재(A*41.5) | C38: =재료산출서!M19 -> 2.282 | D38: =재료산출서!D19 -> ㎡ | F38: =SUM(H38,J38,L38) -> 30213 | G38: =일위대가!I23 -> 11896 | H38: =INT(G38*$C38) -> 27146 | I38: =일위대가!K23 -> 1344 | J38: =INT(I38*$C38) -> 3067
A39: =재료산출서!B20 -> 잡철물제작설치 | B39: =재료산출서!C20 -> 현장제작설치/일반철재 | C39: =재료산출서!M20 -> 0.055 | D39: =재료산출서!D20 -> ton | F39: =SUM(H39,J39,L39) -> 316511 | G39: =일위대가!I15 -> 5328496 | H39: =INT(G39*$C39) -> 293067 | I39: =일위대가!K15 -> 159854 | J39: =INT(I39*$C39) -> 8791 | K39: =일위대가!M15 -> 266424 | L39: =INT(K39*$C39) -> 14653
A40: 합 계 | F40: =SUM(H40,J40,L40) -> 1199142 | H40: =SUM(H25:H39) -> 320213 | J40: =SUM(J25:J39) -> 864276 | L40: =SUM(L25:L39) -> 14653
A42: 종 별 | B42: 재료 또는 | C42: 원수 | D42: 단위 | E42: 총 액 | G42: 노 무 비 | I42: 재 료 비 | K42: 경 비 | M42: 비 고
E43: 단가 | F43: 금 액 | G43: 단 가 | H43: 금 액 | I43: 단 가 | J43: 금 액 | K43: 단 가 | L43: 금 액
A44: 2.낙산3-8용수지선 개폐기 설치
A45: =일위대가!B30 -> -급수개폐기설치/STS304
A46: =일위대가!B31 -> 급수개폐기/STS304 | B46: =일위대가!C31 -> Φ150 | C46: =일위대가!D31 -> 1 | D46: =일위대가!E31 -> 개 | F46: =SUM(H46,J46,L46) -> 175000 | I46: =일위대가!J31 -> 175000 | J46: =INT(I46*$C46) -> 175000 | K46: =일위대가!L31 -> 0
...

Sheet 재료산출서
A1: 재 료 계 산 서
A2: 연번 | B2: 종 별 | C2: 규격 | D2: 단위 | E2: 재료산출서 | N2: 비 고
E3: 가로(M) | F3: 세로(M) | G3: 높이(mm) | H3: 총길이,면적 | I3: 단위중량(KG) | J3: 본수 | K3: 계 | L3: 할증 | M3: 수량(총계)
B4: 1.앞골용수지선 분수문 교체 | E4: b | F4: h | G4: H | Q4: b | R4: h | S4: H
B5: ="-랙크형 일체식 문비 설치(b"&E5&"*h"&F5&"*H"&G5&")" -> -랙크형 일체식 문비 설치(b0.88*h0.14*H0.5) | E5: =Q5-0.12 -> 0.88 | F5: =R5-0.06 -> 0.14 | G5: =S5 -> 0.5 | Q5: 1 | R5: 0.2 | S5: 0.5
A6: 1 | B6: 강판(SS400)(문틀용) | C6: ㄷ형강 100*65*6t | D6: kg | E6: 0.22 | F6: =G5 -> 0.5 | G6: 6 | H6: =TRUNC(E6*F6,6) -> 0.11 | I6: =TRUNC(1*1*6*7.85,3) -> 47.1 | J6: 2 | K6: =TRUNC(H6*I6*J6,3) -> 10.362 | M6: =K6 -> 10.362
A7: 2 | B7: 평강(SS400)(문틀용) | C7: 100*9t | D7: kg | E7: 0.1 | F7: =E5+0.12 -> 1 | G7: 9 | H7: =TRUNC(E7*F7,6) -> 0.1 | I7: =TRUNC(1*1*9*7.85,3) -> 70.65 | J7: 1 | K7: =TRUNC(H7*I7*J7,3) -> 7.065 | M7: =K7 -> 7.065
A8: 3 | B8: 강판(SS400)(문틀용) | C8: ㄱ형강65*65*6t | D8: kg | E8: 0.13 | F8: =E5+0.12 -> 1 | G8: 6 | H8: =TRUNC(E8*F8,6) -> 0.13 | I8: =TRUNC(1*1*6*7.85,3) -> 47.1 | J8: 2 | K8: =TRUNC(H8*I8*J8,3) -> 12.246 | M8: =K8 -> 12.246
A9: 4 | B9: 강판(SS401)(문틀용) | C9: 280*200*12t | D9: kg | E9: 0.28 | F9: 0.2 | G9: 12 | H9: =TRUNC(E9*F9,6) -> 0.056 | I9: =TRUNC(1*1*12*7.85,3) -> 94.2 | J9: 1 | K9: =TRUNC(H9*I9*J9,3) -> 5.275 | M9: =K9 -> 5.275
A10: 5 | B10: 강판(SS400)(문비용) | C10: 6t | D10: kg | E10: =E5+0.1 -> 0.98 | F10: =F5 -> 0.14 | G10: 6 | H10: =TRUNC(E10*F10,6) -> 0.1372 | I10: =TRUNC(1*1*6*7.85,3) -> 47.1 | J10: 1 | K10: =TRUNC(H10*I10*J10,3) -> 6.462 | M10: =K10 -> 6.462
A11: 6 | B11: 강판(SS400)(문비용) | C11: 25*9t | D11: kg | E11: 0.025 | F11: =F5-0.01 -> 0.13 | G11: 9 | H11: =TRUNC(E11*F11,6) -> 0.00325 | I11: =TRUNC(1*1*9*7.85,3) -> 70.65 | J11: 2 | K11: =TRUNC(H11*I11*J11,3) -> 0.459 | M11: =K11 -> 0.459
A12: 7 | B12: 강판(SS400)(문비용) | C12: 50*9t | D12: kg | E12: 0.05 | F12: =F5-0.03 -> 0.11 | G12: 9 | H12: =TRUNC(E12*F12,6) -> 0.0055 | I12: =TRUNC(1*1*9*7.85,3) -> 70.65 | J12: 1 | K12: =TRUNC(H12*I12*J12,3) -> 0.388 | M12: =K12 -> 0.388
A13: 8 | B13: 강판(SS400)(문비용) | C13: 50*9t | D13: kg | E13: 0.05 | F13: =E5+0.03 -> 0.91 | G13: 9 | H13: =TRUNC(E13*F13,6) -> 0.0455 | I13: =TRUNC(1*1*9*7.85,3) -> 70.65 | J13: 3 | K13: =TRUNC(H13*I13*J13,3) -> 9.643 | M13: =K13 -> 9.643
A14: 9 | B14: 강판(SS400)(문비용) | C14: 40*6t | D14: kg | E14: 0.04 | F14: =E5+0.01 -> 0.89 | G14: 6 | H14: =TRUNC(E14*F14,6) -> 0.0356 | I14: =TRUNC(1*1*6*7.85,3) -> 47.1 | J14: 2 | K14: =TRUNC(H14*I14*J14,3) -> 3.353 | M14: =K14 -> 3.353
A15: 10 | B15: 강판(SS400)(문비용) | C15: 40*6t | D15: kg | E15: 0.04 | F15: =F5-0.05 -> 0.09 | G15: 6 | H15: =TRUNC(E15*F15,6) -> 0.0036 | I15: =TRUNC(1*1*6*7.85,3) -> 47.1 | J15: 2 | K15: =TRUNC(H15*I15*J15,3) -> 0.339 | M15: =K15 -> 0.339
A16: 11 | B16: 권양기 | C16: 랙크형-분수문용 | D16: 대 | H16: 1 | I16: 20 | J16: 1 | K16: =TRUNC(H16*I16*J16,3) -> 20 | M16: 1
A17: 12 | B17: 랙크바 | C17: 랙크형권양기용 | D17: m | H17: =G5-E5+0.2 -> -0.18 | I17: 10 | J17: 1 | K17: =TRUNC(H17*I17*J17,3) -> -1.8 | M17: 1
A18: 13 | B18: 취부금구(SS400) | C18: Φ38용 | D18: 조 | H18: 1 | I18: 1 | J18: 1 | K18: =TRUNC(H18*I18*J18,3) -> 1 | M18: =K18 -> 1
A19: 14 | B19: 도장비 | C19: 보통부재(A*41.5) | D19: ㎡ | H19: =K20 -> 0.055 | I19: 41.5 | K19: =TRUNC(H19*I19,3) -> 2.282 | M19: =K19 -> 2.282
A20: 15 | B20: 잡철물제작설치 | C20: 현장제작설치/일반철재 | D20: ton | I20: =TRUNC((K6+K7+K8+K9+K10+K11+K12+K13+K14+K15)/1000,3) -> 0.055 | K20: =I20 -> 0.055 | M20: =K20 -> 0.055
B21: 5.해평3용수간선 제수문 교체 | E21: b | F21: h | G21: H | Q21: b | R21: h | S21: H
B22: ="-랙크형 일체식 문비 설치(b"&E22&"*h"&F22&"*H"&G22&")" -> -랙크형 일체식 문비 설치(b0.88*h0.54*H1.3) | D22: kg | E22: =Q22-0.12 -> 0.88 | F22: =R22-0.06 -> 0.54 | G22: =S22 -> 1.3 | Q22: 1 | R22: 0.6 | S22: 1.3
A23: 1 | B23: 강판(SS400)(문틀용) | C23: ㄷ형강 100*65*6t | D23: kg | E23: 0.22 | F23: =G22 -> 1.3 | G23: 6 | H23: =TRUNC(E23*F23,6) -> 0.286 | I23: =TRUNC(1*1*6*7.85,3) -> 47.1 | J23: 2 | K23: =TRUNC(H23*I23*J23,3) -> 26.941 | M23: =K23 -> 26.941
A24: 2 | B24: 평강(SS400)(문틀용) | C24: 100*9t | D24: kg | E24: 0.1 | F24: =E22+0.12 -> 1 | G24: 9 | H24: =TRUNC(E24*F24,6) -> 0.1 | I24: =TRUNC(1*1*9*7.85,3) -> 70.65 | J24: 1 | K24: =TRUNC(H24*I24*J24,3) -> 7.065 | M24: =K24 -> 7.065
A25: 3 | B25: 강판(SS400)(문틀용) | C25: ㄱ형강65*65*6t | D25: kg | E25: 0.13 | F25: =E22+0.12 -> 1 | G25: 6 | H25: =TRUNC(E25*F25,6) -> 0.13 | I25: =TRUNC(1*1*6*7.85,3) -> 47.1 | J25: 2 | K25: =TRUNC(H25*I25*J25,3) -> 12.246 | M25: =K25 -> 12.246
A26: 4 | B26: 강판(SS401)(문틀용) | C26: 280*200*12t | D26: kg | E26: 0.28 | F26: 0.2 | G26: 12 | H26: =TRUNC(E26*F26,6) -> 0.056 | I26: =TRUNC(1*1*12*7.85,3) -> 94.2 | J26: 1 | K26: =TRUNC(H26*I26*J26,3) -> 5.275 | M26: =K26 -> 5.275
A27: 5 | B27: 강판(SS400)(문비용) | C27: 6t | D27: kg | E27: =E22+0.1 -> 0.98 | F27: =F22 -> 0.54 | G27: 6 | H27: =TRUNC(E27*F27,6) -> 0.5292 | I27: =TRUNC(1*1*6*7.85,3) -> 47.1 | J27: 1 | K27: =TRUNC(H27*I27*J27,3) -> 24.925 | M27: =K27 -> 24.925
A28: 6 | B28: 강판(SS400)(문비용) | C28: 25*9t | D28: kg | E28: 0.025 | F28: =F22-0.01 -> 0.53 | G28: 9 | H28: =TRUNC(E28*F28,6) -> 0.01325 | I28: =TRUNC(1*1*9*7.85,3) -> 70.65 | J28: 2 | K28: =TRUNC(H28*I28*J28,3) -> 1.872 | M28: =K28 -> 1.872
A29: 7 | B29: 강판(SS400)(문비용) | C29: 50*9t | D29: kg | E29: 0.05 | F29: =F22-0.03 -> 0.51 | G29: 9 | H29: =TRUNC(E29*F29,6) -> 0.0255 | I29: =TRUNC(1*1*9*7.85,3) -> 70.65 | J29: 1 | K29: =TRUNC(H29*I29*J29,3) -> 1.801 | M29: =K29 -> 1.801
A30: 8 | B30: 강판(SS400)(문비용) | C30: 50*9t | D30: kg | E30: 0.05 | F30: =E22+0.03 -> 0.91 | G30: 9 | H30: =TRUNC(E30*F30,6) -> 0.0455 | I30: =TRUNC(1*1*9*7.85,3) -> 70.65 | J30: 3 | K30: =TRUNC(H30*I30*J30,3) -> 9.643 | M30: =K30 -> 9.643
A31: 9 | B31: 강판(SS400)(문비용) | C31: 40*6t | D31: kg | E31: 0.04 | F31: =E22+0.01 -> 0.89 | G31: 6 | H31: =TRUNC(E31*F31,6) -> 0.0356 | I31: =TRUNC(1*1*6*7.85,3) -> 47.1 | J31: 2 | K31: =TRUNC(H31*I31*J31,3) -> 3.353 | M31: =K31 -> 3.353
A32: 10 | B32: 강판(SS400)(문비용) | C32: 40*6t | D32: kg | E32: 0.04 | F32: =F22-0.05 -> 0.49 | G32: 6 | H32: =TRUNC(E32*F32,6) -> 0.0196 | I32: =TRUNC(1*1*6*7.85,3) -> 47.1 | J32: 2 | K32: =TRUNC(H32*I32*J32,3) -> 1.846 | M32: =K32 -> 1.846
A33: 11 | B33: 고재대 | C33: 철SCRAP(중량A) | D33: kg | I33: =TRUNC((K23+K24+K25+K26+K27+K28+K29+K30+K31+K32+K34+K35),3) -> 121.167 | K33: =I33 -> 121.167 | M33: =K33 -> 121.167
A34: 12 | B34: 권양기 | C34: 랙크형-분수문용 | D34: 대 | H34: 1 | I34: 20 | J34: 1 | K34: =TRUNC(H34*I34*J34,3) -> 20 | M34: 1
A35: 13 | B35: 랙크바 | C35: 랙크형권양기용 | D35: m | H35: =G22-E22+0.2 -> 0.62 | I35: 10 | J35: 1 | K35: =TRUNC(H35*I35*J35,3) -> 6.2 | M35: 1
A36: 14 | B36: 취부금구(SS400) | C36: Φ38용 | D36: 조 | H36: 1 | I36: 1 | J36: 1 | K36: =TRUNC(H36*I36*J36,3) -> 1 | M36: =K36 -> 1
A37: 15 | B37: 도장비 | C37: 보통부재(A*41.5) | D37: ㎡ | H37: =K38 -> 0.094 | I37: 41.5 | K37: =TRUNC(H37*I37,3) -> 3.901 | M37: =K37 -> 3.901
A38: 16 | B38: 잡철물제작설치 | C38: 현장제작설치/일반철재 | D38: ton | I38: =TRUNC((K23+K24+K25+K26+K27+K28+K29+K30+K31+K32)/1000,3) -> 0.094 | K38: =I38 -> 0.094 | M38: =K38 -> 0.094
A39: 17 | B39: 잡철물철거 | C39: 일반철재 | D39: ton | I39: =I33/1000 -> 0.121167 | K39: =I39 -> 0.121167 | M39: =K39 -> 0.121167
B40: 6. 해평2-16용수지선 분수문 설치 | E40: b | F40: h | G40: H | Q40: b | R40: h | S40: H
...

Sheet 일위대가
A1: 일 위 대 가 표
A2: 호 표 | B2: 종 별 | C2: 재료 또는 치수 | D2: 원수 | E2: 단위 | F2: 총 액 | H2: 노 무 비 | J2: 재 료 비 | L2: 경 비 | N2: 비 고
F3: 단가 | G3: 금 액 | H3: 단 가 | I3: 금 액 | J3: 단 가 | K3: 금 액 | L3: 단 가 | M3: 금 액
A4: 제01호표 | B4: 잡철물 설치 | C4: 규격철물 설치(일반철재) | E4: ton | G4: =SUM(I4,K4,M4) -> 3532934 | I4: =SUM(I5:I10) -> 3271236 | K4: =SUM(K5:K10) -> 98137 | M4: =SUM(M5:M10) -> 163561
B5: 철공 | D5: 7.05 | E5: 인 | G5: =SUM(I5,K5,M5) -> 1890718 | H5: ='2026년 상반기 노임단가'!C10 -> 268187 | I5: =INT(H5*$D5) -> 1890718 | K5: =INT(J5*$D5) -> 0 | M5: =INT(L5*$D5) -> 0
B6: 용접공 | D6: 2.57 | E6: 인 | G6: =SUM(I6,K6,M6) -> 726117 | H6: ='2026년 상반기 노임단가'!C14 -> 282536 | I6: =INT(H6*$D6) -> 726117 | K6: =INT(J6*$D6) -> 0 | M6: =INT(L6*$D6) -> 0
B7: 특별인부 | D7: 1.92 | E7: 인 | G7: =SUM(I7,K7,M7) -> 434154 | H7: ='2026년 상반기 노임단가'!C5 -> 226122 | I7: =INT(H7*$D7) -> 434154 | K7: =INT(J7*$D7) -> 0 | M7: =INT(L7*$D7) -> 0
B8: 보통인부 | D8: 1.28 | E8: 인 | G8: =SUM(I8,K8,M8) -> 220247 | H8: ='2026년 상반기 노임단가'!C4 -> 172068 | I8: =INT(H8*$D8) -> 220247 | K8: =INT(J8*$D8) -> 0 | M8: =INT(L8*$D8) -> 0
B9: 공구손료 및 경장비의 기계경비 | C9: 인력품 5% | D9: 1 | E9: 식 | G9: =SUM(I9,K9,M9) -> 163561 | I9: =INT(H9*$D9) -> 0 | K9: =INT(J9*$D9) -> 0 | L9: =INT(I4*0.05) -> 163561 | M9: =INT(L9*$D9) -> 163561
B10: 잡재료비 | C10: 인력품 3% | D10: 1 | E10: 식 | G10: =SUM(I10,K10,M10) -> 98137 | I10: =INT(H10*$D10) -> 0 | J10: =INT(I4*0.03) -> 98137 | K10: =INT(J10*$D10) -> 98137 | M10: =INT(L10*$D10) -> 0
A12: 제02호표 | B12: 잡철물 철거 | C12: 규격철물 철거(일반철재) | E12: ton | G12: =SUM(I12,K12,M12) -> 1413172 | I12: =SUM(I13:I13) -> 1308494 | K12: =SUM(K13:K13) -> 39254 | M12: =SUM(M13:M13) -> 65424
B13: 잡철물 설치 | C13: 규격철물 설치(일반철재) | D13: 0.4 | E13: ton | G13: =SUM(I13,K13,M13) -> 1413172 | H13: =I4 -> 3271236 | I13: =INT(H13*$D13) -> 1308494 | J13: =K4 -> 98137 | K13: =INT(J13*$D13) -> 39254 | L13: =M4 -> 163561 | M13: =INT(L13*$D13) -> 65424 | N13: 제01호표참조
A15: 제03호표 | B15: 잡철물 제작 및 설치 | C15: 현장제작 설치(일반철재) | E15: ton | G15: =SUM(I15,K15,M15) -> 5754774 | I15: =SUM(I16:I21) -> 5328496 | K15: =SUM(K16:K21) -> 159854 | M15: =SUM(M16:M21) -> 266424
B16: 철공 | D16: 12.38 | E16: 인 | G16: =SUM(I16,K16,M16) -> 2968823 | H16: ='2026년 상반기 노임단가'!C11 -> 239808 | I16: =INT(H16*$D16) -> 2968823 | K16: =INT(J16*$D16) -> 0 | M16: =INT(L16*$D16) -> 0
B17: 용접공 | D17: 3.38 | E17: 인 | G17: =SUM(I17,K17,M17) -> 954971 | H17: ='2026년 상반기 노임단가'!C14 -> 282536 | I17: =INT(H17*$D17) -> 954971 | K17: =INT(J17*$D17) -> 0 | M17: =INT(L17*$D17) -> 0
B18: 특별인부 | D18: 4.5 | E18: 인 | G18: =SUM(I18,K18,M18) -> 1017549 | H18: ='2026년 상반기 노임단가'!C5 -> 226122 | I18: =INT(H18*$D18) -> 1017549 | K18: =INT(J18*$D18) -> 0 | M18: =INT(L18*$D18) -> 0
B19: 보통인부 | D19: 2.25 | E19: 인 | G19: =SUM(I19,K19,M19) -> 387153 | H19: ='2026년 상반기 노임단가'!C4 -> 172068 | I19: =INT(H19*$D19) -> 387153 | K19: =INT(J19*$D19) -> 0 | M19: =INT(L19*$D19) -> 0
B20: 공구손료 및 경장비의 기계경비 | C20: 인력품 5% | D20: 1 | E20: 식 | G20: =SUM(I20,K20,M20) -> 266424 | I20: =INT(H20*$D20) -> 0 | K20: =INT(J20*$D20) -> 0 | L20: =INT(I15*0.05) -> 266424 | M20: =INT(L20*$D20) -> 266424
B21: 잡재료비 | C21: 인력품 3% | D21: 1 | E21: 식 | G21: =SUM(I21,K21,M21) -> 159854 | I21: =INT(H21*$D21) -> 0 | J21: =INT(I15*0.03) -> 159854 | K21: =INT(J21*$D21) -> 159854 | M21: =INT(L21*$D21) -> 0
A23: 제04호표 | B23: 유성 페인트 칠 | C23: 붓칠 철재면 2회 | E23: ㎡ | G23: =SUM(I23,K23,M23) -> 13240 | I23: =SUM(I24:I28) -> 11896 | K23: =SUM(K24:K28) -> 1344 | M23: =SUM(M24:M28) -> 0
B24: 유성도료(에나멜) | C24: KSM 6020 2종 1급(백색) | D24: 0.166 | E24: ℓ | G24: 1100 | I24: =INT(H24*$D24) -> 0 | J24: 6630 | K24: =INT(J24*$D24) -> 1100 | M24: =INT(L24*$D24) -> 0 | N24: 물가자료02,p630
B25: 시너 | C25: KSM 6060 1종 | D25: 0.008 | E25: ℓ | G25: =SUM(I25,K25,M25) -> 25 | I25: =INT(H25*$D25) -> 0 | J25: 3194 | K25: =INT(J25*$D25) -> 25 | M25: =INT(L25*$D25) -> 0 | N25: 물가자료02,p632
B26: 잡재료비 | C26: 주재료의4% | D26: 1 | E26: 식 | G26: =SUM(I26,K26,M26) -> 218 | I26: =INT(H26*$D26) -> 0 | J26: 218 | K26: =INT(J26*$D26) -> 218 | M26: =INT(L26*$D26) -> 0
B27: 도장공 | D27: 0.04 | E27: 인 | G27: =SUM(I27,K27,M27) -> 10520 | H27: ='2026년 상반기 노임단가'!C31 -> 263017 | I27: =INT(H27*$D27) -> 10520 | K27: =INT(J27*$D27) -> 0 | M27: =INT(L27*$D27) -> 0
B28: 보통인부 | D28: 0.008 | E28: 인 | G28: =SUM(I28,K28,M28) -> 1377 | H28: ='2026년 상반기 노임단가'!C4 -> 172068 | I28: =INT(H28*$D28) -> 1376 | J28: =INT(I23*0.02) -> 237 | K28: =INT(J28*$D28) -> 1 | M28: =INT(L28*$D28) -> 0
A30: 제05호표 | B30: -급수개폐기설치/STS304 | C30: Φ150용 | E30: 식 | G30: =SUM(I30,K30,M30) -> 200201 | I30: =SUM(I31:I35) -> 17017 | K30: =SUM(K31:K35) -> 182269 | M30: =SUM(M31:M35) -> 915
B31: 급수개폐기/STS304 | C31: Φ150 | D31: 1 | E31: 개 | G31: =SUM(I31,K31,M31) -> 175000 | J31: 175000 | K31: =INT(J31*$D31) -> 175000 | N31: 조사가격
B32: 개폐기설치 | C32: 규격철물설치(일반철재) | D32: 4 | E32: kg | G32: =SUM(I32,K32,M32) -> 14130 | H32: =I4/1000 -> 3271.236 | I32: =INT(H32*$D32) -> 13084 | J32: =K4/1000 -> 98.137 | K32: =INT(J32*$D32) -> 392 | L32: =M4/1000 -> 163.561 | M32: =INT(L32*$D32) -> 654 | N32: 기성품 무게적용
B33: 앙카볼트(스텐리스) | C33: M12*100 | D33: 4 | E33: 조 | G33: =SUM(I33,K33,M33) -> 6720 | J33: 1680 | K33: =INT(J33*$D33) -> 6720 | N33: 물가자료05,p93
B34: 기존개폐기 철거 | C34: 설치품의 40% | D34: 4 | E34: kg | G34: =SUM(I34,K34,M34) -> 5651 | H34: =H32*0.4 -> 1308.4944 | I34: =INT(H34*$D34) -> 5233 | J34: =J32*0.4 -> 39.2548 | K34: =INT(J34*$D34) -> 157 | L34: =L32*0.4 -> 65.4244 | M34: =INT(L34*$D34) -> 261
B35: 고재대 | C35: 철SCRAP(중량A) | D35: 4 | E35: kg | G35: =SUM(I35,K35,M35) -> -1300 | H35: -325 | I35: =INT(H35*$D35) -> -1300 | N35: 물가자료05,p248
A37: 제06호표 | B37: 【1호표.횡축원심펌프 보수(대당),200㎥/h이하】 | G37: ※ 양·배수장 펌프 및 전동기 보수 적산기준
B38: <작업준비 및 정리>
B39: 플랜트기계설치공 | D39: 0.01 | E39: 인 | G39: 2304 | H39: 230376 | I39: 2304
B40: 특별인부 | D40: 0.07 | E40: 인 | G40: 15829 | H40: 226122 | I40: 15829
B41: 공구손료 | C41: 0.03 | D41: 1 | E41: 식 | G41: 544 | M41: 544
B42: 소계 | G42: 18677 | I42: 18133 | M42: 544
B43: <Coupling분해,조립>
B44: 플랜트기계설치공 | D44: 0.03 | E44: 인 | G44: 6911 | H44: 230376 | I44: 6911
B45: 특별인부 | D45: 0.18 | E45: 인 | G45: 40702 | H45: 226122 | I45: 40702
...

Sheet 2026년 상반기 노임단가
A1: 공 표 일 | C1: 2026.1.1 | D1: 2025.1.1 | E1: 2024.1.1 | F1: 2023.1.1 | G1: 2022.1.1 | H1: 2021.9.1
A2: 번 호 직 종 명
A3: 1001 | B3: 작업반장 | C3: 215907 | D3: 213033 | E3: 208713 | F3: 197546 | G3: 189313 | H3: 182544
A4: 1002 | B4: 보통인부 | C4: 172068 | D4: 169804 | E4: 165545 | F4: 157068 | G4: 148510 | H4: 144481
A5: 1003 | B5: 특별인부 | C5: 226122 | D5: 221506 | E5: 214222 | F5: 197450 | G5: 187435 | H5: 181293
A6: 1004 | B6: 조력공 | C6: 179028 | D6: 180331 | E6: 176618 | F6: 165635 | G6: 160048 | H6: 153674
A7: 1005 | B7: 제도사 | C7: 237324 | D7: 232099 | E7: 223779 | F7: 209231 | G7: 194662 | H7: 188233
A8: 1006 | B8: 비계공 | C8: 281939 | D8: 279433 | E8: 280472 | F8: 278151 | G8: 262297 | H8: 254117
A9: 1007 | B9: 형틀목공 | C9: 275790 | D9: 272831 | E9: 274978 | F9: 259126 | G9: 242138 | H9: 230766
A10: 1008 | B10: 철근공 | C10: 268187 | D10: 264104 | E10: 260137 | F10: 252113 | G10: 236805 | H10: 229629
A11: 1009 | B11: 철공 | C11: 239808 | D11: 237754 | E11: 233754 | F11: 223124 | G11: 209189 | H11: 202032
A12: 1010 | B12: 철판공 | C12: 221481 | D12: 219236 | E12: 211998 | F12: 202901 | G12: 188181 | H12: 185232
A13: 1011 | B13: 철골공 | C13: 252641 | D13: 250239 | E13: 243126 | F13: 230145 | G13: 214374 | H13: 207346
A14: 1012 | B14: 용접공 | C14: 282536 | D14: 278326 | E14: 267021 | F14: 249748 | G14: 234564 | H14: 230706
... A16: 1014 | B16: 보링공 | C16: 232562 | D16: 225273 | E16: 223458 | F16: 212226 | G16: 199076 | H16: 193659
A17: *1015 | B17: 착암공 | C17: 222306 | D17: 220081 | E17: 210152 | F17: 194463 | G17: 185264 | H17: 174178
A18: 1016 | B18: 화약취급공 | C18: 272448 | D18: 258751 | E18: 254202 | F18: 236187 | G18: 223097 | H18: 207145
A19: 1017 | B19: 할석공 | C19: 241932 | D19: 236986 | E19: 229326 | F19: 210767 | G19: 200625 | H19: 195374
A20: *1018 | B20: 포설공 | C20: 221015 | D20: 216121 | E20: 205982 | F20: 194853 | G20: 183371 | H20: -
A21: 1019 | B21: 포장공 | C21: 273308 | D21: 267989 | E21: 258360 | F21: 237245 | G21: 225104 | H21: 215034
A22: *1020 | B22: 잠수부 | C22: 387342 | D22: 388892 | E22: 379657 | F22: 346760 | G22: 322115 | H22: 295409
A23: 1021 | B23: 조적공 | C23: 270807 | D23: 266624 | E23: 260473 | F23: 242636 | G23: 222862 | H23: 219340
A24: 1022 | B24: 견출공 | C24: 250903 | D24: 243075 | E24: 240473 | F24: 232725 | G24: 218209 | H24: 209167
A25: 1023 | B25: 건축목공 | C25: 277642 | D25: 277894 | E25: 268058 | F25: 254714 | G25: 237273 | H25: 225210
A26: 1024 | B26: 창호공 | C26: 247188 | D26: 248350 | E26: 248238 | F26: 236675 | G26: 224380 | H26: 219260
A27: 1025 | B27: 유리공 | C27: 253539 | D27: 248139 | E27: 247643 | F27: 235191 | G27: 221409 | H27: 211036
A28: 1026 | B28: 방수공 | C28: 228286 | D28: 220722 | E28: 212562 | F28: 199427 | G28: 184934 | H28: 176933
A29: 1027 | B29: 미장공 | C29: 277276 | D29: 272354 | E29: 266787 | F29: 251976 | G29: 237304 | H29: 228820
A30: 1028 | B30: 타일공 | C30: 290939 | D30: 284337 | E30: 274325 | F30: 258576 | G30: 247079 | H30: 234370
A31: 1029 | B31: 도장공 | C31: 263017 | D31: 253409 | E31: 250776 | F31: 242035 | G31: 229273 | H31: 217123
A32: 1030 | B32: 내장공 | C32: 256883 | D32: 252249 | E32: 243538 | F32: 228883 | G32: 217517 | H32: 211250
A33: 1031 | B33: 도배공 | C33: 227614 | D33: 222618 | E33: 215675 | F33: 205156 | G33: 192426 | H33: 188914
A34: 1039 | B34: 배관공 | C34: 247897

Sheet 단가대비표
B1: 단 가 대 비 표
B2: [ 앞골용수지선 외 8개소 수문 보수공사(해평)
B3: 품 명 | D3: 규격 | E3: 단위 | F3: 재 료 비 | O3: 비 고
F4: 공사가격정보 | G4: PAGE | H4: 유통물가 | I4: PAGE | J4: 물가자료 | K4: PAGE | L4: 조사가격1 | M4: PAGE | N4: 적용단가 | O4: 부가세 별도
B5: 2026년 상반기 적용 | C5: ㄱ형강(SS400)(문틀용) | D5: ㄱ100*10t | E5: kg | H5: 1450 | I5: 01-21 | J5: 1020 | K5: 02-07 | N5: =MIN(F5,H5,J5,L5) -> 1020
C6: ㄱ형강(SS400)(문틀용) | D6: ㄱ65*6t | E6: kg | H6: 1450 | I6: 01-21 | J6: 1020 | K6: 02-07 | N6: =MIN(F6,H6,J6,L6) -> 1020
C7: 평강(SS400)(문틀용) | D7: 32*12t | E7: kg | H7: 1283 | I7: 01-23 | J7: 1010 | K7: 02-05 | N7: =MIN(F7,H7,J7,L7) -> 1010
C8: 평강(SS400)(문틀용) | D8: 65*9t | E8: kg | H8: 1283 | I8: 01-23 | J8: 1010 | K8: 02-05 | N8: =MIN(F8,H8,J8,L8) -> 1010
C9: 평강(SS400)(문틀용) | D9: 90*9t | E9: kg | H9: 1283 | I9: 01-23 | J9: 1010 | K9: 02-05 | N9: =MIN(F9,H9,J9,L9) -> 1010
C10: 강판(SS400)(문비용) | D10: 6t | E10: kg | H10: 1283 | I10: 01-26 | J10: 900 | K10: 02-13 | N10: =MIN(F10,H10,J10,L10) -> 900
C11: ㄱ형강(SS400)(문비용) | D11: ㄱ50*6t | E11: kg | H11: 1266 | I11: 01-22 | J11: 1020 | K11: 02-07 | N11: =MIN(F11,H11,J11,L11) -> 1020
C12: 배관용스텐강관(스템카바) | D12: 50A*1.2t | E12: m | H12: 14060 | I12: 01-562 | J12: 8120 | K12: 02-744 | N12: =MIN(F12,H12,J12,L12) -> 8120
C13: 권양기 | D13: 신형1-3호형 | E13: 대 | F13: 337700 | N13: =MIN(F13,H13,J13,L13) -> 337700
C14: 스핀들(STS304) | D14: Φ38 | E14: m | J14: 173000 | K14: 01-213 | N14: =MIN(F14,H14,J14,L14) -> 173000
C15: 취부금구(SS400) | D15: Φ38용 | E15: 조 | F15: 48900 | N15: =MIN(F15,H15,J15,L15) -> 48900
C16: ㄱ형강(SS400) | D16: ㄱ50*6t | E16: kg | H16: 1450 | I16: 01-22 | J16: 1020 | K16: 02-07 | N16: =MIN(F16,H16,J16,L16) -> 1020
C17: 마사각봉(SS400) | D17: 12*12t | E17: kg | H17: 1287 | I17: 01-21 | J17: 1020 | K17: 02-06 | N17: =MIN(F17,H17,J17,L17) -> 1020
C18: 평강(SS400) | D18: 50*6t | E18: kg | H18: 1283 | I18: 01-21 | J18: 1010 | K18: 02-05 | N18: =MIN(F18,H18,J18,L18) -> 1010
C19: 평강(SS400) | D19: 65*9t | E19: kg | H19: 1283 | I19: 01-21 | J19: 1010 | K19: 02-05 | N19: =MIN(F19,H19,J19,L19) -> 1010
C20: 강판(SS400) | D20: 6t | E20: kg | H20: 1266 | I20: 01-26 | J20: 900 | K20: 02-13 | N20: =MIN(F20,H20,J20,L20) -> 900
C21: 강판(SS400) | D21: 6t | E21: kg | H21: 1266 | I21: 01-26 | J21: 900 | K21: 02-13 | N21: =MIN(F21,H21,J21,L21) -> 900
C22: 평강(SS400) | D22: 38*9t | E22: kg | H22: 842 | I22: 01-21 | J22: 1010 | K22: 02-05 | N22: =MIN(F22,H22,J22,L22) -> 842
C23: 마환봉(SS275) | D23: Φ20 | E23: kg | H23: 1450 | I23: 01-18 | J23: 1180 | K23: 02-05 | N23: =MIN(F23,H23,J23,L23) -> 1180
C24: 취부금구(SS400) | D24: Φ32용 | E24: 조 | F24: 48900 | N24: =MIN(F24,H24,J24,L24) -> 48900
C25: 강판(SS400)(문틀용) | D25: ㄷ형강 100*65*6t | E25: kg | H25: 1283 | I25: 01-22 | J25: 1020 | K25: 02-06 | N25: =MIN(F25,H25,J25,L25) -> 1020
C26: 평강(SS400)(문틀용) | D26: 100*9t | E26: kg | H26: 1450 | I26: 01-22 | J26: 1010 | K26: 02-05 | N26: =MIN(F26,H26,J26,L26) -> 1010
C27: 강판(SS400)(문틀용) | D27: ㄱ형강65*65*6t | E27: kg | H27: 1283 | I27: 01-22 | J27: 1020 | K27: 02-06 | N27: =MIN(F27,H27,J27,L27) -> 1020
C28: 강판(SS401)(문틀용) | D28: 280*200*12t | E28: kg | H28: 1450 | I28: 01-21 | J28: 900 | K28: 02-14 | N28: =MIN(F28,H28,J28,L28) -> 900
C29: 강판(SS400)(문비용) | D29: 6t | E29: kg | H29: 1283 | I29: 01-22 | J29: 900 | K29: 02-14 | N29: =MIN(F29,H29,J29,L29) -> 900
C30: 강판(SS400)(문비용) | D30: 25*9t | E30: kg | H30: 1450 | I30: 01-22 | J30: 900 | K30: 02-14 | N30: =MIN(F30,H30,J30,L30) -> 900
C31: 강판(SS400)(문비용) | D31: 50*9t | E31: kg | H31: 1450 | I31: 01-22 | J31: 900 | K31: 02-14 | N31: =MIN(F31,H31,J31,L31) -> 900
C32: 강판(SS400)(문비용) | D32: 50*9t | E32: kg | H32: 1450 | I32: 01-22 | J32: 900 | K32: 02-14 | N32: =MIN(F32,H32,J32,L32) -> 900
C33: 강판(SS400)(문비용) | D33: 40*6t | E33: kg | H33: 1450 | I33: 01-22 | J33: 900 | K33: 02-14 | N33: =MIN(F33,H33,J33,L33) -> 900
C34: 강판(SS400)(문비용) | D34: 40*6t | E34: kg | H34: 1450 | I34: 01-22 | J34: 900 | K34: 02-14 | N34: =MIN(F34,H34,J34,L34) -> 900
C35: 지수고무 | D35: P형Φ30 | E35: kg | F35: 17000 | N35: =MIN(F35,H35,J35,L35) -> 17000
C36: 지수고무 | D36: I형50*12t | E36: kg | F36: 17000 | N36: =MIN(F36,H36,J36,L36) -> 17000
C37: 권양기 | D37: 랙크형-분수문용 | E37: 대 | H37: 700000 | I37: 01-147 | J37: 915000 | K37: 02-210 | N37: =MIN(F37,H37,J37,L37) -> 700000
C38: 랙크바(SS400+용융아연도금) | D38: 랙크형권양기용 | E38: m | H38: 50000 | I38: 01-147 | J38: 80000 | K38: 02-210 | N38: =MIN(F38,H38,J38,L38) -> 50000
C39: 취부금구(SS400) | D39: Φ38용 | E39: 조 | F39: 48900 | N39: =MIN(F39,H39,J39,L39) -> 48900
