Workbook

Sheet 원가계산서
B1: 공 사 원 가 계 산 서
B2: 공사명 : 익산 종자사업소 노후시설 개선 전기공사 | F2: 금액 : 삼백오십오만일천원(￦3,551,000)
B3: 비 목 | E3: 금 액 | F3: 구 성 비 | G3: 비 고
A4: A1 | B4: 순 공 사 원 가 | C4: 재 료 비 | D4: 직 접 재 료 비 | E4: =TRUNC(공종별집계표!F5, 0) -> #REF!
A5: A2 | D5: 간 접 재 료 비 | E5: 0
A6: A3 | D6: 작업설, 부산물(△) | E6: 0
A7: AS | D7: [ 소 계 ] | E7: =TRUNC(E4+E5-E6, 0) -> #REF!
A8: B1 | C8: 노 무 비 | D8: 직 접 노 무 비 | E8: =TRUNC(공종별집계표!H5, 0) -> #REF!
A9: B2 | D9: 간 접 노 무 비 | E9: =TRUNC(E8*0.175, 0) -> #REF! | F9: 직접노무비 * 17.5%
A10: BS | D10: [ 소 계 ] | E10: =TRUNC(E8+E9, 0) -> #REF!
A11: C4 | C11: 경 비 | D11: 산 재 보 험 료 | E11: =TRUNC(E10*0.0356, 0) -> #REF! | F11: 노무비 * 3.56%
A12: C5 | D12: 고 용 보 험 료 | E12: =TRUNC(E10*0.0101, 0) -> #REF! | F12: 노무비 * 1.01%
A13: C6 | D13: 국민 건강 보험료 | E13: =TRUNC(E8*0.03595, 0) -> #REF! | F13: 직접노무비 * 3.595%
A14: C7 | D14: 국민 연금 보험료 | E14: =TRUNC(E8*0.0475, 0) -> #REF! | F14: 직접노무비 * 4.75%
A15: CB | D15: 노인장기요양보험료 | E15: =TRUNC(E13*0.1314, 0) -> #REF! | F15: 건강보험료 * 13.14%
A16: CG | D16: 기 타 경 비 | E16: =TRUNC((E7+E10)*0.05, 0) -> #REF! | F16: (재료비+노무비) * 5%
A17: CM | D17: 석 면 분 담 금 | E17: =TRUNC(E10*0.00006, 0) -> #REF! | F17: 노무비 * 0.006%
A18: CN | D18: 임 금 채 권 부 담 금 | E18: =TRUNC(E10*0.0009, 0) -> #REF! | F18: 노무비 * 0.09%
A19: CS | D19: [ 소 계 ] | E19: =TRUNC(E11+E12+E13+E14+E15+E16+E17+E18, 0) -> #REF!
A20: S1 | B20: 계 | E20: =TRUNC(E7+E10+E19, 0) -> #REF!
A21: D1 | B21: 일 반 관 리 비 | E21: =TRUNC(E20*0.08, 0) -> #REF! | F21: 계 * 8%
A22: D2 | B22: 이 윤 | E22: =TRUNC((E10+E19+E21)*0.15, 0) -> #REF! | F22: (노무비+경비+일반관리비) * 15%
A23: D9 | B23: 공 급 가 액 | E23: =TRUNC(E20+E21+E22, 0) -> #REF!
A24: DB | B24: 부 가 가 치 세 | E24: =TRUNC(E23*0.1, 0) -> #REF! | F24: 공급가액 * 10%
A25: DG | B25: 합 계 | E25: =TRUNC(E23+E24, 0) -> #REF!
A26: DH | B26: 도 급 액 | E26: =TRUNC(INT((E25/1000))*1000, 0) -> #REF! | G26: *천원미만절사
A27: S2 | B27: 총 공 사 비 | E27: =TRUNC(E26+0, 0) -> #REF!

Sheet 공종별집계표
A1: 공 종 별 집 계 표
A2: [ 익산 종자사업소 노후시설 개선 전기공사 ]
A3: 품 명 | B3: 규 격 | C3: 단위 | D3: 수량 | E3: 재 료 비 | G3: 노 무 비 | I3: 경 비 | K3: 합 계 | M3: 비 고 | N3: 공종코드 | O3: 변수 | P3: 상위공종 | Q3: 공종구분 | R3: 공종레벨 | S3: 공종소계 | T3: 원가계산서 연결금액
E4: 단 가 | F4: 금 액 | G4: 단 가 | H4: 금 액 | I4: 단 가 | J4: 금 액 | K4: 단 가 | L4: 금 액
A5: 익산 종자사업소 노후시설 개선 전기공사 | D5: 1 | E5: =F6+F7 -> #REF! | F5: =E5*D5 -> #REF! | G5: =H6+H7 -> #REF! | H5: =G5*D5 -> #REF! | I5: =J6+J7 -> #REF! | J5: =I5*D5 -> #REF! | K5: =E5+G5+I5 -> #REF! | L5: =F5+H5+J5 -> #REF! | N5: 01 | R5: 1
A6: 전열설비공사 | D6: 1 | E6: =공종별내역서!F27 -> #REF! | F6: =E6*D6 -> #REF! | G6: =공종별내역서!H27 -> #REF! | H6: =G6*D6 -> #REF! | I6: =공종별내역서!J27 -> #REF! | J6: =I6*D6 -> #REF! | K6: =E6+G6+I6 -> #REF! | L6: =F6+H6+J6 -> #REF! | N6: 0101 | P6: 01 | R6: 2
A7: 전등설비공사 | D7: 1 | E7: =공종별내역서!F51 -> #REF! | F7: =E7*D7 -> #REF! | G7: =공종별내역서!H51 -> #REF! | H7: =G7*D7 -> #REF! | I7: =공종별내역서!J51 -> #REF! | J7: =I7*D7 -> #REF! | K7: =E7+G7+I7 -> #REF! | L7: =F7+H7+J7 -> #REF! | N7: 0102 | P7: 01 | R7: 2
A27: [ 합 계 ] | F27: =F5 -> #REF! | H27: =H5 -> #REF! | J27: =J5 -> #REF! | L27: =L5 -> #REF!

Sheet 공종별내역서
A1: [ 익산 종자사업소 노후시설 개선 전기공사 ]
A2: 품 명 | B2: 규 격 | C2: 단위 | D2: 수량 | E2: 재 료 비 | G2: 노 무 비 | I2: 경 비 | K2: 합 계 | M2: 비 고 | N2: 품목코드 | O2: 변수 | P2: 설정 | Q2: 공종코드 | R2: 일위 | S2: 단산 | T2: 자재 | U2: 손료적용 | V2: 손료저장 | W2: 적용율 | X2: JUK1 | Y2: JUK2 | Z2: JUK3 | AA2: JUK4 | AB2: JUK5 | AC2: JUK6 | AD2: JUK7 | AE2: JUK8 | AF2: JUK9 | AG2: JUK10 | AH2: JUK11 | AI2: JUK12 | AJ2: JUK13 | AK2: JUK14 | AL2: JUK15 | AM2: JUK16 | AN2: JUK17 | AO2: JUK18 | AP2: JUK19 | AQ2: JUK20 | AR2: 자재구분 | AS2: 공종구분 | AT2: 공종레벨 | AU2: 공종+자재 | AV2: 고유번호
E3: 단 가 | F3: 금 액 | G3: 단 가 | H3: 금 액 | I3: 단 가 | J3: 금 액 | K3: 단 가 | L3: 금 액
A4: 전열설비공사 | Q4: 0101
A5: 1종금속제가요전선관 | B5: 16mm, 비방수 | C5: M | D5: 6 | E5: =TRUNC(#REF!,0) -> #REF! | F5: =TRUNC(E5*D5, 0) -> #REF! | G5: =TRUNC(#REF!,0) -> #REF! | H5: =TRUNC(G5*D5, 0) -> #REF! | I5: =TRUNC(#REF!,0) -> #REF! | J5: =TRUNC(I5*D5, 0) -> #REF! | K5: =TRUNC(E5+G5+I5, 0) -> #REF! | L5: =TRUNC(F5+H5+J5, 0) -> #REF! | N5: 51EC32A3523316B43455EBC2B670BD | Q5: 0101 | R5: T | S5: F | T5: F | AU5: 010151EC32A3523316B43455EBC2B670BD | AV5: 5
A6: 1종금속제가요전선관 | B6: 1종금속제가요전선관, 박스커넥터, 16mm, 비방수 | C6: 개 | D6: 2 | E6: =TRUNC(#REF!,0) -> #REF! | F6: =TRUNC(E6*D6, 0) -> #REF! | G6: =TRUNC(#REF!,0) -> #REF! | H6: =TRUNC(G6*D6, 0) -> #REF! | I6: =TRUNC(#REF!,0) -> #REF! | J6: =TRUNC(I6*D6, 0) -> #REF! | K6: =TRUNC(E6+G6+I6, 0) -> #REF! | L6: =TRUNC(F6+H6+J6, 0) -> #REF! | N6: 56800263813A56AA07551C28471C96FF4CEF57 | Q6: 0101 | R6: F | S6: F | T6: T | AU6: 010156800263813A56AA07551C28471C96FF4CEF57 | AV6: 7
A7: 450/75OV 저독성난연가교폴리올레핀절연전선(HFIX) | B7: 4㎟ | C7: M | D7: 28 | E7: =TRUNC(#REF!,0) -> #REF! | F7: =TRUNC(E7*D7, 0) -> #REF! | G7: =TRUNC(#REF!,0) -> #REF! | H7: =TRUNC(G7*D7, 0) -> #REF! | I7: =TRUNC(#REF!,0) -> #REF! | J7: =TRUNC(I7*D7, 0) -> #REF! | K7: =TRUNC(E7+G7+I7, 0) -> #REF! | L7: =TRUNC(F7+H7+J7, 0) -> #REF! | N7: 51EC32A35230466C1975D43D63351A | Q7: 0101 | R7: T | S7: F | T7: F | AU7: 010151EC32A35230466C1975D43D63351A | AV7: 8
A8: 난연 비닐절연접지용전선(F-GV) | B8: 0.6/1kv, 4㎟ | C8: M | D8: 14 | E8: =TRUNC(#REF!,0) -> #REF! | F8: =TRUNC(E8*D8, 0) -> #REF! | G8: =TRUNC(#REF!,0) -> #REF! | H8: =TRUNC(G8*D8, 0) -> #REF! | I8: =TRUNC(#REF!,0) -> #REF! | J8: =TRUNC(I8*D8, 0) -> #REF! | K8: =TRUNC(E8+G8+I8, 0) -> #REF! | L8: =TRUNC(F8+H8+J8, 0) -> #REF! | N8: 51EC32A35230466C3435826A8B3351 | Q8: 0101 | R8: T | S8: F | T8: F | AU8: 010151EC32A35230466C3435826A8B3351 | AV8: 9
A9: PVC 박스 | B9: S/W 1개용 | C9: 개 | D9: 5 | E9: =TRUNC(#REF!,0) -> #REF! | F9: =TRUNC(E9*D9, 0) -> #REF! | G9: =TRUNC(#REF!,0) -> #REF! | H9: =TRUNC(G9*D9, 0) -> #REF! | I9: =TRUNC(#REF!,0) -> #REF! | J9: =TRUNC(I9*D9, 0) -> #REF! | K9: =TRUNC(E9+G9+I9, 0) -> #REF! | L9: =TRUNC(F9+H9+J9, 0) -> #REF! | N9: 51EC32D3453C761206D53BC1B070F9 | Q9: 0101 | R9: T | S9: F | T9: F | AU9: 010151EC32D3453C761206D53BC1B070F9 | AV9: 10
A10: PVC박스커버 | B10: PVC박스커버 S/W 1개용 | C10: 개 | D10: 5 | E10: =TRUNC(#REF!,0) -> #REF! | F10: =TRUNC(E10*D10, 0) -> #REF! | G10: =TRUNC(#REF!,0) -> #REF! | H10: =TRUNC(G10*D10, 0) -> #REF! | I10: =TRUNC(#REF!,0) -> #REF! | J10: =TRUNC(I10*D10, 0) -> #REF! | K10: =TRUNC(E10+G10+I10, 0) -> #REF! | L10: =TRUNC(F10+H10+J10, 0) -> #REF! | N10: 56800263813B663452A56CB412D62B6E7A5F0F | Q10: 0101 | R10: F | S10: F | T10: T | AU10: 010156800263813B663452A56CB412D62B6E7A5F0F | AV10: 17
A11: 콘센트 | B11: 15A, 2P, 방우형 | C11: 개 | D11: 5 | E11: =TRUNC(#REF!,0) -> #REF! | F11: =TRUNC(E11*D11, 0) -> #REF! | G11: =TRUNC(#REF!,0) -> #REF! | H11: =TRUNC(G11*D11, 0) -> #REF! | I11: =TRUNC(#REF!,0) -> #REF! | J11: =TRUNC(I11*D11, 0) -> #REF! | K11: =TRUNC(E11+G11+I11, 0) -> #REF! | L11: =TRUNC(F11+H11+J11, 0) -> #REF! | N11: 51EC32D3603E468D0295B8A7D78A2B | Q11: 0101 | R11: T | S11: F | T11: F | AU11: 010151EC32D3603E468D0295B8A7D78A2B | AV11: 11
A12: 금속몰딩 | B12: 소형, 210mm2 이하 | C12: M | D12: 9 | E12: =TRUNC(#REF!,0) -> #REF! | F12: =TRUNC(E12*D12, 0) -> #REF! | G12: =TRUNC(#REF!,0) -> #REF! | H12: =TRUNC(G12*D12, 0) -> #REF! | I12: =TRUNC(#REF!,0) -> #REF! | J12: =TRUNC(I12*D12, 0) -> #REF! | K12: =TRUNC(E12+G12+I12, 0) -> #REF! | L12: =TRUNC(F12+H12+J12, 0) -> #REF! | N12: 51EC32D34536E68F4F4518F435DCF4 | Q12: 0101 | R12: T | S12: F | T12: F | AU12: 010151EC32D34536E68F4F4518F435DCF4 | AV12: 12
A13: 콘센트 철거 | B13: 15A, 2P | C13: 개 | D13: 4 | E13: =TRUNC(#REF!,0) -> #REF! | F13: =TRUNC(E13*D13, 0) -> #REF! | G13: =TRUNC(#REF!,0) -> #REF! | H13: =TRUNC(G13*D13, 0) -> #REF! | I13: =TRUNC(#REF!,0) -> #REF! | J13: =TRUNC(I13*D13, 0) -> #REF! | K13: =TRUNC(E13+G13+I13, 0) -> #REF! | L13: =TRUNC(F13+H13+J13, 0) -> #REF! | N13: 51EC32A3523B561058C5F800EC75E1 | Q13: 0101 | R13: T | S13: F | T13: F | AU13: 010151EC32A3523B561058C5F800EC75E1 | AV13: 13
Q14: 0101
Q15: 0101
Q16: 0101
Q17: 0101
Q18: 0101
Q19: 0101
Q20: 0101
Q21: 0101
Q22: 0101
Q23: 0101
Q24: 0101
Q25: 0101
Q26: 0101
A27: [ 합 계 ] | F27: =SUMIF(Q5:Q26,"0101",F5:F26) -> #REF! | H27: =SUMIF(Q5:Q26,"0101",H5:H26) -> #REF! | J27: =SUMIF(Q5:Q26,"0101",J5:J26) -> #REF! | L27: =SUMIF(Q5:Q26,"0101",L5:L26) -> #REF! | N27: TOTAL
A28: 전등설비공사 | Q28: 0102
A29: A-TYPE | B29: 센서등, 15W 이하 | C29: 개 | D29: 4 | E29: =TRUNC(#REF!,0) -> #REF! | F29: =TRUNC(E29*D29, 0) -> #REF! | G29: =TRUNC(#REF!,0) -> #REF! | H29: =TRUNC(G29*D29, 0) -> #REF! | I29: =TRUNC(#REF!,0) -> #REF! | J29: =TRUNC(I29*D29, 0) -> #REF! | K29: =TRUNC(E29+G29+I29, 0) -> #REF! | L29: =TRUNC(F29+H29+J29, 0) -> #REF! | N29: 51EC32D3603836F06265A6B466F7A6 | Q29: 0102 | R29: T | S29: F | T29: F | AU29: 010251EC32D3603836F06265A6B466F7A6 | AV29: 3
A30: B-TYPE | B30: 다운라이트, 15W 이하 | C30: 개 | D30: 6 | E30: =TRUNC(#REF!,0) -> #REF! | F30: =TRUNC(E30*D30, 0) -> #REF! | G30: =TRUNC(#REF!,0) -> #REF! | H30: =TRUNC(G30*D30, 0) -> #REF! | I30: =TRUNC(#REF!,0) -> #REF! | J30: =TRUNC(I30*D30, 0) -> #REF! | K30: =TRUNC(E30+G30+I30, 0) -> #REF! | L30: =TRUNC(F30+H30+J30, 0) -> #REF! | N30: 51EC32D3603836F06265A6B466F4D2 | Q30: 0102 | R30: T | S30: F | T30: F | AU30: 010251EC32D3603836F06265A6B466F4D2 | AV30: 14
A31: 등기구 철거 | B31: 15W 이하 | C31: 등 | D31: 6 | E31: =TRUNC(#REF!,0) -> #REF! | F31: =TRUNC(E31*D31, 0) -> #REF! | G31: =TRUNC(#REF!,0) -> #REF! | H31: =TRUNC(G31*D31, 0) -> #REF! | I31: =TRUNC(#REF!,0) -> #REF! | J31: =TRUNC(I31*D31, 0) -> #REF! | K31: =TRUNC(E31+G31+I31, 0) -> #REF! | L31: =TRUNC(F31+H31+J31, 0) -> #REF! | N31: 51EC32A3523B561058C5F927F53F56 | Q31: 0102 | R31: T | S31: F | T31: F | AU31: 010251EC32A3523B561058C5F927F53F56 | AV31: 16
A32: 등기구 철거 | B32: 12W 이하 | C32: 등 | D32: 4 | E32: =TRUNC(#REF!,0) -> #REF! | F32: =TRUNC(E32*D32, 0) -> #REF! | G32: =TRUNC(#REF!,0) -> #REF! | H32: =TRUNC(G32*D32, 0) -> #REF! | I32: =TRUNC(#REF!,0) -> #REF! | J32: =TRUNC(I32*D32, 0) -> #REF! | K32: =TRUNC(E32+G32+I32, 0) -> #REF! | L32: =TRUNC(F32+H32+J32, 0) -> #REF! | N32: 51EC32A3523B561058C5F927F53E4F | Q32: 0102 | R32: T | S32: F | T32: F | AU32: 010251EC32A3523B561058C5F927F53E4F | AV32: 15
Q33: 0102
Q34: 0102
Q35: 0102
Q36: 0102
Q37: 0102
Q38: 0102
Q39: 0102
Q40: 0102
Q41: 0102
Q42: 0102
Q43: 0102
Q44: 0102
... Q50: 0102
A51: [ 합 계 ] | F51: =SUMIF(Q29:Q50,"0102",F29:F50) -> #REF! | H51: =SUMIF(Q29:Q50,"0102",H29:H50) -> #REF! | J51: =SUMIF(Q29:Q50,"0102",J29:J50) -> #REF! | L51: =SUMIF(Q29:Q50,"0102",L29:L50) -> #REF! | N51: TOTAL

Sheet 공량산출근거서
A1: 공 량 산 출 근 거 서
A2: [ 익산 종자사업소 노후시설 개선 전기공사 ]
A3: 코 드 | B3: 품 명 | C3: 규 격 | D3: 단위 | E3: 품 셈 목 록 | F3: 수 량 | G3: 할증 | H3: 노임할증-1 | I3: 노임할증-2 | J3: 노임할증-3 | K3: 내역수량 | L3: 직 종 명 | M3: 공 량 | N3: 계 | O3: 번 호 | P3: 비 고 | T3: 공종+자재
B4: 전열설비공사
B5: 전등설비공사

Sheet 공량설정
A1: 공종명 | B1: 적용율(%) | C1: 소수점이하자릿수 | D1: 공종코드
A2: 0101 전열설비공사 | B2: 100 | D2: 0101
A3: 0102 전등설비공사 | B3: 100 | D3: 0102

Sheet 공량설정_일위대가
A1: 일위대가 | B1: 적용율(%) | C1: 소수점이하자릿수 | D1: 일위대가 코드
A2: 난연 비닐절연접지용전선(F-GV) 0.6/1kv, 4㎟ (호표 8) | B2: 100 | D2: 51EC32A35230466C3435826A8B3351
A3: 내선전공 | C3: 3 | D3: 51EC32A35230466C3435826A8B335151707223EE3AA6E649051D82D5E9549C37C7FA
A4: 1종금속제가요전선관 16mm, 비방수 (호표 6) | B4: 100 | D4: 51EC32A3523316B43455EBC2B670BD
A5: 내선전공 | C5: 3 | D5: 51EC32A3523316B43455EBC2B670BD51707223EE3AA6E649051D82D5E9549C37C7FA
A6: PVC 박스 S/W 1개용 (호표 1) | B6: 100 | D6: 51EC32D3453C761206D53BC1B070F9
A7: 내선전공 | C7: 1 | D7: 51EC32D3453C761206D53BC1B070F951707223EE3AA6E649051D82D5E9549C37C7FA
A8: 금속몰딩 소형, 210mm2 이하 (호표 2) | B8: 100 | D8: 51EC32D34536E68F4F4518F435DCF4
A9: 내선전공 | C9: 2 | D9: 51EC32D34536E68F4F4518F435DCF451707223EE3AA6E649051D82D5E9549C37C7FA
A10: 450/75OV 저독성난연가교폴리올레핀절연전선(HFIX) 4㎟ (호표 7) | B10: 100 | D10: 51EC32A35230466C1975D43D63351A
A11: 내선전공 | C11: 2 | D11: 51EC32A35230466C1975D43D63351A51707223EE3AA6E649051D82D5E9549C37C7FA
A12: 콘센트 15A, 2P, 방우형 (호표 3) | B12: 100 | D12: 51EC32D3603E468D0295B8A7D78A2B
A13: 내선전공 | C13: 3 | D13: 51EC32D3603E468D0295B8A7D78A2B51707223EE3AA6E649051D82D5E9549C37C7FA
A14: 콘센트 철거 15A, 2P (호표 9) | B14: 100 | D14: 51EC32A3523B561058C5F800EC75E1
A15: 내선전공 | C15: 4 | D15: 51EC32A3523B561058C5F800EC75E151707223EE3AA6E649051D82D5E9549C37C7FA
A16: 등기구 철거 12W 이하 (호표 10) | B16: 100 | D16: 51EC32A3523B561058C5F927F53E4F
A17: 내선전공 | C17: 4 | D17: 51EC32A3523B561058C5F927F53E4F51707223EE3AA6E649051D82D5E9549C37C7FA
A18: 등기구 철거 15W 이하 (호표 11) | B18: 100 | D18: 51EC32A3523B561058C5F927F53F56
A19: 내선전공 | C19: 4 | D19: 51EC32A3523B561058C5F927F53F5651707223EE3AA6E649051D82D5E9549C37C7FA
A20: A-TYPE 센서등, 15W 이하 (호표 4) | B20: 100 | D20: 51EC32D3603836F06265A6B466F7A6
A21: 내선전공 | C21: 3 | D21: 51EC32D3603836F06265A6B466F7A651707223EE3AA6E649051D82D5E9549C37C7FA
A22: B-TYPE 다운라이트, 15W 이하 (호표 5) | B22: 100 | D22: 51EC32D3603836F06265A6B466F4D2
A23: 내선전공 | C23: 3 | D23: 51EC32D3603836F06265A6B466F4D251707223EE3AA6E649051D82D5E9549C37C7FA

Sheet  공사설정 
A1: 이 Sheet는 수정하지 마십시요
A2: 공사구분 | B2: D | C2: 타이틀
A3: 확정내역 | B3: 원내역
A4: 자재단가적용 | B4: 5
A5: 경비단가적용 | B5: 5
A6: 품목코드형식 | B6: XXXX-XXXX-XXXXXXXXX
A7: 내역금액소수점처리 | B7: C | C7: 1
A8: 일위대가내역소수점처리 | B8: C | C8: 2
A9: 단가명 | B9: 조달청가격 | C9: 거래가격 | D9: 유통물가 | E9: 조사가격1 | F9: 조사가격2 | G9: TTTTT
A10: 환율 | B10: 1472 | C10: 0 | D10: 0
A11: 시간당작업량 | B11: R | C11: 4
A12: 1회 사이클시간 | B12: R | C12: 4
A13: 시간당 작업사이클 | B13: R | C13: 3
A14: 일반변수 | B14: R | C14: 5
A15: 시간당 노임산출 계수 | B15: A | C15: 1/8*16/12*25/20 | D15: 1/8*16/12*25/20 | E15: 1/8*16/12*25/20 | F15: 1
A16: 재료비 할증 계수 | B16: 1.11 | C16: 1.12
A17: 노무비 할증 계수 | B17: 1 | C17: 1.5 | D17: 1.16 | E17: 1.6 | F17: 1.6 | G17: 1.6 | H17: 1.94 | I17: 1.94 | J17: 1.94 | K17: 1 | L17: 1 | M17: 1
A18: 경비 할증 계수 | B18: 1.25 | C18: 1.071
A19: 내역,일위대가 품명,규격,단위 따로적용
A20: 내역단가 소수점처리 | B20: C | C20: 1
A21: 코드 | B21: 공종구분명 | C21: 원가비목코드
A22: 1 | B22: 작 업 부 산 물 | C22: A3
A23: 2 | B23: 운 반 비 | C23: C1
A24: 3 | B24: 관급자재(도급자) | C24: DJ
A25: 4 | B25: 관급자재(관급자) | C25: DK
A26: 5 | B26: 한 전 불 입 금 | C26: DN
A27: 6 | B27: 사 용 전 검 사 | C27: D4
A28: 7 | B28: 지 급 자 재 비 | C28: DL
A29: 8 | B29: 자 산 취 득 비 | C29: DM
A30: 9 | B30: 사 급 자 재 비 | C30: D3
A43: 단가 순서 | B43: 1234
