Workbook
Name _1IL1_: #REF!
Name _BVS1: #REF!
Name _BVS2: #REF!
Name _DOG1: #REF!
Name _DOG2: #REF!
Name _DOG22: #REF!
Name _DOG3: #REF!
Name _DOG33: #REF!
Name _DOG4: #REF!
Name _FLG1: #REF!
Name _FLG2: #REF!
Name _FLG3: #REF!
Name _HSH1: #REF!
Name _HSH2: #REF!
Name _hun1: [1]Sheet1!#REF!
Name _hun2: [1]Sheet1!#REF!
Name _JH1: #REF!
Name _JH10: #REF!
Name _JH11: #REF!
Name _JH12: #REF!
Name _JH13: #REF!
Name _JH14: #REF!
Name _JH15: #REF!
Name _JH16: #REF!
Name _JH17: #REF!
Name _JH18: #REF!
Name _JH19: #REF!
Name _JH2: #REF!
Name _JH20: #REF!
Name _JH3: #REF!
Name _JH4: #REF!
Name _JH5: #REF!
Name _JH6: #REF!
Name _jh7: #REF!
Name _jh8: #REF!
Name _JH9: #REF!
Name _JK7: #REF!
Name _JK8: #REF!
Name _JL1: #REF!
Name _JL2: #REF!
Name _JS1: #REF!
Name _JS2: #REF!
Name _KK1: #REF!
Name _kM1: #REF!
Name _kM2: #REF!
Name _kM3: #REF!
Name _LAB5: #REF!
Name _LAN1: #REF!
Name _LAN10: #REF!
Name _LAN11: #REF!
Name _LAN12: #REF!
Name _LAN13: #REF!
Name _LAN14: #REF!
Name _LAN15: #REF!
Name _LAN16: #REF!
Name _LAN17: #REF!
Name _LAN18: #REF!
Name _LAN19: #REF!
Name _LAN2: #REF!
Name _LAN20: #REF!

Sheet 내역서
A1: 설 계 예 산 서
A2: 공 종 명 | B2: 규 격 | C2: 수량 | D2: 단위 | E2: 합 계 | G2: 재 료 비 | I2: 노 무 비 | K2: 경 비 | M2: 비 고
E3: 단 가 | F3: 금 액 | G3: 단 가 | H3: 금 액 | I3: 단 가 | J3: 금 액 | K3: 단 가 | L3: 금 액
A4: 2026년 하반기 도로시설물 정기안전점검 및 실시설계용역 | C4: 1 | D4: 식 | F4: =H4+J4+L4 -> 0 | H4: =H49 -> 0 | J4: =J49 -> 0 | L4: =L49 -> 0
A5: ='[49]시설물 제원'!B4 -> 호계3동 대림(아) 앞 육교 | C5: 1 | D5: 식
A6: ='[49]시설물 제원'!B5 -> 호계3동주민센터 앞 육교 | C6: 1 | D6: 식
A7: ='[49]시설물 제원'!B6 -> 범계동 신동아(아) 앞 육교 | C7: 1 | D7: 식
A8: ='[49]시설물 제원'!B7 -> 향림육교 | C8: 1 | D8: 식
A9: ='[49]시설물 제원'!B8 -> 호계3동 삼신아파트 앞 육교 | C9: 1 | D9: 식
A10: ='[49]시설물 제원'!B9 -> 안양남초교 앞 육교 | C10: 1 | D10: 식
A11: ='[49]시설물 제원'!B10 -> 평촌지하차도 위 육교 | C11: 1 | D11: 식
A12: ='[49]시설물 제원'!B11 -> 안양우체국사거리 육교 | C12: 1 | D12: 식
A13: ='[49]시설물 제원'!B12 -> 샘모루초교 앞 육교 | C13: 1 | D13: 식
A14: ='[49]시설물 제원'!B13 -> 중앙공원 앞 육교 | C14: 1 | D14: 식
A15: ='[49]시설물 제원'!B14 -> 롯데 향촌(아) 앞 육교 | C15: 1 | D15: 식
A16: ='[49]시설물 제원'!B15 -> 신촌동주민센터 앞 육교 | C16: 1 | D16: 식
... A42: ='[49]시설물 제원'!B41 -> 충훈터널 | C42: 1 | D42: 식
A43: 보수보강실시설계 | C43: 1 | D43: 식
A44: >>공급가액
A45: 손해배상공제료 | C45: 1 | D45: 식
A46: >>>소계
A47: 단수정리
A48: 부가가치세 | B48: (소계)*10% | C48: 1 | D48: 식
A49: >>>>도급예정액
A56: =A5 -> 호계3동 대림(아) 앞 육교 | C56: 1 | D56: 식
A57: .1. 기본대가
A58: ..가. 직접인건비
A59: ...(1)내업 | B59: 고급기술자 | C59: =VLOOKUP(A56,[49]대가기준산정!$B$208:$H$227,7,0) -> 0.1 | D59: 인
A60: ...(2)외업 | B60: 고급기술자 | C60: =VLOOKUP(A56,[49]대가기준산정!$B$208:$H$227,6,0) -> 1 | D60: 인
A61: ..나. 제경비 | B61: 직인*110% | C61: 1 | D61: 식
A62: ..다. 기술료 | B62: (직인+제경비)*20% | C62: 1 | D62: 식
A63: ..라. 직접경비
A64: ...(1)차량 운행비 | B64: 승용차 2000cc | C64: =[49]대가기준산정!I251 -> 0.25 | D64: 일
A65: ...(2)위험수당 | B65: (현직인)*10% | C65: 1 | D65: 식
A66: ...(3)보고서인쇄비 | B66: 20쪽 | C66: 3 | D66: 부
A67: .2.추가조사비
A68: ..트럭탑재크레인 | B68: 5톤 | C68: =VLOOKUP(A56,[49]대가기준산정!$B$251:$G$291,5,0) -> 0 | D68: 일
A70: =A6 -> 호계3동주민센터 앞 육교 | C70: 1 | D70: 식
A71: .1. 기본대가
A72: ..가. 직접인건비
A73: ...(1)내업 | B73: 고급기술자 | C73: =VLOOKUP(A70,[49]대가기준산정!$B$208:$H$227,7,0) -> 0.1 | D73: 인
A74: ...(2)외업 | B74: 고급기술자 | C74: =VLOOKUP(A70,[49]대가기준산정!$B$208:$H$227,6,0) -> 1 | D74: 인
A75: ..나. 제경비 | B75: 직인*110% | C75: 1 | D75: 식
A76: ..다. 기술료 | B76: (직인+제경비)*20% | C76: 1 | D76: 식
A77: ..라. 직접경비
A78: ...(1)차량 운행비 | B78: 승용차 2000cc | C78: =[49]대가기준산정!I252 -> 0.25 | D78: 일
A79: ...(2)위험수당 | B79: (현직인)*10% | C79: 1 | D79: 식
A80: ...(3)보고서인쇄비 | B80: 20쪽 | C80: 3 | D80: 부
A81: .2.추가조사비
A82: ..트럭탑재크레인 | B82: 5톤 | C82: =VLOOKUP(A70,[49]대가기준산정!$B$251:$G$291,5,0) -> 0 | D82: 일
A83: =A7 -> 범계동 신동아(아) 앞 육교 | C83: 1 | D83: 식
A84: .1. 기본대가
A85: ..가. 직접인건비
A86: ...(1)내업 | B86: 고급기술자 | C86: =VLOOKUP(A83,[49]대가기준산정!$B$208:$H$227,7,0) -> 0.1 | D86: 인
A87: ...(2)외업 | B87: 고급기술자 | C87: =VLOOKUP(A83,[49]대가기준산정!$B$208:$H$227,6,0) -> 1 | D87: 인
A88: ..나. 제경비 | B88: 직인*110% | C88: 1 | D88: 식
A89: ..다. 기술료 | B89: (직인+제경비)*20% | C89: 1 | D89: 식
A90: ..라. 직접경비
A91: ...(1)차량 운행비 | B91: 승용차 2000cc | C91: =[49]대가기준산정!I253 -> 0.25 | D91: 일
A92: ...(2)위험수당 | B92: (현직인)*10% | C92: 1 | D92: 식
A93: ...(3)보고서인쇄비 | B93: 20쪽 | C93: 3 | D93: 부
A94: .2.추가조사비
A95: ..트럭탑재크레인 | B95: 5톤 | C95: =VLOOKUP(A83,[49]대가기준산정!$B$251:$G$291,5,0) -> 0 | D95: 일
A97: =A8 -> 향림육교 | C97: 1 | D97: 식
A98: .1. 기본대가
A99: ..가. 직접인건비
A100: ...(1)내업 | B100: 고급기술자 | C100: =VLOOKUP(A97,[49]대가기준산정!$B$208:$H$227,7,0) -> 0.1 | D100: 인
A101: ...(2)외업 | B101: 고급기술자 | C101: =VLOOKUP(A97,[49]대가기준산정!$B$208:$H$227,6,0) -> 1 | D101: 인
A102: ..나. 제경비 | B102: 직인*110% | C102: 1 | D102: 식
A103: ..다. 기술료 | B103: (직인+제경비)*20% | C103: 1 | D103: 식
A104: ..라. 직접경비
A105: ...(1)차량 운행비 | B105: 승용차 2000cc | C105: =[49]대가기준산정!I254 -> 0.25 | D105: 일
A106: ...(2)위험수당 | B106: (현직인)*10% | C106: 1 | D106: 식
A107: ...(3)보고서인쇄비 | B107: 20쪽 | C107: 3 | D107: 부
A108: .2.추가조사비
A109: ..트럭탑재크레인 | B109: 5톤 | C109: =VLOOKUP(A97,[49]대가기준산정!$B$251:$G$291,5,0) -> 0 | D109: 일
A110: =A9 -> 호계3동 삼신아파트 앞 육교 | C110: 1 | D110: 식
A111: .1. 기본대가
A112: ..가. 직접인건비
A113: ...(1)내업 | B113: 고급기술자 | C113: =VLOOKUP(A110,[49]대가기준산정!$B$208:$H$227,7,0) -> 0.1 | D113: 인
A114: ...(2)외업 | B114: 고급기술자 | C114: =VLOOKUP(A110,[49]대가기준산정!$B$208:$H$227,6,0) -> 1 | D114: 인
A115: ..나. 제경비 | B115: 직인*110% | C115: 1 | D115: 식
A116: ..다. 기술료 | B116: (직인+제경비)*20% | C116: 1 | D116: 식
A117: ..라. 직접경비
A118: ...(1)차량 운행비 | B118: 승용차 2000cc | C118: =[49]대가기준산정!I255 -> 0.25 | D118: 일
A119: ...(2)위험수당 | B119: (현직인)*10% | C119: 1 | D119: 식
A120: ...(3)보고서인쇄비 | B120: 20쪽 | C120: 3 | D120: 부
A121: .2.추가조사비
A122: ..트럭탑재크레인 | B122: 5톤 | C122: =VLOOKUP(A110,[49]대가기준산정!$B$251:$G$291,5,0) -> 0 | D122: 일
A124: =A10 -> 안양남초교 앞 육교 | C124: 1 | D124: 식
A125: .1. 기본대가
A126: ..가. 직접인건비
A127: ...(1)내업 | B127: 고급기술자 | C127: =VLOOKUP(A124,[49]대가기준산정!$B$208:$H$227,7,0) -> 0.1 | D127: 인
A128: ...(2)외업 | B128: 고급기술자 | C128: =VLOOKUP(A124,[49]대가기준산정!$B$208:$H$227,6,0) -> 1 | D128: 인
A129: ..나. 제경비 | B129: 직인*110% | C129: 1 | D129: 식
A130: ..다. 기술료 | B130: (직인+제경비)*20% | C130: 1 | D130: 식
A131: ..라. 직접경비
A132: ...(1)차량 운행비 | B132: 승용차 2000cc | C132: =[49]대가기준산정!I256 -> 0.25 | D132: 일
A133: ...(2)위험수당 | B133: (현직인)*10% | C133: 1 | D133: 식
A134: ...(3)보고서인쇄비 | B134: 20쪽 | C134: 3 | D134: 부
...

Sheet 내진성평가
A2: - 내진성 평가 및 내진보강 방안제시
A3: 구 분 | C3: 단위 | D3: 수량 | E3: 기준인원수 (고급기술자, 인)
A4: 1. RC, 단순교 | C4: 개소 | D4: 1 | E4: 7
A5: 2. RC, 단순교, 재하시험 구조해석 포함 | C5: 개소 | D5: 1 | E5: 10
A6: 3. RC, 연속교 | C6: 개소 | D6: 1 | E6: 8
A7: 4. RC, 연속교, 재하시험 구조해석 포함 | C7: 개소 | D7: 1 | E7: 12
A8: 5. PSC-I, 단순교 | C8: 개소 | D8: 1 | E8: 12
A9: 6. PSC-I, 단순교, 재하시험 구조해석 포함 | C9: 개소 | D9: 1 | E9: 18
A10: 7. PSC-I, 연속교 | C10: 개소 | D10: 1 | E10: 14
A11: 8. PSC-I, 연속교, 재하시험 구조해석 포함 | C11: 개소 | D11: 1 | E11: 21
A12: 9. SPG, 단순교 | C12: 개소 | D12: 1 | E12: 14
A13: 10. SPG, 단순교, 재하시험 구조해석 포함 | C13: 개소 | D13: 1 | E13: 21
A14: 11. SPG, 연속교 | C14: 개소 | D14: 1 | E14: 17
A15: 12. SPG, 연속교, 재하시험 구조해석 포함 | C15: 개소 | D15: 1 | E15: 26
... A25: 22. 하부구조, 재하시험 구조해석 포함 | C25: 개소 | D25: 1 | E25: 6
A28: * 각 시설물별로 정밀한 내진해석 실시(시간이력해석법, 비선형 해석법, P-δ효과를 고려한 해석법)
A29: 교 량 | B29: 구 분 | E29: 기준인원수
A30: 안양대교 | B30: 8명 × 2.5 | E30: =8*2.5 -> 20
A31: 안양교 | B31: 8명 × 2.5 | E31: =8*2.5 -> 20
