Workbook

Sheet 유의사항
B3: 시장조사에 응해 주셔서 감사합니다.
B5: 품목수량은 2026년도 8월 26일~9월 25일 예측수량이며, 학사일정 및 생활관 입사자 변동시 수량은 변동될 수 있음을 알려드립니다.
B7: 단가는 세액포함 가격으로 입력해 주시고, 다른 셀은 변경하지 마세요.
B8: (수산물은 원산지까지 입력)
B11: 각 시트마다 납품가능한 품목에만 단가를 기입해 주세요.
B13: 작성후 파일 이름은 업체명으로 저장하여 보내주세요.
B14: 예) **상회.xls

Sheet 공산품
A1: 번호 | B1: code | C1: 품명 | D1: 규격 | E1: 단위 | F1: 수량 | G1: 단가(원) | H1: 금액(원) | I1: 비고
A2: 1 | B2: 공산-1 | C2: =VLOOKUP(B2,기초코드!$B$2:$F$261,2,FALSE) -> 4미새우튀김꼬치 | D2: =VLOOKUP(B2,기초코드!$B$2:$F$2926,3,FALSE) -> 825g(55g*15ea) | E2: =VLOOKUP(B2,기초코드!$B$2:$F$2926,4,FALSE) -> 박스 | F2: =VLOOKUP(B2,기초코드!$B$2:$G$2926,6,FALSE) -> 60 | H2: =F2*G2 -> 0 | I2: =VLOOKUP(B2,기초코드!$B$2:$F$261,5,FALSE) -> 0
A3: 2 | B3: 공산-2 | C3: =VLOOKUP(B3,기초코드!$B$2:$F$261,2,FALSE) -> 간지치킨용소스(60계용) | D3: =VLOOKUP(B3,기초코드!$B$2:$F$2926,3,FALSE) -> 2kg | E3: =VLOOKUP(B3,기초코드!$B$2:$F$2926,4,FALSE) -> 봉 | F3: =VLOOKUP(B3,기초코드!$B$2:$G$2926,6,FALSE) -> 34 | H3: =F3*G3 -> 0 | I3: =VLOOKUP(B3,기초코드!$B$2:$F$261,5,FALSE) -> 0
A4: 3 | B4: 공산-3 | C4: =VLOOKUP(B4,기초코드!$B$2:$F$261,2,FALSE) -> 갈비탕육수 | D4: =VLOOKUP(B4,기초코드!$B$2:$F$2926,3,FALSE) -> 2kg | E4: =VLOOKUP(B4,기초코드!$B$2:$F$2926,4,FALSE) -> 봉 | F4: =VLOOKUP(B4,기초코드!$B$2:$G$2926,6,FALSE) -> 7 | H4: =F4*G4 -> 0 | I4: =VLOOKUP(B4,기초코드!$B$2:$F$261,5,FALSE) -> 0
A5: 4 | B5: 공산-4 | C5: =VLOOKUP(B5,기초코드!$B$2:$F$261,2,FALSE) -> 갈아만든배 | D5: =VLOOKUP(B5,기초코드!$B$2:$F$2926,3,FALSE) -> 1.5L*12ea | E5: =VLOOKUP(B5,기초코드!$B$2:$F$2926,4,FALSE) -> 박스 | F5: =VLOOKUP(B5,기초코드!$B$2:$G$2926,6,FALSE) -> 3 | H5: =F5*G5 -> 0 | I5: =VLOOKUP(B5,기초코드!$B$2:$F$261,5,FALSE) -> 0
A6: 5 | B6: 공산-5 | C6: =VLOOKUP(B6,기초코드!$B$2:$F$261,2,FALSE) -> 갈아만든키위주스 | D6: =VLOOKUP(B6,기초코드!$B$2:$F$2926,3,FALSE) -> 130g | E6: =VLOOKUP(B6,기초코드!$B$2:$F$2926,4,FALSE) -> 개 | F6: =VLOOKUP(B6,기초코드!$B$2:$G$2926,6,FALSE) -> 900 | H6: =F6*G6 -> 0 | I6: =VLOOKUP(B6,기초코드!$B$2:$F$261,5,FALSE) -> 0
A7: 6 | B7: 공산-6 | C7: =VLOOKUP(B7,기초코드!$B$2:$F$261,2,FALSE) -> 감자전분 | D7: =VLOOKUP(B7,기초코드!$B$2:$F$2926,3,FALSE) -> 1kg | E7: =VLOOKUP(B7,기초코드!$B$2:$F$2926,4,FALSE) -> kg | F7: =VLOOKUP(B7,기초코드!$B$2:$G$2926,6,FALSE) -> 7 | H7: =F7*G7 -> 0 | I7: =VLOOKUP(B7,기초코드!$B$2:$F$261,5,FALSE) -> 0
A8: 7 | B8: 공산-7 | C8: =VLOOKUP(B8,기초코드!$B$2:$F$261,2,FALSE) -> 갖은양념 된장찌개소스 | D8: =VLOOKUP(B8,기초코드!$B$2:$F$2926,3,FALSE) -> 2kg | E8: =VLOOKUP(B8,기초코드!$B$2:$F$2926,4,FALSE) -> 봉 | F8: =VLOOKUP(B8,기초코드!$B$2:$G$2926,6,FALSE) -> 12 | H8: =F8*G8 -> 0 | I8: =VLOOKUP(B8,기초코드!$B$2:$F$261,5,FALSE) -> 0
A9: 8 | B9: 공산-8 | C9: =VLOOKUP(B9,기초코드!$B$2:$F$261,2,FALSE) -> 건두부(포두부) | D9: =VLOOKUP(B9,기초코드!$B$2:$F$2926,3,FALSE) -> 1kg | E9: =VLOOKUP(B9,기초코드!$B$2:$F$2926,4,FALSE) -> kg | F9: =VLOOKUP(B9,기초코드!$B$2:$G$2926,6,FALSE) -> 42 | H9: =F9*G9 -> 0 | I9: =VLOOKUP(B9,기초코드!$B$2:$F$261,5,FALSE) -> 0
A10: 9 | B10: 공산-9 | C10: =VLOOKUP(B10,기초코드!$B$2:$F$261,2,FALSE) -> 건미역 | D10: =VLOOKUP(B10,기초코드!$B$2:$F$2926,3,FALSE) -> 150g,국산 | E10: =VLOOKUP(B10,기초코드!$B$2:$F$2926,4,FALSE) -> 봉 | F10: =VLOOKUP(B10,기초코드!$B$2:$G$2926,6,FALSE) -> 40 | H10: =F10*G10 -> 0 | I10: =VLOOKUP(B10,기초코드!$B$2:$F$261,5,FALSE) -> 0
A11: 10 | B11: 공산-10 | C11: =VLOOKUP(B11,기초코드!$B$2:$F$261,2,FALSE) -> 걸작츄러스감자튀김 | D11: =VLOOKUP(B11,기초코드!$B$2:$F$2926,3,FALSE) -> 1kg(약 20G×50±2EA) | E11: =VLOOKUP(B11,기초코드!$B$2:$F$2926,4,FALSE) -> 봉 | F11: =VLOOKUP(B11,기초코드!$B$2:$G$2926,6,FALSE) -> 35 | H11: =F11*G11 -> 0 | I11: =VLOOKUP(B11,기초코드!$B$2:$F$261,5,FALSE) -> 0
A12: 11 | B12: 공산-11 | C12: =VLOOKUP(B12,기초코드!$B$2:$F$261,2,FALSE) -> 겨자냉채소스 | D12: =VLOOKUP(B12,기초코드!$B$2:$F$2926,3,FALSE) -> 2kg | E12: =VLOOKUP(B12,기초코드!$B$2:$F$2926,4,FALSE) -> 봉 | F12: =VLOOKUP(B12,기초코드!$B$2:$G$2926,6,FALSE) -> 14 | H12: =F12*G12 -> 0 | I12: =VLOOKUP(B12,기초코드!$B$2:$F$261,5,FALSE) -> 0
A13: 12 | B13: 공산-12 | C13: =VLOOKUP(B13,기초코드!$B$2:$F$261,2,FALSE) -> 계란옷을입은에그랑땡 | D13: =VLOOKUP(B13,기초코드!$B$2:$F$2926,3,FALSE) -> 1kg(40-42g*25ea) | E13: =VLOOKUP(B13,기초코드!$B$2:$F$2926,4,FALSE) -> kg | F13: =VLOOKUP(B13,기초코드!$B$2:$G$2926,6,FALSE) -> 98 | H13: =F13*G13 -> 0 | I13: =VLOOKUP(B13,기초코드!$B$2:$F$261,5,FALSE) -> 0
... A189: 188 | B189: 공산-188 | C189: =VLOOKUP(B189,기초코드!$B$2:$F$261,2,FALSE) -> 흰우유(900ml) | D189: =VLOOKUP(B189,기초코드!$B$2:$F$2926,3,FALSE) -> 900ml | E189: =VLOOKUP(B189,기초코드!$B$2:$F$2926,4,FALSE) -> 개 | F189: =VLOOKUP(B189,기초코드!$B$2:$G$2926,6,FALSE) -> 80 | H189: =F189*G189 -> 0 | I189: =VLOOKUP(B189,기초코드!$B$2:$F$261,5,FALSE) -> 0
A190: 총 금액 | H190: =SUM(H2:H189) -> 0

Sheet 기초코드
A1: 구분 | B1: 코드 | C1: 품명 | D1: 규격 | E1: 단위 | F1: 비고 | G1: 2026. 8. 26.~9. 25. | H1: 단가
A2: 농산 | B2: 농산-1 | C2: 가지 | D2: 신선하고 무르지 않은 것 | E2: kg | G2: 70
A3: 농산 | B3: 농산-2 | C3: 감자 | D3: 모양일정,신선한것 | E3: kg | G3: 270
A4: 농산 | B4: 농산-3 | C4: 건목이버섯 | D4: 1kg | E4: kg | G4: 3
A5: 농산 | B5: 농산-4 | C5: 고구마 | D5: 크기가고르고일정한것 | E5: kg | G5: 130
A6: 농산 | B6: 농산-5 | C6: 고사리 | D6: 신선하고 이물 없는 것 | E6: kg | G6: 30
A7: 농산 | B7: 농산-6 | C7: 근대 | D7: 신선하고 깨끗한 것 | E7: kg | G7: 100
A8: 농산 | B8: 농산-7 | C8: 깐마늘 | D8: 알이고르며,신선한것, 꼭지 제거 | E8: kg | G8: 170
A9: 농산 | B9: 농산-8 | C9: 깐양파 | D9: 깨끗하게 껍질 제거,모양이둥글고신선한것 | E9: kg | G9: 1200
A10: 농산 | B10: 농산-9 | C10: 깐연근 | D10: 색이변하지않고신선한것 | E10: kg | G10: 80
A11: 농산 | B11: 농산-10 | C11: 깐쪽파 | D11: 이물질이없고신선한것 | E11: kg | G11: 10
A12: 농산 | B12: 농산-11 | C12: 깻잎 | D12: 향이진하며신선한것 | E12: kg | G12: 25
A13: 농산 | B13: 농산-12 | C13: 노랑파프리카 | D13: 탄력있고꼭지가신선한것 | E13: kg | G13: 22
... A242: 공산 | B242: 공산-188 | C242: 흰우유(900ml) | D242: 900ml | E242: 개 | G242: 80
A243: 육류 | B243: 육류-1 | C243: 돼지고기/갈비 | D243: 국산 2등급이상, 사양에 맞게 절단 | E243: kg | F243: 원산지: 국산 | G243: 220
A244: 육류 | B244: 육류-2 | C244: 돼지고기/삼겹살 | D244: 국산 2등급이상, 사양에 맞게 절단 | E244: kg | F244: 원산지: 국산 | G244: 480
A245: 육류 | B245: 육류-3 | C245: 돼지고기/전지 | D245: 국산 2등급이상, 사양에 맞게 절단 | E245: kg | F245: 원산지: 국산 | G245: 510
A246: 육류 | B246: 육류-4 | C246: 돼지고기/후지 | D246: 국산 2등급이상, 사양에 맞게 절단 | E246: kg | F246: 원산지: 국산 | G246: 90
A247: 육류 | B247: 육류-5 | C247: 쇠고기/삼겹살 | D247: 사양에 맞게 절단 | E247: kg | F247: 원산지: 호주산 또는 미국산 | G247: 202
A248: 육류 | B248: 육류-6 | C248: 쇠고기/양지 | D248: 사양에 맞게 절단 | E248: kg | F248: 원산지: 호주산 | G248: 20
A249: 육류 | B249: 육류-7 | C249: 쇠고기/우둔 | D249: 사양에 맞게 절단 | E249: kg | F249: 원산지: 호주산 | G249: 90
A250: 육류 | B250: 육류-8 | C250: 쇠고기/전지 | D250: 사양에 맞게 절단 | E250: kg | F250: 원산지: 호주산 | G250: 872
A251: 계육 | B251: 계육-1 | C251: 계육(토막) | D251: 머리.꽁지.날개끝,내장제거 감량없음 | E251: kg | F251: 원산지: 국산 | G251: 280
A252: 계육 | B252: 계육-2 | C252: 닭다리살 | D252: 사양에 맞게 절단, 다리살 100% | E252: kg | F252: 원산지: 국산 | G252: 250
A253: 수산 | B253: 수산-1 | C253: 가자미-구이용 | D253: 냉동, 손질, 토막당 150g, 이물 없는 것 | E253: kg | G253: 208
A254: 수산 | B254: 수산-2 | C254: 갈치-조림용 | D254: 냉동, 손질, 토막당 150g, 이물 없는 것 | E254: kg | G254: 180
A255: 수산 | B255: 수산-3 | C255: 낙지채 | D255: 냉동,손질 | E255: kg | G255: 288
A256: 수산 | B256: 수산-4 | C256: 모듬해물 | D256: 냉동,손질 | E256: kg | G256: 70
A257: 수산 | B257: 수산-5 | C257: 오징어채 | D257: 냉동,손질 | E257: kg | G257: 222
A258: 수산 | B258: 수산-6 | C258: 주꾸미채 | D258: 냉동, 손질 | E258: kg | G258: 250
A259: 김치 | B259: 김치-1 | C259: 맛김치 | D259: 모든재료 국산사용 | E259: kg | G259: 275
