Workbook

Sheet 유의사항
B3: 시장조사에 응해 주셔서 감사합니다.
B5: 품목수량은 2026년도 8월 26일~9월 25일 예측수량이며, 학사일정 및 생활관 입사자 변동시 수량은 변동될 수 있음을 알려드립니다.
B7: 단가는 세액포함 가격으로 입력해 주시고, 다른 셀은 변경하지 마세요.
B8: (수산물은 원산지까지 입력)
B11: 각 시트마다 납품가능한 품목에만 단가를 기입해 주세요.
B13: 작성후 파일 이름은 업체명으로 저장하여 보내주세요.
B14: 예) **상회.xls

Sheet 공산품
A1: 번호 | B1: code | C1: 품명 | D1: 규격 | E1: 단위 | F1: 수량 | G1: 단가(원) | H1: 금액(원) | I1: 비고
A2: 1 | B2: 공산-1 | C2: =VLOOKUP(B2,기초코드!$B$2:$F$261,2,FALSE) -> 4미새우튀김꼬치 | D2: =VLOOKUP(B2,기초코드!$B$2:$F$2926,3,FALSE) -> 825g(55g*15ea) | E2: =VLOOKUP(B2,기초코드!$B$2:$F$2926,4,FALSE) -> 박스 | F2: =VLOOKUP(B2,기초코드!$B$2:$G$2926,6,FALSE) -> 60 | H2: =F2*G2 -> 0 | I2: =VLOOKUP(B2,기초코드!$B$2:$F$261,5,FALSE) -> 0
A3: 2 | B3: 공산-2 | C3: =VLOOKUP(B3,기초코드!$B$2:$F$261,2,FALSE) -> 간지치킨용소스(60계용) | D3: =VLOOKUP(B3,기초코드!$B$2:$F$2926,3,FALSE) -> 2kg | E3: =VLOOKUP(B3,기초코드!$B$2:$F$2926,4,FALSE) -> 봉 | F3: =VLOOKUP(B3,기초코드!$B$2:$G$2926,6,FALSE) -> 34 | H3: =F3*G3 -> 0 | I3: =VLOOKUP(B3,기초코드!$B$2:$F$261,5,FALSE) -> 0
A4: 3 | B4: 공산-3 | C4: =VLOOKUP(B4,기초코드!$B$2:$F$261,2,FALSE) -> 갈비탕육수 | D4: =VLOOKUP(B4,기초코드!$B$2:$F$2926,3,FALSE) -> 2kg | E4: =VLOOKUP(B4,기초코드!$B$2:$F$2926,4,FALSE) -> 봉 | F4: =VLOOKUP(B4,기초코드!$B$2:$G$2926,6,FALSE) -> 7 | H4: =F4*G4 -> 0 | I4: =VLOOKUP(B4,기초코드!$B$2:$F$261,5,FALSE) -> 0
A5: 4 | B5: 공산-4 | C5: =VLOOKUP(B5,기초코드!$B$2:$F$261,2,FALSE) -> 갈아만든배 | D5: =VLOOKUP(B5,기초코드!$B$2:$F$2926,3,FALSE) -> 1.5L*12ea | E5: =VLOOKUP(B5,기초코드!$B$2:$F$2926,4,FALSE) -> 박스 | F5: =VLOOKUP(B5,기초코드!$B$2:$G$2926,6,FALSE) -> 3 | H5: =F5*G5 -> 0 | I5: =VLOOKUP(B5,기초코드!$B$2:$F$261,5,FALSE) -> 0
A6: 5 | B6: 공산-5 | C6: =VLOOKUP(B6,기초코드!$B$2:$F$261,2,FALSE) -> 갈아만든키위주스 | D6: =VLOOKUP(B6,기초코드!$B$2:$F$2926,3,FALSE) -> 130g | E6: =VLOOKUP(B6,기초코드!$B$2:$F$2926,4,FALSE) -> 개 | F6: =VLOOKUP(B6,기초코드!$B$2:$G$2926,6,FALSE) -> 900 | H6: =F6*G6 -> 0 | I6: =VLOOKUP(B6,기초코드!$B$2:$F$261,5,FALSE) -> 0
A7: 6 | B7: 공산-6 | C7: =VLOOKUP(B7,기초코드!$B$2:$F$261,2,FALSE) -> 감자전분 | D7: =VLOOKUP(B7,기초코드!$B$2:$F$2926,3,FALSE) -> 1kg | E7: =VLOOKUP(B7,기초코드!$B$2:$F$2926,4,FALSE) -> kg | F7: =VLOOKUP(B7,기초코드!$B$2:$G$2926,6,FALSE) -> 7 | H7: =F7*G7 -> 0 | I7: =VLOOKUP(B7,기초코드!$B$2:$F$261,5,FALSE) -> 0
A8: 7 | B8: 공산-7 | C8: =VLOOKUP(B8,기초코드!$B$2:$F$261,2,FALSE) -> 갖은양념 된장찌개소스 | D8: =VLOOKUP(B8,기초코드!$B$2:$F$2926,3,FALSE) -> 2kg | E8: =VLOOKUP(B8,기초코드!$B$2:$F$2926,4,FALSE) -> 봉 | F8: =VLOOKUP(B8,기초코드!$B$2:$G$2926,6,FALSE) -> 12 | H8: =F8*G8 -> 0 | I8: =VLOOKUP(B8,기초코드!$B$2:$F$261,5,FALSE) -> 0
A9: 8 | B9: 공산-8 | C9: =VLOOKUP(B9,기초코드!$B$2:$F$261,2,FALSE) -> 건두부(포두부) | D9: =VLOOKUP(B9,기초코드!$B$2:$F$2926,3,FALSE) -> 1kg | E9: =VLOOKUP(B9,기초코드!$B$2:$F$2926,4,FALSE) -> kg | F9: =VLOOKUP(B9,기초코드!$B$2:$G$2926,6,FALSE) -> 42 | H9: =F9*G9 -> 0 | I9: =VLOOKUP(B9,기초코드!$B$2:$F$261,5,FALSE) -> 0
A10: 9 | B10: 공산-9 | C10: =VLOOKUP(B10,기초코드!$B$2:$F$261,2,FALSE) -> 건미역 | D10: =VLOOKUP(B10,기초코드!$B$2:$F$2926,3,FALSE) -> 150g,국산 | E10: =VLOOKUP(B10,기초코드!$B$2:$F$2926,4,FALSE) -> 봉 | F10: =VLOOKUP(B10,기초코드!$B$2:$G$2926,6,FALSE) -> 40 | H10: =F10*G10 -> 0 | I10: =VLOOKUP(B10,기초코드!$B$2:$F$261,5,FALSE) -> 0
A11: 10 | B11: 공산-10 | C11: =VLOOKUP(B11,기초코드!$B$2:$F$261,2,FALSE) -> 걸작츄러스감자튀김 | D11: =VLOOKUP(B11,기초코드!$B$2:$F$2926,3,FALSE) -> 1kg(약 20G×50±2EA) | E11: =VLOOKUP(B11,기초코드!$B$2:$F$2926,4,FALSE) -> 봉 | F11: =VLOOKUP(B11,기초코드!$B$2:$G$2926,6,FALSE) -> 35 | H11: =F11*G11 -> 0 | I11: =VLOOKUP(B11,기초코드!$B$2:$F$261,5,FALSE) -> 0
A12: 11 | B12: 공산-11 | C12: =VLOOKUP(B12,기초코드!$B$2:$F$261,2,FALSE) -> 겨자냉채소스 | D12: =VLOOKUP(B12,기초코드!$B$2:$F$2926,3,FALSE) -> 2kg | E12: =VLOOKUP(B12,기초코드!$B$2:$F$2926,4,FALSE) -> 봉 | F12: =VLOOKUP(B12,기초코드!$B$2:$G$2926,6,FALSE) -> 14 | H12: =F12*G12 -> 0 | I12: =VLOOKUP(B12,기초코드!$B$2:$F$261,5,FALSE) -> 0
A13: 12 | B13: 공산-12 | C13: =VLOOKUP(B13,기초코드!$B$2:$F$261,2,FALSE) -> 계란옷을입은에그랑땡 | D13: =VLOOKUP(B13,기초코드!$B$2:$F$2926,3,FALSE) -> 1kg(40-42g*25ea) | E13: =VLOOKUP(B13,기초코드!$B$2:$F$2926,4,FALSE) -> kg | F13: =VLOOKUP(B13,기초코드!$B$2:$G$2926,6,FALSE) -> 98 | H13: =F13*G13 -> 0 | I13: =VLOOKUP(B13,기초코드!$B$2:$F$261,5,FALSE) -> 0
... A189: 188 | B189: 공산-188 | C189: =VLOOKUP(B189,기초코드!$B$2:$F$261,2,FALSE) -> 흰우유(900ml) | D189: =VLOOKUP(B189,기초코드!$B$2:$F$2926,3,FALSE) -> 900ml | E189: =VLOOKUP(B189,기초코드!$B$2:$F$2926,4,FALSE) -> 개 | F189: =VLOOKUP(B189,기초코드!$B$2:$G$2926,6,FALSE) -> 80 | H189: =F189*G189 -> 0 | I189: =VLOOKUP(B189,기초코드!$B$2:$F$261,5,FALSE) -> 0
A190: 총 금액 | H190: =SUM(H2:H189) -> 0

Sheet 기초코드
A1: 구분 | B1: 코드 | C1: 품명 | D1: 규격 | E1: 단위 | F1: 비고 | G1: 2026. 8. 26.~9. 25. | H1: 단가
A2: 농산 | B2: 농산-1 | C2: 가지 | D2: 신선하고 무르지 않은 것 | E2: kg | G2: 70
A3: 농산 | B3: 농산-2 | C3: 감자 | D3: 모양일정,신선한것 | E3: kg | G3: 270
A4: 농산 | B4: 농산-3 | C4: 건목이버섯 | D4: 1kg | E4: kg | G4: 3
A5: 농산 | B5: 농산-4 | C5: 고구마 | D5: 크기가고르고일정한것 | E5: kg | G5: 130
A6: 농산 | B6: 농산-5 | C6: 고사리 | D6: 신선하고 이물 없는 것 | E6: kg | G6: 30
A7: 농산 | B7: 농산-6 | C7: 근대 | D7: 신선하고 깨끗한 것 | E7: kg | G7: 100
A8: 농산 | B8: 농산-7 | C8: 깐마늘 | D8: 알이고르며,신선한것, 꼭지 제거 | E8: kg | G8: 170
A9: 농산 | B9: 농산-8 | C9: 깐양파 | D9: 깨끗하게 껍질 제거,모양이둥글고신선한것 | E9: kg | G9: 1200
A10: 농산 | B10: 농산-9 | C10: 깐연근 | D10: 색이변하지않고신선한것 | E10: kg | G10: 80
A11: 농산 | B11: 농산-10 | C11: 깐쪽파 | D11: 이물질이없고신선한것 | E11: kg | G11: 10
A12: 농산 | B12: 농산-11 | C12: 깻잎 | D12: 향이진하며신선한것 | E12: kg | G12: 25
A13: 농산 | B13: 농산-12 | C13: 노랑파프리카 | D13: 탄력있고꼭지가신선한것 | E13: kg | G13: 22
... A242: 공산 | B242: 공산-188 | C242: 흰우유(900ml) | D242: 900ml | E242: 개 | G242: 80
A243: 육류 | B243: 육류-1 | C243: 돼지고기/갈비 | D243: 국산 2등급이상, 사양에 맞게 절단 | E243: kg | F243: 원산지: 국산 | G243: 220
A244: 육류 | B244: 육류-2 | C244: 돼지고기/삼겹살 | D244: 국산 2등급이상, 사양에 맞게 절단 | E244: kg | F244: 원산지: 국산 | G244: 480
A245: 육류 | B245: 육류-3 | C245: 돼지고기/전지 | D245: 국산 2등급이상, 사양에 맞게 절단 | E245: kg | F245: 원산지: 국산 | G245: 510
A246: 육류 | B246: 육류-4 | C246: 돼지고기/후지 | D246: 국산 2등급이상, 사양에 맞게 절단 | E246: kg | F246: 원산지: 국산 | G246: 90
A247: 육류 | B247: 육류-5 | C247: 쇠고기/삼겹살 | D247: 사양에 맞게 절단 | E247: kg | F247: 원산지: 호주산 또는 미국산 | G247: 202
A248: 육류 | B248: 육류-6 | C248: 쇠고기/양지 | D248: 사양에 맞게 절단 | E248: kg | F248: 원산지: 호주산 | G248: 20
A249: 육류 | B249: 육류-7 | C249: 쇠고기/우둔 | D249: 사양에 맞게 절단 | E249: kg | F249: 원산지: 호주산 | G249: 90
A250: 육류 | B250: 육류-8 | C250: 쇠고기/전지 | D250: 사양에 맞게 절단 | E250: kg | F250: 원산지: 호주산 | G250: 872
A251: 계육 | B251: 계육-1 | C251: 계육(토막) | D251: 머리.꽁지.날개끝,내장제거 감량없음 | E251: kg | F251: 원산지: 국산 | G251: 280
A252: 계육 | B252: 계육-2 | C252: 닭다리살 | D252: 사양에 맞게 절단, 다리살 100% | E252: kg | F252: 원산지: 국산 | G252: 250
A253: 수산 | B253: 수산-1 | C253: 가자미-구이용 | D253: 냉동, 손질, 토막당 150g, 이물 없는 것 | E253: kg | G253: 208
A254: 수산 | B254: 수산-2 | C254: 갈치-조림용 | D254: 냉동, 손질, 토막당 150g, 이물 없는 것 | E254: kg | G254: 180
A255: 수산 | B255: 수산-3 | C255: 낙지채 | D255: 냉동,손질 | E255: kg | G255: 288
A256: 수산 | B256: 수산-4 | C256: 모듬해물 | D256: 냉동,손질 | E256: kg | G256: 70
A257: 수산 | B257: 수산-5 | C257: 오징어채 | D257: 냉동,손질 | E257: kg | G257: 222
A258: 수산 | B258: 수산-6 | C258: 주꾸미채 | D258: 냉동, 손질 | E258: kg | G258: 250
A259: 김치 | B259: 김치-1 | C259: 맛김치 | D259: 모든재료 국산사용 | E259: kg | G259: 275
A260: 김치 | B260: 김치-2 | C260: 배추겉절이 | D260: 모든재료 국산사용 | E260: kg | G260: 600 | TA260: 김치 | TB260: 김치-4 | TC260: 백김치 | TD260: 모든재료국산사용 | TE260: kg | TF260: 국산 | TG260: 30 | TI260: 김치 | TJ260: 김치-4 | TK260: 백김치 | TL260: 모든재료국산사용 | TM260: kg | TN260: 국산 | TO260: 30 | TQ260: 김치 | TR260: 김치-4 | TS260: 백김치 | TT260: 모든재료국산사용 | TU260: kg | TV260: 국산 | TW260: 30 | TY260: 김치 | TZ260: 김치-4 | UA260: 백김치 | UB260: 모든재료국산사용 | UC260: kg | UD260: 국산 | UE260: 30 | UG260: 김치 | UH260: 김치-4 | UI260: 백김치 | UJ260: 모든재료국산사용 | UK260: kg | UL260: 국산 | UM260: 30 | UO260: 김치 | UP260: 김치-4 | UQ260: 백김치 | UR260: 모든재료국산사용 | US260: kg | UT260: 국산 | UU260: 30 | UW260: 김치 | UX260: 김치-4 | UY260: 백김치 | UZ260: 모든재료국산사용 | VA260: kg | VB260: 국산 | VC260: 30 | VE260: 김치 | VF260: 김치-4 | VG260: 백김치 | VH260: 모든재료국산사용 | VI260: kg | VJ260: 국산 | VK260: 30 | VM260: 김치 | VN260: 김치-4 | VO260: 백김치 | VP260: 모든재료국산사용 | VQ260: kg | VR260: 국산 | VS260: 30 | VU260: 김치 | VV260: 김치-4 | VW260: 백김치 | VX260: 모든재료국산사용 | VY260: kg | VZ260: 국산 | WA260: 30 | WC260: 김치 | WD260: 김치-4 | WE260: 백김치 | WF260: 모든재료국산사용 | WG260: kg | WH260: 국산 | WI260: 30 | WK260: 김치 | WL260: 김치-4 | WM260: 백김치 | WN260: 모든재료국산사용 | WO260: kg | WP260: 국산 | WQ260: 30 | WS260: 김치 | WT260: 김치-4 | WU260: 백김치 | WV260: 모든재료국산사용 | WW260: kg | WX260: 국산 | WY260: 30 | XA260: 김치 | XB260: 김치-4 | XC260: 백김치 | XD260: 모든재료국산사용 | XE260: kg | XF260: 국산 | XG260: 30 | XI260: 김치 | XJ260: 김치-4 | XK260: 백김치 | XL260: 모든재료국산사용 | XM260: kg | XN260: 국산 | XO260: 30 | XQ260: 김치 | XR260: 김치-4 | XS260: 백김치 | XT260: 모든재료국산사용 | XU260: kg | XV260: 국산 | XW260: 30 | XY260: 김치 | XZ260: 김치-4 | YA260: 백김치 | YB260: 모든재료국산사용 | YC260: kg | YD260: 국산 | YE260: 30 | YG260: 김치 | YH260: 김치-4 | YI260: 백김치 | YJ260: 모든재료국산사용 | YK260: kg | YL260: 국산 | YM260: 30 | YO260: 김치 | YP260: 김치-4 | YQ260: 백김치 | YR260: 모든재료국산사용 | YS260: kg | YT260: 국산 | YU260: 30 | YW260: 김치 | YX260: 김치-4 | YY260: 백김치 | YZ260: 모든재료국산사용 | ZA260: kg | ZB260: 국산 | ZC260: 30 | ZE260: 김치 | ZF260: 김치-4 | ZG260: 백김치 | ZH260: 모든재료국산사용 | ZI260: kg | ZJ260: 국산 | ZK260: 30 | ZM260: 김치 | ZN260: 김치-4 | ZO260: 백김치 | ZP260: 모든재료국산사용 | ZQ260: kg | ZR260: 국산 | ZS260: 30 | ZU260: 김치 | ZV260: 김치-4 | ZW260: 백김치 | ZX260: 모든재료국산사용 | ZY260: kg | ZZ260: 국산 | AAA260: 30 | AAC260: 김치 | AAD260: 김치-4 | AAE260: 백김치 | AAF260: 모든재료국산사용 | AAG260: kg | AAH260: 국산 | AAI260: 30 | AAK260: 김치 | AAL260: 김치-4 | AAM260: 백김치 | AAN260: 모든재료국산사용 | AAO260: kg | AAP260: 국산 | AAQ260: 30 | AAS260: 김치 | AAT260: 김치-4 | AAU260: 백김치 | AAV260: 모든재료국산사용 | AAW260: kg | AAX260: 국산 | AAY260: 30 | ABA260: 김치 | ABB260: 김치-4 | ABC260: 백김치 | ABD260: 모든재료국산사용 | ABE260: kg | ABF260: 국산 | ABG260: 30 | ABI260: 김치 | ABJ260: 김치-4 | ABK260: 백김치 | ABL260: 모든재료국산사용 | ABM260: kg | ABN260: 국산 | ABO260: 30 | ABQ260: 김치 | ABR260: 김치-4 | ABS260: 백김치 | ABT260: 모든재료국산사용 | ABU260: kg | ABV260: 국산 | ABW260: 30 | ABY260: 김치 | ABZ260: 김치-4 | ACA260: 백김치 | ACB260: 모든재료국산사용 | ACC260: kg | ACD260: 국산 | ACE260: 30 | ACG260: 김치 | ACH260: 김치-4 | ACI260: 백김치 | ACJ260: 모든재료국산사용 | ACK260: kg | ACL260: 국산 | ACM260: 30 | ACO260: 김치 | ACP260: 김치-4 | ACQ260: 백김치 | ACR260: 모든재료국산사용 | ACS260: kg | ACT260: 국산 | ACU260: 30 | ACW260: 김치 | ACX260: 김치-4 | ACY260: 백김치 | ACZ260: 모든재료국산사용 | ADA260: kg | ADB260: 국산 | ADC260: 30 | ADE260: 김치 | ADF260: 김치-4 | ADG260: 백김치 | ADH260: 모든재료국산사용 | ADI260: kg | ADJ260: 국산 | ADK260: 30 | ADM260: 김치 | ADN260: 김치-4 | ADO260: 백김치 | ADP260: 모든재료국산사용 | ADQ260: kg | ADR260: 국산 | ADS260: 30 | ADU260: 김치 | ADV260: 김치-4 | ADW260: 백김치 | ADX260: 모든재료국산사용 | ADY260: kg | ADZ260: 국산 | AEA260: 30 | AEC260: 김치 | AED260: 김치-4 | AEE260: 백김치 | AEF260: 모든재료국산사용 | AEG260: kg | AEH260: 국산 | AEI260: 30 | AEK260: 김치 | AEL260: 김치-4 | AEM260: 백김치 | AEN260: 모든재료국산사용 | AEO260: kg | AEP260: 국산 | AEQ260: 30 | AES260: 김치 | AET260: 김치-4 | AEU260: 백김치 | AEV260: 모든재료국산사용 | AEW260: kg | AEX260: 국산 | AEY260: 30 | AFA260: 김치 | AFB260: 김치-4 | AFC260: 백김치 | AFD260: 모든재료국산사용 | AFE260: kg | AFF260: 국산 | AFG260: 30 | AFI260: 김치 | AFJ260: 김치-4 | AFK260: 백김치 | AFL260: 모든재료국산사용 | AFM260: kg | AFN260: 국산 | AFO260: 30 | AFQ260: 김치 | AFR260: 김치-4 | AFS260: 백김치 | AFT260: 모든재료국산사용 | AFU260: kg | AFV260: 국산 | AFW260: 30 | AFY260: 김치 | AFZ260: 김치-4 | AGA260: 백김치 | AGB260: 모든재료국산사용 | AGC260: kg | AGD260: 국산 | AGE260: 30 | AGG260: 김치 | AGH260: 김치-4 | AGI260: 백김치 | AGJ260: 모든재료국산사용 | AGK260: kg | AGL260: 국산 | AGM260: 30 | AGO260: 김치 | AGP260: 김치-4 | AGQ260: 백김치 | AGR260: 모든재료국산사용 | AGS260: kg | AGT260: 국산 | AGU260: 30 | AGW260: 김치 | AGX260: 김치-4 | AGY260: 백김치 | AGZ260: 모든재료국산사용 | AHA260: kg | AHB260: 국산 | AHC260: 30 | AHE260: 김치 | AHF260: 김치-4 | AHG260: 백김치 | AHH260: 모든재료국산사용 | AHI260: kg | AHJ260: 국산 | AHK260: 30 | AHM260: 김치 | AHN260: 김치-4 | AHO260: 백김치 | AHP260: 모든재료국산사용 | AHQ260: kg | AHR260: 국산 | AHS260: 30 | AHU260: 김치 | AHV260: 김치-4 | AHW260: 백김치 | AHX260: 모든재료국산사용 | AHY260: kg | AHZ260: 국산 | AIA260: 30 | AIC260: 김치 | AID260: 김치-4 | AIE260: 백김치 | AIF260: 모든재료국산사용 | AIG260: kg | AIH260: 국산 | AII260: 30 | AIK260: 김치 | AIL260: 김치-4 | AIM260: 백김치 | AIN260: 모든재료국산사용 | AIO260: kg | AIP260: 국산 | AIQ260: 30 | AIS260: 김치 | AIT260: 김치-4 | AIU260: 백김치 | AIV260: 모든재료국산사용 | AIW260: kg | AIX260: 국산 | AIY260: 30 | AJA260: 김치 | AJB260: 김치-4 | AJC260: 백김치 | AJD260: 모든재료국산사용 | AJE260: kg | AJF260: 국산 | AJG260: 30 | AJI260: 김치 | AJJ260: 김치-4 | AJK260: 백김치 | AJL260: 모든재료국산사용 | AJM260: kg | AJN260: 국산 | AJO260: 30 | AJQ260: 김치 | AJR260: 김치-4 | AJS260: 백김치 | AJT260: 모든재료국산사용 | AJU260: kg | AJV260: 국산 | AJW260: 30 | AJY260: 김치 | AJZ260: 김치-4 | AKA260: 백김치 | AKB260: 모든재료국산사용 | AKC260: kg | AKD260: 국산 | AKE260: 30 | AKG260: 김치 | AKH260: 김치-4 | AKI260: 백김치 | AKJ260: 모든재료국산사용 | AKK260: kg | AKL260: 국산 | AKM260: 30 | AKO260: 김치 | AKP260: 김치-4 | AKQ260: 백김치 | AKR260: 모든재료국산사용 | AKS260: kg | AKT260: 국산 | AKU260: 30 | AKW260: 김치 | AKX260: 김치-4 | AKY260: 백김치 | AKZ260: 모든재료국산사용 | ALA260: kg | ALB260: 국산 | ALC260: 30 | ALE260: 김치 | ALF260: 김치-4 | ALG260: 백김치 | ALH260: 모든재료국산사용 | ALI260: kg | ALJ260: 국산 | ALK260: 30 | ALM260: 김치 | ALN260: 김치-4 | ALO260: 백김치 | ALP260: 모든재료국산사용 | ALQ260: kg | ALR260: 국산 | ALS260: 30 | ALU260: 김치 | ALV260: 김치-4 | ALW260: 백김치 | ALX260: 모든재료국산사용 | ALY260: kg | ALZ260: 국산 | AMA260: 30 | AMC260: 김치 | AMD260: 김치-4 | AME260: 백김치 | AMF260: 모든재료국산사용 | AMG260: kg | AMH260: 국산 | AMI260: 30 | AMK260: 김치 | AML260: 김치-4 | AMM260: 백김치 | AMN260: 모든재료국산사용 | AMO260: kg | AMP260: 국산 | AMQ260: 30 | AMS260: 김치 | AMT260: 김치-4 | AMU260: 백김치 | AMV260: 모든재료국산사용 | AMW260: kg | AMX260: 국산 | AMY260: 30 | ANA260: 김치 | ANB260: 김치-4 | ANC260: 백김치 | AND260: 모든재료국산사용 | ANE260: kg | ANF260: 국산 | ANG260: 30 | ANI260: 김치 | ANJ260: 김치-4 | ANK260: 백김치 | ANL260: 모든재료국산사용 | ANM260: kg | ANN260: 국산 | ANO260: 30 | ANQ260: 김치 | ANR260: 김치-4 | ANS260: 백김치 | ANT260: 모든재료국산사용 | ANU260: kg | ANV260: 국산 | ANW260: 30 | ANY260: 김치 | ANZ260: 김치-4 | AOA260: 백김치 | AOB260: 모든재료국산사용 | AOC260: kg | AOD260: 국산 | AOE260: 30 | AOG260: 김치 | AOH260: 김치-4 | AOI260: 백김치 | AOJ260: 모든재료국산사용 | AOK260: kg | AOL260: 국산 | AOM260: 30 | AOO260: 김치 | AOP260: 김치-4 | AOQ260: 백김치 | AOR260: 모든재료국산사용 | AOS260: kg | AOT260: 국산 | AOU260: 30 | AOW260: 김치 | AOX260: 김치-4 | AOY260: 백김치 | AOZ260: 모든재료국산사용 | APA260: kg | APB260: 국산 | APC260: 30 | APE260: 김치 | APF260: 김치-4 | APG260: 백김치 | APH260: 모든재료국산사용 | API260: kg | APJ260: 국산 | APK260: 30 | APM260: 김치 | APN260: 김치-4 | APO260: 백김치 | APP260: 모든재료국산사용 | APQ260: kg | APR260: 국산 | APS260: 30 | APU260: 김치 | APV260: 김치-4 | APW260: 백김치 | APX260: 모든재료국산사용 | APY260: kg | APZ260: 국산 | AQA260: 30 | AQC260: 김치 | AQD260: 김치-4 | AQE260: 백김치 | AQF260: 모든재료국산사용 | AQG260: kg | AQH260: 국산 | AQI260: 30 | AQK260: 김치 | AQL260: 김치-4 | AQM260: 백김치 | AQN260: 모든재료국산사용 | AQO260: kg | AQP260: 국산 | AQQ260: 30 | AQS260: 김치 | AQT260: 김치-4 | AQU260: 백김치 | AQV260: 모든재료국산사용 | AQW260: kg | AQX260: 국산 | AQY260: 30 | ARA260: 김치 | ARB260: 김치-4 | ARC260: 백김치 | ARD260: 모든재료국산사용 | ARE260: kg | ARF260: 국산 | ARG260: 30 | ARI260: 김치 | ARJ260: 김치-4 | ARK260: 백김치 | ARL260: 모든재료국산사용 | ARM260: kg | ARN260: 국산 | ARO260: 30 | ARQ260: 김치 | ARR260: 김치-4 | ARS260: 백김치 | ART260: 모든재료국산사용 | ARU260: kg | ARV260: 국산 | ARW260: 30 | ARY260: 김치 | ARZ260: 김치-4 | ASA260: 백김치 | ASB260: 모든재료국산사용 | ASC260: kg | ASD260: 국산 | ASE260: 30 | ASG260: 김치 | ASH260: 김치-4 | ASI260: 백김치 | ASJ260: 모든재료국산사용 | ASK260: kg | ASL260: 국산 | ASM260: 30 | ASO260: 김치 | ASP260: 김치-4 | ASQ260: 백김치 | ASR260: 모든재료국산사용 | ASS260: kg | AST260: 국산 | ASU260: 30 | ASW260: 김치 | ASX260: 김치-4 | ASY260: 백김치 | ASZ260: 모든재료국산사용 | ATA260: kg | ATB260: 국산 | ATC260: 30 | ATE260: 김치 | ATF260: 김치-4 | ATG260: 백김치 | ATH260: 모든재료국산사용 | ATI260: kg | ATJ260: 국산 | ATK260: 30 | ATM260: 김치 | ATN260: 김치-4 | ATO260: 백김치 | ATP260: 모든재료국산사용 | ATQ260: kg | ATR260: 국산 | ATS260: 30 | ATU260: 김치 | ATV260: 김치-4 | ATW260: 백김치 | ATX260: 모든재료국산사용 | ATY260: kg | ATZ260: 국산 | AUA260: 30 | AUC260: 김치 | AUD260: 김치-4 | AUE260: 백김치 | AUF260: 모든재료국산사용 | AUG260: kg | AUH260: 국산 | AUI260: 30 | AUK260: 김치 | AUL260: 김치-4 | AUM260: 백김치 | AUN260: 모든재료국산사용 | AUO260: kg | AUP260: 국산 | AUQ260: 30 | AUS260: 김치 | AUT260: 김치-4 | AUU260: 백김치 | AUV260: 모든재료국산사용 | AUW260: kg | AUX260: 국산 | AUY260: 30 | AVA260: 김치 | AVB260: 김치-4 | AVC260: 백김치 | AVD260: 모든재료국산사용 | AVE260: kg | AVF260: 국산 | AVG260: 30 | AVI260: 김치 | AVJ260: 김치-4 | AVK260: 백김치 | AVL260: 모든재료국산사용 | AVM260: kg | AVN260: 국산 | AVO260: 30 | AVQ260: 김치 | AVR260: 김치-4 | AVS260: 백김치 | AVT260: 모든재료국산사용 | AVU260: kg | AVV260: 국산 | AVW260: 30 | AVY260: 김치 | AVZ260: 김치-4 | AWA260: 백김치 | AWB260: 모든재료국산사용 | AWC260: kg | AWD260: 국산 | AWE260: 30 | AWG260: 김치 | AWH260: 김치-4 | AWI260: 백김치 | AWJ260: 모든재료국산사용 | AWK260: kg | AWL260: 국산 | AWM260: 30 | AWO260: 김치 | AWP260: 김치-4 | AWQ260: 백김치 | AWR260: 모든재료국산사용 | AWS260: kg | AWT260: 국산 | AWU260: 30 | AWW260: 김치 | AWX260: 김치-4 | AWY260: 백김치 | AWZ260: 모든재료국산사용 | AXA260: kg | AXB260: 국산 | AXC260: 30 | AXE260: 김치 | AXF260: 김치-4 | AXG260: 백김치 | AXH260: 모든재료국산사용 | AXI260: kg | AXJ260: 국산 | AXK260: 30 | AXM260: 김치 | AXN260: 김치-4 | AXO260: 백김치 | AXP260: 모든재료국산사용 | AXQ260: kg | AXR260: 국산 | AXS260: 30 | AXU260: 김치 | AXV260: 김치-4 | AXW260: 백김치 | AXX260: 모든재료국산사용 | AXY260: kg | AXZ260: 국산 | AYA260: 30 | AYC260: 김치 | AYD260: 김치-4 | AYE260: 백김치 | AYF260: 모든재료국산사용 | AYG260: kg | AYH260: 국산 | AYI260: 30 | AYK260: 김치 | AYL260: 김치-4 | AYM260: 백김치 | AYN260: 모든재료국산사용 | AYO260: kg | AYP260: 국산 | AYQ260: 30 | AYS260: 김치 | AYT260: 김치-4 | AYU260: 백김치 | AYV260: 모든재료국산사용 | AYW260: kg | AYX260: 국산 | AYY260: 30 | AZA260: 김치 | AZB260: 김치-4 | AZC260: 백김치 | AZD260: 모든재료국산사용 | AZE260: kg | AZF260: 국산 | AZG260: 30 | AZI260: 김치 | AZJ260: 김치-4 | AZK260: 백김치 | AZL260: 모든재료국산사용 | AZM260: kg | AZN260: 국산 | AZO260: 30 | AZQ260: 김치 | AZR260: 김치-4 | AZS260: 백김치 | AZT260: 모든재료국산사용 | AZU260: kg | AZV260: 국산 | AZW260: 30 | AZY260: 김치 | AZZ260: 김치-4 | BAA260: 백김치 | BAB260: 모든재료국산사용 | BAC260: kg | BAD260: 국산 | BAE260: 30 | BAG260: 김치 | BAH260: 김치-4 | BAI260: 백김치 | BAJ260: 모든재료국산사용 | BAK260: kg | BAL260: 국산 | BAM260: 30 | BAO260: 김치 | BAP260: 김치-4 | BAQ260: 백김치 | BAR260: 모든재료국산사용 | BAS260: kg | BAT260: 국산 | BAU260: 30 | BAW260: 김치 | BAX260: 김치-4 | BAY260: 백김치 | BAZ260: 모든재료국산사용 | BBA260: kg | BBB260: 국산 | BBC260: 30 | BBE260: 김치 | BBF260: 김치-4 | BBG260: 백김치 | BBH260: 모든재료국산사용 | BBI260: kg | BBJ260: 국산 | BBK260: 30 | BBM260: 김치 | BBN260: 김치-4 | BBO260: 백김치 | BBP260: 모든재료국산사용 | BBQ260: kg | BBR260: 국산 | BBS260: 30 | BBU260: 김치 | BBV260: 김치-4 | BBW260: 백김치 | BBX260: 모든재료국산사용 | BBY260: kg | BBZ260: 국산 | BCA260: 30 | BCC260: 김치 | BCD260: 김치-4 | BCE260: 백김치 | BCF260: 모든재료국산사용 | BCG260: kg | BCH260: 국산 | BCI260: 30 | BCK260: 김치 | BCL260: 김치-4 | BCM260: 백김치 | BCN260: 모든재료국산사용 | BCO260: kg | BCP260: 국산 | BCQ260: 30 | BCS260: 김치 | BCT260: 김치-4 | BCU260: 백김치 | BCV260: 모든재료국산사용 | BCW260: kg | BCX260: 국산 | BCY260: 30 | BDA260: 김치 | BDB260: 김치-4 | BDC260: 백김치 | BDD260: 모든재료국산사용 | BDE260: kg | BDF260: 국산 | BDG260: 30 | BDI260: 김치 | BDJ260: 김치-4 | BDK260: 백김치 | BDL260: 모든재료국산사용 | BDM260: kg | BDN260: 국산 | BDO260: 30 | BDQ260: 김치 | BDR260: 김치-4 | BDS260: 백김치 | BDT260: 모든재료국산사용 | BDU260: kg | BDV260: 국산 | BDW260: 30 | BDY260: 김치 | BDZ260: 김치-4 | BEA260: 백김치 | BEB260: 모든재료국산사용 | BEC260: kg | BED260: 국산 | BEE260: 30 | BEG260: 김치 | BEH260: 김치-4 | BEI260: 백김치 | BEJ260: 모든재료국산사용 | BEK260: kg | BEL260: 국산 | BEM260: 30 | BEO260: 김치 | BEP260: 김치-4 | BEQ260: 백김치 | BER260: 모든재료국산사용 | BES260: kg | BET260: 국산 | BEU260: 30 | BEW260: 김치 | BEX260: 김치-4 | BEY260: 백김치 | BEZ260: 모든재료국산사용 | BFA260: kg | BFB260: 국산 | BFC260: 30 | BFE260: 김치 | BFF260: 김치-4 | BFG260: 백김치 | BFH260: 모든재료국산사용 | BFI260: kg | BFJ260: 국산 | BFK260: 30 | BFM260: 김치 | BFN260: 김치-4 | BFO260: 백김치 | BFP260: 모든재료국산사용 | BFQ260: kg | BFR260: 국산 | BFS260: 30 | BFU260: 김치 | BFV260: 김치-4 | BFW260: 백김치 | BFX260: 모든재료국산사용 | BFY260: kg | BFZ260: 국산 | BGA260: 30 | BGC260: 김치 | BGD260: 김치-4 | BGE260: 백김치 | BGF260: 모든재료국산사용 | BGG260: kg | BGH260: 국산 | BGI260: 30 | BGK260: 김치 | BGL260: 김치-4 | BGM260: 백김치 | BGN260: 모든재료국산사용 | BGO260: kg | BGP260: 국산 | BGQ260: 30 | BGS260: 김치 | BGT260: 김치-4 | BGU260: 백김치 | BGV260: 모든재료국산사용 | BGW260: kg | BGX260: 국산 | BGY260: 30 | BHA260: 김치 | BHB260: 김치-4 | BHC260: 백김치 | BHD260: 모든재료국산사용 | BHE260: kg | BHF260: 국산 | BHG260: 30 | BHI260: 김치 | BHJ260: 김치-4 | BHK260: 백김치 | BHL260: 모든재료국산사용 | BHM260: kg | BHN260: 국산 | BHO260: 30 | BHQ260: 김치 | BHR260: 김치-4 | BHS260: 백김치 | BHT260: 모든재료국산사용 | BHU260: kg | BHV260: 국산 | BHW260: 30 | BHY260: 김치 | BHZ260: 김치-4 | BIA260: 백김치 | BIB260: 모든재료국산사용 | BIC260: kg | BID260: 국산 | BIE260: 30 | BIG260: 김치 | BIH260: 김치-4 | BII260: 백김치 | BIJ260: 모든재료국산사용 | BIK260: kg | BIL260: 국산 | BIM260: 30 | BIO260: 김치 | BIP260: 김치-4 | BIQ260: 백김치 | BIR260: 모든재료국산사용 | BIS260: kg | BIT260: 국산 | BIU260: 30 | BIW260: 김치 | BIX260: 김치-4 | BIY260: 백김치 | BIZ260: 모든재료국산사용 | BJA260: kg | BJB260: 국산 | BJC260: 30 | BJE260: 김치 | BJF260: 김치-4 | BJG260: 백김치 | BJH260: 모든재료국산사용 | BJI260: kg | BJJ260: 국산 | BJK260: 30 | BJM260: 김치 | BJN260: 김치-4 | BJO260: 백김치 | BJP260: 모든재료국산사용 | BJQ260: kg | BJR260: 국산 | BJS260: 30 | BJU260: 김치 | BJV260: 김치-4 | BJW260: 백김치 | BJX260: 모든재료국산사용 | BJY260: kg | BJZ260: 국산 | BKA260: 30 | BKC260: 김치 | BKD260: 김치-4 | BKE260: 백김치 | BKF260: 모든재료국산사용 | BKG260: kg | BKH260: 국산 | BKI260: 30 | BKK260: 김치 | BKL260: 김치-4 | BKM260: 백김치 | BKN260: 모든재료국산사용 | BKO260: kg | BKP260: 국산 | BKQ260: 30 | BKS260: 김치 | BKT260: 김치-4 | BKU260: 백김치 | BKV260: 모든재료국산사용 | BKW260: kg | BKX260: 국산 | BKY260: 30 | BLA260: 김치 | BLB260: 김치-4 | BLC260: 백김치 | BLD260: 모든재료국산사용 | BLE260: kg | BLF260: 국산 | BLG260: 30 | BLI260: 김치 | BLJ260: 김치-4 | BLK260: 백김치 | BLL260: 모든재료국산사용 | BLM260: kg | BLN260: 국산 | BLO260: 30 | BLQ260: 김치 | BLR260: 김치-4 | BLS260: 백김치 | BLT260: 모든재료국산사용 | BLU260: kg | BLV260: 국산 | BLW260: 30 | BLY260: 김치 | BLZ260: 김치-4 | BMA260: 백김치 | BMB260: 모든재료국산사용 | BMC260: kg | BMD260: 국산 | BME260: 30 | BMG260: 김치 | BMH260: 김치-4 | BMI260: 백김치 | BMJ260: 모든재료국산사용 | BMK260: kg | BML260: 국산 | BMM260: 30 | BMO260: 김치 | BMP260: 김치-4 | BMQ260: 백김치 | BMR260: 모든재료국산사용 | BMS260: kg | BMT260: 국산 | BMU260: 30 | BMW260: 김치 | BMX260: 김치-4 | BMY260: 백김치 | BMZ260: 모든재료국산사용 | BNA260: kg | BNB260: 국산 | BNC260: 30 | BNE260: 김치 | BNF260: 김치-4 | BNG260: 백김치 | BNH260: 모든재료국산사용 | BNI260: kg | BNJ260: 국산 | BNK260: 30 | BNM260: 김치 | BNN260: 김치-4 | BNO260: 백김치 | BNP260: 모든재료국산사용 | BNQ260: kg | BNR260: 국산 | BNS260: 30 | BNU260: 김치 | BNV260: 김치-4 | BNW260: 백김치 | BNX260: 모든재료국산사용 | BNY260: kg | BNZ260: 국산 | BOA260: 30 | BOC260: 김치 | BOD260: 김치-4 | BOE260: 백김치 | BOF260: 모든재료국산사용 | BOG260: kg | BOH260: 국산 | BOI260: 30 | BOK260: 김치 | BOL260: 김치-4 | BOM260: 백김치 | BON260: 모든재료국산사용 | BOO260: kg | BOP260: 국산 | BOQ260: 30 | BOS260: 김치 | BOT260: 김치-4 | BOU260: 백김치 | BOV260: 모든재료국산사용 | BOW260: kg | BOX260: 국산 | BOY260: 30 | BPA260: 김치 | BPB260: 김치-4 | BPC260: 백김치 | BPD260: 모든재료국산사용 | BPE260: kg | BPF260: 국산 | BPG260: 30 | BPI260: 김치 | BPJ260: 김치-4 | BPK260: 백김치 | BPL260: 모든재료국산사용 | BPM260: kg | BPN260: 국산 | BPO260: 30 | BPQ260: 김치 | BPR260: 김치-4 | BPS260: 백김치 | BPT260: 모든재료국산사용 | BPU260: kg | BPV260: 국산 | BPW260: 30 | BPY260: 김치 | BPZ260: 김치-4 | BQA260: 백김치 | BQB260: 모든재료국산사용 | BQC260: kg | BQD260: 국산 | BQE260: 30 | BQG260: 김치 | BQH260: 김치-4 | BQI260: 백김치 | BQJ260: 모든재료국산사용 | BQK260: kg | BQL260: 국산 | BQM260: 30 | BQO260: 김치 | BQP260: 김치-4 | BQQ260: 백김치 | BQR260: 모든재료국산사용 | BQS260: kg | BQT260: 국산 | BQU260: 30 | BQW260: 김치 | BQX260: 김치-4 | BQY260: 백김치 | BQZ260: 모든재료국산사용 | BRA260: kg | BRB260: 국산 | BRC260: 30 | BRE260: 김치 | BRF260: 김치-4 | BRG260: 백김치 | BRH260: 모든재료국산사용 | BRI260: kg | BRJ260: 국산 | BRK260: 30 | BRM260: 김치 | BRN260: 김치-4 | BRO260: 백김치 | BRP260: 모든재료국산사용 | BRQ260: kg | BRR260: 국산 | BRS260: 30 | BRU260: 김치 | BRV260: 김치-4 | BRW260: 백김치 | BRX260: 모든재료국산사용 | BRY260: kg | BRZ260: 국산 | BSA260: 30 | BSC260: 김치 | BSD260: 김치-4 | BSE260: 백김치 | BSF260: 모든재료국산사용 | BSG260: kg | BSH260: 국산 | BSI260: 30 | BSK260: 김치 | BSL260: 김치-4 | BSM260: 백김치 | BSN260: 모든재료국산사용 | BSO260: kg | BSP260: 국산 | BSQ260: 30 | BSS260: 김치 | BST260: 김치-4 | BSU260: 백김치 | BSV260: 모든재료국산사용 | BSW260: kg | BSX260: 국산 | BSY260: 30 | BTA260: 김치 | BTB260: 김치-4 | BTC260: 백김치 | BTD260: 모든재료국산사용 | BTE260: kg | BTF260: 국산 | BTG260: 30 | BTI260: 김치 | BTJ260: 김치-4 | BTK260: 백김치 | BTL260: 모든재료국산사용 | BTM260: kg | BTN260: 국산 | BTO260: 30 | BTQ260: 김치 | BTR260: 김치-4 | BTS260: 백김치 | BTT260: 모든재료국산사용 | BTU260: kg | BTV260: 국산 | BTW260: 30 | BTY260: 김치 | BTZ260: 김치-4 | BUA260: 백김치 | BUB260: 모든재료국산사용 | BUC260: kg | BUD260: 국산 | BUE260: 30 | BUG260: 김치 | BUH260: 김치-4 | BUI260: 백김치 | BUJ260: 모든재료국산사용 | BUK260: kg | BUL260: 국산 | BUM260: 30 | BUO260: 김치 | BUP260: 김치-4 | BUQ260: 백김치 | BUR260: 모든재료국산사용 | BUS260: kg | BUT260: 국산 | BUU260: 30 | BUW260: 김치 | BUX260: 김치-4 | BUY260: 백김치 | BUZ260: 모든재료국산사용 | BVA260: kg | BVB260: 국산 | BVC260: 30 | BVE260: 김치 | BVF260: 김치-4 | BVG260: 백김치 | BVH260: 모든재료국산사용 | BVI260: kg | BVJ260: 국산 | BVK260: 30 | BVM260: 김치 | BVN260: 김치-4 | BVO260: 백김치 | BVP260: 모든재료국산사용 | BVQ260: kg | BVR260: 국산 | BVS260: 30 | BVU260: 김치 | BVV260: 김치-4 | BVW260: 백김치 | BVX260: 모든재료국산사용 | BVY260: kg | BVZ260: 국산 | BWA260: 30 | BWC260: 김치 | BWD260: 김치-4 | BWE260: 백김치 | BWF260: 모든재료국산사용 | BWG260: kg | BWH260: 국산 | BWI260: 30 | BWK260: 김치 | BWL260: 김치-4 | BWM260: 백김치 | BWN260: 모든재료국산사용 | BWO260: kg | BWP260: 국산 | BWQ260: 30 | BWS260: 김치 | BWT260: 김치-4 | BWU260: 백김치 | BWV260: 모든재료국산사용 | BWW260: kg | BWX260: 국산 | BWY260: 30 | BXA260: 김치 | BXB260: 김치-4 | BXC260: 백김치 | BXD260: 모든재료국산사용 | BXE260: kg | BXF260: 국산 | BXG260: 30 | BXI260: 김치 | BXJ260: 김치-4 | BXK260: 백김치 | BXL260: 모든재료국산사용 | BXM260: kg | BXN260: 국산 | BXO260: 30 | BXQ260: 김치 | BXR260: 김치-4 | BXS260: 백김치 | BXT260: 모든재료국산사용 | BXU260: kg | BXV260: 국산 | BXW260: 30 | BXY260: 김치 | BXZ260: 김치-4 | BYA260: 백김치 | BYB260: 모든재료국산사용 | BYC260: kg | BYD260: 국산 | BYE260: 30 | BYG260: 김치 | BYH260: 김치-4 | BYI260: 백김치 | BYJ260: 모든재료국산사용 | BYK260: kg | BYL260: 국산 | BYM260: 30 | BYO260: 김치 | BYP260: 김치-4 | BYQ260: 백김치 | BYR260: 모든재료국산사용 | BYS260: kg | BYT260: 국산 | BYU260: 30 | BYW260: 김치 | BYX260: 김치-4 | BYY260: 백김치 | BYZ260: 모든재료국산사용 | BZA260: kg | BZB260: 국산 | BZC260: 30 | BZE260: 김치 | BZF260: 김치-4 | BZG260: 백김치 | BZH260: 모든재료국산사용 | BZI260: kg | BZJ260: 국산 | BZK260: 30 | BZM260: 김치 | BZN260: 김치-4 | BZO260: 백김치 | BZP260: 모든재료국산사용 | BZQ260: kg | BZR260: 국산 | BZS260: 30 | BZU260: 김치 | BZV260: 김치-4 | BZW260: 백김치 | BZX260: 모든재료국산사용 | BZY260: kg | BZZ260: 국산 | CAA260: 30 | CAC260: 김치 | CAD260: 김치-4 | CAE260: 백김치 | CAF260: 모든재료국산사용 | CAG260: kg | CAH260: 국산 | CAI260: 30 | CAK260: 김치 | CAL260: 김치-4 | CAM260: 백김치 | CAN260: 모든재료국산사용 | CAO260: kg | CAP260: 국산 | CAQ260: 30 | CAS260: 김치 | CAT260: 김치-4 | CAU260: 백김치 | CAV260: 모든재료국산사용 | CAW260: kg | CAX260: 국산 | CAY260: 30 | CBA260: 김치 | CBB260: 김치-4 | CBC260: 백김치 | CBD260: 모든재료국산사용 | CBE260: kg | CBF260: 국산 | CBG260: 30 | CBI260: 김치 | CBJ260: 김치-4 | CBK260: 백김치 | CBL260: 모든재료국산사용 | CBM260: kg | CBN260: 국산 | CBO260: 30 | CBQ260: 김치 | CBR260: 김치-4 | CBS260: 백김치 | CBT260: 모든재료국산사용 | CBU260: kg | CBV260: 국산 | CBW260: 30 | CBY260: 김치 | CBZ260: 김치-4 | CCA260: 백김치 | CCB260: 모든재료국산사용 | CCC260: kg | CCD260: 국산 | CCE260: 30 | CCG260: 김치 | CCH260: 김치-4 | CCI260: 백김치 | CCJ260: 모든재료국산사용 | CCK260: kg | CCL260: 국산 | CCM260: 30 | CCO260: 김치 | CCP260: 김치-4 | CCQ260: 백김치 | CCR260: 모든재료국산사용 | CCS260: kg | CCT260: 국산 | CCU260: 30 | CCW260: 김치 | CCX260: 김치-4 | CCY260: 백김치 | CCZ260: 모든재료국산사용 | CDA260: kg | CDB260: 국산 | CDC260: 30 | CDE260: 김치 | CDF260: 김치-4 | CDG260: 백김치 | CDH260: 모든재료국산사용 | CDI260: kg | CDJ260: 국산 | CDK260: 30 | CDM260: 김치 | CDN260: 김치-4 | CDO260: 백김치 | CDP260: 모든재료국산사용 | CDQ260: kg | CDR260: 국산 | CDS260: 30 | CDU260: 김치 | CDV260: 김치-4 | CDW260: 백김치 | CDX260: 모든재료국산사용 | CDY260: kg | CDZ260: 국산 | CEA260: 30 | CEC260: 김치 | CED260: 김치-4 | CEE260: 백김치 | CEF260: 모든재료국산사용 | CEG260: kg | CEH260: 국산 | CEI260: 30 | CEK260: 김치 | CEL260: 김치-4 | CEM260: 백김치 | CEN260: 모든재료국산사용 | CEO260: kg | CEP260: 국산 | CEQ260: 30 | CES260: 김치 | CET260: 김치-4 | CEU260: 백김치 | CEV260: 모든재료국산사용 | CEW260: kg | CEX260: 국산 | CEY260: 30 | CFA260: 김치 | CFB260: 김치-4 | CFC260: 백김치 | CFD260: 모든재료국산사용 | CFE260: kg | CFF260: 국산 | CFG260: 30 | CFI260: 김치 | CFJ260: 김치-4 | CFK260: 백김치 | CFL260: 모든재료국산사용 | CFM260: kg | CFN260: 국산 | CFO260: 30 | CFQ260: 김치 | CFR260: 김치-4 | CFS260: 백김치 | CFT260: 모든재료국산사용 | CFU260: kg | CFV260: 국산 | CFW260: 30 | CFY260: 김치 | CFZ260: 김치-4 | CGA260: 백김치 | CGB260: 모든재료국산사용 | CGC260: kg | CGD260: 국산 | CGE260: 30 | CGG260: 김치 | CGH260: 김치-4 | CGI260: 백김치 | CGJ260: 모든재료국산사용 | CGK260: kg | CGL260: 국산 | CGM260: 30 | CGO260: 김치 | CGP260: 김치-4 | CGQ260: 백김치 | CGR260: 모든재료국산사용 | CGS260: kg | CGT260: 국산 | CGU260: 30 | CGW260: 김치 | CGX260: 김치-4 | CGY260: 백김치 | CGZ260: 모든재료국산사용 | CHA260: kg | CHB260: 국산 | CHC260: 30 | CHE260: 김치 | CHF260: 김치-4 | CHG260: 백김치 | CHH260: 모든재료국산사용 | CHI260: kg | CHJ260: 국산 | CHK260: 30 | CHM260: 김치 | CHN260: 김치-4 | CHO260: 백김치 | CHP260: 모든재료국산사용 | CHQ260: kg | CHR260: 국산 | CHS260: 30 | CHU260: 김치 | CHV260: 김치-4 | CHW260: 백김치 | CHX260: 모든재료국산사용 | CHY260: kg | CHZ260: 국산 | CIA260: 30 | CIC260: 김치 | CID260: 김치-4 | CIE260: 백김치 | CIF260: 모든재료국산사용 | CIG260: kg | CIH260: 국산 | CII260: 30 | CIK260: 김치 | CIL260: 김치-4 | CIM260: 백김치 | CIN260: 모든재료국산사용 | CIO260: kg | CIP260: 국산 | CIQ260: 30 | CIS260: 김치 | CIT260: 김치-4 | CIU260: 백김치 | CIV260: 모든재료국산사용 | CIW260: kg | CIX260: 국산 | CIY260: 30 | CJA260: 김치 | CJB260: 김치-4 | CJC260: 백김치 | CJD260: 모든재료국산사용 | CJE260: kg | CJF260: 국산 | CJG260: 30 | CJI260: 김치 | CJJ260: 김치-4 | CJK260: 백김치 | CJL260: 모든재료국산사용 | CJM260: kg | CJN260: 국산 | CJO260: 30 | CJQ260: 김치 | CJR260: 김치-4 | CJS260: 백김치 | CJT260: 모든재료국산사용 | CJU260: kg | CJV260: 국산 | CJW260: 30 | CJY260: 김치 | CJZ260: 김치-4 | CKA260: 백김치 | CKB260: 모든재료국산사용 | CKC260: kg | CKD260: 국산 | CKE260: 30 | CKG260: 김치 | CKH260: 김치-4 | CKI260: 백김치 | CKJ260: 모든재료국산사용 | CKK260: kg | CKL260: 국산 | CKM260: 30 | CKO260: 김치 | CKP260: 김치-4 | CKQ260: 백김치 | CKR260: 모든재료국산사용 | CKS260: kg | CKT260: 국산 | CKU260: 30 | CKW260: 김치 | CKX260: 김치-4 | CKY260: 백김치 | CKZ260: 모든재료국산사용 | CLA260: kg | CLB260: 국산 | CLC260: 30 | CLE260: 김치 | CLF260: 김치-4 | CLG260: 백김치 | CLH260: 모든재료국산사용 | CLI260: kg | CLJ260: 국산 | CLK260: 30 | CLM260: 김치 | CLN260: 김치-4 | CLO260: 백김치 | CLP260: 모든재료국산사용 | CLQ260: kg | CLR260: 국산 | CLS260: 30 | CLU260: 김치 | CLV260: 김치-4 | CLW260: 백김치 | CLX260: 모든재료국산사용 | CLY260: kg | CLZ260: 국산 | CMA260: 30 | CMC260: 김치 | CMD260: 김치-4 | CME260: 백김치 | CMF260: 모든재료국산사용 | CMG260: kg | CMH260: 국산 | CMI260: 30 | CMK260: 김치 | CML260: 김치-4 | CMM260: 백김치 | CMN260: 모든재료국산사용 | CMO260: kg | CMP260: 국산 | CMQ260: 30 | CMS260: 김치 | CMT260: 김치-4 | CMU260: 백김치 | CMV260: 모든재료국산사용 | CMW260: kg | CMX260: 국산 | CMY260: 30 | CNA260: 김치 | CNB260: 김치-4 | CNC260: 백김치 | CND260: 모든재료국산사용 | CNE260: kg | CNF260: 국산 | CNG260: 30 | CNI260: 김치 | CNJ260: 김치-4 | CNK260: 백김치 | CNL260: 모든재료국산사용 | CNM260: kg | CNN260: 국산 | CNO260: 30 | CNQ260: 김치 | CNR260: 김치-4 | CNS260: 백김치 | CNT260: 모든재료국산사용 | CNU260: kg | CNV260: 국산 | CNW260: 30 | CNY260: 김치 | CNZ260: 김치-4 | COA260: 백김치 | COB260: 모든재료국산사용 | COC260: kg | COD260: 국산 | COE260: 30 | COG260: 김치 | COH260: 김치-4 | COI260: 백김치 | COJ260: 모든재료국산사용 | COK260: kg | COL260: 국산 | COM260: 30 | COO260: 김치 | COP260: 김치-4 | COQ260: 백김치 | COR260: 모든재료국산사용 | COS260: kg | COT260: 국산 | COU260: 30 | COW260: 김치 | COX260: 김치-4 | COY260: 백김치 | COZ260: 모든재료국산사용 | CPA260: kg | CPB260: 국산 | CPC260: 30 | CPE260: 김치 | CPF260: 김치-4 | CPG260: 백김치 | CPH260: 모든재료국산사용 | CPI260: kg | CPJ260: 국산 | CPK260: 30 | CPM260: 김치 | CPN260: 김치-4 | CPO260: 백김치 | CPP260: 모든재료국산사용 | CPQ260: kg | CPR260: 국산 | CPS260: 30 | CPU260: 김치 | CPV260: 김치-4 | CPW260: 백김치 | CPX260: 모든재료국산사용 | CPY260: kg | CPZ260: 국산 | CQA260: 30 | CQC260: 김치 | CQD260: 김치-4 | CQE260: 백김치 | CQF260: 모든재료국산사용 | CQG260: kg | CQH260: 국산 | CQI260: 30 | CQK260: 김치 | CQL260: 김치-4 | CQM260: 백김치 | CQN260: 모든재료국산사용 | CQO260: kg | CQP260: 국산 | CQQ260: 30 | CQS260: 김치 | CQT260: 김치-4 | CQU260: 백김치 | CQV260: 모든재료국산사용 | CQW260: kg | CQX260: 국산 | CQY260: 30 | CRA260: 김치 | CRB260: 김치-4 | CRC260: 백김치 | CRD260: 모든재료국산사용 | CRE260: kg | CRF260: 국산 | CRG260: 30 | CRI260: 김치 | CRJ260: 김치-4 | CRK260: 백김치 | CRL260: 모든재료국산사용 | CRM260: kg | CRN260: 국산 | CRO260: 30 | CRQ260: 김치 | CRR260: 김치-4 | CRS260: 백김치 | CRT260: 모든재료국산사용 | CRU260: kg | CRV260: 국산 | CRW260: 30 | CRY260: 김치 | CRZ260: 김치-4 | CSA260: 백김치 | CSB260: 모든재료국산사용 | CSC260: kg | CSD260: 국산 | CSE260: 30 | CSG260: 김치 | CSH260: 김치-4 | CSI260: 백김치 | CSJ260: 모든재료국산사용 | CSK260: kg | CSL260: 국산 | CSM260: 30 | CSO260: 김치 | CSP260: 김치-4 | CSQ260: 백김치 | CSR260: 모든재료국산사용 | CSS260: kg | CST260: 국산 | CSU260: 30 | CSW260: 김치 | CSX260: 김치-4 | CSY260: 백김치 | CSZ260: 모든재료국산사용 | CTA260: kg | CTB260: 국산 | CTC260: 30 | CTE260: 김치 | CTF260: 김치-4 | CTG260: 백김치 | CTH260: 모든재료국산사용 | CTI260: kg | CTJ260: 국산 | CTK260: 30 | CTM260: 김치 | CTN260: 김치-4 | CTO260: 백김치 | CTP260: 모든재료국산사용 | CTQ260: kg | CTR260: 국산 | CTS260: 30 | CTU260: 김치 | CTV260: 김치-4 | CTW260: 백김치 | CTX260: 모든재료국산사용 | CTY260: kg | CTZ260: 국산 | CUA260: 30 | CUC260: 김치 | CUD260: 김치-4 | CUE260: 백김치 | CUF260: 모든재료국산사용 | CUG260: kg | CUH260: 국산 | CUI260: 30 | CUK260: 김치 | CUL260: 김치-4 | CUM260: 백김치 | CUN260: 모든재료국산사용 | CUO260: kg | CUP260: 국산 | CUQ260: 30 | CUS260: 김치 | CUT260: 김치-4 | CUU260: 백김치 | CUV260: 모든재료국산사용 | CUW260: kg | CUX260: 국산 | CUY260: 30 | CVA260: 김치 | CVB260: 김치-4 | CVC260: 백김치 | CVD260: 모든재료국산사용 | CVE260: kg | CVF260: 국산 | CVG260: 30 | CVI260: 김치 | CVJ260: 김치-4 | CVK260: 백김치 | CVL260: 모든재료국산사용 | CVM260: kg | CVN260: 국산 | CVO260: 30 | CVQ260: 김치 | CVR260: 김치-4 | CVS260: 백김치 | CVT260: 모든재료국산사용 | CVU260: kg | CVV260: 국산 | CVW260: 30 | CVY260: 김치 | CVZ260: 김치-4 | CWA260: 백김치 | CWB260: 모든재료국산사용 | CWC260: kg | CWD260: 국산 | CWE260: 30 | CWG260: 김치 | CWH260: 김치-4 | CWI260: 백김치 | CWJ260: 모든재료국산사용 | CWK260: kg | CWL260: 국산 | CWM260: 30 | CWO260: 김치 | CWP260: 김치-4 | CWQ260: 백김치 | CWR260: 모든재료국산사용 | CWS260: kg | CWT260: 국산 | CWU260: 30 | CWW260: 김치 | CWX260: 김치-4 | CWY260: 백김치 | CWZ260: 모든재료국산사용 | CXA260: kg | CXB260: 국산 | CXC260: 30 | CXE260: 김치 | CXF260: 김치-4 | CXG260: 백김치 | CXH260: 모든재료국산사용 | CXI260: kg | CXJ260: 국산 | CXK260: 30 | CXM260: 김치 | CXN260: 김치-4 | CXO260: 백김치 | CXP260: 모든재료국산사용 | CXQ260: kg | CXR260: 국산 | CXS260: 30 | CXU260: 김치 | CXV260: 김치-4 | CXW260: 백김치 | CXX260: 모든재료국산사용 | CXY260: kg | CXZ260: 국산 | CYA260: 30 | CYC260: 김치 | CYD260: 김치-4 | CYE260: 백김치 | CYF260: 모든재료국산사용 | CYG260: kg | CYH260: 국산 | CYI260: 30 | CYK260: 김치 | CYL260: 김치-4 | CYM260: 백김치 | CYN260: 모든재료국산사용 | CYO260: kg | CYP260: 국산 | CYQ260: 30 | CYS260: 김치 | CYT260: 김치-4 | CYU260: 백김치 | CYV260: 모든재료국산사용 | CYW260: kg | CYX260: 국산 | CYY260: 30 | CZA260: 김치 | CZB260: 김치-4 | CZC260: 백김치 | CZD260: 모든재료국산사용 | CZE260: kg | CZF260: 국산 | CZG260: 30 | CZI260: 김치 | CZJ260: 김치-4 | CZK260: 백김치 | CZL260: 모든재료국산사용 | CZM260: kg | CZN260: 국산 | CZO260: 30 | CZQ260: 김치 | CZR260: 김치-4 | CZS260: 백김치 | CZT260: 모든재료국산사용 | CZU260: kg | CZV260: 국산 | CZW260: 30 | CZY260: 김치 | CZZ260: 김치-4 | DAA260: 백김치 | DAB260: 모든재료국산사용 | DAC260: kg | DAD260: 국산 | DAE260: 30 | DAG260: 김치 | DAH260: 김치-4 | DAI260: 백김치 | DAJ260: 모든재료국산사용 | DAK260: kg | DAL260: 국산 | DAM260: 30 | DAO260: 김치 | DAP260: 김치-4 | DAQ260: 백김치 | DAR260: 모든재료국산사용 | DAS260: kg | DAT260: 국산 | DAU260: 30 | DAW260: 김치 | DAX260: 김치-4 | DAY260: 백김치 | DAZ260: 모든재료국산사용 | DBA260: kg | DBB260: 국산 | DBC260: 30 | DBE260: 김치 | DBF260: 김치-4 | DBG260: 백김치 | DBH260: 모든재료국산사용 | DBI260: kg | DBJ260: 국산 | DBK260: 30 | DBM260: 김치 | DBN260: 김치-4 | DBO260: 백김치 | DBP260: 모든재료국산사용 | DBQ260: kg | DBR260: 국산 | DBS260: 30 | DBU260: 김치 | DBV260: 김치-4 | DBW260: 백김치 | DBX260: 모든재료국산사용 | DBY260: kg | DBZ260: 국산 | DCA260: 30 | DCC260: 김치 | DCD260: 김치-4 | DCE260: 백김치 | DCF260: 모든재료국산사용 | DCG260: kg | DCH260: 국산 | DCI260: 30 | DCK260: 김치 | DCL260: 김치-4 | DCM260: 백김치 | DCN260: 모든재료국산사용 | DCO260: kg | DCP260: 국산 | DCQ260: 30 | DCS260: 김치 | DCT260: 김치-4 | DCU260: 백김치 | DCV260: 모든재료국산사용 | DCW260: kg | DCX260: 국산 | DCY260: 30 | DDA260: 김치 | DDB260: 김치-4 | DDC260: 백김치 | DDD260: 모든재료국산사용 | DDE260: kg | DDF260: 국산 | DDG260: 30 | DDI260: 김치 | DDJ260: 김치-4 | DDK260: 백김치 | DDL260: 모든재료국산사용 | DDM260: kg | DDN260: 국산 | DDO260: 30 | DDQ260: 김치 | DDR260: 김치-4 | DDS260: 백김치 | DDT260: 모든재료국산사용 | DDU260: kg | DDV260: 국산 | DDW260: 30 | DDY260: 김치 | DDZ260: 김치-4 | DEA260: 백김치 | DEB260: 모든재료국산사용 | DEC260: kg | DED260: 국산 | DEE260: 30 | DEG260: 김치 | DEH260: 김치-4 | DEI260: 백김치 | DEJ260: 모든재료국산사용 | DEK260: kg | DEL260: 국산 | DEM260: 30 | DEO260: 김치 | DEP260: 김치-4 | DEQ260: 백김치 | DER260: 모든재료국산사용 | DES260: kg | DET260: 국산 | DEU260: 30 | DEW260: 김치 | DEX260: 김치-4 | DEY260: 백김치 | DEZ260: 모든재료국산사용 | DFA260: kg | DFB260: 국산 | DFC260: 30 | DFE260: 김치 | DFF260: 김치-4 | DFG260: 백김치 | DFH260: 모든재료국산사용 | DFI260: kg | DFJ260: 국산 | DFK260: 30 | DFM260: 김치 | DFN260: 김치-4 | DFO260: 백김치 | DFP260: 모든재료국산사용 | DFQ260: kg | DFR260: 국산 | DFS260: 30 | DFU260: 김치 | DFV260: 김치-4 | DFW260: 백김치 | DFX260: 모든재료국산사용 | DFY260: kg | DFZ260: 국산 | DGA260: 30 | DGC260: 김치 | DGD260: 김치-4 | DGE260: 백김치 | DGF260: 모든재료국산사용 | DGG260: kg | DGH260: 국산 | DGI260: 30 | DGK260: 김치 | DGL260: 김치-4 | DGM260: 백김치 | DGN260: 모든재료국산사용 | DGO260: kg | DGP260: 국산 | DGQ260: 30 | DGS260: 김치 | DGT260: 김치-4 | DGU260: 백김치 | DGV260: 모든재료국산사용 | DGW260: kg | DGX260: 국산 | DGY260: 30 | DHA260: 김치 | DHB260: 김치-4 | DHC260: 백김치 | DHD260: 모든재료국산사용 | DHE260: kg | DHF260: 국산 | DHG260: 30 | DHI260: 김치 | DHJ260: 김치-4 | DHK260: 백김치 | DHL260: 모든재료국산사용 | DHM260: kg | DHN260: 국산 | DHO260: 30 | DHQ260: 김치 | DHR260: 김치-4 | DHS260: 백김치 | DHT260: 모든재료국산사용 | DHU260: kg | DHV260: 국산 | DHW260: 30 | DHY260: 김치 | DHZ260: 김치-4 | DIA260: 백김치 | DIB260: 모든재료국산사용 | DIC260: kg | DID260: 국산 | DIE260: 30 | DIG260: 김치 | DIH260: 김치-4 | DII260: 백김치 | DIJ260: 모든재료국산사용 | DIK260: kg | DIL260: 국산 | DIM260: 30 | DIO260: 김치 | DIP260: 김치-4 | DIQ260: 백김치 | DIR260: 모든재료국산사용 | DIS260: kg | DIT260: 국산 | DIU260: 30 | DIW260: 김치 | DIX260: 김치-4 | DIY260: 백김치 | DIZ260: 모든재료국산사용 | DJA260: kg | DJB260: 국산 | DJC260: 30 | DJE260: 김치 | DJF260: 김치-4 | DJG260: 백김치 | DJH260: 모든재료국산사용 | DJI260: kg | DJJ260: 국산 | DJK260: 30 | DJM260: 김치 | DJN260: 김치-4 | DJO260: 백김치 | DJP260: 모든재료국산사용 | DJQ260: kg | DJR260: 국산 | DJS260: 30 | DJU260: 김치 | DJV260: 김치-4 | DJW260: 백김치 | DJX260: 모든재료국산사용 | DJY260: kg | DJZ260: 국산 | DKA260: 30 | DKC260: 김치 | DKD260: 김치-4 | DKE260: 백김치 | DKF260: 모든재료국산사용 | DKG260: kg | DKH260: 국산 | DKI260: 30 | DKK260: 김치 | DKL260: 김치-4 | DKM260: 백김치 | DKN260: 모든재료국산사용 | DKO260: kg | DKP260: 국산 | DKQ260: 30 | DKS260: 김치 | DKT260: 김치-4 | DKU260: 백김치 | DKV260: 모든재료국산사용 | DKW260: kg | DKX260: 국산 | DKY260: 30 | DLA260: 김치 | DLB260: 김치-4 | DLC260: 백김치 | DLD260: 모든재료국산사용 | DLE260: kg | DLF260: 국산 | DLG260: 30 | DLI260: 김치 | DLJ260: 김치-4 | DLK260: 백김치 | DLL260: 모든재료국산사용 | DLM260: kg | DLN260: 국산 | DLO260: 30 | DLQ260: 김치 | DLR260: 김치-4 | DLS260: 백김치 | DLT260: 모든재료국산사용 | DLU260: kg | DLV260: 국산 | DLW260: 30 | DLY260: 김치 | DLZ260: 김치-4 | DMA260: 백김치 | DMB260: 모든재료국산사용 | DMC260: kg | DMD260: 국산 | DME260: 30 | DMG260: 김치 | DMH260: 김치-4 | DMI260: 백김치 | DMJ260: 모든재료국산사용 | DMK260: kg | DML260: 국산 | DMM260: 30 | DMO260: 김치 | DMP260: 김치-4 | DMQ260: 백김치 | DMR260: 모든재료국산사용 | DMS260: kg | DMT260: 국산 | DMU260: 30 | DMW260: 김치 | DMX260: 김치-4 | DMY260: 백김치 | DMZ260: 모든재료국산사용 | DNA260: kg | DNB260: 국산 | DNC260: 30 | DNE260: 김치 | DNF260: 김치-4 | DNG260: 백김치 | DNH260: 모든재료국산사용 | DNI260: kg | DNJ260: 국산 | DNK260: 30 | DNM260: 김치 | DNN260: 김치-4 | DNO260: 백김치 | DNP260: 모든재료국산사용 | DNQ260: kg | DNR260: 국산 | DNS260: 30 | DNU260: 김치 | DNV260: 김치-4 | DNW260: 백김치 | DNX260: 모든재료국산사용 | DNY260: kg | DNZ260: 국산 | DOA260: 30 | DOC260: 김치 | DOD260: 김치-4 | DOE260: 백김치 | DOF260: 모든재료국산사용 | DOG260: kg | DOH260: 국산 | DOI260: 30 | DOK260: 김치 | DOL260: 김치-4 | DOM260: 백김치 | DON260: 모든재료국산사용 | DOO260: kg | DOP260: 국산 | DOQ260: 30 | DOS260: 김치 | DOT260: 김치-4 | DOU260: 백김치 | DOV260: 모든재료국산사용 | DOW260: kg | DOX260: 국산 | DOY260: 30 | DPA260: 김치 | DPB260: 김치-4 | DPC260: 백김치 | DPD260: 모든재료국산사용 | DPE260: kg | DPF260: 국산 | DPG260: 30 | DPI260: 김치 | DPJ260: 김치-4 | DPK260: 백김치 | DPL260: 모든재료국산사용 | DPM260: kg | DPN260: 국산 | DPO260: 30 | DPQ260: 김치 | DPR260: 김치-4 | DPS260: 백김치 | DPT260: 모든재료국산사용 | DPU260: kg | DPV260: 국산 | DPW260: 30 | DPY260: 김치 | DPZ260: 김치-4 | DQA260: 백김치 | DQB260: 모든재료국산사용 | DQC260: kg | DQD260: 국산 | DQE260: 30 | DQG260: 김치 | DQH260: 김치-4 | DQI260: 백김치 | DQJ260: 모든재료국산사용 | DQK260: kg | DQL260: 국산 | DQM260: 30 | DQO260: 김치 | DQP260: 김치-4 | DQQ260: 백김치 | DQR260: 모든재료국산사용 | DQS260: kg | DQT260: 국산 | DQU260: 30 | DQW260: 김치 | DQX260: 김치-4 | DQY260: 백김치 | DQZ260: 모든재료국산사용 | DRA260: kg | DRB260: 국산 | DRC260: 30 | DRE260: 김치 | DRF260: 김치-4 | DRG260: 백김치 | DRH260: 모든재료국산사용 | DRI260: kg | DRJ260: 국산 | DRK260: 30 | DRM260: 김치 | DRN260: 김치-4 | DRO260: 백김치 | DRP260: 모든재료국산사용 | DRQ260: kg | DRR260: 국산 | DRS260: 30 | DRU260: 김치 | DRV260: 김치-4 | DRW260: 백김치 | DRX260: 모든재료국산사용 | DRY260: kg | DRZ260: 국산 | DSA260: 30 | DSC260: 김치 | DSD260: 김치-4 | DSE260: 백김치 | DSF260: 모든재료국산사용 | DSG260: kg | DSH260: 국산 | DSI260: 30 | DSK260: 김치 | DSL260: 김치-4 | DSM260: 백김치 | DSN260: 모든재료국산사용 | DSO260: kg | DSP260: 국산 | DSQ260: 30 | DSS260: 김치 | DST260: 김치-4 | DSU260: 백김치 | DSV260: 모든재료국산사용 | DSW260: kg | DSX260: 국산 | DSY260: 30 | DTA260: 김치 | DTB260: 김치-4 | DTC260: 백김치 | DTD260: 모든재료국산사용 | DTE260: kg | DTF260: 국산 | DTG260: 30 | DTI260: 김치 | DTJ260: 김치-4 | DTK260: 백김치 | DTL260: 모든재료국산사용 | DTM260: kg | DTN260: 국산 | DTO260: 30 | DTQ260: 김치 | DTR260: 김치-4 | DTS260: 백김치 | DTT260: 모든재료국산사용 | DTU260: kg | DTV260: 국산 | DTW260: 30 | DTY260: 김치 | DTZ260: 김치-4 | DUA260: 백김치 | DUB260: 모든재료국산사용 | DUC260: kg | DUD260: 국산 | DUE260: 30 | DUG260: 김치 | DUH260: 김치-4 | DUI260: 백김치 | DUJ260: 모든재료국산사용 | DUK260: kg | DUL260: 국산 | DUM260: 30 | DUO260: 김치 | DUP260: 김치-4 | DUQ260: 백김치 | DUR260: 모든재료국산사용 | DUS260: kg | DUT260: 국산 | DUU260: 30 | DUW260: 김치 | DUX260: 김치-4 | DUY260: 백김치 | DUZ260: 모든재료국산사용 | DVA260: kg | DVB260: 국산 | DVC260: 30 | DVE260: 김치 | DVF260: 김치-4 | DVG260: 백김치 | DVH260: 모든재료국산사용 | DVI260: kg | DVJ260: 국산 | DVK260: 30 | DVM260: 김치 | DVN260: 김치-4 | DVO260: 백김치 | DVP260: 모든재료국산사용 | DVQ260: kg | DVR260: 국산 | DVS260: 30 | DVU260: 김치 | DVV260: 김치-4 | DVW260: 백김치 | DVX260: 모든재료국산사용 | DVY260: kg | DVZ260: 국산 | DWA260: 30 | DWC260: 김치 | DWD260: 김치-4 | DWE260: 백김치 | DWF260: 모든재료국산사용 | DWG260: kg | DWH260: 국산 | DWI260: 30 | DWK260: 김치 | DWL260: 김치-4 | DWM260: 백김치 | DWN260: 모든재료국산사용 | DWO260: kg | DWP260: 국산 | DWQ260: 30 | DWS260: 김치 | DWT260: 김치-4 | DWU260: 백김치 | DWV260: 모든재료국산사용 | DWW260: kg | DWX260: 국산 | DWY260: 30 | DXA260: 김치 | DXB260: 김치-4 | DXC260: 백김치 | DXD260: 모든재료국산사용 | DXE260: kg | DXF260: 국산 | DXG260: 30 | DXI260: 김치 | DXJ260: 김치-4 | DXK260: 백김치 | DXL260: 모든재료국산사용 | DXM260: kg | DXN260: 국산 | DXO260: 30 | DXQ260: 김치 | DXR260: 김치-4 | DXS260: 백김치 | DXT260: 모든재료국산사용 | DXU260: kg | DXV260: 국산 | DXW260: 30 | DXY260: 김치 | DXZ260: 김치-4 | DYA260: 백김치 | DYB260: 모든재료국산사용 | DYC260: kg | DYD260: 국산 | DYE260: 30 | DYG260: 김치 | DYH260: 김치-4 | DYI260: 백김치 | DYJ260: 모든재료국산사용 | DYK260: kg | DYL260: 국산 | DYM260: 30 | DYO260: 김치 | DYP260: 김치-4 | DYQ260: 백김치 | DYR260: 모든재료국산사용 | DYS260: kg | DYT260: 국산 | DYU260: 30 | DYW260: 김치 | DYX260: 김치-4 | DYY260: 백김치 | DYZ260: 모든재료국산사용 | DZA260: kg | DZB260: 국산 | DZC260: 30 | DZE260: 김치 | DZF260: 김치-4 | DZG260: 백김치 | DZH260: 모든재료국산사용 | DZI260: kg | DZJ260: 국산 | DZK260: 30 | DZM260: 김치 | DZN260: 김치-4 | DZO260: 백김치 | DZP260: 모든재료국산사용 | DZQ260: kg | DZR260: 국산 | DZS260: 30 | DZU260: 김치 | DZV260: 김치-4 | DZW260: 백김치 | DZX260: 모든재료국산사용 | DZY260: kg | DZZ260: 국산 | EAA260: 30 | EAC260: 김치 | EAD260: 김치-4 | EAE260: 백김치 | EAF260: 모든재료국산사용 | EAG260: kg | EAH260: 국산 | EAI260: 30 | EAK260: 김치 | EAL260: 김치-4 | EAM260: 백김치 | EAN260: 모든재료국산사용 | EAO260: kg | EAP260: 국산 | EAQ260: 30 | EAS260: 김치 | EAT260: 김치-4 | EAU260: 백김치 | EAV260: 모든재료국산사용 | EAW260: kg | EAX260: 국산 | EAY260: 30 | EBA260: 김치 | EBB260: 김치-4 | EBC260: 백김치 | EBD260: 모든재료국산사용 | EBE260: kg | EBF260: 국산 | EBG260: 30 | EBI260: 김치 | EBJ260: 김치-4 | EBK260: 백김치 | EBL260: 모든재료국산사용 | EBM260: kg | EBN260: 국산 | EBO260: 30 | EBQ260: 김치 | EBR260: 김치-4 | EBS260: 백김치 | EBT260: 모든재료국산사용 | EBU260: kg | EBV260: 국산 | EBW260: 30 | EBY260: 김치 | EBZ260: 김치-4 | ECA260: 백김치 | ECB260: 모든재료국산사용 | ECC260: kg | ECD260: 국산 | ECE260: 30 | ECG260: 김치 | ECH260: 김치-4 | ECI260: 백김치 | ECJ260: 모든재료국산사용 | ECK260: kg | ECL260: 국산 | ECM260: 30 | ECO260: 김치 | ECP260: 김치-4 | ECQ260: 백김치 | ECR260: 모든재료국산사용 | ECS260: kg | ECT260: 국산 | ECU260: 30 | ECW260: 김치 | ECX260: 김치-4 | ECY260: 백김치 | ECZ260: 모든재료국산사용 | EDA260: kg | EDB260: 국산 | EDC260: 30 | EDE260: 김치 | EDF260: 김치-4 | EDG260: 백김치 | EDH260: 모든재료국산사용 | EDI260: kg | EDJ260: 국산 | EDK260: 30 | EDM260: 김치 | EDN260: 김치-4 | EDO260: 백김치 | EDP260: 모든재료국산사용 | EDQ260: kg | EDR260: 국산 | EDS260: 30 | EDU260: 김치 | EDV260: 김치-4 | EDW260: 백김치 | EDX260: 모든재료국산사용 | EDY260: kg | EDZ260: 국산 | EEA260: 30 | EEC260: 김치 | EED260: 김치-4 | EEE260: 백김치 | EEF260: 모든재료국산사용 | EEG260: kg | EEH260: 국산 | EEI260: 30 | EEK260: 김치 | EEL260: 김치-4 | EEM260: 백김치 | EEN260: 모든재료국산사용 | EEO260: kg | EEP260: 국산 | EEQ260: 30 | EES260: 김치 | EET260: 김치-4 | EEU260: 백김치 | EEV260: 모든재료국산사용 | EEW260: kg | EEX260: 국산 | EEY260: 30 | EFA260: 김치 | EFB260: 김치-4 | EFC260: 백김치 | EFD260: 모든재료국산사용 | EFE260: kg | EFF260: 국산 | EFG260: 30 | EFI260: 김치 | EFJ260: 김치-4 | EFK260: 백김치 | EFL260: 모든재료국산사용 | EFM260: kg | EFN260: 국산 | EFO260: 30 | EFQ260: 김치 | EFR260: 김치-4 | EFS260: 백김치 | EFT260: 모든재료국산사용 | EFU260: kg | EFV260: 국산 | EFW260: 30 | EFY260: 김치 | EFZ260: 김치-4 | EGA260: 백김치 | EGB260: 모든재료국산사용 | EGC260: kg | EGD260: 국산 | EGE260: 30 | EGG260: 김치 | EGH260: 김치-4 | EGI260: 백김치 | EGJ260: 모든재료국산사용 | EGK260: kg | EGL260: 국산 | EGM260: 30 | EGO260: 김치 | EGP260: 김치-4 | EGQ260: 백김치 | EGR260: 모든재료국산사용 | EGS260: kg | EGT260: 국산 | EGU260: 30 | EGW260: 김치 | EGX260: 김치-4 | EGY260: 백김치 | EGZ260: 모든재료국산사용 | EHA260: kg | EHB260: 국산 | EHC260: 30 | EHE260: 김치 | EHF260: 김치-4 | EHG260: 백김치 | EHH260: 모든재료국산사용 | EHI260: kg | EHJ260: 국산 | EHK260: 30 | EHM260: 김치 | EHN260: 김치-4 | EHO260: 백김치 | EHP260: 모든재료국산사용 | EHQ260: kg | EHR260: 국산 | EHS260: 30 | EHU260: 김치 | EHV260: 김치-4 | EHW260: 백김치 | EHX260: 모든재료국산사용 | EHY260: kg | EHZ260: 국산 | EIA260: 30 | EIC260: 김치 | EID260: 김치-4 | EIE260: 백김치 | EIF260: 모든재료국산사용 | EIG260: kg | EIH260: 국산 | EII260: 30 | EIK260: 김치 | EIL260: 김치-4 | EIM260: 백김치 | EIN260: 모든재료국산사용 | EIO260: kg | EIP260: 국산 | EIQ260: 30 | EIS260: 김치 | EIT260: 김치-4 | EIU260: 백김치 | EIV260: 모든재료국산사용 | EIW260: kg | EIX260: 국산 | EIY260: 30 | EJA260: 김치 | EJB260: 김치-4 | EJC260: 백김치 | EJD260: 모든재료국산사용 | EJE260: kg | EJF260: 국산 | EJG260: 30 | EJI260: 김치 | EJJ260: 김치-4 | EJK260: 백김치 | EJL260: 모든재료국산사용 | EJM260: kg | EJN260: 국산 | EJO260: 30 | EJQ260: 김치 | EJR260: 김치-4 | EJS260: 백김치 | EJT260: 모든재료국산사용 | EJU260: kg | EJV260: 국산 | EJW260: 30 | EJY260: 김치 | EJZ260: 김치-4 | EKA260: 백김치 | EKB260: 모든재료국산사용 | EKC260: kg | EKD260: 국산 | EKE260: 30 | EKG260: 김치 | EKH260: 김치-4 | EKI260: 백김치 | EKJ260: 모든재료국산사용 | EKK260: kg | EKL260: 국산 | EKM260: 30 | EKO260: 김치 | EKP260: 김치-4 | EKQ260: 백김치 | EKR260: 모든재료국산사용 | EKS260: kg | EKT260: 국산 | EKU260: 30 | EKW260: 김치 | EKX260: 김치-4 | EKY260: 백김치 | EKZ260: 모든재료국산사용 | ELA260: kg | ELB260: 국산 | ELC260: 30 | ELE260: 김치 | ELF260: 김치-4 | ELG260: 백김치 | ELH260: 모든재료국산사용 | ELI260: kg | ELJ260: 국산 | ELK260: 30 | ELM260: 김치 | ELN260: 김치-4 | ELO260: 백김치 | ELP260: 모든재료국산사용 | ELQ260: kg | ELR260: 국산 | ELS260: 30 | ELU260: 김치 | ELV260: 김치-4 | ELW260: 백김치 | ELX260: 모든재료국산사용 | ELY260: kg | ELZ260: 국산 | EMA260: 30 | EMC260: 김치 | EMD260: 김치-4 | EME260: 백김치 | EMF260: 모든재료국산사용 | EMG260: kg | EMH260: 국산 | EMI260: 30 | EMK260: 김치 | EML260: 김치-4 | EMM260: 백김치 | EMN260: 모든재료국산사용 | EMO260: kg | EMP260: 국산 | EMQ260: 30 | EMS260: 김치 | EMT260: 김치-4 | EMU260: 백김치 | EMV260: 모든재료국산사용 | EMW260: kg | EMX260: 국산 | EMY260: 30 | ENA260: 김치 | ENB260: 김치-4 | ENC260: 백김치 | END260: 모든재료국산사용 | ENE260: kg | ENF260: 국산 | ENG260: 30 | ENI260: 김치 | ENJ260: 김치-4 | ENK260: 백김치 | ENL260: 모든재료국산사용 | ENM260: kg | ENN260: 국산 | ENO260: 30 | ENQ260: 김치 | ENR260: 김치-4 | ENS260: 백김치 | ENT260: 모든재료국산사용 | ENU260: kg | ENV260: 국산 | ENW260: 30 | ENY260: 김치 | ENZ260: 김치-4 | EOA260: 백김치 | EOB260: 모든재료국산사용 | EOC260: kg | EOD260: 국산 | EOE260: 30 | EOG260: 김치 | EOH260: 김치-4 | EOI260: 백김치 | EOJ260: 모든재료국산사용 | EOK260: kg | EOL260: 국산 | EOM260: 30 | EOO260: 김치 | EOP260: 김치-4 | EOQ260: 백김치 | EOR260: 모든재료국산사용 | EOS260: kg | EOT260: 국산 | EOU260: 30 | EOW260: 김치 | EOX260: 김치-4 | EOY260: 백김치 | EOZ260: 모든재료국산사용 | EPA260: kg | EPB260: 국산 | EPC260: 30 | EPE260: 김치 | EPF260: 김치-4 | EPG260: 백김치 | EPH260: 모든재료국산사용 | EPI260: kg | EPJ260: 국산 | EPK260: 30 | EPM260: 김치 | EPN260: 김치-4 | EPO260: 백김치 | EPP260: 모든재료국산사용 | EPQ260: kg | EPR260: 국산 | EPS260: 30 | EPU260: 김치 | EPV260: 김치-4 | EPW260: 백김치 | EPX260: 모든재료국산사용 | EPY260: kg | EPZ260: 국산 | EQA260: 30 | EQC260: 김치 | EQD260: 김치-4 | EQE260: 백김치 | EQF260: 모든재료국산사용 | EQG260: kg | EQH260: 국산 | EQI260: 30 | EQK260: 김치 | EQL260: 김치-4 | EQM260: 백김치 | EQN260: 모든재료국산사용 | EQO260: kg | EQP260: 국산 | EQQ260: 30 | EQS260: 김치 | EQT260: 김치-4 | EQU260: 백김치 | EQV260: 모든재료국산사용 | EQW260: kg | EQX260: 국산 | EQY260: 30 | ERA260: 김치 | ERB260: 김치-4 | ERC260: 백김치 | ERD260: 모든재료국산사용 | ERE260: kg | ERF260: 국산 | ERG260: 30 | ERI260: 김치 | ERJ260: 김치-4 | ERK260: 백김치 | ERL260: 모든재료국산사용 | ERM260: kg | ERN260: 국산 | ERO260: 30 | ERQ260: 김치 | ERR260: 김치-4 | ERS260: 백김치 | ERT260: 모든재료국산사용 | ERU260: kg | ERV260: 국산 | ERW260: 30 | ERY260: 김치 | ERZ260: 김치-4 | ESA260: 백김치 | ESB260: 모든재료국산사용 | ESC260: kg | ESD260: 국산 | ESE260: 30 | ESG260: 김치 | ESH260: 김치-4 | ESI260: 백김치 | ESJ260: 모든재료국산사용 | ESK260: kg | ESL260: 국산 | ESM260: 30 | ESO260: 김치 | ESP260: 김치-4 | ESQ260: 백김치 | ESR260: 모든재료국산사용 | ESS260: kg | EST260: 국산 | ESU260: 30 | ESW260: 김치 | ESX260: 김치-4 | ESY260: 백김치 | ESZ260: 모든재료국산사용 | ETA260: kg | ETB260: 국산 | ETC260: 30 | ETE260: 김치 | ETF260: 김치-4 | ETG260: 백김치 | ETH260: 모든재료국산사용 | ETI260: kg | ETJ260: 국산 | ETK260: 30 | ETM260: 김치 | ETN260: 김치-4 | ETO260: 백김치 | ETP260: 모든재료국산사용 | ETQ260: kg | ETR260: 국산 | ETS260: 30 | ETU260: 김치 | ETV260: 김치-4 | ETW260: 백김치 | ETX260: 모든재료국산사용 | ETY260: kg | ETZ260: 국산 | EUA260: 30 | EUC260: 김치 | EUD260: 김치-4 | EUE260: 백김치 | EUF260: 모든재료국산사용 | EUG260: kg | EUH260: 국산 | EUI260: 30 | EUK260: 김치 | EUL260: 김치-4 | EUM260: 백김치 | EUN260: 모든재료국산사용 | EUO260: kg | EUP260: 국산 | EUQ260: 30 | EUS260: 김치 | EUT260: 김치-4 | EUU260: 백김치 | EUV260: 모든재료국산사용 | EUW260: kg | EUX260: 국산 | EUY260: 30 | EVA260: 김치 | EVB260: 김치-4 | EVC260: 백김치 | EVD260: 모든재료국산사용 | EVE260: kg | EVF260: 국산 | EVG260: 30 | EVI260: 김치 | EVJ260: 김치-4 | EVK260: 백김치 | EVL260: 모든재료국산사용 | EVM260: kg | EVN260: 국산 | EVO260: 30 | EVQ260: 김치 | EVR260: 김치-4 | EVS260: 백김치 | EVT260: 모든재료국산사용 | EVU260: kg | EVV260: 국산 | EVW260: 30 | EVY260: 김치 | EVZ260: 김치-4 | EWA260: 백김치 | EWB260: 모든재료국산사용 | EWC260: kg | EWD260: 국산 | EWE260: 30 | EWG260: 김치 | EWH260: 김치-4 | EWI260: 백김치 | EWJ260: 모든재료국산사용 | EWK260: kg | EWL260: 국산 | EWM260: 30 | EWO260: 김치 | EWP260: 김치-4 | EWQ260: 백김치 | EWR260: 모든재료국산사용 | EWS260: kg | EWT260: 국산 | EWU260: 30 | EWW260: 김치 | EWX260: 김치-4 | EWY260: 백김치 | EWZ260: 모든재료국산사용 | EXA260: kg | EXB260: 국산 | EXC260: 30 | EXE260: 김치 | EXF260: 김치-4 | EXG260: 백김치 | EXH260: 모든재료국산사용 | EXI260: kg | EXJ260: 국산 | EXK260: 30 | EXM260: 김치 | EXN260: 김치-4 | EXO260: 백김치 | EXP260: 모든재료국산사용 | EXQ260: kg | EXR260: 국산 | EXS260: 30 | EXU260: 김치 | EXV260: 김치-4 | EXW260: 백김치 | EXX260: 모든재료국산사용 | EXY260: kg | EXZ260: 국산 | EYA260: 30 | EYC260: 김치 | EYD260: 김치-4 | EYE260: 백김치 | EYF260: 모든재료국산사용 | EYG260: kg | EYH260: 국산 | EYI260: 30 | EYK260: 김치 | EYL260: 김치-4 | EYM260: 백김치 | EYN260: 모든재료국산사용 | EYO260: kg | EYP260: 국산 | EYQ260: 30 | EYS260: 김치 | EYT260: 김치-4 | EYU260: 백김치 | EYV260: 모든재료국산사용 | EYW260: kg | EYX260: 국산 | EYY260: 30 | EZA260: 김치 | EZB260: 김치-4 | EZC260: 백김치 | EZD260: 모든재료국산사용 | EZE260: kg | EZF260: 국산 | EZG260: 30 | EZI260: 김치 | EZJ260: 김치-4 | EZK260: 백김치 | EZL260: 모든재료국산사용 | EZM260: kg | EZN260: 국산 | EZO260: 30 | EZQ260: 김치 | EZR260: 김치-4 | EZS260: 백김치 | EZT260: 모든재료국산사용 | EZU260: kg | EZV260: 국산 | EZW260: 30 | EZY260: 김치 | EZZ260: 김치-4 | FAA260: 백김치 | FAB260: 모든재료국산사용 | FAC260: kg | FAD260: 국산 | FAE260: 30 | FAG260: 김치 | FAH260: 김치-4 | FAI260: 백김치 | FAJ260: 모든재료국산사용 | FAK260: kg | FAL260: 국산 | FAM260: 30 | FAO260: 김치 | FAP260: 김치-4 | FAQ260: 백김치 | FAR260: 모든재료국산사용 | FAS260: kg | FAT260: 국산 | FAU260: 30 | FAW260: 김치 | FAX260: 김치-4 | FAY260: 백김치 | FAZ260: 모든재료국산사용 | FBA260: kg | FBB260: 국산 | FBC260: 30 | FBE260: 김치 | FBF260: 김치-4 | FBG260: 백김치 | FBH260: 모든재료국산사용 | FBI260: kg | FBJ260: 국산 | FBK260: 30 | FBM260: 김치 | FBN260: 김치-4 | FBO260: 백김치 | FBP260: 모든재료국산사용 | FBQ260: kg | FBR260: 국산 | FBS260: 30 | FBU260: 김치 | FBV260: 김치-4 | FBW260: 백김치 | FBX260: 모든재료국산사용 | FBY260: kg | FBZ260: 국산 | FCA260: 30 | FCC260: 김치 | FCD260: 김치-4 | FCE260: 백김치 | FCF260: 모든재료국산사용 | FCG260: kg | FCH260: 국산 | FCI260: 30 | FCK260: 김치 | FCL260: 김치-4 | FCM260: 백김치 | FCN260: 모든재료국산사용 | FCO260: kg | FCP260: 국산 | FCQ260: 30 | FCS260: 김치 | FCT260: 김치-4 | FCU260: 백김치 | FCV260: 모든재료국산사용 | FCW260: kg | FCX260: 국산 | FCY260: 30 | FDA260: 김치 | FDB260: 김치-4 | FDC260: 백김치 | FDD260: 모든재료국산사용 | FDE260: kg | FDF260: 국산 | FDG260: 30 | FDI260: 김치 | FDJ260: 김치-4 | FDK260: 백김치 | FDL260: 모든재료국산사용 | FDM260: kg | FDN260: 국산 | FDO260: 30 | FDQ260: 김치 | FDR260: 김치-4 | FDS260: 백김치 | FDT260: 모든재료국산사용 | FDU260: kg | FDV260: 국산 | FDW260: 30 | FDY260: 김치 | FDZ260: 김치-4 | FEA260: 백김치 | FEB260: 모든재료국산사용 | FEC260: kg | FED260: 국산 | FEE260: 30 | FEG260: 김치 | FEH260: 김치-4 | FEI260: 백김치 | FEJ260: 모든재료국산사용 | FEK260: kg | FEL260: 국산 | FEM260: 30 | FEO260: 김치 | FEP260: 김치-4 | FEQ260: 백김치 | FER260: 모든재료국산사용 | FES260: kg | FET260: 국산 | FEU260: 30 | FEW260: 김치 | FEX260: 김치-4 | FEY260: 백김치 | FEZ260: 모든재료국산사용 | FFA260: kg | FFB260: 국산 | FFC260: 30 | FFE260: 김치 | FFF260: 김치-4 | FFG260: 백김치 | FFH260: 모든재료국산사용 | FFI260: kg | FFJ260: 국산 | FFK260: 30 | FFM260: 김치 | FFN260: 김치-4 | FFO260: 백김치 | FFP260: 모든재료국산사용 | FFQ260: kg | FFR260: 국산 | FFS260: 30 | FFU260: 김치 | FFV260: 김치-4 | FFW260: 백김치 | FFX260: 모든재료국산사용 | FFY260: kg | FFZ260: 국산 | FGA260: 30 | FGC260: 김치 | FGD260: 김치-4 | FGE260: 백김치 | FGF260: 모든재료국산사용 | FGG260: kg | FGH260: 국산 | FGI260: 30 | FGK260: 김치 | FGL260: 김치-4 | FGM260: 백김치 | FGN260: 모든재료국산사용 | FGO260: kg | FGP260: 국산 | FGQ260: 30 | FGS260: 김치 | FGT260: 김치-4 | FGU260: 백김치 | FGV260: 모든재료국산사용 | FGW260: kg | FGX260: 국산 | FGY260: 30 | FHA260: 김치 | FHB260: 김치-4 | FHC260: 백김치 | FHD260: 모든재료국산사용 | FHE260: kg | FHF260: 국산 | FHG260: 30 | FHI260: 김치 | FHJ260: 김치-4 | FHK260: 백김치 | FHL260: 모든재료국산사용 | FHM260: kg | FHN260: 국산 | FHO260: 30 | FHQ260: 김치 | FHR260: 김치-4 | FHS260: 백김치 | FHT260: 모든재료국산사용 | FHU260: kg | FHV260: 국산 | FHW260: 30 | FHY260: 김치 | FHZ260: 김치-4 | FIA260: 백김치 | FIB260: 모든재료국산사용 | FIC260: kg | FID260: 국산 | FIE260: 30 | FIG260: 김치 | FIH260: 김치-4 | FII260: 백김치 | FIJ260: 모든재료국산사용 | FIK260: kg | FIL260: 국산 | FIM260: 30 | FIO260: 김치 | FIP260: 김치-4 | FIQ260: 백김치 | FIR260: 모든재료국산사용 | FIS260: kg | FIT260: 국산 | FIU260: 30 | FIW260: 김치 | FIX260: 김치-4 | FIY260: 백김치 | FIZ260: 모든재료국산사용 | FJA260: kg | FJB260: 국산 | FJC260: 30 | FJE260: 김치 | FJF260: 김치-4 | FJG260: 백김치 | FJH260: 모든재료국산사용 | FJI260: kg | FJJ260: 국산 | FJK260: 30 | FJM260: 김치 | FJN260: 김치-4 | FJO260: 백김치 | FJP260: 모든재료국산사용 | FJQ260: kg | FJR260: 국산 | FJS260: 30 | FJU260: 김치 | FJV260: 김치-4 | FJW260: 백김치 | FJX260: 모든재료국산사용 | FJY260: kg | FJZ260: 국산 | FKA260: 30 | FKC260: 김치 | FKD260: 김치-4 | FKE260: 백김치 | FKF260: 모든재료국산사용 | FKG260: kg | FKH260: 국산 | FKI260: 30 | FKK260: 김치 | FKL260: 김치-4 | FKM260: 백김치 | FKN260: 모든재료국산사용 | FKO260: kg | FKP260: 국산 | FKQ260: 30 | FKS260: 김치 | FKT260: 김치-4 | FKU260: 백김치 | FKV260: 모든재료국산사용 | FKW260: kg | FKX260: 국산 | FKY260: 30 | FLA260: 김치 | FLB260: 김치-4 | FLC260: 백김치 | FLD260: 모든재료국산사용 | FLE260: kg | FLF260: 국산 | FLG260: 30 | FLI260: 김치 | FLJ260: 김치-4 | FLK260: 백김치 | FLL260: 모든재료국산사용 | FLM260: kg | FLN260: 국산 | FLO260: 30 | FLQ260: 김치 | FLR260: 김치-4 | FLS260: 백김치 | FLT260: 모든재료국산사용 | FLU260: kg | FLV260: 국산 | FLW260: 30 | FLY260: 김치 | FLZ260: 김치-4 | FMA260: 백김치 | FMB260: 모든재료국산사용 | FMC260: kg | FMD260: 국산 | FME260: 30 | FMG260: 김치 | FMH260: 김치-4 | FMI260: 백김치 | FMJ260: 모든재료국산사용 | FMK260: kg | FML260: 국산 | FMM260: 30 | FMO260: 김치 | FMP260: 김치-4 | FMQ260: 백김치 | FMR260: 모든재료국산사용 | FMS260: kg | FMT260: 국산 | FMU260: 30 | FMW260: 김치 | FMX260: 김치-4 | FMY260: 백김치 | FMZ260: 모든재료국산사용 | FNA260: kg | FNB260: 국산 | FNC260: 30 | FNE260: 김치 | FNF260: 김치-4 | FNG260: 백김치 | FNH260: 모든재료국산사용 | FNI260: kg | FNJ260: 국산 | FNK260: 30 | FNM260: 김치 | FNN260: 김치-4 | FNO260: 백김치 | FNP260: 모든재료국산사용 | FNQ260: kg | FNR260: 국산 | FNS260: 30 | FNU260: 김치 | FNV260: 김치-4 | FNW260: 백김치 | FNX260: 모든재료국산사용 | FNY260: kg | FNZ260: 국산 | FOA260: 30 | FOC260: 김치 | FOD260: 김치-4 | FOE260: 백김치 | FOF260: 모든재료국산사용 | FOG260: kg | FOH260: 국산 | FOI260: 30 | FOK260: 김치 | FOL260: 김치-4 | FOM260: 백김치 | FON260: 모든재료국산사용 | FOO260: kg | FOP260: 국산 | FOQ260: 30 | FOS260: 김치 | FOT260: 김치-4 | FOU260: 백김치 | FOV260: 모든재료국산사용 | FOW260: kg | FOX260: 국산 | FOY260: 30 | FPA260: 김치 | FPB260: 김치-4 | FPC260: 백김치 | FPD260: 모든재료국산사용 | FPE260: kg | FPF260: 국산 | FPG260: 30 | FPI260: 김치 | FPJ260: 김치-4 | FPK260: 백김치 | FPL260: 모든재료국산사용 | FPM260: kg | FPN260: 국산 | FPO260: 30 | FPQ260: 김치 | FPR260: 김치-4 | FPS260: 백김치 | FPT260: 모든재료국산사용 | FPU260: kg | FPV260: 국산 | FPW260: 30 | FPY260: 김치 | FPZ260: 김치-4 | FQA260: 백김치 | FQB260: 모든재료국산사용 | FQC260: kg | FQD260: 국산 | FQE260: 30 | FQG260: 김치 | FQH260: 김치-4 | FQI260: 백김치 | FQJ260: 모든재료국산사용 | FQK260: kg | FQL260: 국산 | FQM260: 30 | FQO260: 김치 | FQP260: 김치-4 | FQQ260: 백김치 | FQR260: 모든재료국산사용 | FQS260: kg | FQT260: 국산 | FQU260: 30 | FQW260: 김치 | FQX260: 김치-4 | FQY260: 백김치 | FQZ260: 모든재료국산사용 | FRA260: kg | FRB260: 국산 | FRC260: 30 | FRE260: 김치 | FRF260: 김치-4 | FRG260: 백김치 | FRH260: 모든재료국산사용 | FRI260: kg | FRJ260: 국산 | FRK260: 30 | FRM260: 김치 | FRN260: 김치-4 | FRO260: 백김치 | FRP260: 모든재료국산사용 | FRQ260: kg | FRR260: 국산 | FRS260: 30 | FRU260: 김치 | FRV260: 김치-4 | FRW260: 백김치 | FRX260: 모든재료국산사용 | FRY260: kg | FRZ260: 국산 | FSA260: 30 | FSC260: 김치 | FSD260: 김치-4 | FSE260: 백김치 | FSF260: 모든재료국산사용 | FSG260: kg | FSH260: 국산 | FSI260: 30 | FSK260: 김치 | FSL260: 김치-4 | FSM260: 백김치 | FSN260: 모든재료국산사용 | FSO260: kg | FSP260: 국산 | FSQ260: 30 | FSS260: 김치 | FST260: 김치-4 | FSU260: 백김치 | FSV260: 모든재료국산사용 | FSW260: kg | FSX260: 국산 | FSY260: 30 | FTA260: 김치 | FTB260: 김치-4 | FTC260: 백김치 | FTD260: 모든재료국산사용 | FTE260: kg | FTF260: 국산 | FTG260: 30 | FTI260: 김치 | FTJ260: 김치-4 | FTK260: 백김치 | FTL260: 모든재료국산사용 | FTM260: kg | FTN260: 국산 | FTO260: 30 | FTQ260: 김치 | FTR260: 김치-4 | FTS260: 백김치 | FTT260: 모든재료국산사용 | FTU260: kg | FTV260: 국산 | FTW260: 30 | FTY260: 김치 | FTZ260: 김치-4 | FUA260: 백김치 | FUB260: 모든재료국산사용 | FUC260: kg | FUD260: 국산 | FUE260: 30 | FUG260: 김치 | FUH260: 김치-4 | FUI260: 백김치 | FUJ260: 모든재료국산사용 | FUK260: kg | FUL260: 국산 | FUM260: 30 | FUO260: 김치 | FUP260: 김치-4 | FUQ260: 백김치 | FUR260: 모든재료국산사용 | FUS260: kg | FUT260: 국산 | FUU260: 30 | FUW260: 김치 | FUX260: 김치-4 | FUY260: 백김치 | FUZ260: 모든재료국산사용 | FVA260: kg | FVB260: 국산 | FVC260: 30 | FVE260: 김치 | FVF260: 김치-4 | FVG260: 백김치 | FVH260: 모든재료국산사용 | FVI260: kg | FVJ260: 국산 | FVK260: 30 | FVM260: 김치 | FVN260: 김치-4 | FVO260: 백김치 | FVP260: 모든재료국산사용 | FVQ260: kg | FVR260: 국산 | FVS260: 30 | FVU260: 김치 | FVV260: 김치-4 | FVW260: 백김치 | FVX260: 모든재료국산사용 | FVY260: kg | FVZ260: 국산 | FWA260: 30 | FWC260: 김치 | FWD260: 김치-4 | FWE260: 백김치 | FWF260: 모든재료국산사용 | FWG260: kg | FWH260: 국산 | FWI260: 30 | FWK260: 김치 | FWL260: 김치-4 | FWM260: 백김치 | FWN260: 모든재료국산사용 | FWO260: kg | FWP260: 국산 | FWQ260: 30 | FWS260: 김치 | FWT260: 김치-4 | FWU260: 백김치 | FWV260: 모든재료국산사용 | FWW260: kg | FWX260: 국산 | FWY260: 30 | FXA260: 김치 | FXB260: 김치-4 | FXC260: 백김치 | FXD260: 모든재료국산사용 | FXE260: kg | FXF260: 국산 | FXG260: 30 | FXI260: 김치 | FXJ260: 김치-4 | FXK260: 백김치 | FXL260: 모든재료국산사용 | FXM260: kg | FXN260: 국산 | FXO260: 30 | FXQ260: 김치 | FXR260: 김치-4 | FXS260: 백김치 | FXT260: 모든재료국산사용 | FXU260: kg | FXV260: 국산 | FXW260: 30 | FXY260: 김치 | FXZ260: 김치-4 | FYA260: 백김치 | FYB260: 모든재료국산사용 | FYC260: kg | FYD260: 국산 | FYE260: 30 | FYG260: 김치 | FYH260: 김치-4 | FYI260: 백김치 | FYJ260: 모든재료국산사용 | FYK260: kg | FYL260: 국산 | FYM260: 30 | FYO260: 김치 | FYP260: 김치-4 | FYQ260: 백김치 | FYR260: 모든재료국산사용 | FYS260: kg | FYT260: 국산 | FYU260: 30 | FYW260: 김치 | FYX260: 김치-4 | FYY260: 백김치 | FYZ260: 모든재료국산사용 | FZA260: kg | FZB260: 국산 | FZC260: 30 | FZE260: 김치 | FZF260: 김치-4 | FZG260: 백김치 | FZH260: 모든재료국산사용 | FZI260: kg | FZJ260: 국산 | FZK260: 30 | FZM260: 김치 | FZN260: 김치-4 | FZO260: 백김치 | FZP260: 모든재료국산사용 | FZQ260: kg | FZR260: 국산 | FZS260: 30 | FZU260: 김치 | FZV260: 김치-4 | FZW260: 백김치 | FZX260: 모든재료국산사용 | FZY260: kg | FZZ260: 국산 | GAA260: 30 | GAC260: 김치 | GAD260: 김치-4 | GAE260: 백김치 | GAF260: 모든재료국산사용 | GAG260: kg | GAH260: 국산 | GAI260: 30 | GAK260: 김치 | GAL260: 김치-4 | GAM260: 백김치 | GAN260: 모든재료국산사용 | GAO260: kg | GAP260: 국산 | GAQ260: 30 | GAS260: 김치 | GAT260: 김치-4 | GAU260: 백김치 | GAV260: 모든재료국산사용 | GAW260: kg | GAX260: 국산 | GAY260: 30 | GBA260: 김치 | GBB260: 김치-4 | GBC260: 백김치 | GBD260: 모든재료국산사용 | GBE260: kg | GBF260: 국산 | GBG260: 30 | GBI260: 김치 | GBJ260: 김치-4 | GBK260: 백김치 | GBL260: 모든재료국산사용 | GBM260: kg | GBN260: 국산 | GBO260: 30 | GBQ260: 김치 | GBR260: 김치-4 | GBS260: 백김치 | GBT260: 모든재료국산사용 | GBU260: kg | GBV260: 국산 | GBW260: 30 | GBY260: 김치 | GBZ260: 김치-4 | GCA260: 백김치 | GCB260: 모든재료국산사용 | GCC260: kg | GCD260: 국산 | GCE260: 30 | GCG260: 김치 | GCH260: 김치-4 | GCI260: 백김치 | GCJ260: 모든재료국산사용 | GCK260: kg | GCL260: 국산 | GCM260: 30 | GCO260: 김치 | GCP260: 김치-4 | GCQ260: 백김치 | GCR260: 모든재료국산사용 | GCS260: kg | GCT260: 국산 | GCU260: 30 | GCW260: 김치 | GCX260: 김치-4 | GCY260: 백김치 | GCZ260: 모든재료국산사용 | GDA260: kg | GDB260: 국산 | GDC260: 30 | GDE260: 김치 | GDF260: 김치-4 | GDG260: 백김치 | GDH260: 모든재료국산사용 | GDI260: kg | GDJ260: 국산 | GDK260: 30 | GDM260: 김치 | GDN260: 김치-4 | GDO260: 백김치 | GDP260: 모든재료국산사용 | GDQ260: kg | GDR260: 국산 | GDS260: 30 | GDU260: 김치 | GDV260: 김치-4 | GDW260: 백김치 | GDX260: 모든재료국산사용 | GDY260: kg | GDZ260: 국산 | GEA260: 30 | GEC260: 김치 | GED260: 김치-4 | GEE260: 백김치 | GEF260: 모든재료국산사용 | GEG260: kg | GEH260: 국산 | GEI260: 30 | GEK260: 김치 | GEL260: 김치-4 | GEM260: 백김치 | GEN260: 모든재료국산사용 | GEO260: kg | GEP260: 국산 | GEQ260: 30 | GES260: 김치 | GET260: 김치-4 | GEU260: 백김치 | GEV260: 모든재료국산사용 | GEW260: kg | GEX260: 국산 | GEY260: 30 | GFA260: 김치 | GFB260: 김치-4 | GFC260: 백김치 | GFD260: 모든재료국산사용 | GFE260: kg | GFF260: 국산 | GFG260: 30 | GFI260: 김치 | GFJ260: 김치-4 | GFK260: 백김치 | GFL260: 모든재료국산사용 | GFM260: kg | GFN260: 국산 | GFO260: 30 | GFQ260: 김치 | GFR260: 김치-4 | GFS260: 백김치 | GFT260: 모든재료국산사용 | GFU260: kg | GFV260: 국산 | GFW260: 30 | GFY260: 김치 | GFZ260: 김치-4 | GGA260: 백김치 | GGB260: 모든재료국산사용 | GGC260: kg | GGD260: 국산 | GGE260: 30 | GGG260: 김치 | GGH260: 김치-4 | GGI260: 백김치 | GGJ260: 모든재료국산사용 | GGK260: kg | GGL260: 국산 | GGM260: 30 | GGO260: 김치 | GGP260: 김치-4 | GGQ260: 백김치 | GGR260: 모든재료국산사용 | GGS260: kg | GGT260: 국산 | GGU260: 30 | GGW260: 김치 | GGX260: 김치-4 | GGY260: 백김치 | GGZ260: 모든재료국산사용 | GHA260: kg | GHB260: 국산 | GHC260: 30 | GHE260: 김치 | GHF260: 김치-4 | GHG260: 백김치 | GHH260: 모든재료국산사용 | GHI260: kg | GHJ260: 국산 | GHK260: 30 | GHM260: 김치 | GHN260: 김치-4 | GHO260: 백김치 | GHP260: 모든재료국산사용 | GHQ260: kg | GHR260: 국산 | GHS260: 30 | GHU260: 김치 | GHV260: 김치-4 | GHW260: 백김치 | GHX260: 모든재료국산사용 | GHY260: kg | GHZ260: 국산 | GIA260: 30 | GIC260: 김치 | GID260: 김치-4 | GIE260: 백김치 | GIF260: 모든재료국산사용 | GIG260: kg | GIH260: 국산 | GII260: 30 | GIK260: 김치 | GIL260: 김치-4 | GIM260: 백김치 | GIN260: 모든재료국산사용 | GIO260: kg | GIP260: 국산 | GIQ260: 30 | GIS260: 김치 | GIT260: 김치-4 | GIU260: 백김치 | GIV260: 모든재료국산사용 | GIW260: kg | GIX260: 국산 | GIY260: 30 | GJA260: 김치 | GJB260: 김치-4 | GJC260: 백김치 | GJD260: 모든재료국산사용 | GJE260: kg | GJF260: 국산 | GJG260: 30 | GJI260: 김치 | GJJ260: 김치-4 | GJK260: 백김치 | GJL260: 모든재료국산사용 | GJM260: kg | GJN260: 국산 | GJO260: 30 | GJQ260: 김치 | GJR260: 김치-4 | GJS260: 백김치 | GJT260: 모든재료국산사용 | GJU260: kg | GJV260: 국산 | GJW260: 30 | GJY260: 김치 | GJZ260: 김치-4 | GKA260: 백김치 | GKB260: 모든재료국산사용 | GKC260: kg | GKD260: 국산 | GKE260: 30 | GKG260: 김치 | GKH260: 김치-4 | GKI260: 백김치 | GKJ260: 모든재료국산사용 | GKK260: kg | GKL260: 국산 | GKM260: 30 | GKO260: 김치 | GKP260: 김치-4 | GKQ260: 백김치 | GKR260: 모든재료국산사용 | GKS260: kg | GKT260: 국산 | GKU260: 30 | GKW260: 김치 | GKX260: 김치-4 | GKY260: 백김치 | GKZ260: 모든재료국산사용 | GLA260: kg | GLB260: 국산 | GLC260: 30 | GLE260: 김치 | GLF260: 김치-4 | GLG260: 백김치 | GLH260: 모든재료국산사용 | GLI260: kg | GLJ260: 국산 | GLK260: 30 | GLM260: 김치 | GLN260: 김치-4 | GLO260: 백김치 | GLP260: 모든재료국산사용 | GLQ260: kg | GLR260: 국산 | GLS260: 30 | GLU260: 김치 | GLV260: 김치-4 | GLW260: 백김치 | GLX260: 모든재료국산사용 | GLY260: kg | GLZ260: 국산 | GMA260: 30 | GMC260: 김치 | GMD260: 김치-4 | GME260: 백김치 | GMF260: 모든재료국산사용 | GMG260: kg | GMH260: 국산 | GMI260: 30 | GMK260: 김치 | GML260: 김치-4 | GMM260: 백김치 | GMN260: 모든재료국산사용 | GMO260: kg | GMP260: 국산 | GMQ260: 30 | GMS260: 김치 | GMT260: 김치-4 | GMU260: 백김치 | GMV260: 모든재료국산사용 | GMW260: kg | GMX260: 국산 | GMY260: 30 | GNA260: 김치 | GNB260: 김치-4 | GNC260: 백김치 | GND260: 모든재료국산사용 | GNE260: kg | GNF260: 국산 | GNG260: 30 | GNI260: 김치 | GNJ260: 김치-4 | GNK260: 백김치 | GNL260: 모든재료국산사용 | GNM260: kg | GNN260: 국산 | GNO260: 30 | GNQ260: 김치 | GNR260: 김치-4 | GNS260: 백김치 | GNT260: 모든재료국산사용 | GNU260: kg | GNV260: 국산 | GNW260: 30 | GNY260: 김치 | GNZ260: 김치-4 | GOA260: 백김치 | GOB260: 모든재료국산사용 | GOC260: kg | GOD260: 국산 | GOE260: 30 | GOG260: 김치 | GOH260: 김치-4 | GOI260: 백김치 | GOJ260: 모든재료국산사용 | GOK260: kg | GOL260: 국산 | GOM260: 30 | GOO260: 김치 | GOP260: 김치-4 | GOQ260: 백김치 | GOR260: 모든재료국산사용 | GOS260: kg | GOT260: 국산 | GOU260: 30 | GOW260: 김치 | GOX260: 김치-4 | GOY260: 백김치 | GOZ260: 모든재료국산사용 | GPA260: kg | GPB260: 국산 | GPC260: 30 | GPE260: 김치 | GPF260: 김치-4 | GPG260: 백김치 | GPH260: 모든재료국산사용 | GPI260: kg | GPJ260: 국산 | GPK260: 30 | GPM260: 김치 | GPN260: 김치-4 | GPO260: 백김치 | GPP260: 모든재료국산사용 | GPQ260: kg | GPR260: 국산 | GPS260: 30 | GPU260: 김치 | GPV260: 김치-4 | GPW260: 백김치 | GPX260: 모든재료국산사용 | GPY260: kg | GPZ260: 국산 | GQA260: 30 | GQC260: 김치 | GQD260: 김치-4 | GQE260: 백김치 | GQF260: 모든재료국산사용 | GQG260: kg | GQH260: 국산 | GQI260: 30 | GQK260: 김치 | GQL260: 김치-4 | GQM260: 백김치 | GQN260: 모든재료국산사용 | GQO260: kg | GQP260: 국산 | GQQ260: 30 | GQS260: 김치 | GQT260: 김치-4 | GQU260: 백김치 | GQV260: 모든재료국산사용 | GQW260: kg | GQX260: 국산 | GQY260: 30 | GRA260: 김치 | GRB260: 김치-4 | GRC260: 백김치 | GRD260: 모든재료국산사용 | GRE260: kg | GRF260: 국산 | GRG260: 30 | GRI260: 김치 | GRJ260: 김치-4 | GRK260: 백김치 | GRL260: 모든재료국산사용 | GRM260: kg | GRN260: 국산 | GRO260: 30 | GRQ260: 김치 | GRR260: 김치-4 | GRS260: 백김치 | GRT260: 모든재료국산사용 | GRU260: kg | GRV260: 국산 | GRW260: 30 | GRY260: 김치 | GRZ260: 김치-4 | GSA260: 백김치 | GSB260: 모든재료국산사용 | GSC260: kg | GSD260: 국산 | GSE260: 30 | GSG260: 김치 | GSH260: 김치-4 | GSI260: 백김치 | GSJ260: 모든재료국산사용 | GSK260: kg | GSL260: 국산 | GSM260: 30 | GSO260: 김치 | GSP260: 김치-4 | GSQ260: 백김치 | GSR260: 모든재료국산사용 | GSS260: kg | GST260: 국산 | GSU260: 30 | GSW260: 김치 | GSX260: 김치-4 | GSY260: 백김치 | GSZ260: 모든재료국산사용 | GTA260: kg | GTB260: 국산 | GTC260: 30 | GTE260: 김치 | GTF260: 김치-4 | GTG260: 백김치 | GTH260: 모든재료국산사용 | GTI260: kg | GTJ260: 국산 | GTK260: 30 | GTM260: 김치 | GTN260: 김치-4 | GTO260: 백김치 | GTP260: 모든재료국산사용 | GTQ260: kg | GTR260: 국산 | GTS260: 30 | GTU260: 김치 | GTV260: 김치-4 | GTW260: 백김치 | GTX260: 모든재료국산사용 | GTY260: kg | GTZ260: 국산 | GUA260: 30 | GUC260: 김치 | GUD260: 김치-4 | GUE260: 백김치 | GUF260: 모든재료국산사용 | GUG260: kg | GUH260: 국산 | GUI260: 30 | GUK260: 김치 | GUL260: 김치-4 | GUM260: 백김치 | GUN260: 모든재료국산사용 | GUO260: kg | GUP260: 국산 | GUQ260: 30 | GUS260: 김치 | GUT260: 김치-4 | GUU260: 백김치 | GUV260: 모든재료국산사용 | GUW260: kg | GUX260: 국산 | GUY260: 30 | GVA260: 김치 | GVB260: 김치-4 | GVC260: 백김치 | GVD260: 모든재료국산사용 | GVE260: kg | GVF260: 국산 | GVG260: 30 | GVI260: 김치 | GVJ260: 김치-4 | GVK260: 백김치 | GVL260: 모든재료국산사용 | GVM260: kg | GVN260: 국산 | GVO260: 30 | GVQ260: 김치 | GVR260: 김치-4 | GVS260: 백김치 | GVT260: 모든재료국산사용 | GVU260: kg | GVV260: 국산 | GVW260: 30 | GVY260: 김치 | GVZ260: 김치-4 | GWA260: 백김치 | GWB260: 모든재료국산사용 | GWC260: kg | GWD260: 국산 | GWE260: 30 | GWG260: 김치 | GWH260: 김치-4 | GWI260: 백김치 | GWJ260: 모든재료국산사용 | GWK260: kg | GWL260: 국산 | GWM260: 30 | GWO260: 김치 | GWP260: 김치-4 | GWQ260: 백김치 | GWR260: 모든재료국산사용 | GWS260: kg | GWT260: 국산 | GWU260: 30 | GWW260: 김치 | GWX260: 김치-4 | GWY260: 백김치 | GWZ260: 모든재료국산사용 | GXA260: kg | GXB260: 국산 | GXC260: 30 | GXE260: 김치 | GXF260: 김치-4 | GXG260: 백김치 | GXH260: 모든재료국산사용 | GXI260: kg | GXJ260: 국산 | GXK260: 30 | GXM260: 김치 | GXN260: 김치-4 | GXO260: 백김치 | GXP260: 모든재료국산사용 | GXQ260: kg | GXR260: 국산 | GXS260: 30 | GXU260: 김치 | GXV260: 김치-4 | GXW260: 백김치 | GXX260: 모든재료국산사용 | GXY260: kg | GXZ260: 국산 | GYA260: 30 | GYC260: 김치 | GYD260: 김치-4 | GYE260: 백김치 | GYF260: 모든재료국산사용 | GYG260: kg | GYH260: 국산 | GYI260: 30 | GYK260: 김치 | GYL260: 김치-4 | GYM260: 백김치 | GYN260: 모든재료국산사용 | GYO260: kg | GYP260: 국산 | GYQ260: 30 | GYS260: 김치 | GYT260: 김치-4 | GYU260: 백김치 | GYV260: 모든재료국산사용 | GYW260: kg | GYX260: 국산 | GYY260: 30 | GZA260: 김치 | GZB260: 김치-4 | GZC260: 백김치 | GZD260: 모든재료국산사용 | GZE260: kg | GZF260: 국산 | GZG260: 30 | GZI260: 김치 | GZJ260: 김치-4 | GZK260: 백김치 | GZL260: 모든재료국산사용 | GZM260: kg | GZN260: 국산 | GZO260: 30 | GZQ260: 김치 | GZR260: 김치-4 | GZS260: 백김치 | GZT260: 모든재료국산사용 | GZU260: kg | GZV260: 국산 | GZW260: 30 | GZY260: 김치 | GZZ260: 김치-4 | HAA260: 백김치 | HAB260: 모든재료국산사용 | HAC260: kg | HAD260: 국산 | HAE260: 30 | HAG260: 김치 | HAH260: 김치-4 | HAI260: 백김치 | HAJ260: 모든재료국산사용 | HAK260: kg | HAL260: 국산 | HAM260: 30 | HAO260: 김치 | HAP260: 김치-4 | HAQ260: 백김치 | HAR260: 모든재료국산사용 | HAS260: kg | HAT260: 국산 | HAU260: 30 | HAW260: 김치 | HAX260: 김치-4 | HAY260: 백김치 | HAZ260: 모든재료국산사용 | HBA260: kg | HBB260: 국산 | HBC260: 30 | HBE260: 김치 | HBF260: 김치-4 | HBG260: 백김치 | HBH260: 모든재료국산사용 | HBI260: kg | HBJ260: 국산 | HBK260: 30 | HBM260: 김치 | HBN260: 김치-4 | HBO260: 백김치 | HBP260: 모든재료국산사용 | HBQ260: kg | HBR260: 국산 | HBS260: 30 | HBU260: 김치 | HBV260: 김치-4 | HBW260: 백김치 | HBX260: 모든재료국산사용 | HBY260: kg | HBZ260: 국산 | HCA260: 30 | HCC260: 김치 | HCD260: 김치-4 | HCE260: 백김치 | HCF260: 모든재료국산사용 | HCG260: kg | HCH260: 국산 | HCI260: 30 | HCK260: 김치 | HCL260: 김치-4 | HCM260: 백김치 | HCN260: 모든재료국산사용 | HCO260: kg | HCP260: 국산 | HCQ260: 30 | HCS260: 김치 | HCT260: 김치-4 | HCU260: 백김치 | HCV260: 모든재료국산사용 | HCW260: kg | HCX260: 국산 | HCY260: 30 | HDA260: 김치 | HDB260: 김치-4 | HDC260: 백김치 | HDD260: 모든재료국산사용 | HDE260: kg | HDF260: 국산 | HDG260: 30 | HDI260: 김치 | HDJ260: 김치-4 | HDK260: 백김치 | HDL260: 모든재료국산사용 | HDM260: kg | HDN260: 국산 | HDO260: 30 | HDQ260: 김치 | HDR260: 김치-4 | HDS260: 백김치 | HDT260: 모든재료국산사용 | HDU260: kg | HDV260: 국산 | HDW260: 30 | HDY260: 김치 | HDZ260: 김치-4 | HEA260: 백김치 | HEB260: 모든재료국산사용 | HEC260: kg | HED260: 국산 | HEE260: 30 | HEG260: 김치 | HEH260: 김치-4 | HEI260: 백김치 | HEJ260: 모든재료국산사용 | HEK260: kg | HEL260: 국산 | HEM260: 30 | HEO260: 김치 | HEP260: 김치-4 | HEQ260: 백김치 | HER260: 모든재료국산사용 | HES260: kg | HET260: 국산 | HEU260: 30 | HEW260: 김치 | HEX260: 김치-4 | HEY260: 백김치 | HEZ260: 모든재료국산사용 | HFA260: kg | HFB260: 국산 | HFC260: 30 | HFE260: 김치 | HFF260: 김치-4 | HFG260: 백김치 | HFH260: 모든재료국산사용 | HFI260: kg | HFJ260: 국산 | HFK260: 30 | HFM260: 김치 | HFN260: 김치-4 | HFO260: 백김치 | HFP260: 모든재료국산사용 | HFQ260: kg | HFR260: 국산 | HFS260: 30 | HFU260: 김치 | HFV260: 김치-4 | HFW260: 백김치 | HFX260: 모든재료국산사용 | HFY260: kg | HFZ260: 국산 | HGA260: 30 | HGC260: 김치 | HGD260: 김치-4 | HGE260: 백김치 | HGF260: 모든재료국산사용 | HGG260: kg | HGH260: 국산 | HGI260: 30 | HGK260: 김치 | HGL260: 김치-4 | HGM260: 백김치 | HGN260: 모든재료국산사용 | HGO260: kg | HGP260: 국산 | HGQ260: 30 | HGS260: 김치 | HGT260: 김치-4 | HGU260: 백김치 | HGV260: 모든재료국산사용 | HGW260: kg | HGX260: 국산 | HGY260: 30 | HHA260: 김치 | HHB260: 김치-4 | HHC260: 백김치 | HHD260: 모든재료국산사용 | HHE260: kg | HHF260: 국산 | HHG260: 30 | HHI260: 김치 | HHJ260: 김치-4 | HHK260: 백김치 | HHL260: 모든재료국산사용 | HHM260: kg | HHN260: 국산 | HHO260: 30 | HHQ260: 김치 | HHR260: 김치-4 | HHS260: 백김치 | HHT260: 모든재료국산사용 | HHU260: kg | HHV260: 국산 | HHW260: 30 | HHY260: 김치 | HHZ260: 김치-4 | HIA260: 백김치 | HIB260: 모든재료국산사용 | HIC260: kg | HID260: 국산 | HIE260: 30 | HIG260: 김치 | HIH260: 김치-4 | HII260: 백김치 | HIJ260: 모든재료국산사용 | HIK260: kg | HIL260: 국산 | HIM260: 30 | HIO260: 김치 | HIP260: 김치-4 | HIQ260: 백김치 | HIR260: 모든재료국산사용 | HIS260: kg | HIT260: 국산 | HIU260: 30 | HIW260: 김치 | HIX260: 김치-4 | HIY260: 백김치 | HIZ260: 모든재료국산사용 | HJA260: kg | HJB260: 국산 | HJC260: 30 | HJE260: 김치 | HJF260: 김치-4 | HJG260: 백김치 | HJH260: 모든재료국산사용 | HJI260: kg | HJJ260: 국산 | HJK260: 30 | HJM260: 김치 | HJN260: 김치-4 | HJO260: 백김치 | HJP260: 모든재료국산사용 | HJQ260: kg | HJR260: 국산 | HJS260: 30 | HJU260: 김치 | HJV260: 김치-4 | HJW260: 백김치 | HJX260: 모든재료국산사용 | HJY260: kg | HJZ260: 국산 | HKA260: 30 | HKC260: 김치 | HKD260: 김치-4 | HKE260: 백김치 | HKF260: 모든재료국산사용 | HKG260: kg | HKH260: 국산 | HKI260: 30 | HKK260: 김치 | HKL260: 김치-4 | HKM260: 백김치 | HKN260: 모든재료국산사용 | HKO260: kg | HKP260: 국산 | HKQ260: 30 | HKS260: 김치 | HKT260: 김치-4 | HKU260: 백김치 | HKV260: 모든재료국산사용 | HKW260: kg | HKX260: 국산 | HKY260: 30 | HLA260: 김치 | HLB260: 김치-4 | HLC260: 백김치 | HLD260: 모든재료국산사용 | HLE260: kg | HLF260: 국산 | HLG260: 30 | HLI260: 김치 | HLJ260: 김치-4 | HLK260: 백김치 | HLL260: 모든재료국산사용 | HLM260: kg | HLN260: 국산 | HLO260: 30 | HLQ260: 김치 | HLR260: 김치-4 | HLS260: 백김치 | HLT260: 모든재료국산사용 | HLU260: kg | HLV260: 국산 | HLW260: 30 | HLY260: 김치 | HLZ260: 김치-4 | HMA260: 백김치 | HMB260: 모든재료국산사용 | HMC260: kg | HMD260: 국산 | HME260: 30 | HMG260: 김치 | HMH260: 김치-4 | HMI260: 백김치 | HMJ260: 모든재료국산사용 | HMK260: kg | HML260: 국산 | HMM260: 30 | HMO260: 김치 | HMP260: 김치-4 | HMQ260: 백김치 | HMR260: 모든재료국산사용 | HMS260: kg | HMT260: 국산 | HMU260: 30 | HMW260: 김치 | HMX260: 김치-4 | HMY260: 백김치 | HMZ260: 모든재료국산사용 | HNA260: kg | HNB260: 국산 | HNC260: 30 | HNE260: 김치 | HNF260: 김치-4 | HNG260: 백김치 | HNH260: 모든재료국산사용 | HNI260: kg | HNJ260: 국산 | HNK260: 30 | HNM260: 김치 | HNN260: 김치-4 | HNO260: 백김치 | HNP260: 모든재료국산사용 | HNQ260: kg | HNR260: 국산 | HNS260: 30 | HNU260: 김치 | HNV260: 김치-4 | HNW260: 백김치 | HNX260: 모든재료국산사용 | HNY260: kg | HNZ260: 국산 | HOA260: 30 | HOC260: 김치 | HOD260: 김치-4 | HOE260: 백김치 | HOF260: 모든재료국산사용 | HOG260: kg | HOH260: 국산 | HOI260: 30 | HOK260: 김치 | HOL260: 김치-4 | HOM260: 백김치 | HON260: 모든재료국산사용 | HOO260: kg | HOP260: 국산 | HOQ260: 30 | HOS260: 김치 | HOT260: 김치-4 | HOU260: 백김치 | HOV260: 모든재료국산사용 | HOW260: kg | HOX260: 국산 | HOY260: 30 | HPA260: 김치 | HPB260: 김치-4 | HPC260: 백김치 | HPD260: 모든재료국산사용 | HPE260: kg | HPF260: 국산 | HPG260: 30 | HPI260: 김치 | HPJ260: 김치-4 | HPK260: 백김치 | HPL260: 모든재료국산사용 | HPM260: kg | HPN260: 국산 | HPO260: 30 | HPQ260: 김치 | HPR260: 김치-4 | HPS260: 백김치 | HPT260: 모든재료국산사용 | HPU260: kg | HPV260: 국산 | HPW260: 30 | HPY260: 김치 | HPZ260: 김치-4 | HQA260: 백김치 | HQB260: 모든재료국산사용 | HQC260: kg | HQD260: 국산 | HQE260: 30 | HQG260: 김치 | HQH260: 김치-4 | HQI260: 백김치 | HQJ260: 모든재료국산사용 | HQK260: kg | HQL260: 국산 | HQM260: 30 | HQO260: 김치 | HQP260: 김치-4 | HQQ260: 백김치 | HQR260: 모든재료국산사용 | HQS260: kg | HQT260: 국산 | HQU260: 30 | HQW260: 김치 | HQX260: 김치-4 | HQY260: 백김치 | HQZ260: 모든재료국산사용 | HRA260: kg | HRB260: 국산 | HRC260: 30 | HRE260: 김치 | HRF260: 김치-4 | HRG260: 백김치 | HRH260: 모든재료국산사용 | HRI260: kg | HRJ260: 국산 | HRK260: 30 | HRM260: 김치 | HRN260: 김치-4 | HRO260: 백김치 | HRP260: 모든재료국산사용 | HRQ260: kg | HRR260: 국산 | HRS260: 30 | HRU260: 김치 | HRV260: 김치-4 | HRW260: 백김치 | HRX260: 모든재료국산사용 | HRY260: kg | HRZ260: 국산 | HSA260: 30 | HSC260: 김치 | HSD260: 김치-4 | HSE260: 백김치 | HSF260: 모든재료국산사용 | HSG260: kg | HSH260: 국산 | HSI260: 30 | HSK260: 김치 | HSL260: 김치-4 | HSM260: 백김치 | HSN260: 모든재료국산사용 | HSO260: kg | HSP260: 국산 | HSQ260: 30 | HSS260: 김치 | HST260: 김치-4 | HSU260: 백김치 | HSV260: 모든재료국산사용 | HSW260: kg | HSX260: 국산 | HSY260: 30 | HTA260: 김치 | HTB260: 김치-4 | HTC260: 백김치 | HTD260: 모든재료국산사용 | HTE260: kg | HTF260: 국산 | HTG260: 30 | HTI260: 김치 | HTJ260: 김치-4 | HTK260: 백김치 | HTL260: 모든재료국산사용 | HTM260: kg | HTN260: 국산 | HTO260: 30 | HTQ260: 김치 | HTR260: 김치-4 | HTS260: 백김치 | HTT260: 모든재료국산사용 | HTU260: kg | HTV260: 국산 | HTW260: 30 | HTY260: 김치 | HTZ260: 김치-4 | HUA260: 백김치 | HUB260: 모든재료국산사용 | HUC260: kg | HUD260: 국산 | HUE260: 30 | HUG260: 김치 | HUH260: 김치-4 | HUI260: 백김치 | HUJ260: 모든재료국산사용 | HUK260: kg | HUL260: 국산 | HUM260: 30 | HUO260: 김치 | HUP260: 김치-4 | HUQ260: 백김치 | HUR260: 모든재료국산사용 | HUS260: kg | HUT260: 국산 | HUU260: 30 | HUW260: 김치 | HUX260: 김치-4 | HUY260: 백김치 | HUZ260: 모든재료국산사용 | HVA260: kg | HVB260: 국산 | HVC260: 30 | HVE260: 김치 | HVF260: 김치-4 | HVG260: 백김치 | HVH260: 모든재료국산사용 | HVI260: kg | HVJ260: 국산 | HVK260: 30 | HVM260: 김치 | HVN260: 김치-4 | HVO260: 백김치 | HVP260: 모든재료국산사용 | HVQ260: kg | HVR260: 국산 | HVS260: 30 | HVU260: 김치 | HVV260: 김치-4 | HVW260: 백김치 | HVX260: 모든재료국산사용 | HVY260: kg | HVZ260: 국산 | HWA260: 30 | HWC260: 김치 | HWD260: 김치-4 | HWE260: 백김치 | HWF260: 모든재료국산사용 | HWG260: kg | HWH260: 국산 | HWI260: 30 | HWK260: 김치 | HWL260: 김치-4 | HWM260: 백김치 | HWN260: 모든재료국산사용 | HWO260: kg | HWP260: 국산 | HWQ260: 30 | HWS260: 김치 | HWT260: 김치-4 | HWU260: 백김치 | HWV260: 모든재료국산사용 | HWW260: kg | HWX260: 국산 | HWY260: 30 | HXA260: 김치 | HXB260: 김치-4 | HXC260: 백김치 | HXD260: 모든재료국산사용 | HXE260: kg | HXF260: 국산 | HXG260: 30 | HXI260: 김치 | HXJ260: 김치-4 | HXK260: 백김치 | HXL260: 모든재료국산사용 | HXM260: kg | HXN260: 국산 | HXO260: 30 | HXQ260: 김치 | HXR260: 김치-4 | HXS260: 백김치 | HXT260: 모든재료국산사용 | HXU260: kg | HXV260: 국산 | HXW260: 30 | HXY260: 김치 | HXZ260: 김치-4 | HYA260: 백김치 | HYB260: 모든재료국산사용 | HYC260: kg | HYD260: 국산 | HYE260: 30 | HYG260: 김치 | HYH260: 김치-4 | HYI260: 백김치 | HYJ260: 모든재료국산사용 | HYK260: kg | HYL260: 국산 | HYM260: 30 | HYO260: 김치 | HYP260: 김치-4 | HYQ260: 백김치 | HYR260: 모든재료국산사용 | HYS260: kg | HYT260: 국산 | HYU260: 30 | HYW260: 김치 | HYX260: 김치-4 | HYY260: 백김치 | HYZ260: 모든재료국산사용 | HZA260: kg | HZB260: 국산 | HZC260: 30 | HZE260: 김치 | HZF260: 김치-4 | HZG260: 백김치 | HZH260: 모든재료국산사용 | HZI260: kg | HZJ260: 국산 | HZK260: 30 | HZM260: 김치 | HZN260: 김치-4 | HZO260: 백김치 | HZP260: 모든재료국산사용 | HZQ260: kg | HZR260: 국산 | HZS260: 30 | HZU260: 김치 | HZV260: 김치-4 | HZW260: 백김치 | HZX260: 모든재료국산사용 | HZY260: kg | HZZ260: 국산 | IAA260: 30 | IAC260: 김치 | IAD260: 김치-4 | IAE260: 백김치 | IAF260: 모든재료국산사용 | IAG260: kg | IAH260: 국산 | IAI260: 30 | IAK260: 김치 | IAL260: 김치-4 | IAM260: 백김치 | IAN260: 모든재료국산사용 | IAO260: kg | IAP260: 국산 | IAQ260: 30 | IAS260: 김치 | IAT260: 김치-4 | IAU260: 백김치 | IAV260: 모든재료국산사용 | IAW260: kg | IAX260: 국산 | IAY260: 30 | IBA260: 김치 | IBB260: 김치-4 | IBC260: 백김치 | IBD260: 모든재료국산사용 | IBE260: kg | IBF260: 국산 | IBG260: 30 | IBI260: 김치 | IBJ260: 김치-4 | IBK260: 백김치 | IBL260: 모든재료국산사용 | IBM260: kg | IBN260: 국산 | IBO260: 30 | IBQ260: 김치 | IBR260: 김치-4 | IBS260: 백김치 | IBT260: 모든재료국산사용 | IBU260: kg | IBV260: 국산 | IBW260: 30 | IBY260: 김치 | IBZ260: 김치-4 | ICA260: 백김치 | ICB260: 모든재료국산사용 | ICC260: kg | ICD260: 국산 | ICE260: 30 | ICG260: 김치 | ICH260: 김치-4 | ICI260: 백김치 | ICJ260: 모든재료국산사용 | ICK260: kg | ICL260: 국산 | ICM260: 30 | ICO260: 김치 | ICP260: 김치-4 | ICQ260: 백김치 | ICR260: 모든재료국산사용 | ICS260: kg | ICT260: 국산 | ICU260: 30 | ICW260: 김치 | ICX260: 김치-4 | ICY260: 백김치 | ICZ260: 모든재료국산사용 | IDA260: kg | IDB260: 국산 | IDC260: 30 | IDE260: 김치 | IDF260: 김치-4 | IDG260: 백김치 | IDH260: 모든재료국산사용 | IDI260: kg | IDJ260: 국산 | IDK260: 30 | IDM260: 김치 | IDN260: 김치-4 | IDO260: 백김치 | IDP260: 모든재료국산사용 | IDQ260: kg | IDR260: 국산 | IDS260: 30 | IDU260: 김치 | IDV260: 김치-4 | IDW260: 백김치 | IDX260: 모든재료국산사용 | IDY260: kg | IDZ260: 국산 | IEA260: 30 | IEC260: 김치 | IED260: 김치-4 | IEE260: 백김치 | IEF260: 모든재료국산사용 | IEG260: kg | IEH260: 국산 | IEI260: 30 | IEK260: 김치 | IEL260: 김치-4 | IEM260: 백김치 | IEN260: 모든재료국산사용 | IEO260: kg | IEP260: 국산 | IEQ260: 30 | IES260: 김치 | IET260: 김치-4 | IEU260: 백김치 | IEV260: 모든재료국산사용 | IEW260: kg | IEX260: 국산 | IEY260: 30 | IFA260: 김치 | IFB260: 김치-4 | IFC260: 백김치 | IFD260: 모든재료국산사용 | IFE260: kg | IFF260: 국산 | IFG260: 30 | IFI260: 김치 | IFJ260: 김치-4 | IFK260: 백김치 | IFL260: 모든재료국산사용 | IFM260: kg | IFN260: 국산 | IFO260: 30 | IFQ260: 김치 | IFR260: 김치-4 | IFS260: 백김치 | IFT260: 모든재료국산사용 | IFU260: kg | IFV260: 국산 | IFW260: 30 | IFY260: 김치 | IFZ260: 김치-4 | IGA260: 백김치 | IGB260: 모든재료국산사용 | IGC260: kg | IGD260: 국산 | IGE260: 30 | IGG260: 김치 | IGH260: 김치-4 | IGI260: 백김치 | IGJ260: 모든재료국산사용 | IGK260: kg | IGL260: 국산 | IGM260: 30 | IGO260: 김치 | IGP260: 김치-4 | IGQ260: 백김치 | IGR260: 모든재료국산사용 | IGS260: kg | IGT260: 국산 | IGU260: 30 | IGW260: 김치 | IGX260: 김치-4 | IGY260: 백김치 | IGZ260: 모든재료국산사용 | IHA260: kg | IHB260: 국산 | IHC260: 30 | IHE260: 김치 | IHF260: 김치-4 | IHG260: 백김치 | IHH260: 모든재료국산사용 | IHI260: kg | IHJ260: 국산 | IHK260: 30 | IHM260: 김치 | IHN260: 김치-4 | IHO260: 백김치 | IHP260: 모든재료국산사용 | IHQ260: kg | IHR260: 국산 | IHS260: 30 | IHU260: 김치 | IHV260: 김치-4 | IHW260: 백김치 | IHX260: 모든재료국산사용 | IHY260: kg | IHZ260: 국산 | IIA260: 30 | IIC260: 김치 | IID260: 김치-4 | IIE260: 백김치 | IIF260: 모든재료국산사용 | IIG260: kg | IIH260: 국산 | III260: 30 | IIK260: 김치 | IIL260: 김치-4 | IIM260: 백김치 | IIN260: 모든재료국산사용 | IIO260: kg | IIP260: 국산 | IIQ260: 30 | IIS260: 김치 | IIT260: 김치-4 | IIU260: 백김치 | IIV260: 모든재료국산사용 | IIW260: kg | IIX260: 국산 | IIY260: 30 | IJA260: 김치 | IJB260: 김치-4 | IJC260: 백김치 | IJD260: 모든재료국산사용 | IJE260: kg | IJF260: 국산 | IJG260: 30 | IJI260: 김치 | IJJ260: 김치-4 | IJK260: 백김치 | IJL260: 모든재료국산사용 | IJM260: kg | IJN260: 국산 | IJO260: 30 | IJQ260: 김치 | IJR260: 김치-4 | IJS260: 백김치 | IJT260: 모든재료국산사용 | IJU260: kg | IJV260: 국산 | IJW260: 30 | IJY260: 김치 | IJZ260: 김치-4 | IKA260: 백김치 | IKB260: 모든재료국산사용 | IKC260: kg | IKD260: 국산 | IKE260: 30 | IKG260: 김치 | IKH260: 김치-4 | IKI260: 백김치 | IKJ260: 모든재료국산사용 | IKK260: kg | IKL260: 국산 | IKM260: 30 | IKO260: 김치 | IKP260: 김치-4 | IKQ260: 백김치 | IKR260: 모든재료국산사용 | IKS260: kg | IKT260: 국산 | IKU260: 30 | IKW260: 김치 | IKX260: 김치-4 | IKY260: 백김치 | IKZ260: 모든재료국산사용 | ILA260: kg | ILB260: 국산 | ILC260: 30 | ILE260: 김치 | ILF260: 김치-4 | ILG260: 백김치 | ILH260: 모든재료국산사용 | ILI260: kg | ILJ260: 국산 | ILK260: 30 | ILM260: 김치 | ILN260: 김치-4 | ILO260: 백김치 | ILP260: 모든재료국산사용 | ILQ260: kg | ILR260: 국산 | ILS260: 30 | ILU260: 김치 | ILV260: 김치-4 | ILW260: 백김치 | ILX260: 모든재료국산사용 | ILY260: kg | ILZ260: 국산 | IMA260: 30 | IMC260: 김치 | IMD260: 김치-4 | IME260: 백김치 | IMF260: 모든재료국산사용 | IMG260: kg | IMH260: 국산 | IMI260: 30 | IMK260: 김치 | IML260: 김치-4 | IMM260: 백김치 | IMN260: 모든재료국산사용 | IMO260: kg | IMP260: 국산 | IMQ260: 30 | IMS260: 김치 | IMT260: 김치-4 | IMU260: 백김치 | IMV260: 모든재료국산사용 | IMW260: kg | IMX260: 국산 | IMY260: 30 | INA260: 김치 | INB260: 김치-4 | INC260: 백김치 | IND260: 모든재료국산사용 | INE260: kg | INF260: 국산 | ING260: 30 | INI260: 김치 | INJ260: 김치-4 | INK260: 백김치 | INL260: 모든재료국산사용 | INM260: kg | INN260: 국산 | INO260: 30 | INQ260: 김치 | INR260: 김치-4 | INS260: 백김치 | INT260: 모든재료국산사용 | INU260: kg | INV260: 국산 | INW260: 30 | INY260: 김치 | INZ260: 김치-4 | IOA260: 백김치 | IOB260: 모든재료국산사용 | IOC260: kg | IOD260: 국산 | IOE260: 30 | IOG260: 김치 | IOH260: 김치-4 | IOI260: 백김치 | IOJ260: 모든재료국산사용 | IOK260: kg | IOL260: 국산 | IOM260: 30 | IOO260: 김치 | IOP260: 김치-4 | IOQ260: 백김치 | IOR260: 모든재료국산사용 | IOS260: kg | IOT260: 국산 | IOU260: 30 | IOW260: 김치 | IOX260: 김치-4 | IOY260: 백김치 | IOZ260: 모든재료국산사용 | IPA260: kg | IPB260: 국산 | IPC260: 30 | IPE260: 김치 | IPF260: 김치-4 | IPG260: 백김치 | IPH260: 모든재료국산사용 | IPI260: kg | IPJ260: 국산 | IPK260: 30 | IPM260: 김치 | IPN260: 김치-4 | IPO260: 백김치 | IPP260: 모든재료국산사용 | IPQ260: kg | IPR260: 국산 | IPS260: 30 | IPU260: 김치 | IPV260: 김치-4 | IPW260: 백김치 | IPX260: 모든재료국산사용 | IPY260: kg | IPZ260: 국산 | IQA260: 30 | IQC260: 김치 | IQD260: 김치-4 | IQE260: 백김치 | IQF260: 모든재료국산사용 | IQG260: kg | IQH260: 국산 | IQI260: 30 | IQK260: 김치 | IQL260: 김치-4 | IQM260: 백김치 | IQN260: 모든재료국산사용 | IQO260: kg | IQP260: 국산 | IQQ260: 30 | IQS260: 김치 | IQT260: 김치-4 | IQU260: 백김치 | IQV260: 모든재료국산사용 | IQW260: kg | IQX260: 국산 | IQY260: 30 | IRA260: 김치 | IRB260: 김치-4 | IRC260: 백김치 | IRD260: 모든재료국산사용 | IRE260: kg | IRF260: 국산 | IRG260: 30 | IRI260: 김치 | IRJ260: 김치-4 | IRK260: 백김치 | IRL260: 모든재료국산사용 | IRM260: kg | IRN260: 국산 | IRO260: 30 | IRQ260: 김치 | IRR260: 김치-4 | IRS260: 백김치 | IRT260: 모든재료국산사용 | IRU260: kg | IRV260: 국산 | IRW260: 30 | IRY260: 김치 | IRZ260: 김치-4 | ISA260: 백김치 | ISB260: 모든재료국산사용 | ISC260: kg | ISD260: 국산 | ISE260: 30 | ISG260: 김치 | ISH260: 김치-4 | ISI260: 백김치 | ISJ260: 모든재료국산사용 | ISK260: kg | ISL260: 국산 | ISM260: 30 | ISO260: 김치 | ISP260: 김치-4 | ISQ260: 백김치 | ISR260: 모든재료국산사용 | ISS260: kg | IST260: 국산 | ISU260: 30 | ISW260: 김치 | ISX260: 김치-4 | ISY260: 백김치 | ISZ260: 모든재료국산사용 | ITA260: kg | ITB260: 국산 | ITC260: 30 | ITE260: 김치 | ITF260: 김치-4 | ITG260: 백김치 | ITH260: 모든재료국산사용 | ITI260: kg | ITJ260: 국산 | ITK260: 30 | ITM260: 김치 | ITN260: 김치-4 | ITO260: 백김치 | ITP260: 모든재료국산사용 | ITQ260: kg | ITR260: 국산 | ITS260: 30 | ITU260: 김치 | ITV260: 김치-4 | ITW260: 백김치 | ITX260: 모든재료국산사용 | ITY260: kg | ITZ260: 국산 | IUA260: 30 | IUC260: 김치 | IUD260: 김치-4 | IUE260: 백김치 | IUF260: 모든재료국산사용 | IUG260: kg | IUH260: 국산 | IUI260: 30 | IUK260: 김치 | IUL260: 김치-4 | IUM260: 백김치 | IUN260: 모든재료국산사용 | IUO260: kg | IUP260: 국산 | IUQ260: 30 | IUS260: 김치 | IUT260: 김치-4 | IUU260: 백김치 | IUV260: 모든재료국산사용 | IUW260: kg | IUX260: 국산 | IUY260: 30 | IVA260: 김치 | IVB260: 김치-4 | IVC260: 백김치 | IVD260: 모든재료국산사용 | IVE260: kg | IVF260: 국산 | IVG260: 30 | IVI260: 김치 | IVJ260: 김치-4 | IVK260: 백김치 | IVL260: 모든재료국산사용 | IVM260: kg | IVN260: 국산 | IVO260: 30 | IVQ260: 김치 | IVR260: 김치-4 | IVS260: 백김치 | IVT260: 모든재료국산사용 | IVU260: kg | IVV260: 국산 | IVW260: 30 | IVY260: 김치 | IVZ260: 김치-4 | IWA260: 백김치 | IWB260: 모든재료국산사용 | IWC260: kg | IWD260: 국산 | IWE260: 30 | IWG260: 김치 | IWH260: 김치-4 | IWI260: 백김치 | IWJ260: 모든재료국산사용 | IWK260: kg | IWL260: 국산 | IWM260: 30 | IWO260: 김치 | IWP260: 김치-4 | IWQ260: 백김치 | IWR260: 모든재료국산사용 | IWS260: kg | IWT260: 국산 | IWU260: 30 | IWW260: 김치 | IWX260: 김치-4 | IWY260: 백김치 | IWZ260: 모든재료국산사용 | IXA260: kg | IXB260: 국산 | IXC260: 30 | IXE260: 김치 | IXF260: 김치-4 | IXG260: 백김치 | IXH260: 모든재료국산사용 | IXI260: kg | IXJ260: 국산 | IXK260: 30 | IXM260: 김치 | IXN260: 김치-4 | IXO260: 백김치 | IXP260: 모든재료국산사용 | IXQ260: kg | IXR260: 국산 | IXS260: 30 | IXU260: 김치 | IXV260: 김치-4 | IXW260: 백김치 | IXX260: 모든재료국산사용 | IXY260: kg | IXZ260: 국산 | IYA260: 30 | IYC260: 김치 | IYD260: 김치-4 | IYE260: 백김치 | IYF260: 모든재료국산사용 | IYG260: kg | IYH260: 국산 | IYI260: 30 | IYK260: 김치 | IYL260: 김치-4 | IYM260: 백김치 | IYN260: 모든재료국산사용 | IYO260: kg | IYP260: 국산 | IYQ260: 30 | IYS260: 김치 | IYT260: 김치-4 | IYU260: 백김치 | IYV260: 모든재료국산사용 | IYW260: kg | IYX260: 국산 | IYY260: 30 | IZA260: 김치 | IZB260: 김치-4 | IZC260: 백김치 | IZD260: 모든재료국산사용 | IZE260: kg | IZF260: 국산 | IZG260: 30 | IZI260: 김치 | IZJ260: 김치-4 | IZK260: 백김치 | IZL260: 모든재료국산사용 | IZM260: kg | IZN260: 국산 | IZO260: 30 | IZQ260: 김치 | IZR260: 김치-4 | IZS260: 백김치 | IZT260: 모든재료국산사용 | IZU260: kg | IZV260: 국산 | IZW260: 30 | IZY260: 김치 | IZZ260: 김치-4 | JAA260: 백김치 | JAB260: 모든재료국산사용 | JAC260: kg | JAD260: 국산 | JAE260: 30 | JAG260: 김치 | JAH260: 김치-4 | JAI260: 백김치 | JAJ260: 모든재료국산사용 | JAK260: kg | JAL260: 국산 | JAM260: 30 | JAO260: 김치 | JAP260: 김치-4 | JAQ260: 백김치 | JAR260: 모든재료국산사용 | JAS260: kg | JAT260: 국산 | JAU260: 30 | JAW260: 김치 | JAX260: 김치-4 | JAY260: 백김치 | JAZ260: 모든재료국산사용 | JBA260: kg | JBB260: 국산 | JBC260: 30 | JBE260: 김치 | JBF260: 김치-4 | JBG260: 백김치 | JBH260: 모든재료국산사용 | JBI260: kg | JBJ260: 국산 | JBK260: 30 | JBM260: 김치 | JBN260: 김치-4 | JBO260: 백김치 | JBP260: 모든재료국산사용 | JBQ260: kg | JBR260: 국산 | JBS260: 30 | JBU260: 김치 | JBV260: 김치-4 | JBW260: 백김치 | JBX260: 모든재료국산사용 | JBY260: kg | JBZ260: 국산 | JCA260: 30 | JCC260: 김치 | JCD260: 김치-4 | JCE260: 백김치 | JCF260: 모든재료국산사용 | JCG260: kg | JCH260: 국산 | JCI260: 30 | JCK260: 김치 | JCL260: 김치-4 | JCM260: 백김치 | JCN260: 모든재료국산사용 | JCO260: kg | JCP260: 국산 | JCQ260: 30 | JCS260: 김치 | JCT260: 김치-4 | JCU260: 백김치 | JCV260: 모든재료국산사용 | JCW260: kg | JCX260: 국산 | JCY260: 30 | JDA260: 김치 | JDB260: 김치-4 | JDC260: 백김치 | JDD260: 모든재료국산사용 | JDE260: kg | JDF260: 국산 | JDG260: 30 | JDI260: 김치 | JDJ260: 김치-4 | JDK260: 백김치 | JDL260: 모든재료국산사용 | JDM260: kg | JDN260: 국산 | JDO260: 30 | JDQ260: 김치 | JDR260: 김치-4 | JDS260: 백김치 | JDT260: 모든재료국산사용 | JDU260: kg | JDV260: 국산 | JDW260: 30 | JDY260: 김치 | JDZ260: 김치-4 | JEA260: 백김치 | JEB260: 모든재료국산사용 | JEC260: kg | JED260: 국산 | JEE260: 30 | JEG260: 김치 | JEH260: 김치-4 | JEI260: 백김치 | JEJ260: 모든재료국산사용 | JEK260: kg | JEL260: 국산 | JEM260: 30 | JEO260: 김치 | JEP260: 김치-4 | JEQ260: 백김치 | JER260: 모든재료국산사용 | JES260: kg | JET260: 국산 | JEU260: 30 | JEW260: 김치 | JEX260: 김치-4 | JEY260: 백김치 | JEZ260: 모든재료국산사용 | JFA260: kg | JFB260: 국산 | JFC260: 30 | JFE260: 김치 | JFF260: 김치-4 | JFG260: 백김치 | JFH260: 모든재료국산사용 | JFI260: kg | JFJ260: 국산 | JFK260: 30 | JFM260: 김치 | JFN260: 김치-4 | JFO260: 백김치 | JFP260: 모든재료국산사용 | JFQ260: kg | JFR260: 국산 | JFS260: 30 | JFU260: 김치 | JFV260: 김치-4 | JFW260: 백김치 | JFX260: 모든재료국산사용 | JFY260: kg | JFZ260: 국산 | JGA260: 30 | JGC260: 김치 | JGD260: 김치-4 | JGE260: 백김치 | JGF260: 모든재료국산사용 | JGG260: kg | JGH260: 국산 | JGI260: 30 | JGK260: 김치 | JGL260: 김치-4 | JGM260: 백김치 | JGN260: 모든재료국산사용 | JGO260: kg | JGP260: 국산 | JGQ260: 30 | JGS260: 김치 | JGT260: 김치-4 | JGU260: 백김치 | JGV260: 모든재료국산사용 | JGW260: kg | JGX260: 국산 | JGY260: 30 | JHA260: 김치 | JHB260: 김치-4 | JHC260: 백김치 | JHD260: 모든재료국산사용 | JHE260: kg | JHF260: 국산 | JHG260: 30 | JHI260: 김치 | JHJ260: 김치-4 | JHK260: 백김치 | JHL260: 모든재료국산사용 | JHM260: kg | JHN260: 국산 | JHO260: 30 | JHQ260: 김치 | JHR260: 김치-4 | JHS260: 백김치 | JHT260: 모든재료국산사용 | JHU260: kg | JHV260: 국산 | JHW260: 30 | JHY260: 김치 | JHZ260: 김치-4 | JIA260: 백김치 | JIB260: 모든재료국산사용 | JIC260: kg | JID260: 국산 | JIE260: 30 | JIG260: 김치 | JIH260: 김치-4 | JII260: 백김치 | JIJ260: 모든재료국산사용 | JIK260: kg | JIL260: 국산 | JIM260: 30 | JIO260: 김치 | JIP260: 김치-4 | JIQ260: 백김치 | JIR260: 모든재료국산사용 | JIS260: kg | JIT260: 국산 | JIU260: 30 | JIW260: 김치 | JIX260: 김치-4 | JIY260: 백김치 | JIZ260: 모든재료국산사용 | JJA260: kg | JJB260: 국산 | JJC260: 30 | JJE260: 김치 | JJF260: 김치-4 | JJG260: 백김치 | JJH260: 모든재료국산사용 | JJI260: kg | JJJ260: 국산 | JJK260: 30 | JJM260: 김치 | JJN260: 김치-4 | JJO260: 백김치 | JJP260: 모든재료국산사용 | JJQ260: kg | JJR260: 국산 | JJS260: 30 | JJU260: 김치 | JJV260: 김치-4 | JJW260: 백김치 | JJX260: 모든재료국산사용 | JJY260: kg | JJZ260: 국산 | JKA260: 30 | JKC260: 김치 | JKD260: 김치-4 | JKE260: 백김치 | JKF260: 모든재료국산사용 | JKG260: kg | JKH260: 국산 | JKI260: 30 | JKK260: 김치 | JKL260: 김치-4 | JKM260: 백김치 | JKN260: 모든재료국산사용 | JKO260: kg | JKP260: 국산 | JKQ260: 30 | JKS260: 김치 | JKT260: 김치-4 | JKU260: 백김치 | JKV260: 모든재료국산사용 | JKW260: kg | JKX260: 국산 | JKY260: 30 | JLA260: 김치 | JLB260: 김치-4 | JLC260: 백김치 | JLD260: 모든재료국산사용 | JLE260: kg | JLF260: 국산 | JLG260: 30 | JLI260: 김치 | JLJ260: 김치-4 | JLK260: 백김치 | JLL260: 모든재료국산사용 | JLM260: kg | JLN260: 국산 | JLO260: 30 | JLQ260: 김치 | JLR260: 김치-4 | JLS260: 백김치 | JLT260: 모든재료국산사용 | JLU260: kg | JLV260: 국산 | JLW260: 30 | JLY260: 김치 | JLZ260: 김치-4 | JMA260: 백김치 | JMB260: 모든재료국산사용 | JMC260: kg | JMD260: 국산 | JME260: 30 | JMG260: 김치 | JMH260: 김치-4 | JMI260: 백김치 | JMJ260: 모든재료국산사용 | JMK260: kg | JML260: 국산 | JMM260: 30 | JMO260: 김치 | JMP260: 김치-4 | JMQ260: 백김치 | JMR260: 모든재료국산사용 | JMS260: kg | JMT260: 국산 | JMU260: 30 | JMW260: 김치 | JMX260: 김치-4 | JMY260: 백김치 | JMZ260: 모든재료국산사용 | JNA260: kg | JNB260: 국산 | JNC260: 30 | JNE260: 김치 | JNF260: 김치-4 | JNG260: 백김치 | JNH260: 모든재료국산사용 | JNI260: kg | JNJ260: 국산 | JNK260: 30 | JNM260: 김치 | JNN260: 김치-4 | JNO260: 백김치 | JNP260: 모든재료국산사용 | JNQ260: kg | JNR260: 국산 | JNS260: 30 | JNU260: 김치 | JNV260: 김치-4 | JNW260: 백김치 | JNX260: 모든재료국산사용 | JNY260: kg | JNZ260: 국산 | JOA260: 30 | JOC260: 김치 | JOD260: 김치-4 | JOE260: 백김치 | JOF260: 모든재료국산사용 | JOG260: kg | JOH260: 국산 | JOI260: 30 | JOK260: 김치 | JOL260: 김치-4 | JOM260: 백김치 | JON260: 모든재료국산사용 | JOO260: kg | JOP260: 국산 | JOQ260: 30 | JOS260: 김치 | JOT260: 김치-4 | JOU260: 백김치 | JOV260: 모든재료국산사용 | JOW260: kg | JOX260: 국산 | JOY260: 30 | JPA260: 김치 | JPB260: 김치-4 | JPC260: 백김치 | JPD260: 모든재료국산사용 | JPE260: kg | JPF260: 국산 | JPG260: 30 | JPI260: 김치 | JPJ260: 김치-4 | JPK260: 백김치 | JPL260: 모든재료국산사용 | JPM260: kg | JPN260: 국산 | JPO260: 30 | JPQ260: 김치 | JPR260: 김치-4 | JPS260: 백김치 | JPT260: 모든재료국산사용 | JPU260: kg | JPV260: 국산 | JPW260: 30 | JPY260: 김치 | JPZ260: 김치-4 | JQA260: 백김치 | JQB260: 모든재료국산사용 | JQC260: kg | JQD260: 국산 | JQE260: 30 | JQG260: 김치 | JQH260: 김치-4 | JQI260: 백김치 | JQJ260: 모든재료국산사용 | JQK260: kg | JQL260: 국산 | JQM260: 30 | JQO260: 김치 | JQP260: 김치-4 | JQQ260: 백김치 | JQR260: 모든재료국산사용 | JQS260: kg | JQT260: 국산 | JQU260: 30 | JQW260: 김치 | JQX260: 김치-4 | JQY260: 백김치 | JQZ260: 모든재료국산사용 | JRA260: kg | JRB260: 국산 | JRC260: 30 | JRE260: 김치 | JRF260: 김치-4 | JRG260: 백김치 | JRH260: 모든재료국산사용 | JRI260: kg | JRJ260: 국산 | JRK260: 30 | JRM260: 김치 | JRN260: 김치-4 | JRO260: 백김치 | JRP260: 모든재료국산사용 | JRQ260: kg | JRR260: 국산 | JRS260: 30 | JRU260: 김치 | JRV260: 김치-4 | JRW260: 백김치 | JRX260: 모든재료국산사용 | JRY260: kg | JRZ260: 국산 | JSA260: 30 | JSC260: 김치 | JSD260: 김치-4 | JSE260: 백김치 | JSF260: 모든재료국산사용 | JSG260: kg | JSH260: 국산 | JSI260: 30 | JSK260: 김치 | JSL260: 김치-4 | JSM260: 백김치 | JSN260: 모든재료국산사용 | JSO260: kg | JSP260: 국산 | JSQ260: 30 | JSS260: 김치 | JST260: 김치-4 | JSU260: 백김치 | JSV260: 모든재료국산사용 | JSW260: kg | JSX260: 국산 | JSY260: 30 | JTA260: 김치 | JTB260: 김치-4 | JTC260: 백김치 | JTD260: 모든재료국산사용 | JTE260: kg | JTF260: 국산 | JTG260: 30 | JTI260: 김치 | JTJ260: 김치-4 | JTK260: 백김치 | JTL260: 모든재료국산사용 | JTM260: kg | JTN260: 국산 | JTO260: 30 | JTQ260: 김치 | JTR260: 김치-4 | JTS260: 백김치 | JTT260: 모든재료국산사용 | JTU260: kg | JTV260: 국산 | JTW260: 30 | JTY260: 김치 | JTZ260: 김치-4 | JUA260: 백김치 | JUB260: 모든재료국산사용 | JUC260: kg | JUD260: 국산 | JUE260: 30 | JUG260: 김치 | JUH260: 김치-4 | JUI260: 백김치 | JUJ260: 모든재료국산사용 | JUK260: kg | JUL260: 국산 | JUM260: 30 | JUO260: 김치 | JUP260: 김치-4 | JUQ260: 백김치 | JUR260: 모든재료국산사용 | JUS260: kg | JUT260: 국산 | JUU260: 30 | JUW260: 김치 | JUX260: 김치-4 | JUY260: 백김치 | JUZ260: 모든재료국산사용 | JVA260: kg | JVB260: 국산 | JVC260: 30 | JVE260: 김치 | JVF260: 김치-4 | JVG260: 백김치 | JVH260: 모든재료국산사용 | JVI260: kg | JVJ260: 국산 | JVK260: 30 | JVM260: 김치 | JVN260: 김치-4 | JVO260: 백김치 | JVP260: 모든재료국산사용 | JVQ260: kg | JVR260: 국산 | JVS260: 30 | JVU260: 김치 | JVV260: 김치-4 | JVW260: 백김치 | JVX260: 모든재료국산사용 | JVY260: kg | JVZ260: 국산 | JWA260: 30 | JWC260: 김치 | JWD260: 김치-4 | JWE260: 백김치 | JWF260: 모든재료국산사용 | JWG260: kg | JWH260: 국산 | JWI260: 30 | JWK260: 김치 | JWL260: 김치-4 | JWM260: 백김치 | JWN260: 모든재료국산사용 | JWO260: kg | JWP260: 국산 | JWQ260: 30 | JWS260: 김치 | JWT260: 김치-4 | JWU260: 백김치 | JWV260: 모든재료국산사용 | JWW260: kg | JWX260: 국산 | JWY260: 30 | JXA260: 김치 | JXB260: 김치-4 | JXC260: 백김치 | JXD260: 모든재료국산사용 | JXE260: kg | JXF260: 국산 | JXG260: 30 | JXI260: 김치 | JXJ260: 김치-4 | JXK260: 백김치 | JXL260: 모든재료국산사용 | JXM260: kg | JXN260: 국산 | JXO260: 30 | JXQ260: 김치 | JXR260: 김치-4 | JXS260: 백김치 | JXT260: 모든재료국산사용 | JXU260: kg | JXV260: 국산 | JXW260: 30 | JXY260: 김치 | JXZ260: 김치-4 | JYA260: 백김치 | JYB260: 모든재료국산사용 | JYC260: kg | JYD260: 국산 | JYE260: 30 | JYG260: 김치 | JYH260: 김치-4 | JYI260: 백김치 | JYJ260: 모든재료국산사용 | JYK260: kg | JYL260: 국산 | JYM260: 30 | JYO260: 김치 | JYP260: 김치-4 | JYQ260: 백김치 | JYR260: 모든재료국산사용 | JYS260: kg | JYT260: 국산 | JYU260: 30 | JYW260: 김치 | JYX260: 김치-4 | JYY260: 백김치 | JYZ260: 모든재료국산사용 | JZA260: kg | JZB260: 국산 | JZC260: 30 | JZE260: 김치 | JZF260: 김치-4 | JZG260: 백김치 | JZH260: 모든재료국산사용 | JZI260: kg | JZJ260: 국산 | JZK260: 30 | JZM260: 김치 | JZN260: 김치-4 | JZO260: 백김치 | JZP260: 모든재료국산사용 | JZQ260: kg | JZR260: 국산 | JZS260: 30 | JZU260: 김치 | JZV260: 김치-4 | JZW260: 백김치 | JZX260: 모든재료국산사용 | JZY260: kg | JZZ260: 국산 | KAA260: 30 | KAC260: 김치 | KAD260: 김치-4 | KAE260: 백김치 | KAF260: 모든재료국산사용 | KAG260: kg | KAH260: 국산 | KAI260: 30 | KAK260: 김치 | KAL260: 김치-4 | KAM260: 백김치 | KAN260: 모든재료국산사용 | KAO260: kg | KAP260: 국산 | KAQ260: 30 | KAS260: 김치 | KAT260: 김치-4 | KAU260: 백김치 | KAV260: 모든재료국산사용 | KAW260: kg | KAX260: 국산 | KAY260: 30 | KBA260: 김치 | KBB260: 김치-4 | KBC260: 백김치 | KBD260: 모든재료국산사용 | KBE260: kg | KBF260: 국산 | KBG260: 30 | KBI260: 김치 | KBJ260: 김치-4 | KBK260: 백김치 | KBL260: 모든재료국산사용 | KBM260: kg | KBN260: 국산 | KBO260: 30 | KBQ260: 김치 | KBR260: 김치-4 | KBS260: 백김치 | KBT260: 모든재료국산사용 | KBU260: kg | KBV260: 국산 | KBW260: 30 | KBY260: 김치 | KBZ260: 김치-4 | KCA260: 백김치 | KCB260: 모든재료국산사용 | KCC260: kg | KCD260: 국산 | KCE260: 30 | KCG260: 김치 | KCH260: 김치-4 | KCI260: 백김치 | KCJ260: 모든재료국산사용 | KCK260: kg | KCL260: 국산 | KCM260: 30 | KCO260: 김치 | KCP260: 김치-4 | KCQ260: 백김치 | KCR260: 모든재료국산사용 | KCS260: kg | KCT260: 국산 | KCU260: 30 | KCW260: 김치 | KCX260: 김치-4 | KCY260: 백김치 | KCZ260: 모든재료국산사용 | KDA260: kg | KDB260: 국산 | KDC260: 30 | KDE260: 김치 | KDF260: 김치-4 | KDG260: 백김치 | KDH260: 모든재료국산사용 | KDI260: kg | KDJ260: 국산 | KDK260: 30 | KDM260: 김치 | KDN260: 김치-4 | KDO260: 백김치 | KDP260: 모든재료국산사용 | KDQ260: kg | KDR260: 국산 | KDS260: 30 | KDU260: 김치 | KDV260: 김치-4 | KDW260: 백김치 | KDX260: 모든재료국산사용 | KDY260: kg | KDZ260: 국산 | KEA260: 30 | KEC260: 김치 | KED260: 김치-4 | KEE260: 백김치 | KEF260: 모든재료국산사용 | KEG260: kg | KEH260: 국산 | KEI260: 30 | KEK260: 김치 | KEL260: 김치-4 | KEM260: 백김치 | KEN260: 모든재료국산사용 | KEO260: kg | KEP260: 국산 | KEQ260: 30 | KES260: 김치 | KET260: 김치-4 | KEU260: 백김치 | KEV260: 모든재료국산사용 | KEW260: kg | KEX260: 국산 | KEY260: 30 | KFA260: 김치 | KFB260: 김치-4 | KFC260: 백김치 | KFD260: 모든재료국산사용 | KFE260: kg | KFF260: 국산 | KFG260: 30 | KFI260: 김치 | KFJ260: 김치-4 | KFK260: 백김치 | KFL260: 모든재료국산사용 | KFM260: kg | KFN260: 국산 | KFO260: 30 | KFQ260: 김치 | KFR260: 김치-4 | KFS260: 백김치 | KFT260: 모든재료국산사용 | KFU260: kg | KFV260: 국산 | KFW260: 30 | KFY260: 김치 | KFZ260: 김치-4 | KGA260: 백김치 | KGB260: 모든재료국산사용 | KGC260: kg | KGD260: 국산 | KGE260: 30 | KGG260: 김치 | KGH260: 김치-4 | KGI260: 백김치 | KGJ260: 모든재료국산사용 | KGK260: kg | KGL260: 국산 | KGM260: 30 | KGO260: 김치 | KGP260: 김치-4 | KGQ260: 백김치 | KGR260: 모든재료국산사용 | KGS260: kg | KGT260: 국산 | KGU260: 30 | KGW260: 김치 | KGX260: 김치-4 | KGY260: 백김치 | KGZ260: 모든재료국산사용 | KHA260: kg | KHB260: 국산 | KHC260: 30 | KHE260: 김치 | KHF260: 김치-4 | KHG260: 백김치 | KHH260: 모든재료국산사용 | KHI260: kg | KHJ260: 국산 | KHK260: 30 | KHM260: 김치 | KHN260: 김치-4 | KHO260: 백김치 | KHP260: 모든재료국산사용 | KHQ260: kg | KHR260: 국산 | KHS260: 30 | KHU260: 김치 | KHV260: 김치-4 | KHW260: 백김치 | KHX260: 모든재료국산사용 | KHY260: kg | KHZ260: 국산 | KIA260: 30 | KIC260: 김치 | KID260: 김치-4 | KIE260: 백김치 | KIF260: 모든재료국산사용 | KIG260: kg | KIH260: 국산 | KII260: 30 | KIK260: 김치 | KIL260: 김치-4 | KIM260: 백김치 | KIN260: 모든재료국산사용 | KIO260: kg | KIP260: 국산 | KIQ260: 30 | KIS260: 김치 | KIT260: 김치-4 | KIU260: 백김치 | KIV260: 모든재료국산사용 | KIW260: kg | KIX260: 국산 | KIY260: 30 | KJA260: 김치 | KJB260: 김치-4 | KJC260: 백김치 | KJD260: 모든재료국산사용 | KJE260: kg | KJF260: 국산 | KJG260: 30 | KJI260: 김치 | KJJ260: 김치-4 | KJK260: 백김치 | KJL260: 모든재료국산사용 | KJM260: kg | KJN260: 국산 | KJO260: 30 | KJQ260: 김치 | KJR260: 김치-4 | KJS260: 백김치 | KJT260: 모든재료국산사용 | KJU260: kg | KJV260: 국산 | KJW260: 30 | KJY260: 김치 | KJZ260: 김치-4 | KKA260: 백김치 | KKB260: 모든재료국산사용 | KKC260: kg | KKD260: 국산 | KKE260: 30 | KKG260: 김치 | KKH260: 김치-4 | KKI260: 백김치 | KKJ260: 모든재료국산사용 | KKK260: kg | KKL260: 국산 | KKM260: 30 | KKO260: 김치 | KKP260: 김치-4 | KKQ260: 백김치 | KKR260: 모든재료국산사용 | KKS260: kg | KKT260: 국산 | KKU260: 30 | KKW260: 김치 | KKX260: 김치-4 | KKY260: 백김치 | KKZ260: 모든재료국산사용 | KLA260: kg | KLB260: 국산 | KLC260: 30 | KLE260: 김치 | KLF260: 김치-4 | KLG260: 백김치 | KLH260: 모든재료국산사용 | KLI260: kg | KLJ260: 국산 | KLK260: 30 | KLM260: 김치 | KLN260: 김치-4 | KLO260: 백김치 | KLP260: 모든재료국산사용 | KLQ260: kg | KLR260: 국산 | KLS260: 30 | KLU260: 김치 | KLV260: 김치-4 | KLW260: 백김치 | KLX260: 모든재료국산사용 | KLY260: kg | KLZ260: 국산 | KMA260: 30 | KMC260: 김치 | KMD260: 김치-4 | KME260: 백김치 | KMF260: 모든재료국산사용 | KMG260: kg | KMH260: 국산 | KMI260: 30 | KMK260: 김치 | KML260: 김치-4 | KMM260: 백김치 | KMN260: 모든재료국산사용 | KMO260: kg | KMP260: 국산 | KMQ260: 30 | KMS260: 김치 | KMT260: 김치-4 | KMU260: 백김치 | KMV260: 모든재료국산사용 | KMW260: kg | KMX260: 국산 | KMY260: 30 | KNA260: 김치 | KNB260: 김치-4 | KNC260: 백김치 | KND260: 모든재료국산사용 | KNE260: kg | KNF260: 국산 | KNG260: 30 | KNI260: 김치 | KNJ260: 김치-4 | KNK260: 백김치 | KNL260: 모든재료국산사용 | KNM260: kg | KNN260: 국산 | KNO260: 30 | KNQ260: 김치 | KNR260: 김치-4 | KNS260: 백김치 | KNT260: 모든재료국산사용 | KNU260: kg | KNV260: 국산 | KNW260: 30 | KNY260: 김치 | KNZ260: 김치-4 | KOA260: 백김치 | KOB260: 모든재료국산사용 | KOC260: kg | KOD260: 국산 | KOE260: 30 | KOG260: 김치 | KOH260: 김치-4 | KOI260: 백김치 | KOJ260: 모든재료국산사용 | KOK260: kg | KOL260: 국산 | KOM260: 30 | KOO260: 김치 | KOP260: 김치-4 | KOQ260: 백김치 | KOR260: 모든재료국산사용 | KOS260: kg | KOT260: 국산 | KOU260: 30 | KOW260: 김치 | KOX260: 김치-4 | KOY260: 백김치 | KOZ260: 모든재료국산사용 | KPA260: kg | KPB260: 국산 | KPC260: 30 | KPE260: 김치 | KPF260: 김치-4 | KPG260: 백김치 | KPH260: 모든재료국산사용 | KPI260: kg | KPJ260: 국산 | KPK260: 30 | KPM260: 김치 | KPN260: 김치-4 | KPO260: 백김치 | KPP260: 모든재료국산사용 | KPQ260: kg | KPR260: 국산 | KPS260: 30 | KPU260: 김치 | KPV260: 김치-4 | KPW260: 백김치 | KPX260: 모든재료국산사용 | KPY260: kg | KPZ260: 국산 | KQA260: 30 | KQC260: 김치 | KQD260: 김치-4 | KQE260: 백김치 | KQF260: 모든재료국산사용 | KQG260: kg | KQH260: 국산 | KQI260: 30 | KQK260: 김치 | KQL260: 김치-4 | KQM260: 백김치 | KQN260: 모든재료국산사용 | KQO260: kg | KQP260: 국산 | KQQ260: 30 | KQS260: 김치 | KQT260: 김치-4 | KQU260: 백김치 | KQV260: 모든재료국산사용 | KQW260: kg | KQX260: 국산 | KQY260: 30 | KRA260: 김치 | KRB260: 김치-4 | KRC260: 백김치 | KRD260: 모든재료국산사용 | KRE260: kg | KRF260: 국산 | KRG260: 30 | KRI260: 김치 | KRJ260: 김치-4 | KRK260: 백김치 | KRL260: 모든재료국산사용 | KRM260: kg | KRN260: 국산 | KRO260: 30 | KRQ260: 김치 | KRR260: 김치-4 | KRS260: 백김치 | KRT260: 모든재료국산사용 | KRU260: kg | KRV260: 국산 | KRW260: 30 | KRY260: 김치 | KRZ260: 김치-4 | KSA260: 백김치 | KSB260: 모든재료국산사용 | KSC260: kg | KSD260: 국산 | KSE260: 30 | KSG260: 김치 | KSH260: 김치-4 | KSI260: 백김치 | KSJ260: 모든재료국산사용 | KSK260: kg | KSL260: 국산 | KSM260: 30 | KSO260: 김치 | KSP260: 김치-4 | KSQ260: 백김치 | KSR260: 모든재료국산사용 | KSS260: kg | KST260: 국산 | KSU260: 30 | KSW260: 김치 | KSX260: 김치-4 | KSY260: 백김치 | KSZ260: 모든재료국산사용 | KTA260: kg | KTB260: 국산 | KTC260: 30 | KTE260: 김치 | KTF260: 김치-4 | KTG260: 백김치 | KTH260: 모든재료국산사용 | KTI260: kg | KTJ260: 국산 | KTK260: 30 | KTM260: 김치 | KTN260: 김치-4 | KTO260: 백김치 | KTP260: 모든재료국산사용 | KTQ260: kg | KTR260: 국산 | KTS260: 30 | KTU260: 김치 | KTV260: 김치-4 | KTW260: 백김치 | KTX260: 모든재료국산사용 | KTY260: kg | KTZ260: 국산 | KUA260: 30 | KUC260: 김치 | KUD260: 김치-4 | KUE260: 백김치 | KUF260: 모든재료국산사용 | KUG260: kg | KUH260: 국산 | KUI260: 30 | KUK260: 김치 | KUL260: 김치-4 | KUM260: 백김치 | KUN260: 모든재료국산사용 | KUO260: kg | KUP260: 국산 | KUQ260: 30 | KUS260: 김치 | KUT260: 김치-4 | KUU260: 백김치 | KUV260: 모든재료국산사용 | KUW260: kg | KUX260: 국산 | KUY260: 30 | KVA260: 김치 | KVB260: 김치-4 | KVC260: 백김치 | KVD260: 모든재료국산사용 | KVE260: kg | KVF260: 국산 | KVG260: 30 | KVI260: 김치 | KVJ260: 김치-4 | KVK260: 백김치 | KVL260: 모든재료국산사용 | KVM260: kg | KVN260: 국산 | KVO260: 30 | KVQ260: 김치 | KVR260: 김치-4 | KVS260: 백김치 | KVT260: 모든재료국산사용 | KVU260: kg | KVV260: 국산 | KVW260: 30 | KVY260: 김치 | KVZ260: 김치-4 | KWA260: 백김치 | KWB260: 모든재료국산사용 | KWC260: kg | KWD260: 국산 | KWE260: 30 | KWG260: 김치 | KWH260: 김치-4 | KWI260: 백김치 | KWJ260: 모든재료국산사용 | KWK260: kg | KWL260: 국산 | KWM260: 30 | KWO260: 김치 | KWP260: 김치-4 | KWQ260: 백김치 | KWR260: 모든재료국산사용 | KWS260: kg | KWT260: 국산 | KWU260: 30 | KWW260: 김치 | KWX260: 김치-4 | KWY260: 백김치 | KWZ260: 모든재료국산사용 | KXA260: kg | KXB260: 국산 | KXC260: 30 | KXE260: 김치 | KXF260: 김치-4 | KXG260: 백김치 | KXH260: 모든재료국산사용 | KXI260: kg | KXJ260: 국산 | KXK260: 30 | KXM260: 김치 | KXN260: 김치-4 | KXO260: 백김치 | KXP260: 모든재료국산사용 | KXQ260: kg | KXR260: 국산 | KXS260: 30 | KXU260: 김치 | KXV260: 김치-4 | KXW260: 백김치 | KXX260: 모든재료국산사용 | KXY260: kg | KXZ260: 국산 | KYA260: 30 | KYC260: 김치 | KYD260: 김치-4 | KYE260: 백김치 | KYF260: 모든재료국산사용 | KYG260: kg | KYH260: 국산 | KYI260: 30 | KYK260: 김치 | KYL260: 김치-4 | KYM260: 백김치 | KYN260: 모든재료국산사용 | KYO260: kg | KYP260: 국산 | KYQ260: 30 | KYS260: 김치 | KYT260: 김치-4 | KYU260: 백김치 | KYV260: 모든재료국산사용 | KYW260: kg | KYX260: 국산 | KYY260: 30 | KZA260: 김치 | KZB260: 김치-4 | KZC260: 백김치 | KZD260: 모든재료국산사용 | KZE260: kg | KZF260: 국산 | KZG260: 30 | KZI260: 김치 | KZJ260: 김치-4 | KZK260: 백김치 | KZL260: 모든재료국산사용 | KZM260: kg | KZN260: 국산 | KZO260: 30 | KZQ260: 김치 | KZR260: 김치-4 | KZS260: 백김치 | KZT260: 모든재료국산사용 | KZU260: kg | KZV260: 국산 | KZW260: 30 | KZY260: 김치 | KZZ260: 김치-4 | LAA260: 백김치 | LAB260: 모든재료국산사용 | LAC260: kg | LAD260: 국산 | LAE260: 30 | LAG260: 김치 | LAH260: 김치-4 | LAI260: 백김치 | LAJ260: 모든재료국산사용 | LAK260: kg | LAL260: 국산 | LAM260: 30 | LAO260: 김치 | LAP260: 김치-4 | LAQ260: 백김치 | LAR260: 모든재료국산사용 | LAS260: kg | LAT260: 국산 | LAU260: 30 | LAW260: 김치 | LAX260: 김치-4 | LAY260: 백김치 | LAZ260: 모든재료국산사용 | LBA260: kg | LBB260: 국산 | LBC260: 30 | LBE260: 김치 | LBF260: 김치-4 | LBG260: 백김치 | LBH260: 모든재료국산사용 | LBI260: kg | LBJ260: 국산 | LBK260: 30 | LBM260: 김치 | LBN260: 김치-4 | LBO260: 백김치 | LBP260: 모든재료국산사용 | LBQ260: kg | LBR260: 국산 | LBS260: 30 | LBU260: 김치 | LBV260: 김치-4 | LBW260: 백김치 | LBX260: 모든재료국산사용 | LBY260: kg | LBZ260: 국산 | LCA260: 30 | LCC260: 김치 | LCD260: 김치-4 | LCE260: 백김치 | LCF260: 모든재료국산사용 | LCG260: kg | LCH260: 국산 | LCI260: 30 | LCK260: 김치 | LCL260: 김치-4 | LCM260: 백김치 | LCN260: 모든재료국산사용 | LCO260: kg | LCP260: 국산 | LCQ260: 30 | LCS260: 김치 | LCT260: 김치-4 | LCU260: 백김치 | LCV260: 모든재료국산사용 | LCW260: kg | LCX260: 국산 | LCY260: 30 | LDA260: 김치 | LDB260: 김치-4 | LDC260: 백김치 | LDD260: 모든재료국산사용 | LDE260: kg | LDF260: 국산 | LDG260: 30 | LDI260: 김치 | LDJ260: 김치-4 | LDK260: 백김치 | LDL260: 모든재료국산사용 | LDM260: kg | LDN260: 국산 | LDO260: 30 | LDQ260: 김치 | LDR260: 김치-4 | LDS260: 백김치 | LDT260: 모든재료국산사용 | LDU260: kg | LDV260: 국산 | LDW260: 30 | LDY260: 김치 | LDZ260: 김치-4 | LEA260: 백김치 | LEB260: 모든재료국산사용 | LEC260: kg | LED260: 국산 | LEE260: 30 | LEG260: 김치 | LEH260: 김치-4 | LEI260: 백김치 | LEJ260: 모든재료국산사용 | LEK260: kg | LEL260: 국산 | LEM260: 30 | LEO260: 김치 | LEP260: 김치-4 | LEQ260: 백김치 | LER260: 모든재료국산사용 | LES260: kg | LET260: 국산 | LEU260: 30 | LEW260: 김치 | LEX260: 김치-4 | LEY260: 백김치 | LEZ260: 모든재료국산사용 | LFA260: kg | LFB260: 국산 | LFC260: 30 | LFE260: 김치 | LFF260: 김치-4 | LFG260: 백김치 | LFH260: 모든재료국산사용 | LFI260: kg | LFJ260: 국산 | LFK260: 30 | LFM260: 김치 | LFN260: 김치-4 | LFO260: 백김치 | LFP260: 모든재료국산사용 | LFQ260: kg | LFR260: 국산 | LFS260: 30 | LFU260: 김치 | LFV260: 김치-4 | LFW260: 백김치 | LFX260: 모든재료국산사용 | LFY260: kg | LFZ260: 국산 | LGA260: 30 | LGC260: 김치 | LGD260: 김치-4 | LGE260: 백김치 | LGF260: 모든재료국산사용 | LGG260: kg | LGH260: 국산 | LGI260: 30 | LGK260: 김치 | LGL260: 김치-4 | LGM260: 백김치 | LGN260: 모든재료국산사용 | LGO260: kg | LGP260: 국산 | LGQ260: 30 | LGS260: 김치 | LGT260: 김치-4 | LGU260: 백김치 | LGV260: 모든재료국산사용 | LGW260: kg | LGX260: 국산 | LGY260: 30 | LHA260: 김치 | LHB260: 김치-4 | LHC260: 백김치 | LHD260: 모든재료국산사용 | LHE260: kg | LHF260: 국산 | LHG260: 30 | LHI260: 김치 | LHJ260: 김치-4 | LHK260: 백김치 | LHL260: 모든재료국산사용 | LHM260: kg | LHN260: 국산 | LHO260: 30 | LHQ260: 김치 | LHR260: 김치-4 | LHS260: 백김치 | LHT260: 모든재료국산사용 | LHU260: kg | LHV260: 국산 | LHW260: 30 | LHY260: 김치 | LHZ260: 김치-4 | LIA260: 백김치 | LIB260: 모든재료국산사용 | LIC260: kg | LID260: 국산 | LIE260: 30 | LIG260: 김치 | LIH260: 김치-4 | LII260: 백김치 | LIJ260: 모든재료국산사용 | LIK260: kg | LIL260: 국산 | LIM260: 30 | LIO260: 김치 | LIP260: 김치-4 | LIQ260: 백김치 | LIR260: 모든재료국산사용 | LIS260: kg | LIT260: 국산 | LIU260: 30 | LIW260: 김치 | LIX260: 김치-4 | LIY260: 백김치 | LIZ260: 모든재료국산사용 | LJA260: kg | LJB260: 국산 | LJC260: 30 | LJE260: 김치 | LJF260: 김치-4 | LJG260: 백김치 | LJH260: 모든재료국산사용 | LJI260: kg | LJJ260: 국산 | LJK260: 30 | LJM260: 김치 | LJN260: 김치-4 | LJO260: 백김치 | LJP260: 모든재료국산사용 | LJQ260: kg | LJR260: 국산 | LJS260: 30 | LJU260: 김치 | LJV260: 김치-4 | LJW260: 백김치 | LJX260: 모든재료국산사용 | LJY260: kg | LJZ260: 국산 | LKA260: 30 | LKC260: 김치 | LKD260: 김치-4 | LKE260: 백김치 | LKF260: 모든재료국산사용 | LKG260: kg | LKH260: 국산 | LKI260: 30 | LKK260: 김치 | LKL260: 김치-4 | LKM260: 백김치 | LKN260: 모든재료국산사용 | LKO260: kg | LKP260: 국산 | LKQ260: 30 | LKS260: 김치 | LKT260: 김치-4 | LKU260: 백김치 | LKV260: 모든재료국산사용 | LKW260: kg | LKX260: 국산 | LKY260: 30 | LLA260: 김치 | LLB260: 김치-4 | LLC260: 백김치 | LLD260: 모든재료국산사용 | LLE260: kg | LLF260: 국산 | LLG260: 30 | LLI260: 김치 | LLJ260: 김치-4 | LLK260: 백김치 | LLL260: 모든재료국산사용 | LLM260: kg | LLN260: 국산 | LLO260: 30 | LLQ260: 김치 | LLR260: 김치-4 | LLS260: 백김치 | LLT260: 모든재료국산사용 | LLU260: kg | LLV260: 국산 | LLW260: 30 | LLY260: 김치 | LLZ260: 김치-4 | LMA260: 백김치 | LMB260: 모든재료국산사용 | LMC260: kg | LMD260: 국산 | LME260: 30 | LMG260: 김치 | LMH260: 김치-4 | LMI260: 백김치 | LMJ260: 모든재료국산사용 | LMK260: kg | LML260: 국산 | LMM260: 30 | LMO260: 김치 | LMP260: 김치-4 | LMQ260: 백김치 | LMR260: 모든재료국산사용 | LMS260: kg | LMT260: 국산 | LMU260: 30 | LMW260: 김치 | LMX260: 김치-4 | LMY260: 백김치 | LMZ260: 모든재료국산사용 | LNA260: kg | LNB260: 국산 | LNC260: 30 | LNE260: 김치 | LNF260: 김치-4 | LNG260: 백김치 | LNH260: 모든재료국산사용 | LNI260: kg | LNJ260: 국산 | LNK260: 30 | LNM260: 김치 | LNN260: 김치-4 | LNO260: 백김치 | LNP260: 모든재료국산사용 | LNQ260: kg | LNR260: 국산 | LNS260: 30 | LNU260: 김치 | LNV260: 김치-4 | LNW260: 백김치 | LNX260: 모든재료국산사용 | LNY260: kg | LNZ260: 국산 | LOA260: 30 | LOC260: 김치 | LOD260: 김치-4 | LOE260: 백김치 | LOF260: 모든재료국산사용 | LOG260: kg | LOH260: 국산 | LOI260: 30 | LOK260: 김치 | LOL260: 김치-4 | LOM260: 백김치 | LON260: 모든재료국산사용 | LOO260: kg | LOP260: 국산 | LOQ260: 30 | LOS260: 김치 | LOT260: 김치-4 | LOU260: 백김치 | LOV260: 모든재료국산사용 | LOW260: kg | LOX260: 국산 | LOY260: 30 | LPA260: 김치 | LPB260: 김치-4 | LPC260: 백김치 | LPD260: 모든재료국산사용 | LPE260: kg | LPF260: 국산 | LPG260: 30 | LPI260: 김치 | LPJ260: 김치-4 | LPK260: 백김치 | LPL260: 모든재료국산사용 | LPM260: kg | LPN260: 국산 | LPO260: 30 | LPQ260: 김치 | LPR260: 김치-4 | LPS260: 백김치 | LPT260: 모든재료국산사용 | LPU260: kg | LPV260: 국산 | LPW260: 30 | LPY260: 김치 | LPZ260: 김치-4 | LQA260: 백김치 | LQB260: 모든재료국산사용 | LQC260: kg | LQD260: 국산 | LQE260: 30 | LQG260: 김치 | LQH260: 김치-4 | LQI260: 백김치 | LQJ260: 모든재료국산사용 | LQK260: kg | LQL260: 국산 | LQM260: 30 | LQO260: 김치 | LQP260: 김치-4 | LQQ260: 백김치 | LQR260: 모든재료국산사용 | LQS260: kg | LQT260: 국산 | LQU260: 30 | LQW260: 김치 | LQX260: 김치-4 | LQY260: 백김치 | LQZ260: 모든재료국산사용 | LRA260: kg | LRB260: 국산 | LRC260: 30 | LRE260: 김치 | LRF260: 김치-4 | LRG260: 백김치 | LRH260: 모든재료국산사용 | LRI260: kg | LRJ260: 국산 | LRK260: 30 | LRM260: 김치 | LRN260: 김치-4 | LRO260: 백김치 | LRP260: 모든재료국산사용 | LRQ260: kg | LRR260: 국산 | LRS260: 30 | LRU260: 김치 | LRV260: 김치-4 | LRW260: 백김치 | LRX260: 모든재료국산사용 | LRY260: kg | LRZ260: 국산 | LSA260: 30 | LSC260: 김치 | LSD260: 김치-4 | LSE260: 백김치 | LSF260: 모든재료국산사용 | LSG260: kg | LSH260: 국산 | LSI260: 30 | LSK260: 김치 | LSL260: 김치-4 | LSM260: 백김치 | LSN260: 모든재료국산사용 | LSO260: kg | LSP260: 국산 | LSQ260: 30 | LSS260: 김치 | LST260: 김치-4 | LSU260: 백김치 | LSV260: 모든재료국산사용 | LSW260: kg | LSX260: 국산 | LSY260: 30 | LTA260: 김치 | LTB260: 김치-4 | LTC260: 백김치 | LTD260: 모든재료국산사용 | LTE260: kg | LTF260: 국산 | LTG260: 30 | LTI260: 김치 | LTJ260: 김치-4 | LTK260: 백김치 | LTL260: 모든재료국산사용 | LTM260: kg | LTN260: 국산 | LTO260: 30 | LTQ260: 김치 | LTR260: 김치-4 | LTS260: 백김치 | LTT260: 모든재료국산사용 | LTU260: kg | LTV260: 국산 | LTW260: 30 | LTY260: 김치 | LTZ260: 김치-4 | LUA260: 백김치 | LUB260: 모든재료국산사용 | LUC260: kg | LUD260: 국산 | LUE260: 30 | LUG260: 김치 | LUH260: 김치-4 | LUI260: 백김치 | LUJ260: 모든재료국산사용 | LUK260: kg | LUL260: 국산 | LUM260: 30 | LUO260: 김치 | LUP260: 김치-4 | LUQ260: 백김치 | LUR260: 모든재료국산사용 | LUS260: kg | LUT260: 국산 | LUU260: 30 | LUW260: 김치 | LUX260: 김치-4 | LUY260: 백김치 | LUZ260: 모든재료국산사용 | LVA260: kg | LVB260: 국산 | LVC260: 30 | LVE260: 김치 | LVF260: 김치-4 | LVG260: 백김치 | LVH260: 모든재료국산사용 | LVI260: kg | LVJ260: 국산 | LVK260: 30 | LVM260: 김치 | LVN260: 김치-4 | LVO260: 백김치 | LVP260: 모든재료국산사용 | LVQ260: kg | LVR260: 국산 | LVS260: 30 | LVU260: 김치 | LVV260: 김치-4 | LVW260: 백김치 | LVX260: 모든재료국산사용 | LVY260: kg | LVZ260: 국산 | LWA260: 30 | LWC260: 김치 | LWD260: 김치-4 | LWE260: 백김치 | LWF260: 모든재료국산사용 | LWG260: kg | LWH260: 국산 | LWI260: 30 | LWK260: 김치 | LWL260: 김치-4 | LWM260: 백김치 | LWN260: 모든재료국산사용 | LWO260: kg | LWP260: 국산 | LWQ260: 30 | LWS260: 김치 | LWT260: 김치-4 | LWU260: 백김치 | LWV260: 모든재료국산사용 | LWW260: kg | LWX260: 국산 | LWY260: 30 | LXA260: 김치 | LXB260: 김치-4 | LXC260: 백김치 | LXD260: 모든재료국산사용 | LXE260: kg | LXF260: 국산 | LXG260: 30 | LXI260: 김치 | LXJ260: 김치-4 | LXK260: 백김치 | LXL260: 모든재료국산사용 | LXM260: kg | LXN260: 국산 | LXO260: 30 | LXQ260: 김치 | LXR260: 김치-4 | LXS260: 백김치 | LXT260: 모든재료국산사용 | LXU260: kg | LXV260: 국산 | LXW260: 30 | LXY260: 김치 | LXZ260: 김치-4 | LYA260: 백김치 | LYB260: 모든재료국산사용 | LYC260: kg | LYD260: 국산 | LYE260: 30 | LYG260: 김치 | LYH260: 김치-4 | LYI260: 백김치 | LYJ260: 모든재료국산사용 | LYK260: kg | LYL260: 국산 | LYM260: 30 | LYO260: 김치 | LYP260: 김치-4 | LYQ260: 백김치 | LYR260: 모든재료국산사용 | LYS260: kg | LYT260: 국산 | LYU260: 30 | LYW260: 김치 | LYX260: 김치-4 | LYY260: 백김치 | LYZ260: 모든재료국산사용 | LZA260: kg | LZB260: 국산 | LZC260: 30 | LZE260: 김치 | LZF260: 김치-4 | LZG260: 백김치 | LZH260: 모든재료국산사용 | LZI260: kg | LZJ260: 국산 | LZK260: 30 | LZM260: 김치 | LZN260: 김치-4 | LZO260: 백김치 | LZP260: 모든재료국산사용 | LZQ260: kg | LZR260: 국산 | LZS260: 30 | LZU260: 김치 | LZV260: 김치-4 | LZW260: 백김치 | LZX260: 모든재료국산사용 | LZY260: kg | LZZ260: 국산 | MAA260: 30 | MAC260: 김치 | MAD260: 김치-4 | MAE260: 백김치 | MAF260: 모든재료국산사용 | MAG260: kg | MAH260: 국산 | MAI260: 30 | MAK260: 김치 | MAL260: 김치-4 | MAM260: 백김치 | MAN260: 모든재료국산사용 | MAO260: kg | MAP260: 국산 | MAQ260: 30 | MAS260: 김치 | MAT260: 김치-4 | MAU260: 백김치 | MAV260: 모든재료국산사용 | MAW260: kg | MAX260: 국산 | MAY260: 30 | MBA260: 김치 | MBB260: 김치-4 | MBC260: 백김치 | MBD260: 모든재료국산사용 | MBE260: kg | MBF260: 국산 | MBG260: 30 | MBI260: 김치 | MBJ260: 김치-4 | MBK260: 백김치 | MBL260: 모든재료국산사용 | MBM260: kg | MBN260: 국산 | MBO260: 30 | MBQ260: 김치 | MBR260: 김치-4 | MBS260: 백김치 | MBT260: 모든재료국산사용 | MBU260: kg | MBV260: 국산 | MBW260: 30 | MBY260: 김치 | MBZ260: 김치-4 | MCA260: 백김치 | MCB260: 모든재료국산사용 | MCC260: kg | MCD260: 국산 | MCE260: 30 | MCG260: 김치 | MCH260: 김치-4 | MCI260: 백김치 | MCJ260: 모든재료국산사용 | MCK260: kg | MCL260: 국산 | MCM260: 30 | MCO260: 김치 | MCP260: 김치-4 | MCQ260: 백김치 | MCR260: 모든재료국산사용 | MCS260: kg | MCT260: 국산 | MCU260: 30 | MCW260: 김치 | MCX260: 김치-4 | MCY260: 백김치 | MCZ260: 모든재료국산사용 | MDA260: kg | MDB260: 국산 | MDC260: 30 | MDE260: 김치 | MDF260: 김치-4 | MDG260: 백김치 | MDH260: 모든재료국산사용 | MDI260: kg | MDJ260: 국산 | MDK260: 30 | MDM260: 김치 | MDN260: 김치-4 | MDO260: 백김치 | MDP260: 모든재료국산사용 | MDQ260: kg | MDR260: 국산 | MDS260: 30 | MDU260: 김치 | MDV260: 김치-4 | MDW260: 백김치 | MDX260: 모든재료국산사용 | MDY260: kg | MDZ260: 국산 | MEA260: 30 | MEC260: 김치 | MED260: 김치-4 | MEE260: 백김치 | MEF260: 모든재료국산사용 | MEG260: kg | MEH260: 국산 | MEI260: 30 | MEK260: 김치 | MEL260: 김치-4 | MEM260: 백김치 | MEN260: 모든재료국산사용 | MEO260: kg | MEP260: 국산 | MEQ260: 30 | MES260: 김치 | MET260: 김치-4 | MEU260: 백김치 | MEV260: 모든재료국산사용 | MEW260: kg | MEX260: 국산 | MEY260: 30 | MFA260: 김치 | MFB260: 김치-4 | MFC260: 백김치 | MFD260: 모든재료국산사용 | MFE260: kg | MFF260: 국산 | MFG260: 30 | MFI260: 김치 | MFJ260: 김치-4 | MFK260: 백김치 | MFL260: 모든재료국산사용 | MFM260: kg | MFN260: 국산 | MFO260: 30 | MFQ260: 김치 | MFR260: 김치-4 | MFS260: 백김치 | MFT260: 모든재료국산사용 | MFU260: kg | MFV260: 국산 | MFW260: 30 | MFY260: 김치 | MFZ260: 김치-4 | MGA260: 백김치 | MGB260: 모든재료국산사용 | MGC260: kg | MGD260: 국산 | MGE260: 30 | MGG260: 김치 | MGH260: 김치-4 | MGI260: 백김치 | MGJ260: 모든재료국산사용 | MGK260: kg | MGL260: 국산 | MGM260: 30 | MGO260: 김치 | MGP260: 김치-4 | MGQ260: 백김치 | MGR260: 모든재료국산사용 | MGS260: kg | MGT260: 국산 | MGU260: 30 | MGW260: 김치 | MGX260: 김치-4 | MGY260: 백김치 | MGZ260: 모든재료국산사용 | MHA260: kg | MHB260: 국산 | MHC260: 30 | MHE260: 김치 | MHF260: 김치-4 | MHG260: 백김치 | MHH260: 모든재료국산사용 | MHI260: kg | MHJ260: 국산 | MHK260: 30 | MHM260: 김치 | MHN260: 김치-4 | MHO260: 백김치 | MHP260: 모든재료국산사용 | MHQ260: kg | MHR260: 국산 | MHS260: 30 | MHU260: 김치 | MHV260: 김치-4 | MHW260: 백김치 | MHX260: 모든재료국산사용 | MHY260: kg | MHZ260: 국산 | MIA260: 30 | MIC260: 김치 | MID260: 김치-4 | MIE260: 백김치 | MIF260: 모든재료국산사용 | MIG260: kg | MIH260: 국산 | MII260: 30 | MIK260: 김치 | MIL260: 김치-4 | MIM260: 백김치 | MIN260: 모든재료국산사용 | MIO260: kg | MIP260: 국산 | MIQ260: 30 | MIS260: 김치 | MIT260: 김치-4 | MIU260: 백김치 | MIV260: 모든재료국산사용 | MIW260: kg | MIX260: 국산 | MIY260: 30 | MJA260: 김치 | MJB260: 김치-4 | MJC260: 백김치 | MJD260: 모든재료국산사용 | MJE260: kg | MJF260: 국산 | MJG260: 30 | MJI260: 김치 | MJJ260: 김치-4 | MJK260: 백김치 | MJL260: 모든재료국산사용 | MJM260: kg | MJN260: 국산 | MJO260: 30 | MJQ260: 김치 | MJR260: 김치-4 | MJS260: 백김치 | MJT260: 모든재료국산사용 | MJU260: kg | MJV260: 국산 | MJW260: 30 | MJY260: 김치 | MJZ260: 김치-4 | MKA260: 백김치 | MKB260: 모든재료국산사용 | MKC260: kg | MKD260: 국산 | MKE260: 30 | MKG260: 김치 | MKH260: 김치-4 | MKI260: 백김치 | MKJ260: 모든재료국산사용 | MKK260: kg | MKL260: 국산 | MKM260: 30 | MKO260: 김치 | MKP260: 김치-4 | MKQ260: 백김치 | MKR260: 모든재료국산사용 | MKS260: kg | MKT260: 국산 | MKU260: 30 | MKW260: 김치 | MKX260: 김치-4 | MKY260: 백김치 | MKZ260: 모든재료국산사용 | MLA260: kg | MLB260: 국산 | MLC260: 30 | MLE260: 김치 | MLF260: 김치-4 | MLG260: 백김치 | MLH260: 모든재료국산사용 | MLI260: kg | MLJ260: 국산 | MLK260: 30 | MLM260: 김치 | MLN260: 김치-4 | MLO260: 백김치 | MLP260: 모든재료국산사용 | MLQ260: kg | MLR260: 국산 | MLS260: 30 | MLU260: 김치 | MLV260: 김치-4 | MLW260: 백김치 | MLX260: 모든재료국산사용 | MLY260: kg | MLZ260: 국산 | MMA260: 30 | MMC260: 김치 | MMD260: 김치-4 | MME260: 백김치 | MMF260: 모든재료국산사용 | MMG260: kg | MMH260: 국산 | MMI260: 30 | MMK260: 김치 | MML260: 김치-4 | MMM260: 백김치 | MMN260: 모든재료국산사용 | MMO260: kg | MMP260: 국산 | MMQ260: 30 | MMS260: 김치 | MMT260: 김치-4 | MMU260: 백김치 | MMV260: 모든재료국산사용 | MMW260: kg | MMX260: 국산 | MMY260: 30 | MNA260: 김치 | MNB260: 김치-4 | MNC260: 백김치 | MND260: 모든재료국산사용 | MNE260: kg | MNF260: 국산 | MNG260: 30 | MNI260: 김치 | MNJ260: 김치-4 | MNK260: 백김치 | MNL260: 모든재료국산사용 | MNM260: kg | MNN260: 국산 | MNO260: 30 | MNQ260: 김치 | MNR260: 김치-4 | MNS260: 백김치 | MNT260: 모든재료국산사용 | MNU260: kg | MNV260: 국산 | MNW260: 30 | MNY260: 김치 | MNZ260: 김치-4 | MOA260: 백김치 | MOB260: 모든재료국산사용 | MOC260: kg | MOD260: 국산 | MOE260: 30 | MOG260: 김치 | MOH260: 김치-4 | MOI260: 백김치 | MOJ260: 모든재료국산사용 | MOK260: kg | MOL260: 국산 | MOM260: 30 | MOO260: 김치 | MOP260: 김치-4 | MOQ260: 백김치 | MOR260: 모든재료국산사용 | MOS260: kg | MOT260: 국산 | MOU260: 30 | MOW260: 김치 | MOX260: 김치-4 | MOY260: 백김치 | MOZ260: 모든재료국산사용 | MPA260: kg | MPB260: 국산 | MPC260: 30 | MPE260: 김치 | MPF260: 김치-4 | MPG260: 백김치 | MPH260: 모든재료국산사용 | MPI260: kg | MPJ260: 국산 | MPK260: 30 | MPM260: 김치 | MPN260: 김치-4 | MPO260: 백김치 | MPP260: 모든재료국산사용 | MPQ260: kg | MPR260: 국산 | MPS260: 30 | MPU260: 김치 | MPV260: 김치-4 | MPW260: 백김치 | MPX260: 모든재료국산사용 | MPY260: kg | MPZ260: 국산 | MQA260: 30 | MQC260: 김치 | MQD260: 김치-4 | MQE260: 백김치 | MQF260: 모든재료국산사용 | MQG260: kg | MQH260: 국산 | MQI260: 30 | MQK260: 김치 | MQL260: 김치-4 | MQM260: 백김치 | MQN260: 모든재료국산사용 | MQO260: kg | MQP260: 국산 | MQQ260: 30 | MQS260: 김치 | MQT260: 김치-4 | MQU260: 백김치 | MQV260: 모든재료국산사용 | MQW260: kg | MQX260: 국산 | MQY260: 30 | MRA260: 김치 | MRB260: 김치-4 | MRC260: 백김치 | MRD260: 모든재료국산사용 | MRE260: kg | MRF260: 국산 | MRG260: 30 | MRI260: 김치 | MRJ260: 김치-4 | MRK260: 백김치 | MRL260: 모든재료국산사용 | MRM260: kg | MRN260: 국산 | MRO260: 30 | MRQ260: 김치 | MRR260: 김치-4 | MRS260: 백김치 | MRT260: 모든재료국산사용 | MRU260: kg | MRV260: 국산 | MRW260: 30 | MRY260: 김치 | MRZ260: 김치-4 | MSA260: 백김치 | MSB260: 모든재료국산사용 | MSC260: kg | MSD260: 국산 | MSE260: 30 | MSG260: 김치 | MSH260: 김치-4 | MSI260: 백김치 | MSJ260: 모든재료국산사용 | MSK260: kg | MSL260: 국산 | MSM260: 30 | MSO260: 김치 | MSP260: 김치-4 | MSQ260: 백김치 | MSR260: 모든재료국산사용 | MSS260: kg | MST260: 국산 | MSU260: 30 | MSW260: 김치 | MSX260: 김치-4 | MSY260: 백김치 | MSZ260: 모든재료국산사용 | MTA260: kg | MTB260: 국산 | MTC260: 30 | MTE260: 김치 | MTF260: 김치-4 | MTG260: 백김치 | MTH260: 모든재료국산사용 | MTI260: kg | MTJ260: 국산 | MTK260: 30 | MTM260: 김치 | MTN260: 김치-4 | MTO260: 백김치 | MTP260: 모든재료국산사용 | MTQ260: kg | MTR260: 국산 | MTS260: 30 | MTU260: 김치 | MTV260: 김치-4 | MTW260: 백김치 | MTX260: 모든재료국산사용 | MTY260: kg | MTZ260: 국산 | MUA260: 30 | MUC260: 김치 | MUD260: 김치-4 | MUE260: 백김치 | MUF260: 모든재료국산사용 | MUG260: kg | MUH260: 국산 | MUI260: 30 | MUK260: 김치 | MUL260: 김치-4 | MUM260: 백김치 | MUN260: 모든재료국산사용 | MUO260: kg | MUP260: 국산 | MUQ260: 30 | MUS260: 김치 | MUT260: 김치-4 | MUU260: 백김치 | MUV260: 모든재료국산사용 | MUW260: kg | MUX260: 국산 | MUY260: 30 | MVA260: 김치 | MVB260: 김치-4 | MVC260: 백김치 | MVD260: 모든재료국산사용 | MVE260: kg | MVF260: 국산 | MVG260: 30 | MVI260: 김치 | MVJ260: 김치-4 | MVK260: 백김치 | MVL260: 모든재료국산사용 | MVM260: kg | MVN260: 국산 | MVO260: 30 | MVQ260: 김치 | MVR260: 김치-4 | MVS260: 백김치 | MVT260: 모든재료국산사용 | MVU260: kg | MVV260: 국산 | MVW260: 30 | MVY260: 김치 | MVZ260: 김치-4 | MWA260: 백김치 | MWB260: 모든재료국산사용 | MWC260: kg | MWD260: 국산 | MWE260: 30 | MWG260: 김치 | MWH260: 김치-4 | MWI260: 백김치 | MWJ260: 모든재료국산사용 | MWK260: kg | MWL260: 국산 | MWM260: 30 | MWO260: 김치 | MWP260: 김치-4 | MWQ260: 백김치 | MWR260: 모든재료국산사용 | MWS260: kg | MWT260: 국산 | MWU260: 30 | MWW260: 김치 | MWX260: 김치-4 | MWY260: 백김치 | MWZ260: 모든재료국산사용 | MXA260: kg | MXB260: 국산 | MXC260: 30 | MXE260: 김치 | MXF260: 김치-4 | MXG260: 백김치 | MXH260: 모든재료국산사용 | MXI260: kg | MXJ260: 국산 | MXK260: 30 | MXM260: 김치 | MXN260: 김치-4 | MXO260: 백김치 | MXP260: 모든재료국산사용 | MXQ260: kg | MXR260: 국산 | MXS260: 30 | MXU260: 김치 | MXV260: 김치-4 | MXW260: 백김치 | MXX260: 모든재료국산사용 | MXY260: kg | MXZ260: 국산 | MYA260: 30 | MYC260: 김치 | MYD260: 김치-4 | MYE260: 백김치 | MYF260: 모든재료국산사용 | MYG260: kg | MYH260: 국산 | MYI260: 30 | MYK260: 김치 | MYL260: 김치-4 | MYM260: 백김치 | MYN260: 모든재료국산사용 | MYO260: kg | MYP260: 국산 | MYQ260: 30 | MYS260: 김치 | MYT260: 김치-4 | MYU260: 백김치 | MYV260: 모든재료국산사용 | MYW260: kg | MYX260: 국산 | MYY260: 30 | MZA260: 김치 | MZB260: 김치-4 | MZC260: 백김치 | MZD260: 모든재료국산사용 | MZE260: kg | MZF260: 국산 | MZG260: 30 | MZI260: 김치 | MZJ260: 김치-4 | MZK260: 백김치 | MZL260: 모든재료국산사용 | MZM260: kg | MZN260: 국산 | MZO260: 30 | MZQ260: 김치 | MZR260: 김치-4 | MZS260: 백김치 | MZT260: 모든재료국산사용 | MZU260: kg | MZV260: 국산 | MZW260: 30 | MZY260: 김치 | MZZ260: 김치-4 | NAA260: 백김치 | NAB260: 모든재료국산사용 | NAC260: kg | NAD260: 국산 | NAE260: 30 | NAG260: 김치 | NAH260: 김치-4 | NAI260: 백김치 | NAJ260: 모든재료국산사용 | NAK260: kg | NAL260: 국산 | NAM260: 30 | NAO260: 김치 | NAP260: 김치-4 | NAQ260: 백김치 | NAR260: 모든재료국산사용 | NAS260: kg | NAT260: 국산 | NAU260: 30 | NAW260: 김치 | NAX260: 김치-4 | NAY260: 백김치 | NAZ260: 모든재료국산사용 | NBA260: kg | NBB260: 국산 | NBC260: 30 | NBE260: 김치 | NBF260: 김치-4 | NBG260: 백김치 | NBH260: 모든재료국산사용 | NBI260: kg | NBJ260: 국산 | NBK260: 30 | NBM260: 김치 | NBN260: 김치-4 | NBO260: 백김치 | NBP260: 모든재료국산사용 | NBQ260: kg | NBR260: 국산 | NBS260: 30 | NBU260: 김치 | NBV260: 김치-4 | NBW260: 백김치 | NBX260: 모든재료국산사용 | NBY260: kg | NBZ260: 국산 | NCA260: 30 | NCC260: 김치 | NCD260: 김치-4 | NCE260: 백김치 | NCF260: 모든재료국산사용 | NCG260: kg | NCH260: 국산 | NCI260: 30 | NCK260: 김치 | NCL260: 김치-4 | NCM260: 백김치 | NCN260: 모든재료국산사용 | NCO260: kg | NCP260: 국산 | NCQ260: 30 | NCS260: 김치 | NCT260: 김치-4 | NCU260: 백김치 | NCV260: 모든재료국산사용 | NCW260: kg | NCX260: 국산 | NCY260: 30 | NDA260: 김치 | NDB260: 김치-4 | NDC260: 백김치 | NDD260: 모든재료국산사용 | NDE260: kg | NDF260: 국산 | NDG260: 30 | NDI260: 김치 | NDJ260: 김치-4 | NDK260: 백김치 | NDL260: 모든재료국산사용 | NDM260: kg | NDN260: 국산 | NDO260: 30 | NDQ260: 김치 | NDR260: 김치-4 | NDS260: 백김치 | NDT260: 모든재료국산사용 | NDU260: kg | NDV260: 국산 | NDW260: 30 | NDY260: 김치 | NDZ260: 김치-4 | NEA260: 백김치 | NEB260: 모든재료국산사용 | NEC260: kg | NED260: 국산 | NEE260: 30 | NEG260: 김치 | NEH260: 김치-4 | NEI260: 백김치 | NEJ260: 모든재료국산사용 | NEK260: kg | NEL260: 국산 | NEM260: 30 | NEO260: 김치 | NEP260: 김치-4 | NEQ260: 백김치 | NER260: 모든재료국산사용 | NES260: kg | NET260: 국산 | NEU260: 30 | NEW260: 김치 | NEX260: 김치-4 | NEY260: 백김치 | NEZ260: 모든재료국산사용 | NFA260: kg | NFB260: 국산 | NFC260: 30 | NFE260: 김치 | NFF260: 김치-4 | NFG260: 백김치 | NFH260: 모든재료국산사용 | NFI260: kg | NFJ260: 국산 | NFK260: 30 | NFM260: 김치 | NFN260: 김치-4 | NFO260: 백김치 | NFP260: 모든재료국산사용 | NFQ260: kg | NFR260: 국산 | NFS260: 30 | NFU260: 김치 | NFV260: 김치-4 | NFW260: 백김치 | NFX260: 모든재료국산사용 | NFY260: kg | NFZ260: 국산 | NGA260: 30 | NGC260: 김치 | NGD260: 김치-4 | NGE260: 백김치 | NGF260: 모든재료국산사용 | NGG260: kg | NGH260: 국산 | NGI260: 30 | NGK260: 김치 | NGL260: 김치-4 | NGM260: 백김치 | NGN260: 모든재료국산사용 | NGO260: kg | NGP260: 국산 | NGQ260: 30 | NGS260: 김치 | NGT260: 김치-4 | NGU260: 백김치 | NGV260: 모든재료국산사용 | NGW260: kg | NGX260: 국산 | NGY260: 30 | NHA260: 김치 | NHB260: 김치-4 | NHC260: 백김치 | NHD260: 모든재료국산사용 | NHE260: kg | NHF260: 국산 | NHG260: 30 | NHI260: 김치 | NHJ260: 김치-4 | NHK260: 백김치 | NHL260: 모든재료국산사용 | NHM260: kg | NHN260: 국산 | NHO260: 30 | NHQ260: 김치 | NHR260: 김치-4 | NHS260: 백김치 | NHT260: 모든재료국산사용 | NHU260: kg | NHV260: 국산 | NHW260: 30 | NHY260: 김치 | NHZ260: 김치-4 | NIA260: 백김치 | NIB260: 모든재료국산사용 | NIC260: kg | NID260: 국산 | NIE260: 30 | NIG260: 김치 | NIH260: 김치-4 | NII260: 백김치 | NIJ260: 모든재료국산사용 | NIK260: kg | NIL260: 국산 | NIM260: 30 | NIO260: 김치 | NIP260: 김치-4 | NIQ260: 백김치 | NIR260: 모든재료국산사용 | NIS260: kg | NIT260: 국산 | NIU260: 30 | NIW260: 김치 | NIX260: 김치-4 | NIY260: 백김치 | NIZ260: 모든재료국산사용 | NJA260: kg | NJB260: 국산 | NJC260: 30 | NJE260: 김치 | NJF260: 김치-4 | NJG260: 백김치 | NJH260: 모든재료국산사용 | NJI260: kg | NJJ260: 국산 | NJK260: 30 | NJM260: 김치 | NJN260: 김치-4 | NJO260: 백김치 | NJP260: 모든재료국산사용 | NJQ260: kg | NJR260: 국산 | NJS260: 30 | NJU260: 김치 | NJV260: 김치-4 | NJW260: 백김치 | NJX260: 모든재료국산사용 | NJY260: kg | NJZ260: 국산 | NKA260: 30 | NKC260: 김치 | NKD260: 김치-4 | NKE260: 백김치 | NKF260: 모든재료국산사용 | NKG260: kg | NKH260: 국산 | NKI260: 30 | NKK260: 김치 | NKL260: 김치-4 | NKM260: 백김치 | NKN260: 모든재료국산사용 | NKO260: kg | NKP260: 국산 | NKQ260: 30 | NKS260: 김치 | NKT260: 김치-4 | NKU260: 백김치 | NKV260: 모든재료국산사용 | NKW260: kg | NKX260: 국산 | NKY260: 30 | NLA260: 김치 | NLB260: 김치-4 | NLC260: 백김치 | NLD260: 모든재료국산사용 | NLE260: kg | NLF260: 국산 | NLG260: 30 | NLI260: 김치 | NLJ260: 김치-4 | NLK260: 백김치 | NLL260: 모든재료국산사용 | NLM260: kg | NLN260: 국산 | NLO260: 30 | NLQ260: 김치 | NLR260: 김치-4 | NLS260: 백김치 | NLT260: 모든재료국산사용 | NLU260: kg | NLV260: 국산 | NLW260: 30 | NLY260: 김치 | NLZ260: 김치-4 | NMA260: 백김치 | NMB260: 모든재료국산사용 | NMC260: kg | NMD260: 국산 | NME260: 30 | NMG260: 김치 | NMH260: 김치-4 | NMI260: 백김치 | NMJ260: 모든재료국산사용 | NMK260: kg | NML260: 국산 | NMM260: 30 | NMO260: 김치 | NMP260: 김치-4 | NMQ260: 백김치 | NMR260: 모든재료국산사용 | NMS260: kg | NMT260: 국산 | NMU260: 30 | NMW260: 김치 | NMX260: 김치-4 | NMY260: 백김치 | NMZ260: 모든재료국산사용 | NNA260: kg | NNB260: 국산 | NNC260: 30 | NNE260: 김치 | NNF260: 김치-4 | NNG260: 백김치 | NNH260: 모든재료국산사용 | NNI260: kg | NNJ260: 국산 | NNK260: 30 | NNM260: 김치 | NNN260: 김치-4 | NNO260: 백김치 | NNP260: 모든재료국산사용 | NNQ260: kg | NNR260: 국산 | NNS260: 30 | NNU260: 김치 | NNV260: 김치-4 | NNW260: 백김치 | NNX260: 모든재료국산사용 | NNY260: kg | NNZ260: 국산 | NOA260: 30 | NOC260: 김치 | NOD260: 김치-4 | NOE260: 백김치 | NOF260: 모든재료국산사용 | NOG260: kg | NOH260: 국산 | NOI260: 30 | NOK260: 김치 | NOL260: 김치-4 | NOM260: 백김치 | NON260: 모든재료국산사용 | NOO260: kg | NOP260: 국산 | NOQ260: 30 | NOS260: 김치 | NOT260: 김치-4 | NOU260: 백김치 | NOV260: 모든재료국산사용 | NOW260: kg | NOX260: 국산 | NOY260: 30 | NPA260: 김치 | NPB260: 김치-4 | NPC260: 백김치 | NPD260: 모든재료국산사용 | NPE260: kg | NPF260: 국산 | NPG260: 30 | NPI260: 김치 | NPJ260: 김치-4 | NPK260: 백김치 | NPL260: 모든재료국산사용 | NPM260: kg | NPN260: 국산 | NPO260: 30 | NPQ260: 김치 | NPR260: 김치-4 | NPS260: 백김치 | NPT260: 모든재료국산사용 | NPU260: kg | NPV260: 국산 | NPW260: 30 | NPY260: 김치 | NPZ260: 김치-4 | NQA260: 백김치 | NQB260: 모든재료국산사용 | NQC260: kg | NQD260: 국산 | NQE260: 30 | NQG260: 김치 | NQH260: 김치-4 | NQI260: 백김치 | NQJ260: 모든재료국산사용 | NQK260: kg | NQL260: 국산 | NQM260: 30 | NQO260: 김치 | NQP260: 김치-4 | NQQ260: 백김치 | NQR260: 모든재료국산사용 | NQS260: kg | NQT260: 국산 | NQU260: 30 | NQW260: 김치 | NQX260: 김치-4 | NQY260: 백김치 | NQZ260: 모든재료국산사용 | NRA260: kg | NRB260: 국산 | NRC260: 30 | NRE260: 김치 | NRF260: 김치-4 | NRG260: 백김치 | NRH260: 모든재료국산사용 | NRI260: kg | NRJ260: 국산 | NRK260: 30 | NRM260: 김치 | NRN260: 김치-4 | NRO260: 백김치 | NRP260: 모든재료국산사용 | NRQ260: kg | NRR260: 국산 | NRS260: 30 | NRU260: 김치 | NRV260: 김치-4 | NRW260: 백김치 | NRX260: 모든재료국산사용 | NRY260: kg | NRZ260: 국산 | NSA260: 30 | NSC260: 김치 | NSD260: 김치-4 | NSE260: 백김치 | NSF260: 모든재료국산사용 | NSG260: kg | NSH260: 국산 | NSI260: 30 | NSK260: 김치 | NSL260: 김치-4 | NSM260: 백김치 | NSN260: 모든재료국산사용 | NSO260: kg | NSP260: 국산 | NSQ260: 30 | NSS260: 김치 | NST260: 김치-4 | NSU260: 백김치 | NSV260: 모든재료국산사용 | NSW260: kg | NSX260: 국산 | NSY260: 30 | NTA260: 김치 | NTB260: 김치-4 | NTC260: 백김치 | NTD260: 모든재료국산사용 | NTE260: kg | NTF260: 국산 | NTG260: 30 | NTI260: 김치 | NTJ260: 김치-4 | NTK260: 백김치 | NTL260: 모든재료국산사용 | NTM260: kg | NTN260: 국산 | NTO260: 30 | NTQ260: 김치 | NTR260: 김치-4 | NTS260: 백김치 | NTT260: 모든재료국산사용 | NTU260: kg | NTV260: 국산 | NTW260: 30 | NTY260: 김치 | NTZ260: 김치-4 | NUA260: 백김치 | NUB260: 모든재료국산사용 | NUC260: kg | NUD260: 국산 | NUE260: 30 | NUG260: 김치 | NUH260: 김치-4 | NUI260: 백김치 | NUJ260: 모든재료국산사용 | NUK260: kg | NUL260: 국산 | NUM260: 30 | NUO260: 김치 | NUP260: 김치-4 | NUQ260: 백김치 | NUR260: 모든재료국산사용 | NUS260: kg | NUT260: 국산 | NUU260: 30 | NUW260: 김치 | NUX260: 김치-4 | NUY260: 백김치 | NUZ260: 모든재료국산사용 | NVA260: kg | NVB260: 국산 | NVC260: 30 | NVE260: 김치 | NVF260: 김치-4 | NVG260: 백김치 | NVH260: 모든재료국산사용 | NVI260: kg | NVJ260: 국산 | NVK260: 30 | NVM260: 김치 | NVN260: 김치-4 | NVO260: 백김치 | NVP260: 모든재료국산사용 | NVQ260: kg | NVR260: 국산 | NVS260: 30 | NVU260: 김치 | NVV260: 김치-4 | NVW260: 백김치 | NVX260: 모든재료국산사용 | NVY260: kg | NVZ260: 국산 | NWA260: 30 | NWC260: 김치 | NWD260: 김치-4 | NWE260: 백김치 | NWF260: 모든재료국산사용 | NWG260: kg | NWH260: 국산 | NWI260: 30 | NWK260: 김치 | NWL260: 김치-4 | NWM260: 백김치 | NWN260: 모든재료국산사용 | NWO260: kg | NWP260: 국산 | NWQ260: 30 | NWS260: 김치 | NWT260: 김치-4 | NWU260: 백김치 | NWV260: 모든재료국산사용 | NWW260: kg | NWX260: 국산 | NWY260: 30 | NXA260: 김치 | NXB260: 김치-4 | NXC260: 백김치 | NXD260: 모든재료국산사용 | NXE260: kg | NXF260: 국산 | NXG260: 30 | NXI260: 김치 | NXJ260: 김치-4 | NXK260: 백김치 | NXL260: 모든재료국산사용 | NXM260: kg | NXN260: 국산 | NXO260: 30 | NXQ260: 김치 | NXR260: 김치-4 | NXS260: 백김치 | NXT260: 모든재료국산사용 | NXU260: kg | NXV260: 국산 | NXW260: 30 | NXY260: 김치 | NXZ260: 김치-4 | NYA260: 백김치 | NYB260: 모든재료국산사용 | NYC260: kg | NYD260: 국산 | NYE260: 30 | NYG260: 김치 | NYH260: 김치-4 | NYI260: 백김치 | NYJ260: 모든재료국산사용 | NYK260: kg | NYL260: 국산 | NYM260: 30 | NYO260: 김치 | NYP260: 김치-4 | NYQ260: 백김치 | NYR260: 모든재료국산사용 | NYS260: kg | NYT260: 국산 | NYU260: 30 | NYW260: 김치 | NYX260: 김치-4 | NYY260: 백김치 | NYZ260: 모든재료국산사용 | NZA260: kg | NZB260: 국산 | NZC260: 30 | NZE260: 김치 | NZF260: 김치-4 | NZG260: 백김치 | NZH260: 모든재료국산사용 | NZI260: kg | NZJ260: 국산 | NZK260: 30 | NZM260: 김치 | NZN260: 김치-4 | NZO260: 백김치 | NZP260: 모든재료국산사용 | NZQ260: kg | NZR260: 국산 | NZS260: 30 | NZU260: 김치 | NZV260: 김치-4 | NZW260: 백김치 | NZX260: 모든재료국산사용 | NZY260: kg | NZZ260: 국산 | OAA260: 30 | OAC260: 김치 | OAD260: 김치-4 | OAE260: 백김치 | OAF260: 모든재료국산사용 | OAG260: kg | OAH260: 국산 | OAI260: 30 | OAK260: 김치 | OAL260: 김치-4 | OAM260: 백김치 | OAN260: 모든재료국산사용 | OAO260: kg | OAP260: 국산 | OAQ260: 30 | OAS260: 김치 | OAT260: 김치-4 | OAU260: 백김치 | OAV260: 모든재료국산사용 | OAW260: kg | OAX260: 국산 | OAY260: 30 | OBA260: 김치 | OBB260: 김치-4 | OBC260: 백김치 | OBD260: 모든재료국산사용 | OBE260: kg | OBF260: 국산 | OBG260: 30 | OBI260: 김치 | OBJ260: 김치-4 | OBK260: 백김치 | OBL260: 모든재료국산사용 | OBM260: kg | OBN260: 국산 | OBO260: 30 | OBQ260: 김치 | OBR260: 김치-4 | OBS260: 백김치 | OBT260: 모든재료국산사용 | OBU260: kg | OBV260: 국산 | OBW260: 30 | OBY260: 김치 | OBZ260: 김치-4 | OCA260: 백김치 | OCB260: 모든재료국산사용 | OCC260: kg | OCD260: 국산 | OCE260: 30 | OCG260: 김치 | OCH260: 김치-4 | OCI260: 백김치 | OCJ260: 모든재료국산사용 | OCK260: kg | OCL260: 국산 | OCM260: 30 | OCO260: 김치 | OCP260: 김치-4 | OCQ260: 백김치 | OCR260: 모든재료국산사용 | OCS260: kg | OCT260: 국산 | OCU260: 30 | OCW260: 김치 | OCX260: 김치-4 | OCY260: 백김치 | OCZ260: 모든재료국산사용 | ODA260: kg | ODB260: 국산 | ODC260: 30 | ODE260: 김치 | ODF260: 김치-4 | ODG260: 백김치 | ODH260: 모든재료국산사용 | ODI260: kg | ODJ260: 국산 | ODK260: 30 | ODM260: 김치 | ODN260: 김치-4 | ODO260: 백김치 | ODP260: 모든재료국산사용 | ODQ260: kg | ODR260: 국산 | ODS260: 30 | ODU260: 김치 | ODV260: 김치-4 | ODW260: 백김치 | ODX260: 모든재료국산사용 | ODY260: kg | ODZ260: 국산 | OEA260: 30 | OEC260: 김치 | OED260: 김치-4 | OEE260: 백김치 | OEF260: 모든재료국산사용 | OEG260: kg | OEH260: 국산 | OEI260: 30 | OEK260: 김치 | OEL260: 김치-4 | OEM260: 백김치 | OEN260: 모든재료국산사용 | OEO260: kg | OEP260: 국산 | OEQ260: 30 | OES260: 김치 | OET260: 김치-4 | OEU260: 백김치 | OEV260: 모든재료국산사용 | OEW260: kg | OEX260: 국산 | OEY260: 30 | OFA260: 김치 | OFB260: 김치-4 | OFC260: 백김치 | OFD260: 모든재료국산사용 | OFE260: kg | OFF260: 국산 | OFG260: 30 | OFI260: 김치 | OFJ260: 김치-4 | OFK260: 백김치 | OFL260: 모든재료국산사용 | OFM260: kg | OFN260: 국산 | OFO260: 30 | OFQ260: 김치 | OFR260: 김치-4 | OFS260: 백김치 | OFT260: 모든재료국산사용 | OFU260: kg | OFV260: 국산 | OFW260: 30 | OFY260: 김치 | OFZ260: 김치-4 | OGA260: 백김치 | OGB260: 모든재료국산사용 | OGC260: kg | OGD260: 국산 | OGE260: 30 | OGG260: 김치 | OGH260: 김치-4 | OGI260: 백김치 | OGJ260: 모든재료국산사용 | OGK260: kg | OGL260: 국산 | OGM260: 30 | OGO260: 김치 | OGP260: 김치-4 | OGQ260: 백김치 | OGR260: 모든재료국산사용 | OGS260: kg | OGT260: 국산 | OGU260: 30 | OGW260: 김치 | OGX260: 김치-4 | OGY260: 백김치 | OGZ260: 모든재료국산사용 | OHA260: kg | OHB260: 국산 | OHC260: 30 | OHE260: 김치 | OHF260: 김치-4 | OHG260: 백김치 | OHH260: 모든재료국산사용 | OHI260: kg | OHJ260: 국산 | OHK260: 30 | OHM260: 김치 | OHN260: 김치-4 | OHO260: 백김치 | OHP260: 모든재료국산사용 | OHQ260: kg | OHR260: 국산 | OHS260: 30 | OHU260: 김치 | OHV260: 김치-4 | OHW260: 백김치 | OHX260: 모든재료국산사용 | OHY260: kg | OHZ260: 국산 | OIA260: 30 | OIC260: 김치 | OID260: 김치-4 | OIE260: 백김치 | OIF260: 모든재료국산사용 | OIG260: kg | OIH260: 국산 | OII260: 30 | OIK260: 김치 | OIL260: 김치-4 | OIM260: 백김치 | OIN260: 모든재료국산사용 | OIO260: kg | OIP260: 국산 | OIQ260: 30 | OIS260: 김치 | OIT260: 김치-4 | OIU260: 백김치 | OIV260: 모든재료국산사용 | OIW260: kg | OIX260: 국산 | OIY260: 30 | OJA260: 김치 | OJB260: 김치-4 | OJC260: 백김치 | OJD260: 모든재료국산사용 | OJE260: kg | OJF260: 국산 | OJG260: 30 | OJI260: 김치 | OJJ260: 김치-4 | OJK260: 백김치 | OJL260: 모든재료국산사용 | OJM260: kg | OJN260: 국산 | OJO260: 30 | OJQ260: 김치 | OJR260: 김치-4 | OJS260: 백김치 | OJT260: 모든재료국산사용 | OJU260: kg | OJV260: 국산 | OJW260: 30 | OJY260: 김치 | OJZ260: 김치-4 | OKA260: 백김치 | OKB260: 모든재료국산사용 | OKC260: kg | OKD260: 국산 | OKE260: 30 | OKG260: 김치 | OKH260: 김치-4 | OKI260: 백김치 | OKJ260: 모든재료국산사용 | OKK260: kg | OKL260: 국산 | OKM260: 30 | OKO260: 김치 | OKP260: 김치-4 | OKQ260: 백김치 | OKR260: 모든재료국산사용 | OKS260: kg | OKT260: 국산 | OKU260: 30 | OKW260: 김치 | OKX260: 김치-4 | OKY260: 백김치 | OKZ260: 모든재료국산사용 | OLA260: kg | OLB260: 국산 | OLC260: 30 | OLE260: 김치 | OLF260: 김치-4 | OLG260: 백김치 | OLH260: 모든재료국산사용 | OLI260: kg | OLJ260: 국산 | OLK260: 30 | OLM260: 김치 | OLN260: 김치-4 | OLO260: 백김치 | OLP260: 모든재료국산사용 | OLQ260: kg | OLR260: 국산 | OLS260: 30 | OLU260: 김치 | OLV260: 김치-4 | OLW260: 백김치 | OLX260: 모든재료국산사용 | OLY260: kg | OLZ260: 국산 | OMA260: 30 | OMC260: 김치 | OMD260: 김치-4 | OME260: 백김치 | OMF260: 모든재료국산사용 | OMG260: kg | OMH260: 국산 | OMI260: 30 | OMK260: 김치 | OML260: 김치-4 | OMM260: 백김치 | OMN260: 모든재료국산사용 | OMO260: kg | OMP260: 국산 | OMQ260: 30 | OMS260: 김치 | OMT260: 김치-4 | OMU260: 백김치 | OMV260: 모든재료국산사용 | OMW260: kg | OMX260: 국산 | OMY260: 30 | ONA260: 김치 | ONB260: 김치-4 | ONC260: 백김치 | OND260: 모든재료국산사용 | ONE260: kg | ONF260: 국산 | ONG260: 30 | ONI260: 김치 | ONJ260: 김치-4 | ONK260: 백김치 | ONL260: 모든재료국산사용 | ONM260: kg | ONN260: 국산 | ONO260: 30 | ONQ260: 김치 | ONR260: 김치-4 | ONS260: 백김치 | ONT260: 모든재료국산사용 | ONU260: kg | ONV260: 국산 | ONW260: 30 | ONY260: 김치 | ONZ260: 김치-4 | OOA260: 백김치 | OOB260: 모든재료국산사용 | OOC260: kg | OOD260: 국산 | OOE260: 30 | OOG260: 김치 | OOH260: 김치-4 | OOI260: 백김치 | OOJ260: 모든재료국산사용 | OOK260: kg | OOL260: 국산 | OOM260: 30 | OOO260: 김치 | OOP260: 김치-4 | OOQ260: 백김치 | OOR260: 모든재료국산사용 | OOS260: kg | OOT260: 국산 | OOU260: 30 | OOW260: 김치 | OOX260: 김치-4 | OOY260: 백김치 | OOZ260: 모든재료국산사용 | OPA260: kg | OPB260: 국산 | OPC260: 30 | OPE260: 김치 | OPF260: 김치-4 | OPG260: 백김치 | OPH260: 모든재료국산사용 | OPI260: kg | OPJ260: 국산 | OPK260: 30 | OPM260: 김치 | OPN260: 김치-4 | OPO260: 백김치 | OPP260: 모든재료국산사용 | OPQ260: kg | OPR260: 국산 | OPS260: 30 | OPU260: 김치 | OPV260: 김치-4 | OPW260: 백김치 | OPX260: 모든재료국산사용 | OPY260: kg | OPZ260: 국산 | OQA260: 30 | OQC260: 김치 | OQD260: 김치-4 | OQE260: 백김치 | OQF260: 모든재료국산사용 | OQG260: kg | OQH260: 국산 | OQI260: 30 | OQK260: 김치 | OQL260: 김치-4 | OQM260: 백김치 | OQN260: 모든재료국산사용 | OQO260: kg | OQP260: 국산 | OQQ260: 30 | OQS260: 김치 | OQT260: 김치-4 | OQU260: 백김치 | OQV260: 모든재료국산사용 | OQW260: kg | OQX260: 국산 | OQY260: 30 | ORA260: 김치 | ORB260: 김치-4 | ORC260: 백김치 | ORD260: 모든재료국산사용 | ORE260: kg | ORF260: 국산 | ORG260: 30 | ORI260: 김치 | ORJ260: 김치-4 | ORK260: 백김치 | ORL260: 모든재료국산사용 | ORM260: kg | ORN260: 국산 | ORO260: 30 | ORQ260: 김치 | ORR260: 김치-4 | ORS260: 백김치 | ORT260: 모든재료국산사용 | ORU260: kg | ORV260: 국산 | ORW260: 30 | ORY260: 김치 | ORZ260: 김치-4 | OSA260: 백김치 | OSB260: 모든재료국산사용 | OSC260: kg | OSD260: 국산 | OSE260: 30 | OSG260: 김치 | OSH260: 김치-4 | OSI260: 백김치 | OSJ260: 모든재료국산사용 | OSK260: kg | OSL260: 국산 | OSM260: 30 | OSO260: 김치 | OSP260: 김치-4 | OSQ260: 백김치 | OSR260: 모든재료국산사용 | OSS260: kg | OST260: 국산 | OSU260: 30 | OSW260: 김치 | OSX260: 김치-4 | OSY260: 백김치 | OSZ260: 모든재료국산사용 | OTA260: kg | OTB260: 국산 | OTC260: 30 | OTE260: 김치 | OTF260: 김치-4 | OTG260: 백김치 | OTH260: 모든재료국산사용 | OTI260: kg | OTJ260: 국산 | OTK260: 30 | OTM260: 김치 | OTN260: 김치-4 | OTO260: 백김치 | OTP260: 모든재료국산사용 | OTQ260: kg | OTR260: 국산 | OTS260: 30 | OTU260: 김치 | OTV260: 김치-4 | OTW260: 백김치 | OTX260: 모든재료국산사용 | OTY260: kg | OTZ260: 국산 | OUA260: 30 | OUC260: 김치 | OUD260: 김치-4 | OUE260: 백김치 | OUF260: 모든재료국산사용 | OUG260: kg | OUH260: 국산 | OUI260: 30 | OUK260: 김치 | OUL260: 김치-4 | OUM260: 백김치 | OUN260: 모든재료국산사용 | OUO260: kg | OUP260: 국산 | OUQ260: 30 | OUS260: 김치 | OUT260: 김치-4 | OUU260: 백김치 | OUV260: 모든재료국산사용 | OUW260: kg | OUX260: 국산 | OUY260: 30 | OVA260: 김치 | OVB260: 김치-4 | OVC260: 백김치 | OVD260: 모든재료국산사용 | OVE260: kg | OVF260: 국산 | OVG260: 30 | OVI260: 김치 | OVJ260: 김치-4 | OVK260: 백김치 | OVL260: 모든재료국산사용 | OVM260: kg | OVN260: 국산 | OVO260: 30 | OVQ260: 김치 | OVR260: 김치-4 | OVS260: 백김치 | OVT260: 모든재료국산사용 | OVU260: kg | OVV260: 국산 | OVW260: 30 | OVY260: 김치 | OVZ260: 김치-4 | OWA260: 백김치 | OWB260: 모든재료국산사용 | OWC260: kg | OWD260: 국산 | OWE260: 30 | OWG260: 김치 | OWH260: 김치-4 | OWI260: 백김치 | OWJ260: 모든재료국산사용 | OWK260: kg | OWL260: 국산 | OWM260: 30 | OWO260: 김치 | OWP260: 김치-4 | OWQ260: 백김치 | OWR260: 모든재료국산사용 | OWS260: kg | OWT260: 국산 | OWU260: 30 | OWW260: 김치 | OWX260: 김치-4 | OWY260: 백김치 | OWZ260: 모든재료국산사용 | OXA260: kg | OXB260: 국산 | OXC260: 30 | OXE260: 김치 | OXF260: 김치-4 | OXG260: 백김치 | OXH260: 모든재료국산사용 | OXI260: kg | OXJ260: 국산 | OXK260: 30 | OXM260: 김치 | OXN260: 김치-4 | OXO260: 백김치 | OXP260: 모든재료국산사용 | OXQ260: kg | OXR260: 국산 | OXS260: 30 | OXU260: 김치 | OXV260: 김치-4 | OXW260: 백김치 | OXX260: 모든재료국산사용 | OXY260: kg | OXZ260: 국산 | OYA260: 30 | OYC260: 김치 | OYD260: 김치-4 | OYE260: 백김치 | OYF260: 모든재료국산사용 | OYG260: kg | OYH260: 국산 | OYI260: 30 | OYK260: 김치 | OYL260: 김치-4 | OYM260: 백김치 | OYN260: 모든재료국산사용 | OYO260: kg | OYP260: 국산 | OYQ260: 30 | OYS260: 김치 | OYT260: 김치-4 | OYU260: 백김치 | OYV260: 모든재료국산사용 | OYW260: kg | OYX260: 국산 | OYY260: 30 | OZA260: 김치 | OZB260: 김치-4 | OZC260: 백김치 | OZD260: 모든재료국산사용 | OZE260: kg | OZF260: 국산 | OZG260: 30 | OZI260: 김치 | OZJ260: 김치-4 | OZK260: 백김치 | OZL260: 모든재료국산사용 | OZM260: kg | OZN260: 국산 | OZO260: 30 | OZQ260: 김치 | OZR260: 김치-4 | OZS260: 백김치 | OZT260: 모든재료국산사용 | OZU260: kg | OZV260: 국산 | OZW260: 30 | OZY260: 김치 | OZZ260: 김치-4 | PAA260: 백김치 | PAB260: 모든재료국산사용 | PAC260: kg | PAD260: 국산 | PAE260: 30 | PAG260: 김치 | PAH260: 김치-4 | PAI260: 백김치 | PAJ260: 모든재료국산사용 | PAK260: kg | PAL260: 국산 | PAM260: 30 | PAO260: 김치 | PAP260: 김치-4 | PAQ260: 백김치 | PAR260: 모든재료국산사용 | PAS260: kg | PAT260: 국산 | PAU260: 30 | PAW260: 김치 | PAX260: 김치-4 | PAY260: 백김치 | PAZ260: 모든재료국산사용 | PBA260: kg | PBB260: 국산 | PBC260: 30 | PBE260: 김치 | PBF260: 김치-4 | PBG260: 백김치 | PBH260: 모든재료국산사용 | PBI260: kg | PBJ260: 국산 | PBK260: 30 | PBM260: 김치 | PBN260: 김치-4 | PBO260: 백김치 | PBP260: 모든재료국산사용 | PBQ260: kg | PBR260: 국산 | PBS260: 30 | PBU260: 김치 | PBV260: 김치-4 | PBW260: 백김치 | PBX260: 모든재료국산사용 | PBY260: kg | PBZ260: 국산 | PCA260: 30 | PCC260: 김치 | PCD260: 김치-4 | PCE260: 백김치 | PCF260: 모든재료국산사용 | PCG260: kg | PCH260: 국산 | PCI260: 30 | PCK260: 김치 | PCL260: 김치-4 | PCM260: 백김치 | PCN260: 모든재료국산사용 | PCO260: kg | PCP260: 국산 | PCQ260: 30 | PCS260: 김치 | PCT260: 김치-4 | PCU260: 백김치 | PCV260: 모든재료국산사용 | PCW260: kg | PCX260: 국산 | PCY260: 30 | PDA260: 김치 | PDB260: 김치-4 | PDC260: 백김치 | PDD260: 모든재료국산사용 | PDE260: kg | PDF260: 국산 | PDG260: 30 | PDI260: 김치 | PDJ260: 김치-4 | PDK260: 백김치 | PDL260: 모든재료국산사용 | PDM260: kg | PDN260: 국산 | PDO260: 30 | PDQ260: 김치 | PDR260: 김치-4 | PDS260: 백김치 | PDT260: 모든재료국산사용 | PDU260: kg | PDV260: 국산 | PDW260: 30 | PDY260: 김치 | PDZ260: 김치-4 | PEA260: 백김치 | PEB260: 모든재료국산사용 | PEC260: kg | PED260: 국산 | PEE260: 30 | PEG260: 김치 | PEH260: 김치-4 | PEI260: 백김치 | PEJ260: 모든재료국산사용 | PEK260: kg | PEL260: 국산 | PEM260: 30 | PEO260: 김치 | PEP260: 김치-4 | PEQ260: 백김치 | PER260: 모든재료국산사용 | PES260: kg | PET260: 국산 | PEU260: 30 | PEW260: 김치 | PEX260: 김치-4 | PEY260: 백김치 | PEZ260: 모든재료국산사용 | PFA260: kg | PFB260: 국산 | PFC260: 30 | PFE260: 김치 | PFF260: 김치-4 | PFG260: 백김치 | PFH260: 모든재료국산사용 | PFI260: kg | PFJ260: 국산 | PFK260: 30 | PFM260: 김치 | PFN260: 김치-4 | PFO260: 백김치 | PFP260: 모든재료국산사용 | PFQ260: kg | PFR260: 국산 | PFS260: 30 | PFU260: 김치 | PFV260: 김치-4 | PFW260: 백김치 | PFX260: 모든재료국산사용 | PFY260: kg | PFZ260: 국산 | PGA260: 30 | PGC260: 김치 | PGD260: 김치-4 | PGE260: 백김치 | PGF260: 모든재료국산사용 | PGG260: kg | PGH260: 국산 | PGI260: 30 | PGK260: 김치 | PGL260: 김치-4 | PGM260: 백김치 | PGN260: 모든재료국산사용 | PGO260: kg | PGP260: 국산 | PGQ260: 30 | PGS260: 김치 | PGT260: 김치-4 | PGU260: 백김치 | PGV260: 모든재료국산사용 | PGW260: kg | PGX260: 국산 | PGY260: 30 | PHA260: 김치 | PHB260: 김치-4 | PHC260: 백김치 | PHD260: 모든재료국산사용 | PHE260: kg | PHF260: 국산 | PHG260: 30 | PHI260: 김치 | PHJ260: 김치-4 | PHK260: 백김치 | PHL260: 모든재료국산사용 | PHM260: kg | PHN260: 국산 | PHO260: 30 | PHQ260: 김치 | PHR260: 김치-4 | PHS260: 백김치 | PHT260: 모든재료국산사용 | PHU260: kg | PHV260: 국산 | PHW260: 30 | PHY260: 김치 | PHZ260: 김치-4 | PIA260: 백김치 | PIB260: 모든재료국산사용 | PIC260: kg | PID260: 국산 | PIE260: 30 | PIG260: 김치 | PIH260: 김치-4 | PII260: 백김치 | PIJ260: 모든재료국산사용 | PIK260: kg | PIL260: 국산 | PIM260: 30 | PIO260: 김치 | PIP260: 김치-4 | PIQ260: 백김치 | PIR260: 모든재료국산사용 | PIS260: kg | PIT260: 국산 | PIU260: 30 | PIW260: 김치 | PIX260: 김치-4 | PIY260: 백김치 | PIZ260: 모든재료국산사용 | PJA260: kg | PJB260: 국산 | PJC260: 30 | PJE260: 김치 | PJF260: 김치-4 | PJG260: 백김치 | PJH260: 모든재료국산사용 | PJI260: kg | PJJ260: 국산 | PJK260: 30 | PJM260: 김치 | PJN260: 김치-4 | PJO260: 백김치 | PJP260: 모든재료국산사용 | PJQ260: kg | PJR260: 국산 | PJS260: 30 | PJU260: 김치 | PJV260: 김치-4 | PJW260: 백김치 | PJX260: 모든재료국산사용 | PJY260: kg | PJZ260: 국산 | PKA260: 30 | PKC260: 김치 | PKD260: 김치-4 | PKE260: 백김치 | PKF260: 모든재료국산사용 | PKG260: kg | PKH260: 국산 | PKI260: 30 | PKK260: 김치 | PKL260: 김치-4 | PKM260: 백김치 | PKN260: 모든재료국산사용 | PKO260: kg | PKP260: 국산 | PKQ260: 30 | PKS260: 김치 | PKT260: 김치-4 | PKU260: 백김치 | PKV260: 모든재료국산사용 | PKW260: kg | PKX260: 국산 | PKY260: 30 | PLA260: 김치 | PLB260: 김치-4 | PLC260: 백김치 | PLD260: 모든재료국산사용 | PLE260: kg | PLF260: 국산 | PLG260: 30 | PLI260: 김치 | PLJ260: 김치-4 | PLK260: 백김치 | PLL260: 모든재료국산사용 | PLM260: kg | PLN260: 국산 | PLO260: 30 | PLQ260: 김치 | PLR260: 김치-4 | PLS260: 백김치 | PLT260: 모든재료국산사용 | PLU260: kg | PLV260: 국산 | PLW260: 30 | PLY260: 김치 | PLZ260: 김치-4 | PMA260: 백김치 | PMB260: 모든재료국산사용 | PMC260: kg | PMD260: 국산 | PME260: 30 | PMG260: 김치 | PMH260: 김치-4 | PMI260: 백김치 | PMJ260: 모든재료국산사용 | PMK260: kg | PML260: 국산 | PMM260: 30 | PMO260: 김치 | PMP260: 김치-4 | PMQ260: 백김치 | PMR260: 모든재료국산사용 | PMS260: kg | PMT260: 국산 | PMU260: 30 | PMW260: 김치 | PMX260: 김치-4 | PMY260: 백김치 | PMZ260: 모든재료국산사용 | PNA260: kg | PNB260: 국산 | PNC260: 30 | PNE260: 김치 | PNF260: 김치-4 | PNG260: 백김치 | PNH260: 모든재료국산사용 | PNI260: kg | PNJ260: 국산 | PNK260: 30 | PNM260: 김치 | PNN260: 김치-4 | PNO260: 백김치 | PNP260: 모든재료국산사용 | PNQ260: kg | PNR260: 국산 | PNS260: 30 | PNU260: 김치 | PNV260: 김치-4 | PNW260: 백김치 | PNX260: 모든재료국산사용 | PNY260: kg | PNZ260: 국산 | POA260: 30 | POC260: 김치 | POD260: 김치-4 | POE260: 백김치 | POF260: 모든재료국산사용 | POG260: kg | POH260: 국산 | POI260: 30 | POK260: 김치 | POL260: 김치-4 | POM260: 백김치 | PON260: 모든재료국산사용 | POO260: kg | POP260: 국산 | POQ260: 30 | POS260: 김치 | POT260: 김치-4 | POU260: 백김치 | POV260: 모든재료국산사용 | POW260: kg | POX260: 국산 | POY260: 30 | PPA260: 김치 | PPB260: 김치-4 | PPC260: 백김치 | PPD260: 모든재료국산사용 | PPE260: kg | PPF260: 국산 | PPG260: 30 | PPI260: 김치 | PPJ260: 김치-4 | PPK260: 백김치 | PPL260: 모든재료국산사용 | PPM260: kg | PPN260: 국산 | PPO260: 30 | PPQ260: 김치 | PPR260: 김치-4 | PPS260: 백김치 | PPT260: 모든재료국산사용 | PPU260: kg | PPV260: 국산 | PPW260: 30 | PPY260: 김치 | PPZ260: 김치-4 | PQA260: 백김치 | PQB260: 모든재료국산사용 | PQC260: kg | PQD260: 국산 | PQE260: 30 | PQG260: 김치 | PQH260: 김치-4 | PQI260: 백김치 | PQJ260: 모든재료국산사용 | PQK260: kg | PQL260: 국산 | PQM260: 30 | PQO260: 김치 | PQP260: 김치-4 | PQQ260: 백김치 | PQR260: 모든재료국산사용 | PQS260: kg | PQT260: 국산 | PQU260: 30 | PQW260: 김치 | PQX260: 김치-4 | PQY260: 백김치 | PQZ260: 모든재료국산사용 | PRA260: kg | PRB260: 국산 | PRC260: 30 | PRE260: 김치 | PRF260: 김치-4 | PRG260: 백김치 | PRH260: 모든재료국산사용 | PRI260: kg | PRJ260: 국산 | PRK260: 30 | PRM260: 김치 | PRN260: 김치-4 | PRO260: 백김치 | PRP260: 모든재료국산사용 | PRQ260: kg | PRR260: 국산 | PRS260: 30 | PRU260: 김치 | PRV260: 김치-4 | PRW260: 백김치 | PRX260: 모든재료국산사용 | PRY260: kg | PRZ260: 국산 | PSA260: 30 | PSC260: 김치 | PSD260: 김치-4 | PSE260: 백김치 | PSF260: 모든재료국산사용 | PSG260: kg | PSH260: 국산 | PSI260: 30 | PSK260: 김치 | PSL260: 김치-4 | PSM260: 백김치 | PSN260: 모든재료국산사용 | PSO260: kg | PSP260: 국산 | PSQ260: 30 | PSS260: 김치 | PST260: 김치-4 | PSU260: 백김치 | PSV260: 모든재료국산사용 | PSW260: kg | PSX260: 국산 | PSY260: 30 | PTA260: 김치 | PTB260: 김치-4 | PTC260: 백김치 | PTD260: 모든재료국산사용 | PTE260: kg | PTF260: 국산 | PTG260: 30 | PTI260: 김치 | PTJ260: 김치-4 | PTK260: 백김치 | PTL260: 모든재료국산사용 | PTM260: kg | PTN260: 국산 | PTO260: 30 | PTQ260: 김치 | PTR260: 김치-4 | PTS260: 백김치 | PTT260: 모든재료국산사용 | PTU260: kg | PTV260: 국산 | PTW260: 30 | PTY260: 김치 | PTZ260: 김치-4 | PUA260: 백김치 | PUB260: 모든재료국산사용 | PUC260: kg | PUD260: 국산 | PUE260: 30 | PUG260: 김치 | PUH260: 김치-4 | PUI260: 백김치 | PUJ260: 모든재료국산사용 | PUK260: kg | PUL260: 국산 | PUM260: 30 | PUO260: 김치 | PUP260: 김치-4 | PUQ260: 백김치 | PUR260: 모든재료국산사용 | PUS260: kg | PUT260: 국산 | PUU260: 30 | PUW260: 김치 | PUX260: 김치-4 | PUY260: 백김치 | PUZ260: 모든재료국산사용 | PVA260: kg | PVB260: 국산 | PVC260: 30 | PVE260: 김치 | PVF260: 김치-4 | PVG260: 백김치 | PVH260: 모든재료국산사용 | PVI260: kg | PVJ260: 국산 | PVK260: 30 | PVM260: 김치 | PVN260: 김치-4 | PVO260: 백김치 | PVP260: 모든재료국산사용 | PVQ260: kg | PVR260: 국산 | PVS260: 30 | PVU260: 김치 | PVV260: 김치-4 | PVW260: 백김치 | PVX260: 모든재료국산사용 | PVY260: kg | PVZ260: 국산 | PWA260: 30 | PWC260: 김치 | PWD260: 김치-4 | PWE260: 백김치 | PWF260: 모든재료국산사용 | PWG260: kg | PWH260: 국산 | PWI260: 30 | PWK260: 김치 | PWL260: 김치-4 | PWM260: 백김치 | PWN260: 모든재료국산사용 | PWO260: kg | PWP260: 국산 | PWQ260: 30 | PWS260: 김치 | PWT260: 김치-4 | PWU260: 백김치 | PWV260: 모든재료국산사용 | PWW260: kg | PWX260: 국산 | PWY260: 30 | PXA260: 김치 | PXB260: 김치-4 | PXC260: 백김치 | PXD260: 모든재료국산사용 | PXE260: kg | PXF260: 국산 | PXG260: 30 | PXI260: 김치 | PXJ260: 김치-4 | PXK260: 백김치 | PXL260: 모든재료국산사용 | PXM260: kg | PXN260: 국산 | PXO260: 30 | PXQ260: 김치 | PXR260: 김치-4 | PXS260: 백김치 | PXT260: 모든재료국산사용 | PXU260: kg | PXV260: 국산 | PXW260: 30 | PXY260: 김치 | PXZ260: 김치-4 | PYA260: 백김치 | PYB260: 모든재료국산사용 | PYC260: kg | PYD260: 국산 | PYE260: 30 | PYG260: 김치 | PYH260: 김치-4 | PYI260: 백김치 | PYJ260: 모든재료국산사용 | PYK260: kg | PYL260: 국산 | PYM260: 30 | PYO260: 김치 | PYP260: 김치-4 | PYQ260: 백김치 | PYR260: 모든재료국산사용 | PYS260: kg | PYT260: 국산 | PYU260: 30 | PYW260: 김치 | PYX260: 김치-4 | PYY260: 백김치 | PYZ260: 모든재료국산사용 | PZA260: kg | PZB260: 국산 | PZC260: 30 | PZE260: 김치 | PZF260: 김치-4 | PZG260: 백김치 | PZH260: 모든재료국산사용 | PZI260: kg | PZJ260: 국산 | PZK260: 30 | PZM260: 김치 | PZN260: 김치-4 | PZO260: 백김치 | PZP260: 모든재료국산사용 | PZQ260: kg | PZR260: 국산 | PZS260: 30 | PZU260: 김치 | PZV260: 김치-4 | PZW260: 백김치 | PZX260: 모든재료국산사용 | PZY260: kg | PZZ260: 국산 | QAA260: 30 | QAC260: 김치 | QAD260: 김치-4 | QAE260: 백김치 | QAF260: 모든재료국산사용 | QAG260: kg | QAH260: 국산 | QAI260: 30 | QAK260: 김치 | QAL260: 김치-4 | QAM260: 백김치 | QAN260: 모든재료국산사용 | QAO260: kg | QAP260: 국산 | QAQ260: 30 | QAS260: 김치 | QAT260: 김치-4 | QAU260: 백김치 | QAV260: 모든재료국산사용 | QAW260: kg | QAX260: 국산 | QAY260: 30 | QBA260: 김치 | QBB260: 김치-4 | QBC260: 백김치 | QBD260: 모든재료국산사용 | QBE260: kg | QBF260: 국산 | QBG260: 30 | QBI260: 김치 | QBJ260: 김치-4 | QBK260: 백김치 | QBL260: 모든재료국산사용 | QBM260: kg | QBN260: 국산 | QBO260: 30 | QBQ260: 김치 | QBR260: 김치-4 | QBS260: 백김치 | QBT260: 모든재료국산사용 | QBU260: kg | QBV260: 국산 | QBW260: 30 | QBY260: 김치 | QBZ260: 김치-4 | QCA260: 백김치 | QCB260: 모든재료국산사용 | QCC260: kg | QCD260: 국산 | QCE260: 30 | QCG260: 김치 | QCH260: 김치-4 | QCI260: 백김치 | QCJ260: 모든재료국산사용 | QCK260: kg | QCL260: 국산 | QCM260: 30 | QCO260: 김치 | QCP260: 김치-4 | QCQ260: 백김치 | QCR260: 모든재료국산사용 | QCS260: kg | QCT260: 국산 | QCU260: 30 | QCW260: 김치 | QCX260: 김치-4 | QCY260: 백김치 | QCZ260: 모든재료국산사용 | QDA260: kg | QDB260: 국산 | QDC260: 30 | QDE260: 김치 | QDF260: 김치-4 | QDG260: 백김치 | QDH260: 모든재료국산사용 | QDI260: kg | QDJ260: 국산 | QDK260: 30 | QDM260: 김치 | QDN260: 김치-4 | QDO260: 백김치 | QDP260: 모든재료국산사용 | QDQ260: kg | QDR260: 국산 | QDS260: 30 | QDU260: 김치 | QDV260: 김치-4 | QDW260: 백김치 | QDX260: 모든재료국산사용 | QDY260: kg | QDZ260: 국산 | QEA260: 30 | QEC260: 김치 | QED260: 김치-4 | QEE260: 백김치 | QEF260: 모든재료국산사용 | QEG260: kg | QEH260: 국산 | QEI260: 30 | QEK260: 김치 | QEL260: 김치-4 | QEM260: 백김치 | QEN260: 모든재료국산사용 | QEO260: kg | QEP260: 국산 | QEQ260: 30 | QES260: 김치 | QET260: 김치-4 | QEU260: 백김치 | QEV260: 모든재료국산사용 | QEW260: kg | QEX260: 국산 | QEY260: 30 | QFA260: 김치 | QFB260: 김치-4 | QFC260: 백김치 | QFD260: 모든재료국산사용 | QFE260: kg | QFF260: 국산 | QFG260: 30 | QFI260: 김치 | QFJ260: 김치-4 | QFK260: 백김치 | QFL260: 모든재료국산사용 | QFM260: kg | QFN260: 국산 | QFO260: 30 | QFQ260: 김치 | QFR260: 김치-4 | QFS260: 백김치 | QFT260: 모든재료국산사용 | QFU260: kg | QFV260: 국산 | QFW260: 30 | QFY260: 김치 | QFZ260: 김치-4 | QGA260: 백김치 | QGB260: 모든재료국산사용 | QGC260: kg | QGD260: 국산 | QGE260: 30 | QGG260: 김치 | QGH260: 김치-4 | QGI260: 백김치 | QGJ260: 모든재료국산사용 | QGK260: kg | QGL260: 국산 | QGM260: 30 | QGO260: 김치 | QGP260: 김치-4 | QGQ260: 백김치 | QGR260: 모든재료국산사용 | QGS260: kg | QGT260: 국산 | QGU260: 30 | QGW260: 김치 | QGX260: 김치-4 | QGY260: 백김치 | QGZ260: 모든재료국산사용 | QHA260: kg | QHB260: 국산 | QHC260: 30 | QHE260: 김치 | QHF260: 김치-4 | QHG260: 백김치 | QHH260: 모든재료국산사용 | QHI260: kg | QHJ260: 국산 | QHK260: 30 | QHM260: 김치 | QHN260: 김치-4 | QHO260: 백김치 | QHP260: 모든재료국산사용 | QHQ260: kg | QHR260: 국산 | QHS260: 30 | QHU260: 김치 | QHV260: 김치-4 | QHW260: 백김치 | QHX260: 모든재료국산사용 | QHY260: kg | QHZ260: 국산 | QIA260: 30 | QIC260: 김치 | QID260: 김치-4 | QIE260: 백김치 | QIF260: 모든재료국산사용 | QIG260: kg | QIH260: 국산 | QII260: 30 | QIK260: 김치 | QIL260: 김치-4 | QIM260: 백김치 | QIN260: 모든재료국산사용 | QIO260: kg | QIP260: 국산 | QIQ260: 30 | QIS260: 김치 | QIT260: 김치-4 | QIU260: 백김치 | QIV260: 모든재료국산사용 | QIW260: kg | QIX260: 국산 | QIY260: 30 | QJA260: 김치 | QJB260: 김치-4 | QJC260: 백김치 | QJD260: 모든재료국산사용 | QJE260: kg | QJF260: 국산 | QJG260: 30 | QJI260: 김치 | QJJ260: 김치-4 | QJK260: 백김치 | QJL260: 모든재료국산사용 | QJM260: kg | QJN260: 국산 | QJO260: 30 | QJQ260: 김치 | QJR260: 김치-4 | QJS260: 백김치 | QJT260: 모든재료국산사용 | QJU260: kg | QJV260: 국산 | QJW260: 30 | QJY260: 김치 | QJZ260: 김치-4 | QKA260: 백김치 | QKB260: 모든재료국산사용 | QKC260: kg | QKD260: 국산 | QKE260: 30 | QKG260: 김치 | QKH260: 김치-4 | QKI260: 백김치 | QKJ260: 모든재료국산사용 | QKK260: kg | QKL260: 국산 | QKM260: 30 | QKO260: 김치 | QKP260: 김치-4 | QKQ260: 백김치 | QKR260: 모든재료국산사용 | QKS260: kg | QKT260: 국산 | QKU260: 30 | QKW260: 김치 | QKX260: 김치-4 | QKY260: 백김치 | QKZ260: 모든재료국산사용 | QLA260: kg | QLB260: 국산 | QLC260: 30 | QLE260: 김치 | QLF260: 김치-4 | QLG260: 백김치 | QLH260: 모든재료국산사용 | QLI260: kg | QLJ260: 국산 | QLK260: 30 | QLM260: 김치 | QLN260: 김치-4 | QLO260: 백김치 | QLP260: 모든재료국산사용 | QLQ260: kg | QLR260: 국산 | QLS260: 30 | QLU260: 김치 | QLV260: 김치-4 | QLW260: 백김치 | QLX260: 모든재료국산사용 | QLY260: kg | QLZ260: 국산 | QMA260: 30 | QMC260: 김치 | QMD260: 김치-4 | QME260: 백김치 | QMF260: 모든재료국산사용 | QMG260: kg | QMH260: 국산 | QMI260: 30 | QMK260: 김치 | QML260: 김치-4 | QMM260: 백김치 | QMN260: 모든재료국산사용 | QMO260: kg | QMP260: 국산 | QMQ260: 30 | QMS260: 김치 | QMT260: 김치-4 | QMU260: 백김치 | QMV260: 모든재료국산사용 | QMW260: kg | QMX260: 국산 | QMY260: 30 | QNA260: 김치 | QNB260: 김치-4 | QNC260: 백김치 | QND260: 모든재료국산사용 | QNE260: kg | QNF260: 국산 | QNG260: 30 | QNI260: 김치 | QNJ260: 김치-4 | QNK260: 백김치 | QNL260: 모든재료국산사용 | QNM260: kg | QNN260: 국산 | QNO260: 30 | QNQ260: 김치 | QNR260: 김치-4 | QNS260: 백김치 | QNT260: 모든재료국산사용 | QNU260: kg | QNV260: 국산 | QNW260: 30 | QNY260: 김치 | QNZ260: 김치-4 | QOA260: 백김치 | QOB260: 모든재료국산사용 | QOC260: kg | QOD260: 국산 | QOE260: 30 | QOG260: 김치 | QOH260: 김치-4 | QOI260: 백김치 | QOJ260: 모든재료국산사용 | QOK260: kg | QOL260: 국산 | QOM260: 30 | QOO260: 김치 | QOP260: 김치-4 | QOQ260: 백김치 | QOR260: 모든재료국산사용 | QOS260: kg | QOT260: 국산 | QOU260: 30 | QOW260: 김치 | QOX260: 김치-4 | QOY260: 백김치 | QOZ260: 모든재료국산사용 | QPA260: kg | QPB260: 국산 | QPC260: 30 | QPE260: 김치 | QPF260: 김치-4 | QPG260: 백김치 | QPH260: 모든재료국산사용 | QPI260: kg | QPJ260: 국산 | QPK260: 30 | QPM260: 김치 | QPN260: 김치-4 | QPO260: 백김치 | QPP260: 모든재료국산사용 | QPQ260: kg | QPR260: 국산 | QPS260: 30 | QPU260: 김치 | QPV260: 김치-4 | QPW260: 백김치 | QPX260: 모든재료국산사용 | QPY260: kg | QPZ260: 국산 | QQA260: 30 | QQC260: 김치 | QQD260: 김치-4 | QQE260: 백김치 | QQF260: 모든재료국산사용 | QQG260: kg | QQH260: 국산 | QQI260: 30 | QQK260: 김치 | QQL260: 김치-4 | QQM260: 백김치 | QQN260: 모든재료국산사용 | QQO260: kg | QQP260: 국산 | QQQ260: 30 | QQS260: 김치 | QQT260: 김치-4 | QQU260: 백김치 | QQV260: 모든재료국산사용 | QQW260: kg | QQX260: 국산 | QQY260: 30 | QRA260: 김치 | QRB260: 김치-4 | QRC260: 백김치 | QRD260: 모든재료국산사용 | QRE260: kg | QRF260: 국산 | QRG260: 30 | QRI260: 김치 | QRJ260: 김치-4 | QRK260: 백김치 | QRL260: 모든재료국산사용 | QRM260: kg | QRN260: 국산 | QRO260: 30 | QRQ260: 김치 | QRR260: 김치-4 | QRS260: 백김치 | QRT260: 모든재료국산사용 | QRU260: kg | QRV260: 국산 | QRW260: 30 | QRY260: 김치 | QRZ260: 김치-4 | QSA260: 백김치 | QSB260: 모든재료국산사용 | QSC260: kg | QSD260: 국산 | QSE260: 30 | QSG260: 김치 | QSH260: 김치-4 | QSI260: 백김치 | QSJ260: 모든재료국산사용 | QSK260: kg | QSL260: 국산 | QSM260: 30 | QSO260: 김치 | QSP260: 김치-4 | QSQ260: 백김치 | QSR260: 모든재료국산사용 | QSS260: kg | QST260: 국산 | QSU260: 30 | QSW260: 김치 | QSX260: 김치-4 | QSY260: 백김치 | QSZ260: 모든재료국산사용 | QTA260: kg | QTB260: 국산 | QTC260: 30 | QTE260: 김치 | QTF260: 김치-4 | QTG260: 백김치 | QTH260: 모든재료국산사용 | QTI260: kg | QTJ260: 국산 | QTK260: 30 | QTM260: 김치 | QTN260: 김치-4 | QTO260: 백김치 | QTP260: 모든재료국산사용 | QTQ260: kg | QTR260: 국산 | QTS260: 30 | QTU260: 김치 | QTV260: 김치-4 | QTW260: 백김치 | QTX260: 모든재료국산사용 | QTY260: kg | QTZ260: 국산 | QUA260: 30 | QUC260: 김치 | QUD260: 김치-4 | QUE260: 백김치 | QUF260: 모든재료국산사용 | QUG260: kg | QUH260: 국산 | QUI260: 30 | QUK260: 김치 | QUL260: 김치-4 | QUM260: 백김치 | QUN260: 모든재료국산사용 | QUO260: kg | QUP260: 국산 | QUQ260: 30 | QUS260: 김치 | QUT260: 김치-4 | QUU260: 백김치 | QUV260: 모든재료국산사용 | QUW260: kg | QUX260: 국산 | QUY260: 30 | QVA260: 김치 | QVB260: 김치-4 | QVC260: 백김치 | QVD260: 모든재료국산사용 | QVE260: kg | QVF260: 국산 | QVG260: 30 | QVI260: 김치 | QVJ260: 김치-4 | QVK260: 백김치 | QVL260: 모든재료국산사용 | QVM260: kg | QVN260: 국산 | QVO260: 30 | QVQ260: 김치 | QVR260: 김치-4 | QVS260: 백김치 | QVT260: 모든재료국산사용 | QVU260: kg | QVV260: 국산 | QVW260: 30 | QVY260: 김치 | QVZ260: 김치-4 | QWA260: 백김치 | QWB260: 모든재료국산사용 | QWC260: kg | QWD260: 국산 | QWE260: 30 | QWG260: 김치 | QWH260: 김치-4 | QWI260: 백김치 | QWJ260: 모든재료국산사용 | QWK260: kg | QWL260: 국산 | QWM260: 30 | QWO260: 김치 | QWP260: 김치-4 | QWQ260: 백김치 | QWR260: 모든재료국산사용 | QWS260: kg | QWT260: 국산 | QWU260: 30 | QWW260: 김치 | QWX260: 김치-4 | QWY260: 백김치 | QWZ260: 모든재료국산사용 | QXA260: kg | QXB260: 국산 | QXC260: 30 | QXE260: 김치 | QXF260: 김치-4 | QXG260: 백김치 | QXH260: 모든재료국산사용 | QXI260: kg | QXJ260: 국산 | QXK260: 30 | QXM260: 김치 | QXN260: 김치-4 | QXO260: 백김치 | QXP260: 모든재료국산사용 | QXQ260: kg | QXR260: 국산 | QXS260: 30 | QXU260: 김치 | QXV260: 김치-4 | QXW260: 백김치 | QXX260: 모든재료국산사용 | QXY260: kg | QXZ260: 국산 | QYA260: 30 | QYC260: 김치 | QYD260: 김치-4 | QYE260: 백김치 | QYF260: 모든재료국산사용 | QYG260: kg | QYH260: 국산 | QYI260: 30 | QYK260: 김치 | QYL260: 김치-4 | QYM260: 백김치 | QYN260: 모든재료국산사용 | QYO260: kg | QYP260: 국산 | QYQ260: 30 | QYS260: 김치 | QYT260: 김치-4 | QYU260: 백김치 | QYV260: 모든재료국산사용 | QYW260: kg | QYX260: 국산 | QYY260: 30 | QZA260: 김치 | QZB260: 김치-4 | QZC260: 백김치 | QZD260: 모든재료국산사용 | QZE260: kg | QZF260: 국산 | QZG260: 30 | QZI260: 김치 | QZJ260: 김치-4 | QZK260: 백김치 | QZL260: 모든재료국산사용 | QZM260: kg | QZN260: 국산 | QZO260: 30 | QZQ260: 김치 | QZR260: 김치-4 | QZS260: 백김치 | QZT260: 모든재료국산사용 | QZU260: kg | QZV260: 국산 | QZW260: 30 | QZY260: 김치 | QZZ260: 김치-4 | RAA260: 백김치 | RAB260: 모든재료국산사용 | RAC260: kg | RAD260: 국산 | RAE260: 30 | RAG260: 김치 | RAH260: 김치-4 | RAI260: 백김치 | RAJ260: 모든재료국산사용 | RAK260: kg | RAL260: 국산 | RAM260: 30 | RAO260: 김치 | RAP260: 김치-4 | RAQ260: 백김치 | RAR260: 모든재료국산사용 | RAS260: kg | RAT260: 국산 | RAU260: 30 | RAW260: 김치 | RAX260: 김치-4 | RAY260: 백김치 | RAZ260: 모든재료국산사용 | RBA260: kg | RBB260: 국산 | RBC260: 30 | RBE260: 김치 | RBF260: 김치-4 | RBG260: 백김치 | RBH260: 모든재료국산사용 | RBI260: kg | RBJ260: 국산 | RBK260: 30 | RBM260: 김치 | RBN260: 김치-4 | RBO260: 백김치 | RBP260: 모든재료국산사용 | RBQ260: kg | RBR260: 국산 | RBS260: 30 | RBU260: 김치 | RBV260: 김치-4 | RBW260: 백김치 | RBX260: 모든재료국산사용 | RBY260: kg | RBZ260: 국산 | RCA260: 30 | RCC260: 김치 | RCD260: 김치-4 | RCE260: 백김치 | RCF260: 모든재료국산사용 | RCG260: kg | RCH260: 국산 | RCI260: 30 | RCK260: 김치 | RCL260: 김치-4 | RCM260: 백김치 | RCN260: 모든재료국산사용 | RCO260: kg | RCP260: 국산 | RCQ260: 30 | RCS260: 김치 | RCT260: 김치-4 | RCU260: 백김치 | RCV260: 모든재료국산사용 | RCW260: kg | RCX260: 국산 | RCY260: 30 | RDA260: 김치 | RDB260: 김치-4 | RDC260: 백김치 | RDD260: 모든재료국산사용 | RDE260: kg | RDF260: 국산 | RDG260: 30 | RDI260: 김치 | RDJ260: 김치-4 | RDK260: 백김치 | RDL260: 모든재료국산사용 | RDM260: kg | RDN260: 국산 | RDO260: 30 | RDQ260: 김치 | RDR260: 김치-4 | RDS260: 백김치 | RDT260: 모든재료국산사용 | RDU260: kg | RDV260: 국산 | RDW260: 30 | RDY260: 김치 | RDZ260: 김치-4 | REA260: 백김치 | REB260: 모든재료국산사용 | REC260: kg | RED260: 국산 | REE260: 30 | REG260: 김치 | REH260: 김치-4 | REI260: 백김치 | REJ260: 모든재료국산사용 | REK260: kg | REL260: 국산 | REM260: 30 | REO260: 김치 | REP260: 김치-4 | REQ260: 백김치 | RER260: 모든재료국산사용 | RES260: kg | RET260: 국산 | REU260: 30 | REW260: 김치 | REX260: 김치-4 | REY260: 백김치 | REZ260: 모든재료국산사용 | RFA260: kg | RFB260: 국산 | RFC260: 30 | RFE260: 김치 | RFF260: 김치-4 | RFG260: 백김치 | RFH260: 모든재료국산사용 | RFI260: kg | RFJ260: 국산 | RFK260: 30 | RFM260: 김치 | RFN260: 김치-4 | RFO260: 백김치 | RFP260: 모든재료국산사용 | RFQ260: kg | RFR260: 국산 | RFS260: 30 | RFU260: 김치 | RFV260: 김치-4 | RFW260: 백김치 | RFX260: 모든재료국산사용 | RFY260: kg | RFZ260: 국산 | RGA260: 30 | RGC260: 김치 | RGD260: 김치-4 | RGE260: 백김치 | RGF260: 모든재료국산사용 | RGG260: kg | RGH260: 국산 | RGI260: 30 | RGK260: 김치 | RGL260: 김치-4 | RGM260: 백김치 | RGN260: 모든재료국산사용 | RGO260: kg | RGP260: 국산 | RGQ260: 30 | RGS260: 김치 | RGT260: 김치-4 | RGU260: 백김치 | RGV260: 모든재료국산사용 | RGW260: kg | RGX260: 국산 | RGY260: 30 | RHA260: 김치 | RHB260: 김치-4 | RHC260: 백김치 | RHD260: 모든재료국산사용 | RHE260: kg | RHF260: 국산 | RHG260: 30 | RHI260: 김치 | RHJ260: 김치-4 | RHK260: 백김치 | RHL260: 모든재료국산사용 | RHM260: kg | RHN260: 국산 | RHO260: 30
A261: 김치 | B261: 김치-3 | C261: 포기김치 | D261: 모든재료 국산사용 | E261: kg | G261: 370
