Workbook

Sheet 원가계산서
A1: 공 사 원 가 계 산 서
A2: 공사명 : 도개초등학교 휴게시설(2실) 환경개선공사 금액: 일천이백칠십칠만원(￦12,770,000)
A3: 구 분 비 목 | D3: 구 성 비 | E3: 금 액 | F3: 비 고
A5: 순 공 사 원 가 | B5: 재료비 | C5: 직 접 재 료 비 | G5: A1 | H5: 0 | I5: =E5 -> 0
C6: 간 접 재 료 비 | E6: =ROUNDDOWN(E5*H6, 0) -> 0 | G6: A2 | H6: 0 | I6: =E6 -> 0
C7: 작업설.부산물 등(△) | E7: =집계표!S20 -> 0 | G7: A3 | H7: 0 | I7: =E7 -> 0
C8: 소 계 | E8: =SUM(E5:E6)-ABS(E7) -> 0 | G8: A | H8: 0 | I8: =E8 -> 0
B9: 노무비 | C9: 직 접 노 무 비 | G9: B1 | H9: 0 | I9: =E9 -> 0
C10: 간 접 노 무 비 | D10: ="직.노*"&H10*100&"%" -> 직.노*17.5% | E10: =ROUNDDOWN(E9*H10, 0) -> 0 | G10: B2 | H10: 0.175 | I10: =E10 -> 0
C11: 소 계 | E11: =SUM(E9:E10) -> 0 | G11: B | H11: 0 | I11: =E11 -> 0
B12: 경 비 | C12: 기 계 경 비 | G12: C4 | H12: 0 | I12: =E12 -> 0
C13: 산 재 보 험 료 | D13: ="(노)*"&H13*100&"%" -> (노)*3.56% | E13: =ROUNDDOWN((E11)*H13, 0) -> 0 | G13: C10 | H13: 0.0356 | I13: =E13 -> 0
C14: 고 용 보 험 료 | D14: ="(노)*"&H14*100&"%" -> (노)*1.01% | E14: =ROUNDDOWN((E11)*H14, 0) -> 0 | G14: C11 | H14: 0.0101 | I14: =E14 -> 0
C15: 건 강 보 험 료 | E15: =ROUNDDOWN((E9)*H15, 0) -> 0 | G15: C12 | H15: 0 | I15: =E15 -> 0
C16: 연 금 보 험 료 | E16: =ROUNDDOWN((E9)*H16, 0) -> 0 | G16: C13 | H16: 0 | I16: =E16 -> 0
C17: 노인 장기 요양보험료 | E17: =ROUNDDOWN((E15)*H17, 0) -> 0 | G17: C14 | H17: 0 | I17: =E17 -> 0
C18: 퇴 직 공 제 부 금 비 | E18: =ROUNDDOWN((E9)*H18, 0) -> 0 | G18: C15 | H18: 0 | I18: =E18 -> 0
C19: 산업 안전 보건관리비 | D19: ="(재+직.노+(관급-0)/1.1)*"&H19*100&"%"&" < (재+직.노)*3.11%*1.2" -> (재+직.노+(관급-0)/1.1)*3.11% < (재+직.노)*3.11%*1.2 | F19: 3,559 < 4,271 | G19: C16 | H19: 0.0311 | I19: =E19 -> 0
C20: 기 타 경 비 | D20: ="(재+노)*"&H20*100&"%" -> (재+노)*5% | E20: =ROUNDDOWN((E8+E11)*H20, 0) -> 0 | G20: C20 | H20: 0.05 | I20: =E20 -> 0
C21: 환 경 보 전 비 | D21: ="(재+직.노+기.경)*"&H21*100&"%" -> (재+직.노+기.경)*0.5% | E21: =ROUNDDOWN((E8+E9+E12)*H21, 0) -> 0 | G21: C25 | H21: 0.005 | I21: =E21 -> 0
C22: 건설하도급보증수수료 | D22: ="(재+직.노+기.경)*"&H22*100&"%" -> (재+직.노+기.경)*0.081% | G22: C30 | H22: 0.00081 | I22: =E22 -> 0
C23: 공사 이행 보증수수료 | D23: ="(재+직.노+기.경)*"&H23*100&"%"&"*(1/12)" -> (재+직.노+기.경)*0.0108%*(1/12) | G23: C31 | H23: 0.000108 | I23: =E23 -> 0
C24: 건설기계대여보증수수료 | D24: ="(재+직.노+기.경)*"&H24*100&"%" -> (재+직.노+기.경)*0.07% | G24: C32 | H24: 0.0007 | I24: =E24 -> 0
C25: 안 전 관 리 비 | E25: =집계표!AD20 -> 0 | G25: C17 | H25: 0 | I25: =E25 -> 0
C26: 품 질 관 리 비 | E26: =집계표!AE20 -> 0 | G26: C18 | H26: 0 | I26: =E26 -> 0
C27: 석 면 분 담 금 | D27: ="노*"&H27*100&"%" -> 노*0.006% | E27: =ROUNDDOWN(E11*H27, 0) -> 0 | G27: C21 | H27: 6e-05 | I27: =E27 -> 0
C28: 임금 채권 부담금 | D28: ="노*"&H28*100&"%" -> 노*0.09% | E28: =ROUNDDOWN(E11*H28, 0) -> 0 | G28: C22 | H28: 0.0009 | I28: =E28 -> 0
C29: 소 계 | E29: =SUM(E12:E28) -> 0 | G29: C | H29: 0 | I29: =E29 -> 0
B30: 계 | E30: =E8+E11+E29 -> 0 | G30: X | H30: 0 | I30: =E30 -> 0
A31: 일 반 관 리 비 | D31: ="(재+노+경)*"&H31*100&"%" -> (재+노+경)*8% | E31: =ROUNDDOWN((E8+E11+E29)*H31, 0) -> 0 | G31: D | H31: 0.08 | I31: =E31 -> 0
A32: 이 윤 | D32: ="(노+경+일)*"&H32*100&"%" -> (노+경+일)*14.801122% | E32: =E35-E34-E33-E31-E30 -> 0 | G32: E | H32: 0.14801122 | I32: =(I11+I29+I31)*H32+909 -> 909
A33: 작업설.부산물 등(△) | E33: =집계표!AF20 -> 0 | G33: M2 | H33: 0 | I33: =E33 -> 0
A34: 손해배상보험료 | E34: =ROUNDDOWN((E30+E31+((E11+E29+E31)*0.15)+E33+E38)*H34, 0) -> 0 | G34: L1 | H34: 0 | I34: =E34 -> 0
A35: 총 원 가 | E35: =ROUNDDOWN(E37-E36, 0) -> 0 | G35: F | H35: 0 | I35: =SUM(I30:I34) -> 909
A36: 부 가 가 치 세 | D36: ="(총원가)*"&H36*100&"%" -> (총원가)*10% | E36: =ROUNDDOWN(((E37)/110)*10, 0) -> 0 | G36: H | H36: 0.1 | I36: =ROUNDDOWN((I35)*H36, 0) -> 90
A37: 도 급 금 액 | E37: =INT(I37/1000)*1000 -> 0 | G37: Y | H37: 0 | I37: =I35+I36 -> 999
A38: 관 급 자 재 대 | E38: =집계표!AA20 -> 0 | G38: J | H38: 0 | I38: =E38 -> 0
A39: 사 급 자 재 대 | E39: =집계표!Z20 -> 0 | G39: K | H39: 0 | I39: =E39 -> 0
A40: 재해예방기술지도비 | E40: =집계표!AG20 -> 0 | G40: M3 | H40: 0 | I40: =E40 -> 0
A41: 폐 기 물 처 리 비 | E41: =집계표!W20 -> 0 | G41: L | H41: 0 | I41: =E41 -> 0
A42: 총 공 사 금 액 | E42: =ROUNDDOWN(E37+E38+E39+E40+E41, 0) -> 0 | H42: 0 | I42: =I37+I38+I39+I40+I41 -> 999

Sheet 집계표
A1: 공 사 집 계 표
A2: =원가계산서!A2 -> 공사명 : 도개초등학교 휴게시설(2실) 환경개선공사 금액: 일천이백칠십칠만원(￦12,770,000)
A3: 품 명 | B3: 단위 | C3: 수량 | D3: 재 료 비 | F3: 노 무 비 | H3: 경 비 | J3: 합 계 | L3: 비고
D4: 단 가 | E4: 금 액 | F4: 단 가 | G4: 금 액 | H4: 단 가 | I4: 금 액 | J4: 단 가 | K4: 금 액 | M4: 손료요율 | N4: 손료구분 | O4: 적용구분 | P4: 합계구분 | Q4: 기계경비 | R4: 운반비 | S4: 작업부산물 | T4: 관급 | U4: 외주비 | V4: 장비비 | W4: 폐기물처리비 | X4: 가설비 | Y4: 잡비제외분 | Z4: 사급자재대 | AA4: 관급자재대 | AB4: 사용자항목1 | AC4: 사용자항목2 | AD4: 안전관리비 | AE4: 품질관리비 | AF4: 작업부산물(철거해체) | AG4: 사용자항목6 | AH4: 사용자항목7 | AI4: 사용자항목8 | AJ4: 사용자항목9 | AK4: 사용자항목10 | AL4: 사용자항목11 | AM4: 사용자항목12 | AN4: 사용자항목13 | AO4: 사용자항목14 | AP4: 사용자항목15 | AQ4: 사용자항목16 | AR4: 사용자항목17 | AS4: 사용자항목18 | AT4: 사용자항목19 | AU4: 간접재료비 | AV4: 품목구분 | AW4: 조달코드 | AX4: 구분
A5: 01. 가설공사 | B5: 식 | C5: 1 | D5: =내역서!F20 -> 0 | E5: =C5*D5 -> 0 | F5: =내역서!H20 -> 0 | G5: =C5*F5 -> 0 | H5: =내역서!J20 -> 0 | I5: =C5*H5 -> 0 | J5: =D5+F5+H5 -> 0 | K5: =E5+G5+I5 -> 0 | P5: 1 | Q5: =C5*내역서!R20 -> 0 | R5: =C5*내역서!S20 -> 0 | S5: =C5*내역서!T20 -> 0 | T5: =C5*내역서!U20 -> 0 | U5: =C5*내역서!V20 -> 0 | V5: =C5*내역서!W20 -> 0 | W5: =C5*내역서!X20 -> 0 | X5: =C5*내역서!Y20 -> 0 | Y5: =C5*내역서!Z20 -> 0 | Z5: =C5*내역서!AA20 -> 0 | AA5: =C5*내역서!AB20 -> 0 | AB5: =C5*내역서!AC20 -> 0 | AC5: =C5*내역서!AD20 -> 0 | AD5: =C5*내역서!AE20 -> 0 | AE5: =C5*내역서!AF20 -> 0 | AF5: =C5*내역서!AG20 -> 0 | AG5: =C5*내역서!AH20 -> 0 | AH5: =C5*내역서!AI20 -> 0 | AI5: =C5*내역서!AJ20 -> 0 | AJ5: =C5*내역서!AK20 -> 0 | AK5: =C5*내역서!AL20 -> 0 | AL5: =C5*내역서!AM20 -> 0 | AM5: =C5*내역서!AN20 -> 0 | AN5: =C5*내역서!AO20 -> 0 | AO5: =C5*내역서!AP20 -> 0 | AP5: =C5*내역서!AQ20 -> 0 | AQ5: =C5*내역서!AR20 -> 0 | AR5: =C5*내역서!AS20 -> 0 | AS5: =C5*내역서!AT20 -> 0 | AT5: =C5*내역서!AU20 -> 0 | AU5: =C5*내역서!AV20 -> 0
A6: 02. 수장공사 | B6: 식 | C6: 1 | D6: =내역서!F35 -> 0 | E6: =C6*D6 -> 0 | F6: =내역서!H35 -> 0 | G6: =C6*F6 -> 0 | H6: =내역서!J35 -> 0 | I6: =C6*H6 -> 0 | J6: =D6+F6+H6 -> 0 | K6: =E6+G6+I6 -> 0 | P6: 1 | Q6: =C6*내역서!R35 -> 0 | R6: =C6*내역서!S35 -> 0 | S6: =C6*내역서!T35 -> 0 | T6: =C6*내역서!U35 -> 0 | U6: =C6*내역서!V35 -> 0 | V6: =C6*내역서!W35 -> 0 | W6: =C6*내역서!X35 -> 0 | X6: =C6*내역서!Y35 -> 0 | Y6: =C6*내역서!Z35 -> 0 | Z6: =C6*내역서!AA35 -> 0 | AA6: =C6*내역서!AB35 -> 0 | AB6: =C6*내역서!AC35 -> 0 | AC6: =C6*내역서!AD35 -> 0 | AD6: =C6*내역서!AE35 -> 0 | AE6: =C6*내역서!AF35 -> 0 | AF6: =C6*내역서!AG35 -> 0 | AG6: =C6*내역서!AH35 -> 0 | AH6: =C6*내역서!AI35 -> 0 | AI6: =C6*내역서!AJ35 -> 0 | AJ6: =C6*내역서!AK35 -> 0 | AK6: =C6*내역서!AL35 -> 0 | AL6: =C6*내역서!AM35 -> 0 | AM6: =C6*내역서!AN35 -> 0 | AN6: =C6*내역서!AO35 -> 0 | AO6: =C6*내역서!AP35 -> 0 | AP6: =C6*내역서!AQ35 -> 0 | AQ6: =C6*내역서!AR35 -> 0 | AR6: =C6*내역서!AS35 -> 0 | AS6: =C6*내역서!AT35 -> 0 | AT6: =C6*내역서!AU35 -> 0 | AU6: =C6*내역서!AV35 -> 0
A20: 합 계 | E20: =SUMIF(P5:P6, "1", E5:E6) -> 0 | G20: =SUMIF(P5:P6, "1", G5:G6) -> 0 | I20: =SUMIF(P5:P6, "1", I5:I6) -> 0 | K20: =E20+G20+I20 -> 0 | Q20: =SUM(Q5:Q6) -> 0 | R20: =SUM(R5:R6) -> 0 | S20: =SUM(S5:S6) -> 0 | T20: =SUM(T5:T6) -> 0 | U20: =SUM(U5:U6) -> 0 | V20: =SUM(V5:V6) -> 0 | W20: =SUM(W5:W6) -> 0 | X20: =SUM(X5:X6) -> 0 | ... AX20: =SUM(AX5:AX6) -> 0

Sheet 내역서
A1: 공 사 내 역 서
A2: =집계표!A2 -> 공사명 : 도개초등학교 휴게시설(2실) 환경개선공사 금액: 일천이백칠십칠만원(￦12,770,000)
A3: 품 명 | B3: 규 격 | C3: 단위 | D3: 수 량 | E3: 재 료 비 | G3: 노 무 비 | I3: 경 비 | K3: 합 계 | M3: 비고
E4: 단 가 | F4: 금 액 | G4: 단 가 | H4: 금 액 | I4: 단 가 | J4: 금 액 | K4: 단 가 | L4: 금 액 | N4: 손료요율 | O4: 손료구분 | P4: 적용구분 | Q4: 합계구분 | R4: 기계경비 | S4: 운반비 | T4: 작업부산물 | U4: 관급 | V4: 외주비 | W4: 장비비 | X4: 폐기물처리비 | Y4: 가설비 | Z4: 잡비제외분 | AA4: 사급자재대 | AB4: 관급자재대 | AC4: 사용자항목1 | AD4: 사용자항목2 | AE4: 안전관리비 | AF4: 품질관리비 | AG4: 작업부산물(철거해체) | AH4: 사용자항목6 | AI4: 사용자항목7 | AJ4: 사용자항목8 | AK4: 사용자항목9 | AL4: 사용자항목10 | AM4: 사용자항목11 | AN4: 사용자항목12 | AO4: 사용자항목13 | AP4: 사용자항목14 | AQ4: 사용자항목15 | AR4: 사용자항목16 | AS4: 사용자항목17 | AT4: 사용자항목18 | AU4: 사용자항목19 | AV4: 간접재료비 | AW4: 품목구분 | AX4: 조달코드 | AY4: 구분
A5: 01. 가설공사
A6: 건축물현장정리 | B6: 개보수 | C6: M2 | D6: 26.61 | F6: =ROUNDDOWN(D6*E6, 0) -> 0 | H6: =ROUNDDOWN(D6*G6, 0) -> 0 | J6: =ROUNDDOWN(D6*I6, 0) -> 0 | K6: =E6+G6+I6 -> 0 | L6: =F6+H6+J6 -> 0 | O6: ="" | P6: 기계경비 | Q6: 1 | R6: =IF(P6="기계경비", J6, 0) -> 0 | S6: =IF(P6="운반비", L6, 0) -> 0 | T6: =IF(P6="작업부산물", F6, 0) -> 0 | U6: =IF(P6="관급", F6, 0) -> 0 | V6: =IF(P6="외주비", J6, 0) -> 0 | W6: =IF(P6="장비비", J6, 0) -> 0 | X6: =IF(P6="폐기물처리비", L6, 0) -> 0 | Y6: =IF(P6="가설비", J6, 0) -> 0 | Z6: =IF(P6="잡비제외분", F6, 0) -> 0 | AA6: =IF(P6="사급자재대", L6, 0) -> 0 | AB6: =IF(P6="관급자재대", L6, 0) -> 0 | AC6: =IF(P6="사용자항목1", L6, 0) -> 0 | AD6: =IF(P6="사용자항목2", L6, 0) -> 0 | AE6: =IF(P6="안전관리비", L6, 0) -> 0 | AF6: =IF(P6="품질관리비", L6, 0) -> 0 | AG6: =IF(P6="작업부산물(철거해체)", L6, 0) -> 0 | AH6: =IF(P6="사용자항목6", L6, 0) -> 0 | AI6: =IF(P6="사용자항목7", L6, 0) -> 0 | AJ6: =IF(P6="사용자항목8", L6, 0) -> 0 | AK6: =IF(P6="사용자항목9", L6, 0) -> 0 | AL6: =IF(P6="사용자항목10", L6, 0) -> 0 | AM6: =IF(P6="사용자항목11", L6, 0) -> 0 | AN6: =IF(P6="사용자항목12", L6, 0) -> 0 | AO6: =IF(P6="사용자항목13", L6, 0) -> 0 | AP6: =IF(P6="사용자항목14", L6, 0) -> 0 | AQ6: =IF(P6="사용자항목15", L6, 0) -> 0 | AR6: =IF(P6="사용자항목16", L6, 0) -> 0 | AS6: =IF(P6="사용자항목17", L6, 0) -> 0 | AT6: =IF(P6="사용자항목18", L6, 0) -> 0 | AU6: =IF(P6="사용자항목19", L6, 0) -> 0
A20: 합 계 | F20: =ROUNDDOWN(SUMIF(Q6:Q19, "1", F6:F19), 0) -> 0 | H20: =ROUNDDOWN(SUMIF(Q6:Q19, "1", H6:H19), 0) -> 0 | J20: =ROUNDDOWN(SUMIF(Q6:Q19, "1", J6:J19), 0) -> 0 | L20: =F20+H20+J20 -> 0 | R20: =ROUNDDOWN(SUM(R6:R6), 0) -> 0 | S20: =ROUNDDOWN(SUM(S6:S6), 0) -> 0 | T20: =ROUNDDOWN(SUM(T6:T6), 0) -> 0 | U20: =ROUNDDOWN(SUM(U6:U6), 0) -> 0 | V20: =ROUNDDOWN(SUM(V6:V6), 0) -> 0 | W20: =ROUNDDOWN(SUM(W6:W6), 0) -> 0 | X20: =ROUNDDOWN(SUM(X6:X6), 0) -> 0 | Y20: =ROUNDDOWN(SUM(Y6:Y6), 0) -> 0 | ... AY20: =ROUNDDOWN(SUM(AY6:AY6), 0) -> 0
A21: 02. 수장공사
A22: 벽,띠장설치(미송) | B22: 30*30,@450*600 | C22: M2 | D22: 41.275 | F22: =ROUNDDOWN(D22*E22, 0) -> 0 | H22: =ROUNDDOWN(D22*G22, 0) -> 0 | J22: =ROUNDDOWN(D22*I22, 0) -> 0 | K22: =E22+G22+I22 -> 0 | L22: =F22+H22+J22 -> 0 | O22: ="" | Q22: 1 | R22: =IF(P22="기계경비", J22, 0) -> 0 | S22: =IF(P22="운반비", L22, 0) -> 0 | T22: =IF(P22="작업부산물", F22, 0) -> 0 | U22: =IF(P22="관급", F22, 0) -> 0 | V22: =IF(P22="외주비", J22, 0) -> 0 | W22: =IF(P22="장비비", J22, 0) -> 0 | X22: =IF(P22="폐기물처리비", L22, 0) -> 0 | Y22: =IF(P22="가설비", J22, 0) -> 0 | Z22: =IF(P22="잡비제외분", F22, 0) -> 0 | AA22: =IF(P22="사급자재대", L22, 0) -> 0 | AB22: =IF(P22="관급자재대", L22, 0) -> 0 | AC22: =IF(P22="사용자항목1", L22, 0) -> 0 | AD22: =IF(P22="사용자항목2", L22, 0) -> 0 | AE22: =IF(P22="안전관리비", L22, 0) -> 0 | AF22: =IF(P22="품질관리비", L22, 0) -> 0 | AG22: =IF(P22="작업부산물(철거해체)", L22, 0) -> 0 | AH22: =IF(P22="사용자항목6", L22, 0) -> 0 | AI22: =IF(P22="사용자항목7", L22, 0) -> 0 | AJ22: =IF(P22="사용자항목8", L22, 0) -> 0 | AK22: =IF(P22="사용자항목9", L22, 0) -> 0 | AL22: =IF(P22="사용자항목10", L22, 0) -> 0 | AM22: =IF(P22="사용자항목11", L22, 0) -> 0 | AN22: =IF(P22="사용자항목12", L22, 0) -> 0 | AO22: =IF(P22="사용자항목13", L22, 0) -> 0 | AP22: =IF(P22="사용자항목14", L22, 0) -> 0 | AQ22: =IF(P22="사용자항목15", L22, 0) -> 0 | AR22: =IF(P22="사용자항목16", L22, 0) -> 0 | AS22: =IF(P22="사용자항목17", L22, 0) -> 0 | AT22: =IF(P22="사용자항목18", L22, 0) -> 0 | AU22: =IF(P22="사용자항목19", L22, 0) -> 0
A23: 벽,석고판 설치(나사고정) | B23: 바탕용,일반석고,9.5T×2PLY | C23: M2 | D23: 67.66 | F23: =ROUNDDOWN(D23*E23, 0) -> 0 | H23: =ROUNDDOWN(D23*G23, 0) -> 0 | I23: =ROUNDDOWN([1]일위대가목록!K7, 2) -> 0 | J23: =ROUNDDOWN(D23*I23, 0) -> 0 | K23: =E23+G23+I23 -> 0 | L23: =F23+H23+J23 -> 0
A24: 준불연스티로폼단열재 | B24: 세이프폼, 900×1800×50 | C24: 장 | D24: 25.47 | F24: =ROUNDDOWN(D24*E24, 0) -> 0 | H24: =ROUNDDOWN(D24*G24, 0) -> 0 | I24: 0 | J24: =ROUNDDOWN(D24*I24, 0) -> 0 | K24: =E24+G24+I24 -> 0 | L24: =F24+H24+J24 -> 0 | O24: ="01" -> 01 | Q24: 1 | R24: =IF(P24="기계경비", J24, 0) -> 0 | S24: =IF(P24="운반비", L24, 0) -> 0 | T24: =IF(P24="작업부산물", F24, 0) -> 0 | U24: =IF(P24="관급", F24, 0) -> 0 | V24: =IF(P24="외주비", J24, 0) -> 0 | W24: =IF(P24="장비비", J24, 0) -> 0 | X24: =IF(P24="폐기물처리비", L24, 0) -> 0 | Y24: =IF(P24="가설비", J24, 0) -> 0 | Z24: =IF(P24="잡비제외분", F24, 0) -> 0 | AA24: =IF(P24="사급자재대", L24, 0) -> 0 | AB24: =IF(P24="관급자재대", L24, 0) -> 0 | AC24: =IF(P24="사용자항목1", L24, 0) -> 0 | AD24: =IF(P24="사용자항목2", L24, 0) -> 0 | AE24: =IF(P24="안전관리비", L24, 0) -> 0 | AF24: =IF(P24="품질관리비", L24, 0) -> 0 | AG24: =IF(P24="작업부산물(철거해체)", L24, 0) -> 0 | AH24: =IF(P24="사용자항목6", L24, 0) -> 0 | AI24: =IF(P24="사용자항목7", L24, 0) -> 0 | AJ24: =IF(P24="사용자항목8", L24, 0) -> 0 | AK24: =IF(P24="사용자항목9", L24, 0) -> 0 | AL24: =IF(P24="사용자항목10", L24, 0) -> 0 | AM24: =IF(P24="사용자항목11", L24, 0) -> 0 | AN24: =IF(P24="사용자항목12", L24, 0) -> 0 | AO24: =IF(P24="사용자항목13", L24, 0) -> 0 | AP24: =IF(P24="사용자항목14", L24, 0) -> 0 | AQ24: =IF(P24="사용자항목15", L24, 0) -> 0 | AR24: =IF(P24="사용자항목16", L24, 0) -> 0 | AS24: =IF(P24="사용자항목17", L24, 0) -> 0 | AT24: =IF(P24="사용자항목18", L24, 0) -> 0 | AU24: =IF(P24="사용자항목19", L24, 0) -> 0
A25: 마루틀설치 | B25: 30*30,@300 | C25: M2 | D25: 23.69 | F25: =ROUNDDOWN(D25*E25, 0) -> 0 | H25: =ROUNDDOWN(D25*G25, 0) -> 0 | J25: =ROUNDDOWN(D25*I25, 0) -> 0 | K25: =E25+G25+I25 -> 0 | L25: =F25+H25+J25 -> 0 | O25: ="" | Q25: 1 | R25: =IF(P25="기계경비", J25, 0) -> 0 | S25: =IF(P25="운반비", L25, 0) -> 0 | T25: =IF(P25="작업부산물", F25, 0) -> 0 | U25: =IF(P25="관급", F25, 0) -> 0 | V25: =IF(P25="외주비", J25, 0) -> 0 | W25: =IF(P25="장비비", J25, 0) -> 0 | X25: =IF(P25="폐기물처리비", L25, 0) -> 0 | Y25: =IF(P25="가설비", J25, 0) -> 0 | Z25: =IF(P25="잡비제외분", F25, 0) -> 0 | AA25: =IF(P25="사급자재대", L25, 0) -> 0 | AB25: =IF(P25="관급자재대", L25, 0) -> 0 | AC25: =IF(P25="사용자항목1", L25, 0) -> 0 | AD25: =IF(P25="사용자항목2", L25, 0) -> 0 | AE25: =IF(P25="안전관리비", L25, 0) -> 0 | AF25: =IF(P25="품질관리비", L25, 0) -> 0 | AG25: =IF(P25="작업부산물(철거해체)", L25, 0) -> 0 | AH25: =IF(P25="사용자항목6", L25, 0) -> 0 | AI25: =IF(P25="사용자항목7", L25, 0) -> 0 | AJ25: =IF(P25="사용자항목8", L25, 0) -> 0 | AK25: =IF(P25="사용자항목9", L25, 0) -> 0 | AL25: =IF(P25="사용자항목10", L25, 0) -> 0 | AM25: =IF(P25="사용자항목11", L25, 0) -> 0 | AN25: =IF(P25="사용자항목12", L25, 0) -> 0 | AO25: =IF(P25="사용자항목13", L25, 0) -> 0 | AP25: =IF(P25="사용자항목14", L25, 0) -> 0 | AQ25: =IF(P25="사용자항목15", L25, 0) -> 0 | AR25: =IF(P25="사용자항목16", L25, 0) -> 0 | AS25: =IF(P25="사용자항목17", L25, 0) -> 0 | AT25: =IF(P25="사용자항목18", L25, 0) -> 0 | AU25: =IF(P25="사용자항목19", L25, 0) -> 0
A26: 수장합판 설치 | B26: 접착붙임(합판 별도) | C26: M2 | D26: 23.69 | F26: =ROUNDDOWN(D26*E26, 0) -> 0 | H26: =ROUNDDOWN(D26*G26, 0) -> 0 | J26: =ROUNDDOWN(D26*I26, 0) -> 0 | K26: =E26+G26+I26 -> 0 | L26: =F26+H26+J26 -> 0 | O26: ="" | Q26: 1 | R26: =IF(P26="기계경비", J26, 0) -> 0 | S26: =IF(P26="운반비", L26, 0) -> 0 | T26: =IF(P26="작업부산물", F26, 0) -> 0 | U26: =IF(P26="관급", F26, 0) -> 0 | V26: =IF(P26="외주비", J26, 0) -> 0 | W26: =IF(P26="장비비", J26, 0) -> 0 | X26: =IF(P26="폐기물처리비", L26, 0) -> 0 | Y26: =IF(P26="가설비", J26, 0) -> 0 | Z26: =IF(P26="잡비제외분", F26, 0) -> 0 | AA26: =IF(P26="사급자재대", L26, 0) -> 0 | AB26: =IF(P26="관급자재대", L26, 0) -> 0 | AC26: =IF(P26="사용자항목1", L26, 0) -> 0 | AD26: =IF(P26="사용자항목2", L26, 0) -> 0 | AE26: =IF(P26="안전관리비", L26, 0) -> 0 | AF26: =IF(P26="품질관리비", L26, 0) -> 0 | AG26: =IF(P26="작업부산물(철거해체)", L26, 0) -> 0 | AH26: =IF(P26="사용자항목6", L26, 0) -> 0 | AI26: =IF(P26="사용자항목7", L26, 0) -> 0 | AJ26: =IF(P26="사용자항목8", L26, 0) -> 0 | AK26: =IF(P26="사용자항목9", L26, 0) -> 0 | AL26: =IF(P26="사용자항목10", L26, 0) -> 0 | AM26: =IF(P26="사용자항목11", L26, 0) -> 0 | AN26: =IF(P26="사용자항목12", L26, 0) -> 0 | AO26: =IF(P26="사용자항목13", L26, 0) -> 0 | AP26: =IF(P26="사용자항목14", L26, 0) -> 0 | AQ26: =IF(P26="사용자항목15", L26, 0) -> 0 | AR26: =IF(P26="사용자항목16", L26, 0) -> 0 | AS26: =IF(P26="사용자항목17", L26, 0) -> 0 | AT26: =IF(P26="사용자항목18", L26, 0) -> 0 | AU26: =IF(P26="사용자항목19", L26, 0) -> 0 | AY26: AOC41200010S
A27: 강화마루 깔기 | B27: 8.0×191×1200mm | C27: M2 | D27: 23.69 | F27: =ROUNDDOWN(D27*E27, 0) -> 0 | H27: =ROUNDDOWN(D27*G27, 0) -> 0 | J27: =ROUNDDOWN(D27*I27, 0) -> 0 | K27: =E27+G27+I27 -> 0 | L27: =F27+H27+J27 -> 0 | O27: ="" | Q27: 1 | R27: =IF(P27="기계경비", J27, 0) -> 0 | S27: =IF(P27="운반비", L27, 0) -> 0 | T27: =IF(P27="작업부산물", F27, 0) -> 0 | U27: =IF(P27="관급", F27, 0) -> 0 | V27: =IF(P27="외주비", J27, 0) -> 0 | W27: =IF(P27="장비비", J27, 0) -> 0 | X27: =IF(P27="폐기물처리비", L27, 0) -> 0 | Y27: =IF(P27="가설비", J27, 0) -> 0 | Z27: =IF(P27="잡비제외분", F27, 0) -> 0 | AA27: =IF(P27="사급자재대", L27, 0) -> 0 | AB27: =IF(P27="관급자재대", L27, 0) -> 0 | AC27: =IF(P27="사용자항목1", L27, 0) -> 0 | AD27: =IF(P27="사용자항목2", L27, 0) -> 0 | AE27: =IF(P27="안전관리비", L27, 0) -> 0 | AF27: =IF(P27="품질관리비", L27, 0) -> 0 | AG27: =IF(P27="작업부산물(철거해체)", L27, 0) -> 0 | AH27: =IF(P27="사용자항목6", L27, 0) -> 0 | AI27: =IF(P27="사용자항목7", L27, 0) -> 0 | AJ27: =IF(P27="사용자항목8", L27, 0) -> 0 | AK27: =IF(P27="사용자항목9", L27, 0) -> 0 | AL27: =IF(P27="사용자항목10", L27, 0) -> 0 | AM27: =IF(P27="사용자항목11", L27, 0) -> 0 | AN27: =IF(P27="사용자항목12", L27, 0) -> 0 | AO27: =IF(P27="사용자항목13", L27, 0) -> 0 | AP27: =IF(P27="사용자항목14", L27, 0) -> 0 | AQ27: =IF(P27="사용자항목15", L27, 0) -> 0 | AR27: =IF(P27="사용자항목16", L27, 0) -> 0 | AS27: =IF(P27="사용자항목17", L27, 0) -> 0 | AT27: =IF(P27="사용자항목18", L27, 0) -> 0 | AU27: =IF(P27="사용자항목19", L27, 0) -> 0
A28: 수성페인트 롤러칠(바탕만들기 포함) | B28: 내벽 2회 1급(GB면 줄퍼티) | C28: M2 | D28: 67.66 | F28: =ROUNDDOWN(D28*E28, 0) -> 0 | H28: =ROUNDDOWN(D28*G28, 0) -> 0 | J28: =ROUNDDOWN(D28*I28, 0) -> 0 | K28: =E28+G28+I28 -> 0 | L28: =F28+H28+J28 -> 0 | O28: ="" | Q28: 1 | R28: =IF(P28="기계경비", J28, 0) -> 0 | S28: =IF(P28="운반비", L28, 0) -> 0 | T28: =IF(P28="작업부산물", F28, 0) -> 0 | U28: =IF(P28="관급", F28, 0) -> 0 | V28: =IF(P28="외주비", J28, 0) -> 0 | W28: =IF(P28="장비비", J28, 0) -> 0 | X28: =IF(P28="폐기물처리비", L28, 0) -> 0 | Y28: =IF(P28="가설비", J28, 0) -> 0 | Z28: =IF(P28="잡비제외분", F28, 0) -> 0 | AA28: =IF(P28="사급자재대", L28, 0) -> 0 | AB28: =IF(P28="관급자재대", L28, 0) -> 0 | AC28: =IF(P28="사용자항목1", L28, 0) -> 0 | AD28: =IF(P28="사용자항목2", L28, 0) -> 0 | AE28: =IF(P28="안전관리비", L28, 0) -> 0 | AF28: =IF(P28="품질관리비", L28, 0) -> 0 | AG28: =IF(P28="작업부산물(철거해체)", L28, 0) -> 0 | AH28: =IF(P28="사용자항목6", L28, 0) -> 0 | AI28: =IF(P28="사용자항목7", L28, 0) -> 0 | AJ28: =IF(P28="사용자항목8", L28, 0) -> 0 | AK28: =IF(P28="사용자항목9", L28, 0) -> 0 | AL28: =IF(P28="사용자항목10", L28, 0) -> 0 | AM28: =IF(P28="사용자항목11", L28, 0) -> 0 | AN28: =IF(P28="사용자항목12", L28, 0) -> 0 | AO28: =IF(P28="사용자항목13", L28, 0) -> 0 | AP28: =IF(P28="사용자항목14", L28, 0) -> 0 | AQ28: =IF(P28="사용자항목15", L28, 0) -> 0 | AR28: =IF(P28="사용자항목16", L28, 0) -> 0 | AS28: =IF(P28="사용자항목17", L28, 0) -> 0 | AT28: =IF(P28="사용자항목18", L28, 0) -> 0 | AU28: =IF(P28="사용자항목19", L28, 0) -> 0
A29: 난방필름 | B29: 난방필름 T:0.3시공도(강화마루용) | C29: M2 | D29: 23.69 | F29: =ROUNDDOWN(D29*E29, 0) -> 0 | H29: =ROUNDDOWN(D29*G29, 0) -> 0 | I29: 0 | J29: =ROUNDDOWN(D29*I29, 0) -> 0 | K29: =E29+G29+I29 -> 0 | L29: =F29+H29+J29 -> 0 | O29: ="01" -> 01 | Q29: 1 | R29: =IF(P29="기계경비", J29, 0) -> 0 | S29: =IF(P29="운반비", L29, 0) -> 0 | T29: =IF(P29="작업부산물", F29, 0) -> 0 | U29: =IF(P29="관급", F29, 0) -> 0 | V29: =IF(P29="외주비", J29, 0) -> 0 | W29: =IF(P29="장비비", J29, 0) -> 0 | X29: =IF(P29="폐기물처리비", L29, 0) -> 0 | Y29: =IF(P29="가설비", J29, 0) -> 0 | Z29: =IF(P29="잡비제외분", F29, 0) -> 0 | AA29: =IF(P29="사급자재대", L29, 0) -> 0 | AB29: =IF(P29="관급자재대", L29, 0) -> 0 | AC29: =IF(P29="사용자항목1", L29, 0) -> 0 | AD29: =IF(P29="사용자항목2", L29, 0) -> 0 | AE29: =IF(P29="안전관리비", L29, 0) -> 0 | AF29: =IF(P29="품질관리비", L29, 0) -> 0 | AG29: =IF(P29="작업부산물(철거해체)", L29, 0) -> 0 | AH29: =IF(P29="사용자항목6", L29, 0) -> 0 | AI29: =IF(P29="사용자항목7", L29, 0) -> 0 | AJ29: =IF(P29="사용자항목8", L29, 0) -> 0 | AK29: =IF(P29="사용자항목9", L29, 0) -> 0 | AL29: =IF(P29="사용자항목10", L29, 0) -> 0 | AM29: =IF(P29="사용자항목11", L29, 0) -> 0 | AN29: =IF(P29="사용자항목12", L29, 0) -> 0 | AO29: =IF(P29="사용자항목13", L29, 0) -> 0 | AP29: =IF(P29="사용자항목14", L29, 0) -> 0 | AQ29: =IF(P29="사용자항목15", L29, 0) -> 0 | AR29: =IF(P29="사용자항목16", L29, 0) -> 0 | AS29: =IF(P29="사용자항목17", L29, 0) -> 0 | AT29: =IF(P29="사용자항목18", L29, 0) -> 0 | AU29: =IF(P29="사용자항목19", L29, 0) -> 0
A30: 도배바름 | C30: M2 | D30: 26.61 | F30: =ROUNDDOWN(D30*E30, 0) -> 0 | H30: =ROUNDDOWN(D30*G30, 0) -> 0 | J30: =ROUNDDOWN(D30*I30, 0) -> 0 | K30: =E30+G30+I30 -> 0 | L30: =F30+H30+J30 -> 0 | O30: ="" | Q30: 1 | R30: =IF(P30="기계경비", J30, 0) -> 0 | S30: =IF(P30="운반비", L30, 0) -> 0 | T30: =IF(P30="작업부산물", F30, 0) -> 0 | U30: =IF(P30="관급", F30, 0) -> 0 | V30: =IF(P30="외주비", J30, 0) -> 0 | W30: =IF(P30="장비비", J30, 0) -> 0 | X30: =IF(P30="폐기물처리비", L30, 0) -> 0 | Y30: =IF(P30="가설비", J30, 0) -> 0 | Z30: =IF(P30="잡비제외분", F30, 0) -> 0 | AA30: =IF(P30="사급자재대", L30, 0) -> 0 | AB30: =IF(P30="관급자재대", L30, 0) -> 0 | AC30: =IF(P30="사용자항목1", L30, 0) -> 0 | AD30: =IF(P30="사용자항목2", L30, 0) -> 0 | AE30: =IF(P30="안전관리비", L30, 0) -> 0 | AF30: =IF(P30="품질관리비", L30, 0) -> 0 | AG30: =IF(P30="작업부산물(철거해체)", L30, 0) -> 0 | AH30: =IF(P30="사용자항목6", L30, 0) -> 0 | AI30: =IF(P30="사용자항목7", L30, 0) -> 0 | AJ30: =IF(P30="사용자항목8", L30, 0) -> 0 | AK30: =IF(P30="사용자항목9", L30, 0) -> 0 | AL30: =IF(P30="사용자항목10", L30, 0) -> 0 | AM30: =IF(P30="사용자항목11", L30, 0) -> 0 | AN30: =IF(P30="사용자항목12", L30, 0) -> 0 | AO30: =IF(P30="사용자항목13", L30, 0) -> 0 | AP30: =IF(P30="사용자항목14", L30, 0) -> 0 | AQ30: =IF(P30="사용자항목15", L30, 0) -> 0 | AR30: =IF(P30="사용자항목16", L30, 0) -> 0 | AS30: =IF(P30="사용자항목17", L30, 0) -> 0 | AT30: =IF(P30="사용자항목18", L30, 0) -> 0 | AU30: =IF(P30="사용자항목19", L30, 0) -> 0 | AY30: 실내건축
A35: 합 계 | F35: =SUM(F22:F30) -> 0 | H35: =SUM(H22:H30) -> 0 | J35: =SUM(J22:J30) -> 0 | L35: =SUM(L22:L30) -> 0 | R35: =ROUNDDOWN(SUM(R22:R30), 0) -> 0 | S35: =ROUNDDOWN(SUM(S22:S30), 0) -> 0 | T35: =ROUNDDOWN(SUM(T22:T30), 0) -> 0 | U35: =ROUNDDOWN(SUM(U22:U30), 0) -> 0 | V35: =ROUNDDOWN(SUM(V22:V30), 0) -> 0 | W35: =ROUNDDOWN(SUM(W22:W30), 0) -> 0 | X35: =ROUNDDOWN(SUM(X22:X30), 0) -> 0 | Y35: =ROUNDDOWN(SUM(Y22:Y30), 0) -> 0 | ... AY35: =ROUNDDOWN(SUM(AY22:AY30), 0) -> 0

Sheet Sheet1
