Workbook

Sheet 원가계산서
C1: 시트명 | F1: 공종별집계표
C2: 행 | E2: 2 | F2: 6
B3: 열 | C3: 공 사 원 가 계 산 서
B4: A | C4: 공사명: | E4: [매헌초 교사동 시청각실 개선 및 드라이비트 해소 전기공사] | H4: 금액 | I4: =F40 -> 0 | L4: =NUMBERSTRING(I4,1) -> 영 | M4: 원정 | Q4: 공사규모(재+직노+경) | R4: 공사기간 | S4: 간접노무비 | T4: 기타경비
C5: 비 목 | F5: 금 액 | G5: 구 성 비 | L5: 비 고 | Q5: 10억미만 | R5: 6개월 이하 | S5: 0.175 | T5: 0.05
A6: A1 | B6: F | D6: 재 | E6: 직 접 재 료 비 | R6: 7~12 이하 | S6: 0.179 | T6: 0.052
A7: A2 | D7: 료 | E7: 간 접 재 료 비 | R7: 13~36 이하 | S7: 0.182 | T7: 0.055
A8: AS | D8: 비 | E8: [ 소 계 ] | R8: 36개월 초과 | S8: 0.194 | T8: 0.061
A9: B1 | B9: H | D9: 노 | E9: 직 접 노 무 비 | Q9: 10~50억미만 | R9: 6개월 이하 | S9: 0.174 | T9: 0.052
A10: B2 | D10: 무 | E10: 간 접 노 무 비 | G10: 직접노무비의 | K10: =Q30 -> #REF! | R10: 7~12 이하 | S10: 0.178 | T10: 0.054
A11: BS | D11: 비 | E11: [ 소 계 ] | R11: 13~36 이하 | S11: 0.181 | T11: 0.057
A12: C2 | B12: J | C12: 순 | E12: 기 계 경 비 | R12: 36개월 초과 | S12: 0.192 | T12: 0.064
A13: C4 | E13: 운반비 | Q13: 50~300억미만 | R13: 6개월 이하 | S13: 0.175 | T13: 0.059
A14: C4 | B14: L | C14: 공 | E14: 산 재 보 험 료 | G14: 노무비의 | K14: 0.0356 | L14: 모든 건설공사에 적용 | R14: 7~12 이하 | S14: 0.179 | T14: 0.06
A15: C5 | E15: 고 용 보 험 료 | G15: 노무비의 | K15: 0.0101 | L15: 총공사비(도급액+도급자관급) 2천만원 미만의 건설공사를 건설업자가 아닌자가 시공시 제외 | R15: 13~36 이하 | S15: 0.182 | T15: 0.064
A16: C6 | C16: 사 | E16: 국민 건강 보험료 | G16: 직접노무비의 | K16: 0.03595 | L16: 공사기간 1개월(30일)이상 모든 공사에 적용 | R16: 36개월 초과 | S16: 0.194 | T16: 0.07
A17: C7 | D17: 경 | E17: 국민 연금 보험료 | G17: 직접노무비의 | K17: 0.0475 | L17: 공사기간 1개월(30일)이상 모든 공사에 적용 | Q17: 300억~1000억미만 | R17: 6개월 이하 | S17: 0.175 | T17: 0.061
A18: C7 | C18: 원 | E18: 노인장기요양 보험료 | G18: 건강보혐료의 | K18: 0.1314 | L18: 공사기간 1개월(30일)이상 모든 공사에 적용 | R18: 7~12 이하 | S18: 0.179 | T18: 0.063
A19: C8 | D19: 비 | E19: 퇴직 공제 부금비 | G19: =IF(F35+F39>=100000000, "직접노무비의","") | K19: =IF(F35+F39>=100000000, "2.3%","") | L19: 총공사비(도급액+도급자관급) 1억원 이상 적용 | N19: =IF(F35+F39<=100000000, "☜삭제","") -> ☜삭제 | R19: 13~36 이하 | S19: 0.182 | T19: 0.066
A20: CA | C20: 가 | E20: 산업안전보건관리비 | G20: =IF(F35+F39>=20000000,IF(#REF!>#REF!,#REF!,#REF!),"") | L20: 총공사비(도급액+도급자관급) 2천만원 이상 적용 | N20: =IF(F35+F39<=20000000,"☜삭제","") -> ☜삭제 | R20: 36개월 초과 | S20: 0.194 | T20: 0.072
A21: CG | E21: 기 타 경 비 | G21: (재료비+노무비)의 | K21: =Q33 -> #REF! | Q21: 1000억이상 | R21: 6개월 이하 | S21: 0.174 | T21: 0.064
A22: CH | E22: 석면분담금 | G22: 노무비의 | K22: 6e-05 | L22: 모든 건설공사에 적용(26년3월13일 신설) | R22: 7~12 이하 | S22: 0.178 | T22: 0.065
A23: CK | E23: 임금채권부담금 | G23: 노무비의 | K23: 0.0009 | L23: 모든 건설공사에 적용(26년3월13일 신설) | R23: 13~36 이하 | S23: 0.181 | T23: 0.069
A24: CL | E24: 환경보전비 | R24: 36개월 초과 | S24: 0.193 | T24: 0.075
A25: CS | E25: [ 소 계 ]
A26: S1 | C26: 계
A27: D1 | C27: 일 반 관 리 비 | G27: 계 의 | K27: 0.08 | L27: 5억미만 8%, 5~30억 6.5%, 30~100억 5% (공급가액 기준) | N27: =IF(F33>500000000,Q36,"")
A28: D2 | C28: 이 윤 | G28: (노무비+경비+일반관리비)의 | K28: 0.15 | L28: 50억미만 15%, 50~300억 12% (공급가액 기준) | N28: =IF(F33>5000000000,Q38,"") | Q28: 간접노무비 | R28: 10억미만 | S28: 10~50억미만 | T28: 50~300억미만 | U28: 300~1000억미만 | V28: 1000억이상
C29: 전기공사 손해배상공제료 | G29: 순계약금액 * | K29: 0.0026477 | L29: 순계약금액: 도급액-(부가세+공제료)+도급자관급
C30: 소방공사 배상책임공제료 | Q30: =IF(#REF!<1000000000,R30,IF(AND(#REF!>=1000000000,#REF!<5000000000),S30,IF(AND(#REF!>=5000000000,#REF!<30000000000),T30,IF(AND(#REF!>=30000000000,#REF!<100000000000),U30,IF(AND(#REF!>=100000000000),V30))))) -> #REF! | R30: =IF(#REF!<=6,S5,IF(AND(#REF!>6,#REF!<=12),S6,IF(AND(#REF!>12,#REF!<=36),S7,IF(AND(#REF!>36),S8)))) -> #REF! | S30: =IF(#REF!<=6,S9,IF(AND(#REF!>6,#REF!<=12),S10,IF(AND(#REF!>12,#REF!<=36),S11,IF(AND(#REF!>36),S12)))) -> #REF! | T30: =IF(#REF!<=6,S13,IF(AND(#REF!>6,#REF!<=12),S14,IF(AND(#REF!>12,#REF!<=36),S15,IF(AND(#REF!>36),S16)))) -> #REF! | U30: =IF(#REF!<=6,S17,IF(AND(#REF!>6,#REF!<=12),S18,IF(AND(#REF!>12,#REF!<=36),S19,IF(AND(#REF!>36),S20)))) -> #REF! | V30: =IF(#REF!<=6,S21,IF(AND(#REF!>6,#REF!<=12),S22,IF(AND(#REF!>12,#REF!<=36),S23,IF(AND(#REF!>36),S24)))) -> #REF!
C31: 폐기물처리비
C32: 고재처리비 | Q32: 기타경비 | R32: 10억미만 | S32: 10~50억미만 | T32: 50억~300억미만 | U32: 300억~1000억미만 | V32: 1000억이상
A33: D9 | C33: 공 급 가 액 | Q33: =IF(#REF!<1000000000,R33,IF(AND(#REF!>=1000000000,#REF!<5000000000),S33,IF(AND(#REF!>=5000000000,#REF!<30000000000),T33,IF(AND(#REF!>=30000000000,#REF!<100000000000),U33,IF(AND(#REF!>=100000000000),V33))))) -> #REF! | R33: =IF(#REF!<=6,T5,IF(AND(#REF!>6,#REF!<=12),T6,IF(AND(#REF!>12,#REF!<=36),T7,IF(AND(#REF!>36),T8)))) -> #REF! | S33: =IF(#REF!<=6,T9,IF(AND(#REF!>6,#REF!<=12),T10,IF(AND(#REF!>12,#REF!<=36),T11,IF(AND(#REF!>36),T12)))) -> #REF! | T33: =IF(#REF!<=6,T13,IF(AND(#REF!>6,#REF!<=12),T14,IF(AND(#REF!>12,#REF!<=36),T15,IF(AND(#REF!>36),T16)))) -> #REF! | U33: =IF(#REF!<=6,T17,IF(AND(#REF!>6,#REF!<=12),T18,IF(AND(#REF!>12,#REF!<=36),T19,IF(AND(#REF!>36),T20)))) -> #REF! | V33: =IF(#REF!<=6,T21,IF(AND(#REF!>6,#REF!<=12),T22,IF(AND(#REF!>12,#REF!<=36),T23,IF(AND(#REF!>36),T24)))) -> #REF!
A34: DB | C34: 부 가 가 치 세 | G34: 공급가액의 | K34: 0.1
A35: DH | C35: 도 급 액 | Q35: 일반관리비 | R35: 5억미만 | S35: 5억~30억미만 | T35: 30억~100억미만 | U35: 100억이상
A36: DJ | C36: 재해예방 기술지도 | Q36: =IF($F$33<500000000,R36,IF(AND($F$33>=500000000,$F$33<3000000000),S36,IF(AND($F$33>=3000000000,$F$33<10000000000),T36,IF(AND($F$33>=10000000000),U36)))) -> 0.08 | R36: 0.08 | S36: 0.065 | T36: 0.05 | U36: 0.045
A37: DJ | C37: 한전신청비/사용전검사비 | Q37: 이윤 | R37: 50억미만 | S37: 50억~300억미만 | T37: 300억~1000억미만 | U37: 1000억이상
A38: DJ | C38: 관급자재(관급자설치) | Q38: =IF($F$33<5000000000,R38,IF(AND($F$33>=5000000000,$F$33<30000000000),S38,IF(AND($F$33>=30000000000,$F$33<100000000000),T38,IF(AND($F$33>=100000000000),U38)))) -> 0.15 | R38: 0.15 | S38: 0.12 | T38: 0.1 | U38: 0.09
A39: DJ | C39: 관급자재(도급자설치)
A40: S2 | C40: 총 공 사 비

Sheet 공종별집계표
A1: 공 종 별 집 계 표
A2: [ 매헌초 시청각실개선 및 드라이비트해소공사 - 전기 ]
A3: 품 명 | B3: 규 격 | C3: 단위 | D3: 수량 | E3: 재 료 비 | G3: 노 무 비 | I3: 경 비 | K3: 합 계 | M3: 비 고 | N3: 공종코드 | O3: 변수 | P3: 상위공종 | Q3: 공종구분 | R3: 공종레벨 | S3: 공종소계 | T3: 원가계산서 연결금액
E4: 단 가 | F4: 금 액 | G4: 단 가 | H4: 금 액 | I4: 단 가 | J4: 금 액 | K4: 단 가 | L4: 금 액
A5: 01 매헌초 시청각실 및 드라이비트 개선 공사-전기 | D5: 1 | E5: =F6 -> 0 | F5: =E5*D5 -> 0 | G5: =H6 -> 0 | H5: =G5*D5 -> 0 | I5: =J6 -> 0 | J5: =I5*D5 -> 0 | K5: =E5+G5+I5 -> 0 | L5: =F5+H5+J5 -> 0 | N5: 01 | R5: 1
A6: 0101 전기공사 | D6: 1 | E6: =F7+F12+F17 -> 0 | F6: =E6*D6 -> 0 | G6: =H7+H12+H17 -> 0 | H6: =G6*D6 -> 0 | I6: =J7+J12+J17 -> 0 | J6: =I6*D6 -> 0 | K6: =E6+G6+I6 -> 0 | L6: =F6+H6+J6 -> 0 | N6: 0101 | P6: 01 | R6: 2
A7: 010101 전기공사 | D7: 1 | E7: =F8+F9+F10+F11 -> 0 | F7: =E7*D7 -> 0 | G7: =H8+H9+H10+H11 -> 0 | H7: =G7*D7 -> 0 | I7: =J8+J9+J10+J11 -> 0 | J7: =I7*D7 -> 0 | K7: =E7+G7+I7 -> 0 | L7: =F7+H7+J7 -> 0 | N7: 010101 | P7: 0101 | R7: 3
A8: 01010101 냉난방 설비공사 | D8: 1 | E8: =공종별내역서!F27 -> 0 | F8: =E8*D8 -> 0 | G8: =공종별내역서!H27 -> 0 | H8: =G8*D8 -> 0 | I8: =공종별내역서!J27 -> 0 | J8: =I8*D8 -> 0 | K8: =E8+G8+I8 -> 0 | L8: =F8+H8+J8 -> 0 | N8: 01010101 | P8: 010101 | R8: 4
A9: 01010102 전열 설비공사 | D9: 1 | E9: =공종별내역서!F50 -> 0 | F9: =E9*D9 -> 0 | G9: =공종별내역서!H50 -> 0 | H9: =G9*D9 -> 0 | I9: =공종별내역서!J50 -> 0 | J9: =I9*D9 -> 0 | K9: =E9+G9+I9 -> 0 | L9: =F9+H9+J9 -> 0 | N9: 01010102 | P9: 010101 | R9: 4
A10: 01010103 전등 설비공사 | D10: 1 | E10: =공종별내역서!F96 -> 0 | F10: =E10*D10 -> 0 | G10: =공종별내역서!H96 -> 0 | H10: =G10*D10 -> 0 | I10: =공종별내역서!J96 -> 0 | J10: =I10*D10 -> 0 | K10: =E10+G10+I10 -> 0 | L10: =F10+H10+J10 -> 0 | N10: 01010103 | P10: 010101 | R10: 4
A11: 01010104 철거 공사 | D11: 1 | E11: =공종별내역서!F119 -> 0 | F11: =E11*D11 -> 0 | G11: =공종별내역서!H119 -> 0 | H11: =G11*D11 -> 0 | I11: =공종별내역서!J119 -> 0 | J11: =I11*D11 -> 0 | K11: =E11+G11+I11 -> 0 | L11: =F11+H11+J11 -> 0 | N11: 01010104 | P11: 010101 | R11: 4
A12: 010102 기타공사 | D12: 1 | E12: =F13+F14+F15+F16 -> 0 | F12: =E12*D12 -> 0 | G12: =H13+H14+H15+H16 -> 0 | H12: =G12*D12 -> 0 | I12: =J13+J14+J15+J16 -> 0 | J12: =I12*D12 -> 0 | K12: =E12+G12+I12 -> 0 | L12: =F12+H12+J12 -> 0 | N12: 010102 | P12: 0101 | R12: 3
A13: 01010201 자동화재탐지 설비공사 | D13: 1 | E13: =공종별내역서!F142 -> 0 | F13: =E13*D13 -> 0 | G13: =공종별내역서!H142 -> 0 | H13: =G13*D13 -> 0 | I13: =공종별내역서!J142 -> 0 | J13: =I13*D13 -> 0 | K13: =E13+G13+I13 -> 0 | L13: =F13+H13+J13 -> 0 | N13: 01010201 | P13: 010102 | R13: 4
A14: 01010202 유도등 설비공사 | D14: 1 | E14: =공종별내역서!F165 -> 0 | F14: =E14*D14 -> 0 | G14: =공종별내역서!H165 -> 0 | H14: =G14*D14 -> 0 | I14: =공종별내역서!J165 -> 0 | J14: =I14*D14 -> 0 | K14: =E14+G14+I14 -> 0 | L14: =F14+H14+J14 -> 0 | N14: 01010202 | P14: 010102 | R14: 4
A15: 01010203 시각경보 설비공사 | D15: 1 | E15: =공종별내역서!F188 -> 0 | F15: =E15*D15 -> 0 | G15: =공종별내역서!H188 -> 0 | H15: =G15*D15 -> 0 | I15: =공종별내역서!J188 -> 0 | J15: =I15*D15 -> 0 | K15: =E15+G15+I15 -> 0 | L15: =F15+H15+J15 -> 0 | N15: 01010203 | P15: 010102 | R15: 4
A16: 01010204 철거 공사 | D16: 1 | E16: =공종별내역서!F211 -> 0 | F16: =E16*D16 -> 0 | G16: =공종별내역서!H211 -> 0 | H16: =G16*D16 -> 0 | I16: =공종별내역서!J211 -> 0 | J16: =I16*D16 -> 0 | K16: =E16+G16+I16 -> 0 | L16: =F16+H16+J16 -> 0 | N16: 01010204 | P16: 010102 | R16: 4
A17: 010103 드라이비트해소 | D17: 1 | E17: =F18+F19 -> 0 | F17: =E17*D17 -> 0 | G17: =H18+H19 -> 0 | H17: =G17*D17 -> 0 | I17: =J18+J19 -> 0 | J17: =I17*D17 -> 0 | K17: =E17+G17+I17 -> 0 | L17: =F17+H17+J17 -> 0 | N17: 010103 | P17: 0101 | R17: 3
A18: 01010301 전기 및 기타공사 | D18: 1 | E18: =공종별내역서!F257 -> 0 | F18: =E18*D18 -> 0 | G18: =공종별내역서!H257 -> 0 | H18: =G18*D18 -> 0 | I18: =공종별내역서!J257 -> 0 | J18: =I18*D18 -> 0 | K18: =E18+G18+I18 -> 0 | L18: =F18+H18+J18 -> 0 | N18: 01010301 | P18: 010103 | R18: 4
A19: 01010302 덕트 설비공사 | D19: 1 | E19: =공종별내역서!F280 -> 0 | F19: =E19*D19 -> 0 | G19: =공종별내역서!H280 -> 0 | H19: =G19*D19 -> 0 | I19: =공종별내역서!J280 -> 0 | J19: =I19*D19 -> 0 | K19: =E19+G19+I19 -> 0 | L19: =F19+H19+J19 -> 0 | N19: 01010302 | P19: 010103 | R19: 4
A27: [ 합 계 ] | F27: =F5 -> 0 | H27: =H5 -> 0 | J27: =J5 -> 0 | L27: =L5 -> 0

Sheet 공종별내역서
A1: 공 종 별 내 역 서
A2: [ 매헌초 시청각실개선 및 드라이비트해소공사 - 전기 ]
A3: 품 명 | B3: 규 격 | C3: 단위 | D3: 수량 | E3: 재 료 비 | G3: 노 무 비 | I3: 경 비 | K3: 합 계 | M3: 비 고 | N3: 품목코드 | O3: 변수 | P3: 설정 | Q3: 공종코드 | R3: 일위 | S3: 단산 | T3: 자재 | U3: 손료적용 | V3: 손료저장 | W3: 적용율 | X3: JUK1 | Y3: JUK2 | Z3: JUK3 | AA3: JUK4 | AB3: JUK5 | AC3: JUK6 | AD3: JUK7 | AE3: JUK8 | AF3: JUK9 | AG3: JUK10 | AH3: JUK11 | AI3: JUK12 | AJ3: JUK13 | AK3: JUK14 | AL3: JUK15 | AM3: JUK16 | AN3: JUK17 | AO3: JUK18 | AP3: JUK19 | AQ3: JUK20 | AR3: 자재구분 | AS3: 공종구분 | AT3: 공종레벨 | AU3: 공종+자재 | AV3: 고유번호
E4: 단 가 | F4: 금 액 | G4: 단 가 | H4: 금 액 | I4: 단 가 | J4: 금 액 | K4: 단 가 | L4: 금 액
A5: 01010101 냉난방 설비공사 | B5: 전기공사 전기공사 | Q5: 01010101
A6: 1종금속제가요전선관 | B6: FL, 비방수, 16㎜ | C6: M | D6: 34 | N6: 56457222E461B82785E1054B091899FDC4909C | Q6: 01010101 | R6: F | S6: F | T6: T | X6: 1 | AU6: 0101010156457222E461B82785E1054B091899FDC4909C | AV6: 5
A7: 1종금속제가요전선관부품 | B7: 박스커넥터, 비방수, 16㎜ | C7: 개 | D7: 4 | N7: 56457222E461B82785E1054B091899FDC4940B | Q7: 01010101 | R7: F | S7: F | T7: T | AU7: 0101010156457222E461B82785E1054B091899FDC4940B | AV7: 6
A8: 비닐캡타이어원형코드 | B8: VCTF, 0.6/1kV, 2C 0.75㎟ | C8: M | D8: 32 | N8: 565622F2D474E8CF807DF5B801919143750D4F | Q8: 01010101 | R8: F | S8: F | T8: T | X8: 1 | AU8: 01010101565622F2D474E8CF807DF5B801919143750D4F | AV8: 7
A9: 잡재료비 | B9: 배관배선의 2% | C9: 식 | D9: 1 | N9: 507CA242D428387145F965509D61001 | Q9: 01010101 | R9: F | S9: F | T9: F | U9: 0 | V9: 0 | W9: 0.02 | AU9: 01010101507CA242D428387145F965509D61001 | AV9: 241
A10: 스위치박스 | B10: ST, 2개용 54㎜ | C10: 개 | D10: 2 | N10: 56457222E460A8D38DD125CBB8E620F68D1EBA | Q10: 01010101 | R10: F | S10: F | T10: T | AU10: 0101010156457222E460A8D38DD125CBB8E620F68D1EBA | AV10: 8
A11: 스위치박스커버 | B11: ST, 4각, 2개용, 오목형 | C11: 개 | D11: 2 | N11: 56457222E460A8D38DD1C5CC385215E9E86902 | Q11: 01010101 | R11: F | S11: F | T11: T | AU11: 0101010156457222E460A8D38DD1C5CC385215E9E86902 | AV11: 9
A12: 내선전공 | B12: 일반공사 직종 | C12: 인 | D12: 1.1 | N12: 51B912D2F486181B17FB1531DFD9CE00A94EFC | Q12: 01010101 | R12: F | S12: F | T12: T | Y12: 2 | AU12: 0101010151B912D2F486181B17FB1531DFD9CE00A94EFC | AV12: 182
A13: 저압케이블전공 | B13: 일반공사 직종 | C13: 인 | D13: 0.3 | N13: 51B912D2F486181B17FB1531DFD9CE00A94EF1 | Q13: 01010101 | R13: F | S13: F | T13: T | Y13: 2 | AU13: 0101010151B912D2F486181B17FB1531DFD9CE00A94EF1 | AV13: 183
A14: 공구손료 | B14: 인력품의 3% | C14: 식 | D14: 1 | N14: 507CA242D428387145F965509D62002 | Q14: 01010101 | R14: F | S14: F | T14: F | U14: 1 | V14: 0 | W14: 0.03 | AU14: 01010101507CA242D428387145F965509D62002 | AV14: 242
Q15: 01010101
Q16: 01010101
Q17: 01010101
Q18: 01010101
Q19: 01010101
Q20: 01010101
Q21: 01010101
Q22: 01010101
Q23: 01010101
Q24: 01010101
Q25: 01010101
Q26: 01010101
A27: [ 합 계 ] | N27: TOTAL
A28: 01010102 전열 설비공사 | B28: 전기공사 전기공사 | Q28: 01010102
A29: 알루미늄 인터록 금속외장 전력케이블 | B29: 3C 4㎟ | C29: M | D29: 142 | N29: 565622F2D474E8CF807DF5B8019508CEBE4C12 | Q29: 01010102 | R29: F | S29: F | T29: T | X29: 1 | Y29: 2 | AU29: 01010102565622F2D474E8CF807DF5B8019508CEBE4C12 | AV29: 11
A30: 전선관부속품비 | B30: 전선관의 15% | C30: 식 | D30: 1 | N30: 507CA242D428387145F965509D61001 | Q30: 01010102 | R30: F | S30: F | T30: F | U30: 0 | V30: 0 | W30: 0.15 | AU30: 01010102507CA242D428387145F965509D63003 | AV30: 245
A31: 잡재료비 | B31: 배관배선의 2% | C31: 식 | D31: 1 | N31: 507CA242D428387145F965509D62002 | Q31: 01010102 | R31: F | S31: F | T31: F | U31: 0 | V31: 0 | W31: 0.02 | AU31: 01010102507CA242D428387145F965509D61001 | AV31: 243
A32: 전선덕트 | B32: 알루미늄, W70*H40 | C32: M | D32: 2 | N32: 56457222E461B82785F3F5AB4A0DFC2B05177D | Q32: 01010102 | R32: F | S32: F | T32: T | AU32: 0101010256457222E461B82785F3F5AB4A0DFC2B05177D | AV32: 12
A33: 아웃렛박스 | B33: ST, 4각 54㎜ | C33: 개 | D33: 13 | N33: 56457222E460A8D38DD1C5CF8C5128DBC21F2B | Q33: 01010102 | R33: F | S33: F | T33: T | AU33: 0101010256457222E460A8D38DD1C5CF8C5128DBC21F2B | AV33: 13
A34: 아웃렛박스커버 | B34: ST, 4각, 평형 | C34: 개 | D34: 13 | N34: 56457222E460A8D38DD1C5CC385215E9E86909 | Q34: 01010102 | R34: F | S34: F | T34: T | AU34: 0101010256457222E460A8D38DD1C5CC385215E9E86909 | AV34: 14
A35: 스위치박스 | B35: ST, 1개용 54㎜ | C35: 개 | D35: 11 | N35: 56457222E460A8D38DD125CBB8E620F68D11EB | Q35: 01010102 | R35: F | S35: F | T35: T | AU35: 0101010256457222E460A8D38DD125CBB8E620F68D11EB | AV35: 15
A36: 콘센트 | B36: 2구, 16A, 250V, 매입형, 접지 | C36: 개 | D36: 12 | N36: 56457222E460A8D3F0C2258BDC73DAE81D62C9 | Q36: 01010102 | R36: F | S36: F | T36: T | AU36: 0101010256457222E460A8D3F0C2258BDC73DAE81D62C9 | AV36: 16
A37: 내선전공 | B37: 일반공사 직종 | C37: 인 | D37: 3.1 | N37: 51B912D2F486181B17FB1531DFD9CE00A94EFC | Q37: 01010102 | R37: F | S37: F | T37: T | Z37: 3 | AU37: 0101010251B912D2F486181B17FB1531DFD9CE00A94EFC | AV37: 184
A38: 저압케이블전공 | B38: 일반공사 직종 | C38: 인 | D38: 3.1 | N38: 51B912D2F486181B17FB1531DFD9CE00A94EF1 | Q38: 01010102 | R38: F | S38: F | T38: T | Z38: 3 | AU38: 0101010251B912D2F486181B17FB1531DFD9CE00A94EF1 | AV38: 185
A39: 공구손료 | B39: 인력품의 3% | C39: 식 | D39: 1 | N39: 507CA242D428387145F965509D63003 | Q39: 01010102 | R39: F | S39: F | T39: F | U39: 1 | V39: 0 | W39: 0.03 | AU39: 01010102507CA242D428387145F965509D62002 | AV39: 244
Q40: 01010102
Q41: 01010102
Q42: 01010102
Q43: 01010102
Q44: 01010102
Q45: 01010102
Q46: 01010102
Q47: 01010102
Q48: 01010102
Q49: 01010102
A50: [ 합 계 ] | N50: TOTAL
A51: 01010103 전등 설비공사 | B51: 전기공사 전기공사 | Q51: 01010103
A52: 알루미늄 인터록 금속외장 전력케이블 | B52: 2C 2.5㎟ | C52: M | D52: 9 | N52: 565622F2D474E8CF807DF5B8019508CEBE4C16 | Q52: 01010103 | R52: F | S52: F | T52: T | X52: 1 | Y52: 2 | AU52: 01010103565622F2D474E8CF807DF5B8019508CEBE4C16 | AV52: 18
A53: 알루미늄 인터록 금속외장 전력케이블 | B53: 3C 2.5㎟ | C53: M | D53: 85 | N53: 565622F2D474E8CF807DF5B8019508CEBE4C11 | Q53: 01010103 | R53: F | S53: F | T53: T | X53: 1 | Y53: 2 | AU53: 01010103565622F2D474E8CF807DF5B8019508CEBE4C11 | AV53: 19
A54: 알루미늄 인터록 금속외장 전력케이블 | B54: 4C 2.5㎟ | C54: M | D54: 11 | N54: 565622F2D474E8CF807DF5B8019508CEBE4C1C | Q54: 01010103 | R54: F | S54: F | T54: T | X54: 1 | Y54: 2 | AU54: 01010103565622F2D474E8CF807DF5B8019508CEBE4C1C | AV54: 20
A55: 알루미늄 인터록 금속외장 전력케이블 | B55: 5C 2.5㎟ | C55: M | D55: 4 | N55: 565622F2D474E8CF807DF5B8019508CEBE4D3A | Q55: 01010103 | R55: F | S55: F | T55: T | X55: 1 | Y55: 2 | AU55: 01010103565622F2D474E8CF807DF5B8019508CEBE4D3A | AV55: 21
A56: 알루미늄 인터록 금속외장 전력케이블 | B56: 6C 1.5㎟ | C56: M | D56: 3 | N56: 565622F2D474E8CF807DF5B8019508CEBE4D38 | Q56: 01010103 | R56: F | S56: F | T56: T | X56: 1 | Y56: 2 | AU56: 01010103565622F2D474E8CF807DF5B8019508CEBE4D38 | AV56: 22
A57: 알루미늄 인터록 금속외장 전력케이블 | B57: 6C 2.5㎟ | C57: M | D57: 4 | N57: 565622F2D474E8CF807DF5B8019508CEBE4D3F | Q57: 01010103 | R57: F | S57: F | T57: T | X57: 1 | Y57: 2 | AU57: 01010103565622F2D474E8CF807DF5B8019508CEBE4D3F | AV57: 23
A58: 알루미늄 인터록 금속외장 전력케이블 | B58: 7C 2.5㎟ | C58: M | D58: 71 | N58: 565622F2D474E8CF807DF5B8019508CEBE4D3C | Q58: 01010103 | R58: F | S58: F | T58: T | X58: 1 | Y58: 2 | AU58: 01010103565622F2D474E8CF807DF5B8019508CEBE4D3C | AV58: 24
A59: 전선관부속품비 | B59: 전선관의 15% | C59: 식 | D59: 1 | N59: 507CA242D428387145F965509D61001 | Q59: 01010103 | R59: F | S59: F | T59: F | U59: 0 | V59: 0 | W59: 0.15 | AU59: 01010103507CA242D428387145F965509D63003 | AV59: 248
A60: 잡재료비 | B60: 배관배선의 2% | C60: 식 | D60: 1 | N60: 507CA242D428387145F965509D62002 | Q60: 01010103 | R60: F | S60: F | T60: F | U60: 0 | V60: 0 | W60: 0.02 | AU60: 01010103507CA242D428387145F965509D61001 | AV60: 246
A61: 아웃렛박스 | B61: ST, 8각 54㎜ | C61: 개 | D61: 26 | N61: 56457222E460A8D38DD1C5CF8C5128DBC21F2E | Q61: 01010103 | R61: F | S61: F | T61: T | AU61: 0101010356457222E460A8D38DD1C5CF8C5128DBC21F2E | AV61: 25
A62: 아웃렛박스 | B62: ST, 4각 54㎜ | C62: 개 | D62: 5 | N62: 56457222E460A8D38DD1C5CF8C5128DBC21F2B | Q62: 01010103 | R62: F | S62: F | T62: T | AU62: 0101010356457222E460A8D38DD1C5CF8C5128DBC21F2B | AV62: 26
A63: 아웃렛박스커버 | B63: ST, 8각, 평형 | C63: 개 | D63: 26 | N63: 56457222E460A8D38DD1C5CC385215E9E8690A | Q63: 01010103 | R63: F | S63: F | T63: T | AU63: 0101010356457222E460A8D38DD1C5CC385215E9E8690A | AV63: 27
A64: 아웃렛박스커버 | B64: ST, 4각, 평형 | C64: 개 | D64: 5 | N64: 56457222E460A8D38DD1C5CC385215E9E86909 | Q64: 01010103 | R64: F | S64: F | T64: T | AU64: 0101010356457222E460A8D38DD1C5CC385215E9E86909 | AV64: 28
A65: 스위치박스 | B65: ST, 1개용 54㎜ | C65: 개 | D65: 4 | N65: 56457222E460A8D38DD125CBB8E620F68D11EB | Q65: 01010103 | R65: F | S65: F | T65: T | AU65: 0101010356457222E460A8D38DD125CBB8E620F68D11EB | AV65: 29
A66: 스위치박스 | B66: ST, 2개용 54㎜ | C66: 개 | D66: 2 | N66: 56457222E460A8D38DD125CBB8E620F68D1EBA | Q66: 01010103 | R66: F | S66: F | T66: T | AU66: 0101010356457222E460A8D38DD125CBB8E620F68D1EBA | AV66: 30
A67: 와이드스위치 | B67: 단로, 1구 | C67: 개 | D67: 2 | N67: 56457222E460A85EC2FD8521611048AD683CC3 | Q67: 01010103 | R67: F | S67: F | T67: T | AU67: 0101010356457222E460A85EC2FD8521611048AD683CC3 | AV67: 31
A68: 와이드스위치 | B68: 단로, 2구 | C68: 개 | D68: 1 | N68: 56457222E460A85EC2FD8521611048AD683CCC | Q68: 01010103 | R68: F | S68: F | T68: T | AU68: 0101010356457222E460A85EC2FD8521611048AD683CCC | AV68: 32
A69: 와이드스위치 | B69: 3로, 1구 | C69: 개 | D69: 2 | N69: 56457222E460A85EC2FD8521611886A67DEA5C | Q69: 01010103 | R69: F | S69: F | T69: T | AU69: 0101010356457222E460A85EC2FD8521611886A67DEA5C | AV69: 33
A70: 와이드스위치 | B70: 3로, 3구 | C70: 개 | D70: 2 | N70: 56457222E460A85EC2FD8521611886A67DED28 | Q70: 01010103 | R70: F | S70: F | T70: T | AU70: 0101010356457222E460A85EC2FD8521611886A67DED28 | AV70: 34
A71: 레일 | B71: 레일등용 | C71: M | D71: 14 | N71: 56457222E460A8D3A8BF752F27229719A05248 | Q71: 01010103 | R71: F | S71: F | T71: T | AU71: 0101010356457222E460A8D3A8BF752F27229719A05248 | AV71: 35
A72: 조명기구 TYPE "LED 1N" 매입 | B72: LED 40W | C72: 개 | D72: 21 | N72: 5058C2F28458E83338737547E5C0301B98BC98 | Q72: 01010103 | R72: F | S72: F | T72: T | AU72: 010101035058C2F28458E83338737547E5C0301B98BC98 | AV72: 36
... A75: 구멍따기 | B75: 각종 두께 | C75: 개 | D75: 8 | N75: 512D6212A45808147E41A59D86F444 | Q75: 01010103 | R75: T | S75: F | T75: F | AU75: 01010103512D6212A45808147E41A59D86F444 | AV75: 39
A76: 내선전공 | B76: 일반공사 직종 | C76: 인 | D76: 9.1 | N76: 51B912D2F486181B17FB1531DFD9CE00A94EFC | Q76: 01010103 | R76: F | S76: F | T76: T | Z76: 3 | AU76: 0101010351B912D2F486181B17FB1531DFD9CE00A94EFC | AV76: 186
A77: 저압케이블전공 | B77: 일반공사 직종 | C77: 인 | D77: 5.1 | N77: 51B912D2F486181B17FB1531DFD9CE00A94EF1 | Q77: 01010103 | R77: F | S77: F | T77: T | Z77: 3 | AU77: 0101010351B912D2F486181B17FB1531DFD9CE00A94EF1 | AV77: 187
A78: 공구손료 | B78: 인력품의 3% | C78: 식 | D78: 1 | N78: 507CA242D428387145F965509D63003 | Q78: 01010103 | R78: F | S78: F | T78: F | U78: 1 | V78: 0 | W78: 0.03 | AU78: 01010103507CA242D428387145F965509D62002 | AV78: 247
Q79: 01010103
Q80: 01010103
Q81: 01010103
Q82: 01010103
Q83: 01010103
Q84: 01010103
Q85: 01010103
Q86: 01010103
Q87: 01010103
Q88: 01010103
Q89: 01010103
Q90: 01010103
... Q95: 01010103
A96: [ 합 계 ] | N96: TOTAL
A97: 01010104 철거 공사 | B97: 전기공사 전기공사 | Q97: 01010104
A98: 비닐캡타이어원형코드 철거 | B98: VCTF, 0.6/1kV, 2C 0.75㎟ | C98: M | D98: 31 | N98: 512C82E2B41DA8584DCB25C5799C6A | Q98: 01010104 | R98: T | S98: F | T98: F | AU98: 01010104512C82E2B41DA8584DCB25C5799C6A | AV98: 41
A99: 몰드 철거 | B99: PVC고강도, W31*H11, 소 | C99: M | D99: 6 | N99: 512CF2B2F4E64849730535F1FC53D2 | Q99: 01010104 | R99: T | S99: F | T99: F | AU99: 01010104512CF2B2F4E64849730535F1FC53D2 | AV99: 42
A100: 전선관 철거 | B100: HI-PVC, 16C | C100: M | D100: 33 | N100: 512CF2B284B5C87533A375518FBDDB | Q100: 01010104 | R100: T | S100: F | T100: F | AU100: 01010104512CF2B284B5C87533A375518FBDDB | AV100: 43
A101: 전선관 철거 | B101: CD, 16C | C101: M | D101: 53 | N101: 512CF2B284B5C87533A375518D8FDF | Q101: 01010104 | R101: T | S101: F | T101: F | AU101: 01010104512CF2B284B5C87533A375518D8FDF | AV101: 44
A102: 전선관 철거 | B102: CD, 22C | C102: M | D102: 6 | N102: 512CF2B284B5C87533A375518D8C0B | Q102: 01010104 | R102: T | S102: F | T102: F | AU102: 01010104512CF2B284B5C87533A375518D8C0B | AV102: 45
A103: 전선관 철거 | B103: FL, 16C | C103: M | D103: 24 | N103: 512CF2B284B5C87533A37556717F63 | Q103: 01010104 | R103: T | S103: F | T103: F | AU103: 01010104512CF2B284B5C87533A37556717F63 | AV103: 46
A104: 전력용전선 철거 | B104: HIV, 6㎟ 이하 | C104: M | D104: 450 | N104: 512CF2B284B5C87533A3654A9DE4E2 | Q104: 01010104 | R104: T | S104: F | T104: F | AU104: 01010104512CF2B284B5C87533A3654A9DE4E2 | AV104: 47
A105: 스위치 철거 | B105: 단로, 3로 | C105: 개 | D105: 5 | N105: 512CF2B284B5C87533A355A43AC700 | Q105: 01010104 | R105: T | S105: F | T105: F | AU105: 01010104512CF2B284B5C87533A355A43AC700 | AV105: 48
A106: 콘센트 철거 | B106: 접지형 | C106: 개 | D106: 5 | N106: 512CF2B284B5C87533A355A43AC44C | Q106: 01010104 | R106: T | S106: F | T106: F | AU106: 01010104512CF2B284B5C87533A355A43AC44C | AV106: 49
...

Sheet 공량설정
A1: 공종명 | B1: 적용율(%) | C1: 소수점이하자릿수 | D1: 공종코드
A2: 01010101 냉난방 설비공사 | B2: =원가계산서!#REF! -> #REF! | D2: 01010101
A3: 내선전공 | B3: =원가계산서!#REF! -> #REF! | C3: 1 | D3: 0101010151B912D2F486181B17FB1531DFD9CE00A94EFC
A4: 저압케이블전공 | B4: =원가계산서!#REF! -> #REF! | C4: 1 | D4: 0101010151B912D2F486181B17FB1531DFD9CE00A94EF1
A5: 01010102 전열 설비공사 | B5: =원가계산서!#REF! -> #REF! | D5: 01010102
A6: 내선전공 | B6: =원가계산서!#REF! -> #REF! | C6: 1 | D6: 0101010251B912D2F486181B17FB1531DFD9CE00A94EFC
A7: 저압케이블전공 | B7: =원가계산서!#REF! -> #REF! | C7: 1 | D7: 0101010251B912D2F486181B17FB1531DFD9CE00A94EF1
A8: 01010103 전등 설비공사 | B8: =원가계산서!#REF! -> #REF! | D8: 01010103
A9: 내선전공 | B9: =원가계산서!#REF! -> #REF! | C9: 1 | D9: 0101010351B912D2F486181B17FB1531DFD9CE00A94EFC
A10: 저압케이블전공 | B10: =원가계산서!#REF! -> #REF! | C10: 1 | D10: 0101010351B912D2F486181B17FB1531DFD9CE00A94EF1
A11: 01010104 철거 공사 | B11: =원가계산서!#REF! -> #REF! | D11: 01010104
A12: 01010201 자동화재탐지 설비공사 | B12: =원가계산서!#REF! -> #REF! | D12: 01010201
A13: 내선전공 | B13: =원가계산서!#REF! -> #REF! | C13: 1 | D13: 0101020151B912D2F486181B17FB1531DFD9CE00A94EFC
A14: 저압케이블전공 | B14: =원가계산서!#REF! -> #REF! | C14: 1 | D14: 0101020151B912D2F486181B17FB1531DFD9CE00A94EF1
A15: 01010202 유도등 설비공사 | B15: =원가계산서!#REF! -> #REF! | D15: 01010202
A16: 내선전공 | B16: =원가계산서!#REF! -> #REF! | C16: 1 | D16: 0101020251B912D2F486181B17FB1531DFD9CE00A94EFC
A17: 저압케이블전공 | B17: =원가계산서!#REF! -> #REF! | C17: 3 | D17: 0101020251B912D2F486181B17FB1531DFD9CE00A94EF1
A18: 01010203 시각경보 설비공사 | B18: =원가계산서!#REF! -> #REF! | D18: 01010203
A19: 내선전공 | B19: =원가계산서!#REF! -> #REF! | C19: 1 | D19: 0101020351B912D2F486181B17FB1531DFD9CE00A94EFC
A20: 저압케이블전공 | B20: =원가계산서!#REF! -> #REF! | C20: 1 | D20: 0101020351B912D2F486181B17FB1531DFD9CE00A94EF1
A21: 01010204 철거 공사 | B21: =원가계산서!#REF! -> #REF! | D21: 01010204
A22: 01010301 전기 및 기타공사 | B22: =원가계산서!#REF! -> #REF! | D22: 01010301
A23: 내선전공 | B23: =원가계산서!#REF! -> #REF! | C23: 1 | D23: 0101030151B912D2F486181B17FB1531DFD9CE00A94EFC
A24: 01010302 덕트 설비공사 | B24: =원가계산서!#REF! -> #REF! | D24: 01010302
A25: 내선전공 | B25: =원가계산서!#REF! -> #REF! | C25: 1 | D25: 0101030251B912D2F486181B17FB1531DFD9CE00A94EFC

Sheet 공량설정_일위대가
A1: 일위대가 | B1: 적용율(%) | C1: 소수점이하자릿수 | D1: 일위대가 코드
A2: 풀박스 철거 ST, 150 * 150 * 100㎜ (호표 23) | B2: =원가계산서!#REF! -> #REF! | D2: 512CF2B274AFF8D4E81AE58DB48B88
A3: 내선전공 | B3: =원가계산서!#REF! -> #REF! | C3: 4 | D3: 512CF2B274AFF8D4E81AE58DB48B8851B912D2F486181B17FB1531DFD9CE00A94EFC
A4: 하이박스(HI-BOX) 철거후재사용 (호표 24) | B4: =원가계산서!#REF! -> #REF! | C4: 4 | D4: 512CF2B274AFF8D4E81AE58F626A8F
A5: 내선전공 | B5: =원가계산서!#REF! -> #REF! | C5: 4 | D5: 512CF2B274AFF8D4E81AE58F626A8F51B912D2F486181B17FB1531DFD9CE00A94EFC
A6: 케이블트레이지지대 W150 (호표 25) | B6: =원가계산서!#REF! -> #REF! | C6: 4 | D6: 512CF2B244DED80A44DEE522088BA5
A7: 내선전공 | B7: =원가계산서!#REF! -> #REF! | C7: 4 | D7: 512CF2B244DED80A44DEE522088BA551B912D2F486181B17FB1531DFD9CE00A94EFC
A8: 케이블트레이지지대-벽체,바닥 W150 (호표 26) | B8: =원가계산서!#REF! -> #REF! | C8: 4 | D8: 512CF2B244DED80A44DEE5220D0A2B
A9: 내선전공 | B9: =원가계산서!#REF! -> #REF! | C9: 4 | D9: 512CF2B244DED80A44DEE5220D0A2B51B912D2F486181B17FB1531DFD9CE00A94EFC
A10: 몰드 철거 PVC고강도, W31*H11, 소 (호표 22) | B10: =원가계산서!#REF! -> #REF! | C10: 4 | D10: 512CF2B2F4E64849730535F1FC53D2
A11: 내선전공 | B11: =원가계산서!#REF! -> #REF! | C11: 4 | D11: 512CF2B2F4E64849730535F1FC53D251B912D2F486181B17FB1531DFD9CE00A94EFC
A12: 비닐캡타이어원형코드 철거 VCTF, 0.6/1kV, 2C 0.75㎟ (호표 30) | B12: =원가계산서!#REF! -> #REF! | C12: 4 | D12: 512C82E2B41DA8584DCB25C5799C6A
A13: 저압케이블전공 | B13: =원가계산서!#REF! -> #REF! | C13: 4 | D13: 512C82E2B41DA8584DCB25C5799C6A51B912D2F486181B17FB1531DFD9CE00A94EF1
A14: 구멍따기 각종 두께 (호표 31) | B14: =원가계산서!#REF! -> #REF! | C14: 4 | D14: 512D6212A45808147E41A59D86F444
... A101: 통신설비공 | B101: =원가계산서!#REF! -> #REF! | C101: 4 | D101: 512CF2A2F43C280F739D95D3DF239151B912D2F486181B17FB1531DFD9CE00A94126
