Workbook

Sheet 원가계산서
B1: 공 사 원 가 계 산 서
B2: 공사명 : 용추양수장 1호 역지변 교체공사
B3: 비 목 | E3: 금 액 | F3: 구 성 비 | G3: 비 고
A4: A1 | B4: 순 공 사 원 가 | C4: 재 료 비 | D4: 직 접 재 료 비 | E4: =TRUNC(공종별집계표!F5, 0) -> 5826165
A5: A2 | D5: 간 접 재 료 비 | E5: 0
A6: A3 | D6: 작업설, 부산물(△) | E6: =공종별내역서!L15 -> 114520
A7: AS | D7: [ 소 계 ] | E7: =TRUNC(E4+E5-E6, 0) -> 5711645
A8: B1 | C8: 노 무 비 | D8: 직 접 노 무 비 | E8: =TRUNC(공종별집계표!H5, 0) -> 994117
A9: B2 | D9: 간 접 노 무 비 | E9: =TRUNC(E8*0.175, 0) -> 173970 | F9: 직접노무비 * 17.5%
A10: BS | D10: [ 소 계 ] | E10: =TRUNC(E8+E9, 0) -> 1168087
A11: C2 | C11: 경 비 | D11: 경 비 | E11: =TRUNC(공종별집계표!J5, 0) -> 110984
A12: C4 | D12: 산 재 보 험 료 | E12: =TRUNC(E10*0.0356, 0) -> 41583 | F12: 노무비 * 3.56%
A13: C5 | D13: 고 용 보 험 료 | E13: =TRUNC(E10*0.0101, 0) -> 11797 | F13: 노무비 * 1.01%
A14: C6 | D14: 국민 건강 보험료 | F14: 직접노무비 * 3.595% | G14: 30일 이상 적용
A15: C7 | D15: 국민 연금 보험료 | F15: 직접노무비 * 4.75% | G15: 30일 이상 적용
A16: C8 | D16: 퇴직 공제 부금비 | F16: 직접노무비 * 2.3% | G16: 1억원 이상 적용
A17: CA | D17: 산업안전보건관리비 | E17: =TRUNC((E4+E8)*3.11%, 0) -> 212110 | F17: (재료비+직노+관급자재비) * 3.11%
A18: CB | D18: 노인장기요양보험료 | E18: =TRUNC(E14*0.1281, 0) -> 0 | F18: 건강보험료 * 13.14% | G18: 30일 이상 적용
A19: CG | D19: 기 타 경 비 | E19: =TRUNC((E7+E10)*0.05, 0) -> 343986 | F19: (재료비+노무비) * 5.0%
D20: 석 면 분 담 금 | E20: =TRUNC(E10*0.00006, 0) -> 70 | F20: 노무비 * 0.006% | G20: 환경부 고시 제2025-25호
D21: 임금 채권 부담금 | E21: =TRUNC(E10*0.0009, 0) -> 1051 | F21: 노무비 * 0.09% | G21: 노동부 고시 제2025-100호
A22: CS | D22: [ 소 계 ] | E22: =TRUNC(E11+E12+E13+E14+E15+E16+E17+E18+E19+E20+E21, 0) -> 721581
A23: S1 | B23: 계 | E23: =TRUNC(E7+E10+E22, 0) -> 7601313
A24: D1 | B24: 일 반 관 리 비 | E24: =TRUNC(E23*0.08, 0) -> 608105 | F24: 계 * 8%
A25: D2 | B25: 이 윤 | E25: =TRUNC((E10+E22+E24)*0.15, 0)-4083 -> 370582 | F25: (노무비+경비+일반관리비) * 15%
A26: D9 | B26: 공 급 가 액 | E26: =TRUNC(E23+E24+E25, 0) -> 8580000
A27: DB | B27: 부 가 가 치 세 | E27: =TRUNC(E26*0.1, 0) -> 858000 | F27: 공급가액 * 10%
A28: DH | B28: 도 급 액 | E28: =TRUNC(E26+E27, 0) -> 9438000
A29: S2 | B29: 총 공 사 비 | E29: =TRUNC(E28+0, 0) -> 9438000

Sheet 공종별집계표
A1: 공 종 별 집 계 표
A2: [ 용추양수장 1호 역지변 교체공사 ]
A3: 품 명 | B3: 규 격 | C3: 단위 | D3: 수량 | E3: 재 료 비 | G3: 노 무 비 | I3: 경 비 | K3: 합 계 | M3: 비 고 | N3: 공종코드 | O3: 변수 | P3: 상위공종 | Q3: 공종구분 | R3: 공종레벨 | S3: 공종소계 | T3: 원가계산서 연결금액
E4: 단 가 | F4: 금 액 | G4: 단 가 | H4: 금 액 | I4: 단 가 | J4: 금 액 | K4: 단 가 | L4: 금 액
A5: 01 용추양수장 1호 역지변 교체공사 | D5: 1 | E5: =공종별내역서!F27 -> 5826165 | F5: =E5*D5 -> 5826165 | G5: =공종별내역서!H27 -> 994117 | H5: =G5*D5 -> 994117 | I5: =공종별내역서!J27 -> 110984 | J5: =I5*D5 -> 110984 | K5: =E5+G5+I5 -> 6931266 | L5: =F5+H5+J5 -> 6931266 | N5: 01 | R5: 1
A27: [ 합 계 ] | F27: =F5 -> 5826165 | H27: =H5 -> 994117 | J27: =J5 -> 110984 | L27: =L5 -> 6931266

Sheet 공종별내역서
A2: 품 명 | B2: 규 격 | C2: 단위 | D2: 수량 | E2: 재 료 비 | G2: 노 무 비 | I2: 경 비 | K2: 합 계 | M2: 비 고 | N2: 품목코드 | O2: 변수 | P2: 설정 | Q2: 공종코드 | R2: 일위 | S2: 단산 | T2: 자재 | U2: 손료적용 | V2: 손료저장 | W2: 적용율 | X2: JUK1 | Y2: JUK2 | Z2: JUK3 | AA2: JUK4 | AB2: JUK5 | AC2: JUK6 | AD2: JUK7 | AE2: JUK8 | AF2: JUK9 | AG2: JUK10 | AH2: JUK11 | AI2: JUK12 | AJ2: JUK13 | AK2: JUK14 | AL2: JUK15 | AM2: JUK16 | AN2: JUK17 | AO2: JUK18 | AP2: JUK19 | AQ2: JUK20 | AR2: 자재구분 | AS2: 공종구분 | AT2: 공종레벨 | AU2: 공종+자재 | AV2: 고유번호
E3: 단 가 | F3: 금 액 | G3: 단 가 | H3: 금 액 | I3: 단 가 | J3: 금 액 | K3: 단 가 | L3: 금 액
A4: 01 용추양수장 1호 역지변 교체공사 | Q4: 01
A5: 완폐식체크밸브 설치 | B5: D250 | C5: 개 | D5: 1 | E5: =TRUNC(일위대가목록!E4,0) -> 5609768 | F5: =TRUNC(E5*D5, 0) -> 5609768 | G5: =TRUNC(일위대가목록!F4,0) -> 288420 | H5: =TRUNC(G5*D5, 0) -> 288420 | I5: =TRUNC(일위대가목록!G4,0) -> 0 | J5: =TRUNC(I5*D5, 0) -> 0 | K5: =TRUNC(E5+G5+I5, 0) -> 5898188 | L5: =TRUNC(F5+H5+J5, 0) -> 5898188 | M5: 호표 1 | N5: 58FC341CF9702A0B5577A25FE37502 | Q5: 01 | R5: T | S5: F | T5: F | AU5: 0158FC341CF9702A0B5577A25FE37502 | AV5: 2
A6: 완폐식체크밸브 철거 | B6: D250 | C6: 개 | D6: 1 | E6: =TRUNC(일위대가목록!E5,0) -> 2885 | F6: =TRUNC(E6*D6, 0) -> 2885 | G6: =TRUNC(일위대가목록!F5,0) -> 144296 | H6: =TRUNC(G6*D6, 0) -> 144296 | I6: =TRUNC(일위대가목록!G5,0) -> 0 | J6: =TRUNC(I6*D6, 0) -> 0 | K6: =TRUNC(E6+G6+I6, 0) -> 147181 | L6: =TRUNC(F6+H6+J6, 0) -> 147181 | M6: 호표 2 | N6: 58FC341CF9702A0B5577A25FE37501 | Q6: 01 | R6: T | S6: F | T6: F | AU6: 0158FC341CF9702A0B5577A25FE37501 | AV6: 3
A7: 압력계설치 | B7: 100mm, 10kg | C7: SET | D7: 2 | E7: =TRUNC(일위대가목록!E6,0) -> 25597 | F7: =TRUNC(E7*D7, 0) -> 51194 | G7: =TRUNC(일위대가목록!F6,0) -> 18592 | H7: =TRUNC(G7*D7, 0) -> 37184 | I7: =TRUNC(일위대가목록!G6,0) -> 0 | J7: =TRUNC(I7*D7, 0) -> 0 | K7: =TRUNC(E7+G7+I7, 0) -> 44189 | L7: =TRUNC(F7+H7+J7, 0) -> 88378 | M7: 호표 3 | N7: 58FC2434990A8A27FE7F8476730D02 | Q7: 01 | R7: T | S7: F | T7: F | AU7: 0158FC2434990A8A27FE7F8476730D02 | AV7: 6
A8: 압력계철거 | B8: 100mm, 10kg | C8: SET | D8: 2 | E8: =TRUNC(일위대가목록!E7,0) -> 185 | F8: =TRUNC(E8*D8, 0) -> 370 | G8: =TRUNC(일위대가목록!F7,0) -> 9296 | H8: =TRUNC(G8*D8, 0) -> 18592 | I8: =TRUNC(일위대가목록!G7,0) -> 0 | J8: =TRUNC(I8*D8, 0) -> 0 | K8: =TRUNC(E8+G8+I8, 0) -> 9481 | L8: =TRUNC(F8+H8+J8, 0) -> 18962 | M8: 호표 4 | N8: 58FC2434990A8A27FE7F8476730D01 | Q8: 01 | R8: T | S8: F | T8: F | AU8: 0158FC2434990A8A27FE7F8476730D01 | AV8: 7
A9: 패킹 | B9: 패킹, 플랜지용, ∮250mm | C9: 개 | D9: 2 | E9: =TRUNC(단가대비표!O10,0) -> 6782 | F9: =TRUNC(E9*D9, 0) -> 13564 | G9: =TRUNC(단가대비표!P10,0) -> 0 | H9: =TRUNC(G9*D9, 0) -> 0 | I9: =TRUNC(단가대비표!V10,0) -> 0 | J9: =TRUNC(I9*D9, 0) -> 0 | K9: =TRUNC(E9+G9+I9, 0) -> 6782 | L9: =TRUNC(F9+H9+J9, 0) -> 13564 | N9: 5F1EB4D039CB0B355D7762B5833A0127892B03 | Q9: 01 | R9: F | S9: F | T9: T | AU9: 015F1EB4D039CB0B355D7762B5833A0127892B03 | AV9: 4
A10: 육각너트 | B10: 육각너트, M24 | C10: 개 | D10: 36 | E10: =TRUNC(단가대비표!O8,0) -> 245 | F10: =TRUNC(E10*D10, 0) -> 8820 | G10: =TRUNC(단가대비표!P8,0) -> 0 | H10: =TRUNC(G10*D10, 0) -> 0 | I10: =TRUNC(단가대비표!V8,0) -> 0 | J10: =TRUNC(I10*D10, 0) -> 0 | K10: =TRUNC(E10+G10+I10, 0) -> 245 | L10: =TRUNC(F10+H10+J10, 0) -> 8820 | N10: 5F1EB4D03924CFEE8370C38F83B8096247FF16 | Q10: 01 | R10: F | S10: F | T10: T | AU10: 015F1EB4D03924CFEE8370C38F83B8096247FF16 | AV10: 9
A11: 육각볼트 | B11: 육각볼트, M24*150 | C11: 개 | D11: 36 | E11: =TRUNC(단가대비표!O7,0) -> 1508 | F11: =TRUNC(E11*D11, 0) -> 54288 | G11: =TRUNC(단가대비표!P7,0) -> 0 | H11: =TRUNC(G11*D11, 0) -> 0 | I11: =TRUNC(단가대비표!V7,0) -> 0 | J11: =TRUNC(I11*D11, 0) -> 0 | K11: =TRUNC(E11+G11+I11, 0) -> 1508 | L11: =TRUNC(F11+H11+J11, 0) -> 54288 | N11: 5F1EB4D03924CFFF2F7D67B373290381818C4F | Q11: 01 | R11: F | S11: F | T11: T | AU11: 015F1EB4D03924CFFF2F7D67B373290381818C4F | AV11: 8
A12: 굴착기(무한궤도) | B12: 0.2㎥ | C12: HR | D12: 8 | E12: =TRUNC(일위대가목록!E8,0) -> 10576 | F12: =TRUNC(E12*D12, 0) -> 84608 | G12: =TRUNC(일위대가목록!F8,0) -> 59020 | H12: =TRUNC(G12*D12, 0) -> 472160 | I12: =TRUNC(일위대가목록!G8,0) -> 13873 | J12: =TRUNC(I12*D12, 0) -> 110984 | K12: =TRUNC(E12+G12+I12, 0) -> 83469 | L12: =TRUNC(F12+H12+J12, 0) -> 667752 | M12: 호표 5 | N12: 5F2F143C0918E25344772510C3F201C60184788C | Q12: 01 | R12: T | S12: F | T12: F | AU12: 015F2F143C0918E25344772510C3F201C60184788C | AV12: 10
A13: 바이패스밸브 설치 | B13: 바이패스밸브,∮25mm(재사용) | C13: 개 | D13: 1 | E13: =TRUNC(일위대가목록!E9,0) -> 371 | F13: =TRUNC(E13*D13, 0) -> 371 | G13: =TRUNC(일위대가목록!F9,0) -> 18592 | H13: =TRUNC(G13*D13, 0) -> 18592 | I13: =TRUNC(일위대가목록!G9,0) -> 0 | J13: =TRUNC(I13*D13, 0) -> 0 | K13: =TRUNC(E13+G13+I13, 0) -> 18963 | L13: =TRUNC(F13+H13+J13, 0) -> 18963 | M13: 호표 6 | N13: 호표 5 | Q13: 01 | R13: T | S13: F | T13: F
A14: 바이패스밸브 재사용철거 | C14: 개 | D14: 1 | E14: =TRUNC(일위대가목록!E10,0) -> 297 | F14: =TRUNC(E14*D14, 0) -> 297 | G14: =TRUNC(일위대가목록!F10,0) -> 14873 | H14: =TRUNC(G14*D14, 0) -> 14873 | I14: =TRUNC(일위대가목록!G10,0) -> 0 | J14: =TRUNC(I14*D14, 0) -> 0 | K14: =TRUNC(E14+G14+I14, 0) -> 15170 | L14: =TRUNC(F14+H14+J14, 0) -> 15170 | M14: 호표 7 | Q14: 01 | R14: T | S14: F | T14: F
A15: 고철 | C15: Kg | D15: 280 | E15: =TRUNC(단가대비표!O9,0) -> 409 | F15: =TRUNC(E15*D15, 0) -> 114520 | G15: =TRUNC(단가대비표!P9,0) -> 0 | H15: =TRUNC(G15*D15, 0) -> 0 | I15: =TRUNC(단가대비표!V9,0) -> 0 | J15: =TRUNC(I15*D15, 0) -> 0 | K15: =TRUNC(E15+G15+I15, 0) -> 409 | L15: =TRUNC(F15+H15+J15, 0) -> 114520 | N15: 5F1EB4D03924F4E4EB7A844683A30EAAEE4C8F | Q15: 01 | R15: F | S15: F | T15: T | AU15: 015F1EB4D03924F4E4EB7A844683A30EAAEE4C8F | AV15: 11
Q16: 01
Q17: 01
Q18: 01
Q19: 01
Q20: 01
Q21: 01
Q22: 01
Q23: 01
Q24: 01
Q25: 01
Q26: 01
A27: [ 합 계 ] | F27: =SUMIF(Q5:Q14,"01",F5:F14) -> 5826165 | H27: =SUMIF(Q5:Q14,"01",H5:H14) -> 994117 | J27: =SUMIF(Q5:Q14,"01",J5:J14) -> 110984 | L27: =SUMIF(Q5:Q14,"01",L5:L14) -> 6931266 | N27: TOTAL

Sheet 일위대가목록
B1: 일 위 대 가 목 록
B2: [ 용추양수장 체크밸브 교체공사 ]
A3: 코 드 | B3: 품 명 | C3: 규 격 | D3: 단위 | E3: 재 료 비 | F3: 노 무 비 | G3: 경 비 | H3: 합 계 | I3: 번 호 | J3: 비 고 | K3: 노임계수 | L3: 할증 | M3: 품셈개요 | N3: 장비일위
A4: 58FC341CF9702A0B5577A25FE37502 | B4: 완폐식체크밸브 설치 | C4: D250 | D4: 개 | E4: =일위대가!F9 -> 5609768 | F4: =일위대가!H9 -> 288420 | G4: =일위대가!J9 -> 0 | H4: =E4+F4+G4 -> 5898188 | I4: 호표 1 | M4: 기계 5-1-1
A5: 58FC341CF9702A0B5577A25FE37501 | B5: 완폐식체크밸브 철거 | C5: D250 | D5: 개 | E5: =일위대가!F15 -> 2885 | F5: =일위대가!H15 -> 144296 | G5: =일위대가!J15 -> 0 | H5: =E5+F5+G5 -> 147181 | I5: 호표 2 | M5: 기계 5-1-1
A6: 58FC2434990A8A27FE7F8476730D02 | B6: 압력계설치 | C6: 100mm, 10kg | D6: SET | E6: =일위대가!F25 -> 25597 | F6: =일위대가!H25 -> 18592 | G6: =일위대가!J25 -> 0 | H6: =E6+F6+G6 -> 44189 | I6: 호표 3 | M6: 대한기계설비건설협회
A7: 58FC2434990A8A27FE7F8476730D01 | B7: 압력계철거 | C7: 100mm, 10kg | D7: SET | E7: =일위대가!F30 -> 185 | F7: =일위대가!H30 -> 9296 | G7: =일위대가!J30 -> 0 | H7: =E7+F7+G7 -> 9481 | I7: 호표 4 | M7: 대한기계설비건설협회
A8: 5F2F143C0918E25344772510C3F201C60184788C | B8: 굴착기(무한궤도) | C8: 0.2㎥ | D8: HR | E8: =일위대가!F37 -> 10576 | F8: =일위대가!H37 -> 59020 | G8: =일위대가!J37 -> 13873 | H8: =E8+F8+G8 -> 83469 | I8: 호표 5 | K8: A | M8: 공통 8-3,4(0201) | N8: T
A9: 5F2F143C0918E25344772510C3F201C60184788C | B9: 바이패스밸브 설치 | C9: 바이패스밸브,∮25mm(재사용) | D9: 개 | E9: =일위대가!F43 -> 371 | F9: =일위대가!H43 -> 18592 | G9: =일위대가!J43 -> 0 | H9: =E9+F9+G9 -> 18963 | I9: 호표 6 | K9: A | M9: 기계 5-1-1 | N9: T
A10: 5F2F143C0918E25344772510C3F201C60184788C | B10: 바이패스밸브 재사용철거 | D10: 개 | E10: =일위대가!F48 -> 297 | F10: =일위대가!H48 -> 14873 | G10: =일위대가!J48 -> 0 | H10: =E10+F10+G10 -> 15170 | I10: 호표 7 | K10: A | M10: 기계 5-1-1 | N10: T

Sheet 일위대가
A1: [ 용추양수장 체크밸브 교체공사 ]
A2: 품 명 | B2: 규 격 | C2: 단위 | D2: 수량 | E2: 재 료 비 | G2: 노 무 비 | I2: 경 비 | K2: 합 계 | M2: 비 고 | N2: 일위대가 | O2: 품목코드 | P2: 일위 | Q2: 단산 | R2: 자재 | S2: 손료적용 | T2: 손료저장 | U2: 적용율 | V2: JUK1 | W2: JUK2 | X2: JUK3 | Y2: JUK4 | Z2: JUK5 | AA2: JUK6 | AB2: JUK7 | AC2: JUK8 | AD2: JUK9 | AE2: JUK10 | AF2: JUK11 | AG2: JUK12 | AH2: JUK13 | AI2: JUK14 | AJ2: JUK15 | AK2: JUK16 | AL2: JUK17 | AM2: JUK18 | AN2: JUK19 | AO2: JUK20 | AP2: 할증적용 | AQ2: 할증저장 | AR2: 할증율 | AS2: HAL1 | AT2: HAL2 | AU2: HAL3 | AV2: 자재구분 | AW2: 일위대가+자재 | AX2: 장비일위 | AY2: 설정 | AZ2: 할증체크
E3: 단 가 | F3: 금 액 | G3: 단 가 | H3: 금 액 | I3: 단 가 | J3: 금 액 | K3: 단 가 | L3: 금 액
A4: 완폐식체크밸브 설치 D250 개 기계 5-1-1 ( 호표 1 ) | N4: 58FC341CF9702A0B5577A25FE37502
A5: 완폐식체크밸브 | B5: 완폐식체크밸브,∮250mm | C5: 개 | D5: 1 | E5: =단가대비표!O11 -> 5604000 | F5: =TRUNC(E5*D5,1) -> 5604000 | G5: =단가대비표!P11 -> 0 | H5: =TRUNC(G5*D5,1) -> 0 | I5: =단가대비표!V11 -> 0 | J5: =TRUNC(I5*D5,1) -> 0 | K5: =TRUNC(E5+G5+I5,1) -> 5604000 | L5: =TRUNC(F5+H5+J5,1) -> 5604000 | N5: 58FC341CF9702A0B5577A25FE37502 | O5: 5F66C404898F1122FF7AC07EA38807D7B3939CE5 | P5: F | Q5: F | R5: T | AW5: 58FC341CF9702A0B5577A25FE375025F66C404898F1122FF7AC07EA38807D7B3939CE5
A6: 배관공 | B6: 일반공사 직종 | C6: 인 | D6: =공량산출근거서_일위대가!K8 -> 0.924 | E6: =단가대비표!O18 -> 0 | F6: =TRUNC(E6*D6,1) -> 0 | G6: =단가대비표!P18 -> 247897 | H6: =TRUNC(G6*D6,1) -> 229056.8 | I6: =단가대비표!V18 -> 0 | J6: =TRUNC(I6*D6,1) -> 0 | K6: =TRUNC(E6+G6+I6,1) -> 247897 | L6: =TRUNC(F6+H6+J6,1) -> 229056.8 | M6: 지세할증 50% | N6: 58FC341CF9702A0B5577A25FE37502 | O6: 58EAE49EC97ABBD8E97D24F4D36408F52937C0 | P6: F | Q6: F | R6: T | V6: 1 | AW6: 58FC341CF9702A0B5577A25FE3750258EAE49EC97ABBD8E97D24F4D36408F52937C0
A7: 보통인부 | B7: 일반공사 직종 | C7: 인 | D7: =공량산출근거서_일위대가!K7 -> 0.345 | E7: =단가대비표!O17 -> 0 | F7: =TRUNC(E7*D7,1) -> 0 | G7: =단가대비표!P17 -> 172068 | H7: =TRUNC(G7*D7,1) -> 59363.4 | I7: =단가대비표!V17 -> 0 | J7: =TRUNC(I7*D7,1) -> 0 | K7: =TRUNC(E7+G7+I7,1) -> 172068 | L7: =TRUNC(F7+H7+J7,1) -> 59363.4 | M7: 지세할증 50% | N7: 58FC341CF9702A0B5577A25FE37502 | O7: 58EAE49EC97ABBD8E97D24F4D36408F5293477 | P7: F | Q7: F | R7: T | V7: 1 | AW7: 58FC341CF9702A0B5577A25FE3750258EAE49EC97ABBD8E97D24F4D36408F5293477
A8: 공구손료 | B8: 인력품의 2% | C8: 식 | D8: 1 | E8: =TRUNC(SUMIF(V5:V8, RIGHTB(O8, 1), H5:H8)*U8, 2) -> 5768.4 | F8: =TRUNC(E8*D8,1) -> 5768.4 | G8: 0 | H8: =TRUNC(G8*D8,1) -> 0 | I8: 0 | J8: =TRUNC(I8*D8,1) -> 0 | K8: =TRUNC(E8+G8+I8,1) -> 5768.4 | L8: =TRUNC(F8+H8+J8,1) -> 5768.4 | N8: 58FC341CF9702A0B5577A25FE37502 | O8: 592694D519D29BDF047DC3D6F3B0001 | P8: F | Q8: F | R8: F | S8: 1 | T8: 0 | U8: 0.02 | AW8: 58FC341CF9702A0B5577A25FE37502592694D519D29BDF047DC3D6F3B0001
A9: [ 합 계 ] | F9: =TRUNC(SUMIF(N5:N8, N4, F5:F8),0) -> 5609768 | H9: =TRUNC(SUMIF(N5:N8, N4, H5:H8),0) -> 288420 | J9: =TRUNC(SUMIF(N5:N8, N4, J5:J8),0) -> 0 | L9: =F9+H9+J9 -> 5898188 | N9: TOTAL | O9: TOTAL
A11: 완폐식체크밸브 철거 D250 개 기계 5-1-1 ( 호표 2 ) | N11: 58FC341CF9702A0B5577A25FE37501
A12: 배관공 | B12: 일반공사 직종 | C12: 인 | D12: =공량산출근거서_일위대가!K13 -> 0.462 | E12: =단가대비표!O18 -> 0 | F12: =TRUNC(E12*D12,1) -> 0 | G12: =단가대비표!P18 -> 247897 | H12: =TRUNC(G12*D12,1) -> 114528.4 | I12: =단가대비표!V18 -> 0 | J12: =TRUNC(I12*D12,1) -> 0 | K12: =TRUNC(E12+G12+I12,1) -> 247897 | L12: =TRUNC(F12+H12+J12,1) -> 114528.4 | M12: 지세할증 50% | N12: 58FC341CF9702A0B5577A25FE37501 | O12: 58EAE49EC97ABBD8E97D24F4D36408F52937C0 | P12: F | Q12: F | R12: T | V12: 1 | AW12: 58FC341CF9702A0B5577A25FE3750158EAE49EC97ABBD8E97D24F4D36408F52937C0
A13: 보통인부 | B13: 일반공사 직종 | C13: 인 | D13: =공량산출근거서_일위대가!K12 -> 0.173 | E13: =단가대비표!O17 -> 0 | F13: =TRUNC(E13*D13,1) -> 0 | G13: =단가대비표!P17 -> 172068 | H13: =TRUNC(G13*D13,1) -> 29767.7 | I13: =단가대비표!V17 -> 0 | J13: =TRUNC(I13*D13,1) -> 0 | K13: =TRUNC(E13+G13+I13,1) -> 172068 | L13: =TRUNC(F13+H13+J13,1) -> 29767.7 | M13: 지세할증 50% | N13: 58FC341CF9702A0B5577A25FE37501 | O13: 58EAE49EC97ABBD8E97D24F4D36408F5293477 | P13: F | Q13: F | R13: T | V13: 1 | AW13: 58FC341CF9702A0B5577A25FE3750158EAE49EC97ABBD8E97D24F4D36408F5293477
A14: 공구손료 | B14: 인력품의 2% | C14: 식 | D14: 1 | E14: =TRUNC(SUMIF(V12:V14, RIGHTB(O14, 1), H12:H14)*U14, 2) -> 2885.92 | F14: =TRUNC(E14*D14,1) -> 2885.9 | G14: 0 | H14: =TRUNC(G14*D14,1) -> 0 | I14: 0 | J14: =TRUNC(I14*D14,1) -> 0 | K14: =TRUNC(E14+G14+I14,1) -> 2885.9 | L14: =TRUNC(F14+H14+J14,1) -> 2885.9 | N14: 58FC341CF9702A0B5577A25FE37501 | O14: 592694D519D29BDF047DC3D6F3B0001 | P14: F | Q14: F | R14: F | S14: 1 | T14: 0 | U14: 0.02 | AW14: 58FC341CF9702A0B5577A25FE37501592694D519D29BDF047DC3D6F3B0001
A15: [ 합 계 ] | F15: =TRUNC(SUMIF(N12:N14, N11, F12:F14),0) -> 2885 | H15: =TRUNC(SUMIF(N12:N14, N11, H12:H14),0) -> 144296 | J15: =TRUNC(SUMIF(N12:N14, N11, J12:J14),0) -> 0 | L15: =F15+H15+J15 -> 147181 | N15: TOTAL | O15: TOTAL
A17: 압력계설치 100mm, 10kg SET 대한기계설비건설협회 ( 호표 3 ) | N17: 58FC2434990A8A27FE7F8476730D02
A18: 압력계 | B18: 압력계, 표시부직경 100mm, 10kg | C18: 개 | D18: 1 | E18: =단가대비표!O15 -> 8000 | F18: =TRUNC(E18*D18,1) -> 8000 | G18: =단가대비표!P15 -> 0 | H18: =TRUNC(G18*D18,1) -> 0 | I18: =단가대비표!V15 -> 0 | J18: =TRUNC(I18*D18,1) -> 0 | K18: =TRUNC(E18+G18+I18,1) -> 8000 | L18: =TRUNC(F18+H18+J18,1) -> 8000 | N18: 58FC2434990A8A27FE7F8476730D02 | O18: 5F66D42D493895EEC07955A1D372031E25DCFD | P18: F | Q18: F | R18: T | AW18: 58FC2434990A8A27FE7F8476730D025F66D42D493895EEC07955A1D372031E25DCFD
A19: 나사식강관제관이음쇠 | B19: 나사식강관제관이음쇠, ∮15mm, 엘보, 나사 | C19: 개 | D19: 1 | E19: =단가대비표!O13 -> 650 | F19: =TRUNC(E19*D19,1) -> 650 | G19: =단가대비표!P13 -> 0 | H19: =TRUNC(G19*D19,1) -> 0 | I19: =단가대비표!V13 -> 0 | J19: =TRUNC(I19*D19,1) -> 0 | K19: =TRUNC(E19+G19+I19,1) -> 650 | L19: =TRUNC(F19+H19+J19,1) -> 650 | N19: 58FC2434990A8A27FE7F8476730D02 | O19: 5F66C404898F23823E7CAE6F43880955E5CE98 | P19: F | Q19: F | R19: T | AW19: 58FC2434990A8A27FE7F8476730D025F66C404898F23823E7CAE6F43880955E5CE98
A20: 나사식강관제관이음쇠 | B20: 나사식강관제관이음쇠, ∮15mm, 소켓, 나사 | C20: 개 | D20: 1 | E20: =단가대비표!O14 -> 610 | F20: =TRUNC(E20*D20,1) -> 610 | G20: =단가대비표!P14 -> 0 | H20: =TRUNC(G20*D20,1) -> 0 | I20: =단가대비표!V14 -> 0 | J20: =TRUNC(I20*D20,1) -> 0 | K20: =TRUNC(E20+G20+I20,1) -> 610 | L20: =TRUNC(F20+H20+J20,1) -> 610 | N20: 58FC2434990A8A27FE7F8476730D02 | O20: 5F66C404898F23823E7CAE6F43880955EA4C73 | P20: F | Q20: F | R20: T | AW20: 58FC2434990A8A27FE7F8476730D025F66C404898F23823E7CAE6F43880955EA4C73
A21: 사이폰관(압력계설치용) | C21: EA | D21: 1 | E21: =단가대비표!O16 -> 6790 | F21: =TRUNC(E21*D21,1) -> 6790 | G21: =단가대비표!P16 -> 0 | H21: =TRUNC(G21*D21,1) -> 0 | I21: =단가대비표!V16 -> 0 | J21: =TRUNC(I21*D21,1) -> 0 | K21: =TRUNC(E21+G21+I21,1) -> 6790 | L21: =TRUNC(F21+H21+J21,1) -> 6790 | N21: 58FC2434990A8A27FE7F8476730D02 | O21: 5F66D42D491DEB100576B66A53810402C45A7E | P21: F | Q21: F | R21: T | AW21: 58FC2434990A8A27FE7F8476730D025F66D42D491DEB100576B66A53810402C45A7E
A22: 콕밸브 | B22: 콕밸브, 게이지콕, ∮15mm | C22: 개 | D22: 1 | E22: =단가대비표!O12 -> 8990 | F22: =TRUNC(E22*D22,1) -> 8990 | G22: =단가대비표!P12 -> 0 | H22: =TRUNC(G22*D22,1) -> 0 | I22: =단가대비표!V12 -> 0 | J22: =TRUNC(I22*D22,1) -> 0 | K22: =TRUNC(E22+G22+I22,1) -> 8990 | L22: =TRUNC(F22+H22+J22,1) -> 8990 | N22: 58FC2434990A8A27FE7F8476730D02 | O22: 5F66C404898F1122FF7BEBE2533B0BE1B665A0 | P22: F | Q22: F | R22: T | AW22: 58FC2434990A8A27FE7F8476730D025F66C404898F1122FF7BEBE2533B0BE1B665A0
A23: 배관공 | B23: 일반공사 직종 | C23: 인 | D23: 0.075 | E23: =단가대비표!O18 -> 0 | F23: =TRUNC(E23*D23,1) -> 0 | G23: =단가대비표!P18 -> 247897 | H23: =TRUNC(G23*D23,1) -> 18592.2 | I23: =단가대비표!V18 -> 0 | J23: =TRUNC(I23*D23,1) -> 0 | K23: =TRUNC(E23+G23+I23,1) -> 247897 | L23: =TRUNC(F23+H23+J23,1) -> 18592.2 | M23: 지세할증 50% | N23: 58FC2434990A8A27FE7F8476730D02 | O23: 58EAE49EC97ABBD8E97D24F4D36408F52937C0 | P23: F | Q23: F | R23: T | V23: 1 | AW23: 58FC2434990A8A27FE7F8476730D0258EAE49EC97ABBD8E97D24F4D36408F52937C0
A24: 공구손료 | B24: 인력품의 3% | C24: 식 | D24: 1 | E24: =TRUNC(SUMIF(V18:V24, RIGHTB(O24, 1), H18:H24)*U24, 2) -> 557.76 | F24: =TRUNC(E24*D24,1) -> 557.7 | G24: 0 | H24: =TRUNC(G24*D24,1) -> 0 | I24: 0 | J24: =TRUNC(I24*D24,1) -> 0 | K24: =TRUNC(E24+G24+I24,1) -> 557.7 | L24: =TRUNC(F24+H24+J24,1) -> 557.7 | N24: 58FC2434990A8A27FE7F8476730D02 | O24: 592694D519D29BDF047DC3D6F3B0001 | P24: F | Q24: F | R24: F | S24: 1 | T24: 0 | U24: 0.03 | AW24: 58FC2434990A8A27FE7F8476730D02592694D519D29BDF047DC3D6F3B0001
A25: [ 합 계 ] | F25: =TRUNC(SUMIF(N18:N24, N17, F18:F24),0) -> 25597 | H25: =TRUNC(SUMIF(N18:N24, N17, H18:H24),0) -> 18592 | J25: =TRUNC(SUMIF(N18:N24, N17, J18:J24),0) -> 0 | L25: =F25+H25+J25 -> 44189 | N25: TOTAL | O25: TOTAL
A27: 압력계철거 100mm, 10kg SET 대한기계설비건설협회 ( 호표 4 ) | N27: 58FC2434990A8A27FE7F8476730D01
A28: 배관공 | B28: 일반공사 직종 | C28: 인 | D28: 0.0375 | E28: =단가대비표!O18 -> 0 | F28: =TRUNC(E28*D28,1) -> 0 | G28: =단가대비표!P18 -> 247897 | H28: =TRUNC(G28*D28,1) -> 9296.1 | I28: =단가대비표!V18 -> 0 | J28: =TRUNC(I28*D28,1) -> 0 | K28: =TRUNC(E28+G28+I28,1) -> 247897 | L28: =TRUNC(F28+H28+J28,1) -> 9296.1 | M28: 지세할증 50% | N28: 58FC2434990A8A27FE7F8476730D01 | O28: 58EAE49EC97ABBD8E97D24F4D36408F52937C0 | P28: F | Q28: F | R28: T | V28: 1 | AW28: 58FC2434990A8A27FE7F8476730D0158EAE49EC97ABBD8E97D24F4D36408F52937C0
A29: 공구손료 | B29: 인력품의 2% | C29: 식 | D29: 1 | E29: =TRUNC(SUMIF(V28:V29, RIGHTB(O29, 1), H28:H29)*U29, 2) -> 185.92 | F29: =TRUNC(E29*D29,1) -> 185.9 | G29: 0 | H29: =TRUNC(G29*D29,1) -> 0 | I29: 0 | J29: =TRUNC(I29*D29,1) -> 0 | K29: =TRUNC(E29+G29+I29,1) -> 185.9 | L29: =TRUNC(F29+H29+J29,1) -> 185.9 | N29: 58FC2434990A8A27FE7F8476730D01 | O29: 592694D519D29BDF047DC3D6F3B0001 | P29: F | Q29: F | R29: F | S29: 1 | T29: 0 | U29: 0.02 | AW29: 58FC2434990A8A27FE7F8476730D01592694D519D29BDF047DC3D6F3B0001
A30: [ 합 계 ] | F30: =TRUNC(SUMIF(N28:N29, N27, F28:F29),0) -> 185 | H30: =TRUNC(SUMIF(N28:N29, N27, H28:H29),0) -> 9296 | J30: =TRUNC(SUMIF(N28:N29, N27, J28:J29),0) -> 0 | L30: =F30+H30+J30 -> 9481 | N30: TOTAL | O30: TOTAL
A32: 굴착기(무한궤도) 0.2㎥ HR 공통 8-3,4(0201) ( 호표 5 ) | N32: 5F2F143C0918E25344772510C3F201C60184788C
A33: 굴착기(무한궤도) | B33: 0.2㎥ | C33: 대 | D33: 0.2085 | E33: =단가대비표!O5 -> 0 | F33: =TRUNC(E33*D33,1) -> 0 | G33: =단가대비표!P5 -> 0 | H33: =TRUNC(G33*D33,1) -> 0 | I33: =단가대비표!V5 -> 66538 | J33: =TRUNC(I33*D33,1) -> 13873.1 | K33: =TRUNC(E33+G33+I33,1) -> 66538 | L33: =TRUNC(F33+H33+J33,1) -> 13873.1 | M33: 천원 | N33: 5F2F143C0918E25344772510C3F201C60184788C | O33: 5F2F143C0918E25344772510C3F201C6018478 | P33: F | Q33: F | R33: T | AW33: 5F2F143C0918E25344772510C3F201C60184788C5F2F143C0918E25344772510C3F201C6018478
A34: 경유 | B34: 경유, 저유황 | C34: L | D34: 5 | E34: =단가대비표!O6 -> 1748.18 | F34: =TRUNC(E34*D34,1) -> 8740.9 | G34: =단가대비표!P6 -> 0 | H34: =TRUNC(G34*D34,1) -> 0 | I34: =단가대비표!V6 -> 0 | J34: =TRUNC(I34*D34,1) -> 0 | K34: =TRUNC(E34+G34+I34,1) -> 1748.1 | L34: =TRUNC(F34+H34+J34,1) -> 8740.9 | N34: 5F2F143C0918E25344772510C3F201C60184788C | O34: 5F39D429793410C05E73208413530A619C2026 | P34: F | Q34: F | R34: T | V34: 1 | AW34: 5F2F143C0918E25344772510C3F201C60184788C5F39D429793410C05E73208413530A619C2026
A35: 잡재료 | B35: 주연료비의 21% | C35: 식 | D35: 1 | E35: =TRUNC(SUMIF(V33:V36, RIGHTB(O35, 1), F33:F36)*U35, 2) -> 1835.58 | F35: =TRUNC(E35*D35,1) -> 1835.5 | G35: 0 | H35: =TRUNC(G35*D35,1) -> 0 | I35: 0 | J35: =TRUNC(I35*D35,1) -> 0 | K35: =TRUNC(E35+G35+I35,1) -> 1835.5 | L35: =TRUNC(F35+H35+J35,1) -> 1835.5 | N35: 5F2F143C0918E25344772510C3F201C60184788C | O35: 592694D519D29BDF047DC3D6F3B0001 | P35: F | Q35: F | R35: F | S35: 0 | T35: 0 | U35: 0.21 | AW35: 5F2F143C0918E25344772510C3F201C60184788C592694D519D29BDF047DC3D6F3B0001
A36: 건설기계운전사 | B36: 일반공사 직종 | C36: 인 | D36: 1 | E36: =TRUNC(단가대비표!O19*1/8*16/12*25/20, 1) -> 0 | F36: =TRUNC(E36*D36,1) -> 0 | G36: =TRUNC(단가대비표!P19*1/8*16/12*25/20, 1) -> 59020.2 | H36: =TRUNC(G36*D36,1) -> 59020.2 | I36: =TRUNC(단가대비표!V19*1/8*16/12*25/20, 1) -> 0 | J36: =TRUNC(I36*D36,1) -> 0 | K36: =TRUNC(E36+G36+I36,1) -> 59020.2 | L36: =TRUNC(F36+H36+J36,1) -> 59020.2 | N36: 5F2F143C0918E25344772510C3F201C60184788C | O36: 58EAE49EC97ABBD8E97D24F4D36408F5293092 | P36: F | Q36: F | R36: T | AW36: 5F2F143C0918E25344772510C3F201C60184788C58EAE49EC97ABBD8E97D24F4D36408F5293092 | AX36: T
A37: [ 합 계 ] | F37: =TRUNC(SUMIF(N33:N36, N32, F33:F36),0) -> 10576 | H37: =TRUNC(SUMIF(N33:N36, N32, H33:H36),0) -> 59020 | J37: =TRUNC(SUMIF(N33:N36, N32, J33:J36),0) -> 13873 | L37: =F37+H37+J37 -> 83469 | N37: TOTAL | O37: TOTAL
A39: 바이패스밸브 설치 D25 개 기계 5-1-1 ( 호표 6 ) | N39: 58FC341CF9702A0B5577A25FE37502
A40: 바이패스밸브 | B40: 바이패스밸브,∮25mm(재사용) | C40: 개 | D40: 1 | F40: =TRUNC(E40*D40,1) -> 0 | H40: =TRUNC(G40*D40,1) -> 0 | J40: =TRUNC(I40*D40,1) -> 0 | K40: =TRUNC(E40+G40+I40,1) -> 0 | L40: =TRUNC(F40+H40+J40,1) -> 0 | N40: 58FC341CF9702A0B5577A25FE37502 | O40: 5F66C404898F1122FF7AC07EA38807D7B3939CE5 | P40: F | Q40: F | R40: T | AW40: 58FC341CF9702A0B5577A25FE375025F66C404898F1122FF7AC07EA38807D7B3939CE5
A41: 배관공 | B41: 일반공사 직종 | C41: 인 | D41: =공량산출근거서_일위대가!K16 -> 0.075 | E41: =단가대비표!O18 -> 0 | F41: =TRUNC(E41*D41,1) -> 0 | G41: =단가대비표!P18 -> 247897 | H41: =TRUNC(G41*D41,1) -> 18592.2 | I41: =단가대비표!V18 -> 0 | J41: =TRUNC(I41*D41,1) -> 0 | K41: =TRUNC(E41+G41+I41,1) -> 247897 | L41: =TRUNC(F41+H41+J41,1) -> 18592.2 | M41: 지세할증 50% | N41: 58FC341CF9702A0B5577A25FE37502 | O41: 58EAE49EC97ABBD8E97D24F4D36408F52937C0 | P41: F | Q41: F | R41: T | V41: 1 | AW41: 58FC341CF9702A0B5577A25FE3750258EAE49EC97ABBD8E97D24F4D36408F52937C0
A42: 공구손료 | B42: 인력품의 2% | C42: 식 | D42: 1 | E42: =TRUNC(SUMIF(V40:V42, RIGHTB(O42, 1), H40:H42)*U42, 2) -> 371.84 | F42: =TRUNC(E42*D42,1) -> 371.8 | G42: 0 | H42: =TRUNC(G42*D42,1) -> 0 | I42: 0 | J42: =TRUNC(I42*D42,1) -> 0 | K42: =TRUNC(E42+G42+I42,1) -> 371.8 | L42: =TRUNC(F42+H42+J42,1) -> 371.8 | N42: 58FC341CF9702A0B5577A25FE37502 | O42: 592694D519D29BDF047DC3D6F3B0001 | P42: F | Q42: F | R42: F | S42: 1 | T42: 0 | U42: 0.02 | AW42: 58FC341CF9702A0B5577A25FE37502592694D519D29BDF047DC3D6F3B0001
A43: [ 합 계 ] | F43: =TRUNC(SUMIF(N40:N42, N39, F40:F42),0) -> 371 | H43: =TRUNC(SUMIF(N40:N42, N39, H40:H42),0) -> 18592 | J43: =TRUNC(SUMIF(N40:N42, N39, J40:J42),0) -> 0 | L43: =F43+H43+J43 -> 18963 | N43: TOTAL | O43: TOTAL
A45: 바이패스밸브 재사용철거 D25 개 기계 5-1-1 ( 호표 7 ) | N45: 58FC341CF9702A0B5577A25FE37502
A46: 배관공 | B46: 일반공사 직종 | C46: 인 | D46: =공량산출근거서_일위대가!K19 -> 0.06 | E46: =단가대비표!O18 -> 0 | F46: =TRUNC(E46*D46,1) -> 0 | G46: =단가대비표!P18 -> 247897 | H46: =TRUNC(G46*D46,1) -> 14873.8 | I46: =단가대비표!V18 -> 0 | J46: =TRUNC(I46*D46,1) -> 0 | K46: =TRUNC(E46+G46+I46,1) -> 247897 | L46: =TRUNC(F46+H46+J46,1) -> 14873.8 | M46: 지세할증 50% | N46: 58FC341CF9702A0B5577A25FE37502 | O46: 58EAE49EC97ABBD8E97D24F4D36408F52937C0 | P46: F | Q46: F | R46: T | V46: 1 | AW46: 58FC341CF9702A0B5577A25FE3750258EAE49EC97ABBD8E97D24F4D36408F52937C0
A47: 공구손료 | B47: 인력품의 2% | C47: 식 | D47: 1 | E47: =TRUNC(SUMIF(V46:V47, RIGHTB(O47, 1), H46:H47)*U47, 2) -> 297.47 | F47: =TRUNC(E47*D47,1) -> 297.4 | G47: 0 | H47: =TRUNC(G47*D47,1) -> 0 | I47: 0 | J47: =TRUNC(I47*D47,1) -> 0 | K47: =TRUNC(E47+G47+I47,1) -> 297.4 | L47: =TRUNC(F47+H47+J47,1) -> 297.4 | N47: 58FC341CF9702A0B5577A25FE37502 | O47: 592694D519D29BDF047DC3D6F3B0001 | P47: F | Q47: F | R47: F | S47: 1 | T47: 0 | U47: 0.02 | AW47: 58FC341CF9702A0B5577A25FE37502592694D519D29BDF047DC3D6F3B0001
A48: [ 합 계 ] | F48: =TRUNC(SUMIF(N46:N47, N45, F46:F47),0) -> 297 | H48: =TRUNC(SUMIF(N46:N47, N45, H46:H47),0) -> 14873 | J48: =TRUNC(SUMIF(N46:N47, N45, J46:J47),0) -> 0 | L48: =F48+H48+J48 -> 15170 | N48: TOTAL | O48: TOTAL

Sheet 단가대비표
A1: 단 가 대 비 표
A2: [ 용추양수장 체크밸브 교체공사 ]
A3: 코 드 | B3: 품 명 | C3: 규격 | D3: 단위 | E3: 재 료 비 | P3: 노 무 비 | Q3: 경 비 | W3: 번 호 | X3: 비 고 | Y3: 품목구분 | Z3: 노임구분 | AA3: 소수점처리 | AB3: 자재구분
E4: 조달청가격 | F4: PAGE | G4: 거래가격 | H4: PAGE | I4: 유통물가 | J4: PAGE | K4: 조사가격1 | L4: PAGE | M4: 조사가격2 | N4: PAGE | O4: 적용단가 | Q4: 조달청가격 | R4: 거래가격 | S4: 유통물가 | T4: 조사가격1 | U4: 조사가격2 | V4: 적용단가
A5: 5F2F143C0918E25344772510C3F201C6018478 | B5: 굴착기(무한궤도) | C5: 0.2㎥ | D5: 대 | E5: 0 | G5: 0 | I5: 0 | K5: 0 | M5: 0 | O5: 0 | P5: 0 | Q5: 0 | R5: 0 | S5: 0 | T5: 0 | U5: 66538 | V5: =SMALL(Q5:U5,COUNTIF(Q5:U5,0)+1) -> 66538 | W5: 자재 1 | X5: 천원
A6: 5F39D429793410C05E73208413530A619C2026 | B6: 경유 | C6: 경유, 저유황 | D6: L | E6: 0 | G6: 1864.54 | H6: 1451 | I6: 1748.18 | J6: 1189 | K6: 0 | M6: 0 | O6: =SMALL(E6:M6,COUNTIF(E6:M6,0)+1) -> 1748.18 | P6: 0 | Q6: 0 | R6: 0 | S6: 0 | T6: 0 | U6: 0 | V6: 0 | W6: 자재 2
A7: 5F1EB4D03924CFFF2F7D67B373290381818C4F | B7: 육각볼트 | C7: 육각볼트, M24*150 | D7: 개 | E7: 1508 | G7: 1894 | H7: 90 | I7: 1919 | J7: 49 | K7: 0 | M7: 0 | O7: =SMALL(E7:M7,COUNTIF(E7:M7,0)+1) -> 1508 | P7: 0 | Q7: 0 | R7: 0 | S7: 0 | T7: 0 | U7: 0 | V7: 0 | W7: 자재 3
A8: 5F1EB4D03924CFEE8370C38F83B8096247FF16 | B8: 육각너트 | C8: 육각너트, M24 | D8: 개 | E8: 0 | G8: 245 | H8: 96 | I8: 0 | K8: 0 | M8: 0 | O8: =SMALL(E8:M8,COUNTIF(E8:M8,0)+1) -> 245 | P8: 0 | Q8: 0 | R8: 0 | S8: 0 | T8: 0 | U8: 0 | V8: 0 | W8: 자재 4
A9: 5F1EB4D03924F4E4EB7A844683A30EAAEE4C8F | B9: 고철 | D9: Kg | E9: 0 | G9: 415 | H9: 1472 | I9: 409 | J9: 1198 | K9: 0 | M9: 0 | O9: =SMALL(E9:M9,COUNTIF(E9:M9,0)+1) -> 409 | P9: 0 | Q9: 0 | R9: 0 | S9: 0 | T9: 0 | U9: 0 | V9: 0 | W9: 자재 5
A10: 5F1EB4D039CB0B355D7762B5833A0127892B03 | B10: 패킹 | C10: 패킹, 플랜지용, ∮250mm | D10: 개 | E10: 0 | G10: 0 | I10: 0 | K10: 0 | M10: 6782 | N10: 설비협회 | O10: =SMALL(E10:M10,COUNTIF(E10:M10,0)+1) -> 6782 | P10: 0 | Q10: 0 | R10: 0 | S10: 0 | T10: 0 | U10: 0 | V10: 0 | W10: 자재 6
A11: 5F66C404898F1122FF7AC07EA38807D7B3939CE5 | B11: 완폐식체크밸브 | C11: 완폐식체크밸브,∮250mm | D11: 개 | E11: 0 | G11: 6507000 | H11: 840 | I11: 5604000 | J11: 612 | K11: 0 | M11: 0 | O11: =SMALL(E11:M11,COUNTIF(E11:M11,0)+1) -> 5604000 | P11: 0 | Q11: 0 | R11: 0 | S11: 0 | T11: 0 | U11: 0 | V11: 0 | W11: 자재 7
A12: 5F66C404898F1122FF7BEBE2533B0BE1B665A0 | B12: 콕밸브 | C12: 콕밸브, 게이지콕, ∮15mm | D12: 개 | E12: 0 | G12: 0 | I12: 0 | K12: 0 | M12: 8990 | N12: 설비협회 | O12: =SMALL(E12:M12,COUNTIF(E12:M12,0)+1) -> 8990 | P12: 0 | Q12: 0 | R12: 0 | S12: 0 | T12: 0 | U12: 0 | V12: 0 | W12: 자재 8
A13: 5F66C404898F23823E7CAE6F43880955E5CE98 | B13: 나사식강관제관이음쇠 | C13: 나사식강관제관이음쇠, ∮15mm, 엘보, 나사 | D13: 개 | E13: 650 | G13: 980 | H13: 758 | I13: 760 | J13: 528 | K13: 0 | M13: 0 | O13: =SMALL(E13:M13,COUNTIF(E13:M13,0)+1) -> 650 | P13: 0 | Q13: 0 | R13: 0 | S13: 0 | T13: 0 | U13: 0 | V13: 0 | W13: 자재 9
A14: 5F66C404898F23823E7CAE6F43880955EA4C73 | B14: 나사식강관제관이음쇠 | C14: 나사식강관제관이음쇠, ∮15mm, 소켓, 나사 | D14: 개 | E14: 610 | G14: 930 | H14: 758 | I14: 710 | J14: 528 | K14: 0 | M14: 0 | O14: =SMALL(E14:M14,COUNTIF(E14:M14,0)+1) -> 610 | P14: 0 | Q14: 0 | R14: 0 | S14: 0 | T14: 0 | U14: 0 | V14: 0 | W14: 자재 10
A15: 5F66D42D493895EEC07955A1D372031E25DCFD | B15: 압력계 | C15: 압력계, 표시부직경 100mm, 10kg | D15: 개 | E15: 0 | G15: 8000 | H15: 855 | I15: 0 | K15: 0 | M15: 0 | O15: =SMALL(E15:M15,COUNTIF(E15:M15,0)+1) -> 8000 | P15: 0 | Q15: 0 | R15: 0 | S15: 0 | T15: 0 | U15: 0 | V15: 0 | W15: 자재 11
A16: 5F66D42D491DEB100576B66A53810402C45A7E | B16: 사이폰관(압력계설치용) | D16: EA | E16: 0 | G16: 0 | I16: 0 | K16: 0 | M16: 6790 | N16: 설비협회 | O16: =SMALL(E16:M16,COUNTIF(E16:M16,0)+1) -> 6790 | P16: 0 | Q16: 0 | R16: 0 | S16: 0 | T16: 0 | U16: 0 | V16: 0 | W16: 자재 12
A17: 58EAE49EC97ABBD8E97D24F4D36408F5293477 | B17: 보통인부 | C17: 일반공사 직종 | D17: 인 | E17: 0 | G17: 0 | I17: 0 | K17: 0 | M17: 0 | O17: 0 | P17: 172068 | Q17: 0 | R17: 0 | S17: 0 | T17: 0 | U17: 0 | V17: 0 | W17: 노임 1 | Y17: B
A18: 58EAE49EC97ABBD8E97D24F4D36408F52937C0 | B18: 배관공 | C18: 일반공사 직종 | D18: 인 | E18: 0 | G18: 0 | I18: 0 | K18: 0 | M18: 0 | O18: 0 | P18: 247897 | Q18: 0 | R18: 0 | S18: 0 | T18: 0 | U18: 0 | V18: 0 | W18: 노임 2 | Y18: B
A19: 58EAE49EC97ABBD8E97D24F4D36408F5293092 | B19: 건설기계운전사 | C19: 일반공사 직종 | D19: 인 | E19: 0 | G19: 0 | I19: 0 | K19: 0 | M19: 0 | O19: 0 | P19: 283297 | Q19: 0 | R19: 0 | S19: 0 | T19: 0 | U19: 0 | V19: 0 | W19: 노임 3 | Y19: B

Sheet 공량산출근거서_일위대가
A1: 공 량 산 출 근 거 서
A2: [ 용추양수장 체크밸브 교체공사 ]
A3: 코 드 | B3: 품 명 | C3: 규 격 | D3: 단위 | E3: 품 셈 목 록 | F3: 수 량 | G3: 할증 | H3: 노임할증-1 | I3: 노임할증-2 | J3: 노임할증-3 | K3: 내역수량 | L3: 직 종 명 | M3: 공 량 | N3: 계 | O3: 번 호 | P3: 비 고 | T3: 일위대가목록+자재 | V3: 보통인부 | W3: 일반공사 직종 | X3: 배관공
B4: 완폐식체크밸브 설치 D250 개 (호표 1)
A5: 5F66C404898F1122FF7AC07EA38807D7B3939CE5 | B5: 완폐식체크밸브 | C5: 완폐식체크밸브,∮250mm | D5: 개 | E5: 기계 5-1-1 | F5: 1 | G5: 0 | H5: 50 | K5: 1 | L5: 보통인부 | M5: =0.23*(H5+100)/100*(I5+100)/100*(J5+100)/100 -> 0.345 | N5: =F5*M5 -> 0.345 | O5: 노임 1 | P5: 0.23*1*150% | Q5: 58FC341CF9702A0B5577A25FE37502 | R5: 58EAE49EC97ABBD8E97D24F4D36408F5293477 | S5: 0.23 | T5: 58FC341CF9702A0B5577A25FE375025F66C404898F1122FF7AC07EA38807D7B3939CE5 | V5: =N5 -> 0.345
L6: 배관공 | M6: =0.616*(H5+100)/100*(I5+100)/100*(J5+100)/100 -> 0.924 | N6: =F5*M6 -> 0.924 | O6: 노임 2 | Q6: 58FC341CF9702A0B5577A25FE37502 | R6: 58EAE49EC97ABBD8E97D24F4D36408F52937C0 | S6: 0.616 | T6: 58FC341CF9702A0B5577A25FE375025F66C404898F1122FF7AC07EA38807D7B3939CE5 | X6: =N6 -> 0.924
A7: 58EAE49EC97ABBD8E97D24F4D36408F5293477 | B7: 보통인부 | C7: 일반공사 직종 | D7: 인 | F7: =SUM(V5:V6) -> 0.345 | K7: =ROUND(ROUNDDOWN(F7,공량설정_일위대가!C4+1)*공량설정_일위대가!B2/100, 공량설정_일위대가!C4) -> 0.345 | O7: 노임 1 | Q7: 58FC341CF9702A0B5577A25FE37502 | T7: 58FC341CF9702A0B5577A25FE3750258EAE49EC97ABBD8E97D24F4D36408F5293477
A8: 58EAE49EC97ABBD8E97D24F4D36408F52937C0 | B8: 배관공 | C8: 일반공사 직종 | D8: 인 | F8: =SUM(X5:X6) -> 0.924 | K8: =ROUND(ROUNDDOWN(F8,공량설정_일위대가!C3+1)*공량설정_일위대가!B2/100, 공량설정_일위대가!C3) -> 0.924 | O8: 노임 2 | Q8: 58FC341CF9702A0B5577A25FE37502 | T8: 58FC341CF9702A0B5577A25FE3750258EAE49EC97ABBD8E97D24F4D36408F52937C0
B9: 완폐식체크밸브 철거 D250 개 ( 호표 2 )
A10: 5F66C404898F1122FF7AC07EA38807D7B3939CE5 | D10: 개 | E10: 기계 5-1-1 | F10: 1 | G10: 0 | H10: 50 | I10: -50 | K10: 1 | L10: 보통인부 | M10: =0.23*(H10+100)/100*(I10+100)/100*(J10+100)/100 -> 0.1725 | N10: =F10*M10 -> 0.1725 | O10: 노임 1 | P10: 0.23*1*150%*50% | Q10: 58FC341CF9702A0B5577A25FE37502 | R10: 58EAE49EC97ABBD8E97D24F4D36408F5293477 | S10: 0.23 | T10: 58FC341CF9702A0B5577A25FE375025F66C404898F1122FF7AC07EA38807D7B3939CE5 | V10: =N10 -> 0.1725
L11: 배관공 | M11: =0.616*(H10+100)/100*(I10+100)/100*(J10+100)/100 -> 0.462 | N11: =F10*M11 -> 0.462 | O11: 노임 2 | Q11: 58FC341CF9702A0B5577A25FE37502 | R11: 58EAE49EC97ABBD8E97D24F4D36408F52937C0 | S11: 0.616 | T11: 58FC341CF9702A0B5577A25FE375025F66C404898F1122FF7AC07EA38807D7B3939CE5 | X11: =N11 -> 0.462
A12: 58EAE49EC97ABBD8E97D24F4D36408F5293477 | B12: 보통인부 | C12: 일반공사 직종 | D12: 인 | F12: =SUM(V10:V11) -> 0.1725 | K12: =ROUND(ROUNDDOWN(F12,공량설정_일위대가!C7+1)*공량설정_일위대가!B5/100, 공량설정_일위대가!C7) -> 0.173 | O12: 노임 1 | Q12: 58FC341CF9702A0B5577A25FE37502 | T12: 58FC341CF9702A0B5577A25FE3750258EAE49EC97ABBD8E97D24F4D36408F5293477
A13: 58EAE49EC97ABBD8E97D24F4D36408F52937C0 | B13: 배관공 | C13: 일반공사 직종 | D13: 인 | F13: =SUM(X10:X11) -> 0.462 | K13: =ROUND(ROUNDDOWN(F13,공량설정_일위대가!C6+1)*공량설정_일위대가!B5/100, 공량설정_일위대가!C6) -> 0.462 | O13: 노임 2 | Q13: 58FC341CF9702A0B5577A25FE37502 | T13: 58FC341CF9702A0B5577A25FE3750258EAE49EC97ABBD8E97D24F4D36408F52937C0
B14: 바이패스밸브 설치 D25 개 (호표 6)
A15: 5F66C404898F1122FF7AC07EA38807D7B3939CE5 | B15: 완폐식체크밸브 | C15: 바이패스밸브,∮25mm (재사용) | D15: 개 | E15: 기계 5-1-1 | F15: 1 | G15: 0 | H15: 50 | K15: 1 | L15: 배관공 | M15: =0.05*(H15+100)/100*(I15+100)/100*(J15+100)/100 -> 0.075 | N15: =F15*M15 -> 0.075 | O15: 노임 2 | P15: 0.05*1*150% | Q15: 58FC341CF9702A0B5577A25FE37502 | R15: 58EAE49EC97ABBD8E97D24F4D36408F5293477 | S15: 0.23 | T15: 58FC341CF9702A0B5577A25FE375025F66C404898F1122FF7AC07EA38807D7B3939CE5 | V15: =N15 -> 0.075
A16: 58EAE49EC97ABBD8E97D24F4D36408F5293477 | B16: 배관공 | C16: 일반공사 직종 | D16: 인 | F16: =SUM(V15:V15) -> 0.075 | K16: =ROUND(ROUNDDOWN(F16,공량설정_일위대가!C15+1)*공량설정_일위대가!B14/100, 공량설정_일위대가!C15) -> 0.075 | O16: 노임 2 | Q16: 58FC341CF9702A0B5577A25FE37502 | T16: 58FC341CF9702A0B5577A25FE3750258EAE49EC97ABBD8E97D24F4D36408F5293477
B17: 바이패스밸브 재사용철거 D25 개 ( 호표 7 )
A18: 5F66C404898F1122FF7AC07EA38807D7B3939CE5 | D18: 개 | E18: 기계 5-1-1 | F18: 1 | G18: 0 | H18: 50 | I18: -20 | K18: 1 | L18: 배관공 | M18: =0.05*(H18+100)/100*(I18+100)/100*(J18+100)/100 -> 0.06 | N18: =F18*M18 -> 0.06 | O18: 노임 2 | P18: 0.05*1*150%*80% | Q18: 58FC341CF9702A0B5577A25FE37502 | R18: 58EAE49EC97ABBD8E97D24F4D36408F5293477 | S18: 0.23 | T18: 58FC341CF9702A0B5577A25FE375025F66C404898F1122FF7AC07EA38807D7B3939CE5 | V18: =N18 -> 0.06
A19: 58EAE49EC97ABBD8E97D24F4D36408F5293477 | B19: 배관공 | C19: 일반공사 직종 | D19: 인 | F19: =SUM(V18:V18) -> 0.06 | K19: =ROUND(ROUNDDOWN(F19,공량설정_일위대가!C17+1)*공량설정_일위대가!B16/100, 공량설정_일위대가!C17) -> 0.06 | O19: 노임 2 | Q19: 58FC341CF9702A0B5577A25FE37502 | T19: 58FC341CF9702A0B5577A25FE3750258EAE49EC97ABBD8E97D24F4D36408F5293477

Sheet 공량설정_일위대가
A1: 일위대가 | B1: 적용율(%) | C1: 소수점이하자릿수 | D1: 일위대가 코드
A2: 완폐식체크밸브 설치 D250 (호표 1) | B2: 100 | D2: 58FC341CF9702A0B5577A25FE37502
A3: 배관공 | C3: 3 | D3: 58FC341CF9702A0B5577A25FE3750258EAE49EC97ABBD8E97D24F4D36408F52937C0
A4: 보통인부 | C4: 3 | D4: 58FC341CF9702A0B5577A25FE3750258EAE49EC97ABBD8E97D24F4D36408F5293477
A5: 완폐식체크밸브 철거 D250 (호표 2) | B5: 100 | D5: 58FC341CF9702A0B5577A25FE37501
A6: 배관공 | C6: 3 | D6: 58FC341CF9702A0B5577A25FE3750158EAE49EC97ABBD8E97D24F4D36408F52937C0
A7: 보통인부 | C7: 3 | D7: 58FC341CF9702A0B5577A25FE3750158EAE49EC97ABBD8E97D24F4D36408F5293477
A8: 압력계설치 100mm, 10kg (호표 3) | B8: 100 | D8: 58FC2434990A8A27FE7F8476730D02
A9: 배관공 | C9: 2 | D9: 58FC2434990A8A27FE7F8476730D0258EAE49EC97ABBD8E97D24F4D36408F52937C0
A10: 압력계철거 100mm, 10kg (호표 4) | B10: 100 | D10: 58FC2434990A8A27FE7F8476730D01
A11: 배관공 | C11: 3 | D11: 58FC2434990A8A27FE7F8476730D0158EAE49EC97ABBD8E97D24F4D36408F52937C0
A12: 굴착기(무한궤도) 0.2㎥ (호표 5) | B12: 100 | D12: 5F2F143C0918E25344772510C3F201C60184788C
A13: 건설기계운전사 | C13: 0 | D13: 5F2F143C0918E25344772510C3F201C60184788C58EAE49EC97ABBD8E97D24F4D36408F5293092
A14: 바이패스밸브설치 D25 (호표 6) | B14: 100 | D14: 58FC2434990A8A27FE7F8476730D02
A15: 배관공 | C15: 3 | D15: 58FC2434990A8A27FE7F8476730D0258EAE49EC97ABBD8E97D24F4D36408F52937C0
A16: 바이패스밸브 재사용철거 D25 (호표 7) | B16: 100 | D16: 58FC2434990A8A27FE7F8476730D01
A17: 배관공 | C17: 3 | D17: 58FC2434990A8A27FE7F8476730D0158EAE49EC97ABBD8E97D24F4D36408F52937C0

Sheet  공사설정 
A1: 이 Sheet는 수정하지 마십시요
A2: 공사구분 | B2: C | C2: 타이틀
A3: 확정내역 | B3: 원내역
A4: 자재단가적용 | B4: 5
A5: 경비단가적용 | B5: 5
A6: 품목코드형식 | B6: XXXX-XXXX-XXXXXXXXX
A7: 내역금액소수점처리 | B7: C | C7: 1
A8: 일위대가내역소수점처리 | B8: C | C8: 2
A9: 단가명 | B9: 조달청가격 | C9: 거래가격 | D9: 유통물가 | E9: 조사가격1 | F9: 조사가격2 | G9: TTTTT
A10: 환율 | B10: 1472 | C10: 0 | D10: 0
A11: 시간당작업량 | B11: R | C11: 4
A12: 1회 사이클시간 | B12: R | C12: 4
A13: 시간당 작업사이클 | B13: R | C13: 3
A14: 일반변수 | B14: R | C14: 5
A15: 시간당 노임산출 계수 | B15: A | C15: 1/8*16/12*25/20 | D15: 1/8*16/12*25/20 | E15: 1/8*16/12*25/20 | F15: 1
A16: 재료비 할증 계수 | B16: 1.11 | C16: 1.12
A17: 노무비 할증 계수 | B17: 1 | C17: 1.5 | D17: 1.16 | E17: 1.6 | F17: 1.6 | G17: 1.6 | H17: 1.94 | I17: 1.94 | J17: 1.94 | K17: 1 | L17: 1 | M17: 1
A18: 경비 할증 계수 | B18: 1.25 | C18: 1.071
A19: 내역,일위대가 품명,규격,단위 따로적용
A20: 내역단가 소수점처리 | B20: C | C20: 1
A21: 코드 | B21: 공종구분명 | C21: 원가비목코드
A22: 1 | B22: 작 업 부 산 물 | C22: A3
A23: 2 | B23: 운 반 비 | C23: C1
A24: 3 | B24: 관 급 자 재 비 | C24: DJ
A25: 4 | B25: 사 급 자 재 비 | C25: D3
A26: 5 | B26: 외 자 재
A27: 6 | B27: 폐기물처리비
A28: 7 | B28: ...
A29: 8 | B29: ...
A30: 9 | B30: ...
A31: A | B31: ....
A32: B | B32: .....
A33: C | B33: ....
A34: D | B34: ....
A35: E | B35: ....
A36: F | B36: ....
A37: G | B37: ....
A38: H | B38: ....
A39: I | B39: ....
A40: J | B40: ....
A43: 단가 순서 | B43: 1234

Sheet Sheet1
