Workbook
Name ____A1: #REF!
Name ____BVS1: #REF!
Name ____BVS2: #REF!
Name ____drp600: #REF!
Name ____ER465: #REF!
Name ____HSH1: #REF!
Name ____HSH2: #REF!
Name ____JS1: #REF!
Name ____JS2: #REF!
Name ____LS1: #REF!
Name ____LS2: #REF!
Name ____LS3: #REF!
Name ____LS4: #REF!
Name ____NP1: #REF!
Name ____NP2: #REF!
Name ____NS1: #REF!
Name ____NS2: #REF!
Name ____NS3: #REF!
Name ____NS4: #REF!
Name ____NSH1: #REF!
Name ____NSH2: #REF!
Name ____pa1: #REF!
Name ____pa2: #REF!
Name ____pl1: #REF!
Name ____PL2: #REF!
Name ____PL3: #REF!
Name ____SA1: #REF!
Name ____SBB1: #REF!
Name ____SBB2: #REF!
Name ____SBB3: #REF!
Name ____SBB4: #REF!
Name ____SBB5: #REF!
Name ____SHH1: #REF!
Name ____SHH2: #REF!
Name ____SHH3: #REF!
Name ____SS1: #REF!
Name ____SS2: #REF!
Name ____TC1: #REF!
Name ____TC2: #REF!
Name ____Ted1: #REF!
Name ____Ts1: #REF!
Name ____TW1: #REF!
Name ____TW2: #REF!
Name ____WC1: #REF!
Name ___A1: #REF!
Name ___A81620: [1]취수탑!#REF!
Name ___av1: '[2]공사비예산서(토목분)'!#REF!
Name ___BVS1: #REF!
Name ___BVS2: #REF!
Name ___drp600: #REF!
Name ___ER465: #REF!
Name ___HSH1: #REF!
Name ___HSH2: #REF!
Name ___JS1: #REF!
Name ___JS2: #REF!
Name ___LS1: #REF!
Name ___LS2: #REF!
Name ___LS3: #REF!
Name ___LS4: #REF!
Name ___NP1: #REF!

Sheet 2.2.8폐기물처리비(총괄)
A1: 2.2.8 폐기물운반,처리비 산출내역
A2: 공 종 | B2: 처리수량 | C2: 단 위 | D2: 부가세 포함 | F2: 부가세 제외 | H2: 비 고
D3: 단가(원) | E3: 금액(원) | F3: 단가(원) | G3: 금액(원)
A4: 폐콘크리트 | B4: ='2.2.8.1건설,혼합폐기물처리비'!D6+'2.2.8.1건설,혼합폐기물처리비'!D16+'2.2.8.1건설,혼합폐기물처리비'!D26+'2.2.8.1건설,혼합폐기물처리비'!D38+'2.2.8.1건설,혼합폐기물처리비'!D51+'2.2.8.1건설,혼합폐기물처리비'!D62+'2.2.8.1건설,혼합폐기물처리비'!D72 -> 0 | C4: Ton | E4: ='2.2.8.1건설,혼합폐기물처리비'!G6+'2.2.8.1건설,혼합폐기물처리비'!G16+'2.2.8.1건설,혼합폐기물처리비'!G26+'2.2.8.1건설,혼합폐기물처리비'!G38+'2.2.8.1건설,혼합폐기물처리비'!G51+'2.2.8.1건설,혼합폐기물처리비'!G62+'2.2.8.1건설,혼합폐기물처리비'!G72 -> 0 | G4: ='2.2.8.1건설,혼합폐기물처리비'!I6+'2.2.8.1건설,혼합폐기물처리비'!I16+'2.2.8.1건설,혼합폐기물처리비'!I26+'2.2.8.1건설,혼합폐기물처리비'!I38+'2.2.8.1건설,혼합폐기물처리비'!I51+'2.2.8.1건설,혼합폐기물처리비'!I62+'2.2.8.1건설,혼합폐기물처리비'!I72 -> 0
A5: 폐아스팔트 | B5: ='2.2.8.1건설,혼합폐기물처리비'!D39+'2.2.8.1건설,혼합폐기물처리비'!D52+'2.2.8.1건설,혼합폐기물처리비'!D73 -> 0 | C5: Ton | E5: ='2.2.8.1건설,혼합폐기물처리비'!G39+'2.2.8.1건설,혼합폐기물처리비'!G52+'2.2.8.1건설,혼합폐기물처리비'!G73 -> 0 | G5: ='2.2.8.1건설,혼합폐기물처리비'!I39+'2.2.8.1건설,혼합폐기물처리비'!I52+'2.2.8.1건설,혼합폐기물처리비'!I73 -> 0
A6: 건설폐재류(폐벽돌) | B6: ='2.2.8.1건설,혼합폐기물처리비'!D7+'2.2.8.1건설,혼합폐기물처리비'!D17+'2.2.8.1건설,혼합폐기물처리비'!D27+'2.2.8.1건설,혼합폐기물처리비'!D40+'2.2.8.1건설,혼합폐기물처리비'!D53+'2.2.8.1건설,혼합폐기물처리비'!D63+'2.2.8.1건설,혼합폐기물처리비'!D74 -> 0 | C6: Ton | E6: ='2.2.8.1건설,혼합폐기물처리비'!G7+'2.2.8.1건설,혼합폐기물처리비'!G17+'2.2.8.1건설,혼합폐기물처리비'!G27+'2.2.8.1건설,혼합폐기물처리비'!G40+'2.2.8.1건설,혼합폐기물처리비'!G53+'2.2.8.1건설,혼합폐기물처리비'!G63+'2.2.8.1건설,혼합폐기물처리비'!G74 -> 0 | G6: ='2.2.8.1건설,혼합폐기물처리비'!I7+'2.2.8.1건설,혼합폐기물처리비'!I17+'2.2.8.1건설,혼합폐기물처리비'!I27+'2.2.8.1건설,혼합폐기물처리비'!I40+'2.2.8.1건설,혼합폐기물처리비'!I53+'2.2.8.1건설,혼합폐기물처리비'!I63+'2.2.8.1건설,혼합폐기물처리비'!I74 -> 0
A7: 혼합건설폐기물(가연성5%이하) | B7: ='2.2.8.1건설,혼합폐기물처리비'!D8+'2.2.8.1건설,혼합폐기물처리비'!D18+'2.2.8.1건설,혼합폐기물처리비'!D28+'2.2.8.1건설,혼합폐기물처리비'!D41+'2.2.8.1건설,혼합폐기물처리비'!D54+'2.2.8.1건설,혼합폐기물처리비'!D64+'2.2.8.1건설,혼합폐기물처리비'!D75 -> 0 | C7: Ton | E7: ='2.2.8.1건설,혼합폐기물처리비'!G8+'2.2.8.1건설,혼합폐기물처리비'!G18+'2.2.8.1건설,혼합폐기물처리비'!G28+'2.2.8.1건설,혼합폐기물처리비'!G41+'2.2.8.1건설,혼합폐기물처리비'!G54+'2.2.8.1건설,혼합폐기물처리비'!G64+'2.2.8.1건설,혼합폐기물처리비'!G75 -> 0 | G7: ='2.2.8.1건설,혼합폐기물처리비'!I8+'2.2.8.1건설,혼합폐기물처리비'!I18+'2.2.8.1건설,혼합폐기물처리비'!I28+'2.2.8.1건설,혼합폐기물처리비'!I41+'2.2.8.1건설,혼합폐기물처리비'!I54+'2.2.8.1건설,혼합폐기물처리비'!I64+'2.2.8.1건설,혼합폐기물처리비'!I75 -> 0
A8: 혼합폐기물(폐보드) | B8: ='2.2.8.1건설,혼합폐기물처리비'!D9+'2.2.8.1건설,혼합폐기물처리비'!D19+'2.2.8.1건설,혼합폐기물처리비'!D29+'2.2.8.1건설,혼합폐기물처리비'!D42+'2.2.8.1건설,혼합폐기물처리비'!D55+'2.2.8.1건설,혼합폐기물처리비'!D65+'2.2.8.1건설,혼합폐기물처리비'!D76 -> 0 | C8: Ton | E8: ='2.2.8.1건설,혼합폐기물처리비'!G9+'2.2.8.1건설,혼합폐기물처리비'!G19+'2.2.8.1건설,혼합폐기물처리비'!G29+'2.2.8.1건설,혼합폐기물처리비'!G42+'2.2.8.1건설,혼합폐기물처리비'!G55+'2.2.8.1건설,혼합폐기물처리비'!G65+'2.2.8.1건설,혼합폐기물처리비'!G76 -> 0 | G8: ='2.2.8.1건설,혼합폐기물처리비'!I9+'2.2.8.1건설,혼합폐기물처리비'!I19+'2.2.8.1건설,혼합폐기물처리비'!I29+'2.2.8.1건설,혼합폐기물처리비'!I42+'2.2.8.1건설,혼합폐기물처리비'!I55+'2.2.8.1건설,혼합폐기물처리비'!I65+'2.2.8.1건설,혼합폐기물처리비'!I76 -> 0
A9: 혼합건설폐기물(폐합성수지) | B9: ='2.2.8.1건설,혼합폐기물처리비'!D10+'2.2.8.1건설,혼합폐기물처리비'!D20+'2.2.8.1건설,혼합폐기물처리비'!D30+'2.2.8.1건설,혼합폐기물처리비'!D43+'2.2.8.1건설,혼합폐기물처리비'!D56+'2.2.8.1건설,혼합폐기물처리비'!D66+'2.2.8.1건설,혼합폐기물처리비'!D77 -> 101.867 | C9: Ton | E9: ='2.2.8.1건설,혼합폐기물처리비'!G10+'2.2.8.1건설,혼합폐기물처리비'!G20+'2.2.8.1건설,혼합폐기물처리비'!G30+'2.2.8.1건설,혼합폐기물처리비'!G43+'2.2.8.1건설,혼합폐기물처리비'!G56+'2.2.8.1건설,혼합폐기물처리비'!G66+'2.2.8.1건설,혼합폐기물처리비'!G77 -> 26485420 | G9: ='2.2.8.1건설,혼합폐기물처리비'!I10+'2.2.8.1건설,혼합폐기물처리비'!I20+'2.2.8.1건설,혼합폐기물처리비'!I30+'2.2.8.1건설,혼합폐기물처리비'!I43+'2.2.8.1건설,혼합폐기물처리비'!I56+'2.2.8.1건설,혼합폐기물처리비'!I66+'2.2.8.1건설,혼합폐기물처리비'!I77 -> 24077653
A10: 혼합건설폐기물(폐목재) | B10: ='2.2.8.1건설,혼합폐기물처리비'!D11+'2.2.8.1건설,혼합폐기물처리비'!D21+'2.2.8.1건설,혼합폐기물처리비'!D31+'2.2.8.1건설,혼합폐기물처리비'!D44+'2.2.8.1건설,혼합폐기물처리비'!D57+'2.2.8.1건설,혼합폐기물처리비'!D67+'2.2.8.1건설,혼합폐기물처리비'!D78 -> 25.715 | C10: Ton | E10: ='2.2.8.1건설,혼합폐기물처리비'!G11+'2.2.8.1건설,혼합폐기물처리비'!G21+'2.2.8.1건설,혼합폐기물처리비'!G31+'2.2.8.1건설,혼합폐기물처리비'!G44+'2.2.8.1건설,혼합폐기물처리비'!G57+'2.2.8.1건설,혼합폐기물처리비'!G67+'2.2.8.1건설,혼합폐기물처리비'!G78 -> 1928625 | G10: ='2.2.8.1건설,혼합폐기물처리비'!I11+'2.2.8.1건설,혼합폐기물처리비'!I21+'2.2.8.1건설,혼합폐기물처리비'!I31+'2.2.8.1건설,혼합폐기물처리비'!I44+'2.2.8.1건설,혼합폐기물처리비'!I57+'2.2.8.1건설,혼합폐기물처리비'!I67+'2.2.8.1건설,혼합폐기물처리비'!I78 -> 1753294
A11: 건설폐기물운반비(상차제외),덤프24톤 | B11: ='2.2.8.1건설,혼합폐기물처리비'!D12+'2.2.8.1건설,혼합폐기물처리비'!D22+'2.2.8.1건설,혼합폐기물처리비'!D32+'2.2.8.1건설,혼합폐기물처리비'!D45+'2.2.8.1건설,혼합폐기물처리비'!D58+'2.2.8.1건설,혼합폐기물처리비'!D68+'2.2.8.1건설,혼합폐기물처리비'!D79 -> 0 | C11: Ton | E11: ='2.2.8.1건설,혼합폐기물처리비'!G12+'2.2.8.1건설,혼합폐기물처리비'!G22+'2.2.8.1건설,혼합폐기물처리비'!G32+'2.2.8.1건설,혼합폐기물처리비'!G45+'2.2.8.1건설,혼합폐기물처리비'!G58+'2.2.8.1건설,혼합폐기물처리비'!G68+'2.2.8.1건설,혼합폐기물처리비'!G79 -> 0 | G11: ='2.2.8.1건설,혼합폐기물처리비'!I12+'2.2.8.1건설,혼합폐기물처리비'!I22+'2.2.8.1건설,혼합폐기물처리비'!I32+'2.2.8.1건설,혼합폐기물처리비'!I45+'2.2.8.1건설,혼합폐기물처리비'!I58+'2.2.8.1건설,혼합폐기물처리비'!I68+'2.2.8.1건설,혼합폐기물처리비'!I79 -> 0
A12: 혼합건설폐기물운반비(상차제외),덤프15톤 | B12: ='2.2.8.1건설,혼합폐기물처리비'!D13+'2.2.8.1건설,혼합폐기물처리비'!D23+'2.2.8.1건설,혼합폐기물처리비'!D33+'2.2.8.1건설,혼합폐기물처리비'!D46+'2.2.8.1건설,혼합폐기물처리비'!D59+'2.2.8.1건설,혼합폐기물처리비'!D69+'2.2.8.1건설,혼합폐기물처리비'!D80 -> 127.582 | C12: Ton | E12: ='2.2.8.1건설,혼합폐기물처리비'!G13+'2.2.8.1건설,혼합폐기물처리비'!G23+'2.2.8.1건설,혼합폐기물처리비'!G33+'2.2.8.1건설,혼합폐기물처리비'!G46+'2.2.8.1건설,혼합폐기물처리비'!G59+'2.2.8.1건설,혼합폐기물처리비'!G69+'2.2.8.1건설,혼합폐기물처리비'!G80 -> 7654920 | G12: ='2.2.8.1건설,혼합폐기물처리비'!I13+'2.2.8.1건설,혼합폐기물처리비'!I23+'2.2.8.1건설,혼합폐기물처리비'!I33+'2.2.8.1건설,혼합폐기물처리비'!I46+'2.2.8.1건설,혼합폐기물처리비'!I59+'2.2.8.1건설,혼합폐기물처리비'!I69+'2.2.8.1건설,혼합폐기물처리비'!I80 -> 6959017
A15: 소 계 | E15: =ROUND(SUM(E4:E14),-3) -> 36069000 | G15: =ROUND(SUM(G4:G14),-3) -> 32790000
A19: 합 계 | E19: =E15+E17 -> 36069000 | G19: =G15+G17 -> 32790000
E20: =E16 -> 0 | G20: =G16 -> 0 | H20: (환경부 지원)
A23: 건설폐재류

Sheet 2.2.8.1건설,혼합폐기물처리비
A1: 2.2.8.1건설폐기물운반처리비산출내역
A2: 공종 | C2: 규격 | D2: 처리수량 | E2: 단위 | F2: 부가세포함 | H2: 부가세제외 | J2: 비고
F3: 단가(원) | G3: 금액(원) | H3: 단가(원) | I3: 금액(원)
A4: 1.노후주택수리
A5: 1. 슬레이트지붕 개량 | G5: =ROUND(SUM(G6:G13),0) -> 25600 | I5: =SUM(I6:I13) -> 23272
A6: 건설폐기물처리비 | C6: 폐콘크리트 | D6: 0 | E6: ton | F6: 18580 | G6: =INT(D6*F6) -> 0 | H6: =F6/1.1 -> 16890.909 | I6: =INT(D6*H6) -> 0
C7: 건설폐재류(폐벽돌) | E7: ton | F7: 45170 | G7: =INT(D7*F7) -> 0 | H7: =F7/1.1 -> 41063.636 | I7: =INT(D7*H7) -> 0
C8: 혼합폐기물(가연성5%이하) | D8: 0 | E8: ton | F8: 72721 | G8: =INT(D8*F8) -> 0 | H8: =F8/1.1 -> 66110 | I8: =INT(D8*H8) -> 0
C9: 혼합폐기물(폐보드) | E9: ton | F9: 192887 | G9: =INT(D9*F9) -> 0 | H9: =F9/1.1 -> 175351.82 | I9: =INT(D9*H9) -> 0
C10: 혼합폐기물(폐합성수지) | D10: 0.08 | E10: ton | F10: 260000 | G10: =INT(D10*F10) -> 20800 | H10: =F10/1.1 -> 236363.64 | I10: =INT(D10*H10) -> 18909
C11: 혼합폐기물(폐목재) | E11: ton | F11: 75000 | G11: =INT(D11*F11) -> 0 | H11: =F11/1.1 -> 68181.818 | I11: =INT(D11*H11) -> 0
A12: 건설폐기물 운반비(상차제외) | C12: 30km이하, 덤프24톤 | D12: =SUM(D6:D8) -> 0 | E12: ton | F12: 15090 | G12: =INT(D12*F12) -> 0 | H12: =F12/1.1 -> 13718.182 | I12: =INT(D12*H12) -> 0
A13: 혼합건설폐기물 운반비(상차제외) | C13: 30km이하, 덤프15톤 | D13: =SUM(D9:D11) -> 0.08 | E13: ton | F13: 60000 | G13: =INT(D13*F13) -> 4800 | H13: =F13/1.1 -> 54545.455 | I13: =INT(D13*H13) -> 4363
A14: 소 계 | G14: =G5 -> 25600 | I14: =I5 -> 23272
A15: 2. 집수리 | G15: =ROUND(SUM(G16:G23),0) -> 183615 | I15: =SUM(I16:I23) -> 166922
A16: 건설폐기물처리비 | C16: 폐콘크리트 | D16: 0 | E16: ton | F16: =F6 -> 18580 | G16: =INT(D16*F16) -> 0 | H16: =F16/1.1 -> 16890.909 | I16: =INT(D16*H16) -> 0
C17: 건설폐재류(폐벽돌) | E17: ton | F17: =F7 -> 45170 | G17: =INT(D17*F17) -> 0 | H17: =F17/1.1 -> 41063.636 | I17: =INT(D17*H17) -> 0
C18: 혼합폐기물(가연성5%이하) | D18: 0 | E18: ton | F18: =F8 -> 72721 | G18: =INT(D18*F18) -> 0 | H18: =F18/1.1 -> 66110 | I18: =INT(D18*H18) -> 0
C19: 혼합폐기물(폐보드) | D19: 0 | E19: ton | F19: =F9 -> 192887 | G19: =INT(D19*F19) -> 0 | H19: =F19/1.1 -> 175351.82 | I19: =INT(D19*H19) -> 0
C20: 혼합폐기물(폐합성수지) | D20: 0.381 | E20: ton | F20: =F10 -> 260000 | G20: =INT(D20*F20) -> 99060 | H20: =F20/1.1 -> 236363.64 | I20: =INT(D20*H20) -> 90054
C21: 혼합폐기물(폐목재) | D21: 0.457 | E21: ton | F21: =F11 -> 75000 | G21: =INT(D21*F21) -> 34275 | H21: =F21/1.1 -> 68181.818 | I21: =INT(D21*H21) -> 31159
A22: =A12 -> 건설폐기물 운반비(상차제외) | C22: 30km이하, 덤프24톤 | D22: =SUM(D16:D18) -> 0 | E22: ton | F22: =F12 -> 15090 | G22: =INT(D22*F22) -> 0 | H22: =F22/1.1 -> 13718.182 | I22: =INT(D22*H22) -> 0
A23: 혼합건설폐기물 운반비(상차제외) | C23: 30km이하, 덤프15톤 | D23: =SUM(D19:D21) -> 0.838 | E23: ton | F23: =F13 -> 60000 | G23: =INT(D23*F23) -> 50280 | H23: =F23/1.1 -> 54545.455 | I23: =INT(D23*H23) -> 45709
A24: 소 계 | G24: =G15 -> 183615 | I24: =I15 -> 166922
A25: 3. 빈집정비 | G25: =ROUND(SUM(G26:G33),0) -> 35603920 | I25: =SUM(I26:I33) -> 32367199
A26: 건설폐기물처리비 | C26: 폐콘크리트 | D26: 0 | E26: ton | F26: =F6 -> 18580 | G26: =INT(D26*F26) -> 0 | H26: =F26/1.1 -> 16890.909 | I26: =INT(D26*H26) -> 0
C27: 건설폐재류(폐벽돌) | E27: ton | F27: =F7 -> 45170 | G27: =INT(D27*F27) -> 0 | H27: =F27/1.1 -> 41063.636 | I27: =INT(D27*H27) -> 0
C28: 혼합폐기물(가연성5%이하) | D28: 0 | E28: ton | F28: =F8 -> 72721 | G28: =INT(D28*F28) -> 0 | H28: =F28/1.1 -> 66110 | I28: =INT(D28*H28) -> 0
C29: 혼합폐기물(폐보드) | E29: ton | F29: =F9 -> 192887 | G29: =INT(D29*F29) -> 0 | H29: =F29/1.1 -> 175351.82 | I29: =INT(D29*H29) -> 0
C30: 혼합폐기물(폐합성수지) | D30: =0.901+100 -> 100.901 | E30: ton | F30: =F10 -> 260000 | G30: =INT(D30*F30) -> 26234260 | H30: =F30/1.1 -> 236363.64 | I30: =INT(D30*H30) -> 23849327
C31: 혼합폐기물(폐목재) | D31: 24.56 | E31: ton | F31: =F11 -> 75000 | G31: =INT(D31*F31) -> 1842000 | H31: =F31/1.1 -> 68181.818 | I31: =INT(D31*H31) -> 1674545
A32: =A22 -> 건설폐기물 운반비(상차제외) | C32: 30km이하, 덤프24톤 | D32: =SUM(D26:D28) -> 0 | E32: ton | F32: =F12 -> 15090 | G32: =INT(D32*F32) -> 0 | H32: =F32/1.1 -> 13718.182 | I32: =INT(D32*H32) -> 0
A33: 혼합건설폐기물 운반비(상차제외) | C33: 30km이하, 덤프15톤 | D33: =SUM(D29:D31) -> 125.461 | E33: ton | F33: =F13 -> 60000 | G33: =INT(D33*F33) -> 7527660 | H33: =F33/1.1 -> 54545.455 | I33: =INT(D33*H33) -> 6843327
A34: 소 계 | G34: =G25 -> 35603920 | I34: =I25 -> 32367199
A35: 합 계 (1+2+3) | G35: =G14+G24+G34 -> 35813135 | I35: =I14+I24+I34 -> 32557393
A36: 2.안전확보
A37: 1. 안전확보 | G37: =ROUND(SUM(G38:G46),-3) -> 0 | I37: =SUM(I38:I46) -> 0
A38: 건설폐기물처리비 | C38: 폐콘크리트 | D38: 0 | E38: ton | F38: =F6 -> 18580 | G38: =INT(D38*F38) -> 0 | H38: =F38/1.1 -> 16890.909 | I38: =INT(D38*H38) -> 0
C39: 폐아스콘 | D39: 0 | E39: ton | F39: 20420 | G39: =INT(D39*F39) -> 0 | H39: =F39/1.1 -> 18563.636 | I39: =INT(D39*H39) -> 0
C40: 건설폐재류(폐벽돌) | E40: ton | F40: =F7 -> 45170 | G40: =INT(D40*F40) -> 0 | H40: =F40/1.1 -> 41063.636 | I40: =INT(D40*H40) -> 0
C41: 혼합폐기물(가연성5%이하) | E41: ton | F41: =F8 -> 72721 | G41: =INT(D41*F41) -> 0 | H41: =F41/1.1 -> 66110 | I41: =INT(D41*H41) -> 0
C42: 혼합폐기물(폐보드) | E42: ton | F42: =F9 -> 192887 | G42: =INT(D42*F42) -> 0 | H42: =F42/1.1 -> 175351.82 | I42: =INT(D42*H42) -> 0
C43: 혼합폐기물(폐합성수지) | E43: ton | F43: =F10 -> 260000 | G43: =INT(D43*F43) -> 0 | H43: =F43/1.1 -> 236363.64 | I43: =INT(D43*H43) -> 0
C44: 혼합폐기물(폐목재) | E44: ton | F44: =F11 -> 75000 | G44: =INT(D44*F44) -> 0 | H44: =F44/1.1 -> 68181.818 | I44: =INT(D44*H44) -> 0
A45: 건설폐재류 운반비(상차제외) | C45: 30km이하, 덤프24톤 | D45: =SUM(D38:D41) -> 0 | E45: ton | F45: =F12 -> 15090 | G45: =INT(D45*F45) -> 0 | H45: =F45/1.1 -> 13718.182 | I45: =INT(D45*H45) -> 0
A46: 혼합건설폐기물 운반비(상차제외) | C46: 30km이하, 덤프15톤 | D46: =SUM(D42:D44) -> 0 | E46: ton | F46: =F13 -> 60000 | G46: =INT(D46*F46) -> 0 | H46: =F46/1.1 -> 54545.455 | I46: =INT(D46*H46) -> 0
A47: 소 계 | G47: =G37 -> 0 | I47: =I37 -> 0
A48: 합 계 (1) | G48: =G47 -> 0 | I48: =I47 -> 0
A49: 3.생활,위생 인프라
A50: 1. 마을회관 리모델링 및 회의실 | G50: =ROUND(SUM(G51:G59),0) -> 114635 | I50: =SUM(I51:I59) -> 104213
A51: 건설폐기물처리비 | C51: 폐콘크리트 | D51: 0 | E51: ton | F51: =F6 -> 18580 | G51: =INT(D51*F51) -> 0 | H51: =F51/1.1 -> 16890.909 | I51: =INT(D51*H51) -> 0
B52: 전기포함 | C52: 폐아스콘 | D52: 0 | E52: ton | F52: =F39 -> 20420 | G52: =INT(D52*F52) -> 0 | H52: =F52/1.1 -> 18563.636 | I52: =INT(D52*H52) -> 0
C53: 건설폐재류(폐벽돌) | E53: ton | F53: =F7 -> 45170 | G53: =INT(D53*F53) -> 0 | H53: =F53/1.1 -> 41063.636 | I53: =INT(D53*H53) -> 0
A54: 기계포함 | C54: 혼합폐기물(가연성5%이하) | D54: 0 | E54: ton | F54: =F8 -> 72721 | G54: =INT(D54*F54) -> 0 | H54: =F54/1.1 -> 66110 | I54: =INT(D54*H54) -> 0
C55: 혼합폐기물(폐보드) | E55: ton | F55: =F9 -> 192887 | G55: =INT(D55*F55) -> 0 | H55: =F55/1.1 -> 175351.82 | I55: =INT(D55*H55) -> 0
C56: 혼합폐기물(폐합성수지) | D56: 0.265 | E56: ton | F56: =F10 -> 260000 | G56: =INT(D56*F56) -> 68900 | H56: =F56/1.1 -> 236363.64 | I56: =INT(D56*H56) -> 62636
C57: 혼합폐기물(폐목재) | D57: 0.221 | E57: ton | F57: =F11 -> 75000 | G57: =INT(D57*F57) -> 16575 | H57: =F57/1.1 -> 68181.818 | I57: =INT(D57*H57) -> 15068
A58: 건설폐기물 운반비(상차제외) | C58: 30km이하, 덤프24톤 | D58: =SUM(D51:D54) -> 0 | E58: ton | F58: =F12 -> 15090 | G58: =INT(D58*F58) -> 0 | H58: =F58/1.1 -> 13718.182 | I58: =INT(D58*H58) -> 0
A59: 혼합건설폐기물 운반비(상차제외) | C59: 30km이하, 덤프15톤 | D59: =SUM(D55:D57) -> 0.486 | E59: ton | F59: =F13 -> 60000 | G59: =INT(D59*F59) -> 29160 | H59: =F59/1.1 -> 54545.455 | I59: =INT(D59*H59) -> 26509
A60: 소 계 | G60: =G50 -> 114635 | I60: =I50 -> 104213
A61: 2. 재래식 화장실정비 | G61: =ROUND(SUM(G62:G69),0) -> 141195 | I61: =SUM(I62:I69) -> 128358
A62: 건설폐기물처리비 | C62: 폐콘크리트 | D62: 0 | E62: ton | F62: =F6 -> 18580 | G62: =INT(D62*F62) -> 0 | H62: =F62/1.1 -> 16890.909 | I62: =INT(D62*H62) -> 0
C63: 건설폐재류(폐벽돌) | E63: ton | F63: =F7 -> 45170 | G63: =INT(D63*F63) -> 0 | H63: =F63/1.1 -> 41063.636 | I63: =INT(D63*H63) -> 0
C64: 혼합폐기물(가연성5%이하) | D64: 0 | E64: ton | F64: =F8 -> 72721 | G64: =INT(D64*F64) -> 0 | H64: =F64/1.1 -> 66110 | I64: =INT(D64*H64) -> 0
C65: 혼합폐기물(폐보드) | E65: ton | F65: =F9 -> 192887 | G65: =INT(D65*F65) -> 0 | H65: =F65/1.1 -> 175351.82 | I65: =INT(D65*H65) -> 0
C66: 혼합폐기물(폐합성수지) | D66: 0.24 | E66: ton | F66: =F10 -> 260000 | G66: =INT(D66*F66) -> 62400 | H66: =F66/1.1 -> 236363.64 | I66: =INT(D66*H66) -> 56727
C67: 혼합폐기물(폐목재) | D67: 0.477 | E67: ton | F67: =F11 -> 75000 | G67: =INT(D67*F67) -> 35775 | H67: =F67/1.1 -> 68181.818 | I67: =INT(D67*H67) -> 32522
A68: 건설폐기물 운반비(상차제외) | C68: 30km이하, 덤프24톤 | D68: =SUM(D62:D64) -> 0 | E68: ton | F68: =F12 -> 15090 | G68: =INT(D68*F68) -> 0 | H68: =F68/1.1 -> 13718.182 | I68: =INT(D68*H68) -> 0
A69: 혼합건설폐기물 운반비(상차제외) | C69: 30km이하, 덤프15톤 | D69: =SUM(D65:D67) -> 0.717 | E69: ton | F69: =F13 -> 60000 | G69: =INT(D69*F69) -> 43020 | H69: =F69/1.1 -> 54545.455 | I69: =INT(D69*H69) -> 39109
A70: 소 계 | G70: =ROUND(SUM(G61),0) -> 141195 | I70: =ROUND(SUM(I61),0) -> 128358
A71: 3. 안길확장 및 안길포장 | G71: =SUM(G72:G80) -> 0 | I71: =SUM(I72:I80) -> 0
A72: 건설폐기물처리비 | C72: 폐콘크리트 | D72: 0 | E72: ton | F72: =F6 -> 18580 | G72: =INT(D72*F72) -> 0 | H72: =F72/1.1 -> 16890.909 | I72: =INT(D72*H72) -> 0
C73: 폐아스콘 | D73: 0 | E73: ton | F73: =F39 -> 20420 | G73: =INT(D73*F73) -> 0 | H73: =F73/1.1 -> 18563.636 | I73: =INT(D73*H73) -> 0
C74: 건설폐재류(폐벽돌) | E74: ton | F74: =F7 -> 45170 | G74: =INT(D74*F74) -> 0 | H74: =F74/1.1 -> 41063.636 | I74: =INT(D74*H74) -> 0
C75: 혼합폐기물(가연성5%이하) | E75: ton | F75: =F8 -> 72721 | G75: =INT(D75*F75) -> 0 | H75: =F75/1.1 -> 66110 | I75: =INT(D75*H75) -> 0
C76: 혼합폐기물(폐보드) | E76: ton | F76: =F9 -> 192887 | G76: =INT(D76*F76) -> 0 | H76: =F76/1.1 -> 175351.82 | I76: =INT(D76*H76) -> 0
C77: 혼합폐기물(폐합성수지) | E77: ton | F77: =F10 -> 260000 | G77: =INT(D77*F77) -> 0 | H77: =F77/1.1 -> 236363.64 | I77: =INT(D77*H77) -> 0
C78: 혼합폐기물(폐목재) | E78: ton | F78: =F11 -> 75000 | G78: =INT(D78*F78) -> 0 | H78: =F78/1.1 -> 68181.818 | I78: =INT(D78*H78) -> 0
A79: 건설폐재류 운반비(상차제외) | C79: 30km이하, 덤프24톤 | D79: =SUM(D72:D75) -> 0 | E79: ton | F79: =F12 -> 15090 | G79: =INT(D79*F79) -> 0 | H79: =F79/1.1 -> 13718.182 | I79: =INT(D79*H79) -> 0
A80: 혼합건설폐기물 운반비(상차제외) | C80: 30km이하, 덤프15톤 | D80: =SUM(D76:D78) -> 0 | E80: ton | F80: =F13 -> 60000 | G80: =INT(D80*F80) -> 0 | H80: =F80/1.1 -> 54545.455 | I80: =INT(D80*H80) -> 0
A81: 소 계 | G81: =G71 -> 0 | I81: =I71 -> 0
A82: 합 계 (1+2+3) | G82: =G60+G70+G81 -> 255830 | I82: =I60+I70+I81 -> 232571 | L82: 토목 | M82: 건축
A83: 합 계(1+3) | G83: =ROUND(G35+G48+G82,-3) -> 36069000 | I83: =I35+I48+I82 -> 32789964 | L83: =#REF!+I81 -> #REF! | M83: =I83-L83 -> #REF!
E85: =SUM(#REF!) -> #REF! | H85: =SUM(#REF!) -> #REF! | J85: =SUM(#REF!) -> #REF!
G87: =G10+G20+G30+G56+G66 -> 26485420
G88: =G67+G57+G31+G21 -> 1928625
G89: =G69+G59+G33+G23+G13 -> 7654920
