Workbook
Name ____A1: #REF!
Name ____BVS1: #REF!
Name ____BVS2: #REF!
Name ____drp600: #REF!
Name ____ER465: #REF!
Name ____HSH1: #REF!
Name ____HSH2: #REF!
Name ____JS1: #REF!
Name ____JS2: #REF!
Name ____LS1: #REF!
Name ____LS2: #REF!
Name ____LS3: #REF!
Name ____LS4: #REF!
Name ____NP1: #REF!
Name ____NP2: #REF!
Name ____NS1: #REF!
Name ____NS2: #REF!
Name ____NS3: #REF!
Name ____NS4: #REF!
Name ____NSH1: #REF!
Name ____NSH2: #REF!
Name ____pa1: #REF!
Name ____pa2: #REF!
Name ____pl1: #REF!
Name ____PL2: #REF!
Name ____PL3: #REF!
Name ____SA1: #REF!
Name ____SBB1: #REF!
Name ____SBB2: #REF!
Name ____SBB3: #REF!
Name ____SBB4: #REF!
Name ____SBB5: #REF!
Name ____SHH1: #REF!
Name ____SHH2: #REF!
Name ____SHH3: #REF!
Name ____SS1: #REF!
Name ____SS2: #REF!
Name ____TC1: #REF!
Name ____TC2: #REF!
Name ____Ted1: #REF!
Name ____Ts1: #REF!
Name ____TW1: #REF!
Name ____TW2: #REF!
Name ____WC1: #REF!
Name ___A1: #REF!
Name ___A81620: [1]취수탑!#REF!
Name ___av1: '[2]공사비예산서(토목분)'!#REF!
Name ___BVS1: #REF!
Name ___BVS2: #REF!
Name ___drp600: #REF!
Name ___ER465: #REF!
Name ___HSH1: #REF!
Name ___HSH2: #REF!
Name ___JS1: #REF!
Name ___JS2: #REF!
Name ___LS1: #REF!
Name ___LS2: #REF!
Name ___LS3: #REF!
Name ___LS4: #REF!
Name ___NP1: #REF!

Sheet 2.2.8폐기물처리비(총괄)
A1: 2.2.8 폐기물운반,처리비 산출내역
A2: 공 종 | B2: 처리수량 | C2: 단 위 | D2: 부가세 포함 | F2: 부가세 제외 | H2: 비 고
D3: 단가(원) | E3: 금액(원) | F3: 단가(원) | G3: 금액(원)
A4: 폐콘크리트 | B4: ='2.2.8.1건설,혼합폐기물처리비'!D6+'2.2.8.1건설,혼합폐기물처리비'!D16+'2.2.8.1건설,혼합폐기물처리비'!D26+'2.2.8.1건설,혼합폐기물처리비'!D38+'2.2.8.1건설,혼합폐기물처리비'!D51+'2.2.8.1건설,혼합폐기물처리비'!D62+'2.2.8.1건설,혼합폐기물처리비'!D72 -> 0 | C4: Ton | E4: ='2.2.8.1건설,혼합폐기물처리비'!G6+'2.2.8.1건설,혼합폐기물처리비'!G16+'2.2.8.1건설,혼합폐기물처리비'!G26+'2.2.8.1건설,혼합폐기물처리비'!G38+'2.2.8.1건설,혼합폐기물처리비'!G51+'2.2.8.1건설,혼합폐기물처리비'!G62+'2.2.8.1건설,혼합폐기물처리비'!G72 -> 0 | G4: ='2.2.8.1건설,혼합폐기물처리비'!I6+'2.2.8.1건설,혼합폐기물처리비'!I16+'2.2.8.1건설,혼합폐기물처리비'!I26+'2.2.8.1건설,혼합폐기물처리비'!I38+'2.2.8.1건설,혼합폐기물처리비'!I51+'2.2.8.1건설,혼합폐기물처리비'!I62+'2.2.8.1건설,혼합폐기물처리비'!I72 -> 0
A5: 폐아스팔트 | B5: ='2.2.8.1건설,혼합폐기물처리비'!D39+'2.2.8.1건설,혼합폐기물처리비'!D52+'2.2.8.1건설,혼합폐기물처리비'!D73 -> 0 | C5: Ton | E5: ='2.2.8.1건설,혼합폐기물처리비'!G39+'2.2.8.1건설,혼합폐기물처리비'!G52+'2.2.8.1건설,혼합폐기물처리비'!G73 -> 0 | G5: ='2.2.8.1건설,혼합폐기물처리비'!I39+'2.2.8.1건설,혼합폐기물처리비'!I52+'2.2.8.1건설,혼합폐기물처리비'!I73 -> 0
A6: 건설폐재류(폐벽돌) | B6: ='2.2.8.1건설,혼합폐기물처리비'!D7+'2.2.8.1건설,혼합폐기물처리비'!D17+'2.2.8.1건설,혼합폐기물처리비'!D27+'2.2.8.1건설,혼합폐기물처리비'!D40+'2.2.8.1건설,혼합폐기물처리비'!D53+'2.2.8.1건설,혼합폐기물처리비'!D63+'2.2.8.1건설,혼합폐기물처리비'!D74 -> 0 | C6: Ton | E6: ='2.2.8.1건설,혼합폐기물처리비'!G7+'2.2.8.1건설,혼합폐기물처리비'!G17+'2.2.8.1건설,혼합폐기물처리비'!G27+'2.2.8.1건설,혼합폐기물처리비'!G40+'2.2.8.1건설,혼합폐기물처리비'!G53+'2.2.8.1건설,혼합폐기물처리비'!G63+'2.2.8.1건설,혼합폐기물처리비'!G74 -> 0 | G6: ='2.2.8.1건설,혼합폐기물처리비'!I7+'2.2.8.1건설,혼합폐기물처리비'!I17+'2.2.8.1건설,혼합폐기물처리비'!I27+'2.2.8.1건설,혼합폐기물처리비'!I40+'2.2.8.1건설,혼합폐기물처리비'!I53+'2.2.8.1건설,혼합폐기물처리비'!I63+'2.2.8.1건설,혼합폐기물처리비'!I74 -> 0
A7: 혼합건설폐기물(가연성5%이하) | B7: ='2.2.8.1건설,혼합폐기물처리비'!D8+'2.2.8.1건설,혼합폐기물처리비'!D18+'2.2.8.1건설,혼합폐기물처리비'!D28+'2.2.8.1건설,혼합폐기물처리비'!D41+'2.2.8.1건설,혼합폐기물처리비'!D54+'2.2.8.1건설,혼합폐기물처리비'!D64+'2.2.8.1건설,혼합폐기물처리비'!D75 -> 0 | C7: Ton | E7: ='2.2.8.1건설,혼합폐기물처리비'!G8+'2.2.8.1건설,혼합폐기물처리비'!G18+'2.2.8.1건설,혼합폐기물처리비'!G28+'2.2.8.1건설,혼합폐기물처리비'!G41+'2.2.8.1건설,혼합폐기물처리비'!G54+'2.2.8.1건설,혼합폐기물처리비'!G64+'2.2.8.1건설,혼합폐기물처리비'!G75 -> 0 | G7: ='2.2.8.1건설,혼합폐기물처리비'!I8+'2.2.8.1건설,혼합폐기물처리비'!I18+'2.2.8.1건설,혼합폐기물처리비'!I28+'2.2.8.1건설,혼합폐기물처리비'!I41+'2.2.8.1건설,혼합폐기물처리비'!I54+'2.2.8.1건설,혼합폐기물처리비'!I64+'2.2.8.1건설,혼합폐기물처리비'!I75 -> 0
A8: 혼합폐기물(폐보드) | B8: ='2.2.8.1건설,혼합폐기물처리비'!D9+'2.2.8.1건설,혼합폐기물처리비'!D19+'2.2.8.1건설,혼합폐기물처리비'!D29+'2.2.8.1건설,혼합폐기물처리비'!D42+'2.2.8.1건설,혼합폐기물처리비'!D55+'2.2.8.1건설,혼합폐기물처리비'!D65+'2.2.8.1건설,혼합폐기물처리비'!D76 -> 0 | C8: Ton | E8: ='2.2.8.1건설,혼합폐기물처리비'!G9+'2.2.8.1건설,혼합폐기물처리비'!G19+'2.2.8.1건설,혼합폐기물처리비'!G29+'2.2.8.1건설,혼합폐기물처리비'!G42+'2.2.8.1건설,혼합폐기물처리비'!G55+'2.2.8.1건설,혼합폐기물처리비'!G65+'2.2.8.1건설,혼합폐기물처리비'!G76 -> 0 | G8: ='2.2.8.1건설,혼합폐기물처리비'!I9+'2.2.8.1건설,혼합폐기물처리비'!I19+'2.2.8.1건설,혼합폐기물처리비'!I29+'2.2.8.1건설,혼합폐기물처리비'!I42+'2.2.8.1건설,혼합폐기물처리비'!I55+'2.2.8.1건설,혼합폐기물처리비'!I65+'2.2.8.1건설,혼합폐기물처리비'!I76 -> 0
A9: 혼합건설폐기물(폐합성수지) | B9: ='2.2.8.1건설,혼합폐기물처리비'!D10+'2.2.8.1건설,혼합폐기물처리비'!D20+'2.2.8.1건설,혼합폐기물처리비'!D30+'2.2.8.1건설,혼합폐기물처리비'!D43+'2.2.8.1건설,혼합폐기물처리비'!D56+'2.2.8.1건설,혼합폐기물처리비'!D66+'2.2.8.1건설,혼합폐기물처리비'!D77 -> 101.867 | C9: Ton | E9: ='2.2.8.1건설,혼합폐기물처리비'!G10+'2.2.8.1건설,혼합폐기물처리비'!G20+'2.2.8.1건설,혼합폐기물처리비'!G30+'2.2.8.1건설,혼합폐기물처리비'!G43+'2.2.8.1건설,혼합폐기물처리비'!G56+'2.2.8.1건설,혼합폐기물처리비'!G66+'2.2.8.1건설,혼합폐기물처리비'!G77 -> 26485420 | G9: ='2.2.8.1건설,혼합폐기물처리비'!I10+'2.2.8.1건설,혼합폐기물처리비'!I20+'2.2.8.1건설,혼합폐기물처리비'!I30+'2.2.8.1건설,혼합폐기물처리비'!I43+'2.2.8.1건설,혼합폐기물처리비'!I56+'2.2.8.1건설,혼합폐기물처리비'!I66+'2.2.8.1건설,혼합폐기물처리비'!I77 -> 24077653
A10: 혼합건설폐기물(폐목재) | B10: ='2.2.8.1건설,혼합폐기물처리비'!D11+'2.2.8.1건설,혼합폐기물처리비'!D21+'2.2.8.1건설,혼합폐기물처리비'!D31+'2.2.8.1건설,혼합폐기물처리비'!D44+'2.2.8.1건설,혼합폐기물처리비'!D57+'2.2.8.1건설,혼합폐기물처리비'!D67+'2.2.8.1건설,혼합폐기물처리비'!D78 -> 25.715 | C10: Ton | E10: ='2.2.8.1건설,혼합폐기물처리비'!G11+'2.2.8.1건설,혼합폐기물처리비'!G21+'2.2.8.1건설,혼합폐기물처리비'!G31+'2.2.8.1건설,혼합폐기물처리비'!G44+'2.2.8.1건설,혼합폐기물처리비'!G57+'2.2.8.1건설,혼합폐기물처리비'!G67+'2.2.8.1건설,혼합폐기물처리비'!G78 -> 1928625 | G10: ='2.2.8.1건설,혼합폐기물처리비'!I11+'2.2.8.1건설,혼합폐기물처리비'!I21+'2.2.8.1건설,혼합폐기물처리비'!I31+'2.2.8.1건설,혼합폐기물처리비'!I44+'2.2.8.1건설,혼합폐기물처리비'!I57+'2.2.8.1건설,혼합폐기물처리비'!I67+'2.2.8.1건설,혼합폐기물처리비'!I78 -> 1753294
A11: 건설폐기물운반비(상차제외),덤프24톤 | B11: ='2.2.8.1건설,혼합폐기물처리비'!D12+'2.2.8.1건설,혼합폐기물처리비'!D22+'2.2.8.1건설,혼합폐기물처리비'!D32+'2.2.8.1건설,혼합폐기물처리비'!D45+'2.2.8.1건설,혼합폐기물처리비'!D58+'2.2.8.1건설,혼합폐기물처리비'!D68+'2.2.8.1건설,혼합폐기물처리비'!D79 -> 0 | C11: Ton | E11: ='2.2.8.1건설,혼합폐기물처리비'!G12+'2.2.8.1건설,혼합폐기물처리비'!G22+'2.2.8.1건설,혼합폐기물처리비'!G32+'2.2.8.1건설,혼합폐기물처리비'!G45+'2.2.8.1건설,혼합폐기물처리비'!G58+'2.2.8.1건설,혼합폐기물처리비'!G68+'2.2.8.1건설,혼합폐기물처리비'!G79 -> 0 | G11: ='2.2.8.1건설,혼합폐기물처리비'!I12+'2.2.8.1건설,혼합폐기물처리비'!I22+'2.2.8.1건설,혼합폐기물처리비'!I32+'2.2.8.1건설,혼합폐기물처리비'!I45+'2.2.8.1건설,혼합폐기물처리비'!I58+'2.2.8.1건설,혼합폐기물처리비'!I68+'2.2.8.1건설,혼합폐기물처리비'!I79 -> 0
A12: 혼합건설폐기물운반비(상차제외),덤프15톤 | B12: ='2.2.8.1건설,혼합폐기물처리비'!D13+'2.2.8.1건설,혼합폐기물처리비'!D23+'2.2.8.1건설,혼합폐기물처리비'!D33+'2.2.8.1건설,혼합폐기물처리비'!D46+'2.2.8.1건설,혼합폐기물처리비'!D59+'2.2.8.1건설,혼합폐기물처리비'!D69+'2.2.8.1건설,혼합폐기물처리비'!D80 -> 127.582 | C12: Ton | E12: ='2.2.8.1건설,혼합폐기물처리비'!G13+'2.2.8.1건설,혼합폐기물처리비'!G23+'2.2.8.1건설,혼합폐기물처리비'!G33+'2.2.8.1건설,혼합폐기물처리비'!G46+'2.2.8.1건설,혼합폐기물처리비'!G59+'2.2.8.1건설,혼합폐기물처리비'!G69+'2.2.8.1건설,혼합폐기물처리비'!G80 -> 7654920 | G12: ='2.2.8.1건설,혼합폐기물처리비'!I13+'2.2.8.1건설,혼합폐기물처리비'!I23+'2.2.8.1건설,혼합폐기물처리비'!I33+'2.2.8.1건설,혼합폐기물처리비'!I46+'2.2.8.1건설,혼합폐기물처리비'!I59+'2.2.8.1건설,혼합폐기물처리비'!I69+'2.2.8.1건설,혼합폐기물처리비'!I80 -> 6959017
A15: 소 계 | E15: =ROUND(SUM(E4:E14),-3) -> 36069000 | G15: =ROUND(SUM(G4:G14),-3) -> 32790000
A19: 합 계 | E19: =E15+E17 -> 36069000 | G19: =G15+G17 -> 32790000
E20: =E16 -> 0 | G20: =G16 -> 0 | H20: (환경부 지원)
A23: 건설폐재류

Sheet 2.2.8.1건설,혼합폐기물처리비
A1: 2.2.8.1건설폐기물운반처리비산출내역
A2: 공종 | C2: 규격 | D2: 처리수량 | E2: 단위 | F2: 부가세포함 | H2: 부가세제외 | J2: 비고
F3: 단가(원) | G3: 금액(원) | H3: 단가(원) | I3: 금액(원)
A4: 1.노후주택수리
A5: 1. 슬레이트지붕 개량 | G5: =ROUND(SUM(G6:G13),0) -> 25600 | I5: =SUM(I6:I13) -> 23272
A6: 건설폐기물처리비 | C6: 폐콘크리트 | D6: 0 | E6: ton | F6: 18580 | G6: =INT(D6*F6) -> 0 | H6: =F6/1.1 -> 16890.909 | I6: =INT(D6*H6) -> 0
C7: 건설폐재류(폐벽돌) | E7: ton | F7: 45170 | G7: =INT(D7*F7) -> 0 | H7: =F7/1.1 -> 41063.636 | I7: =INT(D7*H7) -> 0
C8: 혼합폐기물(가연성5%이하) | D8: 0 | E8: ton | F8: 72721 | G8: =INT(D8*F8) -> 0 | H8: =F8/1.1 -> 66110 | I8: =INT(D8*H8) -> 0
C9: 혼합폐기물(폐보드) | E9: ton | F9: 192887 | G9: =INT(D9*F9) -> 0 | H9: =F9/1.1 -> 175351.82 | I9: =INT(D9*H9) -> 0
C10: 혼합폐기물(폐합성수지) | D10: 0.08 | E10: ton | F10: 260000 | G10: =INT(D10*F10) -> 20800 | H10: =F10/1.1 -> 236363.64 | I10: =INT(D10*H10) -> 18909
C11: 혼합폐기물(폐목재) | E11: ton | F11: 75000 | G11: =INT(D11*F11) -> 0 | H11: =F11/1.1 -> 68181.818 | I11: =INT(D11*H11) -> 0
A12: 건설폐기물 운반비(상차제외) | C12: 30km이하, 덤프24톤 | D12: =SUM(D6:D8) -> 0 | E12: ton | F12: 15090 | G12: =INT(D12*F12) -> 0 | H12: =F12/1.1 -> 13718.182 | I12: =INT(D12*H12) -> 0
A13: 혼합건설폐기물 운반비(상차제외) | C13: 30km이하, 덤프15톤 | D13: =SUM(D9:D11) -> 0.08 | E13: ton | F13: 60000 | G13: =INT(D13*F13) -> 4800 | H13: =F13/1.1 -> 54545.455 | I13: =INT(D13*H13) -> 4363
A14: 소 계 | G14: =G5 -> 25600 | I14: =I5 -> 23272
A15: 2. 집수리 | G15: =ROUND(SUM(G16:G23),0) -> 183615 | I15: =SUM(I16:I23) -> 166922
A16: 건설폐기물처리비 | C16: 폐콘크리트 | D16: 0 | E16: ton | F16: =F6 -> 18580 | G16: =INT(D16*F16) -> 0 | H16: =F16/1.1 -> 16890.909 | I16: =INT(D16*H16) -> 0
C17: 건설폐재류(폐벽돌) | E17: ton | F17: =F7 -> 45170 | G17: =INT(D17*F17) -> 0 | H17: =F17/1.1 -> 41063.636 | I17: =INT(D17*H17) -> 0
C18: 혼합폐기물(가연성5%이하) | D18: 0 | E18: ton | F18: =F8 -> 72721 | G18: =INT(D18*F18) -> 0 | H18: =F18/1.1 -> 66110 | I18: =INT(D18*H18) -> 0
C19: 혼합폐기물(폐보드) | D19: 0 | E19: ton | F19: =F9 -> 192887 | G19: =INT(D19*F19) -> 0 | H19: =F19/1.1 -> 175351.82 | I19: =INT(D19*H19) -> 0
C20: 혼합폐기물(폐합성수지) | D20: 0.381 | E20: ton | F20: =F10 -> 260000 | G20: =INT(D20*F20) -> 99060 | H20: =F20/1.1 -> 236363.64 | I20: =INT(D20*H20) -> 90054
C21: 혼합폐기물(폐목재) | D21: 0.457 | E21: ton | F21: =F11 -> 75000 | G21: =INT(D21*F21) -> 34275 | H21: =F21/1.1 -> 68181.818 | I21: =INT(D21*H21) -> 31159
A22: =A12 -> 건설폐기물 운반비(상차제외) | C22: 30km이하, 덤프24톤 | D22: =SUM(D16:D18) -> 0 | E22: ton | F22: =F12 -> 15090 | G22: =INT(D22*F22) -> 0 | H22: =F22/1.1 -> 13718.182 | I22: =INT(D22*H22) -> 0
A23: 혼합건설폐기물 운반비(상차제외) | C23: 30km이하, 덤프15톤 | D23: =SUM(D19:D21) -> 0.838 | E23: ton | F23: =F13 -> 60000 | G23: =INT(D23*F23) -> 50280 | H23: =F23/1.1 -> 54545.455 | I23: =INT(D23*H23) -> 45709
A24: 소 계 | G24: =G15 -> 183615 | I24: =I15 -> 166922
A25: 3. 빈집정비 | G25: =ROUND(SUM(G26:G33),0) -> 35603920 | I25: =SUM(I26:I33) -> 32367199
A26: 건설폐기물처리비 | C26: 폐콘크리트 | D26: 0 | E26: ton | F26: =F6 -> 18580 | G26: =INT(D26*F26) -> 0 | H26: =F26/1.1 -> 16890.909 | I26: =INT(D26*H26) -> 0
C27: 건설폐재류(폐벽돌) | E27: ton | F27: =F7 -> 45170 | G27: =INT(D27*F27) -> 0 | H27: =F27/1.1 -> 41063.636 | I27: =INT(D27*H27) -> 0
C28: 혼합폐기물(가연성5%이하) | D28: 0 | E28: ton | F28: =F8 -> 72721 | G28: =INT(D28*F28) -> 0 | H28: =F28/1.1 -> 66110 | I28: =INT(D28*H28) -> 0
C29: 혼합폐기물(폐보드) | E29: ton | F29: =F9 -> 192887 | G29: =INT(D29*F29) -> 0 | H29: =F29/1.1 -> 175351.82 | I29: =INT(D29*H29) -> 0
C30: 혼합폐기물(폐합성수지) | D30: =0.901+100 -> 100.901 | E30: ton | F30: =F10 -> 260000 | G30: =INT(D30*F30) -> 26234260 | H30: =F30/1.1 -> 236363.64 | I30: =INT(D30*H30) -> 23849327
C31: 혼합폐기물(폐목재) | D31: 24.56 | E31: ton | F31: =F11 -> 75000 | G31: =INT(D31*F31) -> 1842000 | H31: =F31/1.1 -> 68181.818 | I31: =INT(D31*H31) -> 1674545
A32: =A22 -> 건설폐기물 운반비(상차제외) | C32: 30km이하, 덤프24톤 | D32: =SUM(D26:D28) -> 0 | E32: ton | F32: =F12 -> 15090 | G32: =INT(D32*F32) -> 0 | H32: =F32/1.1 -> 13718.182 | I32: =INT(D32*H32) -> 0
A33: 혼합건설폐기물 운반비(상차제외) | C33: 30km이하, 덤프15톤 | D33: =SUM(D29:D31) -> 125.461 | E33: ton | F33: =F13 -> 60000 | G33: =INT(D33*F33) -> 7527660 | H33: =F33/1.1 -> 54545.455 | I33: =INT(D33*H33) -> 6843327
A34: 소 계 | G34: =G25 -> 35603920 | I34: =I25 -> 32367199
A35: 합 계 (1+2+3) | G35: =G14+G24+G34 -> 35813135 | I35: =I14+I24+I34 -> 32557393
A36: 2.안전확보
A37: 1. 안전확보 | G37: =ROUND(SUM(G38:G46),-3) -> 0 | I37: =SUM(I38:I46) -> 0
A38: 건설폐기물처리비 | C38: 폐콘크리트 | D38: 0 | E38: ton | F38: =F6 -> 18580 | G38: =INT(D38*F38) -> 0 | H38: =F38/1.1 -> 16890.909 | I38: =INT(D38*H38) -> 0
C39: 폐아스콘 | D39: 0 | E39: ton | F39: 20420 | G39: =INT(D39*F39) -> 0 | H39: =F39/1.1 -> 18563.636 | I39: =INT(D39*H39) -> 0
C40: 건설폐재류(폐벽돌) | E40: ton | F40: =F7 -> 45170 | G40: =INT(D40*F40) -> 0 | H40: =F40/1.1 -> 41063.636 | I40: =INT(D40*H40) -> 0
...
