Workbook

Sheet 표지
A3: 공 사 비 내 역 서
A5: 공사명 : 고덕평생학습관 냉난방 및 공기순환기개선공사(통신)
A9: 2026. 07.
A13: 서울특별시교육시설관리본부
A18: 일 위 대 가
A20: 공사명 : 고덕평생학습관 냉난방 및 공기순환기개선공사(통신)
A24: 2026. 07.
A28: 서울특별시교육시설관리본부
A33: 노 임 산 출 서
A35: 공사명 : 고덕평생학습관 냉난방 및 공기순환기개선공사(통신)
A39: 2026. 07.
A43: 서울특별시교육시설관리본부
... A73: 서울특별시교육시설관리본부

Sheet 원가
A1: 원 가 계 산 서
A2: 공사명: | C2: 고덕평생학습관 냉난방 및 공기순환기개선공사(통신)
A3: 비 목 | C3: 구 분 | D3: 금 액 | E3: 구 성 비
B4: 재 료 비 | C4: 직 접 재 료 비
C5: 간 접 재 료 비
A6: 순 | C6: ( 소 계 )
B7: 노 무 비 | C7: 직 접 노 무 비
C8: 간 접 노 무 비 | E8: 직접노무비 | F8: x | G8: 0.175
C9: ( 소 계 )
C10: 기 계 경 비
A11: 공 | C11: 산 재 보 험 료 | E11: 노무비 | F11: x | G11: 0.0356
C12: 고 용 보 험 료 | E12: 노무비 | F12: x | G12: 0.0101
B13: 경 | C13: 건 강 보 험 료 | E13: 직접노무비 | F13: x | G13: 0.03595
C14: 연 금 보 험 료 | E14: 직접노무비 | F14: x | G14: 0.0475
C15: 노인장기요양보험료 | E15: 건강보험료 | F15: x | G15: 0.1314
A16: 사 | C16: 퇴직공제부금비 | E16: 직접노무비 | F16: x | G16: 0
C17: 산업안전보건관리비 | E17: (재료+직노) | F17: x | G17: 0
C18: 기 타 경 비 | E18: (재료+노무) | F18: x | G18: 0.05
C19: 석 면 분 담 금 | E19: 노무비 | F19: x | G19: 6e-05
B20: 비 | C20: 임금채권부담금 | E20: 노무비 | F20: x | G20: 0.0009
A21: 비 | C21: 환 경 보 전 비
C23: ( 소 계 )
A24: 일 반 관 리 비 | E24: (재료+노무+경비) | F24: x | G24: 0.08
A25: 이 윤 | E25: (노무비+경비+일관) | F25: x | G25: 0.15
A26: ( 총 원 가 )
A27: 손해배상 책임보험 | E27: 총원가 | F27: x | G27: 0
A28: 부 가 가 치 세 | E28: (총원가+손해배상보험) | F28: x | G28: 0.1
A29: ( 합 계 )
A30: 관급자재(도급자설치)
A31: 관급자재(관급자설치)
A35: ( 총 계 )

Sheet 총괄표
A1: 총줄수-> | B1: 29 | D1: [ 고덕평생학습관 냉난방 및 공기순환기개선공사 ] | AA1: 연속견적가로형식
A2: 번호 | B2: 공종코드 | C2: … | D2: 공 종 명 | E2: 규격 | F2: 단위 | G2: 수량 | H2: 재료비 | J2: 노무비 | M2: 경비 | P2: 계 | Q2: 비고
H3: 단가 | I3: 금액 | J3: 수량 | K3: 단가 | L3: 금액 | M3: 단가 | N3: 금액 | O3: 단가
B4: 공종줄 | D4: 고덕평생학습관 냉난방 및 공기순환기개선공사
B5: 01 | D5: 1.정보통신설비공사 | F5: 식 | G5: 1
B6: 02 | D6: 2.기타설비공사 | F6: 식 | G6: 1
C29: Total | D29: ( 합 계 ) | I29: 5210444 | L29: 7602612 | N29: 0 | P29: 12813056

Sheet 내역서
A1: 총줄수-> | B1: 55 | D1: [ 고덕평생학습관 냉난방 및 공기순환기개선공사 ] | W1: 노임 계산 정보 | AA1: 부속재 및 손료
A2: 번호 | B2: 공종코드 | C2: 코드 | D2: 명 칭 | E2: 규 격 | F2: 단위 | G2: 수량 | H2: 재료비 | J2: 노무비 | M2: 경비 | P2: 계 | Q2: 비고 | W2: 노임계 | X2: 전체(%) | Y2: 공종별(%) | Z2: 노임 소수 | AA2: CD배관재 | AB2: 일반배관재 | AC2: 소모재 | AD2: 자재계 | AE2: 노임계
H3: 단가 | I3: 금액 | J3: 수량 | K3: 단가 | L3: 금액 | M3: 단가 | N3: 금액 | O3: 단가 | AD3: 1 | AE3: 1
B4: 공종줄 | D4: 1.정보통신설비공사
A5: MM300040562 | B5: 01 | C5: 4617169220195013 | D5: 방범감지기 | E5: 동체감지기 | F5: 개 | G5: 1 | I5: 0 | J5: 1 | K5: 0 | L5: 0 | M5: 0 | N5: 0 | P5: 0 | Q5: 재고품사용
A6: 56931750308 | B6: 01 | C6: V56931750308 | D6: 스피커 철거재사용 | E6: 매입, 고정형, 5W 이하 | F6: 개 | G6: 29
A7: 56931750320 | B7: 01 | C7: V56931750320 | D7: 돔카메라 철거재사용 | E7: 회전형 | F7: 개 | G7: 4
A8: 56931750337 | B8: 01 | C8: V56931750337 | D8: 빔프로젝터 철거재사용 | F8: 개 | G8: 3
A9: 56931750339 | B9: 01 | C9: V56931750339 | D9: 전동스크린 철거재사용 | F9: 개 | G9: 1
A10: 56931750352 | B10: 01 | C10: V56931750352 | D10: 무선AP 철거재사용 | F10: 개 | G10: 9
D11: 임시사무실 이전 복구 | F11: 식 | G11: 1
A12: 56900017114 | B12: 01 | C12: L001010101000087 | D12: 노 무 비 | E12: 통신설비공 | F12: 인 | G12: 0.07
A13: A0300000000 | B13: 01 | C13: RENT000000000006 | D13: [ 공 구 손 료 ] | E13: 노무비의 3 % | F13: 식 | G13: 1
B30: 합계줄 | D30: ( 합 계 )
B31: 공종줄 | D31: 2.기타설비공사
A32: 63500197001 | B32: 02 | C32: 4619150120192512 | D32: 화재감지기 | E32: 열감지기,차동식스포트형 | F32: 개 | G32: 26
A33: 63500197004 | B33: 02 | C33: 4619150120192515 | D33: 화재감지기 | E33: 열감지기,정온식스포트형 | F33: 개 | G33: 4
A34: 63500197106 | B34: 02 | C34: 4619150420192523 | D34: 화재감지기 | E34: 연기감지기,광전식2종-비축적 | F34: 개 | G34: 8
A35: 56931750116 | B35: 02 | C35: V56931750116 | D35: 감지기 철거 | E35: SPOT형 감지기 | F35: 개 | G35: 38 | AE35: 405574
A36: 56931750119 | B36: 02 | C36: V56931750119 | D36: 유도등 철거재사용 | E36: 표시등(유도등) | F36: 개 | G36: 6 | AE36: 394092
A37: 56900017016 | B37: 02 | C37: L001010101000075 | D37: 노 무 비 | E37: 내선전공 | F37: 인 | G37: 4 | AE37: 1094704
A38: A0300000000 | B38: 02 | C38: RENT000000000006 | D38: [ 공 구 손 료 ] | E38: 노무비의 3 % | F38: 식 | G38: 1
AC39: 56831 | AD39: 1894370 | AE39: 1894370
B56: 합계줄 | D56: ( 합 계 )

Sheet 합산자재
B1: 29 | C1: [ 고덕평생학습관 냉난방 및 공기순환기개선공사 ] - 합산자재목록
A2: 번호 | B2: … | C2: 코드 | D2: 명 칭 | E2: 규 격 | F2: 단위 | G2: 수량 | H2: 재료비 | I2: 노무비 | J2: 경비 | K2: 지급비 | L2: 계 | M2: 비고
B4: MM300040562 | C4: 4617169220195013 | D4: 방범감지기 | E4: 동체감지기 | F4: 개 | G4: 1 | H4: =ROUNDDOWN(#REF!*옵션!$D$11, 0) -> #REF! | L4: =SUM(H4,I4,J4) -> #REF!
B5: 63500197001 | C5: 4619150120192512 | D5: 화재감지기 | E5: 열감지기,차동식스포트형 | F5: 개 | G5: 26 | H5: =ROUNDDOWN(#REF!*옵션!$D$11, 0) -> #REF! | L5: =SUM(H5,I5,J5) -> #REF!
B6: 63500197004 | C6: 4619150120192515 | D6: 화재감지기 | E6: 열감지기,정온식스포트형 | F6: 개 | G6: 4 | H6: =ROUNDDOWN(#REF!*옵션!$D$11, 0) -> #REF! | L6: =SUM(H6,I6,J6) -> #REF!
B7: 63500197106 | C7: 4619150420192523 | D7: 화재감지기 | E7: 연기감지기,광전식2종-비축적 | F7: 개 | G7: 8 | H7: =ROUNDDOWN(#REF!*옵션!$D$11, 0) -> #REF! | L7: =SUM(H7,I7,J7) -> #REF!
B8: 56900017016 | C8: L001010101000075 | D8: 노 무 비 | E8: 내선전공 | F8: 인 | G8: 7.282 | I8: =ROUNDDOWN(#REF!, 0) -> #REF! | L8: =SUM(H8,I8,J8) -> #REF!
B9: 56900017114 | C9: L001010101000087 | D9: 노 무 비 | E9: 통신설비공 | F9: 인 | G9: 16.06 | I9: =ROUNDDOWN(#REF!, 0) -> #REF! | L9: =SUM(H9,I9,J9) -> #REF!
B10: 56900017112 | C10: L001010501000112 | D10: 노 무 비 | E10: 통신관련산업기사 | F10: 인 | G10: 3.015 | I10: =ROUNDDOWN(#REF!, 0) -> #REF! | L10: =SUM(H10,I10,J10) -> #REF!
B11: 56900017041 | C11: L001010101000002 | D11: 노 무 비 | E11: 보통인부 | F11: 인 | G11: 4.56 | I11: =ROUNDDOWN(#REF!, 0) -> #REF! | L11: =SUM(H11,I11,J11) -> #REF!
B12: 56900017118 | C12: L001010101000003 | D12: 노 무 비 | E12: 특별인부 | F12: 인 | G12: 1.08 | I12: =ROUNDDOWN(#REF!, 0) -> #REF! | L12: =SUM(H12,I12,J12) -> #REF!

Sheet 옵션
B1: 재료비 | C1: 노무비 | D1: 경비 | F1: 계
A2: 총 급 액 | B2: =총괄표!I29 -> 5210444 | C2: =총괄표!L29 -> 7602612 | D2: =총괄표!N29 -> 0 | F2: =SUM(B2,C2,D2) -> 12813056
A3: 관급 자재비 | F3: =SUM(B3,C3,D3) -> 0 | H3: 금액조정이 안되나요?
H6: 이지테크에서 변환할 때 2번 옵션을 지정하여 다시 해보세요
H9: 시트를 삭제할 때 에러가 뜨면 1번 옵션으로 하면 됩니다.
B10: 적용율(%) | C10: 끝자리 | D10: 적용율(%)/100 | E10: 일위대가소수
A11: 전체자재 적용율(%)(공종/일위대가) | B11: 100 | C11: 1 | D11: =$B$11/100 -> 1
A12: 전체노임 적용율(%)(공종) | B12: 100 | C12: 1 | D12: =$B$12/100 -> 1 | E12: 2 | H12: 2번 옵션으로 변환했을 때에는 결과값이 다를 수 있습니다.
A13: 전체노임 적용율(%)(일위대가) | B13: 100 | C13: 1 | D13: =$B$13/100 -> 1 | E13: 5
A20: *(그룹별 자재 단가 추가 할증)* | B20: 적용율(%) | D20: 적용율(%)/100
A21: Cable(CAB) 할증(%) | B21: =B11 -> 100 | D21: =$B$21/100 -> 1
A22: Wire (WIR) 할증(%) | B22: =B11 -> 100 | D22: =$B$22/100 -> 1
A23: Pipe (PIP) 할증(%) | B23: =B11 -> 100 | D23: =$B$23/100 -> 1
A24: 제 4그룹 할증(%) | B24: =B11 -> 100 | D24: =$B$24/100 -> 1
A25: 제 5그룹 할증(%) | B25: =B11 -> 100 | D25: =$B$25/100 -> 1
A30: *(그룹별 노임 추가 할증)* | B30: 적용율(%) | C30: 자동부속재(전기) | D30: 자동부속재(통신)
A31: 배관부속재(%) | B31: 20 | C31: 15 | D31: 20
A32: CD관부속재(%) | B32: 40 | C32: 40 | D32: 40
A33: 소모잡자재(%) | B33: 2 | H33: 본 파일은 이지테크에서 2번 옵션으로 만들었습니다.
A34: 방폭할증(%)
A35: 고소할증(%) | B35: 2
A36: 공구손료(%) | B36: 3
A40: *(공종별 노임 적용율(%))* | B40: 적용율(%) | C40: 소수자릿수
A41: 1.정보통신설비공사 | B41: 100 | C41: 0
A42: 2.기타설비공사 | B42: 100 | C42: 0
