Workbook
Name _1: #N/A
Name _1: #N/A
Name _1._PANEL_BD.__LP___1: #REF!
Name _1.8_2_1.0___4.5_0.5: [1]아울렛박스!#REF!
Name _1.8_2_1.0___4.5_0.5: [1]아울렛박스!#REF!
Name _1_: '[2]PAD TR보호대기초'!#REF!
Name _10: #N/A
Name _10_0Print_Area: [3]진접!#REF!
Name _11: #N/A
Name _11_0Print_Area: [3]진접!#REF!
Name _12: #N/A
Name _12_10: #REF!
Name _13: #N/A
Name _13_11: #REF!
Name _14: #N/A
Name _14_3_0Crite: #REF!
Name _15: #N/A
Name _15_3_0Crite: #REF!
Name _15A: [4]금액내역서!$D$3:$D$10
Name _16: #N/A
Name _16_3_0Criteria: #REF!
Name _17: #N/A
Name _17_3_0Criteria: #REF!
Name _18: #N/A
Name _18_3__Crite: #REF!
Name _19: #N/A
Name _19_3__Crite: #REF!
Name _1공장: #REF!
Name _2: #N/A
Name _2_: '[2]PAD TR보호대기초'!#REF!
Name _20: #N/A
Name _20_3__Criteria: #REF!
Name _21: #N/A
Name _21_3__Criteria: #REF!
Name _22: #N/A
Name _22_6: #REF!
Name _23: #N/A
Name _23_7: #REF!
Name _24: #N/A
Name _24_8: #REF!
Name _25: #N/A
Name _25_9: #REF!
Name _26: #N/A
Name _26Á_1È_Ç: '[5]일위대가(계측기설치)'!#REF!
Name _27: #N/A
Name _27Á_1È_Ç: '[5]일위대가(계측기설치)'!#REF!
Name _28: #N/A
Name _28Á_2È_Ç: '[5]일위대가(계측기설치)'!#REF!
Name _29: #N/A
Name _29Á_2È_Ç: '[5]일위대가(계측기설치)'!#REF!
Name _2공장: #REF!
Name _3: #N/A
Name _3.8_1.0_2___3.6_1.0_2___2__3.93_3.21__0.5: #REF!
Name _3.8_1.0_2___3.6_1.0_2___2__3.93_3.21__0.5: #REF!
Name _3.8_1.0_2___3.6_1.0_2___2__3.93_3.21__0.5: #REF!
Name _3_: '[6]PAD TR보호대기초'!#REF!
Name _30: #N/A
Name _30Á_3È_Ç: '[5]일위대가(계측기설치)'!#REF!
Name _30신설일위대가: '[7]30신설일위대가'!$A$4:$M$1603
Name _30신설일위대가: '[7]30신설일위대가'!$A$4:$M$1603

Sheet 설계서(갑지)
A1: 과 장 | D1: 팀 장 | G1: 담당자 | I1: 설계 | L1: 2026년 07 월 일
I2: 심사 | L2: =L1 -> 2026년 07 월 일
B4: 용 역 비 산 출 내 역 서
B6: ■ 용역명 : 한남대교 램프구간 노후 경관조명 등기구 교체공사 감리용역
B8: 구 분 | F8: 전기감리금액 | L8: 비고
B9: 총 감 리 용 역 비 | F9: =ROUNDDOWN(F15,-6) -> 11000000 | L9: 십만단위 절사
B10: 감리용역비 | C10: 공 급 가 액 | F10: =전기감리비산출!H27 -> 10006000
C11: 용역손해보험료 | F11: =전기감리비산출!H28 -> 58000
C12: 소 계 | F12: =전기감리비산출!H29 -> 10064000
C13: 부 가 가 치 세 | F13: =전기감리비산출!H30 -> 1006000
C14: 안 전 관 리 비 | F14: =전기감리비산출!H31 -> #REF!
C15: 합 계 | F15: =전기감리비산출!H32 -> 11070000
B17: 용역개요 | C17: : 한남대교 램프구간 노후 경관조명 등기구 교체공사 감리용역 1식

Sheet 전기감리비산출
A1: 2. 감리비 산출
A3: 연번 | B3: 구분 | C3: 내용 | D3: 산출 | H3: 계
A4: 1 | B4: 직접인건비 | C4: 중급관리원 | E4: =감리원임금표!B6 -> 300452 | F4: × | G4: =전기감리대상개요!F28 -> 13 | H4: =TRUNC(E4*G4,-3) -> 3905000
A5: 2 | B5: 재경비 | C5: 직접인건비의 110~120% | E5: =H4 -> 3905000 | F5: × | G5: 1.1 | H5: =TRUNC(E5*G5,-3) -> 4295000
A6: 3 | B6: 기술료 | C6: (직접인건비+재경비)의 20~40% | E6: =H4+H5 -> 8200000 | F6: × | G6: 0.22025 | H6: =TRUNC(E6*G6,-3) -> 1806000
A7: 4 | B7: 직접경비 | C7: 1) 주재비 (상주, 직접인건비의 30%) | E7: 상주감리비 | H7: 미적용
D8: = | E8: 직접인건비의 | F8: 0.8
D9: = | E9: =H4 -> 3905000 | F9: × | G9: 0.8
D10: = | E10: =E9*G9 -> 3124000
E11: 주재비
D12: = | E12: =E10 -> 3124000 | F12: × | G12: 0.2
D13: = | E13: =INT(E12*G12) -> 624800
C14: 2) 출장여비 (비상주 인건비의 10%) | E14: 비상주 인건비 | H14: 미적용
D15: = | E15: 직접인건비의 | F15: 0.2
D16: = | E16: =H4 -> 3905000 | F16: × | G16: 0.2
D17: = | E17: =INT(E16*G16) -> 781000
E18: 출장여비
D19: = | E19: =E17 -> 781000 | F19: × | G19: 0.1
D20: = | E20: =INT(E19*G19)-0 -> 78100
C21: 3) 차량비 | H21: 미적용
C23: 4) 현지사무원 급료 | H23: 미적용
C25: 5) 도서인쇄비 | H25: 미적용
A27: 5 | B27: 계 | C27: 1+2+3+4 | H27: =ROUNDDOWN(SUM(H4:H26),-3) -> 10006000
A28: 6 | B28: 손해보험 | C28: 합계의 0.584% | H28: =ROUNDDOWN((H27*0.584%),-3) -> 58000
A29: 7 | B29: 소 계 | C29: 1+2+3+4 | H29: =H27+H28 -> 10064000
A30: 8 | B30: 부가가치세 | C30: 소계의 10% | H30: =ROUNDDOWN((H29*0.1),-3) -> 1006000
A31: 8 | B31: 안전관리비 | C31: 합계의 35% * 1.85% | H31: =ROUNDDOWN(INT((#REF!*0.35)*1.85%),-3) -> #REF!
A32: 9 | B32: 총 계 | C32: 7+8 | H32: =ROUNDDOWN(H29+H30,) -> 11070000
B34: ※ 감리원 배치방법
B35: 현장상주 감리원 : 총감리원의 80% 배치
B36: 비상주 감리원 : 총감리원의 20%배치

Sheet 전기감리대상개요
A1: =C5 -> 한남대교 램프구간 노후 경관조명 등기구 교체공사 감리용역
A3: 1. 감 리 대 상 개 요
A4: 연번 | B4: 구분 | C4: 내용 | I4: 비고
A5: 1 | B5: 용역명 | C5: 한남대교 램프구간 노후 경관조명 등기구 교체공사 감리용역
A6: 2 | B6: 공사개요 | C6: 가. | D6: 위치 : 한남대교 램프구간
C7: 나.
C8: 나. | D8: 공사기간 : 3개월
A9: 3 | B9: 용역범위 | C9: 동작대교 야간경관 개선사업에 대한 감리용역
A10: 4 | B10: 발주 및 배치 | C10: 가. | D10: 전력기술관리법 제14조에 따라 감리업을 등록자로 하여금 수행
C11: 나. | D11: 배치방법 : 부분상주
A12: 5 | B12: 감리대가 산출기초자료 | C12: 가. | D12: 전기분야 공사비
D13: 공사 | E13: (부가세포함) | F13: + 관급 | G13: (부가세포함)
E14: 120000000 | F14: + 관급 | G14: =38000000/2 -> 19000000 | H14: (경관조명기구류)
D15: = | E15: =ROUNDDOWN((E14/1.1),-4) -> 109090000 | F15: + 관급 | G15: =ROUNDDOWN((G14/1.1*1),-4) -> 17270000 | H15: (부가세 제외금액)
C17: 나. | D17: 총공사비(적용) | F17: =E15+G15 -> 126360000 | H17: (부가세 제외금액)
C18: 다. | D18: 감리원배치기준
D19: 1) 법 제14조 제4항 및 동법 시행령 제22조
D20: (전력기술용역대가 및 공사감리원 배치기준)
C21: 라. | D21: 공사감리용역대가 산출
D22: 전력기술관리법운영요령 제24조(감리대가산출)
D23: - 정액적산방식을 적용 직선보간법으로 산출
D24: - 공종구분 : 보통공종 적용
C25: 마. | D25: 전력시설물공사 감리원 산출
D26: =전기직선보간법!G6 -> 1.4 | F26: =전기직선보간법!H11 -> 2.32
C27: 바. | D27: 감리배치일수 | K27: =전기감리비산출!H32 -> 11070000
D28: =F26 -> 2.32 | E28: 5.6 | F28: =ROUNDUP((D28*E28*1),0) -> 13 | H28: (100% 적용)
C29: 사. | D29: 감리대가 산출기준
D30: 중급감리원

Sheet 전기직선보간법
A1: 전력시설물공사 감리원배치기준
A2: 공사비(억원) | B2: 단순공종 | C2: 보통공종 | D2: 복잡공종
A3: 0.05 | B3: 0.17 | C3: 0.18 | D3: 0.2
A4: 0.1 | B4: 0.28 | C4: 0.31 | D4: 0.34 | F4: x1(큰금액) | G4: 2
A5: 0.2 | B5: 0.48 | C5: 0.53 | D5: 0.59 | F5: x2(작은금액) | G5: 1
A6: 0.3 | B6: 0.66 | C6: 0.73 | D6: 0.8 | F6: X(당해금액) | G6: 1.4
A7: 0.4 | B7: 0.82 | C7: 0.9 | D7: 1
A8: 0.5 | B8: 1 | C8: 1.1 | D8: 1.2 | G8: 단순공종 | H8: 보통공종 | I8: 복잡공종
A9: 0.6 | B9: 1.1 | C9: 1.2 | D9: 1.4 | F9: y1(작은금액요율) | G9: =INDEX($A$3:$D$32,MATCH($G$5,$A$3:$A$32,0),2) -> 1.7 | H9: 1.8 | I9: =INDEX($A$3:$D$32,MATCH($G$5,$A$3:$A$32,0),4) -> 2
A10: 0.7 | B10: 1.3 | C10: 1.4 | D10: 1.5 | F10: y2(큰금액요율) | G10: =INDEX($A$3:$D$32,MATCH($G$4,$A$3:$A$32,0),2) -> 2.8 | H10: 3.1 | I10: =INDEX($A$3:$D$32,MATCH($G$4,$A$3:$A$32,0),4) -> 3.4
A11: 0.8 | B11: 1.4 | C11: 1.5 | D11: 1.7 | F11: Y(당해공사비요율) | G11: =TRUNC(G9-((($G$6-$G$5)*(G9-G10))/($G$4-$G$5)),2) -> 2.14 | H11: =TRUNC(H9-((($G$6-$G$5)*(H9-H10))/($G$4-$G$5)),2) -> 2.32 | I11: =TRUNC(I9-((($G$6-$G$5)*(I9-I10))/($G$4-$G$5)),2) -> 2.56
A12: 0.9 | B12: 1.5 | C12: 1.7 | D12: 1.9
A13: 1 | B13: 1.7 | C13: 1.8 | D13: 2
A14: 2 | B14: 2.8 | C14: 3.1 | D14: 3.4
A15: 3 | B15: 3.9 | C15: 4.3 | D15: 4.7
A16: 4 | B16: 4.8 | C16: 5.3 | D16: 5.9
A17: 5 | B17: 5.7 | C17: 6.3 | D17: 7
A18: 6 | B18: 6.6 | C18: 7.3 | D18: 8
A19: 7 | B19: 7.4 | C19: 8.2 | D19: 9
A20: 8 | B20: 8.2 | C20: 9.1 | D20: 10
A21: 9 | B21: 9 | C21: 10 | D21: 11
A22: 10 | B22: 9.7 | C22: 10.8 | D22: 11.9
A23: 20 | B23: 16.6 | C23: 18.4 | D23: 20.3
... A32: 500 | B32: 197 | C32: 218.9 | D32: 240.8

Sheet 감리원임금표
A1: 2025년 감리원 임금공표
A3: 구 분 | B3: 일임금액 | C3: 환산비
A4: 특급감리원 | B4: 360108 | C4: 1.15
A5: 고급감리원 | B5: 311965 | C5: 1
A6: 중급감리원 | B6: 300452 | C6: 0.96
A7: 초급감리원 | B7: 248432 | C7: 0.8

Sheet 책임감리보험료
B2: 공사감리 요율
A3: 공사종류 | C3: 용역금액(계약금액) | K3: 표준
K4: 공사
C5: 5억원이하 | E5: 5억원초과 | G5: 10억원초과 | I5: 20억원초과 | K5: 기간
E6: 10억원이하 | G6: 20억원이하 | I6: 30억원이하 | K6: (년)
C7: 기본(%) | D7: 가산(%) | E7: 기본(%) | F7: 가산(%) | G7: 기본(%) | H7: 가산(%) | I7: 기본(%) | J7: 가산(%)
A8: 전 | B8: 발전설비 | C8: 1.043 | D8: 0.165 | E8: 1.012 | F8: 0.16 | G8: 0.982 | H8: 0.155 | I8: 0.953 | J8: 0.151 | K8: 3
A9: 기 | B9: 송전설비 | C9: 0.731 | D9: 0.116 | E9: 0.709 | F9: 0.113 | G9: 0.687 | H9: 0.11 | I9: 0.667 | J9: 0.106 | K9: 2
A10: 공 | B10: 변전설비 | C10: 0.731 | D10: 0.116 | E10: 0.709 | F10: 0.113 | G10: 0.687 | H10: 0.11 | I10: 0.667 | J10: 0.106 | K10: 2
A11: 사 | B11: 배전설비 | C11: 0.71 | D11: 0.116 | E11: 0.689 | F11: 0.113 | G11: 0.668 | H11: 0.11 | I11: 0.648 | J11: 0.106 | K11: 2
A12: 부 | B12: 건축물 등의 전기설비 | C12: 0.716 | D12: 0.119 | E12: 0.694 | F12: 0.115 | G12: 0.674 | H12: 0.112 | I12: 0.653 | J12: 0.108 | K12: 3
A13: 문 | B13: 관람집회시설공사 | C13: 0.589 | D13: 0.094 | E13: 0.572 | F13: 0.091 | G13: 0.554 | H13: 0.089 | I13: 0.536 | J13: 0.086 | K13: 3
B14: 전시시설공사 | C14: 0.589 | D14: 0.094 | E14: 0.572 | F14: 0.091 | G14: 0.554 | H14: 0.089 | I14: 0.536 | J14: 0.086 | K14: 2
B15: 공용청사건설공사 | C15: 0.707 | D15: 0.113 | E15: 0.686 | F15: 0.11 | G15: 0.664 | H15: 0.106 | I15: 0.642 | J15: 0.103 | K15: 3
B16: 공항,항만 전기설비 | C16: 0.96 | D16: 0.158 | E16: 0.932 | F16: 0.154 | G16: 0.903 | H16: 0.149 | I16: 0.876 | J16: 0.145 | K16: 4
B17: 도로공사 | C17: 0.883 | D17: 0.141 | E17: 0.857 | F17: 0.137 | G17: 0.83 | H17: 0.132 | I17: 0.803 | J17: 0.128 | K17: 3
B18: 터널,댐,교량 전기설비 | C18: 1.2 | D18: 0.194 | E18: 1.164 | F18: 0.188 | G18: 1.129 | H18: 0.182 | I18: 1.095 | J18: 0.176 | K18: 4
B19: 철도공사 | C19: 0.761 | D19: 0.122 | E19: 0.739 | F19: 0.118 | G19: 0.716 | H19: 0.114 | I19: 0.695 | J19: 0.11 | K19: 3
B20: 지하철공사 | C20: 1.217 | D20: 0.194 | E20: 1.181 | F20: 0.188 | G20: 1.145 | H20: 0.182 | I20: 1.111 | J20: 0.176 | K20: 4
B21: 기타 전기설비 | C21: 0.584 | D21: 0.091 | E21: 0.567 | F21: 0.088 | G21: 0.55 | H21: 0.086 | I21: 0.533 | J21: 0.083 | K21: 1

Sheet 공종구분
A1: [별표 3]
B2: 공종의 구분(제25조 제7항관련)
A3: 단순공종 | B3: 보통공종 | C3: 복잡공종
A4: 배전설비, 공장의 조명설비, 창고시설, 주차장등 자동차관련시설, 축사등 동물관련시설, 종묘배양시설등, 식물관련시설등의 전력시설물 공사와 전기기기 일부만 공사할 경우를 말한다. | B4: 단순 또는 복잡공종에 속하지 않는 전력시설물 공사를 말한다. | C4: 발전설비, 송.변전설비, 체육관, 운동장등 운동시설, 공연장등 관람집회시설, 박물관등 전시시설, 의료시설, 공항.여객 자동차터미널등 시설, 방송국등 방송.통신시설, 상수. 하수. 산업폐수. 분뇨. 쓰레기처리시설, 관광휴게시설, 건축물연면적 2만제곱미터이상, 지하층을 제외한 건축물의 층수가 11층이상의 건축물, 전기철도설비, 특수한 전기응용설비와 공사기간이 길고 배선수가 많아 복잡한 전력시설물의 공사를 말한다.

Sheet 보험요율
B2: 손해배상공제 요율
B3: 공사종류 | D3: 용역금액(계약금액) | L3: 표준
L4: 공사
D5: 5억원이하 | F5: 5억원초과 | H5: 10억원초과 | J5: 20억원초과 | L5: 기간
F6: 10억원이하 | H6: 20억원이하 | J6: 30억원이하 | L6: (년)
D7: 기본(%) | E7: 가산(%) | F7: 기본(%) | G7: 가산(%) | H7: 기본(%) | I7: 가산(%) | J7: 기본(%) | K7: 가산(%)
B8: 전 | C8: 발전설비 | D8: 1.043 | E8: 0.165 | F8: 1.012 | G8: 0.16 | H8: 0.982 | I8: 0.155 | J8: 0.953 | K8: 0.151 | L8: 3
B9: 기 | C9: 송전설비 | D9: 0.731 | E9: 0.116 | F9: 0.709 | G9: 0.113 | H9: 0.687 | I9: 0.11 | J9: 0.667 | K9: 0.106 | L9: 2
B10: 공 | C10: 변전설비 | D10: 0.731 | E10: 0.116 | F10: 0.709 | G10: 0.113 | H10: 0.687 | I10: 0.11 | J10: 0.667 | K10: 0.106 | L10: 2
B11: 사 | C11: 배전설비 | D11: 0.71 | E11: 0.116 | F11: 0.689 | G11: 0.113 | H11: 0.668 | I11: 0.11 | J11: 0.648 | K11: 0.106 | L11: 2
B12: 부 | C12: 건축물 등의 전기설비 | D12: 0.716 | E12: 0.119 | F12: 0.694 | G12: 0.115 | H12: 0.674 | I12: 0.112 | J12: 0.653 | K12: 0.108 | L12: 3
B13: 문 | C13: 관람집회시설공사 | D13: 0.589 | E13: 0.094 | F13: 0.572 | G13: 0.091 | H13: 0.554 | I13: 0.089 | J13: 0.536 | K13: 0.086 | L13: 3
C14: 전시시설공사 | D14: 0.589 | E14: 0.094 | F14: 0.572 | G14: 0.091 | H14: 0.554 | I14: 0.089 | J14: 0.536 | K14: 0.086 | L14: 2
C15: 공용청사건설공사 | D15: 0.707 | E15: 0.113 | F15: 0.686 | G15: 0.11 | H15: 0.664 | I15: 0.106 | J15: 0.642 | K15: 0.103 | L15: 3
C16: 공항,항만 전기설비 | D16: 0.96 | E16: 0.158 | F16: 0.932 | G16: 0.154 | H16: 0.903 | I16: 0.149 | J16: 0.876 | K16: 0.145 | L16: 4
C17: 도로공사 | D17: 0.883 | E17: 0.141 | F17: 0.857 | G17: 0.137 | H17: 0.83 | I17: 0.132 | J17: 0.803 | K17: 0.128 | L17: 3
C18: 터널,댐,교량 전기설비 | D18: 1.2 | E18: 0.194 | F18: 1.164 | G18: 0.188 | H18: 1.129 | I18: 0.182 | J18: 1.095 | K18: 0.176 | L18: 4
C19: 철도공사 | D19: 0.761 | E19: 0.122 | F19: 0.739 | G19: 0.118 | H19: 0.716 | I19: 0.114 | J19: 0.695 | K19: 0.11 | L19: 3
C20: 지하철공사 | D20: 1.217 | E20: 0.194 | F20: 1.181 | G20: 0.188 | H20: 1.145 | I20: 0.182 | J20: 1.111 | K20: 0.176 | L20: 4
C21: 기타 전기설비 | D21: 0.584 | E21: 0.091 | F21: 0.567 | G21: 0.088 | H21: 0.55 | I21: 0.086 | J21: 0.533 | K21: 0.083 | L21: 1
