Workbook

Sheet 갑지
A1: 설 계 내 역 서 | Y1: 견적가로형식-1
A3: 과 장 | C3: 팀 장 | E3: 심사자 | G3: 설계자 | I3: 설 계 | J3: 2026년 월 일 | K3: 결 재
I4: 심 사 | J4: =J3 -> 2026년 월 일 | K4: 월 일
B6: 공사명 : 유입펌프장 탈취설비 교체 전기공사
B7: 구 분 | D7: 금 액 (원) | J7: 비 고
B8: 도 급 비 | C8: 공급가액 | D8: =원가!D25 -> 35600000 | G8: ="금"&NUMBERSTRING(D8,1)&"원" -> 금삼천오백육십만원
C9: 부가가치세 | D9: =원가!D26 -> 3560000 | G9: ="금"&NUMBERSTRING(D9,1)&"원" -> 금삼백오십육만원
C10: 계 | D10: =SUM(D8:F9) -> 39160000 | G10: ="금"&NUMBERSTRING(D10,1)&"원" -> 금삼천구백일십육만원
B12: 공 사 개 요 | D12: : 케이블 철거 설치 및 배관배선 1식

Sheet 원가
A1: 원 가 계 산 서
A3: 공사명: 유입펌프장 탈취설비 교체 전기공사 | E3: 공사기간: 6 개월 이하
A4: 비 목 | C4: 구 분 | D4: 금 액 | E4: 구 성 비 | I4: 요율 | J4: 수량
A5: 순 공 사 비 | B5: 재 료 비 | C5: 직 접 재 료 비 | J5: 1
C6: 간 접 재 료 비
C7: ( 소 계 )
B8: 노 무 비 | C8: 직 접 노 무 비 | J8: 1
C9: 간 접 노 무 비 | E9: (직접 노무비) * 17.5 % | I9: 17.5 | J9: 1
C10: ( 소 계 )
B11: 경 비 | C11: 산 재 보 험 료 | E11: (노무비) * 3.56 % | I11: 3.56 | J11: 1
C12: 고 용 보 험 료 | E12: (노무비) * 1.01 % | I12: 1.01 | J12: 1
C13: 건 강 보 험 료 | D13: 580372 | E13: (직접 노무비) * 3.595 % | I13: 3.595 | J13: 1
C14: 연 금 보 험 료 | D14: 766834 | E14: (직접 노무비) * 4.75 % | I14: 4.75 | J14: 1
C15: 노인장기요양보험 | D15: 76260 | E15: (건강 보험료) * 13.14 % | I15: 13.14 | J15: 1
C16: 산업안전보건관리비 | D16: 511902 | E16: (재료+직노+관급재/1.1) * 2.07 % | I16: 2.07 | J16: 1
C17: 법정분담금(석면, 임금채권) | E17: (노무비) * 0.096 % | I17: 0.096 | J17: 1
C18: 기 타 경 비 | E18: (재료+노무) * 5 % | I18: 5
C19: ( 소 계 )
B20: ( 순 공 사 비 계 )
A21: 일 반 관 리 비 | E21: (재료+노무+경비) * 8 % | I21: 8 | J21: 1
A22: 이 윤 | E22: (노무+경비+일반관리비) * 15 % | I22: 15 | J22: 1
A23: 손해배상책임보험 | E23: (순공사비+일반관리비+이윤+관급자재)*0.26477% | I23: 0.26477
A24: 고 재 처 리 비
A25: 공 급 가 액 | D25: 35600000
A26: 부 가 가 치 세 | D26: 3560000 | I26: 10 | J26: 1
A27: ( 총 계 ) | D27: =SUM(D25:D26) -> 39160000

Sheet 총괄표
A1: 총줄수-> | B1: 29 | C1: 2.0 | D1: 총괄표 | AA1: 연속견적가로형식
A2: 번호 | B2: 공종코드 | C2: … | D2: 공 종 명 | E2: 규격 | F2: 단위 | G2: 수량 | H2: 재료비 | J2: 노무비 | M2: 경비 | P2: 계 | Q2: 비고
H3: 단가 | I3: 금액 | J3: 수량 | K3: 단가 | L3: 금액 | M3: 단가 | N3: 금액 | O3: 단가
B4: 공종줄 | D4: 유입펌프장 탈취설비 교체 전기공사
B5: 001 | D5: 1. 전기공사 | F5: 식 | G5: 1 | H5: =내역서!I36 -> 0 | I5: =G5*H5 -> 0 | K5: =내역서!L36 -> 0 | L5: =G5*K5 -> 0 | M5: =내역서!N36 -> 0 | N5: =G5*M5 -> 0 | P5: =SUM(I5,L5,N5) -> 0
I6: =G6*H6 -> 0 | L6: =G6*K6 -> 0 | N6: =G6*M6 -> 0 | P6: =SUM(I6,L6,N6) -> 0
D7: 2. 고재처리 | F7: 식 | G7: 1 | H7: =내역서!I43 -> 0 | I7: =G7*H7 -> 0 | L7: =G7*K7 -> 0 | N7: =G7*M7 -> 0 | P7: =SUM(I7,L7,N7) -> 0

Sheet 내역서
A1: 총줄수-> | B1: 55 | C1: 2.0 | D1: 내역서 | W1: 노임 계산 정보 | AA1: 부속재 및 손료
A2: 번호 | B2: 공종코드 | C2: 코드 | D2: 명 칭 | E2: 규 격 | F2: 단위 | G2: 수량 | H2: 재료비 | J2: 노무비 | M2: 경비 | P2: 계 | Q2: 비고 | W2: 노임계 | X2: 전체(%) | Y2: 공종별(%) | Z2: 노임 소수 | AA2: CD배관재 | AB2: 일반배관재 | AC2: 소모재 | AD2: 자재계 | AE2: 노임계
H3: 단가 | I3: 금액 | J3: 수량 | K3: 단가 | L3: 금액 | M3: 단가 | N3: 금액 | O3: 단가 | AD3: =IF(옵션!$C$11 =0, "1", 옵션!$C$11) -> 1 | AE3: =IF(옵션!$C$12 =0, "1", 옵션!$C$12) -> 1
B4: 공종줄 | D4: 1.전기공사
A5: 5975A337020 | B5: 001 | C5: E59750337020 | D5: 강제전선관(노출) | E5: 아연도 104 mm | F5: m | G5: 1 | I5: =TRUNC(G5*H5) -> 0 | J5: 1 | L5: =TRUNC(G5*K5) -> 0 | N5: =TRUNC(G5*M5) -> 0 | P5: =SUM(I5,L5,N5) -> 0 | Q5: 제 2호 | AB5: =G5*H5 -> 0 | AC5: =G5*H5 -> 0
A6: 5975A337011 | B6: 001 | C6: E59750337011 | D6: 강제전선관(노출) | E6: 아연도 16 mm | F6: m | G6: 11 | I6: =TRUNC(G6*H6) -> 0 | J6: 11 | L6: =TRUNC(G6*K6) -> 0 | N6: =TRUNC(G6*M6) -> 0 | P6: =SUM(I6,L6,N6) -> 0 | Q6: 제 1호 | AB6: =G6*H6 -> 0 | AC6: =G6*H6 -> 0
A7: 56959000001 | B7: 001 | C7: EMM496797029 | D7: 1종금속제가요전선관 | E7: 16 mm 고장력-방수 | F7: m | G7: 14 | I7: =TRUNC(G7*H7) -> 0 | J7: 14 | L7: =TRUNC(G7*K7) -> 0 | N7: =TRUNC(G7*M7) -> 0 | P7: =SUM(I7,L7,N7) -> 0 | Q7: 제 3호 | AC7: =G7*H7 -> 0
A8: 56959000002 | B8: 001 | C8: EMM496797030 | D8: 1종금속제가요전선관 | E8: 22 mm 고장력-방수 | F8: m | G8: 8 | I8: =TRUNC(G8*H8) -> 0 | J8: 8 | L8: =TRUNC(G8*K8) -> 0 | N8: =TRUNC(G8*M8) -> 0 | P8: =SUM(I8,L8,N8) -> 0 | Q8: 제 4호 | AC8: =G8*H8 -> 0
A9: MM618792342 | B9: 001 | C9: 3912120220176446 | D9: 1종금속제가요전선관 | E9: KS방수 콘넥타 16mm | F9: 개 | G9: 28 | I9: =TRUNC(G9*H9) -> 0 | J9: 28 | L9: =TRUNC(G9*K9) -> 0 | N9: =TRUNC(G9*M9) -> 0 | P9: =SUM(I9,L9,N9) -> 0
A10: MM618792343 | B10: 001 | C10: 3912120220176447 | D10: 1종금속제가요전선관 | E10: KS방수 콘넥타 22mm | F10: 개 | G10: 16 | I10: =TRUNC(G10*H10) -> 0 | J10: 16 | L10: =TRUNC(G10*K10) -> 0 | N10: =TRUNC(G10*M10) -> 0 | P10: =SUM(I10,L10,N10) -> 0
A11: E145A287512 | B11: 001 | C11: EE1450287512 | D11: 폴리에틸렌 난연케이블 | E11: 0.6/1kv F-CV 1C×95㎟ | F11: m | G11: 192 | I11: =TRUNC(G11*H11) -> 0 | J11: 192 | L11: =TRUNC(G11*K11) -> 0 | N11: =TRUNC(G11*M11) -> 0 | P11: =SUM(I11,L11,N11) -> 0 | Q11: 제 13호 | AC11: =G11*H11 -> 0
A12: E145A287509 | B12: 001 | C12: EE1450287509 | D12: 폴리에틸렌 난연케이블 | E12: 0.6/1kv F-GV 1C×50㎟ | F12: m | G12: 48 | I12: =TRUNC(G12*H12) -> 0 | J12: 48 | L12: =TRUNC(G12*K12) -> 0 | N12: =TRUNC(G12*M12) -> 0 | P12: =SUM(I12,L12,N12) -> 0 | Q12: 제 11호 | AC12: =G12*H12 -> 0
A13: E145A287513 | B13: 001 | C13: EE1450287513 | D13: 폴리에틸렌 난연케이블 | E13: 0.6/1kv F-CV 1C×120㎟ | F13: m | G13: 162 | I13: =TRUNC(G13*H13) -> 0 | J13: 162 | L13: =TRUNC(G13*K13) -> 0 | N13: =TRUNC(G13*M13) -> 0 | P13: =SUM(I13,L13,N13) -> 0 | Q13: 제 14호 | AC13: =G13*H13 -> 0
A14: E145A287511 | B14: 001 | C14: EE1450287511 | D14: 폴리에틸렌 난연케이블 | E14: 0.6/1kv F-GV 1C×70㎟ | F14: m | G14: 48 | I14: =TRUNC(G14*H14) -> 0 | J14: 48 | L14: =TRUNC(G14*K14) -> 0 | N14: =TRUNC(G14*M14) -> 0 | P14: =SUM(I14,L14,N14) -> 0 | Q14: 제 12호 | AC14: =G14*H14 -> 0
A15: E145A927202 | B15: 001 | C15: EE1450927202 | D15: 접지용비닐절연전선(F-GV) | E15: 4㎟ | F15: m | G15: 35 | I15: =TRUNC(G15*H15) -> 0 | J15: 35 | L15: =TRUNC(G15*K15) -> 0 | N15: =TRUNC(G15*M15) -> 0 | P15: =SUM(I15,L15,N15) -> 0 | Q15: 제 10호 | AC15: =G15*H15 -> 0
A16: E145A358146 | B16: 001 | C16: EE1450358146 | D16: 난연제어케이블 | E16: F-CVV 15Cx1.5㎟ | F16: m | G16: 48 | I16: =TRUNC(G16*H16) -> 0 | J16: 48 | L16: =TRUNC(G16*K16) -> 0 | N16: =TRUNC(G16*M16) -> 0 | P16: =SUM(I16,L16,N16) -> 0 | Q16: 제 17호 | AC16: =G16*H16 -> 0
A17: 56959000003 | B17: 001 | C17: EMM362692755 | D17: STP 케이블 | E17: Cat.5E 0.5mm 4P | F17: m | G17: 45 | I17: =TRUNC(G17*H17) -> 0 | J17: 45 | L17: =TRUNC(G17*K17) -> 0 | N17: =TRUNC(G17*M17) -> 0 | P17: =SUM(I17,L17,N17) -> 0 | Q17: 제 18호 | AC17: =G17*H17 -> 0
A18: E145A358065 | B18: 001 | C18: EE1450358065 | D18: 난연제어케이블 | E18: F-CVV 4Cx1.5㎟ | F18: m | G18: 15 | I18: =TRUNC(G18*H18) -> 0 | J18: 15 | L18: =TRUNC(G18*K18) -> 0 | N18: =TRUNC(G18*M18) -> 0 | P18: =SUM(I18,L18,N18) -> 0 | Q18: 제 16호 | AC18: =G18*H18 -> 0
A19: 6145F157104 | B19: 001 | C19: E61455157104 | D19: AWG 20# 6c | E19: 20# 0.5mm2/6c | F19: m | G19: 47 | I19: =TRUNC(G19*H19) -> 0 | J19: 47 | L19: =TRUNC(G19*K19) -> 0 | N19: =TRUNC(G19*M19) -> 0 | P19: =SUM(I19,L19,N19) -> 0 | Q19: 제 20호 | AC19: =G19*H19 -> 0
A20: 6145F157009 | B20: 001 | C20: E61455157009 | D20: PHC-50M-FF 케이블 | E20: PHC-50M-FF 케이블 | F20: m | G20: 23 | I20: =TRUNC(G20*H20) -> 0 | J20: 23 | L20: =TRUNC(G20*K20) -> 0 | N20: =TRUNC(G20*M20) -> 0 | P20: =SUM(I20,L20,N20) -> 0 | Q20: 제 19호 | AC20: =G20*H20 -> 0
A21: E145A358025 | B21: 001 | C21: EE1450358025 | D21: 난연제어케이블 | E21: F-CVV 2Cx1.5㎟ | F21: m | G21: 23 | I21: =TRUNC(G21*H21) -> 0 | J21: 23 | L21: =TRUNC(G21*K21) -> 0 | N21: =TRUNC(G21*M21) -> 0 | P21: =SUM(I21,L21,N21) -> 0 | Q21: 제 15호 | AC21: =G21*H21 -> 0
A22: 5975B817211 | B22: 001 | C22: E59751817211 | D22: 케이블트레이 | E22: STRAIGHT,St W200x100Hx2.3t | F22: m | G22: 31 | I22: =TRUNC(G22*H22) -> 0 | J22: 31 | L22: =TRUNC(G22*K22) -> 0 | N22: =TRUNC(G22*M22) -> 0 | P22: =SUM(I22,L22,N22) -> 0 | Q22: 제 5호
A23: 5975B817333 | B23: 001 | C23: E59751817333 | D23: 케이블트레이 | E23: COVER,St W200 | F23: m | G23: 31 | I23: =TRUNC(G23*H23) -> 0 | J23: 31 | L23: =TRUNC(G23*K23) -> 0 | N23: =TRUNC(G23*M23) -> 0 | P23: =SUM(I23,L23,N23) -> 0 | Q23: 제 6호
A24: 5975E967006 | B24: 001 | C24: E59754967006 | D24: 케이블트레이부속품 | E24: H. ELBOW, St,W200x100Hx2.3t | F24: 개 | G24: 2 | I24: =TRUNC(G24*H24) -> 0 | J24: 2 | L24: =TRUNC(G24*K24) -> 0 | N24: =TRUNC(G24*M24) -> 0 | P24: =SUM(I24,L24,N24) -> 0 | Q24: 제 7호
A25: 5975E967106 | B25: 001 | C25: E59754967106 | D25: 케이블트레이부속품 | E25: V. ELBOW, St,W200x100Hx2.3t | F25: 개 | G25: 3 | I25: =TRUNC(G25*H25) -> 0 | J25: 3 | L25: =TRUNC(G25*K25) -> 0 | N25: =TRUNC(G25*M25) -> 0 | P25: =SUM(I25,L25,N25) -> 0 | Q25: 제 8호
A26: 5975E967204 | B26: 001 | C26: E59754967204 | D26: 케이블트레이부속품 | E26: H. TEE, St, W200x100Hx2.3t | F26: 개 | G26: 1 | I26: =TRUNC(G26*H26) -> 0 | J26: 1 | L26: =TRUNC(G26*K26) -> 0 | N26: =TRUNC(G26*M26) -> 0 | P26: =SUM(I26,L26,N26) -> 0 | Q26: 제 9호
A27: 59754967501 | B27: 001 | C27: 3913170520175118 | D27: 케이블트레이부속품 | E27: JOINT CONNEC.아연도100Hx2.3 | F27: 개 | G27: 20 | I27: =TRUNC(G27*H27) -> 0 | J27: 20 | L27: =TRUNC(G27*K27) -> 0 | N27: =TRUNC(G27*M27) -> 0 | P27: =SUM(I27,L27,N27) -> 0
A28: 59754967521 | B28: 001 | C28: 3913170520175120 | D28: 케이블트레이부속품 | E28: SHANK BOLT & NUT, 아연도 | F28: 개 | G28: 80 | I28: =TRUNC(G28*H28) -> 0 | J28: 80 | L28: =TRUNC(G28*K28) -> 0 | N28: =TRUNC(G28*M28) -> 0 | P28: =SUM(I28,L28,N28) -> 0
A29: 59754967541 | B29: 001 | C29: 3913170520175122 | D29: 케이블트레이부속품 | E29: BONDING JUMPER, 16㎟ | F29: 개 | G29: 10 | I29: =TRUNC(G29*H29) -> 0 | J29: 10 | L29: =TRUNC(G29*K29) -> 0 | N29: =TRUNC(G29*M29) -> 0 | P29: =SUM(I29,L29,N29) -> 0
A30: 59754967601 | B30: 001 | C30: 3913170520175128 | D30: 케이블트레이부속품 | E30: U CHANNEL, 41x41x2.6t | F30: m | G30: 15 | I30: =TRUNC(G30*H30) -> 0 | J30: 15 | L30: =TRUNC(G30*K30) -> 0 | N30: =TRUNC(G30*M30) -> 0 | P30: =SUM(I30,L30,N30) -> 0
A31: 56959000004 | B31: 001 | C31: EMM064084122 | D31: 폴리에틸렌 난연케이블 철거- | E31: 0.6/1kv F-CV 1C×70㎟ | F31: m | G31: 140 | I31: =TRUNC(G31*H31) -> 0 | J31: 140 | L31: =TRUNC(G31*K31) -> 0 | N31: =TRUNC(G31*M31) -> 0 | P31: =SUM(I31,L31,N31) -> 0 | Q31: 제 21호 | AC31: =G31*H31 -> 0
A32: 56959000005 | B32: 001 | C32: EMM064084123 | D32: 폴리에틸렌 난연케이블 철거- | E32: 0.6/1kv F-CV 1C×95㎟ | F32: m | G32: 163 | I32: =TRUNC(G32*H32) -> 0 | J32: 163 | L32: =TRUNC(G32*K32) -> 0 | N32: =TRUNC(G32*M32) -> 0 | P32: =SUM(I32,L32,N32) -> 0 | Q32: 제 22호 | AC32: =G32*H32 -> 0
I33: =TRUNC(G33*H33) -> 0 | L33: =TRUNC(G33*K33) -> 0 | N33: =TRUNC(G33*M33) -> 0 | P33: =SUM(I33,L33,N33) -> 0
I34: =TRUNC(G34*H34) -> 0 | L34: =TRUNC(G34*K34) -> 0 | N34: =TRUNC(G34*M34) -> 0 | P34: =SUM(I34,L34,N34) -> 0
I35: =TRUNC(G35*H35) -> 0 | L35: =TRUNC(G35*K35) -> 0 | N35: =TRUNC(G35*M35) -> 0 | P35: =SUM(I35,L35,N35) -> 0
B36: 합계줄 | D36: ( 합 계 ) | I36: =TRUNC(SUM(I4:I35)) -> 0 | L36: =TRUNC(SUM(L4:L35)) -> 0 | N36: =TRUNC(SUM(N4:N35)) -> 0 | P36: =TRUNC(SUM(P4:P35)) -> 0
D39: 명 칭 | E39: 규 격 | F39: 단위 | G39: 수량 | H39: 재료비 | J39: 노무비 | M39: 경비 | P39: 계 | Q39: 비고
H40: 단가 | I40: 금액 | J40: 수량 | K40: 단가 | L40: 금액 | M40: 단가 | N40: 금액 | O40: 단가
D41: 2. 고재처리 | E41: 0.6/1kv F-CV 1C×70㎟ | F41: m | G41: 140 | I41: =TRUNC(G41*H41) -> 0 | L41: =TRUNC(G41*K41) -> 0 | N41: =TRUNC(G41*M41) -> 0 | P41: =SUM(I41,L41,N41) -> 0
E42: 0.6/1kv F-CV 1C×95㎟ | F42: m | G42: 163 | I42: =TRUNC(G42*H42) -> 0 | L42: =TRUNC(G42*K42) -> 0 | N42: =TRUNC(G42*M42) -> 0 | P42: =SUM(I42,L42,N42) -> 0
D43: ( 합 계 ) | I43: =SUM(I41:I42) -> 0 | L43: =TRUNC(G43*K43) -> 0 | N43: =TRUNC(G43*M43) -> 0 | P43: =SUM(I43,L43,N43) -> 0

Sheet 합산자재
A1: 총줄수-> | B1: 55 | C1: [유입펌프장 탈취설비 교체 전기공사 - 합산자재목록
A2: 번호 | B2: … | C2: 코드 | D2: 명 칭 | E2: 규 격 | F2: 단위 | G2: 수량 | H2: 재료비 | I2: 노무비 | J2: 경비 | K2: 지급비 | L2: 계 | M2: 비고
C4: 3913170620935608 | D4: 강제전선관(노출) | E4: 아연도 16 mm | F4: m | G4: 12.1 | H4: =TRUNC(#REF!*옵션!$D$11) -> #REF! | L4: =SUM(H4,I4,J4) -> #REF!
C5: 3913170620935617 | D5: 강제전선관(노출) | E5: 아연도 104 mm | F5: m | G5: 1.1 | H5: =TRUNC(#REF!*옵션!$D$11) -> #REF! | L5: =SUM(H5,I5,J5) -> #REF!
C6: 3913170620174470 | D6: 1종금속제가요전선관 | E6: 16 mm 고장력-방수 | F6: m | G6: 15.4 | H6: =TRUNC(#REF!*옵션!$D$11) -> #REF! | L6: =SUM(H6,I6,J6) -> #REF!
C7: 3913170620174471 | D7: 1종금속제가요전선관 | E7: 22 mm 고장력-방수 | F7: m | G7: 8.8 | H7: =TRUNC(#REF!*옵션!$D$11) -> #REF! | L7: =SUM(H7,I7,J7) -> #REF!
C8: 3912120220176446 | D8: 1종금속제가요전선관 | E8: KS방수 콘넥타 16mm | F8: 개 | G8: 28 | H8: =TRUNC(#REF!*옵션!$D$11) -> #REF! | L8: =SUM(H8,I8,J8) -> #REF!
C9: 3912120220176447 | D9: 1종금속제가요전선관 | E9: KS방수 콘넥타 22mm | F9: 개 | G9: 16 | H9: =TRUNC(#REF!*옵션!$D$11) -> #REF! | L9: =SUM(H9,I9,J9) -> #REF!
C10: 3913170420174047 | D10: 케이블트레이 | E10: STRAIGHT,St W200x100Hx2.3t | F10: m | G10: 32.55 | H10: =TRUNC(#REF!*옵션!$D$11) -> #REF! | L10: =SUM(H10,I10,J10) -> #REF!
C11: 3913170420171160 | D11: 케이블트레이 | E11: COVER,St W200 | F11: m | G11: 32.55 | H11: =TRUNC(#REF!*옵션!$D$11) -> #REF! | L11: =SUM(H11,I11,J11) -> #REF!
C12: 3913170520175049 | D12: 케이블트레이부속품 | E12: H. ELBOW, St,W200x100Hx2.3t | F12: 개 | G12: 2 | H12: =TRUNC(#REF!*옵션!$D$11) -> #REF! | L12: =SUM(H12,I12,J12) -> #REF!
C13: 3913170520175063 | D13: 케이블트레이부속품 | E13: V. ELBOW, St,W200x100Hx2.3t | F13: 개 | G13: 3 | H13: =TRUNC(#REF!*옵션!$D$11) -> #REF! | L13: =SUM(H13,I13,J13) -> #REF!
C14: 3913170520175077 | D14: 케이블트레이부속품 | E14: H. TEE, St, W200x100Hx2.3t | F14: 개 | G14: 1 | H14: =TRUNC(#REF!*옵션!$D$11) -> #REF! | L14: =SUM(H14,I14,J14) -> #REF!
C15: 3913170520175118 | D15: 케이블트레이부속품 | E15: JOINT CONNEC.아연도100Hx2.3 | F15: 개 | G15: 20 | H15: =TRUNC(#REF!*옵션!$D$11) -> #REF! | L15: =SUM(H15,I15,J15) -> #REF!
... C27: 2612160921650751 | D27: STP 케이블 | E27: Cat.5E 0.5mm 4P | F27: m | G27: 48.375 | H27: =TRUNC(#REF!*옵션!$D$11) -> #REF! | L27: =SUM(H27,I27,J27) -> #REF!
C28: 2612160620185693 | D28: PHC-50M-FF 케이블 | E28: PHC-50M-FF 케이블 | F28: m | G28: 24.725 | H28: =TRUNC(#REF!*옵션!$D$11) -> #REF! | L28: =SUM(H28,I28,J28) -> #REF! | M28: 사급
C29: 2612160620185701 | D29: AWG 20# 6c | E29: 20# 0.5mm2/6c | F29: m | G29: 50.525 | H29: =TRUNC(#REF!*옵션!$D$11) -> #REF! | L29: =SUM(H29,I29,J29) -> #REF!
C30: 391115ZZ701Z0001 | D30: 폴리에틸렌 난연케이블 철거- | E30: 0.6/1kv F-CV 1C×70㎟ | F30: m | G30: 140 | H30: =TRUNC([1]단가조사!G30*[1]옵션!$D$11) -> 0 | L30: =SUM(H30,I30,J30) -> 0
C31: 391115ZZ701Z0002 | D31: 폴리에틸렌 난연케이블 철거- | E31: 0.6/1kv F-CV 1C×95㎟ | F31: m | G31: 163 | H31: =TRUNC([1]단가조사!G31*[1]옵션!$D$11) -> 0 | L31: =SUM(H31,I31,J31) -> 0
C32: 40000ZZ890000148 | D32: 고재처리 | E32: 고동 | F32: Kg | G32: -226.493 | H32: =TRUNC([1]단가조사!G32*[1]옵션!$D$11) -> -14100 | L32: =SUM(H32,I32,J32) -> -14100
C33: L001010101000075 | D33: 노 무 비 | E33: 내선전공 | F33: 인 | G33: 13.247 | I33: =TRUNC(#REF!) -> #REF! | L33: =SUM(H33,I33,J33) -> #REF!
C34: L001010101000078 | D34: 노 무 비 | E34: 저압케이블전공 | F34: 인 | G34: 35.728 | I34: =TRUNC(#REF!) -> #REF! | L34: =SUM(H34,I34,J34) -> #REF!
C35: L001010101000089 | D35: 노 무 비 | E35: 통신케이블공 | F35: 인 | G35: 2.2974 | I35: =TRUNC(#REF!) -> #REF! | L35: =SUM(H35,I35,J35) -> #REF!

Sheet 옵션
B1: 재료비 | C1: 노무비 | D1: 경비 | F1: 계
A2: 총 급 액 | B2: =총괄표!#REF! -> #REF! | C2: =총괄표!#REF! -> #REF! | D2: =총괄표!#REF! -> #REF! | F2: =SUM(B2,C2,D2) -> #REF!
A3: 관급 자재비 | F3: =SUM(B3,C3,D3) -> 0 | H3: 금액조정이 안되나요?
H6: 이지테크에서 변환할 때 2번 옵션을 지정하여 다시 해보세요
H9: 시트를 삭제할 때 에러가 뜨면 1번 옵션으로 하면 됩니다.
B10: 적용율(%) | C10: 끝자리 | D10: 적용율(%)/100 | E10: 일위대가소수
A11: 전체자재 적용율(%)(공종/일위대가) | B11: 100 | C11: 1 | D11: =$B$11/100 -> 1
A12: 전체노임 적용율(%)(공종) | B12: 100 | C12: 1 | D12: =$B$12/100 -> 1 | E12: 2 | H12: 2번 옵션으로 변환했을 때에는 결과값이 다를 수 있습니다.
A13: 전체노임 적용율(%)(일위대가) | B13: 100 | C13: 1 | D13: =$B$13/100 -> 1 | E13: 5
A20: *(그룹별 자재 단가 추가 할증)* | B20: 적용율(%) | D20: 적용율(%)/100
A21: Cable(CAB) 할증(%) | B21: =B11 -> 100 | D21: =$B$21/100 -> 1
A22: Wire (WIR) 할증(%) | B22: =B11 -> 100 | D22: =$B$22/100 -> 1
A23: Pipe (PIP) 할증(%) | B23: =B11 -> 100 | D23: =$B$23/100 -> 1
A24: 제 4그룹 할증(%) | B24: =B11 -> 100 | D24: =$B$24/100 -> 1
A25: 제 5그룹 할증(%) | B25: =B11 -> 100 | D25: =$B$25/100 -> 1
A30: *(그룹별 노임 추가 할증)* | B30: 적용율(%) | C30: 자동부속재(전기) | D30: 자동부속재(통신)
A31: 배관부속재(%) | B31: 15 | C31: 15 | D31: 20
A32: CD관부속재(%) | B32: 40 | C32: 40 | D32: 40
A33: 소모잡자재(%) | B33: 2 | H33: 본 파일은 이지테크에서 2번 옵션으로 만들었습니다.
A34: 방폭할증(%)
A35: 고소할증(%) | B35: 2
A36: 공구손료(%) | B36: 3
A40: *(공종별 노임 적용율(%))* | B40: 적용율(%) | C40: 소수자릿수
A41: 1. 전기공사 | B41: 100 | C41: 3

Sheet 사용설명
B1: ** 반드시 다음 사항을 숙지하신 다음 수정 작업을 하십시오 **
A2: 1. | B2: 속성이 숫자인 셀을 삭제할 때는 반드시 'Delete' 키를 사용하십시오.
B3: **주의:'Space Bar' 로 지웠을 때는 '#Value' Error가 발생됩니다.
A4: 2. | B4: 일위대가(을지)는 소수점 처리 때문에 셀 속성을 '일반'으로 하였습니다.(소수점 능동 처리)
B5: **참고: (수량*단가)의 결과는 소수 한자리, 금액을 취합한 소계는 1원 이하 절사입니다.
A6: 3. | B6: 내역서에서는 수량에만 셀 속성을 '일반'으로 하였습니다.(소수점 능동 처리)
A7: 4. | B7: 단가수정은 '단가조사서'시트 에서 하십시오.
B8: a)표지와 원가 -> 총괄표 -> 내역서 ->일위대가와 합산자재 ->단가조사서 를 참조하고
B9: 있으므로 단가조사서의 결정단가를 수정하면 전체 금액이 갱신됩니다.
B10: **주의: 금액란은 공식이 걸려있으므로 조심하여 수정하십시오.
B11: b)전체 자재를 일정 요율(%)로 변경할 때는 옵션시트의 자재 적용율을 조정하면 됩니다.
A12: 5. | B12: 노임 단가는 '단가조사서'시트에서 품셈은 '노임근거'시트에서 수정하십시오.
B13: a)전체 노임을 일정 요율(%)로 변경할 때는 '옵션시트'의 전체노임 적용율을 조정하면 됩니다.
B14: b)공종별로 노임을 수정하려면 '옵션시트'의 공종별 노임 적용율을 조정하면 됩니다.
B15: c)케이블 및 전선 자재 단가를 추가로 조정하려면 그룹별 자재 적용율을 조정하면 됩니다.
B16: 그룹은 견적 프로그램에서 엑셀파일이 만들어질때 지정됩니다.
A17: 6. | B17: 겉표지의 모든 정보는 표지를 참조하였습니다.(정보 수정은 표지에서만 하시면 됩니다.)
A18: 7. | B18: 필수 :본 프로그램의 총 금액을 확인한 후 사용하십시오.
A19: 8. | B19: 본 파일의 내용을 인쇄할 경우, 미리보기를 통하여 페이지 절선을 확인 후 인쇄하십시오.
A20: 9. | B20: 관급자재 Sheet가 해당이 없을 경우엔 삭제하십시오.
A21: 10. | B21: 페이지 절선이 맞지 않으면 다음을 참고하십시오.
B33: a. 해당시트의 셀 전체를 선택합니다.
B34: b. 행높이를 적절히 가감하면 페이지 절선을 맞출 수 있습니다.
