Workbook

Sheet 내역서
A1: 내역서
A2: 공 종 명 | B2: 규 격 | C2: 수량 | D2: 단위 | E2: 합 계 | G2: 재 료 비 | I2: 노 무 비 | K2: 경 비 | M2: 비 고
E3: 단 가 | F3: 금 액 | G3: 단 가 | H3: 금 액 | I3: 단 가 | J3: 금 액 | K3: 단 가 | L3: 금 액 | S3: 할 증 | T3: 화폐변환 | U3: OP값 | V3: EQ | W3: LA | X3: MA | Y3: 금액계상
A4: 2026년 호반체육관 우수관로 복구 공사 | C4: 0 | F4: =H4+J4+L4 -> 336694000 | H4: =TRUNC(H5+H6+H7+H8+H9+H11+H12+H13+H14+H15+H16+H17+H18+H19+H20+H21+H22+H23+H24+H25+H27+H28+H30+H32+H33,0) -> 142542927 | J4: =TRUNC(J5+J6+J7+J8+J9+J11+J12+J13+J14+J15+J16+J17+J18+J19+J20+J21+J22+J23+J24+J25+J27+J28+J30+J32+J33,0) -> 90478417 | L4: =TRUNC(L5+L6+L7+L8+L9+L11+L12+L13+L14+L15+L16+L17+L18+L19+L20+L21+L22+L23+L24+L25+L27+L28+L30+L32+L33,0) -> 103672656 | O4: A
A5: 1. 토 공 | C5: 1 | D5: 식 | E5: =G5+I5+K5 -> 16069066 | F5: =H5+J5+L5 -> 16069066 | G5: =H36 -> 3592214 | H5: =TRUNC(G5*C5,0) -> 3592214 | I5: =J36 -> 9178031 | J5: =TRUNC(I5*C5,0) -> 9178031 | K5: =L36 -> 3298821 | L5: =TRUNC(K5*C5,0) -> 3298821 | P5: 10 | R5: A01 | BI5: =HYPERLINK("#내역서!A36","A01 →") -> A01 →
A6: 2. 우 수 공 | C6: 1 | D6: 식 | E6: =G6+I6+K6 -> 87553687 | F6: =H6+J6+L6 -> 87553687 | G6: =H49 -> 22586272 | H6: =TRUNC(G6*C6,0) -> 22586272 | I6: =J49 -> 59377271 | J6: =TRUNC(I6*C6,0) -> 59377271 | K6: =L49 -> 5590144 | L6: =TRUNC(K6*C6,0) -> 5590144 | P6: 20 | R6: A02 | BI6: =HYPERLINK("#내역서!A49","A02 →") -> A02 →
A7: 3. 포 장 공 | C7: 1 | D7: 식 | E7: =G7+I7+K7 -> 6445487 | F7: =H7+J7+L7 -> 6445487 | G7: =H71 -> 1231818 | H7: =TRUNC(G7*C7,0) -> 1231818 | I7: =J71 -> 4134367 | J7: =TRUNC(I7*C7,0) -> 4134367 | K7: =L71 -> 1079302 | L7: =TRUNC(K7*C7,0) -> 1079302 | P7: 40 | R7: A06 | BI7: =HYPERLINK("#내역서!A71","A06 →") -> A06 →
A8: 4. 부 대 공 | C8: 1 | D8: 식 | E8: =G8+I8+K8 -> 1944080 | F8: =H8+J8+L8 -> 1944080 | G8: =H84 -> 346763 | H8: =TRUNC(G8*C8,0) -> 346763 | I8: =J84 -> 266135 | J8: =TRUNC(I8*C8,0) -> 266135 | K8: =L84 -> 1331182 | L8: =TRUNC(K8*C8,0) -> 1331182 | P8: 50 | R8: A07 | BI8: =HYPERLINK("#내역서!A84","A07 →") -> A07 →
A9: 5. 사 급 자 재 대 | C9: 1 | D9: 식 | E9: =G9+I9+K9 -> 19599380 | F9: =H9+J9+L9 -> 19599380 | G9: =H94 -> 19599380 | H9: =TRUNC(G9*C9,0) -> 19599380 | I9: =J94 -> 0 | J9: =TRUNC(I9*C9,0) -> 0 | K9: =L94 -> 0 | L9: =TRUNC(K9*C9,0) -> 0 | P9: 60 | R9: A10 | AA9: MA+ = | AB9: =(내역서!H5+내역서!H6+내역서!H7+내역서!H8+내역서!H9) -> 47356447 | AC9: MA = | AD9: =$AB9 -> 47356447 | BI9: =HYPERLINK("#내역서!A94","A10 →") -> A10 →
A10: 소 계 | E10: =G10+I10+K10 -> 0 | F10: =H10+J10+L10 -> 131611700 | H10: =TRUNC((H5+H6+H7+H8+H9),0) -> 47356447 | J10: =TRUNC((J5+J6+J7+J8+J9),0) -> 72955804 | L10: =TRUNC((L5+L6+L7+L8+L9),0) -> 11299449 | P10: 70 | Q10: * | R10: F | X10: ma=ma(10,0,60)_x000D_ LA=LA(10,0,60)_x000D_ EQ=EQ(10,0,60) | AA10: LA+ = | AB10: =내역서!J10*(내역서!C11*전역변수!C7)/100 -> 13934559 | AC10: LA = | AD10: =$AB10 -> 13934559
A11: 6. 간 접 노 무 비 | B11: 직노의 | C11: 19.1 | D11: % | E11: =G11+I11+K11 -> 0 | F11: =H11+J11+L11 -> 13934558 | H11: 0 | J11: =TRUNC((J10*(C11*전역변수!C7)/100),0) -> 13934558 | L11: 0 | P11: 80 | R11: F | X11: .LA=LA(70)*qty()/100 | AA11: EQ+ = | AB11: =(내역서!J10+(내역서!J11*전역변수!C7))*(내역서!C12*전역변수!C7)/100 -> 3093296.9 | AC11: EQ = | AD11: =$AB11 -> 3093296.9
A12: 7. 산 재 보 험 료 | B12: (직노+간노)의 | C12: 3.56 | D12: % | E12: =G12+I12+K12 -> 0 | F12: =H12+J12+L12 -> 3093296 | H12: 0 | J12: 0 | L12: =TRUNC(((J10+(J11*전역변수!C7))*(C12*전역변수!C7)/100),0) -> 3093296 | P12: 90 | R12: F | X12: .EQ=LA(70,0,80)*qty()/100 | AA12: EQ+ = | AB12: =(내역서!J10+(내역서!J11*전역변수!C7))*(내역서!C13*전역변수!C7)/100 -> 877592.66 | AC12: EQ = | AD12: =$AB12 -> 877592.66
A13: 8. 고 용 보 험 료 | B13: (직노+간노)의 | C13: 1.01 | D13: % | E13: =G13+I13+K13 -> 0 | F13: =H13+J13+L13 -> 877592 | H13: 0 | J13: 0 | L13: =TRUNC(((J10+(J11*전역변수!C7))*(C13*전역변수!C7)/100),0) -> 877592 | P13: 100 | R13: F | X13: .EQ=LA(70,0,80)*qty()/100 | AA13: EQ+ = | AB13: =(내역서!J10+(내역서!J11*전역변수!C7))*(내역서!C14*전역변수!C7)/100 -> 5213.4217 | AC13: EQ = | AD13: =$AB13 -> 5213.4217
A14: 9. 석면분담금 | B14: (직노+간노)의 | C14: 0.006 | D14: % | E14: =G14+I14+K14 -> 0 | F14: =H14+J14+L14 -> 5213 | H14: 0 | J14: 0 | L14: =TRUNC(((J10+(J11*전역변수!C7))*(C14*전역변수!C7)/100),0) -> 5213 | P14: 110 | R14: F | X14: .EQ=LA(70,0,80)*qty()/100 | AA14: EQ+ = | AB14: =(내역서!J10+(내역서!J11*전역변수!C7))*(내역서!C15*전역변수!C7)/100 -> 78201.326 | AC14: EQ = | AD14: =$AB14 -> 78201.326
A15: 10. 임금채권부담금 | B15: (직노+간노)의 | C15: 0.09 | D15: % | E15: =G15+I15+K15 -> 0 | F15: =H15+J15+L15 -> 78201 | H15: 0 | J15: 0 | L15: =TRUNC(((J10+(J11*전역변수!C7))*(C15*전역변수!C7)/100),0) -> 78201 | P15: 120 | R15: F | X15: .EQ=LA(70,0,80)*qty()/100 | AA15: EQ+ = | AB15: =내역서!J10*(내역서!C16*전역변수!C7)/100 -> 2622761.2 | AC15: EQ = | AD15: =$AB15 -> 2622761.2
A16: 11. 건 강 보 험 료 | B16: 직노의 | C16: 3.595 | D16: % | E16: =G16+I16+K16 -> 0 | F16: =H16+J16+L16 -> 2622761 | H16: 0 | J16: 0 | L16: =TRUNC((J10*(C16*전역변수!C7)/100),0) -> 2622761 | P16: 130 | R16: F | X16: .EQ=LA(70)*qty()/100 | AA16: EQ+ = | AB16: =내역서!J10*(내역서!C17*전역변수!C7)/100 -> 3465400.7 | AC16: EQ = | AD16: =$AB16 -> 3465400.7
A17: 12. 연 금 보 험 료 | B17: 직노의 | C17: 4.75 | D17: % | E17: =G17+I17+K17 -> 0 | F17: =H17+J17+L17 -> 3465400 | H17: 0 | J17: 0 | L17: =TRUNC((J10*(C17*전역변수!C7)/100),0) -> 3465400 | P17: 140 | R17: F | X17: .EQ=LA(70)*qty()/100 | AA17: EQ+ = | AB17: =((내역서!H16+내역서!J16+내역서!L16)*전역변수!C7)*(내역서!C18*전역변수!C7)/100 -> 344630.8 | AC17: EQ = | AD17: =$AB17 -> 344630.8
A18: 13. 노인장기요양보험료 | B18: 건강보험료의 | C18: 13.14 | D18: % | E18: =G18+I18+K18 -> 0 | F18: =H18+J18+L18 -> 344630 | H18: 0 | J18: 0 | L18: =TRUNC((((H16+J16+L16)*전역변수!C7)*(C18*전역변수!C7)/100),0) -> 344630 | P18: 150 | R18: F | X18: .EQ=TOT(130)*qty()/100 | AA18: EQ+ = | AB18: =내역서!J10*(내역서!C19*전역변수!C7)/100 -> 1677983.5 | AC18: EQ = | AD18: =$AB18 -> 1677983.5
A19: 14. 퇴직공제부금비 | B19: 직노의 | C19: 2.3 | D19: % | E19: =G19+I19+K19 -> 0 | F19: =H19+J19+L19 -> 1677983 | H19: 0 | J19: 0 | L19: =TRUNC((J10*(C19*전역변수!C7)/100),0) -> 1677983 | P19: 160 | R19: F | X19: .EQ=LA(70)*qty()/100 | AA19: EQ+ = | AB19: =(내역서!H10+내역서!J10+내역서!L10)*(내역서!C20*전역변수!C7)/100 -> 671219.67 | AC19: EQ = | AD19: =$AB19 -> 671219.67
A20: 15. 건설기계보증수수료 | B20: 직접공사비의 | C20: 0.51 | D20: % | E20: =G20+I20+K20 -> 0 | F20: =H20+J20+L20 -> 671219 | H20: 0 | J20: 0 | L20: =TRUNC(((H10+J10+L10)*(C20*전역변수!C7)/100),0) -> 671219 | P20: 180 | R20: F | X20: .eq=tot(70)*qty()/100 | AA20: EQ+ = | AB20: =((내역서!J10+내역서!H10)*(내역서!C21*전역변수!C7)/100)*1.2 -> 4547803.1 | AC20: EQ = | AD20: =$AB20 -> 4547803.1
A21: 16. 산업안전보건관리비 | B21: (재+직노)의 | C21: 3.15 | D21: % | E21: =G21+I21+K21 -> 0 | F21: =H21+J21+L21 -> 4547803 | H21: 0 | J21: 0 | L21: =TRUNC((((J10+H10)*(C21*전역변수!C7)/100)*1.2),0) -> 4547803 | P21: 190 | R21: F | X21: .EQ=((LA(70)+MA(70))*qty()/100)*1.2 | AA21: EQ+ = | AB21: =(내역서!H10+내역서!J10+내역서!L10)*(내역서!C22*전역변수!C7)/100 -> 658058.5 | AC21: EQ = | AD21: =$AB21 -> 658058.5
A22: 17. 환 경 보 전 비 | B22: 직접공사비의 | C22: 0.5 | D22: % | E22: =G22+I22+K22 -> 0 | F22: =H22+J22+L22 -> 658058 | H22: 0 | J22: 0 | L22: =TRUNC(((H10+J10+L10)*(C22*전역변수!C7)/100),0) -> 658058 | P22: 200 | R22: F | X22: .EQ=TOT(70)*qty()/100 | AA22: EQ+ = | AB22: =(내역서!H10+(내역서!J10+(내역서!J11*전역변수!C7)))*(내역서!C23*전역변수!C7)/100 -> 7383574.5 | AC22: EQ = | AD22: =$AB22 -> 7383574.5
A23: 18. 기 타 경 비 | B23: (재+직간노)의 | C23: 5.5 | D23: % | E23: =G23+I23+K23 -> 0 | F23: =H23+J23+L23 -> 7383574 | H23: 0 | J23: 0 | L23: =TRUNC(((H10+(J10+(J11*전역변수!C7)))*(C23*전역변수!C7)/100),0) -> 7383574 | P23: 210 | R23: F | X23: .EQ=(MA(70)+LA(70,0,80))*qty()/100 | AA23: EQ+ = | AB23: =(내역서!H10+내역서!J10+내역서!L10)*(내역서!C24*전역변수!C7)/100 -> 0 | AC23: EQ = | AD23: =$AB23 -> 0
A24: 19. 건설하도급대금지급보증서발급수수료 | B24: 직접공사비의 | D24: % | E24: =G24+I24+K24 -> 0 | F24: =H24+J24+L24 -> 0 | H24: 0 | J24: 0 | L24: =TRUNC(((H10+J10+L10)*(C24*전역변수!C7)/100),0) -> 0 | P24: 220 | R24: F | X24: .eq=tot(70)*qty()/100
A25: 20. 안 전 관 리 비 | C25: 1 | D25: 식 | E25: =G25+I25+K25 -> 5622055 | F25: =H25+J25+L25 -> 5622055 | G25: =H111 -> 2034000 | H25: =TRUNC(G25*C25,0) -> 2034000 | I25: =J111 -> 3588055 | J25: =TRUNC(I25*C25,0) -> 3588055 | K25: =L111 -> 0 | L25: =TRUNC(K25*C25,0) -> 0 | P25: 250 | R25: A12 | AA25: MA+ = | AB25: =(내역서!H10+(내역서!H11*전역변수!C7)+(내역서!H12*전역변수!C7)+(내역서!H13*전역변수!C7)+(내역서!H14*전역변수!C7)+(내역서!H15*전역변수!C7)+(내역서!H16*전역변수!C7)+(내역서!H17*전역변수!C7)+(내역서!H18*전역변수!C7)+(내역서!H19*전역변수!C7)+(내역서!H20*전역변수!C7)+(내역서!H21*전역변수!C7)+(내역서!H22*전역변수!C7)+(내역서!H23*전역변수!C7)+(내역서!H24*전역변수!C7)+내역서!H25) -> 49390447 | AC25: MA = | AD25: =$AB25 -> 49390447 | BI25: =HYPERLINK("#내역서!A111","A12 →") -> A12 →
A26: 순 공 사 비 | E26: =G26+I26+K26 -> 0 | F26: =H26+J26+L26 -> 176594043 | H26: =TRUNC((H10+(H11*전역변수!C7)+(H12*전역변수!C7)+(H13*전역변수!C7)+(H14*전역변수!C7)+(H15*전역변수!C7)+(H16*전역변수!C7)+(H17*전역변수!C7)+(H18*전역변수!C7)+(H19*전역변수!C7)+(H20*전역변수!C7)+(H21*전역변수!C7)+(H22*전역변수!C7)+(H23*전역변수!C7)+(H24*전역변수!C7)+H25),0) -> 49390447 | J26: =TRUNC((J10+(J11*전역변수!C7)+(J12*전역변수!C7)+(J13*전역변수!C7)+(J14*전역변수!C7)+(J15*전역변수!C7)+(J16*전역변수!C7)+(J17*전역변수!C7)+(J18*전역변수!C7)+(J19*전역변수!C7)+(J20*전역변수!C7)+(J21*전역변수!C7)+(J22*전역변수!C7)+(J23*전역변수!C7)+(J24*전역변수!C7)+J25),0) -> 90478417 | L26: =TRUNC((L10+(L11*전역변수!C7)+(L12*전역변수!C7)+(L13*전역변수!C7)+(L14*전역변수!C7)+(L15*전역변수!C7)+(L16*전역변수!C7)+(L17*전역변수!C7)+(L18*전역변수!C7)+(L19*전역변수!C7)+(L20*전역변수!C7)+(L21*전역변수!C7)+(L22*전역변수!C7)+(L23*전역변수!C7)+(L24*전역변수!C7)+L25),0) -> 36725179 | P26: 260 | Q26: * | R26: F | X26: .MA=MA(70,0,250)_x000D_ .LA=LA(70,0,250)_x000D_ .EQ=EQ(70,0,250) | AA26: EQ+ = | AB26: =(내역서!H26+내역서!J26+내역서!L26)*(내역서!C27*전역변수!C7)/100 -> 14127523 | AC26: EQ = | AD26: =$AB26 -> 14127523
A27: 21. 일 반 관 리 비 | B27: 순공사비의 | C27: 8 | D27: % | E27: =G27+I27+K27 -> 0 | F27: =H27+J27+L27 -> 14127523 | H27: 0 | J27: 0 | L27: =TRUNC(((H26+J26+L26)*(C27*전역변수!C7)/100),0) -> 14127523 | P27: 270 | R27: F | X27: .EQ=TOT(260)*qty()/100 | AA27: EQ+ = | AB27: =(((내역서!H26+내역서!J26+내역서!L26)+((내역서!H27+내역서!J27+내역서!L27)*전역변수!C7))-내역서!H10)*(내역서!C28*전역변수!C7)/100-12966/1.1 -> 21492981 | AC27: EQ = | AD27: =$AB27 -> 21492981
A28: 22. 이 윤 | B28: (노+경+일반)의 | C28: 15 | D28: % | E28: =G28+I28+K28 -> 0 | F28: =H28+J28+L28 -> 21492980 | H28: 0 | J28: 0 | L28: =TRUNC(((((H26+J26+L26)+((H27+J27+L27)*전역변수!C7))-H10)*(C28*전역변수!C7)/100-12966/1.1),0) -> 21492980 | P28: 280 | R28: F | X28: .EQ=(TOT(260,0,270)-MA(70))*qty()/100-12966/1.1 | AA28: MA+ = | AB28: =(내역서!H26+(내역서!H27*전역변수!C7)+(내역서!H28*전역변수!C7)) -> 49390447 | AC28: MA = | AD28: =$AB28 -> 49390447
A29: 공 급 가 액 | E29: =G29+I29+K29 -> 0 | F29: =H29+J29+L29 -> 212214546 | H29: =TRUNC((H26+(H27*전역변수!C7)+(H28*전역변수!C7)),0) -> 49390447 | J29: =TRUNC((J26+(J27*전역변수!C7)+(J28*전역변수!C7)),0) -> 90478417 | L29: =TRUNC((L26+(L27*전역변수!C7)+(L28*전역변수!C7)),0) -> 72345682 | P29: 300 | Q29: * | R29: F | X29: .MA=MA(260,0,290)_x000D_ .LA=LA(260,0,290)_x000D_ .EQ=EQ(260,0,290) | AA29: EQ+ = | AB29: =(내역서!H29+내역서!J29+내역서!L29)*(내역서!C30*전역변수!C7)/100 -> 21221455 | AC29: EQ = | AD29: =$AB29 -> 21221455
A30: 23. 부 가 가 치 세 | B30: 공급가액의 | C30: 10 | D30: % | E30: =G30+I30+K30 -> 0 | F30: =H30+J30+L30 -> 21221454 | H30: 0 | J30: 0 | L30: =TRUNC(((H29+J29+L29)*(C30*전역변수!C7)/100),0) -> 21221454 | P30: 310 | R30: F | X30: .EQ=TOT(300)*qty()/100 | AA30: MA+ = | AB30: =(내역서!H29+(내역서!H30*전역변수!C7)) -> 49390447 | AC30: MA = | AD30: =$AB30 -> 49390447
A31: 도 급 예 정 액 | E31: =G31+I31+K31 -> 0 | F31: =H31+J31+L31 -> 233436000 | H31: =TRUNC((H29+(H30*전역변수!C7)),0) -> 49390447 | J31: =TRUNC((J29+(J30*전역변수!C7)),0) -> 90478417 | L31: =TRUNC((L29+(L30*전역변수!C7)),0) -> 93567136 | P31: 320 | Q31: * | R31: F | X31: .MA = MA(300,0,310)_x000D_ .LA = LA(300,0,310)_x000D_ .EQ = EQ(300,0,310) | AA31: LA+ = | AB31: =(내역서!J29+(내역서!J30*전역변수!C7)) -> 90478417 | AC31: LA = | AD31: =$AB31 -> 90478417
A32: 24. 관 급 자 재 대 | C32: 1 | D32: 식 | E32: =G32+I32+K32 -> 93658000 | F32: =H32+J32+L32 -> 93658000 | G32: =H117 -> 93152480 | H32: =TRUNC(G32*C32,0) -> 93152480 | I32: =J117 -> 0 | J32: =TRUNC(I32*C32,0) -> 0 | K32: =L117 -> 505520 | L32: =TRUNC(K32*C32,0) -> 505520 | P32: 330 | R32: A15 | AA32: EQ+ = | AB32: =(내역서!L29+(내역서!L30*전역변수!C7)) -> 93567136 | AC32: EQ = | AD32: =$AB32 -> 93567136 | BI32: =HYPERLINK("#내역서!A117","A15 →") -> A15 →
A33: 25. 폐 기 물 처 리 | C33: 1 | D33: 식 | E33: =G33+I33+K33 -> 9600000 | F33: =H33+J33+L33 -> 9600000 | G33: =TRUNC(X33,2) -> 0 | H33: =TRUNC(G33*C33,0) -> 0 | I33: =TRUNC(W33,2) -> 0 | J33: =TRUNC(I33*C33,0) -> 0 | K33: =TRUNC(V33,2) -> 9600000 | L33: =TRUNC(K33*C33,0) -> 9600000 | P33: 340 | R33: G | V33: 9600000 | W33: 0 | X33: 0 | AA33: MA+ = | AB33: =(내역서!H31+내역서!H32+내역서!H33) -> 142542927 | AC33: MA = | AD33: =$AB33 -> 142542927
A34: 총 공 사 비 | E34: =G34+I34+K34 -> 0 | F34: =H34+J34+L34 -> 336694000 | H34: =TRUNC((H31+H32+H33),0) -> 142542927 | J34: =TRUNC((J31+J32+J33),0) -> 90478417 | L34: =TRUNC((L31+L32+L33),0) -> 103672656 | P34: 360 | Q34: * | R34: F | X34: .MA = MA(320,0,340)_x000D_ .LA = LA(320,0,340)_x000D_ .EQ = EQ(320,0,340) | AA34: LA+ = | AB34: =(내역서!J31+내역서!J32+내역서!J33) -> 90478417 | AC34: LA = | AD34: =$AB34 -> 90478417
E35: =G35+I35+K35 -> 0 | F35: =H35+J35+L35 -> 0 | H35: 0 | J35: 0 | L35: 0 | P35: 370 | Q35: S | AA35: EQ+ = | AB35: =(내역서!L31+내역서!L32+내역서!L33) -> 103672656 | AC35: EQ = | AD35: =$AB35 -> 103672656
A36: 1. 토 공 | C36: 1 | D36: 식 | F36: =H36+J36+L36 -> 16069066 | H36: =TRUNC(H38+H39+H40+H41+H42+H43+H44+H45+H46+H47,0) -> 3592214 | J36: =TRUNC(J38+J39+J40+J41+J42+J43+J44+J45+J46+J47,0) -> 9178031 | L36: =TRUNC(L38+L39+L40+L41+L42+L43+L44+L45+L46+L47,0) -> 3298821 | O36: A01
A37: 1) 기존구조물철거 | E37: =G37+I37+K37 -> 0 | F37: =H37+J37+L37 -> 2090153 | H37: =TRUNC(H38+H39+H40+H41,0) -> 453560 | J37: =TRUNC(J38+J39+J40+J41,0) -> 1263608 | L37: =TRUNC(L38+L39+L40+L41,0) -> 372985 | P37: 10
A38: 구조물헐기(무근) | B38: 대형30CM미만 | C38: 3 | D38: ㎥ | E38: =G38+I38+K38 -> 30884 | F38: =H38+J38+L38 -> 92652 | G38: =일위대가목록!F3 -> 4651 | H38: =TRUNC(G38*C38,0) -> 13953 | I38: =일위대가목록!G3 -> 17505 | J38: =TRUNC(I38*C38,0) -> 52515 | K38: =일위대가목록!H3 -> 8728 | L38: =TRUNC(K38*C38,0) -> 26184 | M38: #.1 | P38: 30 | R38: SA00450 | T38: F | BI38: =HYPERLINK("#일위대가목록!A3","SA00450 →") -> SA00450 →
A39: 아스콘포장깨기 | B39: 굴삭기 0.7㎥ | C39: 90 | D39: ㎥ | E39: =G39+I39+K39 -> 8877 | F39: =H39+J39+L39 -> 798930 | G39: =일위대가목록!F4 -> 1337 | H39: =TRUNC(G39*C39,0) -> 120330 | I39: =일위대가목록!G4 -> 5032 | J39: =TRUNC(I39*C39,0) -> 452880 | K39: =일위대가목록!H4 -> 2508 | L39: =TRUNC(K39*C39,0) -> 225720 | M39: #.2 | P39: 40 | R39: SA01200 | T39: F | BI39: =HYPERLINK("#일위대가목록!A4","SA01200 →") -> SA01200 →
A40: 아스팔트포장절단 | C40: 340 | D40: m | E40: =G40+I40+K40 -> 2276 | F40: =H40+J40+L40 -> 773840 | G40: =일위대가목록!F5 -> 674 | H40: =TRUNC(G40*C40,0) -> 229160 | I40: =일위대가목록!G5 -> 1535 | J40: =TRUNC(I40*C40,0) -> 521900 | K40: =일위대가목록!H5 -> 67 | L40: =TRUNC(K40*C40,0) -> 22780 | M40: #.3 | P40: 50 | R40: SA01500 | T40: F | BI40: =HYPERLINK("#일위대가목록!A5","SA01500 →") -> SA01500 →
...

Sheet 일위대가목록
A1: 일위대가목록
A2: 공 종 명 | B2: 규 격 | C2: 수 량 | D2: 단 위 | E2: 합 계 | F2: 재 료 비 | G2: 노 무 비 | H2: 경 비 | I2: 비 고 | T2: 재료비 | U2: 노무비 | V2: 경 비 | W2: 합 계 | Y2: 비교검토
A3: #1 구조물헐기(무근) | B3: 대형30CM미만 | C3: 1 | D3: ㎥ | E3: =F3+G3+H3 -> 30884 | F3: =일위대가_산근!C4 -> 4651 | G3: =일위대가_산근!D4 -> 17505 | H3: =일위대가_산근!E4 -> 8728 | K3: SA00450 | L3: F | T3: 4651 | U3: 17505 | V3: 8728 | W3: 30884 | Y3: =EXACT($E3,$W3) -> TRUE | AA3: =HYPERLINK("#일위대가_산근!A4","SA00450 →") -> SA00450 →
A4: #2 아스콘포장깨기 | B4: 굴삭기 0.7㎥ | C4: 1 | D4: ㎥ | E4: =F4+G4+H4 -> 8877 | F4: =일위대가_산근!C41 -> 1337 | G4: =일위대가_산근!D41 -> 5032 | H4: =일위대가_산근!E41 -> 2508 | K4: SA01200 | L4: F | T4: 1337 | U4: 5032 | V4: 2508 | W4: 8877 | Y4: =EXACT($E4,$W4) -> TRUE | AA4: =HYPERLINK("#일위대가_산근!A41","SA01200 →") -> SA01200 →
A5: #3 아스팔트포장절단 | C5: 1 | D5: m | E5: =F5+G5+H5 -> 2276 | F5: =일위대가_산근!C74 -> 674 | G5: =일위대가_산근!D74 -> 1535 | H5: =일위대가_산근!E74 -> 67 | K5: SA01500 | L5: F | T5: 674 | U5: 1535 | V5: 67 | W5: 2276 | Y5: =EXACT($E5,$W5) -> TRUE | AA5: =HYPERLINK("#일위대가_산근!A74","SA01500 →") -> SA01500 →
A6: #4 폐기물상차 | B6: 굴삭기 0.7㎥ | C6: 1 | D6: ㎥ | E6: =F6+G6+H6 -> 4567 | F6: =일위대가_산근!C139 -> 969 | G6: =일위대가_산근!D139 -> 2541 | H6: =일위대가_산근!E139 -> 1057 | K6: SA02100 | L6: F | T6: 969 | U6: 2541 | V6: 1057 | W6: 4567 | Y6: =EXACT($E6,$W6) -> TRUE | AA6: =HYPERLINK("#일위대가_산근!A139","SA02100 →") -> SA02100 →
A7: #5 흙깍기(보통토사)소규모 1만㎥미만 | B7: 굴삭기 1.0㎥ | C7: 1 | D7: ㎥ | E7: =F7+G7+H7 -> 3263 | F7: =일위대가_산근!C162 -> 976 | G7: =일위대가_산근!D162 -> 1523 | H7: =일위대가_산근!E162 -> 764 | K7: SA02420 | L7: F | T7: 976 | U7: 1523 | V7: 764 | W7: 3263 | Y7: =EXACT($E7,$W7) -> TRUE | AA7: =HYPERLINK("#일위대가_산근!A162","SA02420 →") -> SA02420 →
A8: #6 동상방지층(기계시공) | B8: 길어깨포장 | C8: 1 | D8: ㎥ | E8: =F8+G8+H8 -> 12584 | F8: =일위대가_산근!C183 -> 2681 | G8: =일위대가_산근!D183 -> 7716 | H8: =일위대가_산근!E183 -> 2187 | K8: SE00200 | L8: F | T8: 2681 | U8: 7716 | V8: 2187 | W8: 12584 | Y8: =EXACT($E8,$W8) -> TRUE | AA8: =HYPERLINK("#일위대가_산근!A183","SE00200 →") -> SE00200 →
A9: #7 구조물터파기(보통토사) | B9: TYPE-2 | C9: 1 | D9: ㎥ | E9: =F9+G9+H9 -> 2408 | F9: =일위대가_산근!C238 -> 720 | G9: =일위대가_산근!D238 -> 1124 | H9: =일위대가_산근!E238 -> 564 | K9: SC00100 | L9: F | T9: 720 | U9: 1124 | V9: 564 | W9: 2408 | Y9: =EXACT($E9,$W9) -> TRUE | AA9: =HYPERLINK("#일위대가_산근!A238","SC00100 →") -> SC00100 →
A10: #8 되메우기및다짐 | B10: 대형장비 | C10: 1 | D10: ㎥ | E10: =F10+G10+H10 -> 8626 | F10: =일위대가_산근!C259 -> 1740 | G10: =일위대가_산근!D259 -> 5314 | H10: =일위대가_산근!E259 -> 1572 | K10: SA05460 | L10: F | T10: 1740 | U10: 5314 | V10: 1572 | W10: 8626 | Y10: =EXACT($E10,$W10) -> TRUE | AA10: =HYPERLINK("#일위대가_산근!A259","SA05460 →") -> SA05460 →
A11: #9 모래부설 | B11: 굴삭기 0.7㎥ | C11: 1 | D11: ㎥ | E11: =F11+G11+H11 -> 1771 | F11: =일위대가_산근!C320 -> 175 | G11: =일위대가_산근!D320 -> 1405 | H11: =일위대가_산근!E320 -> 191 | K11: SB01110 | L11: F | T11: 175 | U11: 1405 | V11: 191 | W11: 1771 | Y11: =EXACT($E11,$W11) -> TRUE | AA11: =HYPERLINK("#일위대가_산근!A320","SB01110 →") -> SB01110 →
A12: #10 사토(토사) | B12: 굴삭기 0.7㎥ | C12: 1 | D12: ㎥ | E12: =F12+G12+H12 -> 3788 | F12: =일위대가_산근!C351 -> 633 | G12: =일위대가_산근!D351 -> 2092 | H12: =일위대가_산근!E351 -> 1063 | K12: SA04850 | L12: F | T12: 633 | U12: 2092 | V12: 1063 | W12: 3788 | Y12: =EXACT($E12,$W12) -> TRUE | AA12: =HYPERLINK("#일위대가_산근!A351","SA04850 →") -> SA04850 →
A13: #11 PE다중벽관접합및부설 | B13: D 1000mm | C13: 1 | D13: m | E13: =F13+G13+H13 -> 24000 | F13: =일위대가_산근!C414 -> 1834 | G13: =일위대가_산근!D414 -> 19555 | H13: =일위대가_산근!E414 -> 2611 | K13: SB01035 | L13: F | T13: 1834 | U13: 19555 | V13: 2611 | W13: 24000 | Y13: =EXACT($E13,$W13) -> TRUE | AA13: =HYPERLINK("#일위대가_산근!A414","SB01035 →") -> SB01035 →
A14: #12 PE다중벽관접합및부설 | B14: D 600mm | C14: 1 | D14: 개소 | E14: =F14+G14+H14 -> 88596 | F14: =일위대가_산근!C449 -> 6092 | G14: =일위대가_산근!D449 -> 73655 | H14: =일위대가_산근!E449 -> 8849 | K14: SB01032 | L14: F | T14: 6092 | U14: 73655 | V14: 8849 | W14: 88596 | Y14: =EXACT($E14,$W14) -> TRUE | AA14: =HYPERLINK("#일위대가_산근!A449","SB01032 →") -> SB01032 →
A15: #13 레디믹스콘크리트타설 | B15: 장비사용, 무근구조물 | C15: 1 | D15: ㎥ | E15: =F15+G15+H15 -> 29530 | F15: =일위대가_산근!C484 -> 3170 | G15: =일위대가_산근!D484 -> 23245 | H15: =일위대가_산근!E484 -> 3115 | K15: SB01100 | L15: F | T15: 3170 | U15: 23245 | V15: 3115 | W15: 29530 | Y15: =EXACT($E15,$W15) -> TRUE | AA15: =HYPERLINK("#일위대가_산근!A484","SB01100 →") -> SB01100 →
A16: #14 유로폼 조립.해체(벽체) | B16: 간단,6회-수직고7.0m 이하 | C16: 1 | D16: ㎡ | E16: =F16+G16+H16 -> 36328 | F16: =일위대가_산근!C525 -> 4448 | G16: =일위대가_산근!D525 -> 31880 | H16: =일위대가_산근!E525 -> 0 | K16: SB03950 | L16: F | T16: 4448 | U16: 31880 | V16: 0 | W16: 36328 | Y16: =EXACT($E16,$W16) -> TRUE | AA16: =HYPERLINK("#일위대가_산근!A525","SB03950 →") -> SB03950 →
A17: #15 기존맨홀천공및접합 | B17: D800mm | C17: 1 | D17: 개소 | E17: =F17+G17+H17 -> 38069 | F17: =일위대가_산근!C562 -> 12594 | G17: =일위대가_산근!D562 -> 24713 | H17: =일위대가_산근!E562 -> 762 | K17: SE55250 | L17: F | T17: 12594 | U17: 24713 | V17: 762 | W17: 38069 | Y17: =EXACT($E17,$W17) -> TRUE | AA17: =HYPERLINK("#일위대가_산근!A562","SE55250 →") -> SE55250 →
A18: #16 조립식간이흙막이공(TS판넬) | B18: 2.4Bx3.55H(SS) | C18: 1 | D18: m | E18: =F18+G18+H18 -> 517093 | F18: =일위대가_산근!C597 -> 146660 | G18: =일위대가_산근!D597 -> 332396 | H18: =일위대가_산근!E597 -> 38037 | K18: SB50550 | L18: F | T18: 146660 | U18: 332396 | V18: 38037 | W18: 517093 | Y18: =EXACT($E18,$W18) -> TRUE | AA18: =HYPERLINK("#일위대가_산근!A597","SB50550 →") -> SB50550 →
A19: #17 우수받이 설치 | B19: 900-1100미만 | C19: 1 | D19: 개 | E19: =F19+G19+H19 -> 54342 | F19: =일위대가_산근!C743 -> 11359 | G19: =일위대가_산근!D743 -> 35349 | H19: =일위대가_산근!E743 -> 7634 | K19: SB11315 | L19: F | T19: 11359 | U19: 35349 | V19: 7634 | W19: 54342 | Y19: =EXACT($E19,$W19) -> TRUE | AA19: =HYPERLINK("#일위대가_산근!A743","SB11315 →") -> SB11315 →
A20: #18 스틸그레이팅설치(차도부) | B20: 400x500x50 | C20: 1 | D20: 조 | E20: =F20+G20+H20 -> 53550 | F20: =일위대가_산근!C784 -> 51000 | G20: =일위대가_산근!D784 -> 2550 | H20: =일위대가_산근!E784 -> 0 | K20: SB40908 | L20: F | T20: 51000 | U20: 2550 | V20: 0 | W20: 53550 | Y20: =EXACT($E20,$W20) -> TRUE | AA20: =HYPERLINK("#일위대가_산근!A784","SB40908 →") -> SB40908 →
A21: #19 PE이중벽관접합및부설 | B21: D 250mm | C21: 1 | D21: m | E21: =F21+G21+H21 -> 8865 | F21: =일위대가_산근!C799 -> 0 | G21: =일위대가_산근!D799 -> 8692 | H21: =일위대가_산근!E799 -> 173 | K21: SB01025 | L21: F | T21: 0 | U21: 8692 | V21: 173 | W21: 8865 | Y21: =EXACT($E21,$W21) -> TRUE | AA21: =HYPERLINK("#일위대가_산근!A799","SB01025 →") -> SB01025 →
A22: #20 PE다중벽관접합및부설 | B22: D 300mm | C22: 1 | D22: m | E22: =F22+G22+H22 -> 9605 | F22: =일위대가_산근!C824 -> 0 | G22: =일위대가_산근!D824 -> 9417 | H22: =일위대가_산근!E824 -> 188 | K22: SB01026 | L22: F | T22: 0 | U22: 9417 | V22: 188 | W22: 9605 | Y22: =EXACT($E22,$W22) -> TRUE | AA22: =HYPERLINK("#일위대가_산근!A824","SB01026 →") -> SB01026 →
A23: #21 분기관천공및접합 | B23: D 250mm | C23: 1 | D23: 개소 | E23: =F23+G23+H23 -> 181764 | F23: =일위대가_산근!C849 -> 127000 | G23: =일위대가_산근!D849 -> 52157 | H23: =일위대가_산근!E849 -> 2607 | K23: SB01155 | L23: F | T23: 127000 | U23: 52157 | V23: 2607 | W23: 181764 | Y23: =EXACT($E23,$W23) -> TRUE | AA23: =HYPERLINK("#일위대가_산근!A849","SB01155 →") -> SB01155 →
A24: #22 분기관천공및접합 | B24: D 300mm | C24: 1 | D24: 개소 | E24: =F24+G24+H24 -> 213456 | F24: =일위대가_산근!C876 -> 145000 | G24: =일위대가_산근!D876 -> 65197 | H24: =일위대가_산근!E876 -> 3259 | K24: SB01157 | L24: F | T24: 145000 | U24: 65197 | V24: 3259 | W24: 213456 | Y24: =EXACT($E24,$W24) -> TRUE | AA24: =HYPERLINK("#일위대가_산근!A876","SB01157 →") -> SB01157 →
A25: #23 조립식PC맨홀(하부구체+상판) | B25: Ø 1500 MM | C25: 1 | D25: 개 | E25: =F25+G25+H25 -> 358181 | F25: =일위대가_산근!C903 -> 10497 | G25: =일위대가_산근!D903 -> 308504 | H25: =일위대가_산근!E903 -> 39180 | K25: SB13410 | L25: F | T25: 10497 | U25: 308504 | V25: 39180 | W25: 358181 | Y25: =EXACT($E25,$W25) -> TRUE | AA25: =HYPERLINK("#일위대가_산근!A903","SB13410 →") -> SB13410 →
A26: #24 조립식PC맨홀(연직구체) | B26: Ø 1500 MM | C26: 1 | D26: 개 | E26: =F26+G26+H26 -> 182693 | F26: =일위대가_산근!C932 -> 5374 | G26: =일위대가_산근!D932 -> 157259 | H26: =일위대가_산근!E932 -> 20060 | K26: SB13550 | L26: F | T26: 5374 | U26: 157259 | V26: 20060 | W26: 182693 | Y26: =EXACT($E26,$W26) -> TRUE | AA26: =HYPERLINK("#일위대가_산근!A932","SB13550 →") -> SB13550 →
A27: #25 사다리설치 | B27: PE코팅 Ø22 | C27: 1 | D27: 개소 | E27: =F27+G27+H27 -> 23412 | F27: =일위대가_산근!C961 -> 19000 | G27: =일위대가_산근!D961 -> 4412 | H27: =일위대가_산근!E961 -> 0 | K27: SZ260203 | L27: F | T27: 19000 | U27: 4412 | V27: 0 | W27: 23412 | Y27: =EXACT($E27,$W27) -> TRUE | AA27: =HYPERLINK("#일위대가_산근!A961","SZ260203 →") -> SZ260203 →
A28: #26 맨홀뚜껑설치(차도부) | B28: φ648 | C28: 1 | D28: 조 | E28: =F28+G28+H28 -> 378000 | F28: =일위대가_산근!C980 -> 360000 | G28: =일위대가_산근!D980 -> 18000 | H28: =일위대가_산근!E980 -> 0 | K28: SB40980 | L28: F | T28: 360000 | U28: 18000 | V28: 0 | W28: 378000 | Y28: =EXACT($E28,$W28) -> TRUE | AA28: =HYPERLINK("#일위대가_산근!A980","SB40980 →") -> SB40980 →
A29: #27 아스팔트 표층 기계포설(대형장비) | B29: 3.0m≤B | C29: 1 | D29: ㎡ | E29: =F29+G29+H29 -> 1003 | F29: =일위대가_산근!C997 -> 128 | G29: =일위대가_산근!D997 -> 695 | H29: =일위대가_산근!E997 -> 180 | K29: SE02400 | L29: F | T29: 128 | U29: 695 | V29: 180 | W29: 1003 | Y29: =EXACT($E29,$W29) -> TRUE | AA29: =HYPERLINK("#일위대가_산근!A997","SE02400 →") -> SE02400 →
A30: #28 텍코팅(기계식) | B30: RSC-4:30ℓ/a | C30: 1 | D30: ㎡ | E30: =F30+G30+H30 -> 45 | F30: =일위대가_산근!C1070 -> 8 | G30: =일위대가_산근!D1070 -> 31 | H30: =일위대가_산근!E1070 -> 6 | K30: SE01910 | L30: F | T30: 8 | U30: 31 | V30: 6 | W30: 45 | Y30: =EXACT($E30,$W30) -> TRUE | AA30: =HYPERLINK("#일위대가_산근!A1070","SE01910 →") -> SE01910 →
A31: #29 아스팔트 기층 기계포설(대형장비) | B31: 3.0m≤B, T=8~10cm | C31: 1 | D31: ㎡ | E31: =F31+G31+H31 -> 1070 | F31: =일위대가_산근!C1099 -> 136 | G31: =일위대가_산근!D1099 -> 740 | H31: =일위대가_산근!E1099 -> 194 | K31: SE02100 | L31: F | T31: 136 | U31: 740 | V31: 194 | W31: 1070 | Y31: =EXACT($E31,$W31) -> TRUE | AA31: =HYPERLINK("#일위대가_산근!A1099","SE02100 →") -> SE02100 →
A32: #30 프라임코팅(기계식) | B32: RSC-3:75ℓ/a | C32: 1 | D32: ㎡ | E32: =F32+G32+H32 -> 45 | F32: =일위대가_산근!C1172 -> 8 | G32: =일위대가_산근!D1172 -> 31 | H32: =일위대가_산근!E1172 -> 6 | K32: SE01810 | L32: F | T32: 8 | U32: 31 | V32: 6 | W32: 45 | Y32: =EXACT($E32,$W32) -> TRUE | AA32: =HYPERLINK("#일위대가_산근!A1172","SE01810 →") -> SE01810 →
A33: #31 보조기층(기계시공) | B33: 길어깨포장 | C33: 1 | D33: ㎥ | E33: =F33+G33+H33 -> 13215 | F33: =일위대가_산근!C1201 -> 2977 | G33: =일위대가_산근!D1201 -> 7808 | H33: =일위대가_산근!E1201 -> 2430 | K33: SE01000 | L33: F | T33: 2977 | U33: 7808 | V33: 2430 | W33: 13215 | Y33: =EXACT($E33,$W33) -> TRUE | AA33: =HYPERLINK("#일위대가_산근!A1201","SE01000 →") -> SE01000 →
A34: #32 보차도 및 도로경계블럭 설치 | B34: 500미만, A-TYPE(직선구간) | C34: 1 | D34: m | E34: =F34+G34+H34 -> 18145 | F34: =일위대가_산근!C1256 -> 1895 | G34: =일위대가_산근!D1256 -> 14694 | H34: =일위대가_산근!E1256 -> 1556 | K34: SE05200 | L34: F | T34: 1895 | U34: 14694 | V34: 1556 | W34: 18145 | Y34: =EXACT($E34,$W34) -> TRUE | AA34: =HYPERLINK("#일위대가_산근!A1256","SE05200 →") -> SE05200 →
A35: #33 중기운반비 | C35: 1 | D35: 식 | E35: =F35+G35+H35 -> 1308813 | F35: =일위대가_산근!C1293 -> 0 | G35: =일위대가_산근!D1293 -> 0 | H35: =일위대가_산근!E1293 -> 1308813 | K35: SF01400 | L35: F | T35: 0 | U35: 0 | V35: 1308813 | W35: 1308813 | Y35: =EXACT($E35,$W35) -> TRUE | AA35: =HYPERLINK("#일위대가_산근!A1293","SF01400 →") -> SF01400 →
A36: #34 아스팔트운반비 | B36: RSC-4,RSC-3 | C36: 1 | D36: D/M | E36: =F36+G36+H36 -> 1929 | F36: =일위대가_산근!C1378 -> 0 | G36: =일위대가_산근!D1378 -> 0 | H36: =일위대가_산근!E1378 -> 1929 | K36: SF00700 | L36: F | T36: 0 | U36: 0 | V36: 1929 | W36: 1929 | Y36: =EXACT($E36,$W36) -> TRUE | AA36: =HYPERLINK("#일위대가_산근!A1378","SF00700 →") -> SF00700 →
A37: #35 차선도색(페인트,기계식),유지보수 | B37: 황색-실선 | C37: 1 | D37: ㎡ | E37: =F37+G37+H37 -> 5209 | F37: =일위대가_산근!C1397 -> 4894 | G37: =일위대가_산근!D1397 -> 270 | H37: =일위대가_산근!E1397 -> 45 | K37: SF04120 | L37: F | T37: 4894 | U37: 270 | V37: 45 | W37: 5209 | Y37: =EXACT($E37,$W37) -> TRUE | AA37: =HYPERLINK("#일위대가_산근!A1397","SF04120 →") -> SF04120 →
A38: #36 차선도색(페인트,기계식),유지보수 | B38: 백색-파선 | C38: 1 | D38: ㎡ | E38: =F38+G38+H38 -> 6043 | F38: =일위대가_산근!C1460 -> 4777 | G38: =일위대가_산근!D1460 -> 1085 | H38: =일위대가_산근!E1460 -> 181 | K38: SF04110 | L38: F | T38: 4777 | U38: 1085 | V38: 181 | W38: 6043 | Y38: =EXACT($E38,$W38) -> TRUE | AA38: =HYPERLINK("#일위대가_산근!A1460","SF04110 →") -> SF04110 →
A39: #37 차선도색(페인트,수동식),유지보수 | B39: 문자,기호 | C39: 1 | D39: ㎡ | E39: =F39+G39+H39 -> 16921 | F39: =일위대가_산근!C1523 -> 5298 | G39: =일위대가_산근!D1523 -> 11060 | H39: =일위대가_산근!E1523 -> 563 | K39: SF03850 | L39: F | T39: 5298 | U39: 11060 | V39: 563 | W39: 16921 | Y39: =EXACT($E39,$W39) -> TRUE | AA39: =HYPERLINK("#일위대가_산근!A1523","SF03850 →") -> SF03850 →
A40: #38 차선도색(페인트,수동식),유지보수 | B40: 횡단보도,주차장 | C40: 1 | D40: ㎡ | E40: =F40+G40+H40 -> 10258 | F40: =일위대가_산근!C1583 -> 4753 | G40: =일위대가_산근!D1583 -> 5238 | H40: =일위대가_산근!E1583 -> 267 | K40: SF03840 | L40: F | T40: 4753 | U40: 5238 | V40: 267 | W40: 10258 | Y40: =EXACT($E40,$W40) -> TRUE | AA40: =HYPERLINK("#일위대가_산근!A1583","SF03840 →") -> SF03840 →
...

Sheet 일위대가_호표
A1: 일위대가_호표
A2: 공 종 명 | B2: 규 격 | C2: 수량 | D2: 단위 | E2: 합 계 | G2: 재 료 비 | I2: 노 무 비 | K2: 경 비 | M2: 비 고
E3: 단 가 | F3: 금 액 | G3: 단 가 | H3: 금 액 | I3: 단 가 | J3: 금 액 | K3: 단 가 | L3: 금 액 | S3: 할 증 | T3: 화폐변환 | U3: OP값 | V3: EQ | W3: LA | X3: MA | Y3: 금액계상

Sheet 일위대가_산근
A1: 일위대가_산근
A2: 산 출 근 거 | B2: 합 계 | C2: 재 료 비 | D2: 노 무 비 | E2: 경 비 | F2: 비 고
AA3: ※ 노란색 셀을 수정하고 툴바에서 수식 > 시트계산을 하면
A4: #1 구조물헐기(무근) | 대형30CM미만|㎥ | B4: =$B39 -> 30884 | C4: =$C39 -> 4651 | D4: =$D39 -> 17505 | E4: =$E39 -> 8728 | H4: SA00450 | K4: 1 | Y4: =EXACT($Z4,$B39) -> TRUE | Z4: 30884 | AA4: 엑셀 수식이 적용됩니다. (단축키 F9 키)
I6: 10 | K6: F
A7: <공통품셈 8-2-13 대형 브레이커> | K7: <공통품셈 8-2-13 대형 브레이커>
A9: 구조물의 평균두께 30CM 미만 (기계 100%) | K9: 구조물의 평균두께 30CM 미만 (기계 100%)
A11: 1. 구조물헐기 | K11: 1. 구조물헐기
A13: 가.기계사용료 (대형브레이카 + 굴착기 0.7M3) | K13: 가.기계사용료 (대형브레이카 + 굴착기 0.7M3)
A15: =CONCATENATE(" Q = (3.3 + 5.9) / 2 = ",TEXT($AF15,"#,##0.00")," M3/HR ") -> Q = (3.3 + 5.9) / 2 = 4.60 M3/HR | B15: =SUM($C15,$D15,$E15) -> 0 | K15: Q = (3.3 + 5.9) / 2 = ?'M3/HR' | AA15: Q+ = | AB15: =ROUND((3.3+5.9)/2,2) -> 4.6 | AC15: Q = | AD15: =$AB15 -> 4.6 | AE15: 15_1_1+ = | AF15: =ROUND(ROUND((3.3+5.9)/2,2),2) -> 4.6 | AG15: 15_1_1 = | AH15: =$AF15 -> 4.6
A17: =CONCATENATE(" 재 료 비 : _x001D_21,395_x001D_ / ",TEXT($AB17,"#,##0.00")," = ",TEXT($AF17,"#,##0.00")) -> 재 료 비 : _x001D_21,395_x001D_ / 4.60 = 4,651.00 | B17: =SUM($C17,$D17,$E17) -> 4651 | C17: =$AF17 -> 4651 | K17: '재 료 비 :' ~E00020110701.M~ / {Q} = ?MA+ | AA17: 17_1_1+ = | AB17: =$AD15 -> 4.6 | AC17: 17_1_1 = | AD17: =$AB17 -> 4.6 | AE17: MA+ = | AF17: =TRUNC(중기사용료목록!E7/$AD17,0) -> 4651 | AG17: MA = | AH17: =$AF17 -> 4651
A19: =CONCATENATE(" 노 무 비 : _x001D_59,020_x001D_ / ",TEXT($AB19,"#,##0.00")," = ",TEXT($AF19,"#,##0.00")) -> 노 무 비 : _x001D_59,020_x001D_ / 4.60 = 12,830.00 | B19: =SUM($C19,$D19,$E19) -> 12830 | D19: =$AF19 -> 12830 | K19: '노 무 비 :' ~E00020110701.L~ / {Q} = ?LA+ | AA19: 19_1_1+ = | AB19: =$AD15 -> 4.6 | AC19: 19_1_1 = | AD19: =$AB19 -> 4.6 | AE19: LA+ = | AF19: =TRUNC(중기사용료목록!F7/$AD19,0) -> 12830 | AG19: LA = | AH19: =$AF19 -> 12830
A21: =CONCATENATE(" 경 비 : _x001D_37,850_x001D_ / ",TEXT($AB21,"#,##0.00")," = ",TEXT($AF21,"#,##0.00")) -> 경 비 : _x001D_37,850_x001D_ / 4.60 = 8,228.00 | B21: =SUM($C21,$D21,$E21) -> 8228 | E21: =$AF21 -> 8228 | K21: '경 비 :' ~E00020110701.E~ / {Q} = ?EQ+ | AA21: 21_1_1+ = | AB21: =$AD15 -> 4.6 | AC21: 21_1_1 = | AD21: =$AB21 -> 4.6 | AE21: EQ+ = | AF21: =TRUNC(중기사용료목록!G7/$AD21,0) -> 8228 | AG21: EQ = | AH21: =$AF21 -> 8228
A23: 소 계 : | B23: =SUM($C23,$D23,$E23) -> 25709 | C23: =$AB23 -> 4651 | D23: =$AD23 -> 12830 | E23: =$AF23 -> 8228 | K23: > '소 계 : ' | AA23: >MA = | AB23: =$AH17 -> 4651 | AC23: >LA = | AD23: =$AH19 -> 12830 | AE23: >EQ = | AF23: =$AH21 -> 8228
A25: 나.보통 인부 | K25: 나.보통 인부
K26: =SUBSTITUTE(SUBSTITUTE(".A=1,B=8","8",TEXT($AF26,"#,##0"),1),"_x001D_","'") -> .A=1,B=8 | AA26: A = | AB26: 1 | AC26: A = | AD26: =$AB26 -> 1 | AE26: B = | AF26: 8 | AG26: B = | AH26: =$AF26 -> 8
A27: =CONCATENATE(" (",TEXT($AB27,"#,##0.00")," 인 * _x001D_172,068_x001D_) / (",TEXT($AF27,"#,##0.00")," * ",TEXT($AJ27,"#,##0.00")," HR )= ",TEXT($AN27,"#,##0.00")) -> (1.00 인 * _x001D_172,068_x001D_) / (4.60 * 8.00 HR )= 4,675.00 | B27: =SUM($C27,$D27,$E27) -> 4675 | D27: =$AN27 -> 4675 | K27: ({A} '인' * ~L085~) / ({Q} * {B} 'HR')= ?LA+ | AA27: 27_1_1+ = | AB27: =$AD26 -> 1 | AC27: 27_1_1 = | AD27: =$AB27 -> 1 | AE27: 27_1_2+ = | AF27: =$AD15 -> 4.6 | AG27: 27_1_2 = | AH27: =$AF27 -> 4.6 | AI27: 27_1_3+ = | AJ27: =$AH26 -> 8 | AK27: 27_1_3 = | AL27: =$AJ27 -> 8 | AM27: LA+ = | AN27: =TRUNC(($AD27*노임!D10)/($AH27*$AL27),0) -> 4675 | AO27: LA = | AP27: =$AH19+$AN27 -> 17505
A29: 다.치즐 | K29: 다.치즐
K30: .C=0.01 | AA30: C = | AB30: 0.01 | AC30: C = | AD30: =$AB30 -> 0.01
A31: =CONCATENATE(" (",TEXT($AB31,"#,##0.00")," * _x001D_230,000_x001D_) / ",TEXT($AF31,"#,##0.00")," = ",TEXT($AJ31,"#,##0.00")) -> (0.01 * _x001D_230,000_x001D_) / 4.60 = 500.00 | B31: =SUM($C31,$D31,$E31) -> 500 | E31: =$AJ31 -> 500 | K31: ({C} * ~M8448007~) / {Q} = ?EQ+ | AA31: 31_1_1+ = | AB31: =$AD30 -> 0.01 | AC31: 31_1_1 = | AD31: =$AB31 -> 0.01 | AE31: 31_1_2+ = | AF31: =$AD15 -> 4.6 | AG31: 31_1_2 = | AH31: =$AF31 -> 4.6 | AI31: EQ+ = | AJ31: =TRUNC(($AD31*자재!D5)/$AH31,0) -> 500 | AK31: EQ = | AL31: =$AH21+$AJ31 -> 8728
A33: 소 계 : | B33: =SUM($C33,$D33,$E33) -> 5175 | C33: =$AB33 -> 0 | D33: =$AD33 -> 4675 | E33: =$AF33 -> 500 | K33: > '소 계 : ' | AA33: >MA = | AB33: =$AH17-$AH17 -> 0 | AC33: >LA = | AD33: =$AP27-$AH19 -> 4675 | AE33: >EQ = | AF33: =$AL31-$AH21 -> 500
A35: 계 : | B35: =SUM($C35,$D35,$E35) -> 30884 | C35: =$AB35 -> 4651 | D35: =$AD35 -> 17505 | E35: =$AF35 -> 8728 | K35: >>' 계 : ' | AA35: >>MA = | AB35: =$AH17 -> 4651 | AC35: >>LA = | AD35: =$AP27 -> 17505 | AE35: >>EQ = | AF35: =$AL31 -> 8728
A37: 총 계 : | B37: =SUM($C37,$D37,$E37) -> 30884 | C37: =$AB37 -> 4651 | D37: =$AD37 -> 17505 | E37: =$AF37 -> 8728 | K37: >>>' 총 계 : ' | AA37: >>>MA = | AB37: =$AH17 -> 4651 | AC37: >>>LA = | AD37: =$AP27 -> 17505 | AE37: >>>EQ = | AF37: =$AL31 -> 8728
A39: 전체 합계 | B39: =SUM($C39,$D39,$E39) -> 30884 | C39: =TRUNC(SUM($AH17),0) -> 4651 | D39: =TRUNC(SUM($AP27),0) -> 17505 | E39: =TRUNC(SUM($AL31),0) -> 8728
A41: #2 아스콘포장깨기 | 굴삭기 0.7㎥|㎥ | B41: =$B72 -> 8877 | C41: =$C72 -> 1337 | D41: =$D72 -> 5032 | E41: =$E72 -> 2508 | H41: SA01200 | K41: 1 | Y41: =EXACT($Z41,$B72) -> TRUE | Z41: 8877
I43: 10 | K43: F
A44: <공통품셈 8-2-13 대형 브레이커> | K44: <공통품셈 8-2-13 대형 브레이커>
A46: ○ 아스팔트 포장깨기 (기계 100%) : 30㎝미만 | K46: ○ 아스팔트 포장깨기 (기계 100%) : 30㎝미만
A48: 1. 기계사용료 (대형브레이카 + 굴삭기 0.7M3) | K48: 1. 기계사용료 (대형브레이카 + 굴삭기 0.7M3)
A50: =CONCATENATE(" Q=",TEXT($AB50,"#,##0.00")," M3/HR") -> Q=16.00 M3/HR | K50: =SUBSTITUTE(SUBSTITUTE(" Q = 16 _x001D_M3/HR_x001D_","16",TEXT($AB50,"#,##0"),1),"_x001D_","'") -> Q = 16 'M3/HR' | AA50: Q = | AB50: 16 | AC50: Q = | AD50: =$AB50 -> 16
A52: =CONCATENATE(" 재 료 비 : _x001D_21,395_x001D_ / ",TEXT($AB52,"#,##0.00")," =",TEXT($AF52,"#,##0.00")) -> 재 료 비 : _x001D_21,395_x001D_ / 16.00 =1,337.00 | B52: =SUM($C52,$D52,$E52) -> 1337 | C52: =$AF52 -> 1337 | K52: '재 료 비 : '~E00020110701.M~ / {Q} =?MA+ | AA52: 52_1_1+ = | AB52: =$AD50 -> 16 | AC52: 52_1_1 = | AD52: =$AB52 -> 16 | AE52: MA+ = | AF52: =TRUNC(중기사용료목록!E7/$AD52,0) -> 1337 | AG52: MA = | AH52: =$AF52 -> 1337
A54: =CONCATENATE(" 노 무 비 : _x001D_59,020_x001D_ / ",TEXT($AB54,"#,##0.00")," =",TEXT($AF54,"#,##0.00")) -> 노 무 비 : _x001D_59,020_x001D_ / 16.00 =3,688.00 | B54: =SUM($C54,$D54,$E54) -> 3688 | D54: =$AF54 -> 3688 | K54: '노 무 비 : '~E00020110701.L~ / {Q} =?LA+ | AA54: 54_1_1+ = | AB54: =$AD50 -> 16 | AC54: 54_1_1 = | AD54: =$AB54 -> 16 | AE54: LA+ = | AF54: =TRUNC(중기사용료목록!F7/$AD54,0) -> 3688 | AG54: LA = | AH54: =$AF54 -> 3688
A56: =CONCATENATE(" 경 비 : _x001D_37,850_x001D_ / ",TEXT($AB56,"#,##0.00")," =",TEXT($AF56,"#,##0.00")) -> 경 비 : _x001D_37,850_x001D_ / 16.00 =2,365.00 | B56: =SUM($C56,$D56,$E56) -> 2365 | E56: =$AF56 -> 2365 | K56: '경 비 : '~E00020110701.E~ / {Q} =?EQ+ | AA56: 56_1_1+ = | AB56: =$AD50 -> 16 | AC56: 56_1_1 = | AD56: =$AB56 -> 16 | AE56: EQ+ = | AF56: =TRUNC(중기사용료목록!G7/$AD56,0) -> 2365 | AG56: EQ = | AH56: =$AF56 -> 2365
A58: 소 계 : | B58: =SUM($C58,$D58,$E58) -> 7390 | C58: =$AB58 -> 1337 | D58: =$AD58 -> 3688 | E58: =$AF58 -> 2365 | K58: > '소 계 : ' | AA58: >MA = | AB58: =$AH52 -> 1337 | AC58: >LA = | AD58: =$AH54 -> 3688 | AE58: >EQ = | AF58: =$AH56 -> 2365
A60: 나.보통 인부 | K60: 나.보통 인부
K61: =SUBSTITUTE(SUBSTITUTE(".A=1,B=8","8",TEXT($AF61,"#,##0"),1),"_x001D_","'") -> .A=1,B=8 | AA61: A = | AB61: 1 | AC61: A = | AD61: =$AB61 -> 1 | AE61: B = | AF61: 8 | AG61: B = | AH61: =$AF61 -> 8
A62: =CONCATENATE(" (",TEXT($AB62,"#,##0.00")," 인 * _x001D_172,068_x001D_) / (",TEXT($AF62,"#,##0.00")," * ",TEXT($AJ62,"#,##0.00")," HR )=",TEXT($AN62,"#,##0.00")) -> (1.00 인 * _x001D_172,068_x001D_) / (16.00 * 8.00 HR )=1,344.00 | B62: =SUM($C62,$D62,$E62) -> 1344 | D62: =$AN62 -> 1344 | K62: ({A} '인' * ~L085~) / ({Q} * {B} 'HR')=?LA+ | AA62: 62_1_1+ = | AB62: =$AD61 -> 1 | AC62: 62_1_1 = | AD62: =$AB62 -> 1 | AE62: 62_1_2+ = | AF62: =$AD50 -> 16 | AG62: 62_1_2 = | AH62: =$AF62 -> 16 | AI62: 62_1_3+ = | AJ62: =$AH61 -> 8 | AK62: 62_1_3 = | AL62: =$AJ62 -> 8 | AM62: LA+ = | AN62: =TRUNC(($AD62*노임!D10)/($AH62*$AL62),0) -> 1344 | AO62: LA = | AP62: =$AH54+$AN62 -> 5032
A64: 소 계 : | B64: =SUM($C64,$D64,$E64) -> 1344 | C64: =$AB64 -> 0 | D64: =$AD64 -> 1344 | E64: =$AF64 -> 0 | K64: > '소 계 : ' | AA64: >MA = | AB64: =$AH52-$AH52 -> 0 | AC64: >LA = | AD64: =$AP62-$AH54 -> 1344 | AE64: >EQ = | AF64: =$AH56-$AH56 -> 0
A66: 다.치즐 | K66: 다.치즐
K67: .C=0.01 | AA67: C = | AB67: 0.01 | AC67: C = | AD67: =$AB67 -> 0.01
...

Sheet 중기사용료목록
A1: 중기사용료목록
A2: 공 종 명 | B2: 규 격 | C2: 수 량 | D2: 단 위 | E2: 재 료 비 | F2: 노 무 비 | G2: 경 비 | H2: 합 계 | I2: 비 고
A3: 굴삭기(무한궤도) | B3: 0.4 M3 | C3: 1 | D3: HR | E3: =중기사용료!G10 -> 19204 | F3: =중기사용료!G12 -> 59020 | G3: =중기사용료!G7 -> 17514 | H3: =E3+F3+G3 -> 95738 | K3: E0002010040 | O3: =HYPERLINK("#중기사용료!A3","E0002010040 →") -> E0002010040 →
A4: 굴삭기(무한궤도) | B4: 0.6 M3 | C4: 1 | D4: HR | E4: =중기사용료!G22 -> 19785 | F4: =중기사용료!G24 -> 59020 | G4: =중기사용료!G19 -> 23423 | H4: =E4+F4+G4 -> 102228 | K4: E0002010060 | O4: =HYPERLINK("#중기사용료!A15","E0002010060 →") -> E0002010060 →
A5: 굴삭기(무한궤도) | B5: 0.7 M3 | C5: 1 | D5: HR | E5: =중기사용료!G34 -> 22501 | F5: =중기사용료!G36 -> 59020 | G5: =중기사용료!G31 -> 24554 | H5: =E5+F5+G5 -> 106075 | K5: E0002010070 | O5: =HYPERLINK("#중기사용료!A27","E0002010070 →") -> E0002010070 →
A6: 굴삭기(무한궤도) | B6: 1.0 M3 | C6: 1 | D6: HR | E6: =중기사용료!G46 -> 37826 | F6: =중기사용료!G48 -> 59020 | G6: =중기사용료!G43 -> 29621 | H6: =E6+F6+G6 -> 126467 | K6: E0002010100 | O6: =HYPERLINK("#중기사용료!A39","E0002010100 →") -> E0002010100 →
A7: 굴삭기(무한궤도)+브레이카 | B7: 0.7M3(리핑암) | C7: 1 | D7: HR | E7: =중기사용료!G59 -> 21395 | F7: =중기사용료!G61 -> 59020 | G7: =중기사용료!G56 -> 37850 | H7: =E7+F7+G7 -> 118265 | K7: E00020110701 | O7: =HYPERLINK("#중기사용료!A51","E00020110701 →") -> E00020110701 →
A8: 대형 브레이카 | B8: 0.7 M3용 | C8: 1 | D8: HR | E8: 0 | F8: 0 | G8: =중기사용료!G68 -> 11412 | H8: =E8+F8+G8 -> 11412 | K8: E0002300007 | O8: =HYPERLINK("#중기사용료!A64","E0002300007 →") -> E0002300007 →
A9: 덤프트럭 | B9: 2.5 톤 | C9: 1 | D9: HR | E9: =중기사용료!G82 -> 6363 | F9: =중기사용료!G84 -> 49778 | G9: =중기사용료!G79 -> 6522 | H9: =E9+F9+G9 -> 62663 | K9: E0006020025 | O9: =HYPERLINK("#중기사용료!A75","E0006020025 →") -> E0006020025 →
A10: 덤프트럭 | B10: 4.5 톤 | C10: 1 | D10: HR | E10: =중기사용료!G94 -> 10971 | F10: =중기사용료!G96 -> 49778 | G10: =중기사용료!G91 -> 7613 | H10: =E10+F10+G10 -> 68362 | K10: E0006020045 | O10: =HYPERLINK("#중기사용료!A87","E0006020045 →") -> E0006020045 →
A11: 덤프트럭 | B11: 24 TON | C11: 1 | D11: HR | E11: =중기사용료!G106 -> 50466 | F11: =중기사용료!G108 -> 59020 | G11: =중기사용료!G103 -> 32950 | H11: =E11+F11+G11 -> 142436 | K11: E0006020240 | O11: =HYPERLINK("#중기사용료!A99","E0006020240 →") -> E0006020240 →
A12: 덤프트럭 자동덮개시설 | B12: 24톤용 | C12: 1 | D12: HR | E12: 0 | F12: 0 | G12: =중기사용료!G115 -> 508 | H12: =E12+F12+G12 -> 508 | K12: E0006100240 | O12: =HYPERLINK("#중기사용료!A111","E0006100240 →") -> E0006100240 →
A13: 매캐덤 롤러(자주식) | B13: 10-12 TON | C13: 1 | D13: HR | E13: =중기사용료!G129 -> 17448 | F13: =중기사용료!G131 -> 59020 | G13: =중기사용료!G126 -> 12857 | H13: =E13+F13+G13 -> 89325 | K13: E0011060012 | O13: =HYPERLINK("#중기사용료!A122","E0011060012 →") -> E0011060012 →
A14: 탠덤롤러(자주식) | B14: 5 - 8 TON | C14: 1 | D14: HR | E14: =중기사용료!G141 -> 9381 | F14: =중기사용료!G143 -> 59020 | G14: =중기사용료!G138 -> 9037 | H14: =E14+F14+G14 -> 77438 | K14: E0012060008 | O14: =HYPERLINK("#중기사용료!A134","E0012060008 →") -> E0012060008 →
A15: 진동 롤러 (핸드가이드식) | B15: 0.7 톤 | C15: 1 | D15: HR | E15: =중기사용료!G153 -> 3952 | F15: =중기사용료!G155 -> 36248 | G15: =중기사용료!G150 -> 1967 | H15: =E15+F15+G15 -> 42167 | K15: E0013050007 | O15: =HYPERLINK("#중기사용료!A146","E0013050007 →") -> E0013050007 →
A16: 진동롤러(자주식) | B16: 10 TON | C16: 1 | D16: HR | E16: =중기사용료!G165 -> 29764 | F16: =중기사용료!G167 -> 59020 | G16: =중기사용료!G162 -> 26662 | H16: =E16+F16+G16 -> 115446 | K16: E0013060100 | O16: =HYPERLINK("#중기사용료!A158","E0013060100 →") -> E0013060100 →
A17: 진동롤러(자주식) | B17: 12 TON | C17: 1 | D17: HR | E17: =중기사용료!G177 -> 32658 | F17: =중기사용료!G179 -> 59020 | G17: =중기사용료!G174 -> 29191 | H17: =E17+F17+G17 -> 120869 | K17: E0013060120 | O17: =HYPERLINK("#중기사용료!A170","E0013060120 →") -> E0013060120 →
A18: 타이어롤러(자주식) | B18: 8 - 15 TON | C18: 1 | D18: HR | E18: =중기사용료!G189 -> 15645 | F18: =중기사용료!G191 -> 59020 | G18: =중기사용료!G186 -> 19136 | H18: =E18+F18+G18 -> 93801 | K18: E0014060015 | O18: =HYPERLINK("#중기사용료!A182","E0014060015 →") -> E0014060015 →
A19: 크레인(타이어) | B19: 10 TON | C19: 1 | D19: HR | E19: =중기사용료!G201 -> 8398 | F19: =중기사용료!G203 -> 49778 | G19: =중기사용료!G198 -> 31344 | H19: =E19+F19+G19 -> 89520 | K19: E0021040010 | O19: =HYPERLINK("#중기사용료!A194","E0021040010 →") -> E0021040010 →
A20: 트럭탑제형 크레인 | B20: 10 TON | C20: 1 | D20: HR | E20: =중기사용료!G213 -> 19652 | F20: =중기사용료!G215 -> 49778 | G20: =중기사용료!G210 -> 23795 | H20: =E20+F20+G20 -> 93225 | K20: E0021050010 | O20: =HYPERLINK("#중기사용료!A206","E0021050010 →") -> E0021050010 →
A21: 트럭 트랙터 및 평판트레일러 | B21: 20 TON | C21: 1 | D21: HR | E21: =중기사용료!G225 -> 36466 | F21: =중기사용료!G227 -> 49778 | G21: =중기사용료!G222 -> 17314 | H21: =E21+F21+G21 -> 103558 | K21: E0027020020 | O21: =HYPERLINK("#중기사용료!A218","E0027020020 →") -> E0027020020 →
A22: 아스팔트 피니셔 | B22: 3 M | C22: 1 | D22: HR | E22: =중기사용료!G237 -> 22116 | F22: =중기사용료!G239 -> 59020 | G22: =중기사용료!G234 -> 59141 | H22: =E22+F22+G22 -> 140277 | K22: E0032010003 | O22: =HYPERLINK("#중기사용료!A230","E0032010003 →") -> E0032010003 →
A23: 아스팔트 디스트리뷰우터 | B23: 3800 L | C23: 1 | D23: HR | E23: =중기사용료!G249 -> 21663 | F23: =중기사용료!G251 -> 59020 | G23: =중기사용료!G246 -> 16470 | H23: =E23+F23+G23 -> 97153 | K23: E0033020038 | O23: =HYPERLINK("#중기사용료!A242","E0033020038 →") -> E0033020038 →
A24: 커터(콘크리트및아스팔트용) | B24: 320-400 MM | C24: 1 | D24: HR | E24: =중기사용료!G261 -> 10832 | F24: =중기사용료!G263 -> 36248 | G24: =중기사용료!G258 -> 2064 | H24: =E24+F24+G24 -> 49144 | K24: E0044300400 | O24: =HYPERLINK("#중기사용료!A254","E0044300400 →") -> E0044300400 →
A25: 공기압축기(이동식) | B25: 3.5 M3/Min | C25: 1 | D25: HR | E25: =중기사용료!G273 -> 11435 | F25: =중기사용료!G275 -> 59020 | G25: =중기사용료!G270 -> 2445 | H25: =E25+F25+G25 -> 72900 | K25: E0052050035 | O25: =HYPERLINK("#중기사용료!A266","E0052050035 →") -> E0052050035 →
A26: 소형브레이카(공압식) | B26: 1.3㎥/min | C26: 1 | D26: HR | E26: 0 | F26: 0 | G26: =중기사용료!G282 -> 494 | H26: =E26+F26+G26 -> 494 | I26: 2017년 개정 | K26: E0052100013 | O26: =HYPERLINK("#중기사용료!A278","E0052100013 →") -> E0052100013 →
A27: 물탱크(살수차) | B27: 5500 L | C27: 1 | D27: HR | E27: =중기사용료!G296 -> 19223 | F27: =중기사용료!G298 -> 49778 | G27: =중기사용료!G293 -> 9986 | H27: =E27+F27+G27 -> 78987 | K27: E0072040055 | O27: =HYPERLINK("#중기사용료!A289","E0072040055 →") -> E0072040055 →
A28: 물탱크(살수차) | B28: 16000 L | C28: 1 | D28: HR | E28: =중기사용료!G308 -> 26664 | F28: =중기사용료!G310 -> 49778 | G28: =중기사용료!G305 -> 19154 | H28: =E28+F28+G28 -> 95596 | K28: E0072040160 | O28: =HYPERLINK("#중기사용료!A301","E0072040160 →") -> E0072040160 →
A29: 동력분무기 | B29: 4.85Kw | C29: 1 | D29: HR | E29: =중기사용료!G320 -> 2514 | F29: 0 | G29: =중기사용료!G317 -> 258 | H29: =E29+F29+G29 -> 2772 | K29: E0072100485 | O29: =HYPERLINK("#중기사용료!A313","E0072100485 →") -> E0072100485 →
A30: 라인 마커 | B30: 10Km/hr | C30: 1 | D30: HR | E30: =중기사용료!G332 -> 34229 | F30: =중기사용료!G334 -> 36248 | G30: =중기사용료!G329 -> 16131 | H30: =E30+F30+G30 -> 86608 | K30: E0073300010 | O30: =HYPERLINK("#중기사용료!A325","E0073300010 →") -> E0073300010 →

Sheet 중기사용료
A1: 중기사용료
A3: 중 기 명 | B3: 굴삭기(무한궤도) 0.4 M3 | J3: E0002010040
A4: 중기가격 | B4: 84,000 천원
A5: 명 칭 | C5: 규 격 | D5: 수 량 | E5: 단 위 | F5: 단 가 | G5: 금 액 | H5: 비 고
A6: 경 비 | B6: 굴삭기(무한궤도) | C6: 0.4 M3 | D6: =(900 + 700 + 485)*10^-4 -> 0.2085 | E6: 천원 | F6: =중기기초자료!F3 -> 84000 | G6: =TRUNC(F6*D6, 0) -> 17514 | K6: 10 | M6: G02010040 | N6: .sang=900, jung=700, kwan=485 | AG6: =HYPERLINK("#중기기초자료!A3","G02010040 →") -> G02010040 →
B7: 소 계 | G7: =TRUNC(G6, 0) -> 17514
A8: 재 료 비 | B8: 경 유 | D8: 9.9 | E8: L | F8: =중기기초자료!D34 -> 1590 | G8: =TRUNC(F8*D8, 0) -> 15741 | K8: 40 | M8: M9366005 | AG8: =HYPERLINK("#중기기초자료!A34","M9366005 →") -> M9366005 →
B9: 잡 품 | D9: 22 | E9: % | F9: 0 | G9: =TRUNC((G8) * D9/100, 0) -> 3463 | K9: 50 | M9: F/M1
B10: 소 계 | G10: =TRUNC(G8+G9, 0) -> 19204
A11: 노 무 비 | B11: 건설기계운전사 | C11: 구)건설기계운전기사 | D11: 1 | E11: 인 | F11: =TRUNC(중기기초자료!E30 * 중기전역변수!C18, 0) -> 59020 | G11: =TRUNC(F11*D11, 0) -> 59020 | K11: 15 | M11: L086 | AG11: =HYPERLINK("#중기기초자료!A30","L086 →") -> L086 →
B12: 소 계 | G12: =TRUNC(G11, 0) -> 59020
B13: 총 계 | G13: =TRUNC(G7+G10+G12, 0) -> 95738
A15: 중 기 명 | B15: 굴삭기(무한궤도) 0.6 M3 | J15: E0002010060
A16: 중기가격 | B16: 112,342 천원
A17: 명 칭 | C17: 규 격 | D17: 수 량 | E17: 단 위 | F17: 단 가 | G17: 금 액 | H17: 비 고
A18: 경 비 | B18: 굴삭기(무한궤도) | C18: 0.6 M3 | D18: =(900 + 700 + 485)*10^-4 -> 0.2085 | E18: 천원 | F18: =중기기초자료!F4 -> 112342 | G18: =TRUNC(F18*D18, 0) -> 23423 | K18: 10 | M18: G02010060 | N18: .sang=900, jung=700, kwan=485 | AG18: =HYPERLINK("#중기기초자료!A4","G02010060 →") -> G02010060 →
B19: 소 계 | G19: =TRUNC(G18, 0) -> 23423
A20: 재 료 비 | B20: 경 유 | D20: 10.2 | E20: L | F20: =중기기초자료!D34 -> 1590 | G20: =TRUNC(F20*D20, 0) -> 16218 | K20: 40 | M20: M9366005 | AG20: =HYPERLINK("#중기기초자료!A34","M9366005 →") -> M9366005 →
B21: 잡 품 | D21: 22 | E21: % | F21: 0 | G21: =TRUNC((G20) * D21/100, 0) -> 3567 | K21: 50 | M21: F/M1
B22: 소 계 | G22: =TRUNC(G20+G21, 0) -> 19785
A23: 노 무 비 | B23: 건설기계운전사 | C23: 구)건설기계운전기사 | D23: 1 | E23: 인 | F23: =TRUNC(중기기초자료!E30 * 중기전역변수!C18, 0) -> 59020 | G23: =TRUNC(F23*D23, 0) -> 59020 | K23: 15 | M23: L086 | AG23: =HYPERLINK("#중기기초자료!A30","L086 →") -> L086 →
B24: 소 계 | G24: =TRUNC(G23, 0) -> 59020
B25: 총 계 | G25: =TRUNC(G19+G22+G24, 0) -> 102228
A27: 중 기 명 | B27: 굴삭기(무한궤도) 0.7 M3 | J27: E0002010070
A28: 중기가격 | B28: 117,766 천원
A29: 명 칭 | C29: 규 격 | D29: 수 량 | E29: 단 위 | F29: 단 가 | G29: 금 액 | H29: 비 고
A30: 경 비 | B30: 굴삭기(무한궤도) | C30: 0.7 M3 | D30: =(900 + 700 + 485)*10^-4 -> 0.2085 | E30: 천원 | F30: =중기기초자료!F5 -> 117766 | G30: =TRUNC(F30*D30, 0) -> 24554 | K30: 10 | M30: G02010070 | N30: .sang=900, jung=700, kwan=485 | AG30: =HYPERLINK("#중기기초자료!A5","G02010070 →") -> G02010070 →
B31: 소 계 | G31: =TRUNC(G30, 0) -> 24554
A32: 재 료 비 | B32: 경 유 | D32: 11.6 | E32: L | F32: =중기기초자료!D34 -> 1590 | G32: =TRUNC(F32*D32, 0) -> 18444 | K32: 40 | M32: M9366005 | AG32: =HYPERLINK("#중기기초자료!A34","M9366005 →") -> M9366005 →
B33: 잡 품 | D33: 22 | E33: % | F33: 0 | G33: =TRUNC((G32) * D33/100, 0) -> 4057 | K33: 50 | M33: F/M1
B34: 소 계 | G34: =TRUNC(G32+G33, 0) -> 22501
A35: 노 무 비 | B35: 건설기계운전사 | C35: 구)건설기계운전기사 | D35: 1 | E35: 인 | F35: =TRUNC(중기기초자료!E30 * 중기전역변수!C18, 0) -> 59020 | G35: =TRUNC(F35*D35, 0) -> 59020 | K35: 15 | M35: L086 | AG35: =HYPERLINK("#중기기초자료!A30","L086 →") -> L086 →
B36: 소 계 | G36: =TRUNC(G35, 0) -> 59020
B37: 총 계 | G37: =TRUNC(G31+G34+G36, 0) -> 106075
A39: 중 기 명 | B39: 굴삭기(무한궤도) 1.0 M3 | J39: E0002010100
A40: 중기가격 | B40: 142,069 천원
A41: 명 칭 | C41: 규 격 | D41: 수 량 | E41: 단 위 | F41: 단 가 | G41: 금 액 | H41: 비 고
A42: 경 비 | B42: 굴삭기(무한궤도) | C42: 1.0 M3 | D42: =(900 + 700 + 485)*10^-4 -> 0.2085 | E42: 천원 | F42: =중기기초자료!F6 -> 142069 | G42: =TRUNC(F42*D42, 0) -> 29621 | K42: 10 | M42: G02010100 | N42: .sang=900, jung=700, kwan=485 | AG42: =HYPERLINK("#중기기초자료!A6","G02010100 →") -> G02010100 →
B43: 소 계 | G43: =TRUNC(G42, 0) -> 29621
A44: 재 료 비 | B44: 경 유 | D44: 19.5 | E44: L | F44: =중기기초자료!D34 -> 1590 | G44: =TRUNC(F44*D44, 0) -> 31005 | K44: 40 | M44: M9366005 | AG44: =HYPERLINK("#중기기초자료!A34","M9366005 →") -> M9366005 →
...

Sheet 중기기초자료
A1: 중기기초자료
A2: 명 칭 | B2: 규 격 | C2: 단 위 | D2: 재 료 비 | E2: 노 무 비 | F2: 경 비 | G2: 합 계 | H2: 비 고
A3: 굴삭기(무한궤도) | B3: 0.4 M3 | C3: 천원 | D3: 0 | E3: 0 | F3: 84000 | G3: 84000 | J3: G02010040
A4: 굴삭기(무한궤도) | B4: 0.6 M3 | C4: 천원 | D4: 0 | E4: 0 | F4: 112342 | G4: 112342 | J4: G02010060
A5: 굴삭기(무한궤도) | B5: 0.7 M3 | C5: 천원 | D5: 0 | E5: 0 | F5: 117766 | G5: 117766 | J5: G02010070
A6: 굴삭기(무한궤도) | B6: 1.0 M3 | C6: 천원 | D6: 0 | E6: 0 | F6: 142069 | G6: 142069 | J6: G02010100
A7: 대형 브레이카 | B7: 0.7 M3용 | C7: 천원 | D7: 0 | E7: 0 | F7: 17289 | G7: 17289 | J7: G02300007
A8: 덤프트럭 | B8: 2.5 톤 | C8: 천원 | D8: 0 | E8: 0 | F8: 21982 | G8: 21982 | J8: G06020025
A9: 덤프트럭 | B9: 4.5 톤 | C9: 천원 | D9: 0 | E9: 0 | F9: 25662 | G9: 25662 | J9: G06020045
A10: 덤프트럭 | B10: 24 TON | C10: 천원 | D10: 0 | E10: 0 | F10: 147825 | G10: 147825 | J10: G06020240
A11: 덤프트럭 자동덮개시설 | B11: 24 TON | C11: 천원 | D11: 0 | E11: 0 | F11: 1896 | G11: 1896 | J11: G06100240
A12: 매캐덤 롤러(자주식) | B12: 10-12 TON | C12: 천원 | D12: 0 | E12: 0 | F12: 71351 | G12: 71351 | J12: G11060012
A13: 탠덤롤러(자주식) | B13: 5 - 8 TON | C13: 천원 | D13: 0 | E13: 0 | F13: 48513 | G13: 48513 | J13: G12060008
A14: 진동 롤러 (핸드가이드식) | B14: 0.7 톤 | C14: 천원 | D14: 0 | E14: 0 | F14: 6966 | G14: 6966 | J14: G13050007
... A29: 라인 마커 | B29: 10Km/hr | C29: 천원 | D29: 0 | E29: 0 | F29: 68298 | G29: 68298 | J29: G73300010
A30: 건설기계운전사 | C30: 인 | D30: 0 | E30: 283297 | F30: 0 | G30: 283297 | I30: 56900017002 | J30: L086
A31: 화물차운전사 | C31: 인 | D31: 0 | E31: 238936 | F31: 0 | G31: 238936 | I31: 56900017059 | J31: L087
A32: 일반기계운전사 | C32: 인 | D32: 0 | E32: 173995 | F32: 0 | G32: 173995 | I32: 56900017058 | J32: L088
A33: 휘 발 유 | C33: L | D33: 1612 | E33: 0 | F33: 0 | G33: 1612 | H33: 26.07.14 | J33: M9360003
A34: 경 유 | C34: L | D34: 1590 | E34: 0 | F34: 0 | G34: 1590 | H34: 26.07.14 | J34: M9366005

Sheet 자재
A1: 자재
A2: 명 칭 | B2: 규 격 | C2: 단 위 | D2: 단 가 | E2: 비 고
A3: STEEL PANEL | B3: 600×1200mm (부속품별도) | C3: EA | D3: 28500 | E3: 물자/1-107/물자/1-107 | F3: 54400157021 | G3: M1062024 | H3: M1062024
A4: 도로표지용유리알 | B4: KSL2521 1호 | C4: KG | D4: 1700 | E4: 물자/1-166/물자/1-166 | F4: 56100717001 | G4: M1488003 | H4: M1488003
A5: 치즐 | B5: 굴삭기(0.7㎥용) | C5: 개 | D5: 230000 | E5: 견적가/견적가 | G5: M8448007
A6: 다이아몬드톱날 | B6: Ø14" × 3.2t (콘크리트,아스팔트용) | C6: 매 | D6: 160000 | E6: 물자/1-1414/물자/1-1414 | G6: M8922017 | H6: M8922017
A7: 공사안내표지판 | B7: 900*1800cm | C7: 조 | D7: 315000 | E7: 물정/1-265/물정/1-265 | G7: MU210000
A8: 윙카호스 | B8: 10cm | C8: M | D8: 1500 | E8: 물자/1-164/물자/1-164 | G8: MU220000
A9: 공사안전PE드럼 | B9: 500*800 | C9: EA | D9: 21000 | E9: 물자/1-167/물자/1-167 | G9: MU230000
A10: 라바콘 | B10: 400*400*750cm | C10: EA | D10: 22000 | E10: 물자/1-167/물자/1-167 | G10: MU240000
A11: 도로용페인트(수용성,백색) | B11: KSM6080(2종),18ℓ | C11: L | D11: 8800 | E11: 물정/1-231/물정/1-231 | G11: MU600000
A12: 도로용페인트(수용성,황색) | B12: KSM6080(2종),18ℓ | C12: L | D12: 9650 | E12: 물정/1-231/물정/1-231 | G12: MU610000
A13: 스틸그레이팅(차도용) | B13: 400x500x50 | C13: 조 | D13: 51000 | E13: 물정/1-319/물자1 P181 | G13: MZ157226 | H13: M157226Z
A14: 조립식 흙막이공법(TS패널) | B14: SS403825 | C14: 조 | D14: 239000000 | E14: 유물/104/물자1 P249 | G14: MZ206110 | H14: M2061111
A15: 가림막휀스 | B15: W2000xH1500 | C15: EA | D15: 200000 | E15: 물자/1-167/유통 P226 | G15: MZ230000
A16: 맨홀사다리 | B16: Ø22X300X220 | C16: EA | D16: 19000 | E16: /물자1 P175 | G16: MZ2602032
A17: 모 래 | B17: 도착도 | C17: ㎥ | D17: 29000 | E17: 물자/149/거가 P101 | G17: MZ900115
A18: 보조기층 | B18: 도착도 | C18: ㎥ | D18: 23000 | E18: 물자/149/물자1 P62 | G18: MZ900120
A19: 동상방지층 | B19: 도착도 | C19: ㎥ | D19: 23000 | E19: 물자/149/물자1 P62 | G19: MZ900125
A20: 유제아스팔트 | B20: RSC-3,4 | C20: D/M | D20: 250000 | E20: 물정/159/물자1 P116 | G20: MZ913060 | H20: M1152003
A21: 맨홀뚜껑(주철) | B21: φ648, 우수 | C21: EA | D21: 360000 | E21: 물자/216/유통 P203 | G21: MZ91630
A22: 다중벽관 이경티 | B22: D1000x600mm | C22: EA | D22: 696510 | E22: 물자/797/물자1 P789 | G22: MZ93268
A23: 다중벽관 곡관 | B23: D200x45˚ | C23: EA | D23: 45660 | E23: 물자/797/물자1 P789 | G23: MZ93275
A24: 다중벽관 곡관 | B24: D300x45˚ | C24: EA | D24: 77740 | E24: 물자/797/물자1 P789 | G24: MZ93277
A25: 다중벽관 곡관 | B25: D600x90˚ | C25: EA | D25: 660790 | E25: 물자/797/물자1 P789 | G25: MZ93280
A26: 우수받이 | B26: 300x400x900 | C26: EA | D26: 148500 | E26: 유물/116/물자1 P175 | G26: MZ951230
A27: PE분기관 | B27: D250mm | C27: EA | D27: 127000 | E27: 물자/1-813/물자1 P269 | G27: MZ978400
A28: PE분기관 | B28: D300mm | C28: EA | D28: 145000 | E28: 물자/1-813/물자1 P269 | G28: MZ978410
A29: 보차도경계석(직선) | B29: 200x250x1000 | C29: EA | D29: 45000 | E29: /물자1 P149 | G29: MZT02110

Sheet 노임
A1: 노임
A2: 명 칭 | B2: 규 격 | C2: 단 위 | D2: 단 가 | E2: 비 고
A3: 형틀목공 | C3: 인 | D3: 275790 | F3: 56900017137 | G3: L004 | H3: L004
A4: 콘크리트공 | C4: 인 | D4: 273540 | F4: 56900017108 | G4: L025 | H4: L025
A5: 착 암 공 | C5: 인 | D5: 222306 | F5: 56900017098 | G5: L039 | H5: L039
A6: 포 장 공 | C6: 인 | D6: 273308 | F6: 56900017123 | G6: L041 | H6: L041
A7: 포 설 공 | C7: 인 | D7: 221015 | F7: 56900017122 | G7: L042 | H7: L042
A8: 작업반장 | C8: 인 | D8: 215907 | F8: 56900017074 | G8: L081 | H8: L081
A9: 특별인부 | C9: 인 | D9: 226122 | F9: 56900017118 | G9: L084 | H9: L084
A10: 보통인부 | C10: 인 | D10: 172068 | F10: 56900017041 | G10: L085 | H10: L085
A11: 배 관 공 | B11: 수도 | C11: 인 | D11: 262580 | G11: L138 | H11: L138

Sheet 경비
A1: 경비
A2: 명 칭 | B2: 규 격 | C2: 단 위 | D2: 재 료 비 | E2: 노 무 비 | F2: 경 비 | G2: 합 계 | H2: 비 고
A3: 일반하역요금 | B3: ton당,입고료 | C3: 원 | D3: 0 | E3: 0 | F3: 2261.69 | G3: =D3+E3+F3 -> 2261.69 | J3: GTR100000
A4: 구역화물(10.5ton) | B4: 10km이내 | C4: 원 | D4: 0 | E4: 0 | F4: 87720 | G4: =D4+E4+F4 -> 87720 | J4: GTR105010

Sheet 전역변수
A1: 전역변수
A2: 변 수 명 | B2: 형 식 | C2: 값 | D2: 비 고 | E2: 적용단위
A3: A | B3: 숫자 | C3: 1208
A4: L1 | B4: 숫자 | C4: 0.2
A5: R | B5: 숫자 | C5: 1.0386
A6: S | B6: 숫자 | C6: 1.25 | D6: 주야간작업할증
A7: ZT605010 | B7: 숫자 | C7: 1 | D7: 병렬터널 할증 | E7: %

Sheet 중기전역변수
A1: 중기전역변수
A2: 변 수 명 | B2: 형 식 | C2: 값 | D2: 비 고
A3: QCODE | B3: 문자 | C3: 100000000001
A4: QUS2WON | B4: 숫자 | C4: 1507 | D4: 환율(장비가격10만불이하)
A5: QUS2WON1 | B5: 숫자 | C5: 1507 | D5: 환율(장비가격10만불이상)
A6: QYEN2WON | B6: 숫자 | C6: 9.52 | D6: 환율(엔화)
A7: QDM2WON | B7: 숫자 | C7: 0 | D7: 환율(마르크화)
A8: QSDR2WON | B8: 숫자 | C8: 0 | D8: 환율(IMF특별인출권)
A9: QECU2WON | B9: 숫자 | C9: 0 | D9: 환율(유로화)
A10: QEQTY1 | B10: 문자 | C10: (SANG + JUNG + KWAN)*10^-4 | D10: 중기주간경비산출계수
A11: QEQTY2 | B11: 문자 | C11: (SANG + JUNG + KWAN)*10^-4 | D11: 중기야간경비산출계수
A12: QEQTY3 | B12: 문자 | C12: (SANG + JUNG + int(KWAN/3))*10^-4 | D12: 중기주야간경비산출계수
A13: QEINC2 | B13: 숫자 | C13: 1.25 | D13: 중기야간할증계수
A14: QEINC3 | B14: 숫자 | C14: 1.071 | D14: 중기주야간할증계수
A15: QDECPEQ | B15: 문자 | C15: 0 | D15: 경비단가소숫점
A16: QDECCEQ | B16: 문자 | C16: 0 | D16: 경비금액소숫점
A17: QDECEQ | B17: 문자 | C17: 0 | D17: 경비계금액소숫점
A18: QH1 | B18: 문자 | C18: =25/20 * 16/12 * 1/8 -> 0.20833333 | D18: 시간당노임산출계수(일반구간)
A19: QH2 | B19: 문자 | C19: =25/20 * 16/12 * 1/8 -> 0.20833333 | D19: 시간당노임산출계수(터널구간)
A20: QH21 | B20: 문자 | C20: =25/20 * 16/12 * 1/8 -> 0.20833333 | D20: 시간당노임산출계수(장대터널)
A21: QH31 | B21: 문자 | C21: =25/20 * 16/12 * 1/8 -> 0.20833333 | D21: 시간당노임산출계수(해상장비:펌프준설선)
A22: QH32 | B22: 문자 | C22: =25/20 * 16/12 * 1/8 -> 0.20833333 | D22: 시간당노임산출계수(해상장비:GRAB준설선)
A23: QH33 | B23: 문자 | C23: =25/20 * 16/12 * 1/8 -> 0.20833333 | D23: 시간당노임산출계수(해상장비:버켓준설선)
A24: QLINC1 | B24: 숫자 | C24: 1 | D24: 노임할증계수(일반구간:주간)
A25: QLINC2 | B25: 숫자 | C25: 1.5 | D25: 노임할증계수(일반구간:야간)
A26: QLINC3 | B26: 숫자 | C26: 1.16 | D26: 노임할증계수(일반구간:주야간)
A27: QLINCA | B27: 숫자 | C27: 1.6 | D27: 노임할증계수(터널구간:주간)
A28: QLINCB | B28: 숫자 | C28: 1.6 | D28: 노임할증계수(터널구간:야간)
A29: QLINCC | B29: 숫자 | C29: 1.6 | D29: 노임할증계수(터널구간:주야간)
A30: QLINCD | B30: 숫자 | C30: 1.94 | D30: 노임할증계수(장대터널:주간)
A31: QLINCE | B31: 숫자 | C31: 1.94 | D31: 노임할증계수(장대터널:야간)
A32: QLINCF | B32: 숫자 | C32: 1.94 | D32: 노임할증계수(장대터널:주야간)
A33: QLINCX | B33: 숫자 | C33: 1 | D33: 노임할증계수(해상장비:주간)
A34: QLINCY | B34: 숫자 | C34: 1 | D34: 노임할증계수(해상장비:야간)
A35: QLINCZ | B35: 숫자 | C35: 1 | D35: 노임할증계수(해상장비:주야간)
A36: QDECPLA | B36: 문자 | C36: 0 | D36: 노임단가소숫점
A37: QDECCLA | B37: 문자 | C37: 0 | D37: 노임금액소숫점
A38: QDECLA | B38: 문자 | C38: 0 | D38: 노임계금액소숫점
A39: QMINC2 | B39: 숫자 | C39: 1.11 | D39: 재료비할증계수(야간)
A40: QMINC3 | B40: 숫자 | C40: 1.12 | D40: 재료비할증계수(주야간)
...

Sheet Sheet3
