Workbook

Sheet 내역서
A1: 내역서
A2: 공 종 명 | B2: 규 격 | C2: 수량 | D2: 단위 | E2: 합 계 | G2: 재 료 비 | I2: 노 무 비 | K2: 경 비 | M2: 비 고
E3: 단 가 | F3: 금 액 | G3: 단 가 | H3: 금 액 | I3: 단 가 | J3: 금 액 | K3: 단 가 | L3: 금 액 | S3: 할 증 | T3: 화폐변환 | U3: OP값 | V3: EQ | W3: LA | X3: MA | Y3: 금액계상
A4: 2026년 호반체육관 우수관로 복구 공사 | C4: 0 | F4: =H4+J4+L4 -> 336694000 | H4: =TRUNC(H5+H6+H7+H8+H9+H11+H12+H13+H14+H15+H16+H17+H18+H19+H20+H21+H22+H23+H24+H25+H27+H28+H30+H32+H33,0) -> 142542927 | J4: =TRUNC(J5+J6+J7+J8+J9+J11+J12+J13+J14+J15+J16+J17+J18+J19+J20+J21+J22+J23+J24+J25+J27+J28+J30+J32+J33,0) -> 90478417 | L4: =TRUNC(L5+L6+L7+L8+L9+L11+L12+L13+L14+L15+L16+L17+L18+L19+L20+L21+L22+L23+L24+L25+L27+L28+L30+L32+L33,0) -> 103672656 | O4: A
A5: 1. 토 공 | C5: 1 | D5: 식 | E5: =G5+I5+K5 -> 16069066 | F5: =H5+J5+L5 -> 16069066 | G5: =H36 -> 3592214 | H5: =TRUNC(G5*C5,0) -> 3592214 | I5: =J36 -> 9178031 | J5: =TRUNC(I5*C5,0) -> 9178031 | K5: =L36 -> 3298821 | L5: =TRUNC(K5*C5,0) -> 3298821 | P5: 10 | R5: A01 | BI5: =HYPERLINK("#내역서!A36","A01 →") -> A01 →
A6: 2. 우 수 공 | C6: 1 | D6: 식 | E6: =G6+I6+K6 -> 87553687 | F6: =H6+J6+L6 -> 87553687 | G6: =H49 -> 22586272 | H6: =TRUNC(G6*C6,0) -> 22586272 | I6: =J49 -> 59377271 | J6: =TRUNC(I6*C6,0) -> 59377271 | K6: =L49 -> 5590144 | L6: =TRUNC(K6*C6,0) -> 5590144 | P6: 20 | R6: A02 | BI6: =HYPERLINK("#내역서!A49","A02 →") -> A02 →
A7: 3. 포 장 공 | C7: 1 | D7: 식 | E7: =G7+I7+K7 -> 6445487 | F7: =H7+J7+L7 -> 6445487 | G7: =H71 -> 1231818 | H7: =TRUNC(G7*C7,0) -> 1231818 | I7: =J71 -> 4134367 | J7: =TRUNC(I7*C7,0) -> 4134367 | K7: =L71 -> 1079302 | L7: =TRUNC(K7*C7,0) -> 1079302 | P7: 40 | R7: A06 | BI7: =HYPERLINK("#내역서!A71","A06 →") -> A06 →
A8: 4. 부 대 공 | C8: 1 | D8: 식 | E8: =G8+I8+K8 -> 1944080 | F8: =H8+J8+L8 -> 1944080 | G8: =H84 -> 346763 | H8: =TRUNC(G8*C8,0) -> 346763 | I8: =J84 -> 266135 | J8: =TRUNC(I8*C8,0) -> 266135 | K8: =L84 -> 1331182 | L8: =TRUNC(K8*C8,0) -> 1331182 | P8: 50 | R8: A07 | BI8: =HYPERLINK("#내역서!A84","A07 →") -> A07 →
A9: 5. 사 급 자 재 대 | C9: 1 | D9: 식 | E9: =G9+I9+K9 -> 19599380 | F9: =H9+J9+L9 -> 19599380 | G9: =H94 -> 19599380 | H9: =TRUNC(G9*C9,0) -> 19599380 | I9: =J94 -> 0 | J9: =TRUNC(I9*C9,0) -> 0 | K9: =L94 -> 0 | L9: =TRUNC(K9*C9,0) -> 0 | P9: 60 | R9: A10 | AA9: MA+ = | AB9: =(내역서!H5+내역서!H6+내역서!H7+내역서!H8+내역서!H9) -> 47356447 | AC9: MA = | AD9: =$AB9 -> 47356447 | BI9: =HYPERLINK("#내역서!A94","A10 →") -> A10 →
A10: 소 계 | E10: =G10+I10+K10 -> 0 | F10: =H10+J10+L10 -> 131611700 | H10: =TRUNC((H5+H6+H7+H8+H9),0) -> 47356447 | J10: =TRUNC((J5+J6+J7+J8+J9),0) -> 72955804 | L10: =TRUNC((L5+L6+L7+L8+L9),0) -> 11299449 | P10: 70 | Q10: * | R10: F | X10: ma=ma(10,0,60)_x000D_ LA=LA(10,0,60)_x000D_ EQ=EQ(10,0,60) | AA10: LA+ = | AB10: =내역서!J10*(내역서!C11*전역변수!C7)/100 -> 13934559 | AC10: LA = | AD10: =$AB10 -> 13934559
A11: 6. 간 접 노 무 비 | B11: 직노의 | C11: 19.1 | D11: % | E11: =G11+I11+K11 -> 0 | F11: =H11+J11+L11 -> 13934558 | H11: 0 | J11: =TRUNC((J10*(C11*전역변수!C7)/100),0) -> 13934558 | L11: 0 | P11: 80 | R11: F | X11: .LA=LA(70)*qty()/100 | AA11: EQ+ = | AB11: =(내역서!J10+(내역서!J11*전역변수!C7))*(내역서!C12*전역변수!C7)/100 -> 3093296.9 | AC11: EQ = | AD11: =$AB11 -> 3093296.9
A12: 7. 산 재 보 험 료 | B12: (직노+간노)의 | C12: 3.56 | D12: % | E12: =G12+I12+K12 -> 0 | F12: =H12+J12+L12 -> 3093296 | H12: 0 | J12: 0 | L12: =TRUNC(((J10+(J11*전역변수!C7))*(C12*전역변수!C7)/100),0) -> 3093296 | P12: 90 | R12: F | X12: .EQ=LA(70,0,80)*qty()/100 | AA12: EQ+ = | AB12: =(내역서!J10+(내역서!J11*전역변수!C7))*(내역서!C13*전역변수!C7)/100 -> 877592.66 | AC12: EQ = | AD12: =$AB12 -> 877592.66
A13: 8. 고 용 보 험 료 | B13: (직노+간노)의 | C13: 1.01 | D13: % | E13: =G13+I13+K13 -> 0 | F13: =H13+J13+L13 -> 877592 | H13: 0 | J13: 0 | L13: =TRUNC(((J10+(J11*전역변수!C7))*(C13*전역변수!C7)/100),0) -> 877592 | P13: 100 | R13: F | X13: .EQ=LA(70,0,80)*qty()/100 | AA13: EQ+ = | AB13: =(내역서!J10+(내역서!J11*전역변수!C7))*(내역서!C14*전역변수!C7)/100 -> 5213.4217 | AC13: EQ = | AD13: =$AB13 -> 5213.4217
A14: 9. 석면분담금 | B14: (직노+간노)의 | C14: 0.006 | D14: % | E14: =G14+I14+K14 -> 0 | F14: =H14+J14+L14 -> 5213 | H14: 0 | J14: 0 | L14: =TRUNC(((J10+(J11*전역변수!C7))*(C14*전역변수!C7)/100),0) -> 5213 | P14: 110 | R14: F | X14: .EQ=LA(70,0,80)*qty()/100 | AA14: EQ+ = | AB14: =(내역서!J10+(내역서!J11*전역변수!C7))*(내역서!C15*전역변수!C7)/100 -> 78201.326 | AC14: EQ = | AD14: =$AB14 -> 78201.326
A15: 10. 임금채권부담금 | B15: (직노+간노)의 | C15: 0.09 | D15: % | E15: =G15+I15+K15 -> 0 | F15: =H15+J15+L15 -> 78201 | H15: 0 | J15: 0 | L15: =TRUNC(((J10+(J11*전역변수!C7))*(C15*전역변수!C7)/100),0) -> 78201 | P15: 120 | R15: F | X15: .EQ=LA(70,0,80)*qty()/100 | AA15: EQ+ = | AB15: =내역서!J10*(내역서!C16*전역변수!C7)/100 -> 2622761.2 | AC15: EQ = | AD15: =$AB15 -> 2622761.2
A16: 11. 건 강 보 험 료 | B16: 직노의 | C16: 3.595 | D16: % | E16: =G16+I16+K16 -> 0 | F16: =H16+J16+L16 -> 2622761 | H16: 0 | J16: 0 | L16: =TRUNC((J10*(C16*전역변수!C7)/100),0) -> 2622761 | P16: 130 | R16: F | X16: .EQ=LA(70)*qty()/100 | AA16: EQ+ = | AB16: =내역서!J10*(내역서!C17*전역변수!C7)/100 -> 3465400.7 | AC16: EQ = | AD16: =$AB16 -> 3465400.7
A17: 12. 연 금 보 험 료 | B17: 직노의 | C17: 4.75 | D17: % | E17: =G17+I17+K17 -> 0 | F17: =H17+J17+L17 -> 3465400 | H17: 0 | J17: 0 | L17: =TRUNC((J10*(C17*전역변수!C7)/100),0) -> 3465400 | P17: 140 | R17: F | X17: .EQ=LA(70)*qty()/100 | AA17: EQ+ = | AB17: =((내역서!H16+내역서!J16+내역서!L16)*전역변수!C7)*(내역서!C18*전역변수!C7)/100 -> 344630.8 | AC17: EQ = | AD17: =$AB17 -> 344630.8
A18: 13. 노인장기요양보험료 | B18: 건강보험료의 | C18: 13.14 | D18: % | E18: =G18+I18+K18 -> 0 | F18: =H18+J18+L18 -> 344630 | H18: 0 | J18: 0 | L18: =TRUNC((((H16+J16+L16)*전역변수!C7)*(C18*전역변수!C7)/100),0) -> 344630 | P18: 150 | R18: F | X18: .EQ=TOT(130)*qty()/100 | AA18: EQ+ = | AB18: =내역서!J10*(내역서!C19*전역변수!C7)/100 -> 1677983.5 | AC18: EQ = | AD18: =$AB18 -> 1677983.5
A19: 14. 퇴직공제부금비 | B19: 직노의 | C19: 2.3 | D19: % | E19: =G19+I19+K19 -> 0 | F19: =H19+J19+L19 -> 1677983 | H19: 0 | J19: 0 | L19: =TRUNC((J10*(C19*전역변수!C7)/100),0) -> 1677983 | P19: 160 | R19: F | X19: .EQ=LA(70)*qty()/100 | AA19: EQ+ = | AB19: =(내역서!H10+내역서!J10+내역서!L10)*(내역서!C20*전역변수!C7)/100 -> 671219.67 | AC19: EQ = | AD19: =$AB19 -> 671219.67
A20: 15. 건설기계보증수수료 | B20: 직접공사비의 | C20: 0.51 | D20: % | E20: =G20+I20+K20 -> 0 | F20: =H20+J20+L20 -> 671219 | H20: 0 | J20: 0 | L20: =TRUNC(((H10+J10+L10)*(C20*전역변수!C7)/100),0) -> 671219 | P20: 180 | R20: F | X20: .eq=tot(70)*qty()/100 | AA20: EQ+ = | AB20: =((내역서!J10+내역서!H10)*(내역서!C21*전역변수!C7)/100)*1.2 -> 4547803.1 | AC20: EQ = | AD20: =$AB20 -> 4547803.1
A21: 16. 산업안전보건관리비 | B21: (재+직노)의 | C21: 3.15 | D21: % | E21: =G21+I21+K21 -> 0 | F21: =H21+J21+L21 -> 4547803 | H21: 0 | J21: 0 | L21: =TRUNC((((J10+H10)*(C21*전역변수!C7)/100)*1.2),0) -> 4547803 | P21: 190 | R21: F | X21: .EQ=((LA(70)+MA(70))*qty()/100)*1.2 | AA21: EQ+ = | AB21: =(내역서!H10+내역서!J10+내역서!L10)*(내역서!C22*전역변수!C7)/100 -> 658058.5 | AC21: EQ = | AD21: =$AB21 -> 658058.5
A22: 17. 환 경 보 전 비 | B22: 직접공사비의 | C22: 0.5 | D22: % | E22: =G22+I22+K22 -> 0 | F22: =H22+J22+L22 -> 658058 | H22: 0 | J22: 0 | L22: =TRUNC(((H10+J10+L10)*(C22*전역변수!C7)/100),0) -> 658058 | P22: 200 | R22: F | X22: .EQ=TOT(70)*qty()/100 | AA22: EQ+ = | AB22: =(내역서!H10+(내역서!J10+(내역서!J11*전역변수!C7)))*(내역서!C23*전역변수!C7)/100 -> 7383574.5 | AC22: EQ = | AD22: =$AB22 -> 7383574.5
A23: 18. 기 타 경 비 | B23: (재+직간노)의 | C23: 5.5 | D23: % | E23: =G23+I23+K23 -> 0 | F23: =H23+J23+L23 -> 7383574 | H23: 0 | J23: 0 | L23: =TRUNC(((H10+(J10+(J11*전역변수!C7)))*(C23*전역변수!C7)/100),0) -> 7383574 | P23: 210 | R23: F | X23: .EQ=(MA(70)+LA(70,0,80))*qty()/100 | AA23: EQ+ = | AB23: =(내역서!H10+내역서!J10+내역서!L10)*(내역서!C24*전역변수!C7)/100 -> 0 | AC23: EQ = | AD23: =$AB23 -> 0
A24: 19. 건설하도급대금지급보증서발급수수료 | B24: 직접공사비의 | D24: % | E24: =G24+I24+K24 -> 0 | F24: =H24+J24+L24 -> 0 | H24: 0 | J24: 0 | L24: =TRUNC(((H10+J10+L10)*(C24*전역변수!C7)/100),0) -> 0 | P24: 220 | R24: F | X24: .eq=tot(70)*qty()/100
A25: 20. 안 전 관 리 비 | C25: 1 | D25: 식 | E25: =G25+I25+K25 -> 5622055 | F25: =H25+J25+L25 -> 5622055 | G25: =H111 -> 2034000 | H25: =TRUNC(G25*C25,0) -> 2034000 | I25: =J111 -> 3588055 | J25: =TRUNC(I25*C25,0) -> 3588055 | K25: =L111 -> 0 | L25: =TRUNC(K25*C25,0) -> 0 | P25: 250 | R25: A12 | AA25: MA+ = | AB25: =(내역서!H10+(내역서!H11*전역변수!C7)+(내역서!H12*전역변수!C7)+(내역서!H13*전역변수!C7)+(내역서!H14*전역변수!C7)+(내역서!H15*전역변수!C7)+(내역서!H16*전역변수!C7)+(내역서!H17*전역변수!C7)+(내역서!H18*전역변수!C7)+(내역서!H19*전역변수!C7)+(내역서!H20*전역변수!C7)+(내역서!H21*전역변수!C7)+(내역서!H22*전역변수!C7)+(내역서!H23*전역변수!C7)+(내역서!H24*전역변수!C7)+내역서!H25) -> 49390447 | AC25: MA = | AD25: =$AB25 -> 49390447 | BI25: =HYPERLINK("#내역서!A111","A12 →") -> A12 →
A26: 순 공 사 비 | E26: =G26+I26+K26 -> 0 | F26: =H26+J26+L26 -> 176594043 | H26: =TRUNC((H10+(H11*전역변수!C7)+(H12*전역변수!C7)+(H13*전역변수!C7)+(H14*전역변수!C7)+(H15*전역변수!C7)+(H16*전역변수!C7)+(H17*전역변수!C7)+(H18*전역변수!C7)+(H19*전역변수!C7)+(H20*전역변수!C7)+(H21*전역변수!C7)+(H22*전역변수!C7)+(H23*전역변수!C7)+(H24*전역변수!C7)+H25),0) -> 49390447 | J26: =TRUNC((J10+(J11*전역변수!C7)+(J12*전역변수!C7)+(J13*전역변수!C7)+(J14*전역변수!C7)+(J15*전역변수!C7)+(J16*전역변수!C7)+(J17*전역변수!C7)+(J18*전역변수!C7)+(J19*전역변수!C7)+(J20*전역변수!C7)+(J21*전역변수!C7)+(J22*전역변수!C7)+(J23*전역변수!C7)+(J24*전역변수!C7)+J25),0) -> 90478417 | L26: =TRUNC((L10+(L11*전역변수!C7)+(L12*전역변수!C7)+(L13*전역변수!C7)+(L14*전역변수!C7)+(L15*전역변수!C7)+(L16*전역변수!C7)+(L17*전역변수!C7)+(L18*전역변수!C7)+(L19*전역변수!C7)+(L20*전역변수!C7)+(L21*전역변수!C7)+(L22*전역변수!C7)+(L23*전역변수!C7)+(L24*전역변수!C7)+L25),0) -> 36725179 | P26: 260 | Q26: * | R26: F | X26: .MA=MA(70,0,250)_x000D_ .LA=LA(70,0,250)_x000D_ .EQ=EQ(70,0,250) | AA26: EQ+ = | AB26: =(내역서!H26+내역서!J26+내역서!L26)*(내역서!C27*전역변수!C7)/100 -> 14127523 | AC26: EQ = | AD26: =$AB26 -> 14127523
A27: 21. 일 반 관 리 비 | B27: 순공사비의 | C27: 8 | D27: % | E27: =G27+I27+K27 -> 0 | F27: =H27+J27+L27 -> 14127523 | H27: 0 | J27: 0 | L27: =TRUNC(((H26+J26+L26)*(C27*전역변수!C7)/100),0) -> 14127523 | P27: 270 | R27: F | X27: .EQ=TOT(260)*qty()/100 | AA27: EQ+ = | AB27: =(((내역서!H26+내역서!J26+내역서!L26)+((내역서!H27+내역서!J27+내역서!L27)*전역변수!C7))-내역서!H10)*(내역서!C28*전역변수!C7)/100-12966/1.1 -> 21492981 | AC27: EQ = | AD27: =$AB27 -> 21492981
A28: 22. 이 윤 | B28: (노+경+일반)의 | C28: 15 | D28: % | E28: =G28+I28+K28 -> 0 | F28: =H28+J28+L28 -> 21492980 | H28: 0 | J28: 0 | L28: =TRUNC(((((H26+J26+L26)+((H27+J27+L27)*전역변수!C7))-H10)*(C28*전역변수!C7)/100-12966/1.1),0) -> 21492980 | P28: 280 | R28: F | X28: .EQ=(TOT(260,0,270)-MA(70))*qty()/100-12966/1.1 | AA28: MA+ = | AB28: =(내역서!H26+(내역서!H27*전역변수!C7)+(내역서!H28*전역변수!C7)) -> 49390447 | AC28: MA = | AD28: =$AB28 -> 49390447
A29: 공 급 가 액 | E29: =G29+I29+K29 -> 0 | F29: =H29+J29+L29 -> 212214546 | H29: =TRUNC((H26+(H27*전역변수!C7)+(H28*전역변수!C7)),0) -> 49390447 | J29: =TRUNC((J26+(J27*전역변수!C7)+(J28*전역변수!C7)),0) -> 90478417 | L29: =TRUNC((L26+(L27*전역변수!C7)+(L28*전역변수!C7)),0) -> 72345682 | P29: 300 | Q29: * | R29: F | X29: .MA=MA(260,0,290)_x000D_ .LA=LA(260,0,290)_x000D_ .EQ=EQ(260,0,290) | AA29: EQ+ = | AB29: =(내역서!H29+내역서!J29+내역서!L29)*(내역서!C30*전역변수!C7)/100 -> 21221455 | AC29: EQ = | AD29: =$AB29 -> 21221455
A30: 23. 부 가 가 치 세 | B30: 공급가액의 | C30: 10 | D30: % | E30: =G30+I30+K30 -> 0 | F30: =H30+J30+L30 -> 21221454 | H30: 0 | J30: 0 | L30: =TRUNC(((H29+J29+L29)*(C30*전역변수!C7)/100),0) -> 21221454 | P30: 310 | R30: F | X30: .EQ=TOT(300)*qty()/100 | AA30: MA+ = | AB30: =(내역서!H29+(내역서!H30*전역변수!C7)) -> 49390447 | AC30: MA = | AD30: =$AB30 -> 49390447
A31: 도 급 예 정 액 | E31: =G31+I31+K31 -> 0 | F31: =H31+J31+L31 -> 233436000 | H31: =TRUNC((H29+(H30*전역변수!C7)),0) -> 49390447 | J31: =TRUNC((J29+(J30*전역변수!C7)),0) -> 90478417 | L31: =TRUNC((L29+(L30*전역변수!C7)),0) -> 93567136 | P31: 320 | Q31: * | R31: F | X31: .MA = MA(300,0,310)_x000D_ .LA = LA(300,0,310)_x000D_ .EQ = EQ(300,0,310) | AA31: LA+ = | AB31: =(내역서!J29+(내역서!J30*전역변수!C7)) -> 90478417 | AC31: LA = | AD31: =$AB31 -> 90478417
A32: 24. 관 급 자 재 대 | C32: 1 | D32: 식 | E32: =G32+I32+K32 -> 93658000 | F32: =H32+J32+L32 -> 93658000 | G32: =H117 -> 93152480 | H32: =TRUNC(G32*C32,0) -> 93152480 | I32: =J117 -> 0 | J32: =TRUNC(I32*C32,0) -> 0 | K32: =L117 -> 505520 | L32: =TRUNC(K32*C32,0) -> 505520 | P32: 330 | R32: A15 | AA32: EQ+ = | AB32: =(내역서!L29+(내역서!L30*전역변수!C7)) -> 93567136 | AC32: EQ = | AD32: =$AB32 -> 93567136 | BI32: =HYPERLINK("#내역서!A117","A15 →") -> A15 →
A33: 25. 폐 기 물 처 리 | C33: 1 | D33: 식 | E33: =G33+I33+K33 -> 9600000 | F33: =H33+J33+L33 -> 9600000 | G33: =TRUNC(X33,2) -> 0 | H33: =TRUNC(G33*C33,0) -> 0 | I33: =TRUNC(W33,2) -> 0 | J33: =TRUNC(I33*C33,0) -> 0 | K33: =TRUNC(V33,2) -> 9600000 | L33: =TRUNC(K33*C33,0) -> 9600000 | P33: 340 | R33: G | V33: 9600000 | W33: 0 | X33: 0 | AA33: MA+ = | AB33: =(내역서!H31+내역서!H32+내역서!H33) -> 142542927 | AC33: MA = | AD33: =$AB33 -> 142542927
A34: 총 공 사 비 | E34: =G34+I34+K34 -> 0 | F34: =H34+J34+L34 -> 336694000 | H34: =TRUNC((H31+H32+H33),0) -> 142542927 | J34: =TRUNC((J31+J32+J33),0) -> 90478417 | L34: =TRUNC((L31+L32+L33),0) -> 103672656 | P34: 360 | Q34: * | R34: F | X34: .MA = MA(320,0,340)_x000D_ .LA = LA(320,0,340)_x000D_ .EQ = EQ(320,0,340) | AA34: LA+ = | AB34: =(내역서!J31+내역서!J32+내역서!J33) -> 90478417 | AC34: LA = | AD34: =$AB34 -> 90478417
E35: =G35+I35+K35 -> 0 | F35: =H35+J35+L35 -> 0 | H35: 0 | J35: 0 | L35: 0 | P35: 370 | Q35: S | AA35: EQ+ = | AB35: =(내역서!L31+내역서!L32+내역서!L33) -> 103672656 | AC35: EQ = | AD35: =$AB35 -> 103672656
A36: 1. 토 공 | C36: 1 | D36: 식 | F36: =H36+J36+L36 -> 16069066 | H36: =TRUNC(H38+H39+H40+H41+H42+H43+H44+H45+H46+H47,0) -> 3592214 | J36: =TRUNC(J38+J39+J40+J41+J42+J43+J44+J45+J46+J47,0) -> 9178031 | L36: =TRUNC(L38+L39+L40+L41+L42+L43+L44+L45+L46+L47,0) -> 3298821 | O36: A01
A37: 1) 기존구조물철거 | E37: =G37+I37+K37 -> 0 | F37: =H37+J37+L37 -> 2090153 | H37: =TRUNC(H38+H39+H40+H41,0) -> 453560 | J37: =TRUNC(J38+J39+J40+J41,0) -> 1263608 | L37: =TRUNC(L38+L39+L40+L41,0) -> 372985 | P37: 10
A38: 구조물헐기(무근) | B38: 대형30CM미만 | C38: 3 | D38: ㎥ | E38: =G38+I38+K38 -> 30884 | F38: =H38+J38+L38 -> 92652 | G38: =일위대가목록!F3 -> 4651 | H38: =TRUNC(G38*C38,0) -> 13953 | I38: =일위대가목록!G3 -> 17505 | J38: =TRUNC(I38*C38,0) -> 52515 | K38: =일위대가목록!H3 -> 8728 | L38: =TRUNC(K38*C38,0) -> 26184 | M38: #.1 | P38: 30 | R38: SA00450 | T38: F | BI38: =HYPERLINK("#일위대가목록!A3","SA00450 →") -> SA00450 →
A39: 아스콘포장깨기 | B39: 굴삭기 0.7㎥ | C39: 90 | D39: ㎥ | E39: =G39+I39+K39 -> 8877 | F39: =H39+J39+L39 -> 798930 | G39: =일위대가목록!F4 -> 1337 | H39: =TRUNC(G39*C39,0) -> 120330 | I39: =일위대가목록!G4 -> 5032 | J39: =TRUNC(I39*C39,0) -> 452880 | K39: =일위대가목록!H4 -> 2508 | L39: =TRUNC(K39*C39,0) -> 225720 | M39: #.2 | P39: 40 | R39: SA01200 | T39: F | BI39: =HYPERLINK("#일위대가목록!A4","SA01200 →") -> SA01200 →
A40: 아스팔트포장절단 | C40: 340 | D40: m | E40: =G40+I40+K40 -> 2276 | F40: =H40+J40+L40 -> 773840 | G40: =일위대가목록!F5 -> 674 | H40: =TRUNC(G40*C40,0) -> 229160 | I40: =일위대가목록!G5 -> 1535 | J40: =TRUNC(I40*C40,0) -> 521900 | K40: =일위대가목록!H5 -> 67 | L40: =TRUNC(K40*C40,0) -> 22780 | M40: #.3 | P40: 50 | R40: SA01500 | T40: F | BI40: =HYPERLINK("#일위대가목록!A5","SA01500 →") -> SA01500 →
A41: 폐기물상차 | B41: 백호우0.7㎥ | C41: 93 | D41: ㎥ | E41: =G41+I41+K41 -> 4567 | F41: =H41+J41+L41 -> 424731 | G41: =일위대가목록!F6 -> 969 | H41: =TRUNC(G41*C41,0) -> 90117 | I41: =일위대가목록!G6 -> 2541 | J41: =TRUNC(I41*C41,0) -> 236313 | K41: =일위대가목록!H6 -> 1057 | L41: =TRUNC(K41*C41,0) -> 98301 | M41: #.4 | P41: 130 | R41: SA02100 | T41: F | BI41: =HYPERLINK("#일위대가목록!A6","SA02100 →") -> SA02100 →
A42: 2) 흙깍기(보통토사)소규모 | B42: 굴삭기 1.0㎥ | C42: 204 | D42: ㎥ | E42: =G42+I42+K42 -> 3263 | F42: =H42+J42+L42 -> 665652 | G42: =일위대가목록!F7 -> 976 | H42: =TRUNC(G42*C42,0) -> 199104 | I42: =일위대가목록!G7 -> 1523 | J42: =TRUNC(I42*C42,0) -> 310692 | K42: =일위대가목록!H7 -> 764 | L42: =TRUNC(K42*C42,0) -> 155856 | M42: #.5 | P42: 160 | R42: SA02420 | T42: F | BI42: =HYPERLINK("#일위대가목록!A7","SA02420 →") -> SA02420 →
A43: 3) 치환토 부설 및 다짐 | C43: 87 | D43: ㎥ | E43: =G43+I43+K43 -> 12584 | F43: =H43+J43+L43 -> 1094808 | G43: =일위대가목록!F8 -> 2681 | H43: =TRUNC(G43*C43,0) -> 233247 | I43: =일위대가목록!G8 -> 7716 | J43: =TRUNC(I43*C43,0) -> 671292 | K43: =일위대가목록!H8 -> 2187 | L43: =TRUNC(K43*C43,0) -> 190269 | M43: #.6 | P43: 180 | R43: SE00200 | T43: F | BI43: =HYPERLINK("#일위대가목록!A8","SE00200 →") -> SE00200 →
A44: 4) 구조물터파기(보통토사) | B44: TYPE-2 | C44: 1317 | D44: ㎥ | E44: =G44+I44+K44 -> 2408 | F44: =H44+J44+L44 -> 3171336 | G44: =일위대가목록!F9 -> 720 | H44: =TRUNC(G44*C44,0) -> 948240 | I44: =일위대가목록!G9 -> 1124 | J44: =TRUNC(I44*C44,0) -> 1480308 | K44: =일위대가목록!H9 -> 564 | L44: =TRUNC(K44*C44,0) -> 742788 | M44: #.7 | P44: 190 | R44: SC00100 | T44: F | BI44: =HYPERLINK("#일위대가목록!A9","SC00100 →") -> SC00100 →
A45: 5) 되메우기및다짐 | B45: 대형장비 | C45: 826 | D45: ㎥ | E45: =G45+I45+K45 -> 8626 | F45: =H45+J45+L45 -> 7125076 | G45: =일위대가목록!F10 -> 1740 | H45: =TRUNC(G45*C45,0) -> 1437240 | I45: =일위대가목록!G10 -> 5314 | J45: =TRUNC(I45*C45,0) -> 4389364 | K45: =일위대가목록!H10 -> 1572 | L45: =TRUNC(K45*C45,0) -> 1298472 | M45: #.8 | P45: 200 | R45: SA05460 | T45: F | BI45: =HYPERLINK("#일위대가목록!A10","SA05460 →") -> SA05460 →
A46: 6) 모래부설 | B46: 굴삭기 0.7㎥ | C46: 3 | D46: ㎥ | E46: =G46+I46+K46 -> 1771 | F46: =H46+J46+L46 -> 5313 | G46: =일위대가목록!F11 -> 175 | H46: =TRUNC(G46*C46,0) -> 525 | I46: =일위대가목록!G11 -> 1405 | J46: =TRUNC(I46*C46,0) -> 4215 | K46: =일위대가목록!H11 -> 191 | L46: =TRUNC(K46*C46,0) -> 573 | M46: #.9 | P46: 205 | R46: SB01110 | T46: F | BI46: =HYPERLINK("#일위대가목록!A11","SB01110 →") -> SB01110 →
A47: 7) 사토(토사) | B47: L = 5.0km | C47: 506 | D47: ㎥ | E47: =G47+I47+K47 -> 3788 | F47: =H47+J47+L47 -> 1916728 | G47: =일위대가목록!F12 -> 633 | H47: =TRUNC(G47*C47,0) -> 320298 | I47: =일위대가목록!G12 -> 2092 | J47: =TRUNC(I47*C47,0) -> 1058552 | K47: =일위대가목록!H12 -> 1063 | L47: =TRUNC(K47*C47,0) -> 537878 | M47: #.10 | P47: 210 | R47: SA04850 | T47: F | BI47: =HYPERLINK("#일위대가목록!A12","SA04850 →") -> SA04850 →
E48: =G48+I48+K48 -> 0 | F48: =H48+J48+L48 -> 0 | H48: 0 | J48: 0 | L48: 0 | P48: 250
A49: 2. 우 수 공 | C49: 1 | D49: 식 | F49: =H49+J49+L49 -> 87553687 | H49: =TRUNC(H51+H52+H53+H54+H55+H57+H59+H60+H61+H62+H63+H64+H66+H67+H68+H69,0) -> 22586272 | J49: =TRUNC(J51+J52+J53+J54+J55+J57+J59+J60+J61+J62+J63+J64+J66+J67+J68+J69,0) -> 59377271 | L49: =TRUNC(L51+L52+L53+L54+L55+L57+L59+L60+L61+L62+L63+L64+L66+L67+L68+L69,0) -> 5590144 | O49: A02
A50: 1) 우 수 관 | E50: =G50+I50+K50 -> 0 | F50: =H50+J50+L50 -> 19643440 | H50: =TRUNC(H51+H52+H53+H54+H55,0) -> 2235276 | J50: =TRUNC(J51+J52+J53+J54+J55,0) -> 16645402 | L50: =TRUNC(L51+L52+L53+L54+L55,0) -> 762762 | P50: 30
A51: PE다중벽관접합및부설 | B51: D 1000mm | C51: 108 | D51: m | E51: =G51+I51+K51 -> 24000 | F51: =H51+J51+L51 -> 2592000 | G51: =일위대가목록!F13 -> 1834 | H51: =TRUNC(G51*C51,0) -> 198072 | I51: =일위대가목록!G13 -> 19555 | J51: =TRUNC(I51*C51,0) -> 2111940 | K51: =일위대가목록!H13 -> 2611 | L51: =TRUNC(K51*C51,0) -> 281988 | M51: #.11 | P51: 60 | R51: SB01035 | T51: F | BI51: =HYPERLINK("#일위대가목록!A13","SB01035 →") -> SB01035 →
A52: PE다중벽관접합및부설 | B52: D 600mm | C52: 4 | D52: 개소 | E52: =G52+I52+K52 -> 88596 | F52: =H52+J52+L52 -> 354384 | G52: =일위대가목록!F14 -> 6092 | H52: =TRUNC(G52*C52,0) -> 24368 | I52: =일위대가목록!G14 -> 73655 | J52: =TRUNC(I52*C52,0) -> 294620 | K52: =일위대가목록!H14 -> 8849 | L52: =TRUNC(K52*C52,0) -> 35396 | M52: #.12 | P52: 85 | R52: SB01032 | T52: F | BI52: =HYPERLINK("#일위대가목록!A14","SB01032 →") -> SB01032 →
A53: 레디믹스콘크리트타설 | B53: 장비사용, 무근구조물 | C53: 142 | D53: ㎥ | E53: =G53+I53+K53 -> 29530 | F53: =H53+J53+L53 -> 4193260 | G53: =일위대가목록!F15 -> 3170 | H53: =TRUNC(G53*C53,0) -> 450140 | I53: =일위대가목록!G15 -> 23245 | J53: =TRUNC(I53*C53,0) -> 3300790 | K53: =일위대가목록!H15 -> 3115 | L53: =TRUNC(K53*C53,0) -> 442330 | M53: #.13 | P53: 97 | R53: SB01100 | T53: F | BI53: =HYPERLINK("#일위대가목록!A15","SB01100 →") -> SB01100 →
A54: 유로폼 조립.해체(벽체) | B54: 간단,6회-수직고7.0m 이하 | C54: 340 | D54: ㎡ | E54: =G54+I54+K54 -> 36328 | F54: =H54+J54+L54 -> 12351520 | G54: =일위대가목록!F16 -> 4448 | H54: =TRUNC(G54*C54,0) -> 1512320 | I54: =일위대가목록!G16 -> 31880 | J54: =TRUNC(I54*C54,0) -> 10839200 | K54: =일위대가목록!H16 -> 0 | L54: =TRUNC(K54*C54,0) -> 0 | M54: #.14 | P54: 103 | R54: SB03950 | T54: F | BI54: =HYPERLINK("#일위대가목록!A16","SB03950 →") -> SB03950 →
A55: 기존맨홀천공및접합 | B55: D800mm | C55: 4 | D55: 개소 | E55: =G55+I55+K55 -> 38069 | F55: =H55+J55+L55 -> 152276 | G55: =일위대가목록!F17 -> 12594 | H55: =TRUNC(G55*C55,0) -> 50376 | I55: =일위대가목록!G17 -> 24713 | J55: =TRUNC(I55*C55,0) -> 98852 | K55: =일위대가목록!H17 -> 762 | L55: =TRUNC(K55*C55,0) -> 3048 | M55: #.15 | P55: 108 | R55: SE55250 | T55: F | BI55: =HYPERLINK("#일위대가목록!A17","SE55250 →") -> SE55250 →
A56: 2) 가시설공 | E56: =G56+I56+K56 -> 0 | F56: =H56+J56+L56 -> 63085346 | H56: =TRUNC(H57,0) -> 17892520 | J56: =TRUNC(J57,0) -> 40552312 | L56: =TRUNC(L57,0) -> 4640514 | P56: 113
A57: 조립식흙막이공(TS판넬) | B57: 2.4Bx3.80H(SS) | C57: 122 | D57: m | E57: =G57+I57+K57 -> 517093 | F57: =H57+J57+L57 -> 63085346 | G57: =일위대가목록!F18 -> 146660 | H57: =TRUNC(G57*C57,0) -> 17892520 | I57: =일위대가목록!G18 -> 332396 | J57: =TRUNC(I57*C57,0) -> 40552312 | K57: =일위대가목록!H18 -> 38037 | L57: =TRUNC(K57*C57,0) -> 4640514 | M57: #.16 | P57: 123 | R57: SB50550 | T57: F | BI57: =HYPERLINK("#일위대가목록!A18","SB50550 →") -> SB50550 →
A58: 3) 우수받이 | E58: =G58+I58+K58 -> 0 | F58: =H58+J58+L58 -> 3442390 | H58: =TRUNC(H59+H60+H61+H62+H63+H64,0) -> 1849231 | J58: =TRUNC(J59+J60+J61+J62+J63+J64,0) -> 1485591 | L58: =TRUNC(L59+L60+L61+L62+L63+L64,0) -> 107568 | P58: 140
A59: 우수받이 설치 | B59: 300x400x900 | C59: 9 | D59: 개 | E59: =G59+I59+K59 -> 54342 | F59: =H59+J59+L59 -> 489078 | G59: =일위대가목록!F19 -> 11359 | H59: =TRUNC(G59*C59,0) -> 102231 | I59: =일위대가목록!G19 -> 35349 | J59: =TRUNC(I59*C59,0) -> 318141 | K59: =일위대가목록!H19 -> 7634 | L59: =TRUNC(K59*C59,0) -> 68706 | M59: #.17 | P59: 150 | R59: SB11315 | T59: F | BI59: =HYPERLINK("#일위대가목록!A19","SB11315 →") -> SB11315 →
A60: 스틸그레이팅설치(차도부) | B60: 400x500x50 | C60: 9 | D60: 조 | E60: =G60+I60+K60 -> 53550 | F60: =H60+J60+L60 -> 481950 | G60: =일위대가목록!F20 -> 51000 | H60: =TRUNC(G60*C60,0) -> 459000 | I60: =일위대가목록!G20 -> 2550 | J60: =TRUNC(I60*C60,0) -> 22950 | K60: =일위대가목록!H20 -> 0 | L60: =TRUNC(K60*C60,0) -> 0 | M60: #.18 | P60: 160 | R60: SB40908 | T60: F | BI60: =HYPERLINK("#일위대가목록!A20","SB40908 →") -> SB40908 →
A61: PE다중벽관접합및부설 | B61: D 250mm | C61: 68 | D61: m | E61: =G61+I61+K61 -> 8865 | F61: =H61+J61+L61 -> 602820 | G61: =일위대가목록!F21 -> 0 | H61: =TRUNC(G61*C61,0) -> 0 | I61: =일위대가목록!G21 -> 8692 | J61: =TRUNC(I61*C61,0) -> 591056 | K61: =일위대가목록!H21 -> 173 | L61: =TRUNC(K61*C61,0) -> 11764 | M61: #.19 | P61: 170 | R61: SB01025 | T61: F | BI61: =HYPERLINK("#일위대가목록!A21","SB01025 →") -> SB01025 →
A62: PE다중벽관접합및부설 | B62: D 300mm | C62: 2 | D62: m | E62: =G62+I62+K62 -> 9605 | F62: =H62+J62+L62 -> 19210 | G62: =일위대가목록!F22 -> 0 | H62: =TRUNC(G62*C62,0) -> 0 | I62: =일위대가목록!G22 -> 9417 | J62: =TRUNC(I62*C62,0) -> 18834 | K62: =일위대가목록!H22 -> 188 | L62: =TRUNC(K62*C62,0) -> 376 | M62: #.20 | P62: 260 | R62: SB01026 | T62: F | BI62: =HYPERLINK("#일위대가목록!A22","SB01026 →") -> SB01026 →
A63: 분기관천공및접합 | B63: D 250mm | C63: 9 | D63: 개소 | E63: =G63+I63+K63 -> 181764 | F63: =H63+J63+L63 -> 1635876 | G63: =일위대가목록!F23 -> 127000 | H63: =TRUNC(G63*C63,0) -> 1143000 | I63: =일위대가목록!G23 -> 52157 | J63: =TRUNC(I63*C63,0) -> 469413 | K63: =일위대가목록!H23 -> 2607 | L63: =TRUNC(K63*C63,0) -> 23463 | M63: #.21 | P63: 350 | R63: SB01155 | T63: F | BI63: =HYPERLINK("#일위대가목록!A23","SB01155 →") -> SB01155 →
A64: 분기관천공및접합 | B64: D 300mm | C64: 1 | D64: 개소 | E64: =G64+I64+K64 -> 213456 | F64: =H64+J64+L64 -> 213456 | G64: =일위대가목록!F24 -> 145000 | H64: =TRUNC(G64*C64,0) -> 145000 | I64: =일위대가목록!G24 -> 65197 | J64: =TRUNC(I64*C64,0) -> 65197 | K64: =일위대가목록!H24 -> 3259 | L64: =TRUNC(K64*C64,0) -> 3259 | M64: #.22 | P64: 360 | R64: SB01157 | T64: F | BI64: =HYPERLINK("#일위대가목록!A24","SB01157 →") -> SB01157 →
A65: 5) 우수맨홀 | E65: =G65+I65+K65 -> 0 | F65: =H65+J65+L65 -> 1382511 | H65: =TRUNC(H66+H67+H68+H69,0) -> 609245 | J65: =TRUNC(J66+J67+J68+J69,0) -> 693966 | L65: =TRUNC(L66+L67+L68+L69,0) -> 79300 | P65: 540
A66: 조립식PC맨홀(하부구체+상판) | B66: Ø 1500 MM | C66: 1 | D66: 개 | E66: =G66+I66+K66 -> 358181 | F66: =H66+J66+L66 -> 358181 | G66: =일위대가목록!F25 -> 10497 | H66: =TRUNC(G66*C66,0) -> 10497 | I66: =일위대가목록!G25 -> 308504 | J66: =TRUNC(I66*C66,0) -> 308504 | K66: =일위대가목록!H25 -> 39180 | L66: =TRUNC(K66*C66,0) -> 39180 | M66: #.23 | P66: 550 | R66: SB13410 | T66: F | BI66: =HYPERLINK("#일위대가목록!A25","SB13410 →") -> SB13410 →
A67: 조립식PC맨홀(연직구체) | B67: Ø 1500 MM | C67: 2 | D67: 개 | E67: =G67+I67+K67 -> 182693 | F67: =H67+J67+L67 -> 365386 | G67: =일위대가목록!F26 -> 5374 | H67: =TRUNC(G67*C67,0) -> 10748 | I67: =일위대가목록!G26 -> 157259 | J67: =TRUNC(I67*C67,0) -> 314518 | K67: =일위대가목록!H26 -> 20060 | L67: =TRUNC(K67*C67,0) -> 40120 | M67: #.24 | P67: 560 | R67: SB13550 | T67: F | BI67: =HYPERLINK("#일위대가목록!A26","SB13550 →") -> SB13550 →
A68: 사다리설치 | B68: PE코팅 Ø22 | C68: 12 | D68: 개소 | E68: =G68+I68+K68 -> 23412 | F68: =H68+J68+L68 -> 280944 | G68: =일위대가목록!F27 -> 19000 | H68: =TRUNC(G68*C68,0) -> 228000 | I68: =일위대가목록!G27 -> 4412 | J68: =TRUNC(I68*C68,0) -> 52944 | K68: =일위대가목록!H27 -> 0 | L68: =TRUNC(K68*C68,0) -> 0 | M68: #.25 | P68: 575 | R68: SZ260203 | T68: F | BI68: =HYPERLINK("#일위대가목록!A27","SZ260203 →") -> SZ260203 →
A69: 맨홀뚜껑설치(차도부) | B69: φ648 | C69: 1 | D69: 조 | E69: =G69+I69+K69 -> 378000 | F69: =H69+J69+L69 -> 378000 | G69: =일위대가목록!F28 -> 360000 | H69: =TRUNC(G69*C69,0) -> 360000 | I69: =일위대가목록!G28 -> 18000 | J69: =TRUNC(I69*C69,0) -> 18000 | K69: =일위대가목록!H28 -> 0 | L69: =TRUNC(K69*C69,0) -> 0 | M69: #.26 | P69: 580 | R69: SB40980 | T69: F | BI69: =HYPERLINK("#일위대가목록!A28","SB40980 →") -> SB40980 →
E70: =G70+I70+K70 -> 0 | F70: =H70+J70+L70 -> 0 | H70: 0 | J70: 0 | L70: 0 | P70: 700
A71: 3. 포 장 공 | C71: 1 | D71: 식 | F71: =H71+J71+L71 -> 6445487 | H71: =TRUNC(H73+H74+H75+H76+H77+H78+H80+H81+H82,0) -> 1231818 | J71: =TRUNC(J73+J74+J75+J76+J77+J78+J80+J81+J82,0) -> 4134367 | L71: =TRUNC(L73+L74+L75+L76+L77+L78+L80+L81+L82,0) -> 1079302 | O71: A06
A72: 1) 아스콘포장 | E72: =G72+I72+K72 -> 0 | F72: =H72+J72+L72 -> 5841849 | H72: =TRUNC(H73+H74+H75+H76+H77+H78,0) -> 1164680 | J72: =TRUNC(J73+J74+J75+J76+J77+J78,0) -> 3632105 | L72: =TRUNC(L73+L74+L75+L76+L77+L78,0) -> 1045064 | P72: 10
A73: 아스팔트 표층(대형장비) | B73: 3.0m≤B | C73: 601 | D73: ㎡ | E73: =G73+I73+K73 -> 1003 | F73: =H73+J73+L73 -> 602803 | G73: =일위대가목록!F29 -> 128 | H73: =TRUNC(G73*C73,0) -> 76928 | I73: =일위대가목록!G29 -> 695 | J73: =TRUNC(I73*C73,0) -> 417695 | K73: =일위대가목록!H29 -> 180 | L73: =TRUNC(K73*C73,0) -> 108180 | M73: #.27 | P73: 20 | R73: SE02400 | T73: F | BI73: =HYPERLINK("#일위대가목록!A29","SE02400 →") -> SE02400 →
A74: 텍코팅(기계식) | B74: RSC-4:30ℓ/a | C74: 601 | D74: ㎡ | E74: =G74+I74+K74 -> 45 | F74: =H74+J74+L74 -> 27045 | G74: =일위대가목록!F30 -> 8 | H74: =TRUNC(G74*C74,0) -> 4808 | I74: =일위대가목록!G30 -> 31 | J74: =TRUNC(I74*C74,0) -> 18631 | K74: =일위대가목록!H30 -> 6 | L74: =TRUNC(K74*C74,0) -> 3606 | M74: #.28 | P74: 30 | R74: SE01910 | T74: F | BI74: =HYPERLINK("#일위대가목록!A30","SE01910 →") -> SE01910 →
A75: 아스팔트 기층 (대형장비) | B75: 3.0m≤B, T=8~10cm | C75: 601 | D75: ㎡ | E75: =G75+I75+K75 -> 1070 | F75: =H75+J75+L75 -> 643070 | G75: =일위대가목록!F31 -> 136 | H75: =TRUNC(G75*C75,0) -> 81736 | I75: =일위대가목록!G31 -> 740 | J75: =TRUNC(I75*C75,0) -> 444740 | K75: =일위대가목록!H31 -> 194 | L75: =TRUNC(K75*C75,0) -> 116594 | M75: #.29 | P75: 40 | R75: SE02100 | T75: F | BI75: =HYPERLINK("#일위대가목록!A31","SE02100 →") -> SE02100 →
A76: 프라임코팅(기계식) | B76: RSC-3:75ℓ/a | C76: 601 | D76: ㎡ | E76: =G76+I76+K76 -> 45 | F76: =H76+J76+L76 -> 27045 | G76: =일위대가목록!F32 -> 8 | H76: =TRUNC(G76*C76,0) -> 4808 | I76: =일위대가목록!G32 -> 31 | J76: =TRUNC(I76*C76,0) -> 18631 | K76: =일위대가목록!H32 -> 6 | L76: =TRUNC(K76*C76,0) -> 3606 | M76: #.30 | P76: 50 | R76: SE01810 | T76: F | BI76: =HYPERLINK("#일위대가목록!A32","SE01810 →") -> SE01810 →
A77: 보조기층(기계시공) | B77: 길어깨포장 | C77: 178 | D77: ㎥ | E77: =G77+I77+K77 -> 13215 | F77: =H77+J77+L77 -> 2352270 | G77: =일위대가목록!F33 -> 2977 | H77: =TRUNC(G77*C77,0) -> 529906 | I77: =일위대가목록!G33 -> 7808 | J77: =TRUNC(I77*C77,0) -> 1389824 | K77: =일위대가목록!H33 -> 2430 | L77: =TRUNC(K77*C77,0) -> 432540 | M77: #.31 | P77: 60 | R77: SE01000 | T77: F | BI77: =HYPERLINK("#일위대가목록!A33","SE01000 →") -> SE01000 →
A78: 동상방지층(기계시공) | B78: 길어깨포장 | C78: 174 | D78: ㎥ | E78: =G78+I78+K78 -> 12584 | F78: =H78+J78+L78 -> 2189616 | G78: =일위대가목록!F8 -> 2681 | H78: =TRUNC(G78*C78,0) -> 466494 | I78: =일위대가목록!G8 -> 7716 | J78: =TRUNC(I78*C78,0) -> 1342584 | K78: =일위대가목록!H8 -> 2187 | L78: =TRUNC(K78*C78,0) -> 380538 | M78: #.6 | P78: 70 | R78: SE00200 | T78: F | BI78: =HYPERLINK("#일위대가목록!A8","SE00200 →") -> SE00200 →
A79: 2) 경 계 석 | E79: =G79+I79+K79 -> 0 | F79: =H79+J79+L79 -> 603638 | H79: =TRUNC(H80+H81+H82,0) -> 67138 | J79: =TRUNC(J80+J81+J82,0) -> 502262 | L79: =TRUNC(L80+L81+L82,0) -> 34238 | P79: 110
A80: 보차도경계석(직선) | B80: 200×250×1000 | C80: 18 | D80: m | E80: =G80+I80+K80 -> 18145 | F80: =H80+J80+L80 -> 326610 | G80: =일위대가목록!F34 -> 1895 | H80: =TRUNC(G80*C80,0) -> 34110 | I80: =일위대가목록!G34 -> 14694 | J80: =TRUNC(I80*C80,0) -> 264492 | K80: =일위대가목록!H34 -> 1556 | L80: =TRUNC(K80*C80,0) -> 28008 | M80: #.32 | P80: 120 | R80: SE05200 | T80: F | BI80: =HYPERLINK("#일위대가목록!A34","SE05200 →") -> SE05200 →
A81: 콘크리트타설(장비사용,무근) | B81: 레미콘-VIB.제외 | C81: 2 | D81: ㎥ | E81: =G81+I81+K81 -> 29530 | F81: =H81+J81+L81 -> 59060 | G81: =일위대가목록!F15 -> 3170 | H81: =TRUNC(G81*C81,0) -> 6340 | I81: =일위대가목록!G15 -> 23245 | J81: =TRUNC(I81*C81,0) -> 46490 | K81: =일위대가목록!H15 -> 3115 | L81: =TRUNC(K81*C81,0) -> 6230 | M81: #.13 | P81: 160 | R81: SB01100 | T81: F | BI81: =HYPERLINK("#일위대가목록!A15","SB01100 →") -> SB01100 →
A82: 유로폼 조립.해체(벽체) | B82: 간단,6회-수직고7.0m 이하 | C82: 6 | D82: ㎡ | E82: =G82+I82+K82 -> 36328 | F82: =H82+J82+L82 -> 217968 | G82: =일위대가목록!F16 -> 4448 | H82: =TRUNC(G82*C82,0) -> 26688 | I82: =일위대가목록!G16 -> 31880 | J82: =TRUNC(I82*C82,0) -> 191280 | K82: =일위대가목록!H16 -> 0 | L82: =TRUNC(K82*C82,0) -> 0 | M82: #.14 | P82: 170 | R82: SB03950 | T82: F | BI82: =HYPERLINK("#일위대가목록!A16","SB03950 →") -> SB03950 →
E83: =G83+I83+K83 -> 0 | F83: =H83+J83+L83 -> 0 | H83: 0 | J83: 0 | L83: 0 | P83: 180
A84: 4. 부 대 공 | C84: 1 | D84: 식 | F84: =H84+J84+L84 -> 1944080 | H84: =TRUNC(H86+H87+H89+H90+H91+H92,0) -> 346763 | J84: =TRUNC(J86+J87+J89+J90+J91+J92,0) -> 266135 | L84: =TRUNC(L86+L87+L89+L90+L91+L92,0) -> 1331182 | O84: A07
A85: 1) 운 반 비 | E85: =G85+I85+K85 -> 0 | F85: =H85+J85+L85 -> 1316529 | H85: =TRUNC(H86+H87,0) -> 0 | J85: =TRUNC(J86+J87,0) -> 0 | L85: =TRUNC(L86+L87,0) -> 1316529 | P85: 10
A86: 중 기 | C86: 1 | D86: 식 | E86: =G86+I86+K86 -> 1308813 | F86: =H86+J86+L86 -> 1308813 | G86: =일위대가목록!F35 -> 0 | H86: =TRUNC(G86*C86,0) -> 0 | I86: =일위대가목록!G35 -> 0 | J86: =TRUNC(I86*C86,0) -> 0 | K86: =일위대가목록!H35 -> 1308813 | L86: =TRUNC(K86*C86,0) -> 1308813 | M86: #.33 | P86: 20 | R86: SF01400 | T86: F | BI86: =HYPERLINK("#일위대가목록!A35","SF01400 →") -> SF01400 →
A87: 아스팔트 | B87: RSC-4,RSC-3 | C87: 4 | D87: D/M | E87: =G87+I87+K87 -> 1929 | F87: =H87+J87+L87 -> 7716 | G87: =일위대가목록!F36 -> 0 | H87: =TRUNC(G87*C87,0) -> 0 | I87: =일위대가목록!G36 -> 0 | J87: =TRUNC(I87*C87,0) -> 0 | K87: =일위대가목록!H36 -> 1929 | L87: =TRUNC(K87*C87,0) -> 7716 | M87: #.34 | P87: 40 | R87: SF00700 | T87: F | BI87: =HYPERLINK("#일위대가목록!A36","SF00700 →") -> SF00700 →
A88: 2) 차선도색 | E88: =G88+I88+K88 -> 0 | F88: =H88+J88+L88 -> 627551 | H88: =TRUNC(H89+H90+H91+H92,0) -> 346763 | J88: =TRUNC(J89+J90+J91+J92,0) -> 266135 | L88: =TRUNC(L89+L90+L91+L92,0) -> 14653 | P88: 80
A89: 차선도색(기계식),유지보수 | B89: 황색-실선 | C89: 31 | D89: ㎡ | E89: =G89+I89+K89 -> 5209 | F89: =H89+J89+L89 -> 161479 | G89: =일위대가목록!F37 -> 4894 | H89: =TRUNC(G89*C89,0) -> 151714 | I89: =일위대가목록!G37 -> 270 | J89: =TRUNC(I89*C89,0) -> 8370 | K89: =일위대가목록!H37 -> 45 | L89: =TRUNC(K89*C89,0) -> 1395 | M89: #.35 | P89: 100 | R89: SF04120 | T89: F | BI89: =HYPERLINK("#일위대가목록!A37","SF04120 →") -> SF04120 →
A90: 차선도색(기계식),유지보수 | B90: 백색-파선 | C90: 1 | D90: ㎡ | E90: =G90+I90+K90 -> 6043 | F90: =H90+J90+L90 -> 6043 | G90: =일위대가목록!F38 -> 4777 | H90: =TRUNC(G90*C90,0) -> 4777 | I90: =일위대가목록!G38 -> 1085 | J90: =TRUNC(I90*C90,0) -> 1085 | K90: =일위대가목록!H38 -> 181 | L90: =TRUNC(K90*C90,0) -> 181 | M90: #.36 | P90: 130 | R90: SF04110 | T90: F | BI90: =HYPERLINK("#일위대가목록!A38","SF04110 →") -> SF04110 →
A91: 차선도색(페인트),유지보수 | B91: 문자,기호 | C91: 9 | D91: ㎡ | E91: =G91+I91+K91 -> 16921 | F91: =H91+J91+L91 -> 152289 | G91: =일위대가목록!F39 -> 5298 | H91: =TRUNC(G91*C91,0) -> 47682 | I91: =일위대가목록!G39 -> 11060 | J91: =TRUNC(I91*C91,0) -> 99540 | K91: =일위대가목록!H39 -> 563 | L91: =TRUNC(K91*C91,0) -> 5067 | M91: #.37 | P91: 140 | R91: SF03850 | T91: F | BI91: =HYPERLINK("#일위대가목록!A39","SF03850 →") -> SF03850 →
A92: 차선도색(수동식),유지보수 | B92: 횡단보도,주차장 | C92: 30 | D92: ㎡ | E92: =G92+I92+K92 -> 10258 | F92: =H92+J92+L92 -> 307740 | G92: =일위대가목록!F40 -> 4753 | H92: =TRUNC(G92*C92,0) -> 142590 | I92: =일위대가목록!G40 -> 5238 | J92: =TRUNC(I92*C92,0) -> 157140 | K92: =일위대가목록!H40 -> 267 | L92: =TRUNC(K92*C92,0) -> 8010 | M92: #.38 | P92: 150 | R92: SF03840 | T92: F | BI92: =HYPERLINK("#일위대가목록!A40","SF03840 →") -> SF03840 →
E93: =G93+I93+K93 -> 0 | F93: =H93+J93+L93 -> 0 | H93: 0 | J93: 0 | L93: 0 | P93: 470
A94: 5. 사급자재대 | C94: 1 | D94: 식 | F94: =H94+J94+L94 -> 19599380 | H94: =TRUNC(H96+H97+H98+H100+H101+H102+H103+H105+H107+H108+H109,0) -> 19599380 | J94: =TRUNC(J96+J97+J98+J100+J101+J102+J103+J105+J107+J108+J109,0) -> 0 | L94: =TRUNC(L96+L97+L98+L100+L101+L102+L103+L105+L107+L108+L109,0) -> 0 | O94: A10
A95: 1) 유제아스팔트 | E95: =G95+I95+K95 -> 0 | F95: =H95+J95+L95 -> 1000000 | H95: =TRUNC(H96+H97,0) -> 1000000 | J95: =TRUNC(J96+J97,0) -> 0 | L95: =TRUNC(L96+L97,0) -> 0 | P95: 10
A96: RSC-4 | C96: 1 | D96: D/M | E96: =G96+I96+K96 -> 250000 | F96: =H96+J96+L96 -> 250000 | G96: =자재!D20 -> 250000 | H96: =TRUNC(G96*C96,0) -> 250000 | I96: 0 | K96: 0 | M96: MZ913060 | P96: 20 | R96: MZ913060 | BI96: =HYPERLINK("#자재!A20","MZ913060 →") -> MZ913060 →
A97: RSC-3 | C97: 3 | D97: D/M | E97: =G97+I97+K97 -> 250000 | F97: =H97+J97+L97 -> 750000 | G97: =자재!D20 -> 250000 | H97: =TRUNC(G97*C97,0) -> 750000 | I97: 0 | K97: 0 | M97: MZ913060 | P97: 30 | R97: MZ913060 | BI97: =HYPERLINK("#자재!A20","MZ913060 →") -> MZ913060 →
A98: 2) 우수받이 | B98: 300x400x900 | C98: 9 | D98: EA | E98: =G98+I98+K98 -> 148500 | F98: =H98+J98+L98 -> 1336500 | G98: =자재!D26 -> 148500 | H98: =TRUNC(G98*C98,0) -> 1336500 | I98: 0 | K98: 0 | M98: MZ951230 | P98: 115 | R98: MZ951230 | BI98: =HYPERLINK("#자재!A26","MZ951230 →") -> MZ951230 →
A99: 3) PE다벽관 | E99: =G99+I99+K99 -> 0 | F99: =H99+J99+L99 -> 5917880 | H99: =TRUNC(H100+H101+H102+H103,0) -> 5917880 | J99: =TRUNC(J100+J101+J102+J103,0) -> 0 | L99: =TRUNC(L100+L101+L102+L103,0) -> 0 | P99: 125
A100: 다중벽관 이경티 | B100: D1000x600mm | C100: 4 | D100: EA | E100: =G100+I100+K100 -> 696510 | F100: =H100+J100+L100 -> 2786040 | G100: =자재!D22 -> 696510 | H100: =TRUNC(G100*C100,0) -> 2786040 | I100: 0 | K100: 0 | M100: MZ93268 | P100: 135 | R100: MZ93268 | BI100: =HYPERLINK("#자재!A22","MZ93268 →") -> MZ93268 →
...

Sheet 일위대가목록
A1: 일위대가목록
A2: 공 종 명 | B2: 규 격 | C2: 수 량 | D2: 단 위 | E2: 합 계 | F2: 재 료 비 | G2: 노 무 비 | H2: 경 비 | I2: 비 고 | T2: 재료비 | U2: 노무비 | V2: 경 비 | W2: 합 계 | Y2: 비교검토
A3: #1 구조물헐기(무근) | B3: 대형30CM미만 | C3: 1 | D3: ㎥ | E3: =F3+G3+H3 -> 30884 | F3: =일위대가_산근!C4 -> 4651 | G3: =일위대가_산근!D4 -> 17505 | H3: =일위대가_산근!E4 -> 8728 | K3: SA00450 | L3: F | T3: 4651 | U3: 17505 | V3: 8728 | W3: 30884 | Y3: =EXACT($E3,$W3) -> TRUE | AA3: =HYPERLINK("#일위대가_산근!A4","SA00450 →") -> SA00450 →
A4: #2 아스콘포장깨기 | B4: 굴삭기 0.7㎥ | C4: 1 | D4: ㎥ | E4: =F4+G4+H4 -> 8877 | F4: =일위대가_산근!C41 -> 1337 | G4: =일위대가_산근!D41 -> 5032 | H4: =일위대가_산근!E41 -> 2508 | K4: SA01200 | L4: F | T4: 1337 | U4: 5032 | V4: 2508 | W4: 8877 | Y4: =EXACT($E4,$W4) -> TRUE | AA4: =HYPERLINK("#일위대가_산근!A41","SA01200 →") -> SA01200 →
A5: #3 아스팔트포장절단 | C5: 1 | D5: m | E5: =F5+G5+H5 -> 2276 | F5: =일위대가_산근!C74 -> 674 | G5: =일위대가_산근!D74 -> 1535 | H5: =일위대가_산근!E74 -> 67 | K5: SA01500 | L5: F | T5: 674 | U5: 1535 | V5: 67 | W5: 2276 | Y5: =EXACT($E5,$W5) -> TRUE | AA5: =HYPERLINK("#일위대가_산근!A74","SA01500 →") -> SA01500 →
A6: #4 폐기물상차 | B6: 굴삭기 0.7㎥ | C6: 1 | D6: ㎥ | E6: =F6+G6+H6 -> 4567 | F6: =일위대가_산근!C139 -> 969 | G6: =일위대가_산근!D139 -> 2541 | H6: =일위대가_산근!E139 -> 1057 | K6: SA02100 | L6: F | T6: 969 | U6: 2541 | V6: 1057 | W6: 4567 | Y6: =EXACT($E6,$W6) -> TRUE | AA6: =HYPERLINK("#일위대가_산근!A139","SA02100 →") -> SA02100 →
A7: #5 흙깍기(보통토사)소규모 1만㎥미만 | B7: 굴삭기 1.0㎥ | C7: 1 | D7: ㎥ | E7: =F7+G7+H7 -> 3263 | F7: =일위대가_산근!C162 -> 976 | G7: =일위대가_산근!D162 -> 1523 | H7: =일위대가_산근!E162 -> 764 | K7: SA02420 | L7: F | T7: 976 | U7: 1523 | V7: 764 | W7: 3263 | Y7: =EXACT($E7,$W7) -> TRUE | AA7: =HYPERLINK("#일위대가_산근!A162","SA02420 →") -> SA02420 →
A8: #6 동상방지층(기계시공) | B8: 길어깨포장 | C8: 1 | D8: ㎥ | E8: =F8+G8+H8 -> 12584 | F8: =일위대가_산근!C183 -> 2681 | G8: =일위대가_산근!D183 -> 7716 | H8: =일위대가_산근!E183 -> 2187 | K8: SE00200 | L8: F | T8: 2681 | U8: 7716 | V8: 2187 | W8: 12584 | Y8: =EXACT($E8,$W8) -> TRUE | AA8: =HYPERLINK("#일위대가_산근!A183","SE00200 →") -> SE00200 →
A9: #7 구조물터파기(보통토사) | B9: TYPE-2 | C9: 1 | D9: ㎥ | E9: =F9+G9+H9 -> 2408 | F9: =일위대가_산근!C238 -> 720 | G9: =일위대가_산근!D238 -> 1124 | H9: =일위대가_산근!E238 -> 564 | K9: SC00100 | L9: F | T9: 720 | U9: 1124 | V9: 564 | W9: 2408 | Y9: =EXACT($E9,$W9) -> TRUE | AA9: =HYPERLINK("#일위대가_산근!A238","SC00100 →") -> SC00100 →
A10: #8 되메우기및다짐 | B10: 대형장비 | C10: 1 | D10: ㎥ | E10: =F10+G10+H10 -> 8626 | F10: =일위대가_산근!C259 -> 1740 | G10: =일위대가_산근!D259 -> 5314 | H10: =일위대가_산근!E259 -> 1572 | K10: SA05460 | L10: F | T10: 1740 | U10: 5314 | V10: 1572 | W10: 8626 | Y10: =EXACT($E10,$W10) -> TRUE | AA10: =HYPERLINK("#일위대가_산근!A259","SA05460 →") -> SA05460 →
A11: #9 모래부설 | B11: 굴삭기 0.7㎥ | C11: 1 | D11: ㎥ | E11: =F11+G11+H11 -> 1771 | F11: =일위대가_산근!C320 -> 175 | G11: =일위대가_산근!D320 -> 1405 | H11: =일위대가_산근!E320 -> 191 | K11: SB01110 | L11: F | T11: 175 | U11: 1405 | V11: 191 | W11: 1771 | Y11: =EXACT($E11,$W11) -> TRUE | AA11: =HYPERLINK("#일위대가_산근!A320","SB01110 →") -> SB01110 →
A12: #10 사토(토사) | B12: 굴삭기 0.7㎥ | C12: 1 | D12: ㎥ | E12: =F12+G12+H12 -> 3788 | F12: =일위대가_산근!C351 -> 633 | G12: =일위대가_산근!D351 -> 2092 | H12: =일위대가_산근!E351 -> 1063 | K12: SA04850 | L12: F | T12: 633 | U12: 2092 | V12: 1063 | W12: 3788 | Y12: =EXACT($E12,$W12) -> TRUE | AA12: =HYPERLINK("#일위대가_산근!A351","SA04850 →") -> SA04850 →
A13: #11 PE다중벽관접합및부설 | B13: D 1000mm | C13: 1 | D13: m | E13: =F13+G13+H13 -> 24000 | F13: =일위대가_산근!C414 -> 1834 | G13: =일위대가_산근!D414 -> 19555 | H13: =일위대가_산근!E414 -> 2611 | K13: SB01035 | L13: F | T13: 1834 | U13: 19555 | V13: 2611 | W13: 24000 | Y13: =EXACT($E13,$W13) -> TRUE | AA13: =HYPERLINK("#일위대가_산근!A414","SB01035 →") -> SB01035 →
A14: #12 PE다중벽관접합및부설 | B14: D 600mm | C14: 1 | D14: 개소 | E14: =F14+G14+H14 -> 88596 | F14: =일위대가_산근!C449 -> 6092 | G14: =일위대가_산근!D449 -> 73655 | H14: =일위대가_산근!E449 -> 8849 | K14: SB01032 | L14: F | T14: 6092 | U14: 73655 | V14: 8849 | W14: 88596 | Y14: =EXACT($E14,$W14) -> TRUE | AA14: =HYPERLINK("#일위대가_산근!A449","SB01032 →") -> SB01032 →
A15: #13 레디믹스콘크리트타설 | B15: 장비사용, 무근구조물 | C15: 1 | D15: ㎥ | E15: =F15+G15+H15 -> 29530 | F15: =일위대가_산근!C484 -> 3170 | G15: =일위대가_산근!D484 -> 23245 | H15: =일위대가_산근!E484 -> 3115 | K15: SB01100 | L15: F | T15: 3170 | U15: 23245 | V15: 3115 | W15: 29530 | Y15: =EXACT($E15,$W15) -> TRUE | AA15: =HYPERLINK("#일위대가_산근!A484","SB01100 →") -> SB01100 →
A16: #14 유로폼 조립.해체(벽체) | B16: 간단,6회-수직고7.0m 이하 | C16: 1 | D16: ㎡ | E16: =F16+G16+H16 -> 36328 | F16: =일위대가_산근!C525 -> 4448 | G16: =일위대가_산근!D525 -> 31880 | H16: =일위대가_산근!E525 -> 0 | K16: SB03950 | L16: F | T16: 4448 | U16: 31880 | V16: 0 | W16: 36328 | Y16: =EXACT($E16,$W16) -> TRUE | AA16: =HYPERLINK("#일위대가_산근!A525","SB03950 →") -> SB03950 →
A17: #15 기존맨홀천공및접합 | B17: D800mm | C17: 1 | D17: 개소 | E17: =F17+G17+H17 -> 38069 | F17: =일위대가_산근!C562 -> 12594 | G17: =일위대가_산근!D562 -> 24713 | H17: =일위대가_산근!E562 -> 762 | K17: SE55250 | L17: F | T17: 12594 | U17: 24713 | V17: 762 | W17: 38069 | Y17: =EXACT($E17,$W17) -> TRUE | AA17: =HYPERLINK("#일위대가_산근!A562","SE55250 →") -> SE55250 →
A18: #16 조립식간이흙막이공(TS판넬) | B18: 2.4Bx3.55H(SS) | C18: 1 | D18: m | E18: =F18+G18+H18 -> 517093 | F18: =일위대가_산근!C597 -> 146660 | G18: =일위대가_산근!D597 -> 332396 | H18: =일위대가_산근!E597 -> 38037 | K18: SB50550 | L18: F | T18: 146660 | U18: 332396 | V18: 38037 | W18: 517093 | Y18: =EXACT($E18,$W18) -> TRUE | AA18: =HYPERLINK("#일위대가_산근!A597","SB50550 →") -> SB50550 →
A19: #17 우수받이 설치 | B19: 900-1100미만 | C19: 1 | D19: 개 | E19: =F19+G19+H19 -> 54342 | F19: =일위대가_산근!C743 -> 11359 | G19: =일위대가_산근!D743 -> 35349 | H19: =일위대가_산근!E743 -> 7634 | K19: SB11315 | L19: F | T19: 11359 | U19: 35349 | V19: 7634 | W19: 54342 | Y19: =EXACT($E19,$W19) -> TRUE | AA19: =HYPERLINK("#일위대가_산근!A743","SB11315 →") -> SB11315 →
A20: #18 스틸그레이팅설치(차도부) | B20: 400x500x50 | C20: 1 | D20: 조 | E20: =F20+G20+H20 -> 53550 | F20: =일위대가_산근!C784 -> 51000 | G20: =일위대가_산근!D784 -> 2550 | H20: =일위대가_산근!E784 -> 0 | K20: SB40908 | L20: F | T20: 51000 | U20: 2550 | V20: 0 | W20: 53550 | Y20: =EXACT($E20,$W20) -> TRUE | AA20: =HYPERLINK("#일위대가_산근!A784","SB40908 →") -> SB40908 →
A21: #19 PE이중벽관접합및부설 | B21: D 250mm | C21: 1 | D21: m | E21: =F21+G21+H21 -> 8865 | F21: =일위대가_산근!C799 -> 0 | G21: =일위대가_산근!D799 -> 8692 | H21: =일위대가_산근!E799 -> 173 | K21: SB01025 | L21: F | T21: 0 | U21: 8692 | V21: 173 | W21: 8865 | Y21: =EXACT($E21,$W21) -> TRUE | AA21: =HYPERLINK("#일위대가_산근!A799","SB01025 →") -> SB01025 →
A22: #20 PE다중벽관접합및부설 | B22: D 300mm | C22: 1 | D22: m | E22: =F22+G22+H22 -> 9605 | F22: =일위대가_산근!C824 -> 0 | G22: =일위대가_산근!D824 -> 9417 | H22: =일위대가_산근!E824 -> 188 | K22: SB01026 | L22: F | T22: 0 | U22: 9417 | V22: 188 | W22: 9605 | Y22: =EXACT($E22,$W22) -> TRUE | AA22: =HYPERLINK("#일위대가_산근!A824","SB01026 →") -> SB01026 →
A23: #21 분기관천공및접합 | B23: D 250mm | C23: 1 | D23: 개소 | E23: =F23+G23+H23 -> 181764 | F23: =일위대가_산근!C849 -> 127000 | G23: =일위대가_산근!D849 -> 52157 | H23: =일위대가_산근!E849 -> 2607 | K23: SB01155 | L23: F | T23: 127000 | U23: 52157 | V23: 2607 | W23: 181764 | Y23: =EXACT($E23,$W23) -> TRUE | AA23: =HYPERLINK("#일위대가_산근!A849","SB01155 →") -> SB01155 →
A24: #22 분기관천공및접합 | B24: D 300mm | C24: 1 | D24: 개소 | E24: =F24+G24+H24 -> 213456 | F24: =일위대가_산근!C876 -> 145000 | G24: =일위대가_산근!D876 -> 65197 | H24: =일위대가_산근!E876 -> 3259 | K24: SB01157 | L24: F | T24: 145000 | U24: 65197 | V24: 3259 | W24: 213456 | Y24: =EXACT($E24,$W24) -> TRUE | AA24: =HYPERLINK("#일위대가_산근!A876","SB01157 →") -> SB01157 →
A25: #23 조립식PC맨홀(하부구체+상판) | B25: Ø 1500 MM | C25: 1 | D25: 개 | E25: =F25+G25+H25 -> 358181 | F25: =일위대가_산근!C903 -> 10497 | G25: =일위대가_산근!D903 -> 308504 | H25: =일위대가_산근!E903 -> 39180 | K25: SB13410 | L25: F | T25: 10497 | U25: 308504 | V25: 39180 | W25: 358181 | Y25: =EXACT($E25,$W25) -> TRUE | AA25: =HYPERLINK("#일위대가_산근!A903","SB13410 →") -> SB13410 →
A26: #24 조립식PC맨홀(연직구체) | B26: Ø 1500 MM | C26: 1 | D26: 개 | E26: =F26+G26+H26 -> 182693 | F26: =일위대가_산근!C932 -> 5374 | G26: =일위대가_산근!D932 -> 157259 | H26: =일위대가_산근!E932 -> 20060 | K26: SB13550 | L26: F | T26: 5374 | U26: 157259 | V26: 20060 | W26: 182693 | Y26: =EXACT($E26,$W26) -> TRUE | AA26: =HYPERLINK("#일위대가_산근!A932","SB13550 →") -> SB13550 →
A27: #25 사다리설치 | B27: PE코팅 Ø22 | C27: 1 | D27: 개소 | E27: =F27+G27+H27 -> 23412 | F27: =일위대가_산근!C961 -> 19000 | G27: =일위대가_산근!D961 -> 4412 | H27: =일위대가_산근!E961 -> 0 | K27: SZ260203 | L27: F | T27: 19000 | U27: 4412 | V27: 0 | W27: 23412 | Y27: =EXACT($E27,$W27) -> TRUE | AA27: =HYPERLINK("#일위대가_산근!A961","SZ260203 →") -> SZ260203 →
A28: #26 맨홀뚜껑설치(차도부) | B28: φ648 | C28: 1 | D28: 조 | E28: =F28+G28+H28 -> 378000 | F28: =일위대가_산근!C980 -> 360000 | G28: =일위대가_산근!D980 -> 18000 | H28: =일위대가_산근!E980 -> 0 | K28: SB40980 | L28: F | T28: 360000 | U28: 18000 | V28: 0 | W28: 378000 | Y28: =EXACT($E28,$W28) -> TRUE | AA28: =HYPERLINK("#일위대가_산근!A980","SB40980 →") -> SB40980 →
A29: #27 아스팔트 표층 기계포설(대형장비) | B29: 3.0m≤B | C29: 1 | D29: ㎡ | E29: =F29+G29+H29 -> 1003 | F29: =일위대가_산근!C997 -> 128 | G29: =일위대가_산근!D997 -> 695 | H29: =일위대가_산근!E997 -> 180 | K29: SE02400 | L29: F | T29: 128 | U29: 695 | V29: 180 | W29: 1003 | Y29: =EXACT($E29,$W29) -> TRUE | AA29: =HYPERLINK("#일위대가_산근!A997","SE02400 →") -> SE02400 →
A30: #28 텍코팅(기계식) | B30: RSC-4:30ℓ/a | C30: 1 | D30: ㎡ | E30: =F30+G30+H30 -> 45 | F30: =일위대가_산근!C1070 -> 8 | G30: =일위대가_산근!D1070 -> 31 | H30: =일위대가_산근!E1070 -> 6 | K30: SE01910 | L30: F | T30: 8 | U30: 31 | V30: 6 | W30: 45 | Y30: =EXACT($E30,$W30) -> TRUE | AA30: =HYPERLINK("#일위대가_산근!A1070","SE01910 →") -> SE01910 →
A31: #29 아스팔트 기층 기계포설(대형장비) | B31: 3.0m≤B, T=8~10cm | C31: 1 | D31: ㎡ | E31: =F31+G31+H31 -> 1070 | F31: =일위대가_산근!C1099 -> 136 | G31: =일위대가_산근!D1099 -> 740 | H31: =일위대가_산근!E1099 -> 194 | K31: SE02100 | L31: F | T31: 136 | U31: 740 | V31: 194 | W31: 1070 | Y31: =EXACT($E31,$W31) -> TRUE | AA31: =HYPERLINK("#일위대가_산근!A1099","SE02100 →") -> SE02100 →
A32: #30 프라임코팅(기계식) | B32: RSC-3:75ℓ/a | C32: 1 | D32: ㎡ | E32: =F32+G32+H32 -> 45 | F32: =일위대가_산근!C1172 -> 8 | G32: =일위대가_산근!D1172 -> 31 | H32: =일위대가_산근!E1172 -> 6 | K32: SE01810 | L32: F | T32: 8 | U32: 31 | V32: 6 | W32: 45 | Y32: =EXACT($E32,$W32) -> TRUE | AA32: =HYPERLINK("#일위대가_산근!A1172","SE01810 →") -> SE01810 →
A33: #31 보조기층(기계시공) | B33: 길어깨포장 | C33: 1 | D33: ㎥ | E33: =F33+G33+H33 -> 13215 | F33: =일위대가_산근!C1201 -> 2977 | G33: =일위대가_산근!D1201 -> 7808 | H33: =일위대가_산근!E1201 -> 2430 | K33: SE01000 | L33: F | T33: 2977 | U33: 7808 | V33: 2430 | W33: 13215 | Y33: =EXACT($E33,$W33) -> TRUE | AA33: =HYPERLINK("#일위대가_산근!A1201","SE01000 →") -> SE01000 →
A34: #32 보차도 및 도로경계블럭 설치 | B34: 500미만, A-TYPE(직선구간) | C34: 1 | D34: m | E34: =F34+G34+H34 -> 18145 | F34: =일위대가_산근!C1256 -> 1895 | G34: =일위대가_산근!D1256 -> 14694 | H34: =일위대가_산근!E1256 -> 1556 | K34: SE05200 | L34: F | T34: 1895 | U34: 14694 | V34: 1556 | W34: 18145 | Y34: =EXACT($E34,$W34) -> TRUE | AA34: =HYPERLINK("#일위대가_산근!A1256","SE05200 →") -> SE05200 →
A35: #33 중기운반비 | C35: 1 | D35: 식 | E35: =F35+G35+H35 -> 1308813 | F35: =일위대가_산근!C1293 -> 0 | G35: =일위대가_산근!D1293 -> 0 | H35: =일위대가_산근!E1293 -> 1308813 | K35: SF01400 | L35: F | T35: 0 | U35: 0 | V35: 1308813 | W35: 1308813 | Y35: =EXACT($E35,$W35) -> TRUE | AA35: =HYPERLINK("#일위대가_산근!A1293","SF01400 →") -> SF01400 →
A36: #34 아스팔트운반비 | B36: RSC-4,RSC-3 | C36: 1 | D36: D/M | E36: =F36+G36+H36 -> 1929 | F36: =일위대가_산근!C1378 -> 0 | G36: =일위대가_산근!D1378 -> 0 | H36: =일위대가_산근!E1378 -> 1929 | K36: SF00700 | L36: F | T36: 0 | U36: 0 | V36: 1929 | W36: 1929 | Y36: =EXACT($E36,$W36) -> TRUE | AA36: =HYPERLINK("#일위대가_산근!A1378","SF00700 →") -> SF00700 →
A37: #35 차선도색(페인트,기계식),유지보수 | B37: 황색-실선 | C37: 1 | D37: ㎡ | E37: =F37+G37+H37 -> 5209 | F37: =일위대가_산근!C1397 -> 4894 | G37: =일위대가_산근!D1397 -> 270 | H37: =일위대가_산근!E1397 -> 45 | K37: SF04120 | L37: F | T37: 4894 | U37: 270 | V37: 45 | W37: 5209 | Y37: =EXACT($E37,$W37) -> TRUE | AA37: =HYPERLINK("#일위대가_산근!A1397","SF04120 →") -> SF04120 →
A38: #36 차선도색(페인트,기계식),유지보수 | B38: 백색-파선 | C38: 1 | D38: ㎡ | E38: =F38+G38+H38 -> 6043 | F38: =일위대가_산근!C1460 -> 4777 | G38: =일위대가_산근!D1460 -> 1085 | H38: =일위대가_산근!E1460 -> 181 | K38: SF04110 | L38: F | T38: 4777 | U38: 1085 | V38: 181 | W38: 6043 | Y38: =EXACT($E38,$W38) -> TRUE | AA38: =HYPERLINK("#일위대가_산근!A1460","SF04110 →") -> SF04110 →
A39: #37 차선도색(페인트,수동식),유지보수 | B39: 문자,기호 | C39: 1 | D39: ㎡ | E39: =F39+G39+H39 -> 16921 | F39: =일위대가_산근!C1523 -> 5298 | G39: =일위대가_산근!D1523 -> 11060 | H39: =일위대가_산근!E1523 -> 563 | K39: SF03850 | L39: F | T39: 5298 | U39: 11060 | V39: 563 | W39: 16921 | Y39: =EXACT($E39,$W39) -> TRUE | AA39: =HYPERLINK("#일위대가_산근!A1523","SF03850 →") -> SF03850 →
A40: #38 차선도색(페인트,수동식),유지보수 | B40: 횡단보도,주차장 | C40: 1 | D40: ㎡ | E40: =F40+G40+H40 -> 10258 | F40: =일위대가_산근!C1583 -> 4753 | G40: =일위대가_산근!D1583 -> 5238 | H40: =일위대가_산근!E1583 -> 267 | K40: SF03840 | L40: F | T40: 4753 | U40: 5238 | V40: 267 | W40: 10258 | Y40: =EXACT($E40,$W40) -> TRUE | AA40: =HYPERLINK("#일위대가_산근!A1583","SF03840 →") -> SF03840 →
A41: #39 교통안전시설 | C41: 1 | D41: 식 | E41: =F41+G41+H41 -> 1949175 | F41: =일위대가_산근!C1643 -> 534000 | G41: =일위대가_산근!D1643 -> 1415175 | H41: =일위대가_산근!E1643 -> 0 | K41: SF05070 | L41: F | T41: 534000 | U41: 1415175 | V41: 0 | W41: 1949175 | Y41: =EXACT($E41,$W41) -> TRUE | AA41: =HYPERLINK("#일위대가_산근!A1643","SF05070 →") -> SF05070 →
A42: #40 교통안전시설 | B42: 가림막휀스 | C42: 1 | D42: m | E42: =F42+G42+H42 -> 19522 | F42: =일위대가_산근!C1698 -> 15000 | G42: =일위대가_산근!D1698 -> 4522 | H42: =일위대가_산근!E1698 -> 0 | K42: SF05075 | L42: F | T42: 15000 | U42: 4522 | V42: 0 | W42: 19522 | Y42: =EXACT($E42,$W42) -> TRUE | AA42: =HYPERLINK("#일위대가_산근!A1698","SF05075 →") -> SF05075 →
A43: #41 교통통제및안전처리 | B43: 공구연장500m미만 | C43: 1 | D43: 일 | E43: =F43+G43+H43 -> 344136 | F43: =일위대가_산근!C1718 -> 0 | G43: =일위대가_산근!D1718 -> 344136 | H43: =일위대가_산근!E1718 -> 0 | K43: SF05000 | L43: F | T43: 0 | U43: 344136 | V43: 0 | W43: 344136 | Y43: =EXACT($E43,$W43) -> TRUE | AA43: =HYPERLINK("#일위대가_산근!A1718","SF05000 →") -> SF05000 →
A44: #42 물운반 | B44: 물탱크 5500ℓ | C44: 1 | D44: ton | E44: =F44+G44+H44 -> 12112 | F44: =일위대가_산근!C1734 -> 2458 | G44: =일위대가_산근!D1734 -> 8041 | H44: =일위대가_산근!E1734 -> 1613 | K44: SA07600 | L44: F | T44: 2458 | U44: 8041 | V44: 1613 | W44: 12112 | Y44: =EXACT($E44,$W44) -> TRUE | AA44: =HYPERLINK("#일위대가_산근!A1734","SA07600 →") -> SA07600 →
A45: #43 구조물헐기(무근) | B45: 소형-공압식 | C45: 1 | D45: ㎥ | E45: =F45+G45+H45 -> 229225 | F45: =일위대가_산근!C1765 -> 7620 | G45: =일위대가_산근!D1765 -> 219889 | H45: =일위대가_산근!E1765 -> 1716 | K45: SA00500 | L45: F | T45: 7620 | U45: 219889 | V45: 1716 | W45: 229225 | Y45: =EXACT($E45,$W45) -> TRUE | AA45: =HYPERLINK("#일위대가_산근!A1765","SA00500 →") -> SA00500 →
A46: #44 몰탈 | B46: 1:3 | C46: 1 | D46: ㎥ | E46: =F46+G46+H46 -> 241981 | F46: =일위대가_산근!C1804 -> 128417 | G46: =일위대가_산근!D1804 -> 113564 | H46: =일위대가_산근!E1804 -> 0 | K46: SB00900 | L46: F | T46: 128417 | U46: 113564 | V46: 0 | W46: 241981 | Y46: =EXACT($E46,$W46) -> TRUE | AA46: =HYPERLINK("#일위대가_산근!A1804","SB00900 →") -> SB00900 →

Sheet 일위대가_호표
A1: 일위대가_호표
A2: 공 종 명 | B2: 규 격 | C2: 수량 | D2: 단위 | E2: 합 계 | G2: 재 료 비 | I2: 노 무 비 | K2: 경 비 | M2: 비 고
E3: 단 가 | F3: 금 액 | G3: 단 가 | H3: 금 액 | I3: 단 가 | J3: 금 액 | K3: 단 가 | L3: 금 액 | S3: 할 증 | T3: 화폐변환 | U3: OP값 | V3: EQ | W3: LA | X3: MA | Y3: 금액계상

Sheet 일위대가_산근
A1: 일위대가_산근
A2: 산 출 근 거 | B2: 합 계 | C2: 재 료 비 | D2: 노 무 비 | E2: 경 비 | F2: 비 고
AA3: ※ 노란색 셀을 수정하고 툴바에서 수식 > 시트계산을 하면
A4: #1 구조물헐기(무근) | 대형30CM미만|㎥ | B4: =$B39 -> 30884 | C4: =$C39 -> 4651 | D4: =$D39 -> 17505 | E4: =$E39 -> 8728 | H4: SA00450 | K4: 1 | Y4: =EXACT($Z4,$B39) -> TRUE | Z4: 30884 | AA4: 엑셀 수식이 적용됩니다. (단축키 F9 키)
I6: 10 | K6: F
A7: <공통품셈 8-2-13 대형 브레이커> | K7: <공통품셈 8-2-13 대형 브레이커>
A9: 구조물의 평균두께 30CM 미만 (기계 100%) | K9: 구조물의 평균두께 30CM 미만 (기계 100%)
A11: 1. 구조물헐기 | K11: 1. 구조물헐기
A13: 가.기계사용료 (대형브레이카 + 굴착기 0.7M3) | K13: 가.기계사용료 (대형브레이카 + 굴착기 0.7M3)
A15: =CONCATENATE(" Q = (3.3 + 5.9) / 2 = ",TEXT($AF15,"#,##0.00")," M3/HR ") -> Q = (3.3 + 5.9) / 2 = 4.60 M3/HR | B15: =SUM($C15,$D15,$E15) -> 0 | K15: Q = (3.3 + 5.9) / 2 = ?'M3/HR' | AA15: Q+ = | AB15: =ROUND((3.3+5.9)/2,2) -> 4.6 | AC15: Q = | AD15: =$AB15 -> 4.6 | AE15: 15_1_1+ = | AF15: =ROUND(ROUND((3.3+5.9)/2,2),2) -> 4.6 | AG15: 15_1_1 = | AH15: =$AF15 -> 4.6
A17: =CONCATENATE(" 재 료 비 : _x001D_21,395_x001D_ / ",TEXT($AB17,"#,##0.00")," = ",TEXT($AF17,"#,##0.00")) -> 재 료 비 : _x001D_21,395_x001D_ / 4.60 = 4,651.00 | B17: =SUM($C17,$D17,$E17) -> 4651 | C17: =$AF17 -> 4651 | K17: '재 료 비 :' ~E00020110701.M~ / {Q} = ?MA+ | AA17: 17_1_1+ = | AB17: =$AD15 -> 4.6 | AC17: 17_1_1 = | AD17: =$AB17 -> 4.6 | AE17: MA+ = | AF17: =TRUNC(중기사용료목록!E7/$AD17,0) -> 4651 | AG17: MA = | AH17: =$AF17 -> 4651
A19: =CONCATENATE(" 노 무 비 : _x001D_59,020_x001D_ / ",TEXT($AB19,"#,##0.00")," = ",TEXT($AF19,"#,##0.00")) -> 노 무 비 : _x001D_59,020_x001D_ / 4.60 = 12,830.00 | B19: =SUM($C19,$D19,$E19) -> 12830 | D19: =$AF19 -> 12830 | K19: '노 무 비 :' ~E00020110701.L~ / {Q} = ?LA+ | AA19: 19_1_1+ = | AB19: =$AD15 -> 4.6 | AC19: 19_1_1 = | AD19: =$AB19 -> 4.6 | AE19: LA+ = | AF19: =TRUNC(중기사용료목록!F7/$AD19,0) -> 12830 | AG19: LA = | AH19: =$AF19 -> 12830
A21: =CONCATENATE(" 경 비 : _x001D_37,850_x001D_ / ",TEXT($AB21,"#,##0.00")," = ",TEXT($AF21,"#,##0.00")) -> 경 비 : _x001D_37,850_x001D_ / 4.60 = 8,228.00 | B21: =SUM($C21,$D21,$E21) -> 8228 | E21: =$AF21 -> 8228 | K21: '경 비 :' ~E00020110701.E~ / {Q} = ?EQ+ | AA21: 21_1_1+ = | AB21: =$AD15 -> 4.6 | AC21: 21_1_1 = | AD21: =$AB21 -> 4.6 | AE21: EQ+ = | AF21: =TRUNC(중기사용료목록!G7/$AD21,0) -> 8228 | AG21: EQ = | AH21: =$AF21 -> 8228
A23: 소 계 : | B23: =SUM($C23,$D23,$E23) -> 25709 | C23: =$AB23 -> 4651 | D23: =$AD23 -> 12830 | E23: =$AF23 -> 8228 | K23: > '소 계 : ' | AA23: >MA = | AB23: =$AH17 -> 4651 | AC23: >LA = | AD23: =$AH19 -> 12830 | AE23: >EQ = | AF23: =$AH21 -> 8228
A25: 나.보통 인부 | K25: 나.보통 인부
K26: =SUBSTITUTE(SUBSTITUTE(".A=1,B=8","8",TEXT($AF26,"#,##0"),1),"_x001D_","'") -> .A=1,B=8 | AA26: A = | AB26: 1 | AC26: A = | AD26: =$AB26 -> 1 | AE26: B = | AF26: 8 | AG26: B = | AH26: =$AF26 -> 8
A27: =CONCATENATE(" (",TEXT($AB27,"#,##0.00")," 인 * _x001D_172,068_x001D_) / (",TEXT($AF27,"#,##0.00")," * ",TEXT($AJ27,"#,##0.00")," HR )= ",TEXT($AN27,"#,##0.00")) -> (1.00 인 * _x001D_172,068_x001D_) / (4.60 * 8.00 HR )= 4,675.00 | B27: =SUM($C27,$D27,$E27) -> 4675 | D27: =$AN27 -> 4675 | K27: ({A} '인' * ~L085~) / ({Q} * {B} 'HR')= ?LA+ | AA27: 27_1_1+ = | AB27: =$AD26 -> 1 | AC27: 27_1_1 = | AD27: =$AB27 -> 1 | AE27: 27_1_2+ = | AF27: =$AD15 -> 4.6 | AG27: 27_1_2 = | AH27: =$AF27 -> 4.6 | AI27: 27_1_3+ = | AJ27: =$AH26 -> 8 | AK27: 27_1_3 = | AL27: =$AJ27 -> 8 | AM27: LA+ = | AN27: =TRUNC(($AD27*노임!D10)/($AH27*$AL27),0) -> 4675 | AO27: LA = | AP27: =$AH19+$AN27 -> 17505
A29: 다.치즐 | K29: 다.치즐
K30: .C=0.01 | AA30: C = | AB30: 0.01 | AC30: C = | AD30: =$AB30 -> 0.01
A31: =CONCATENATE(" (",TEXT($AB31,"#,##0.00")," * _x001D_230,000_x001D_) / ",TEXT($AF31,"#,##0.00")," = ",TEXT($AJ31,"#,##0.00")) -> (0.01 * _x001D_230,000_x001D_) / 4.60 = 500.00 | B31: =SUM($C31,$D31,$E31) -> 500 | E31: =$AJ31 -> 500 | K31: ({C} * ~M8448007~) / {Q} = ?EQ+ | AA31: 31_1_1+ = | AB31: =$AD30 -> 0.01 | AC31: 31_1_1 = | AD31: =$AB31 -> 0.01 | AE31: 31_1_2+ = | AF31: =$AD15 -> 4.6 | AG31: 31_1_2 = | AH31: =$AF31 -> 4.6 | AI31: EQ+ = | AJ31: =TRUNC(($AD31*자재!D5)/$AH31,0) -> 500 | AK31: EQ = | AL31: =$AH21+$AJ31 -> 8728
A33: 소 계 : | B33: =SUM($C33,$D33,$E33) -> 5175 | C33: =$AB33 -> 0 | D33: =$AD33 -> 4675 | E33: =$AF33 -> 500 | K33: > '소 계 : ' | AA33: >MA = | AB33: =$AH17-$AH17 -> 0 | AC33: >LA = | AD33: =$AP27-$AH19 -> 4675 | AE33: >EQ = | AF33: =$AL31-$AH21 -> 500
A35: 계 : | B35: =SUM($C35,$D35,$E35) -> 30884 | C35: =$AB35 -> 4651 | D35: =$AD35 -> 17505 | E35: =$AF35 -> 8728 | K35: >>' 계 : ' | AA35: >>MA = | AB35: =$AH17 -> 4651 | AC35: >>LA = | AD35: =$AP27 -> 17505 | AE35: >>EQ = | AF35: =$AL31 -> 8728
A37: 총 계 : | B37: =SUM($C37,$D37,$E37) -> 30884 | C37: =$AB37 -> 4651 | D37: =$AD37 -> 17505 | E37: =$AF37 -> 8728 | K37: >>>' 총 계 : ' | AA37: >>>MA = | AB37: =$AH17 -> 4651 | AC37: >>>LA = | AD37: =$AP27 -> 17505 | AE37: >>>EQ = | AF37: =$AL31 -> 8728
A39: 전체 합계 | B39: =SUM($C39,$D39,$E39) -> 30884 | C39: =TRUNC(SUM($AH17),0) -> 4651 | D39: =TRUNC(SUM($AP27),0) -> 17505 | E39: =TRUNC(SUM($AL31),0) -> 8728
A41: #2 아스콘포장깨기 | 굴삭기 0.7㎥|㎥ | B41: =$B72 -> 8877 | C41: =$C72 -> 1337 | D41: =$D72 -> 5032 | E41: =$E72 -> 2508 | H41: SA01200 | K41: 1 | Y41: =EXACT($Z41,$B72) -> TRUE | Z41: 8877
I43: 10 | K43: F
A44: <공통품셈 8-2-13 대형 브레이커> | K44: <공통품셈 8-2-13 대형 브레이커>
A46: ○ 아스팔트 포장깨기 (기계 100%) : 30㎝미만 | K46: ○ 아스팔트 포장깨기 (기계 100%) : 30㎝미만
A48: 1. 기계사용료 (대형브레이카 + 굴삭기 0.7M3) | K48: 1. 기계사용료 (대형브레이카 + 굴삭기 0.7M3)
A50: =CONCATENATE(" Q=",TEXT($AB50,"#,##0.00")," M3/HR") -> Q=16.00 M3/HR | K50: =SUBSTITUTE(SUBSTITUTE(" Q = 16 _x001D_M3/HR_x001D_","16",TEXT($AB50,"#,##0"),1),"_x001D_","'") -> Q = 16 'M3/HR' | AA50: Q = | AB50: 16 | AC50: Q = | AD50: =$AB50 -> 16
A52: =CONCATENATE(" 재 료 비 : _x001D_21,395_x001D_ / ",TEXT($AB52,"#,##0.00")," =",TEXT($AF52,"#,##0.00")) -> 재 료 비 : _x001D_21,395_x001D_ / 16.00 =1,337.00 | B52: =SUM($C52,$D52,$E52) -> 1337 | C52: =$AF52 -> 1337 | K52: '재 료 비 : '~E00020110701.M~ / {Q} =?MA+ | AA52: 52_1_1+ = | AB52: =$AD50 -> 16 | AC52: 52_1_1 = | AD52: =$AB52 -> 16 | AE52: MA+ = | AF52: =TRUNC(중기사용료목록!E7/$AD52,0) -> 1337 | AG52: MA = | AH52: =$AF52 -> 1337
A54: =CONCATENATE(" 노 무 비 : _x001D_59,020_x001D_ / ",TEXT($AB54,"#,##0.00")," =",TEXT($AF54,"#,##0.00")) -> 노 무 비 : _x001D_59,020_x001D_ / 16.00 =3,688.00 | B54: =SUM($C54,$D54,$E54) -> 3688 | D54: =$AF54 -> 3688 | K54: '노 무 비 : '~E00020110701.L~ / {Q} =?LA+ | AA54: 54_1_1+ = | AB54: =$AD50 -> 16 | AC54: 54_1_1 = | AD54: =$AB54 -> 16 | AE54: LA+ = | AF54: =TRUNC(중기사용료목록!F7/$AD54,0) -> 3688 | AG54: LA = | AH54: =$AF54 -> 3688
A56: =CONCATENATE(" 경 비 : _x001D_37,850_x001D_ / ",TEXT($AB56,"#,##0.00")," =",TEXT($AF56,"#,##0.00")) -> 경 비 : _x001D_37,850_x001D_ / 16.00 =2,365.00 | B56: =SUM($C56,$D56,$E56) -> 2365 | E56: =$AF56 -> 2365 | K56: '경 비 : '~E00020110701.E~ / {Q} =?EQ+ | AA56: 56_1_1+ = | AB56: =$AD50 -> 16 | AC56: 56_1_1 = | AD56: =$AB56 -> 16 | AE56: EQ+ = | AF56: =TRUNC(중기사용료목록!G7/$AD56,0) -> 2365 | AG56: EQ = | AH56: =$AF56 -> 2365
A58: 소 계 : | B58: =SUM($C58,$D58,$E58) -> 7390 | C58: =$AB58 -> 1337 | D58: =$AD58 -> 3688 | E58: =$AF58 -> 2365 | K58: > '소 계 : ' | AA58: >MA = | AB58: =$AH52 -> 1337 | AC58: >LA = | AD58: =$AH54 -> 3688 | AE58: >EQ = | AF58: =$AH56 -> 2365
A60: 나.보통 인부 | K60: 나.보통 인부
K61: =SUBSTITUTE(SUBSTITUTE(".A=1,B=8","8",TEXT($AF61,"#,##0"),1),"_x001D_","'") -> .A=1,B=8 | AA61: A = | AB61: 1 | AC61: A = | AD61: =$AB61 -> 1 | AE61: B = | AF61: 8 | AG61: B = | AH61: =$AF61 -> 8
A62: =CONCATENATE(" (",TEXT($AB62,"#,##0.00")," 인 * _x001D_172,068_x001D_) / (",TEXT($AF62,"#,##0.00")," * ",TEXT($AJ62,"#,##0.00")," HR )=",TEXT($AN62,"#,##0.00")) -> (1.00 인 * _x001D_172,068_x001D_) / (16.00 * 8.00 HR )=1,344.00 | B62: =SUM($C62,$D62,$E62) -> 1344 | D62: =$AN62 -> 1344 | K62: ({A} '인' * ~L085~) / ({Q} * {B} 'HR')=?LA+ | AA62: 62_1_1+ = | AB62: =$AD61 -> 1 | AC62: 62_1_1 = | AD62: =$AB62 -> 1 | AE62: 62_1_2+ = | AF62: =$AD50 -> 16 | AG62: 62_1_2 = | AH62: =$AF62 -> 16 | AI62: 62_1_3+ = | AJ62: =$AH61 -> 8 | AK62: 62_1_3 = | AL62: =$AJ62 -> 8 | AM62: LA+ = | AN62: =TRUNC(($AD62*노임!D10)/($AH62*$AL62),0) -> 1344 | AO62: LA = | AP62: =$AH54+$AN62 -> 5032
A64: 소 계 : | B64: =SUM($C64,$D64,$E64) -> 1344 | C64: =$AB64 -> 0 | D64: =$AD64 -> 1344 | E64: =$AF64 -> 0 | K64: > '소 계 : ' | AA64: >MA = | AB64: =$AH52-$AH52 -> 0 | AC64: >LA = | AD64: =$AP62-$AH54 -> 1344 | AE64: >EQ = | AF64: =$AH56-$AH56 -> 0
A66: 다.치즐 | K66: 다.치즐
K67: .C=0.01 | AA67: C = | AB67: 0.01 | AC67: C = | AD67: =$AB67 -> 0.01
A68: =CONCATENATE(" (",TEXT($AB68,"#,##0.00")," * _x001D_230,000_x001D_) / ",TEXT($AF68,"#,##0.00")," =",TEXT($AJ68,"#,##0.00")) -> (0.01 * _x001D_230,000_x001D_) / 16.00 =143.00 | B68: =SUM($C68,$D68,$E68) -> 143 | E68: =$AJ68 -> 143 | K68: ({C} * ~M8448007~) / {Q} =?EQ+ | AA68: 68_1_1+ = | AB68: =$AD67 -> 0.01 | AC68: 68_1_1 = | AD68: =$AB68 -> 0.01 | AE68: 68_1_2+ = | AF68: =$AD50 -> 16 | AG68: 68_1_2 = | AH68: =$AF68 -> 16 | AI68: EQ+ = | AJ68: =TRUNC(($AD68*자재!D5)/$AH68,0) -> 143 | AK68: EQ = | AL68: =$AH56+$AJ68 -> 2508
A70: 소 계 : | B70: =SUM($C70,$D70,$E70) -> 143 | C70: =$AB70 -> 0 | D70: =$AD70 -> 0 | E70: =$AF70 -> 143 | K70: > '소 계 : ' | AA70: >MA = | AB70: =$AH52-$AH52 -> 0 | AC70: >LA = | AD70: =$AP62-$AP62 -> 0 | AE70: >EQ = | AF70: =$AL68-$AH56 -> 143
A72: 전체 합계 | B72: =SUM($C72,$D72,$E72) -> 8877 | C72: =TRUNC(SUM($AH52),0) -> 1337 | D72: =TRUNC(SUM($AP62),0) -> 5032 | E72: =TRUNC(SUM($AL68),0) -> 2508
A74: #3 아스팔트포장절단 | |m | B74: =$B137 -> 2276 | C74: =$C137 -> 674 | D74: =$D137 -> 1535 | E74: =$E137 -> 67 | H74: SA01500 | K74: 1 | Y74: =EXACT($Z74,$B137) -> TRUE | Z74: 2276
I76: 10 | K76: F
A77: <유지관리 2-1-2 아스콘포장 절단> | K77: <유지관리 2-1-2 아스콘포장 절단>
A79: =CONCATENATE(" ○ 1일 시공량 : A=",TEXT($AB79,"#,##0.00")," M/일") -> ○ 1일 시공량 : A=500.00 M/일 | K79: =SUBSTITUTE(SUBSTITUTE("_x001D_○ 1일 시공량 :_x001D_ A = 500_x001D_M/일_x001D_","500",TEXT($AB79,"#,##0"),1),"_x001D_","'") -> '○ 1일 시공량 :' A = 500'M/일' | AA79: A = | AB79: 500 | AC79: A = | AD79: =$AB79 -> 500
A81: =CONCATENATE(" ○ 1시간 작업량 : Q = ",TEXT($AB81,"#,##0.00")," / 8 hr =",TEXT($AJ81,"#,##0.00")," M/hr ") -> ○ 1시간 작업량 : Q = 500.00 / 8 hr =62.50 M/hr | B81: =SUM($C81,$D81,$E81) -> 0 | K81: '○ 1시간 작업량 :' Q = {A} / 8'hr' =?'M/hr' | AA81: 81_1_1+ = | AB81: =$AD79 -> 500 | AC81: 81_1_1 = | AD81: =$AB81 -> 500 | AE81: Q+ = | AF81: =ROUND($AD81/8,2) -> 62.5 | AG81: Q = | AH81: =$AF81 -> 62.5 | AI81: 81_1_2+ = | AJ81: =ROUND(ROUND($AD81/8,2),2) -> 62.5 | AK81: 81_1_2 = | AL81: =$AJ81 -> 62.5
A83: ○ 블레이드 : 0.27 EA / 100 M | K83: '○ 블레이드 : ' 0.27'EA' / 100'M'
A85: =CONCATENATE(" ○ 물운반 : B=2000 ℓ / 100 M / 1000 = ",TEXT($AF85,"#,##0.00")," ton ") -> ○ 물운반 : B=2000 ℓ / 100 M / 1000 = 0.02 ton | B85: =SUM($C85,$D85,$E85) -> 0 | K85: '○ 물운반 :' B=2000'ℓ'/ 100'M'/ 1000 = ?'ton' | AA85: B+ = | AB85: =ROUND(2000/100/1000,2) -> 0.02 | AC85: B = | AD85: =$AB85 -> 0.02 | AE85: 85_1_1+ = | AF85: =ROUND(ROUND(2000/100/1000,2),2) -> 0.02 | AG85: 85_1_1 = | AH85: =$AF85 -> 0.02
A87: 1. 재 료 비 | K87: 1. 재 료 비
A89: =CONCATENATE(" 블레이드 : (0.27/100) 개 * _x001D_160,000_x001D_=",TEXT($AB89,"#,##0.00")) -> 블레이드 : (0.27/100) 개 * _x001D_160,000_x001D_=432.00 | B89: =SUM($C89,$D89,$E89) -> 432 | C89: =$AB89 -> 432 | K89: '블레이드 :'(0.27/100)'개'* ~M8922017~=?MA+ | AA89: MA+ = | AB89: =TRUNC((0.27/100)*자재!D6,0) -> 432 | AC89: MA = | AD89: =$AB89 -> 432
A91: 계 : | B91: =SUM($C91,$D91,$E91) -> 432 | C91: =$AB91 -> 432 | D91: =$AD91 -> 0 | E91: =$AF91 -> 0 | K91: >>' 계 : ' | AA91: >>MA = | AB91: =$AD89 -> 432
A93: 2. 노 무 비 | K93: 2. 노 무 비
A95: =CONCATENATE(" 특별인부 : 1 인 / ",TEXT($AB95,"#,##0.00")," * _x001D_226,122_x001D_ = ",TEXT($AF95,"#,##0.00")) -> 특별인부 : 1 인 / 500.00 * _x001D_226,122_x001D_ = 452.00 | B95: =SUM($C95,$D95,$E95) -> 452 | D95: =$AF95 -> 452 | K95: '특별인부 :' 1'인' / {A} * ~L084~ = ?LA+ | AA95: 95_1_1+ = | AB95: =$AD79 -> 500 | AC95: 95_1_1 = | AD95: =$AB95 -> 500 | AE95: LA+ = | AF95: =TRUNC(1/$AD95*노임!D9,0) -> 452 | AG95: LA = | AH95: =$AF95 -> 452
A97: =CONCATENATE(" 보통인부 : 1 인 / ",TEXT($AB97,"#,##0.00")," * _x001D_172,068_x001D_ = ",TEXT($AF97,"#,##0.00")) -> 보통인부 : 1 인 / 500.00 * _x001D_172,068_x001D_ = 344.00 | B97: =SUM($C97,$D97,$E97) -> 344 | D97: =$AF97 -> 344 | K97: '보통인부 :' 1'인' / {A} * ~L085~ = ?LA+ | AA97: 97_1_1+ = | AB97: =$AD79 -> 500 | AC97: 97_1_1 = | AD97: =$AB97 -> 500 | AE97: LA+ = | AF97: =TRUNC(1/$AD97*노임!D10,0) -> 344 | AG97: LA = | AH97: =$AH95+$AF97 -> 796
A99: 계 : | B99: =SUM($C99,$D99,$E99) -> 796 | C99: =$AB99 -> 0 | D99: =$AD99 -> 796 | E99: =$AF99 -> 0 | K99: >>' 계 : ' | AA99: >>MA = | AB99: =$AD89-$AD89 -> 0 | AC99: >>LA = | AD99: =$AH97 -> 796
A101: 3. 기계사용료 | K101: 3. 기계사용료
A103: 가. 콘크리트 커터 (320-400mm) | K103: 가. 콘크리트 커터 (320-400mm)
A105: =CONCATENATE(" 노 무 비 : _x001D_36,248_x001D_ / ",TEXT($AB105,"#,##0.00")," =",TEXT($AF105,"#,##0.00")) -> 노 무 비 : _x001D_36,248_x001D_ / 62.50 =579.00 | B105: =SUM($C105,$D105,$E105) -> 579 | D105: =$AF105 -> 579 | K105: '노 무 비 :' ~E0044300400.L~ / {Q} =?LA+ | AA105: 105_1_1+ = | AB105: =$AH81 -> 62.5 | AC105: 105_1_1 = | AD105: =$AB105 -> 62.5 | AE105: LA+ = | AF105: =TRUNC(중기사용료목록!F24/$AD105,0) -> 579 | AG105: LA = | AH105: =$AH97+$AF105 -> 1375
A107: =CONCATENATE(" 재 료 비 : _x001D_10,832_x001D_ / ",TEXT($AB107,"#,##0.00")," =",TEXT($AF107,"#,##0.00")) -> 재 료 비 : _x001D_10,832_x001D_ / 62.50 =173.00 | B107: =SUM($C107,$D107,$E107) -> 173 | C107: =$AF107 -> 173 | K107: '재 료 비 :' ~E0044300400.M~ / {Q} =?MA+ | AA107: 107_1_1+ = | AB107: =$AH81 -> 62.5 | AC107: 107_1_1 = | AD107: =$AB107 -> 62.5 | AE107: MA+ = | AF107: =TRUNC(중기사용료목록!E24/$AD107,0) -> 173 | AG107: MA = | AH107: =$AD89+$AF107 -> 605
A109: =CONCATENATE(" 경 비 : _x001D_2,064_x001D_ / ",TEXT($AB109,"#,##0.00")," =",TEXT($AF109,"#,##0.00")) -> 경 비 : _x001D_2,064_x001D_ / 62.50 =33.00 | B109: =SUM($C109,$D109,$E109) -> 33 | E109: =$AF109 -> 33 | K109: '경 비 :' ~E0044300400.E~ / {Q} =?EQ+ | AA109: 109_1_1+ = | AB109: =$AH81 -> 62.5 | AC109: 109_1_1 = | AD109: =$AB109 -> 62.5 | AE109: EQ+ = | AF109: =TRUNC(중기사용료목록!G24/$AD109,0) -> 33 | AG109: EQ = | AH109: =$AF109 -> 33
A111: 소 계 : | B111: =SUM($C111,$D111,$E111) -> 785 | C111: =$AB111 -> 173 | D111: =$AD111 -> 579 | E111: =$AF111 -> 33 | K111: > '소 계 : ' | AA111: >MA = | AB111: =$AH107-$AD89 -> 173 | AC111: >LA = | AD111: =$AH105-$AH97 -> 579 | AE111: >EQ = | AF111: =$AH109 -> 33
A113: 나. 동력분무기(4.85kW) - 0.5대 | K113: 나. 동력분무기(4.85kW) - 0.5대
A115: =CONCATENATE(" 재 료 비 : _x001D_2,514_x001D_ / ",TEXT($AB115,"#,##0.00")," * 0.5 =",TEXT($AF115,"#,##0.00")) -> 재 료 비 : _x001D_2,514_x001D_ / 62.50 * 0.5 =20.00 | B115: =SUM($C115,$D115,$E115) -> 20 | C115: =$AF115 -> 20 | K115: '재 료 비 :' ~E0072100485.M~ / {Q} * 0.5 =?MA+ | AA115: 115_1_1+ = | AB115: =$AH81 -> 62.5 | AC115: 115_1_1 = | AD115: =$AB115 -> 62.5 | AE115: MA+ = | AF115: =TRUNC(중기사용료목록!E29/$AD115*0.5,0) -> 20 | AG115: MA = | AH115: =$AH107+$AF115 -> 625
A117: =CONCATENATE(" 노 무 비 : _x001D_0_x001D_ / ",TEXT($AB117,"#,##0.00")," * 0.5 =",TEXT($AF117,"#,##0.00")) -> 노 무 비 : _x001D_0_x001D_ / 62.50 * 0.5 =0.00 | B117: =SUM($C117,$D117,$E117) -> 0 | D117: =$AF117 -> 0 | K117: '노 무 비 :' ~E0072100485.L~ / {Q} * 0.5 =?LA+ | AA117: 117_1_1+ = | AB117: =$AH81 -> 62.5 | AC117: 117_1_1 = | AD117: =$AB117 -> 62.5 | AE117: LA+ = | AF117: =TRUNC(중기사용료목록!F29/$AD117*0.5,0) -> 0 | AG117: LA = | AH117: =$AH105+$AF117 -> 1375
A119: =CONCATENATE(" 경 비 : _x001D_258_x001D_ / ",TEXT($AB119,"#,##0.00")," * 0.5 =",TEXT($AF119,"#,##0.00")) -> 경 비 : _x001D_258_x001D_ / 62.50 * 0.5 =2.00 | B119: =SUM($C119,$D119,$E119) -> 2 | E119: =$AF119 -> 2 | K119: '경 비 :' ~E0072100485.E~ / {Q} * 0.5 =?EQ+ | AA119: 119_1_1+ = | AB119: =$AH81 -> 62.5 | AC119: 119_1_1 = | AD119: =$AB119 -> 62.5 | AE119: EQ+ = | AF119: =TRUNC(중기사용료목록!G29/$AD119*0.5,0) -> 2 | AG119: EQ = | AH119: =$AH109+$AF119 -> 35
A121: 소 계 : | B121: =SUM($C121,$D121,$E121) -> 22 | C121: =$AB121 -> 20 | D121: =$AD121 -> 0 | E121: =$AF121 -> 2 | K121: > '소 계 : ' | AA121: >MA = | AB121: =$AH115-$AH107 -> 20 | AC121: >LA = | AD121: =$AH117-$AH105 -> 0 | AE121: >EQ = | AF121: =$AH119-$AH109 -> 2
A123: 계 : | B123: =SUM($C123,$D123,$E123) -> 807 | C123: =$AB123 -> 193 | D123: =$AD123 -> 579 | E123: =$AF123 -> 35 | K123: >>' 계 : ' | AA123: >>MA = | AB123: =$AH115-$AD89 -> 193 | AC123: >>LA = | AD123: =$AH117-$AH97 -> 579 | AE123: >>EQ = | AF123: =$AH119 -> 35
A125: 4. 물운반비 : 물탱크(5500ℓ) | K125: 4. 물운반비 : 물탱크(5500ℓ)
A127: =CONCATENATE(" 재 료 비 : ",TEXT($AB127,"#,##0.00")," TON * _x001D_2,458_x001D_ = ",TEXT($AF127,"#,##0.00")) -> 재 료 비 : 0.02 TON * _x001D_2,458_x001D_ = 49.00 | B127: =SUM($C127,$D127,$E127) -> 49 | C127: =$AF127 -> 49 | K127: '재 료 비 :' {B}'TON' * ~SA07600.M~ = ?MA+ | AA127: 127_1_1+ = | AB127: =$AD85 -> 0.02 | AC127: 127_1_1 = | AD127: =$AB127 -> 0.02 | AE127: MA+ = | AF127: =TRUNC($AD127*일위대가목록!F44,0) -> 49 | AG127: MA = | AH127: =$AH115+$AF127 -> 674
A129: =CONCATENATE(" 노 무 비 : ",TEXT($AB129,"#,##0.00")," TON * _x001D_8,041_x001D_ = ",TEXT($AF129,"#,##0.00")) -> 노 무 비 : 0.02 TON * _x001D_8,041_x001D_ = 160.00 | B129: =SUM($C129,$D129,$E129) -> 160 | D129: =$AF129 -> 160 | K129: '노 무 비 :' {B}'TON' * ~SA07600.L~ = ?LA+ | AA129: 129_1_1+ = | AB129: =$AD85 -> 0.02 | AC129: 129_1_1 = | AD129: =$AB129 -> 0.02 | AE129: LA+ = | AF129: =TRUNC($AD129*일위대가목록!G44,0) -> 160 | AG129: LA = | AH129: =$AH117+$AF129 -> 1535
A131: =CONCATENATE(" 경 비 : ",TEXT($AB131,"#,##0.00")," TON * _x001D_1,613_x001D_ = ",TEXT($AF131,"#,##0.00")) -> 경 비 : 0.02 TON * _x001D_1,613_x001D_ = 32.00 | B131: =SUM($C131,$D131,$E131) -> 32 | E131: =$AF131 -> 32 | K131: '경 비 :' {B}'TON' * ~SA07600.E~ = ?EQ+ | AA131: 131_1_1+ = | AB131: =$AD85 -> 0.02 | AC131: 131_1_1 = | AD131: =$AB131 -> 0.02 | AE131: EQ+ = | AF131: =TRUNC($AD131*일위대가목록!H44,0) -> 32 | AG131: EQ = | AH131: =$AH119+$AF131 -> 67
A133: 계 : | B133: =SUM($C133,$D133,$E133) -> 241 | C133: =$AB133 -> 49 | D133: =$AD133 -> 160 | E133: =$AF133 -> 32 | K133: >>' 계 : ' | AA133: >>MA = | AB133: =$AH127-$AH115 -> 49 | AC133: >>LA = | AD133: =$AH129-$AH117 -> 160 | AE133: >>EQ = | AF133: =$AH131-$AH119 -> 32
A135: 총 계 : | B135: =SUM($C135,$D135,$E135) -> 2276 | C135: =$AB135 -> 674 | D135: =$AD135 -> 1535 | E135: =$AF135 -> 67 | K135: >>>' 총 계 : ' | AA135: >>>MA = | AB135: =$AH127 -> 674 | AC135: >>>LA = | AD135: =$AH129 -> 1535 | AE135: >>>EQ = | AF135: =$AH131 -> 67
A137: 전체 합계 | B137: =SUM($C137,$D137,$E137) -> 2276 | C137: =TRUNC(SUM($AH127),0) -> 674 | D137: =TRUNC(SUM($AH129),0) -> 1535 | E137: =TRUNC(SUM($AH131),0) -> 67
A139: #4 폐기물상차 | 굴삭기 0.7㎥|㎥ | B139: =$B160 -> 4567 | C139: =$C160 -> 969 | D139: =$D160 -> 2541 | E139: =$E160 -> 1057 | H139: SA02100 | K139: 1 | Y139: =EXACT($Z139,$B160) -> TRUE | Z139: 4567
I141: 10 | K141: F
A142: <공통품셈 8-2-3 굴착기> | K142: <공통품셈 8-2-3 굴착기>
A144: 1. 적 재: 굴착기 0.7 M3 | K144: 1. 적 재: 굴착기 0.7 M3
A146: =CONCATENATE(" q=",TEXT($AB146,"#,##0.0"),", k=",TEXT($AF146,"#,##0.00"),", f = 1/1.5 = ",TEXT($AN146,"#,##0.00")) -> q=0.7, k=0.55, f = 1/1.5 = 0.67 | B146: =SUM($C146,$D146,$E146) -> 0 | K146: =SUBSTITUTE(SUBSTITUTE(SUBSTITUTE(" q = 0.7, k = 0.55, f = 1/1.5 = ?","0.7",TEXT($AB146,"#,##0.0"),1),"0.55",TEXT($AF146,"#,##0.00"),1),"_x001D_","'") -> q = 0.7, k = 0.55, f = 1/1.5 = ? | AA146: Q = | AB146: 0.7 | AC146: Q = | AD146: =$AB146 -> 0.7 | AE146: K = | AF146: 0.55 | AG146: K = | AH146: =$AF146 -> 0.55 | AI146: F+ = | AJ146: =ROUND(1/1.5,2) -> 0.67 | AK146: F = | AL146: =$AJ146 -> 0.67 | AM146: 146_3_1+ = | AN146: =ROUND(ROUND(1/1.5,2),2) -> 0.67 | AO146: 146_3_1 = | AP146: =$AN146 -> 0.67
A148: =CONCATENATE(" E=",TEXT($AB148,"#,##0.00"),", cm=",TEXT($AF148,"#,##0.00")," sec") -> E=0.45, cm=18.00 sec | K148: =SUBSTITUTE(SUBSTITUTE(SUBSTITUTE(" E = 0.45, cm = 18_x001D_sec_x001D_","0.45",TEXT($AB148,"#,##0.00"),1),"18",TEXT($AF148,"#,##0"),1),"_x001D_","'") -> E = 0.45, cm = 18'sec' | AA148: E = | AB148: 0.45 | AC148: E = | AD148: =$AB148 -> 0.45 | AE148: CM = | AF148: 18 | AG148: CM = | AH148: =$AF148 -> 18
A150: =CONCATENATE(" Q = (3600*q*f*K*E)/cm = ",TEXT($AF150,"#,##0.00")," ㎥/hr ") -> Q = (3600*q*f*K*E)/cm = 23.22 ㎥/hr | B150: =SUM($C150,$D150,$E150) -> 0 | K150: Q = (3600*q*f*K*E)/cm = ?'㎥/hr' | AA150: Q+ = | AB150: =ROUND((3600*$AD146*$AL146*$AH146*$AD148)/$AH148,2) -> 23.22 | AC150: Q = | AD150: =$AB150 -> 23.22 | AE150: 150_1_1+ = | AF150: =ROUND(ROUND((3600*$AD146*$AL146*$AH146*$AD148)/$AH148,2),2) -> 23.22 | AG150: 150_1_1 = | AH150: =$AF150 -> 23.22
A152: =CONCATENATE(" 재 료 비 _x001D_22,501_x001D_ / ",TEXT($AB152,"#,##0.00")," = ",TEXT($AF152,"#,##0.00")) -> 재 료 비 _x001D_22,501_x001D_ / 23.22 = 969.00 | B152: =SUM($C152,$D152,$E152) -> 969 | C152: =$AF152 -> 969 | K152: '재 료 비 ' ~E0002010070.M~ / {Q} = ?MA | AA152: 152_1_1+ = | AB152: =$AD150 -> 23.22 | AC152: 152_1_1 = | AD152: =$AB152 -> 23.22 | AE152: MA+ = | AF152: =TRUNC(중기사용료목록!E5/$AD152,0) -> 969 | AG152: MA = | AH152: =$AF152 -> 969
A154: =CONCATENATE(" 노 무 비 _x001D_59,020_x001D_ / ",TEXT($AB154,"#,##0.00")," = ",TEXT($AF154,"#,##0.00")) -> 노 무 비 _x001D_59,020_x001D_ / 23.22 = 2,541.00 | B154: =SUM($C154,$D154,$E154) -> 2541 | D154: =$AF154 -> 2541 | K154: '노 무 비 ' ~E0002010070.L~ / {Q} = ?LA | AA154: 154_1_1+ = | AB154: =$AD150 -> 23.22 | AC154: 154_1_1 = | AD154: =$AB154 -> 23.22 | AE154: LA+ = | AF154: =TRUNC(중기사용료목록!F5/$AD154,0) -> 2541 | AG154: LA = | AH154: =$AF154 -> 2541
A156: =CONCATENATE(" 경 비 _x001D_24,554_x001D_ / ",TEXT($AB156,"#,##0.00")," = ",TEXT($AF156,"#,##0.00")) -> 경 비 _x001D_24,554_x001D_ / 23.22 = 1,057.00 | B156: =SUM($C156,$D156,$E156) -> 1057 | E156: =$AF156 -> 1057 | K156: '경 비 ' ~E0002010070.E~ / {Q} = ?EQ | AA156: 156_1_1+ = | AB156: =$AD150 -> 23.22 | AC156: 156_1_1 = | AD156: =$AB156 -> 23.22 | AE156: EQ+ = | AF156: =TRUNC(중기사용료목록!G5/$AD156,0) -> 1057 | AG156: EQ = | AH156: =$AF156 -> 1057
A158: 계 : | B158: =SUM($C158,$D158,$E158) -> 4567 | C158: =$AB158 -> 969 | D158: =$AD158 -> 2541 | E158: =$AF158 -> 1057 | K158: >>' 계 : ' | AA158: >>MA = | AB158: =$AH152 -> 969 | AC158: >>LA = | AD158: =$AH154 -> 2541 | AE158: >>EQ = | AF158: =$AH156 -> 1057
A160: 전체 합계 | B160: =SUM($C160,$D160,$E160) -> 4567 | C160: =TRUNC(SUM($AH152),0) -> 969 | D160: =TRUNC(SUM($AH154),0) -> 2541 | E160: =TRUNC(SUM($AH156),0) -> 1057
A162: #5 흙깍기(보통토사)소규모 1만㎥미만 | 굴삭기 1.0㎥|㎥ | B162: =$B181 -> 3263 | C162: =$C181 -> 976 | D162: =$D181 -> 1523 | E162: =$E181 -> 764 | H162: SA02420 | K162: 1 | Y162: =EXACT($Z162,$B181) -> TRUE | Z162: 3263
I164: 10 | K164: F
A165: <공통품셈 3-2-3 흙깍기> | K165: <공통품셈 3-2-3 흙깍기>
A167: =CONCATENATE(" ○ 1일 시공량 : B=",TEXT($AB167,"#,##0.00")," m3/일") -> ○ 1일 시공량 : B=310.00 m3/일 | K167: =SUBSTITUTE(SUBSTITUTE("_x001D_○ 1일 시공량 :_x001D_ B = 310_x001D_m3/일_x001D_","310",TEXT($AB167,"#,##0"),1),"_x001D_","'") -> '○ 1일 시공량 :' B = 310'm3/일' | AA167: B = | AB167: 310 | AC167: B = | AD167: =$AB167 -> 310
A169: =CONCATENATE(" ○ 1시간 작업량 : Q1 = ",TEXT($AB169,"#,##0.00")," / 8 hr =",TEXT($AJ169,"#,##0.00")," m/hr ") -> ○ 1시간 작업량 : Q1 = 310.00 / 8 hr =38.75 m/hr | B169: =SUM($C169,$D169,$E169) -> 0 | K169: '○ 1시간 작업량 :' Q1 = {B} / 8'hr' =?'m/hr' | AA169: 169_1_1+ = | AB169: =$AD167 -> 310 | AC169: 169_1_1 = | AD169: =$AB169 -> 310 | AE169: Q1+ = | AF169: =ROUND($AD169/8,2) -> 38.75 | AG169: Q1 = | AH169: =$AF169 -> 38.75 | AI169: 169_1_2+ = | AJ169: =ROUND(ROUND($AD169/8,2),2) -> 38.75 | AK169: 169_1_2 = | AL169: =$AJ169 -> 38.75
A171: 1. 굴삭기 1.0 M3 | K171: 1. 굴삭기 1.0 M3
A173: =CONCATENATE(" 재 료 비 : _x001D_37,826_x001D_ / ",TEXT($AB173,"#,##0.00")," =",TEXT($AF173,"#,##0.00")) -> 재 료 비 : _x001D_37,826_x001D_ / 38.75 =976.00 | B173: =SUM($C173,$D173,$E173) -> 976 | C173: =$AF173 -> 976 | K173: '재 료 비 : ' ~E0002010100.M~ / {Q1} =?MA+ | AA173: 173_1_1+ = | AB173: =$AH169 -> 38.75 | AC173: 173_1_1 = | AD173: =$AB173 -> 38.75 | AE173: MA+ = | AF173: =TRUNC(중기사용료목록!E6/$AD173,0) -> 976 | AG173: MA = | AH173: =$AF173 -> 976
A175: =CONCATENATE(" 노 무 비 : _x001D_59,020_x001D_ / ",TEXT($AB175,"#,##0.00")," =",TEXT($AF175,"#,##0.00")) -> 노 무 비 : _x001D_59,020_x001D_ / 38.75 =1,523.00 | B175: =SUM($C175,$D175,$E175) -> 1523 | D175: =$AF175 -> 1523 | K175: '노 무 비 : ' ~E0002010100.L~ / {Q1} =?LA+ | AA175: 175_1_1+ = | AB175: =$AH169 -> 38.75 | AC175: 175_1_1 = | AD175: =$AB175 -> 38.75 | AE175: LA+ = | AF175: =TRUNC(중기사용료목록!F6/$AD175,0) -> 1523 | AG175: LA = | AH175: =$AF175 -> 1523
A177: =CONCATENATE(" 경 비 : _x001D_29,621_x001D_ / ",TEXT($AB177,"#,##0.00")," =",TEXT($AF177,"#,##0.00")) -> 경 비 : _x001D_29,621_x001D_ / 38.75 =764.00 | B177: =SUM($C177,$D177,$E177) -> 764 | E177: =$AF177 -> 764 | K177: '경 비 : ' ~E0002010100.E~ / {Q1} =?EQ+ | AA177: 177_1_1+ = | AB177: =$AH169 -> 38.75 | AC177: 177_1_1 = | AD177: =$AB177 -> 38.75 | AE177: EQ+ = | AF177: =TRUNC(중기사용료목록!G6/$AD177,0) -> 764 | AG177: EQ = | AH177: =$AF177 -> 764
A179: 소 계 | B179: =SUM($C179,$D179,$E179) -> 3263 | C179: =$AB179 -> 976 | D179: =$AD179 -> 1523 | E179: =$AF179 -> 764 | K179: > '소 계' | AA179: >MA = | AB179: =$AH173 -> 976 | AC179: >LA = | AD179: =$AH175 -> 1523 | AE179: >EQ = | AF179: =$AH177 -> 764
A181: 전체 합계 | B181: =SUM($C181,$D181,$E181) -> 3263 | C181: =TRUNC(SUM($AH173),0) -> 976 | D181: =TRUNC(SUM($AH175),0) -> 1523 | E181: =TRUNC(SUM($AH177),0) -> 764
A183: #6 동상방지층(기계시공) | 길어깨포장|㎥ | B183: =$B236 -> 12584 | C183: =$C236 -> 2681 | D183: =$D236 -> 7716 | E183: =$E236 -> 2187 | H183: SE00200 | K183: 1 | Y183: =EXACT($Z183,$B236) -> TRUE | Z183: 12584
...

Sheet 중기사용료목록
A1: 중기사용료목록
A2: 공 종 명 | B2: 규 격 | C2: 수 량 | D2: 단 위 | E2: 재 료 비 | F2: 노 무 비 | G2: 경 비 | H2: 합 계 | I2: 비 고
A3: 굴삭기(무한궤도) | B3: 0.4 M3 | C3: 1 | D3: HR | E3: =중기사용료!G10 -> 19204 | F3: =중기사용료!G12 -> 59020 | G3: =중기사용료!G7 -> 17514 | H3: =E3+F3+G3 -> 95738 | K3: E0002010040 | O3: =HYPERLINK("#중기사용료!A3","E0002010040 →") -> E0002010040 →
A4: 굴삭기(무한궤도) | B4: 0.6 M3 | C4: 1 | D4: HR | E4: =중기사용료!G22 -> 19785 | F4: =중기사용료!G24 -> 59020 | G4: =중기사용료!G19 -> 23423 | H4: =E4+F4+G4 -> 102228 | K4: E0002010060 | O4: =HYPERLINK("#중기사용료!A15","E0002010060 →") -> E0002010060 →
A5: 굴삭기(무한궤도) | B5: 0.7 M3 | C5: 1 | D5: HR | E5: =중기사용료!G34 -> 22501 | F5: =중기사용료!G36 -> 59020 | G5: =중기사용료!G31 -> 24554 | H5: =E5+F5+G5 -> 106075 | K5: E0002010070 | O5: =HYPERLINK("#중기사용료!A27","E0002010070 →") -> E0002010070 →
A6: 굴삭기(무한궤도) | B6: 1.0 M3 | C6: 1 | D6: HR | E6: =중기사용료!G46 -> 37826 | F6: =중기사용료!G48 -> 59020 | G6: =중기사용료!G43 -> 29621 | H6: =E6+F6+G6 -> 126467 | K6: E0002010100 | O6: =HYPERLINK("#중기사용료!A39","E0002010100 →") -> E0002010100 →
A7: 굴삭기(무한궤도)+브레이카 | B7: 0.7M3(리핑암) | C7: 1 | D7: HR | E7: =중기사용료!G59 -> 21395 | F7: =중기사용료!G61 -> 59020 | G7: =중기사용료!G56 -> 37850 | H7: =E7+F7+G7 -> 118265 | K7: E00020110701 | O7: =HYPERLINK("#중기사용료!A51","E00020110701 →") -> E00020110701 →
A8: 대형 브레이카 | B8: 0.7 M3용 | C8: 1 | D8: HR | E8: 0 | F8: 0 | G8: =중기사용료!G68 -> 11412 | H8: =E8+F8+G8 -> 11412 | K8: E0002300007 | O8: =HYPERLINK("#중기사용료!A64","E0002300007 →") -> E0002300007 →
A9: 덤프트럭 | B9: 2.5 톤 | C9: 1 | D9: HR | E9: =중기사용료!G82 -> 6363 | F9: =중기사용료!G84 -> 49778 | G9: =중기사용료!G79 -> 6522 | H9: =E9+F9+G9 -> 62663 | K9: E0006020025 | O9: =HYPERLINK("#중기사용료!A75","E0006020025 →") -> E0006020025 →
A10: 덤프트럭 | B10: 4.5 톤 | C10: 1 | D10: HR | E10: =중기사용료!G94 -> 10971 | F10: =중기사용료!G96 -> 49778 | G10: =중기사용료!G91 -> 7613 | H10: =E10+F10+G10 -> 68362 | K10: E0006020045 | O10: =HYPERLINK("#중기사용료!A87","E0006020045 →") -> E0006020045 →
A11: 덤프트럭 | B11: 24 TON | C11: 1 | D11: HR | E11: =중기사용료!G106 -> 50466 | F11: =중기사용료!G108 -> 59020 | G11: =중기사용료!G103 -> 32950 | H11: =E11+F11+G11 -> 142436 | K11: E0006020240 | O11: =HYPERLINK("#중기사용료!A99","E0006020240 →") -> E0006020240 →
A12: 덤프트럭 자동덮개시설 | B12: 24톤용 | C12: 1 | D12: HR | E12: 0 | F12: 0 | G12: =중기사용료!G115 -> 508 | H12: =E12+F12+G12 -> 508 | K12: E0006100240 | O12: =HYPERLINK("#중기사용료!A111","E0006100240 →") -> E0006100240 →
A13: 매캐덤 롤러(자주식) | B13: 10-12 TON | C13: 1 | D13: HR | E13: =중기사용료!G129 -> 17448 | F13: =중기사용료!G131 -> 59020 | G13: =중기사용료!G126 -> 12857 | H13: =E13+F13+G13 -> 89325 | K13: E0011060012 | O13: =HYPERLINK("#중기사용료!A122","E0011060012 →") -> E0011060012 →
A14: 탠덤롤러(자주식) | B14: 5 - 8 TON | C14: 1 | D14: HR | E14: =중기사용료!G141 -> 9381 | F14: =중기사용료!G143 -> 59020 | G14: =중기사용료!G138 -> 9037 | H14: =E14+F14+G14 -> 77438 | K14: E0012060008 | O14: =HYPERLINK("#중기사용료!A134","E0012060008 →") -> E0012060008 →
A15: 진동 롤러 (핸드가이드식) | B15: 0.7 톤 | C15: 1 | D15: HR | E15: =중기사용료!G153 -> 3952 | F15: =중기사용료!G155 -> 36248 | G15: =중기사용료!G150 -> 1967 | H15: =E15+F15+G15 -> 42167 | K15: E0013050007 | O15: =HYPERLINK("#중기사용료!A146","E0013050007 →") -> E0013050007 →
A16: 진동롤러(자주식) | B16: 10 TON | C16: 1 | D16: HR | E16: =중기사용료!G165 -> 29764 | F16: =중기사용료!G167 -> 59020 | G16: =중기사용료!G162 -> 26662 | H16: =E16+F16+G16 -> 115446 | K16: E0013060100 | O16: =HYPERLINK("#중기사용료!A158","E0013060100 →") -> E0013060100 →
A17: 진동롤러(자주식) | B17: 12 TON | C17: 1 | D17: HR | E17: =중기사용료!G177 -> 32658 | F17: =중기사용료!G179 -> 59020 | G17: =중기사용료!G174 -> 29191 | H17: =E17+F17+G17 -> 120869 | K17: E0013060120 | O17: =HYPERLINK("#중기사용료!A170","E0013060120 →") -> E0013060120 →
A18: 타이어롤러(자주식) | B18: 8 - 15 TON | C18: 1 | D18: HR | E18: =중기사용료!G189 -> 15645 | F18: =중기사용료!G191 -> 59020 | G18: =중기사용료!G186 -> 19136 | H18: =E18+F18+G18 -> 93801 | K18: E0014060015 | O18: =HYPERLINK("#중기사용료!A182","E0014060015 →") -> E0014060015 →
A19: 크레인(타이어) | B19: 10 TON | C19: 1 | D19: HR | E19: =중기사용료!G201 -> 8398 | F19: =중기사용료!G203 -> 49778 | G19: =중기사용료!G198 -> 31344 | H19: =E19+F19+G19 -> 89520 | K19: E0021040010 | O19: =HYPERLINK("#중기사용료!A194","E0021040010 →") -> E0021040010 →
A20: 트럭탑제형 크레인 | B20: 10 TON | C20: 1 | D20: HR | E20: =중기사용료!G213 -> 19652 | F20: =중기사용료!G215 -> 49778 | G20: =중기사용료!G210 -> 23795 | H20: =E20+F20+G20 -> 93225 | K20: E0021050010 | O20: =HYPERLINK("#중기사용료!A206","E0021050010 →") -> E0021050010 →
A21: 트럭 트랙터 및 평판트레일러 | B21: 20 TON | C21: 1 | D21: HR | E21: =중기사용료!G225 -> 36466 | F21: =중기사용료!G227 -> 49778 | G21: =중기사용료!G222 -> 17314 | H21: =E21+F21+G21 -> 103558 | K21: E0027020020 | O21: =HYPERLINK("#중기사용료!A218","E0027020020 →") -> E0027020020 →
A22: 아스팔트 피니셔 | B22: 3 M | C22: 1 | D22: HR | E22: =중기사용료!G237 -> 22116 | F22: =중기사용료!G239 -> 59020 | G22: =중기사용료!G234 -> 59141 | H22: =E22+F22+G22 -> 140277 | K22: E0032010003 | O22: =HYPERLINK("#중기사용료!A230","E0032010003 →") -> E0032010003 →
A23: 아스팔트 디스트리뷰우터 | B23: 3800 L | C23: 1 | D23: HR | E23: =중기사용료!G249 -> 21663 | F23: =중기사용료!G251 -> 59020 | G23: =중기사용료!G246 -> 16470 | H23: =E23+F23+G23 -> 97153 | K23: E0033020038 | O23: =HYPERLINK("#중기사용료!A242","E0033020038 →") -> E0033020038 →
A24: 커터(콘크리트및아스팔트용) | B24: 320-400 MM | C24: 1 | D24: HR | E24: =중기사용료!G261 -> 10832 | F24: =중기사용료!G263 -> 36248 | G24: =중기사용료!G258 -> 2064 | H24: =E24+F24+G24 -> 49144 | K24: E0044300400 | O24: =HYPERLINK("#중기사용료!A254","E0044300400 →") -> E0044300400 →
A25: 공기압축기(이동식) | B25: 3.5 M3/Min | C25: 1 | D25: HR | E25: =중기사용료!G273 -> 11435 | F25: =중기사용료!G275 -> 59020 | G25: =중기사용료!G270 -> 2445 | H25: =E25+F25+G25 -> 72900 | K25: E0052050035 | O25: =HYPERLINK("#중기사용료!A266","E0052050035 →") -> E0052050035 →
A26: 소형브레이카(공압식) | B26: 1.3㎥/min | C26: 1 | D26: HR | E26: 0 | F26: 0 | G26: =중기사용료!G282 -> 494 | H26: =E26+F26+G26 -> 494 | I26: 2017년 개정 | K26: E0052100013 | O26: =HYPERLINK("#중기사용료!A278","E0052100013 →") -> E0052100013 →
A27: 물탱크(살수차) | B27: 5500 L | C27: 1 | D27: HR | E27: =중기사용료!G296 -> 19223 | F27: =중기사용료!G298 -> 49778 | G27: =중기사용료!G293 -> 9986 | H27: =E27+F27+G27 -> 78987 | K27: E0072040055 | O27: =HYPERLINK("#중기사용료!A289","E0072040055 →") -> E0072040055 →
A28: 물탱크(살수차) | B28: 16000 L | C28: 1 | D28: HR | E28: =중기사용료!G308 -> 26664 | F28: =중기사용료!G310 -> 49778 | G28: =중기사용료!G305 -> 19154 | H28: =E28+F28+G28 -> 95596 | K28: E0072040160 | O28: =HYPERLINK("#중기사용료!A301","E0072040160 →") -> E0072040160 →
A29: 동력분무기 | B29: 4.85Kw | C29: 1 | D29: HR | E29: =중기사용료!G320 -> 2514 | F29: 0 | G29: =중기사용료!G317 -> 258 | H29: =E29+F29+G29 -> 2772 | K29: E0072100485 | O29: =HYPERLINK("#중기사용료!A313","E0072100485 →") -> E0072100485 →
A30: 라인 마커 | B30: 10Km/hr | C30: 1 | D30: HR | E30: =중기사용료!G332 -> 34229 | F30: =중기사용료!G334 -> 36248 | G30: =중기사용료!G329 -> 16131 | H30: =E30+F30+G30 -> 86608 | K30: E0073300010 | O30: =HYPERLINK("#중기사용료!A325","E0073300010 →") -> E0073300010 →

Sheet 중기사용료
A1: 중기사용료
A3: 중 기 명 | B3: 굴삭기(무한궤도) 0.4 M3 | J3: E0002010040
A4: 중기가격 | B4: 84,000 천원
A5: 명 칭 | C5: 규 격 | D5: 수 량 | E5: 단 위 | F5: 단 가 | G5: 금 액 | H5: 비 고
A6: 경 비 | B6: 굴삭기(무한궤도) | C6: 0.4 M3 | D6: =(900 + 700 + 485)*10^-4 -> 0.2085 | E6: 천원 | F6: =중기기초자료!F3 -> 84000 | G6: =TRUNC(F6*D6, 0) -> 17514 | K6: 10 | M6: G02010040 | N6: .sang=900, jung=700, kwan=485 | AG6: =HYPERLINK("#중기기초자료!A3","G02010040 →") -> G02010040 →
B7: 소 계 | G7: =TRUNC(G6, 0) -> 17514
A8: 재 료 비 | B8: 경 유 | D8: 9.9 | E8: L | F8: =중기기초자료!D34 -> 1590 | G8: =TRUNC(F8*D8, 0) -> 15741 | K8: 40 | M8: M9366005 | AG8: =HYPERLINK("#중기기초자료!A34","M9366005 →") -> M9366005 →
B9: 잡 품 | D9: 22 | E9: % | F9: 0 | G9: =TRUNC((G8) * D9/100, 0) -> 3463 | K9: 50 | M9: F/M1
B10: 소 계 | G10: =TRUNC(G8+G9, 0) -> 19204
A11: 노 무 비 | B11: 건설기계운전사 | C11: 구)건설기계운전기사 | D11: 1 | E11: 인 | F11: =TRUNC(중기기초자료!E30 * 중기전역변수!C18, 0) -> 59020 | G11: =TRUNC(F11*D11, 0) -> 59020 | K11: 15 | M11: L086 | AG11: =HYPERLINK("#중기기초자료!A30","L086 →") -> L086 →
B12: 소 계 | G12: =TRUNC(G11, 0) -> 59020
B13: 총 계 | G13: =TRUNC(G7+G10+G12, 0) -> 95738
A15: 중 기 명 | B15: 굴삭기(무한궤도) 0.6 M3 | J15: E0002010060
A16: 중기가격 | B16: 112,342 천원
A17: 명 칭 | C17: 규 격 | D17: 수 량 | E17: 단 위 | F17: 단 가 | G17: 금 액 | H17: 비 고
A18: 경 비 | B18: 굴삭기(무한궤도) | C18: 0.6 M3 | D18: =(900 + 700 + 485)*10^-4 -> 0.2085 | E18: 천원 | F18: =중기기초자료!F4 -> 112342 | G18: =TRUNC(F18*D18, 0) -> 23423 | K18: 10 | M18: G02010060 | N18: .sang=900, jung=700, kwan=485 | AG18: =HYPERLINK("#중기기초자료!A4","G02010060 →") -> G02010060 →
B19: 소 계 | G19: =TRUNC(G18, 0) -> 23423
A20: 재 료 비 | B20: 경 유 | D20: 10.2 | E20: L | F20: =중기기초자료!D34 -> 1590 | G20: =TRUNC(F20*D20, 0) -> 16218 | K20: 40 | M20: M9366005 | AG20: =HYPERLINK("#중기기초자료!A34","M9366005 →") -> M9366005 →
B21: 잡 품 | D21: 22 | E21: % | F21: 0 | G21: =TRUNC((G20) * D21/100, 0) -> 3567 | K21: 50 | M21: F/M1
B22: 소 계 | G22: =TRUNC(G20+G21, 0) -> 19785
A23: 노 무 비 | B23: 건설기계운전사 | C23: 구)건설기계운전기사 | D23: 1 | E23: 인 | F23: =TRUNC(중기기초자료!E30 * 중기전역변수!C18, 0) -> 59020 | G23: =TRUNC(F23*D23, 0) -> 59020 | K23: 15 | M23: L086 | AG23: =HYPERLINK("#중기기초자료!A30","L086 →") -> L086 →
B24: 소 계 | G24: =TRUNC(G23, 0) -> 59020
B25: 총 계 | G25: =TRUNC(G19+G22+G24, 0) -> 102228
A27: 중 기 명 | B27: 굴삭기(무한궤도) 0.7 M3 | J27: E0002010070
A28: 중기가격 | B28: 117,766 천원
A29: 명 칭 | C29: 규 격 | D29: 수 량 | E29: 단 위 | F29: 단 가 | G29: 금 액 | H29: 비 고
A30: 경 비 | B30: 굴삭기(무한궤도) | C30: 0.7 M3 | D30: =(900 + 700 + 485)*10^-4 -> 0.2085 | E30: 천원 | F30: =중기기초자료!F5 -> 117766 | G30: =TRUNC(F30*D30, 0) -> 24554 | K30: 10 | M30: G02010070 | N30: .sang=900, jung=700, kwan=485 | AG30: =HYPERLINK("#중기기초자료!A5","G02010070 →") -> G02010070 →
B31: 소 계 | G31: =TRUNC(G30, 0) -> 24554
A32: 재 료 비 | B32: 경 유 | D32: 11.6 | E32: L | F32: =중기기초자료!D34 -> 1590 | G32: =TRUNC(F32*D32, 0) -> 18444 | K32: 40 | M32: M9366005 | AG32: =HYPERLINK("#중기기초자료!A34","M9366005 →") -> M9366005 →
B33: 잡 품 | D33: 22 | E33: % | F33: 0 | G33: =TRUNC((G32) * D33/100, 0) -> 4057 | K33: 50 | M33: F/M1
B34: 소 계 | G34: =TRUNC(G32+G33, 0) -> 22501
A35: 노 무 비 | B35: 건설기계운전사 | C35: 구)건설기계운전기사 | D35: 1 | E35: 인 | F35: =TRUNC(중기기초자료!E30 * 중기전역변수!C18, 0) -> 59020 | G35: =TRUNC(F35*D35, 0) -> 59020 | K35: 15 | M35: L086 | AG35: =HYPERLINK("#중기기초자료!A30","L086 →") -> L086 →
B36: 소 계 | G36: =TRUNC(G35, 0) -> 59020
B37: 총 계 | G37: =TRUNC(G31+G34+G36, 0) -> 106075
A39: 중 기 명 | B39: 굴삭기(무한궤도) 1.0 M3 | J39: E0002010100
A40: 중기가격 | B40: 142,069 천원
A41: 명 칭 | C41: 규 격 | D41: 수 량 | E41: 단 위 | F41: 단 가 | G41: 금 액 | H41: 비 고
A42: 경 비 | B42: 굴삭기(무한궤도) | C42: 1.0 M3 | D42: =(900 + 700 + 485)*10^-4 -> 0.2085 | E42: 천원 | F42: =중기기초자료!F6 -> 142069 | G42: =TRUNC(F42*D42, 0) -> 29621 | K42: 10 | M42: G02010100 | N42: .sang=900, jung=700, kwan=485 | AG42: =HYPERLINK("#중기기초자료!A6","G02010100 →") -> G02010100 →
B43: 소 계 | G43: =TRUNC(G42, 0) -> 29621
A44: 재 료 비 | B44: 경 유 | D44: 19.5 | E44: L | F44: =중기기초자료!D34 -> 1590 | G44: =TRUNC(F44*D44, 0) -> 31005 | K44: 40 | M44: M9366005 | AG44: =HYPERLINK("#중기기초자료!A34","M9366005 →") -> M9366005 →
B45: 잡 품 | D45: 22 | E45: % | F45: 0 | G45: =TRUNC((G44) * D45/100, 0) -> 6821 | K45: 50 | M45: F/M1
B46: 소 계 | G46: =TRUNC(G44+G45, 0) -> 37826
A47: 노 무 비 | B47: 건설기계운전사 | C47: 구)건설기계운전기사 | D47: 1 | E47: 인 | F47: =TRUNC(중기기초자료!E30 * 중기전역변수!C18, 0) -> 59020 | G47: =TRUNC(F47*D47, 0) -> 59020 | K47: 15 | M47: L086 | AG47: =HYPERLINK("#중기기초자료!A30","L086 →") -> L086 →
B48: 소 계 | G48: =TRUNC(G47, 0) -> 59020
B49: 총 계 | G49: =TRUNC(G43+G46+G48, 0) -> 126467
A51: 중 기 명 | B51: 굴삭기(무한궤도)+브레이카 0.7M3(리핑암) | J51: E00020110701
A52: 중기가격 | B52: 117,766 천원
A53: 명 칭 | C53: 규 격 | D53: 수 량 | E53: 단 위 | F53: 단 가 | G53: 금 액 | H53: 비 고
A54: 경 비 | B54: 굴삭기(무한궤도) | C54: 0.7 M3 | D54: =(990 + 770 + 485)*10^-4 -> 0.2245 | E54: 천원 | F54: =중기기초자료!F5 -> 117766 | G54: =TRUNC(F54*D54, 0) -> 26438 | K54: 10 | M54: G02010070 | N54: .SANG=900*1.1, JUNG=700*1.1, KWAN=485 | AG54: =HYPERLINK("#중기기초자료!A5","G02010070 →") -> G02010070 →
B55: 대형 브레이카 | C55: 0.7 M3용 | D55: 1 | E55: HR | F55: =중기사용료목록!G8 -> 11412 | G55: =TRUNC(F55*D55, 0) -> 11412 | K55: 60 | M55: E0002300007 | AG55: =HYPERLINK("#중기사용료목록!A8","E0002300007 →") -> E0002300007 →
B56: 소 계 | G56: =TRUNC(G54+G55, 0) -> 37850
A57: 재 료 비 | B57: 경 유 | D57: 11.6 | E57: L | F57: =중기기초자료!D34 -> 1590 | G57: =TRUNC(F57*D57, 0) -> 18444 | K57: 40 | M57: M9366005 | AG57: =HYPERLINK("#8","M9366005 →") -> M9366005 →
B58: 잡품 | D58: 16 | E58: % | F58: 0 | G58: =TRUNC((G57) * D58/100, 0) -> 2951 | K58: 50 | M58: F/M1 | AG58: =HYPERLINK("#8","F/M1 →") -> F/M1 →
B59: 소 계 | G59: =TRUNC(G57+G58, 0) -> 21395
A60: 노 무 비 | B60: 건설기계운전사 | C60: 구)건설기계운전기사 | D60: 1 | E60: 인 | F60: =TRUNC(중기기초자료!E30 * 중기전역변수!C18, 0) -> 59020 | G60: =TRUNC(F60*D60, 0) -> 59020 | K60: 20 | M60: L086 | AG60: =HYPERLINK("#8","L086 →") -> L086 →
B61: 소 계 | G61: =TRUNC(G60, 0) -> 59020
B62: 총 계 | G62: =TRUNC(G56+G59+G61, 0) -> 118265
A64: 중 기 명 | B64: 대형 브레이카 0.7 M3용 | J64: E0002300007
A65: 중기가격 | B65: 17,289 천원
A66: 명 칭 | C66: 규 격 | D66: 수 량 | E66: 단 위 | F66: 단 가 | G66: 금 액 | H66: 비 고
A67: 경 비 | B67: 대형 브레이카 | C67: 0.7 M3용 | D67: =(3000 + 2833 + 768)*10^-4 -> 0.6601 | E67: 천원 | F67: =중기기초자료!F7 -> 17289 | G67: =TRUNC(F67*D67, 0) -> 11412 | K67: 10 | M67: G02300007 | N67: .sang=3000, jung=2833, kwan=768 | AG67: =HYPERLINK("#8","G02300007 →") -> G02300007 →
B68: 소 계 | G68: =TRUNC(G67, 0) -> 11412
A69: 재 료 비
B70: 소 계
A71: 노 무 비
B72: 소 계
B73: 총 계 | G73: =TRUNC(G68+G70+G72, 0) -> 11412
A75: 중 기 명 | B75: 덤프트럭 2.5 톤 | J75: E0006020025
A76: 중기가격 | B76: 21,982 천원
A77: 명 칭 | C77: 규 격 | D77: 수 량 | E77: 단 위 | F77: 단 가 | G77: 금 액 | H77: 비 고
A78: 경 비 | B78: 덤프트럭 | C78: 2.5 톤 | D78: =(1200 + 1067 + 700)*10^-4 -> 0.2967 | E78: 천원 | F78: =중기기초자료!F8 -> 21982 | G78: =TRUNC(F78*D78, 0) -> 6522 | K78: 10 | M78: G06020025 | N78: .sang=1200, jung=1067,kwan=700 | AG78: =HYPERLINK("#8","G06020025 →") -> G06020025 →
B79: 소 계 | G79: =TRUNC(G78, 0) -> 6522
A80: 재 료 비 | B80: 경 유 | D80: 2.9 | E80: L | F80: =중기기초자료!D34 -> 1590 | G80: =TRUNC(F80*D80, 0) -> 4611 | K80: 40 | M80: M9366005 | AG80: =HYPERLINK("#8","M9366005 →") -> M9366005 →
B81: 잡 품 | D81: 38 | E81: % | F81: 0 | G81: =TRUNC((G80) * D81/100, 0) -> 1752 | K81: 50 | M81: F/M1 | AG81: =HYPERLINK("#8","F/M1 →") -> F/M1 →
B82: 소 계 | G82: =TRUNC(G80+G81, 0) -> 6363
A83: 노 무 비 | B83: 화물차운전사 | C83: 구)운전사(운반차) | D83: 1 | E83: 인 | F83: =TRUNC(중기기초자료!E31 * 중기전역변수!C18, 0) -> 49778 | G83: =TRUNC(F83*D83, 0) -> 49778 | I83: 56900017059 | K83: 15 | M83: L087 | AG83: =HYPERLINK("#8","L087 →") -> L087 →
B84: 소 계 | G84: =TRUNC(G83, 0) -> 49778
B85: 총 계 | G85: =TRUNC(G79+G82+G84, 0) -> 62663
A87: 중 기 명 | B87: 덤프트럭 4.5 톤 | J87: E0006020045
A88: 중기가격 | B88: 25,662 천원
A89: 명 칭 | C89: 규 격 | D89: 수 량 | E89: 단 위 | F89: 단 가 | G89: 금 액 | H89: 비 고
A90: 경 비 | B90: 덤프트럭 | C90: 4.5 톤 | D90: =(1200 + 1067 + 700)*10^-4 -> 0.2967 | E90: 천원 | F90: =중기기초자료!F9 -> 25662 | G90: =TRUNC(F90*D90, 0) -> 7613 | K90: 10 | M90: G06020045 | N90: .sang=1200, jung=1067,kwan=700 | AG90: =HYPERLINK("#8","G06020045 →") -> G06020045 →
B91: 소 계 | G91: =TRUNC(G90, 0) -> 7613
A92: 재 료 비 | B92: 경 유 | D92: 5 | E92: L | F92: =중기기초자료!D34 -> 1590 | G92: =TRUNC(F92*D92, 0) -> 7950 | K92: 40 | M92: M9366005 | AG92: =HYPERLINK("#8","M9366005 →") -> M9366005 →
B93: 잡 품 | D93: 38 | E93: % | F93: 0 | G93: =TRUNC((G92) * D93/100, 0) -> 3021 | K93: 50 | M93: F/M1 | AG93: =HYPERLINK("#8","F/M1 →") -> F/M1 →
B94: 소 계 | G94: =TRUNC(G92+G93, 0) -> 10971
A95: 노 무 비 | B95: 화물차운전사 | C95: 구)운전사(운반차) | D95: 1 | E95: 인 | F95: =TRUNC(중기기초자료!E31 * 중기전역변수!C18, 0) -> 49778 | G95: =TRUNC(F95*D95, 0) -> 49778 | K95: 15 | M95: L087 | AG95: =HYPERLINK("#8","L087 →") -> L087 →
B96: 소 계 | G96: =TRUNC(G95, 0) -> 49778
B97: 총 계 | G97: =TRUNC(G91+G94+G96, 0) -> 68362
A99: 중 기 명 | B99: 덤프트럭 24 TON | J99: E0006020240
A100: 중기가격 | B100: 147,825 천원
A101: 명 칭 | C101: 규 격 | D101: 수 량 | E101: 단 위 | F101: 단 가 | G101: 금 액 | H101: 비 고
A102: 경 비 | B102: 덤프트럭 | C102: 24 TON | D102: =(900 + 650 + 679)*10^-4 -> 0.2229 | E102: 천원 | F102: =중기기초자료!F10 -> 147825 | G102: =TRUNC(F102*D102, 0) -> 32950 | K102: 10 | M102: G06020240 | N102: .sang=900 ,jung=650 ,kwan=679 | AG102: =HYPERLINK("#8","G06020240 →") -> G06020240 →
B103: 소 계 | G103: =TRUNC(G102, 0) -> 32950
A104: 재 료 비 | B104: 경 유 | D104: 23 | E104: L | F104: =중기기초자료!D34 -> 1590 | G104: =TRUNC(F104*D104, 0) -> 36570 | K104: 40 | M104: M9366005 | AG104: =HYPERLINK("#8","M9366005 →") -> M9366005 →
B105: 잡 품 | D105: 38 | E105: % | F105: 0 | G105: =TRUNC((G104) * D105/100, 0) -> 13896 | K105: 50 | M105: F/M1 | AG105: =HYPERLINK("#8","F/M1 →") -> F/M1 →
B106: 소 계 | G106: =TRUNC(G104+G105, 0) -> 50466
A107: 노 무 비 | B107: 건설기계운전사 | C107: 구)건설기계운전기사 | D107: 1 | E107: 인 | F107: =TRUNC(중기기초자료!E30 * 중기전역변수!C18, 0) -> 59020 | G107: =TRUNC(F107*D107, 0) -> 59020 | K107: 15 | M107: L086 | AG107: =HYPERLINK("#8","L086 →") -> L086 →
B108: 소 계 | G108: =TRUNC(G107, 0) -> 59020
B109: 총 계 | G109: =TRUNC(G103+G106+G108, 0) -> 142436
...

Sheet 중기기초자료
A1: 중기기초자료
A2: 명 칭 | B2: 규 격 | C2: 단 위 | D2: 재 료 비 | E2: 노 무 비 | F2: 경 비 | G2: 합 계 | H2: 비 고
A3: 굴삭기(무한궤도) | B3: 0.4 M3 | C3: 천원 | D3: 0 | E3: 0 | F3: 84000 | G3: 84000 | J3: G02010040
A4: 굴삭기(무한궤도) | B4: 0.6 M3 | C4: 천원 | D4: 0 | E4: 0 | F4: 112342 | G4: 112342 | J4: G02010060
A5: 굴삭기(무한궤도) | B5: 0.7 M3 | C5: 천원 | D5: 0 | E5: 0 | F5: 117766 | G5: 117766 | J5: G02010070
A6: 굴삭기(무한궤도) | B6: 1.0 M3 | C6: 천원 | D6: 0 | E6: 0 | F6: 142069 | G6: 142069 | J6: G02010100
A7: 대형 브레이카 | B7: 0.7 M3용 | C7: 천원 | D7: 0 | E7: 0 | F7: 17289 | G7: 17289 | J7: G02300007
A8: 덤프트럭 | B8: 2.5 톤 | C8: 천원 | D8: 0 | E8: 0 | F8: 21982 | G8: 21982 | J8: G06020025
A9: 덤프트럭 | B9: 4.5 톤 | C9: 천원 | D9: 0 | E9: 0 | F9: 25662 | G9: 25662 | J9: G06020045
A10: 덤프트럭 | B10: 24 TON | C10: 천원 | D10: 0 | E10: 0 | F10: 147825 | G10: 147825 | J10: G06020240
A11: 덤프트럭 자동덮개시설 | B11: 24 TON | C11: 천원 | D11: 0 | E11: 0 | F11: 1896 | G11: 1896 | J11: G06100240
A12: 매캐덤 롤러(자주식) | B12: 10-12 TON | C12: 천원 | D12: 0 | E12: 0 | F12: 71351 | G12: 71351 | J12: G11060012
A13: 탠덤롤러(자주식) | B13: 5 - 8 TON | C13: 천원 | D13: 0 | E13: 0 | F13: 48513 | G13: 48513 | J13: G12060008
A14: 진동 롤러 (핸드가이드식) | B14: 0.7 톤 | C14: 천원 | D14: 0 | E14: 0 | F14: 6966 | G14: 6966 | J14: G13050007
... A29: 라인 마커 | B29: 10Km/hr | C29: 천원 | D29: 0 | E29: 0 | F29: 68298 | G29: 68298 | J29: G73300010
A30: 건설기계운전사 | C30: 인 | D30: 0 | E30: 283297 | F30: 0 | G30: 283297 | I30: 56900017002 | J30: L086
A31: 화물차운전사 | C31: 인 | D31: 0 | E31: 238936 | F31: 0 | G31: 238936 | I31: 56900017059 | J31: L087
A32: 일반기계운전사 | C32: 인 | D32: 0 | E32: 173995 | F32: 0 | G32: 173995 | I32: 56900017058 | J32: L088
A33: 휘 발 유 | C33: L | D33: 1612 | E33: 0 | F33: 0 | G33: 1612 | H33: 26.07.14 | J33: M9360003
A34: 경 유 | C34: L | D34: 1590 | E34: 0 | F34: 0 | G34: 1590 | H34: 26.07.14 | J34: M9366005

Sheet 자재
A1: 자재
A2: 명 칭 | B2: 규 격 | C2: 단 위 | D2: 단 가 | E2: 비 고
A3: STEEL PANEL | B3: 600×1200mm (부속품별도) | C3: EA | D3: 28500 | E3: 물자/1-107/물자/1-107 | F3: 54400157021 | G3: M1062024 | H3: M1062024
A4: 도로표지용유리알 | B4: KSL2521 1호 | C4: KG | D4: 1700 | E4: 물자/1-166/물자/1-166 | F4: 56100717001 | G4: M1488003 | H4: M1488003
A5: 치즐 | B5: 굴삭기(0.7㎥용) | C5: 개 | D5: 230000 | E5: 견적가/견적가 | G5: M8448007
A6: 다이아몬드톱날 | B6: Ø14" × 3.2t (콘크리트,아스팔트용) | C6: 매 | D6: 160000 | E6: 물자/1-1414/물자/1-1414 | G6: M8922017 | H6: M8922017
A7: 공사안내표지판 | B7: 900*1800cm | C7: 조 | D7: 315000 | E7: 물정/1-265/물정/1-265 | G7: MU210000
A8: 윙카호스 | B8: 10cm | C8: M | D8: 1500 | E8: 물자/1-164/물자/1-164 | G8: MU220000
A9: 공사안전PE드럼 | B9: 500*800 | C9: EA | D9: 21000 | E9: 물자/1-167/물자/1-167 | G9: MU230000
A10: 라바콘 | B10: 400*400*750cm | C10: EA | D10: 22000 | E10: 물자/1-167/물자/1-167 | G10: MU240000
A11: 도로용페인트(수용성,백색) | B11: KSM6080(2종),18ℓ | C11: L | D11: 8800 | E11: 물정/1-231/물정/1-231 | G11: MU600000
A12: 도로용페인트(수용성,황색) | B12: KSM6080(2종),18ℓ | C12: L | D12: 9650 | E12: 물정/1-231/물정/1-231 | G12: MU610000
A13: 스틸그레이팅(차도용) | B13: 400x500x50 | C13: 조 | D13: 51000 | E13: 물정/1-319/물자1 P181 | G13: MZ157226 | H13: M157226Z
A14: 조립식 흙막이공법(TS패널) | B14: SS403825 | C14: 조 | D14: 239000000 | E14: 유물/104/물자1 P249 | G14: MZ206110 | H14: M2061111
A15: 가림막휀스 | B15: W2000xH1500 | C15: EA | D15: 200000 | E15: 물자/1-167/유통 P226 | G15: MZ230000
A16: 맨홀사다리 | B16: Ø22X300X220 | C16: EA | D16: 19000 | E16: /물자1 P175 | G16: MZ2602032
A17: 모 래 | B17: 도착도 | C17: ㎥ | D17: 29000 | E17: 물자/149/거가 P101 | G17: MZ900115
A18: 보조기층 | B18: 도착도 | C18: ㎥ | D18: 23000 | E18: 물자/149/물자1 P62 | G18: MZ900120
A19: 동상방지층 | B19: 도착도 | C19: ㎥ | D19: 23000 | E19: 물자/149/물자1 P62 | G19: MZ900125
A20: 유제아스팔트 | B20: RSC-3,4 | C20: D/M | D20: 250000 | E20: 물정/159/물자1 P116 | G20: MZ913060 | H20: M1152003
A21: 맨홀뚜껑(주철) | B21: φ648, 우수 | C21: EA | D21: 360000 | E21: 물자/216/유통 P203 | G21: MZ91630
A22: 다중벽관 이경티 | B22: D1000x600mm | C22: EA | D22: 696510 | E22: 물자/797/물자1 P789 | G22: MZ93268
A23: 다중벽관 곡관 | B23: D200x45˚ | C23: EA | D23: 45660 | E23: 물자/797/물자1 P789 | G23: MZ93275
A24: 다중벽관 곡관 | B24: D300x45˚ | C24: EA | D24: 77740 | E24: 물자/797/물자1 P789 | G24: MZ93277
A25: 다중벽관 곡관 | B25: D600x90˚ | C25: EA | D25: 660790 | E25: 물자/797/물자1 P789 | G25: MZ93280
A26: 우수받이 | B26: 300x400x900 | C26: EA | D26: 148500 | E26: 유물/116/물자1 P175 | G26: MZ951230
A27: PE분기관 | B27: D250mm | C27: EA | D27: 127000 | E27: 물자/1-813/물자1 P269 | G27: MZ978400
A28: PE분기관 | B28: D300mm | C28: EA | D28: 145000 | E28: 물자/1-813/물자1 P269 | G28: MZ978410
A29: 보차도경계석(직선) | B29: 200x250x1000 | C29: EA | D29: 45000 | E29: /물자1 P149 | G29: MZT02110

Sheet 노임
A1: 노임
A2: 명 칭 | B2: 규 격 | C2: 단 위 | D2: 단 가 | E2: 비 고
A3: 형틀목공 | C3: 인 | D3: 275790 | F3: 56900017137 | G3: L004 | H3: L004
A4: 콘크리트공 | C4: 인 | D4: 273540 | F4: 56900017108 | G4: L025 | H4: L025
A5: 착 암 공 | C5: 인 | D5: 222306 | F5: 56900017098 | G5: L039 | H5: L039
A6: 포 장 공 | C6: 인 | D6: 273308 | F6: 56900017123 | G6: L041 | H6: L041
A7: 포 설 공 | C7: 인 | D7: 221015 | F7: 56900017122 | G7: L042 | H7: L042
A8: 작업반장 | C8: 인 | D8: 215907 | F8: 56900017074 | G8: L081 | H8: L081
A9: 특별인부 | C9: 인 | D9: 226122 | F9: 56900017118 | G9: L084 | H9: L084
A10: 보통인부 | C10: 인 | D10: 172068 | F10: 56900017041 | G10: L085 | H10: L085
A11: 배 관 공 | B11: 수도 | C11: 인 | D11: 262580 | G11: L138 | H11: L138

Sheet 경비
A1: 경비
A2: 명 칭 | B2: 규 격 | C2: 단 위 | D2: 재 료 비 | E2: 노 무 비 | F2: 경 비 | G2: 합 계 | H2: 비 고
A3: 일반하역요금 | B3: ton당,입고료 | C3: 원 | D3: 0 | E3: 0 | F3: 2261.69 | G3: =D3+E3+F3 -> 2261.69 | J3: GTR100000
A4: 구역화물(10.5ton) | B4: 10km이내 | C4: 원 | D4: 0 | E4: 0 | F4: 87720 | G4: =D4+E4+F4 -> 87720 | J4: GTR105010

Sheet 전역변수
A1: 전역변수
A2: 변 수 명 | B2: 형 식 | C2: 값 | D2: 비 고 | E2: 적용단위
A3: A | B3: 숫자 | C3: 1208
A4: L1 | B4: 숫자 | C4: 0.2
A5: R | B5: 숫자 | C5: 1.0386
A6: S | B6: 숫자 | C6: 1.25 | D6: 주야간작업할증
A7: ZT605010 | B7: 숫자 | C7: 1 | D7: 병렬터널 할증 | E7: %

Sheet 중기전역변수
A1: 중기전역변수
A2: 변 수 명 | B2: 형 식 | C2: 값 | D2: 비 고
A3: QCODE | B3: 문자 | C3: 100000000001
A4: QUS2WON | B4: 숫자 | C4: 1507 | D4: 환율(장비가격10만불이하)
A5: QUS2WON1 | B5: 숫자 | C5: 1507 | D5: 환율(장비가격10만불이상)
A6: QYEN2WON | B6: 숫자 | C6: 9.52 | D6: 환율(엔화)
A7: QDM2WON | B7: 숫자 | C7: 0 | D7: 환율(마르크화)
A8: QSDR2WON | B8: 숫자 | C8: 0 | D8: 환율(IMF특별인출권)
A9: QECU2WON | B9: 숫자 | C9: 0 | D9: 환율(유로화)
A10: QEQTY1 | B10: 문자 | C10: (SANG + JUNG + KWAN)*10^-4 | D10: 중기주간경비산출계수
A11: QEQTY2 | B11: 문자 | C11: (SANG + JUNG + KWAN)*10^-4 | D11: 중기야간경비산출계수
A12: QEQTY3 | B12: 문자 | C12: (SANG + JUNG + int(KWAN/3))*10^-4 | D12: 중기주야간경비산출계수
A13: QEINC2 | B13: 숫자 | C13: 1.25 | D13: 중기야간할증계수
A14: QEINC3 | B14: 숫자 | C14: 1.071 | D14: 중기주야간할증계수
A15: QDECPEQ | B15: 문자 | C15: 0 | D15: 경비단가소숫점
A16: QDECCEQ | B16: 문자 | C16: 0 | D16: 경비금액소숫점
A17: QDECEQ | B17: 문자 | C17: 0 | D17: 경비계금액소숫점
A18: QH1 | B18: 문자 | C18: =25/20 * 16/12 * 1/8 -> 0.20833333 | D18: 시간당노임산출계수(일반구간)
A19: QH2 | B19: 문자 | C19: =25/20 * 16/12 * 1/8 -> 0.20833333 | D19: 시간당노임산출계수(터널구간)
A20: QH21 | B20: 문자 | C20: =25/20 * 16/12 * 1/8 -> 0.20833333 | D20: 시간당노임산출계수(장대터널)
A21: QH31 | B21: 문자 | C21: =25/20 * 16/12 * 1/8 -> 0.20833333 | D21: 시간당노임산출계수(해상장비:펌프준설선)
A22: QH32 | B22: 문자 | C22: =25/20 * 16/12 * 1/8 -> 0.20833333 | D22: 시간당노임산출계수(해상장비:GRAB준설선)
A23: QH33 | B23: 문자 | C23: =25/20 * 16/12 * 1/8 -> 0.20833333 | D23: 시간당노임산출계수(해상장비:버켓준설선)
A24: QLINC1 | B24: 숫자 | C24: 1 | D24: 노임할증계수(일반구간:주간)
A25: QLINC2 | B25: 숫자 | C25: 1.5 | D25: 노임할증계수(일반구간:야간)
A26: QLINC3 | B26: 숫자 | C26: 1.16 | D26: 노임할증계수(일반구간:주야간)
A27: QLINCA | B27: 숫자 | C27: 1.6 | D27: 노임할증계수(터널구간:주간)
A28: QLINCB | B28: 숫자 | C28: 1.6 | D28: 노임할증계수(터널구간:야간)
A29: QLINCC | B29: 숫자 | C29: 1.6 | D29: 노임할증계수(터널구간:주야간)
A30: QLINCD | B30: 숫자 | C30: 1.94 | D30: 노임할증계수(장대터널:주간)
A31: QLINCE | B31: 숫자 | C31: 1.94 | D31: 노임할증계수(장대터널:야간)
A32: QLINCF | B32: 숫자 | C32: 1.94 | D32: 노임할증계수(장대터널:주야간)
A33: QLINCX | B33: 숫자 | C33: 1 | D33: 노임할증계수(해상장비:주간)
A34: QLINCY | B34: 숫자 | C34: 1 | D34: 노임할증계수(해상장비:야간)
A35: QLINCZ | B35: 숫자 | C35: 1 | D35: 노임할증계수(해상장비:주야간)
A36: QDECPLA | B36: 문자 | C36: 0 | D36: 노임단가소숫점
A37: QDECCLA | B37: 문자 | C37: 0 | D37: 노임금액소숫점
A38: QDECLA | B38: 문자 | C38: 0 | D38: 노임계금액소숫점
A39: QMINC2 | B39: 숫자 | C39: 1.11 | D39: 재료비할증계수(야간)
A40: QMINC3 | B40: 숫자 | C40: 1.12 | D40: 재료비할증계수(주야간)
A41: QDECPMA | B41: 문자 | C41: 0 | D41: 재료비단가소숫점
A42: QDECCMA | B42: 문자 | C42: 0 | D42: 재료비금액소숫점
A43: QDECMA | B43: 문자 | C43: 0 | D43: 재료비계금액소숫점
A44: QVER | B44: 문자 | C44: 0
A45: QSABUN | B45: 문자
A46: QDATE | B46: 문자
A47: QUS2WON2 | B47: 숫자 | C47: 0 | D47: 환율(사용자 환율1)
A48: QUS2WON3 | B48: 숫자 | C48: 0 | D48: 환율(사용자 환율2)
A49: QOPtimeDecCnt | B49: 문자 | C49: 7
A50: QOPtimeDecOp | B50: 문자 | C50: 0

Sheet Sheet3
