Workbook

Sheet 표지
A2: 가 벽 설 치 공 사
A4: ( 설 계 내 역 서 )
A8: 2026. 7.

Sheet 설계서
A1: 과장 | D1: 담당 | F1: 심사자 | H1: 설계자 | J1: 설 계 | K1: 2026 년 7월 일 | M1: 결 재
J2: 심 사 | K2: =K1 -> 2026 년 7월 일 | M2: 월 일
A4: 설 계 서
C6: =+원가계산!A2 -> 공 사 명 : 관리동 소방설비실 보수공사
C9: 구 분 | F9: 금 액 | M9: 비 고
C10: 총공사비 | F10: ="일금 "&NUMBERSTRING(L10,1)&" 원정" -> 일금 영 원정 | L10: =L14 -> 0
C11: 도급비 | D11: 공급가액 | F11: ="일금 "&NUMBERSTRING(L11,1)&" 원정" -> 일금 영 원정 | L11: =총괄내역서!L24 -> 0
D12: 부가가치세 | F12: ="일금 "&NUMBERSTRING(L12,1)&" 원정" -> 일금 영 원정 | L12: =총괄내역서!L25 -> 0
C13: 도급비 | F13: ="일금 "&NUMBERSTRING(L13,1)&" 원정" -> 일금 영 원정 | L13: =총괄내역서!L26 -> 0
C14: 계 | F14: ="일금 "&NUMBERSTRING(L14,1)&" 원정" -> 일금 영 원정 | L14: =총괄내역서!L27 -> 0

Sheet 원가계산
A1: 공 사 원 가 계 산 서
A2: =+내역서!A1 -> 공 사 명 : 관리동 소방설비실 보수공사
D3: 구 분 | E3: 금 액 | F3: 구 성 비 | G3: 비 고
A4: 비 목
A5: 순 공 사 원 가 | B5: 재료비 | C5: 직접재료비 | E5: =총괄내역서!F6 -> 0 | F5: =(E5/E29) -> #DIV/0!
C6: 간접재료비
C7: 작업설·부산물등(△)
C8: 소계 | E8: =E5 -> 0 | F8: =E8/E29 -> #DIV/0!
B9: 노무비 | C9: 직접노무비 | E9: =총괄내역서!H6 -> 0 | F9: =E9/E29 -> #DIV/0!
C10: 간접노무비 | E10: =총괄내역서!L8 -> 0 | F10: =E10/E29 -> #DIV/0! | G10: 직접노무비 × 17.5%
C11: 소계 | E11: =SUM(E9:E10) -> 0 | F11: =F10+F9 -> #DIV/0!
B12: 경 비 | C12: 경비 | E12: =총괄내역서!J6 -> 0 | F12: =E12/E29 -> #DIV/0!
C13: 산재보험료 | E13: =총괄내역서!L9 -> 0 | F13: =E13/E29 -> #DIV/0! | G13: 노무비 × 3.56%
C14: 고용보험료 | E14: =총괄내역서!L10 -> 0 | F14: =E14/E29 -> #DIV/0! | G14: 노무비 × 1.01%
C15: 건강보험료 | E15: =총괄내역서!L11 -> 0 | F15: =E15/E29 -> #DIV/0! | G15: 직접노무비 × 3.595%
C16: 연금보험료 | E16: =총괄내역서!L12 -> 0 | F16: =E16/E29 -> #DIV/0! | G16: 직접노무비 × 4.75%
C17: 노인장기요양보험료 | E17: =총괄내역서!L13 -> 0 | F17: =E17/E29 -> #DIV/0! | G17: 건강보험료 × 13.14%
C18: 퇴직공제부금비 | E18: =총괄내역서!L14 -> 0 | F18: =E18/E29 -> #DIV/0! | G18: 직접노무비 × 2.3%
C19: 건설기계대여대금지급보증서발급금액 | E19: =총괄내역서!L15 -> 0 | F19: =E19/E29 -> #DIV/0! | G19: (재료비 + 직접노무비 + 산출경비) × 0.1%
C20: 산업안전보건관리비 | E20: =총괄내역서!L16 -> 0 | F20: =E20/E29 -> #DIV/0! | G20: (재료비 + 직접노무비) × 2.07%
C21: 환경보전비 | E21: =총괄내역서!L17 -> 0 | F21: =E21/E29 -> #DIV/0! | G21: (재료비 + 직접노무비 + 산출경비) × 0.3%
C22: 기타경비 | E22: =총괄내역서!L18 -> 0 | F22: =E22/E29 -> #DIV/0! | G22: (재료비 + 노무비) × 5.0%
C23: 건설하도급대금보증서발급수수료 | E23: =총괄내역서!L19 -> 0 | F23: =E23/E29 -> #DIV/0! | G23: (재료비 + 직접노무비 + 산출경비) × 0.081%
C24: 석면분담금 | E24: =총괄내역서!L20 -> 0 | F24: =E24/E29 -> #DIV/0! | G24: 노무비 × 0.006%
C25: 임금채권부담금 | E25: =총괄내역서!L21 -> 0 | F25: =E25/E29 -> #DIV/0! | G25: 노무비 × 0.09%
C26: 소 계 | E26: =ROUNDDOWN(E12+E13+E14+E15+E16+E17+E18+E19+E20+E21+E22+E23+E24+E25,0) -> 0 | F26: =E26/E29 -> #DIV/0!
A27: 일반관리비 | E27: =총괄내역서!L22 -> 0 | F27: =E27/E29 -> #DIV/0! | G27: (재료비 + 노무비 + 경비) × 8.0%
A28: 이윤 | E28: =총괄내역서!L23 -> 0 | F28: =E28/E29 -> #DIV/0! | G28: (노무비 + 경비 + 일반관리비) × 15.0% 이내
A29: 공급가액 | E29: =총괄내역서!L24 -> 0 | F29: =E29/E29 -> #DIV/0!
A30: 부가가치세 | E30: =총괄내역서!L25 -> 0 | G30: 공급가액 × 10%
A31: 도급비 | E31: =총괄내역서!L26 -> 0
A32: 총공사비 | E32: =총괄내역서!L27 -> 0

Sheet 총괄내역서
A1: 총 괄 내 역 서
A3: 공 종 | B3: 규 격 | C3: 수 량 | D3: 단위 | E3: 재 료 비 | G3: 노 무 비 | I3: 경 비 | K3: 합 계 | M3: 비고
E4: 단 가 | F4: 금 액 | G4: 단 가 | H4: 금 액 | I4: 단 가 | J4: 금 액 | K4: 단 가 | L4: 금 액
A5: =+내역서!A1 -> 공 사 명 : 관리동 소방설비실 보수공사
A6: 순 공 사 비 | C6: 1 | D6: 식 | F6: =+내역서!F4 -> 0 | H6: =+내역서!H4 -> 0 | J6: =+내역서!J4 -> 0 | L6: =H6+F6+J6 -> 0
A8: 1) 간접노무비 | C8: 1 | D8: 식 | E8: 직노 × 17.5% | L8: =INT(H6*17.5%) -> 0 | M8: 건축
A9: 2) 산재보험료 | C9: 1 | D9: 식 | E9: 노 × 3.56% | L9: =INT((H6+L8)*3.56%) -> 0
A10: 3) 고용보험료 | C10: 1 | D10: 식 | E10: 노 × 1.01% | L10: =INT((H6+L8)*1.01%) -> 0 | M10: 7등급미만
A11: 4) 건강보험료 | C11: 1 | D11: 식 | E11: 직노 × 3.595% | L11: =INT((H6)*3.595%)*0 -> 0 | M11: 1개월미만
A12: 5) 연금보험료 | C12: 1 | D12: 식 | E12: 직노 × 4.75% | L12: =INT((H6)*4.75%)*0 -> 0 | M12: 1개월미만
A13: 6) 노인장기요양보험료 | C13: 1 | D13: 식 | E13: 건강보험료 × 13.14% | L13: =INT((L11)*13.14%) -> 0 | M13: 1개월미만
A14: 7) 퇴직공제부금비 | C14: 1 | D14: 식 | E14: 직노 × 2.3% | L14: =INT((H6)*2.3%)*0 -> 0 | M14: 1억이하
A15: 8) 건설기계대여대금지급보증서 | C15: 1 | D15: 식 | E15: (재 + 직노 + 산경) × 0.1% | L15: =INT((L6)*0.1%)*0 -> 0 | M15: 그외
A16: 9) 산업안전보건관리비 | C16: 1 | D16: 식 | E16: (재 + 직노) × 2.07% | L16: =INT((F6+H6)*2.07%)*0 -> 0 | M16: 특수및기타
A17: 10) 환경보전비 | C17: 1 | D17: 식 | E17: (재 + 직노 + 산경) × 0.3% | L17: =INT((L6)*0.3%)*0 -> 0 | M17: 기타
A18: 11) 기타경비 | C18: 1 | D18: 식 | E18: (재 + 노) × 5.0% | L18: =INT((F6+H6+L8)*5.5%) -> 0 | M18: 건축
A19: 12) 건설하도급대금보증서발급수수료 | C19: 1 | D19: 식 | E19: (재 + 직노 + 산경) × 0.081% | L19: =INT((L6)*0.081%)*0 -> 0 | M19: 전문공사
A20: 13) 석면분담금 | C20: 1 | D20: 식 | E20: 노 × 0.006% | L20: =INT((H6+L8)*0.006%) -> 0
A21: 14) 임금채권부담금 | C21: 1 | D21: 식 | E21: 노 × 0.09% | L21: =INT((H6+L8)*0.09%) -> 0
A22: 15) 일반관리비 | C22: 1 | D22: 식 | E22: (재 + 노 + 경) × 8.0% | L22: =INT((F6+H6+J6+L8+L9+L10+L11+L12+L13+L14+L15+L16+L17+L18+L19+L20+L21)*8%) -> 0
A23: 16) 이윤 | C23: 1 | D23: 식 | E23: (노 + 경 + 일반관리비) × 15.0% 이내 | L23: =INT((H6+J6+L8+L9+L10+L11+L12+L13+L14+L16+L17+L18+L19+L22+L15+L20+L21)*15%) -> 0
A24: 공급가액 | C24: 1 | D24: 식 | L24: =INT(L6+L8+L9+L10+L11+L12+L13+L14+L15+L16+L17+L18+L19+L20+L21+L22+L23) -> 0
A25: 부가가치세 | C25: 1 | D25: 식 | E25: 공급가액 × 10% | L25: =INT(L24*10%) -> 0
A26: 도급비 | C26: 1 | D26: 식 | L26: =ROUND(L24+L25,0) -> 0
A27: 총 공 사 비 | L27: =L26 -> 0

Sheet 내역서
A1: 공 사 명 : 관리동 소방설비실 보수공사
A2: 공 종 명 | B2: 규 격 | C2: 수량 | D2: 단위 | E2: 재 료 비 | G2: 노 무 비 | I2: 경 비 | K2: 합 계 | M2: 비 고
E3: 단 가 | F3: 금 액 | G3: 단 가 | H3: 금 액 | I3: 단 가 | J3: 금 액 | K3: 단 가 | L3: 금 액
A4: 순 공 사 비 | D4: 식 | F4: =TRUNC(SUM(F6,F13),0) -> 0 | H4: =TRUNC(SUM(H6,H13),0) -> 0 | J4: =TRUNC(SUM(J6,J13),0) -> 0 | K4: =E4+G4+I4 -> 0 | L4: =F4+H4+J4 -> 0
A6: 1) 실내건축공사 | D6: 식
A7: 경량벽체철골틀 | C7: =산출근거!E4 -> 42.55 | D7: m2
A8: 석고보드붙임 | B8: 2PY | C8: =산출근거!E7 -> 85.1 | D8: m2
A9: 도배바름 | C9: =산출근거!E9 -> 85.1 | D9: m2
A10: 상부몰딩 | C10: =산출근거!E11 -> 74 | D10: m
A11: 걸레받이 | C11: =산출근거!E12 -> 74 | D11: m
A13: 2) 철거공사 | D13: 식
A14: 벽체철거 | C14: =산출근거!E15 -> 11.5 | D14: M2
A15: 폐기물적재 | C15: =산출근거!E16 -> 1.56 | D15: 톤
A17: ■ 폐기물처리비 | C17: 1 | D17: 식
A18: 폐기물처리비 | B18: 건설폐재류 | C18: =산출근거!E20 -> 1.56 | D18: TON
A19: 폐기물운반비 | C19: =산출근거!E21 -> 1.56 | D19: TON

Sheet 산출근거
A1: 공 사 명 : 가벽설치
A2: 공 사 내 용 | B2: 규 격 | C2: 단 위 | D2: 산 식 | E2: 물 량
A3: 1. 실내건축공사
A4: ①경량벽체철골틀 | C4: ㎡ | D4: =" (18.5)*2.3 = "&E4 -> (18.5)*2.3 = 42.55 | E4: =+F4 -> 42.55 | F4: =ROUND((18.5*2.3),2) -> 42.55
B5: 런너 | C5: m | D5: =" (1*2) = "&E5 -> (1*2) = 2 | E5: =+F5 -> 2 | F5: =ROUND((1*2),2) -> 2
B6: 스터드 | C6: m | D6: =" (2.3*7) = "&E6 -> (2.3*7) = 16.1 | E6: =+F6 -> 16.1 | F6: =ROUND((2.3*7),2) -> 16.1 | K6: - 경량벽체틀 18.5m(H2.3)
A7: ②석고보드붙임 | B7: 2py | C7: ㎡ | D7: =" (18.5)*2.3*2 = "&E7 -> (18.5)*2.3*2 = 85.1 | E7: =+F7 -> 85.1 | F7: =ROUND((18.5*2.3)*2,2) -> 85.1 | K7: - 석고2P (내벽, 외벽)
B8: 석고보드 | C8: ㎡ | D8: =" (1*2)*1.05% = "&E8 -> (1*2)*1.05% = 2.1 | E8: =+F8 -> 2.1 | F8: =ROUND((1*2)*1.05,2) -> 2.1 | K8: - 석고 위 도배
A9: ③도배바름 | C9: ㎡ | D9: =" (18.5)*2.3*2 = "&E9 -> (18.5)*2.3*2 = 85.1 | E9: =+F9 -> 85.1 | F9: =ROUND((18.5*2.3)*2,2) -> 85.1 | K9: - 하부걸레받이 / 상부몰딩
K10: - 출입문(900x2100) 2개소
A11: ④상부몰딩 | C11: m | D11: =" (18.5)*2*2 = "&E11 -> (18.5)*2*2 = 74 | E11: =+F11 -> 74 | F11: =ROUND((18.5*2)*2,2) -> 74 | K11: - 철거5m
A12: ⑤걸레받이 | C12: m | D12: =" (18.5)*2*2 = "&E12 -> (18.5)*2*2 = 74 | E12: =+F12 -> 74 | F12: =ROUND((18.5*2)*2,2) -> 74
A14: 2. 철거공사
A15: ①벽체철거 | C15: ㎡ | D15: =" (5)*2.3 = "&E15 -> (5)*2.3 = 11.5 | E15: =+F15 -> 11.5 | F15: =ROUND((5*2.3),2) -> 11.5
A16: ②폐기물적재 | C16: 톤 | D16: =" (5*2.3)*0.1 = "&F16 -> (5*2.3)*0.1 = 1.15 | E16: =F17 -> 1.56 | F16: =ROUND((5*2.3)*0.1,2) -> 1.15
B17: 건설폐재류 | C17: 톤 | D17: =" *1.36톤 = "&F17 -> *1.36톤 = 1.56 | F17: =ROUND((F16)*1.36,2) -> 1.56
A19: 2. 폐기물처리
A20: ①폐기물처리 | B20: 건설폐재류 | C20: TON | D20: ="*1.36톤 = "&F20 -> *1.36톤 = 1.56 | E20: =+F20 -> 1.56 | F20: =+F17 -> 1.56
A21: ②폐기물운반 | C21: TON | D21: =" = "&F21 -> = 1.56 | E21: =+F21 -> 1.56 | F21: =+F20 -> 1.56
