Workbook

Sheet 원가계산서
B1: 공 사 원 가 계 산 서
B2: 공사명 : 하동군 옥종면 병천리 228-3번지 제조업소 신축공사
B3: 비 목 | E3: 금 액 | F3: 구 성 비 | G3: 비 고
A4: A1 | B4: 순 공 사 원 가 | C4: 재 료 비 | D4: 직 접 재 료 비 | E4: =TRUNC(공종별집계표!F5, 0) -> 56951018
A5: A2 | D5: 간 접 재 료 비 | E5: 0
A6: A3 | D6: 작업설, 부산물(△) | E6: 0
A7: AS | D7: [ 소 계 ] | E7: =TRUNC(E4+E5-E6, 0) -> 56951018
A8: B1 | C8: 노 무 비 | D8: 직 접 노 무 비 | E8: =TRUNC(공종별집계표!H5, 0) -> 63558360
A9: B2 | D9: 간 접 노 무 비 | E9: =TRUNC(E8*0.15, 0) -> 9533754 | F9: 직접노무비 * 15%
A10: BS | D10: [ 소 계 ] | E10: =TRUNC(E8+E9, 0) -> 73092114
A11: C2 | C11: 경 비 | D11: 경 비 | E11: =TRUNC(공종별집계표!J5, 0) -> 5687513
A12: C4 | D12: 산 재 보 험 료 | E12: =TRUNC(E10*0.0356, 0) -> 2602079 | F12: 노무비 * 3.56%
A13: C5 | D13: 고 용 보 험 료 | E13: =TRUNC(E10*0.0101, 0) -> 738230 | F13: 노무비 * 1.01%
A14: C6 | D14: 국민 건강 보험료 | E14: =TRUNC(E8*0.03595, 0) -> 2284923 | F14: 직접노무비 * 3.595%
A15: C7 | D15: 국민 연금 보험료 | E15: =TRUNC(E8*0.0475, 0) -> 3019022 | F15: 직접노무비 * 4.75%
A16: C8 | D16: 퇴직 공제 부금비 | E16: =TRUNC(E8*0.023, 0) -> 1461842 | F16: 직접노무비 * 2.3%
A17: CA | D17: 산업안전보건관리비 | E17: =TRUNC((E7+E8+(E32/1.1))*0.0311, 0) -> 4162857 | F17: (재료비+직노+관급자재비) * 3.11%
A18: CB | D18: 노인장기요양보험료 | E18: =TRUNC(E14*0.1314, 0) -> 300238 | F18: 건강보험료 * 13.14%
A19: CE | D19: 임금 채권 부담금 | E19: =TRUNC(E10*0.0009, 0) -> 65782 | F19: 노무비 * 0.09%
A20: CF | D20: 석 면 분 담 금 | E20: =TRUNC(E10*0.00006, 0) -> 4385 | F20: 노무비 * 0.006%
A21: CG | D21: 기 타 경 비 | E21: =TRUNC((E7+E10)*0.045, 0) -> 5851940 | F21: (재료비+노무비) * 4.5%
A22: CH | D22: 환 경 보 전 비 | E22: =TRUNC((E7+E8+E11)*0.003, 0) -> 378590 | F22: (재료비+직노+경비) * 0.3%
A23: CK | D23: 하도급지급보증수수료 | E23: =TRUNC((E7+E8+E11)*0.00081, 0) -> 102219 | F23: (재료비+직노+경비) * 0.081% | G23: 최저가대상공사
A24: CL | D24: 건설기계대여금지급보증서발급수수료 | E24: =TRUNC((E7+E8+E11)*0.0007, 0) -> 88337 | F24: (재료비+직노+경비) * 0.07%
A25: CS | D25: [ 소 계 ] | E25: =TRUNC(E11+E12+E13+E14+E15+E16+E17+E18+E19+E20+E21+E22+E23+E24, 0) -> 26747957
A26: S1 | B26: 계 | E26: =TRUNC(E7+E10+E25, 0) -> 156791089
A27: D1 | B27: 일 반 관 리 비 | E27: =TRUNC(E26*0.07, 0) -> 10975376 | F27: 계 * 7%
A28: D2 | B28: 이 윤 | E28: =TRUNC((E10+E25+E27)*0.13, 0) -> 14406008 | F28: (노무비+경비+일반관리비) * 13%
A29: D9 | B29: 공 급 가 액 | E29: =TRUNC(INT((E26+E27+E28)/10000)*10000, 0) -> 182170000
A30: DB | B30: 부 가 가 치 세 | E30: =TRUNC(E29*0.1, 0) -> 18217000 | F30: 공급가액 * 10%
A31: DH | B31: 도 급 액 | E31: =TRUNC(E29+E30, 0) -> 200387000
B32: 도급자 자재 | E32: =공종별집계표!L22-986 -> 14679000 | G32: 백단위 절삭
B33: 관급자 자재 | E33: =공종별집계표!L23 -> 3322000
A34: S2 | B34: 총 공 사 비 | E34: =TRUNC(E31+E32+E33, 0) -> 218388000

Sheet 공종별집계표
A1: 공 종 별 집 계 표
A2: [ 하동군 옥종면 병천리 228-3번지 제조업소 신축공사 ]
A3: 품 명 | B3: 규 격 | C3: 단위 | D3: 수량 | E3: 재 료 비 | G3: 노 무 비 | I3: 경 비 | K3: 합 계 | M3: 비 고 | N3: 공종코드 | O3: 변수 | P3: 상위공종 | Q3: 공종구분 | R3: 공종레벨 | S3: 공종소계 | T3: 원가계산서 연결금액
E4: 단 가 | F4: 금 액 | G4: 단 가 | H4: 금 액 | I4: 단 가 | J4: 금 액 | K4: 단 가 | L4: 금 액
A5: 하동군 옥종면 병천리 228-3번지 제조업소 신축공사 | D5: 1 | E5: =F6+F20 -> 56951018 | F5: =E5*D5 -> 56951018 | G5: =H6+H20 -> 63558360 | H5: =G5*D5 -> 63558360 | I5: =J6+J20 -> 5687513 | J5: =I5*D5 -> 5687513 | K5: =E5+G5+I5 -> 126196891 | L5: =F5+H5+J5 -> 126196891 | N5: 01 | R5: 1
A6: 건 축 공 사 | D6: 1 | E6: =F7+F8+F9+F10+F11+F12+F13+F14+F15+F16+F17+F18+F19 -> 52703631 | F6: =E6*D6 -> 52703631 | G6: =H7+H8+H9+H10+H11+H12+H13+H14+H15+H16+H17+H18+H19 -> 55148319 | H6: =G6*D6 -> 55148319 | I6: =J7+J8+J9+J10+J11+J12+J13+J14+J15+J16+J17+J18+J19 -> 5599469 | J6: =I6*D6 -> 5599469 | K6: =E6+G6+I6 -> 113451419 | L6: =F6+H6+J6 -> 113451419 | N6: 0101 | P6: 01 | R6: 2
A7: 가 설 공 사 | D7: 1 | E7: =공종별내역서!F27 -> 169393 | F7: =E7*D7 -> 169393 | G7: =공종별내역서!H27 -> 4540106 | H7: =G7*D7 -> 4540106 | I7: =공종별내역서!J27 -> 0 | J7: =I7*D7 -> 0 | K7: =E7+G7+I7 -> 4709499 | L7: =F7+H7+J7 -> 4709499 | N7: 010101 | P7: 0101 | R7: 3
A8: 토 및 지정공사 | D8: 1 | E8: =공종별내역서!F51 -> 3384435 | F8: =E8*D8 -> 3384435 | G8: =공종별내역서!H51 -> 4008004 | H8: =G8*D8 -> 4008004 | I8: =공종별내역서!J51 -> 1476636 | J8: =I8*D8 -> 1476636 | K8: =E8+G8+I8 -> 8869075 | L8: =F8+H8+J8 -> 8869075 | N8: 010102 | P8: 0101 | R8: 3
A9: 철근콘크리트공사 | D9: 1 | E9: =공종별내역서!F75 -> 601999 | F9: =E9*D9 -> 601999 | G9: =공종별내역서!H75 -> 8150855 | H9: =G9*D9 -> 8150855 | I9: =공종별내역서!J75 -> 1031832 | J9: =I9*D9 -> 1031832 | K9: =E9+G9+I9 -> 9784686 | L9: =F9+H9+J9 -> 9784686 | N9: 010103 | P9: 0101 | R9: 3
A10: 철 골 공 사 | D10: 1 | E10: =공종별내역서!F99 -> 12427969 | F10: =E10*D10 -> 12427969 | G10: =공종별내역서!H99 -> 6874750 | H10: =G10*D10 -> 6874750 | I10: =공종별내역서!J99 -> 2191294 | J10: =I10*D10 -> 2191294 | K10: =E10+G10+I10 -> 21494013 | L10: =F10+H10+J10 -> 21494013 | N10: 010104 | P10: 0101 | R10: 3
A11: 타 일 공 사 | D11: 1 | E11: =공종별내역서!F123 -> 622991 | F11: =E11*D11 -> 622991 | G11: =공종별내역서!H123 -> 1543611 | H11: =G11*D11 -> 1543611 | I11: =공종별내역서!J123 -> 38476 | J11: =I11*D11 -> 38476 | K11: =E11+G11+I11 -> 2205078 | L11: =F11+H11+J11 -> 2205078 | N11: 010105 | P11: 0101 | R11: 3
A12: 목공사및수장공사 | D12: 1 | E12: =공종별내역서!F147 -> 17224149 | F12: =E12*D12 -> 17224149 | G12: =공종별내역서!H147 -> 9787976 | H12: =G12*D12 -> 9787976 | I12: =공종별내역서!J147 -> 198687 | J12: =I12*D12 -> 198687 | K12: =E12+G12+I12 -> 27210812 | L12: =F12+H12+J12 -> 27210812 | N12: 010106 | P12: 0101 | R12: 3
A13: 방 수 공 사 | D13: 1 | E13: =공종별내역서!F171 -> 156184 | F13: =E13*D13 -> 156184 | G13: =공종별내역서!H171 -> 1171477 | H13: =G13*D13 -> 1171477 | I13: =공종별내역서!J171 -> 11925 | J13: =I13*D13 -> 11925 | K13: =E13+G13+I13 -> 1339586 | L13: =F13+H13+J13 -> 1339586 | N13: 010107 | P13: 0101 | R13: 3
A14: 지붕 및 홈통공사 | D14: 1 | E14: =공종별내역서!F195 -> 1838819 | F14: =E14*D14 -> 1838819 | G14: =공종별내역서!H195 -> 1763940 | H14: =G14*D14 -> 1763940 | I14: =공종별내역서!J195 -> 62809 | J14: =I14*D14 -> 62809 | K14: =E14+G14+I14 -> 3665568 | L14: =F14+H14+J14 -> 3665568 | N14: 010108 | P14: 0101 | R14: 3
A15: 금 속 공 사 | D15: 1 | E15: =공종별내역서!F219 -> 167937 | F15: =E15*D15 -> 167937 | G15: =공종별내역서!H219 -> 239239 | H15: =G15*D15 -> 239239 | I15: =공종별내역서!J219 -> 12071 | J15: =I15*D15 -> 12071 | K15: =E15+G15+I15 -> 419247 | L15: =F15+H15+J15 -> 419247 | N15: 010109 | P15: 0101 | R15: 3
A16: 미 장 공 사 | D16: 1 | E16: =공종별내역서!F243 -> 1190797 | F16: =E16*D16 -> 1190797 | G16: =공종별내역서!H243 -> 3693821 | H16: =G16*D16 -> 3693821 | I16: =공종별내역서!J243 -> 47969 | J16: =I16*D16 -> 47969 | K16: =E16+G16+I16 -> 4932587 | L16: =F16+H16+J16 -> 4932587 | N16: 010110 | P16: 0101 | R16: 3
A17: 창호 및 유리공사 | D17: 1 | E17: =공종별내역서!F267 -> 8397986 | F17: =E17*D17 -> 8397986 | G17: =공종별내역서!H267 -> 2182398 | H17: =G17*D17 -> 2182398 | I17: =공종별내역서!J267 -> 46734 | J17: =I17*D17 -> 46734 | K17: =E17+G17+I17 -> 10627118 | L17: =F17+H17+J17 -> 10627118 | N17: 010111 | P17: 0101 | R17: 3
A18: 칠 공 사 | D18: 1 | E18: =공종별내역서!F291 -> 2759533 | F18: =E18*D18 -> 2759533 | G18: =공종별내역서!H291 -> 8472747 | H18: =G18*D18 -> 8472747 | I18: =공종별내역서!J291 -> 0 | J18: =I18*D18 -> 0 | K18: =E18+G18+I18 -> 11232280 | L18: =F18+H18+J18 -> 11232280 | N18: 010112 | P18: 0101 | R18: 3
A19: 부 대 공 사 | D19: 1 | E19: =공종별내역서!F315 -> 3761439 | F19: =E19*D19 -> 3761439 | G19: =공종별내역서!H315 -> 2719395 | H19: =G19*D19 -> 2719395 | I19: =공종별내역서!J315 -> 481036 | J19: =I19*D19 -> 481036 | K19: =E19+G19+I19 -> 6961870 | L19: =F19+H19+J19 -> 6961870 | N19: 010113 | P19: 0101 | R19: 3
A20: 설 비 공 사 | D20: 1 | E20: =공종별내역서!F339 -> 4247387 | F20: =E20*D20 -> 4247387 | G20: =공종별내역서!H339 -> 8410041 | H20: =G20*D20 -> 8410041 | I20: =공종별내역서!J339 -> 88044 | J20: =I20*D20 -> 88044 | K20: =E20+G20+I20 -> 12745472 | L20: =F20+H20+J20 -> 12745472 | N20: 0102 | P20: 01 | R20: 2
A21: 자재
A22: 도급자재 | D22: 1 | E22: =TRUNC(공종별내역서!L348,0) -> 14679986 | F22: =E22*D22 -> 14679986 | L22: =F22 -> 14679986
A23: 관급자자재 | D23: 1 | E23: =공종별내역서!L350 -> 3322000 | F23: =E23*D23 -> 3322000 | L23: =F23 -> 3322000
A24: 관급자자재
A27: [ 합 계 ] | F27: =F5 -> 56951018 | H27: =H5 -> 63558360 | J27: =J5 -> 5687513 | L27: =L5 -> 126196891

Sheet 공종별내역서
A1: [ 하동군 옥종면 병천리 228-3번지 제조업소 신축공사 ]
A2: 품 명 | B2: 규 격 | C2: 단위 | D2: 수량 | E2: 재 료 비 | G2: 노 무 비 | I2: 경 비 | K2: 합 계 | M2: 비 고 | N2: 품목코드 | O2: 변수 | P2: 설정 | Q2: 공종코드 | R2: 일위 | S2: 단산 | T2: 자재 | U2: 손료적용 | V2: 손료저장 | W2: 적용율 | X2: JUK1 | Y2: JUK2 | Z2: JUK3 | AA2: JUK4 | AB2: JUK5 | AC2: JUK6 | AD2: JUK7 | AE2: JUK8 | AF2: JUK9 | AG2: JUK10 | AH2: JUK11 | AI2: JUK12 | AJ2: JUK13 | AK2: JUK14 | AL2: JUK15 | AM2: JUK16 | AN2: JUK17 | AO2: JUK18 | AP2: JUK19 | AQ2: JUK20 | AR2: 자재구분 | AS2: 공종구분 | AT2: 공종레벨 | AU2: 공종+자재 | AV2: 고유번호
E3: 단 가 | F3: 금 액 | G3: 단 가 | H3: 금 액 | I3: 단 가 | J3: 금 액 | K3: 단 가 | L3: 금 액
A4: 가 설 공 사 | Q4: 010101
A5: 강관 조립말비계(이동식)설치 및 해체 | B5: 높이 2m, 3개월 | C5: 대 | D5: 1 | E5: =TRUNC(일위대가목록!E4,0) -> 39087 | F5: =TRUNC(E5*D5, 0) -> 39087 | G5: =TRUNC(일위대가목록!F4,0) -> 86062 | H5: =TRUNC(G5*D5, 0) -> 86062 | I5: =TRUNC(일위대가목록!G4,0) -> 0 | J5: =TRUNC(I5*D5, 0) -> 0 | K5: =TRUNC(E5+G5+I5, 0) -> 125149 | L5: =TRUNC(F5+H5+J5, 0) -> 125149 | M5: 호표 1 | N5: 58DD251F0B24238AECACBA659862FD | Q5: 010101 | R5: T | S5: F | T5: F | AU5: 01010158DD251F0B24238AECACBA659862FD | AV5: 4
A6: 목재 평 규준틀 설치 및 철거 | C6: 개소 | D6: 10 | E6: =TRUNC(일위대가목록!E5,0) -> 8001 | F6: =TRUNC(E6*D6, 0) -> 80010 | G6: =TRUNC(일위대가목록!F5,0) -> 84872 | H6: =TRUNC(G6*D6, 0) -> 848720 | I6: =TRUNC(일위대가목록!G5,0) -> 0 | J6: =TRUNC(I6*D6, 0) -> 0 | K6: =TRUNC(E6+G6+I6, 0) -> 92873 | L6: =TRUNC(F6+H6+J6, 0) -> 928730 | M6: 호표 2 | N6: 58DD251F0B24238AFD4F536CED401A | Q6: 010101 | R6: T | S6: F | T6: F | AU6: 01010158DD251F0B24238AFD4F536CED401A | AV6: 5
A7: 목재 귀 규준틀 설치 및 철거 | C7: 개소 | D7: 4 | E7: =TRUNC(일위대가목록!E6,0) -> 12574 | F7: =TRUNC(E7*D7, 0) -> 50296 | G7: =TRUNC(일위대가목록!F6,0) -> 146258 | H7: =TRUNC(G7*D7, 0) -> 585032 | I7: =TRUNC(일위대가목록!G6,0) -> 0 | J7: =TRUNC(I7*D7, 0) -> 0 | K7: =TRUNC(E7+G7+I7, 0) -> 158832 | L7: =TRUNC(F7+H7+J7, 0) -> 635328 | M7: 호표 3 | N7: 58DD251F0B24238AFD4F536FA10601 | Q7: 010101 | R7: T | S7: F | T7: F | AU7: 01010158DD251F0B24238AFD4F536FA10601 | AV7: 6
A8: 건축물 현장정리 | B8: 목조, 철골조, 조적조 | C8: M2 | D8: 198 | E8: =TRUNC(일위대가목록!E7,0) -> 0 | F8: =TRUNC(E8*D8, 0) -> 0 | G8: =TRUNC(일위대가목록!F7,0) -> 7829 | H8: =TRUNC(G8*D8, 0) -> 1550142 | I8: =TRUNC(일위대가목록!G7,0) -> 0 | J8: =TRUNC(I8*D8, 0) -> 0 | K8: =TRUNC(E8+G8+I8, 0) -> 7829 | L8: =TRUNC(F8+H8+J8, 0) -> 1550142 | M8: 호표 4 | N8: 58DD251A862B2283AC667068E7DA9B | Q8: 010101 | R8: T | S8: F | T8: F | AU8: 01010158DD251A862B2283AC667068E7DA9B | AV8: 7
A9: 먹매김 | B9: 구조부,거푸집 | C9: M2 | D9: 198 | E9: =TRUNC(일위대가목록!E8,0) -> 0 | F9: =TRUNC(E9*D9, 0) -> 0 | G9: =TRUNC(일위대가목록!F8,0) -> 4294 | H9: =TRUNC(G9*D9, 0) -> 850212 | I9: =TRUNC(일위대가목록!G8,0) -> 0 | J9: =TRUNC(I9*D9, 0) -> 0 | K9: =TRUNC(E9+G9+I9, 0) -> 4294 | L9: =TRUNC(F9+H9+J9, 0) -> 850212 | M9: 호표 5 | N9: 58DD251A852A2D8F4FE7EE6A949A1D | Q9: 010101 | R9: T | S9: F | T9: F | AU9: 01010158DD251A852A2D8F4FE7EE6A949A1D | AV9: 8
A10: 준공청소 | C10: M2 | D10: 198 | E10: =TRUNC(일위대가목록!E9,0) -> 0 | F10: =TRUNC(E10*D10, 0) -> 0 | G10: =TRUNC(일위대가목록!F9,0) -> 3131 | H10: =TRUNC(G10*D10, 0) -> 619938 | I10: =TRUNC(일위대가목록!G9,0) -> 0 | J10: =TRUNC(I10*D10, 0) -> 0 | K10: =TRUNC(E10+G10+I10, 0) -> 3131 | L10: =TRUNC(F10+H10+J10, 0) -> 619938 | M10: 호표 6 | N10: 58DD251A832F2E8733B63F6A5A9915 | Q10: 010101 | R10: T | S10: F | T10: F | AU10: 01010158DD251A832F2E8733B63F6A5A9915 | AV10: 9
Q11: 010101
Q12: 010101
Q13: 010101
Q14: 010101
Q15: 010101
Q16: 010101
Q17: 010101
Q18: 010101
Q19: 010101
Q20: 010101
Q21: 010101
Q22: 010101
... Q26: 010101
A27: [ 합 계 ] | F27: =SUMIF(Q5:Q26,"010101",F5:F26) -> 169393 | H27: =SUMIF(Q5:Q26,"010101",H5:H26) -> 4540106 | J27: =SUMIF(Q5:Q26,"010101",J5:J26) -> 0 | L27: =SUMIF(Q5:Q26,"010101",L5:L26) -> 4709499 | N27: TOTAL
A28: 토 및 지정공사 | Q28: 010102
A29: 잡석지정 | B29: 굴삭기 0.2m3+진동롤러(핸드가이드식) | C29: M3 | D29: 33.6 | E29: =TRUNC(일위대가목록!E10,0) -> 23961 | F29: =TRUNC(E29*D29, 0) -> 805089 | G29: =TRUNC(일위대가목록!F10,0) -> 6596 | H29: =TRUNC(G29*D29, 0) -> 221625 | I29: =TRUNC(일위대가목록!G10,0) -> 1140 | J29: =TRUNC(I29*D29, 0) -> 38304 | K29: =TRUNC(E29+G29+I29, 0) -> 31697 | L29: =TRUNC(F29+H29+J29, 0) -> 1065018 | M29: 호표 7 | N29: 58DD05D00E2A2980B20C2D6FF74E94 | Q29: 010102 | R29: T | S29: F | T29: F | AU29: 01010258DD05D00E2A2980B20C2D6FF74E94 | AV29: 11
A30: 방습필름 설치 - 기초바닥 | B30: 폴리에틸렌필름, 두께, 0.05mm, 2겹 | C30: M2 | D30: 215.1 | E30: =TRUNC(일위대가목록!E11,0) -> 708 | F30: =TRUNC(E30*D30, 0) -> 152290 | G30: =TRUNC(일위대가목록!F11,0) -> 1324 | H30: =TRUNC(G30*D30, 0) -> 284792 | I30: =TRUNC(일위대가목록!G11,0) -> 0 | J30: =TRUNC(I30*D30, 0) -> 0 | K30: =TRUNC(E30+G30+I30, 0) -> 2032 | L30: =TRUNC(F30+H30+J30, 0) -> 437082 | M30: 호표 8 | N30: 58DDC52612202F8D31898660450B30 | Q30: 010102 | R30: T | S30: F | T30: F | AU30: 01010258DDC52612202F8D31898660450B30 | AV30: 12
A31: 터파기/토사 | B31: 보통, 굴착기 0.7m3 | C31: M3 | D31: 140.1 | E31: =TRUNC(단가산출목록!E4,0) -> 437 | F31: =TRUNC(E31*D31, 0) -> 61223 | G31: =TRUNC(단가산출목록!F4,0) -> 1000 | H31: =TRUNC(G31*D31, 0) -> 140100 | I31: =TRUNC(단가산출목록!G4,0) -> 416 | J31: =TRUNC(I31*D31, 0) -> 58281 | K31: =TRUNC(E31+G31+I31, 0) -> 1853 | L31: =TRUNC(F31+H31+J31, 0) -> 259604 | M31: 산근 1 | N31: 58F2454833272E88B2EAB269B8F915 | Q31: 010102 | R31: F | S31: T | T31: F | AU31: 01010258F2454833272E88B2EAB269B8F915 | AV31: 13
A32: 잔토처리 | B32: 보통, 덤프 15ton+굴삭기 0.7m3 | C32: M3 | D32: 121.4 | E32: =TRUNC(단가산출목록!E5,0) -> 3982 | F32: =TRUNC(E32*D32, 0) -> 483414 | G32: =TRUNC(단가산출목록!F5,0) -> 5876 | H32: =TRUNC(G32*D32, 0) -> 713346 | I32: =TRUNC(단가산출목록!G5,0) -> 2100 | J32: =TRUNC(I32*D32, 0) -> 254940 | K32: =TRUNC(E32+G32+I32, 0) -> 11958 | L32: =TRUNC(F32+H32+J32, 0) -> 1451700 | M32: 산근 2 | N32: 58F2454B85242F8886C1F06205BFB3 | Q32: 010102 | R32: F | S32: T | T32: F | AU32: 01010258F2454B85242F8886C1F06205BFB3 | AV32: 14
A33: 되메우기/토사, 두께 15cm | B33: 보통, 굴삭기 0.7m3+래머 80kg | C33: M3 | D33: 18.8 | E33: =TRUNC(단가산출목록!E6,0) -> 640 | F33: =TRUNC(E33*D33, 0) -> 12032 | G33: =TRUNC(단가산출목록!F6,0) -> 9011 | H33: =TRUNC(G33*D33, 0) -> 169406 | I33: =TRUNC(단가산출목록!G6,0) -> 423 | J33: =TRUNC(I33*D33, 0) -> 7952 | K33: =TRUNC(E33+G33+I33, 0) -> 10074 | L33: =TRUNC(F33+H33+J33, 0) -> 189390 | M33: 산근 3 | N33: 58F245457C2E258CCEBA4363D6F13B | Q33: 010102 | R33: F | S33: T | T33: F | AU33: 01010258F245457C2E258CCEBA4363D6F13B | AV33: 15
A34: 흙 쌓기/로상 다짐 20cm | B34: 보통, 진동롤러 10ton+타이어롤러 8∼15ton+살수 | C34: M3 | D34: 384.3 | E34: =TRUNC(단가산출목록!E7,0) -> 546 | F34: =TRUNC(E34*D34, 0) -> 209827 | G34: =TRUNC(단가산출목록!F7,0) -> 1380 | H34: =TRUNC(G34*D34, 0) -> 530334 | I34: =TRUNC(단가산출목록!G7,0) -> 428 | J34: =TRUNC(I34*D34, 0) -> 164480 | K34: =TRUNC(E34+G34+I34, 0) -> 2354 | L34: =TRUNC(F34+H34+J34, 0) -> 904641 | M34: 산근 4 | N34: 58F245457C2E258CCEBA4363D6F012 | Q34: 010102 | R34: F | S34: T | T34: F | AU34: 01010258F245457C2E258CCEBA4363D6F012 | AV34: 16
A35: 흙 쌓기 장외운반/토사 | B35: 보통, 덤프 20ton, L=10km | C35: M3 | D35: 384.3 | E35: =TRUNC(단가산출목록!E8,0) -> 4321 | F35: =TRUNC(E35*D35, 0) -> 1660560 | G35: =TRUNC(단가산출목록!F8,0) -> 5070 | H35: =TRUNC(G35*D35, 0) -> 1948401 | I35: =TRUNC(단가산출목록!G8,0) -> 2479 | J35: =TRUNC(I35*D35, 0) -> 952679 | K35: =TRUNC(E35+G35+I35, 0) -> 11870 | L35: =TRUNC(F35+H35+J35, 0) -> 4561640 | M35: 산근 5 | N35: 58F24549DE20228D73371767B8EB0C | Q35: 010102 | R35: F | S35: T | T35: F | AU35: 01010258F24549DE20228D73371767B8EB0C | AV35: 105
Q36: 010102
Q37: 010102
Q38: 010102
Q39: 010102
Q40: 010102
Q41: 010102
Q42: 010102
Q43: 010102
Q44: 010102
Q45: 010102
Q46: 010102
Q47: 010102
... Q50: 010102
A51: [ 합 계 ] | F51: =SUMIF(Q29:Q50,"010102",F29:F50) -> 3384435 | H51: =SUMIF(Q29:Q50,"010102",H29:H50) -> 4008004 | J51: =SUMIF(Q29:Q50,"010102",J29:J50) -> 1476636 | L51: =SUMIF(Q29:Q50,"010102",L29:L50) -> 8869075 | N51: TOTAL
A52: 철근콘크리트공사 | Q52: 010103
A53: 철근콘크리트용봉강 | B53: 철근콘크리트용봉강, 이형봉강(SD400), HD-13, 지정장소도 | C53: TON | D53: 3.9 | N53: 5FF645E7FE26278D5F689F69702E36D12DC22F | Q53: 010103 | R53: F | S53: F | T53: T | AU53: 0101035FF645E7FE26278D5F689F69702E36D12DC22F | AV53: 19
A54: 철근콘크리트용봉강 | B54: 철근콘크리트용봉강, 이형봉강(SD400), HD-16, 지정장소도 | C54: TON | D54: 1.4 | N54: 5FF645E7FE26278D5F689F69702E36D12C3CA5 | Q54: 010103 | R54: F | S54: F | T54: T | AU54: 0101035FF645E7FE26278D5F689F69702E36D12C3CA5 | AV54: 20
A55: 철근콘크리트용봉강 | B55: 철근콘크리트용봉강, 이형봉강(SD400), HD-19, 지정장소도 | C55: TON | D55: 1.9 | N55: 5FF645E7FE26278D5F689F69702E36D12B159B | Q55: 010103 | R55: F | S55: F | T55: T | AU55: 0101035FF645E7FE26278D5F689F69702E36D12B159B | AV55: 21
A56: 레미콘 | B56: 레미콘, 25-18-80 | C56: M3 | D56: 11 | N56: 5FF645E7FF202C895C8E916817B8F3F4C9DDA4 | Q56: 010103 | R56: F | S56: F | T56: T | AU56: 0101035FF645E7FF202C895C8E916817B8F3F4C9DDA4 | AV56: 22
A57: 레미콘 | B57: 레미콘, 25-24-150 | C57: M3 | D57: 67.5 | N57: 5FF645E7FF202C895C8E916817B8F3F4C9DE4C | Q57: 010103 | R57: F | S57: F | T57: T | AU57: 0101035FF645E7FF202C895C8E916817B8F3F4C9DE4C | AV57: 23
A58: 유로폼 설치 및 해체 | B58: 3회, 간단, 수직고 7m까지 | C58: M2 | D58: 23.9 | E58: =TRUNC(일위대가목록!E12,0) -> 3967 | F58: =TRUNC(E58*D58, 0) -> 94811 | G58: =TRUNC(일위대가목록!F12,0) -> 29010 | H58: =TRUNC(G58*D58, 0) -> 693339 | I58: =TRUNC(일위대가목록!G12,0) -> 870 | J58: =TRUNC(I58*D58, 0) -> 20793 | K58: =TRUNC(E58+G58+I58, 0) -> 33847 | L58: =TRUNC(F58+H58+J58, 0) -> 808943 | M58: 호표 9 | N58: 58DD75A1062F2B89DE705669C6B90C | Q58: 010103 | R58: T | S58: F | T58: F | AU58: 01010358DD75A1062F2B89DE705669C6B90C | AV58: 24
A59: 철근 현장가공 및 현장조립.. | B59: Type-Ⅱ | C59: TON | D59: 6.8 | E59: =TRUNC(일위대가목록!E13,0) -> 12432 | F59: =TRUNC(E59*D59, 0) -> 84537 | G59: =TRUNC(일위대가목록!F13,0) -> 815192 | H59: =TRUNC(G59*D59, 0) -> 5543305 | I59: =TRUNC(일위대가목록!G13,0) -> 31856 | J59: =TRUNC(I59*D59, 0) -> 216620 | K59: =TRUNC(E59+G59+I59, 0) -> 859480 | L59: =TRUNC(F59+H59+J59, 0) -> 5844462 | M59: 호표 10 | N59: 58DD75A22820238CC2C7C4684ECDB2 | Q59: 010103 | R59: T | S59: F | T59: F | AU59: 01010358DD75A22820238CC2C7C4684ECDB2 | AV59: 25
A60: 콘크리트 펌프차 타설(무근).. | B60: slump 8~12cm, 매트기초 등, f2 : Type-Ⅱ, 36m,(10.8M3) | C60: 일당 | D60: 1 | E60: =TRUNC(일위대가목록!E14,0) -> 208214 | F60: =TRUNC(E60*D60, 0) -> 208214 | G60: =TRUNC(일위대가목록!F14,0) -> 894875 | H60: =TRUNC(G60*D60, 0) -> 894875 | I60: =TRUNC(일위대가목록!G14,0) -> 394098 | J60: =TRUNC(I60*D60, 0) -> 394098 | K60: =TRUNC(E60+G60+I60, 0) -> 1497187 | L60: =TRUNC(F60+H60+J60, 0) -> 1497187 | M60: 호표 11 | N60: 58DD75A682262D8CB61E826F0B783C | Q60: 010103 | R60: T | S60: F | T60: F | AU60: 01010358DD75A682262D8CB61E826F0B783C | AV60: 26
A61: 콘크리트 펌프차 타설.. | B61: slump 15cm, 매트기초 등, f2 : Type-Ⅱ, 36m,(66.8M3) | C61: 일당 | D61: 1 | E61: =TRUNC(일위대가목록!E15,0) -> 214437 | F61: =TRUNC(E61*D61, 0) -> 214437 | G61: =TRUNC(일위대가목록!F15,0) -> 1019336 | H61: =TRUNC(G61*D61, 0) -> 1019336 | I61: =TRUNC(일위대가목록!G15,0) -> 400321 | J61: =TRUNC(I61*D61, 0) -> 400321 | K61: =TRUNC(E61+G61+I61, 0) -> 1634094 | L61: =TRUNC(F61+H61+J61, 0) -> 1634094 | M61: 호표 12 | N61: 58DD75A681242386EA158065546477 | Q61: 010103 | R61: T | S61: F | T61: F | AU61: 01010358DD75A681242386EA158065546477 | AV61: 27
Q62: 010103
Q63: 010103
Q64: 010103
Q65: 010103
Q66: 010103
Q67: 010103
Q68: 010103
Q69: 010103
Q70: 010103
Q71: 010103
Q72: 010103
Q73: 010103
Q74: 010103
A75: [ 합 계 ] | F75: =SUMIF(Q53:Q74,"010103",F53:F74) -> 601999 | H75: =SUMIF(Q53:Q74,"010103",H53:H74) -> 8150855 | J75: =SUMIF(Q53:Q74,"010103",J53:J74) -> 1031832 | L75: =SUMIF(Q53:Q74,"010103",L53:L74) -> 9784686 | N75: TOTAL
A76: 철 골 공 사 | Q76: 010104
A77: ㄱ형강 | B77: ㄱ형강, 등변, 70*70*6mm | C77: kg | D77: 1212.6 | E77: =TRUNC(단가대비표!O30,0) -> 1080 | F77: =TRUNC(E77*D77, 0) -> 1309608 | G77: =TRUNC(단가대비표!P30,0) -> 0 | H77: =TRUNC(G77*D77, 0) -> 0 | I77: =TRUNC(단가대비표!V30,0) -> 0 | J77: =TRUNC(I77*D77, 0) -> 0 | K77: =TRUNC(E77+G77+I77, 0) -> 1080 | L77: =TRUNC(F77+H77+J77, 0) -> 1309608 | N77: 5FF645E7FE26278D69E155675896C3A82FE550 | Q77: 010104 | R77: F | S77: F | T77: T | AU77: 0101045FF645E7FE26278D69E155675896C3A82FE550 | AV77: 29
A78: H형강 | B78: SS275, 200*100*5.5*8mm, 현장도착도 | C78: TON | D78: 1.4 | E78: =TRUNC(단가대비표!O32,0) -> 1240000 | F78: =TRUNC(E78*D78, 0) -> 1736000 | G78: =TRUNC(단가대비표!P32,0) -> 0 | H78: =TRUNC(G78*D78, 0) -> 0 | I78: =TRUNC(단가대비표!V32,0) -> 0 | J78: =TRUNC(I78*D78, 0) -> 0 | K78: =TRUNC(E78+G78+I78, 0) -> 1240000 | L78: =TRUNC(F78+H78+J78, 0) -> 1736000 | M78: 21.3kg/m | N78: 5FF645E7FE26278D4D1A05676368F20C0E4EEC | Q78: 010104 | R78: F | S78: F | T78: T | AU78: 0101045FF645E7FE26278D4D1A05676368F20C0E4EEC | AV78: 30
A79: H형강 | B79: SS275, 194*150*6*9mm, 현장도착도 | C79: TON | D79: 0.7 | E79: =TRUNC(단가대비표!O33,0) -> 1240000 | F79: =TRUNC(E79*D79, 0) -> 868000 | G79: =TRUNC(단가대비표!P33,0) -> 0 | H79: =TRUNC(G79*D79, 0) -> 0 | I79: =TRUNC(단가대비표!V33,0) -> 0 | J79: =TRUNC(I79*D79, 0) -> 0 | K79: =TRUNC(E79+G79+I79, 0) -> 1240000 | L79: =TRUNC(F79+H79+J79, 0) -> 868000 | M79: 30.6kg/m | N79: 5FF645E7FE26278D4D1A05676368F20C0E4EE3 | Q79: 010104 | R79: F | S79: F | T79: T | AU79: 0101045FF645E7FE26278D4D1A05676368F20C0E4EE3 | AV79: 31
A80: H형강 | B80: SS275, 300*150*6.5*9mm, 현장도착도 | C80: TON | D80: 3.5 | E80: =TRUNC(단가대비표!O34,0) -> 1240000 | F80: =TRUNC(E80*D80, 0) -> 4340000 | G80: =TRUNC(단가대비표!P34,0) -> 0 | H80: =TRUNC(G80*D80, 0) -> 0 | I80: =TRUNC(단가대비표!V34,0) -> 0 | J80: =TRUNC(I80*D80, 0) -> 0 | K80: =TRUNC(E80+G80+I80, 0) -> 1240000 | L80: =TRUNC(F80+H80+J80, 0) -> 4340000 | M80: 36.7kg/m | N80: 5FF645E7FE26278D4D1A05676368F20C0E4C3C | Q80: 010104 | R80: F | S80: F | T80: T | AU80: 0101045FF645E7FE26278D4D1A05676368F20C0E4C3C | AV80: 32
A81: 경량형강 | B81: 경량형강, 블랙C형강, 100*50*20, t2.3 | C81: TON | D81: 0.4 | E81: =TRUNC(단가대비표!O35,0) -> 1010000 | F81: =TRUNC(E81*D81, 0) -> 404000 | G81: =TRUNC(단가대비표!P35,0) -> 0 | H81: =TRUNC(G81*D81, 0) -> 0 | I81: =TRUNC(단가대비표!V35,0) -> 0 | J81: =TRUNC(I81*D81, 0) -> 0 | K81: =TRUNC(E81+G81+I81, 0) -> 1010000 | L81: =TRUNC(F81+H81+J81, 0) -> 404000 | N81: 5FF645E7FE26278D4D1A0564AE98CD73E32C61 | Q81: 010104 | R81: F | S81: F | T81: T | AU81: 0101045FF645E7FE26278D4D1A0564AE98CD73E32C61 | AV81: 33
A82: 경량형강 | B82: 경량형강, 블랙C형강, 150*50*20, t3.2 | C82: TON | D82: 2 | E82: =TRUNC(단가대비표!O36,0) -> 1010000 | F82: =TRUNC(E82*D82, 0) -> 2020000 | G82: =TRUNC(단가대비표!P36,0) -> 0 | H82: =TRUNC(G82*D82, 0) -> 0 | I82: =TRUNC(단가대비표!V36,0) -> 0 | J82: =TRUNC(I82*D82, 0) -> 0 | K82: =TRUNC(E82+G82+I82, 0) -> 1010000 | L82: =TRUNC(F82+H82+J82, 0) -> 2020000 | N82: 5FF645E7FE26278D4D1A0564AE98CD73E32C66 | Q82: 010104 | R82: F | S82: F | T82: T | AU82: 0101045FF645E7FE26278D4D1A0564AE98CD73E32C66 | AV82: 34
A83: 일반구조용압연강판 | B83: 일반구조용압연강판, 6.0mm | C83: TON | D83: 0.1 | E83: =TRUNC(단가대비표!O37,0) -> 1092465 | F83: =TRUNC(E83*D83, 0) -> 109246 | G83: =TRUNC(단가대비표!P37,0) -> 0 | H83: =TRUNC(G83*D83, 0) -> 0 | I83: =TRUNC(단가대비표!V37,0) -> 0 | J83: =TRUNC(I83*D83, 0) -> 0 | K83: =TRUNC(E83+G83+I83, 0) -> 1092465 | L83: =TRUNC(F83+H83+J83, 0) -> 109246 | N83: 5FF645E7FE262481D970196E24F7A2D67C6638 | Q83: 010104 | R83: F | S83: F | T83: T | AU83: 0101045FF645E7FE262481D970196E24F7A2D67C6638 | AV83: 35
A84: 일반구조용압연강판 | B84: 일반구조용압연강판, 16mm | C84: TON | D84: 0.1 | E84: =TRUNC(단가대비표!O38,0) -> 990000 | F84: =TRUNC(E84*D84, 0) -> 99000 | G84: =TRUNC(단가대비표!P38,0) -> 0 | H84: =TRUNC(G84*D84, 0) -> 0 | I84: =TRUNC(단가대비표!V38,0) -> 0 | J84: =TRUNC(I84*D84, 0) -> 0 | K84: =TRUNC(E84+G84+I84, 0) -> 990000 | L84: =TRUNC(F84+H84+J84, 0) -> 99000 | N84: 5FF645E7FE262481D970196E24F7A2D67C6634 | Q84: 010104 | R84: F | S84: F | T84: T | AU84: 0101045FF645E7FE262481D970196E24F7A2D67C6634 | AV84: 36
A85: 일반구조용압연강판 | B85: 일반구조용압연강판, 9.0mm | C85: TON | D85: 0.3 | E85: =TRUNC(단가대비표!O41,0) -> 1040094 | F85: =TRUNC(E85*D85, 0) -> 312028 | G85: =TRUNC(단가대비표!P41,0) -> 0 | H85: =TRUNC(G85*D85, 0) -> 0 | I85: =TRUNC(단가대비표!V41,0) -> 0 | J85: =TRUNC(I85*D85, 0) -> 0 | K85: =TRUNC(E85+G85+I85, 0) -> 1040094 | L85: =TRUNC(F85+H85+J85, 0) -> 312028 | N85: 5FF645E7FE262481D970196E2594175CEF80A9 | Q85: 010104 | R85: F | S85: F | T85: T | AU85: 0101045FF645E7FE262481D970196E2594175CEF80A9 | AV85: 37
A86: 일반구조용압연강판 | B86: 일반구조용압연강판, 13mm | C86: TON | D86: 0.1 | E86: =TRUNC(단가대비표!O42,0) -> 990000 | F86: =TRUNC(E86*D86, 0) -> 99000 | G86: =TRUNC(단가대비표!P42,0) -> 0 | H86: =TRUNC(G86*D86, 0) -> 0 | I86: =TRUNC(단가대비표!V42,0) -> 0 | J86: =TRUNC(I86*D86, 0) -> 0 | K86: =TRUNC(E86+G86+I86, 0) -> 990000 | L86: =TRUNC(F86+H86+J86, 0) -> 99000 | N86: 5FF645E7FE262481D970196E2594175CEF80AA | Q86: 010104 | R86: F | S86: F | T86: T | AU86: 0101045FF645E7FE262481D970196E2594175CEF80AA | AV86: 38
A87: 고장력볼트 | B87: 고장력볼트, F10T, M20*65mm | C87: 조 | D87: 392 | E87: =TRUNC(단가대비표!O85,0) -> 931 | F87: =TRUNC(E87*D87, 0) -> 364952 | G87: =TRUNC(단가대비표!P85,0) -> 0 | H87: =TRUNC(G87*D87, 0) -> 0 | I87: =TRUNC(단가대비표!V85,0) -> 0 | J87: =TRUNC(I87*D87, 0) -> 0 | K87: =TRUNC(E87+G87+I87, 0) -> 931 | L87: =TRUNC(F87+H87+J87, 0) -> 364952 | N87: 5FF6558D4723278EAE29B86AE13B8CD5B0CB99 | Q87: 010104 | R87: F | S87: F | T87: T | AU87: 0101045FF6558D4723278EAE29B86AE13B8CD5B0CB99 | AV87: 39
A88: 철골 세우기 - 트럭 탑재령 크레인 15ton | B88: 소규모 건물 | C88: TON | D88: 8.8 | E88: =TRUNC(일위대가목록!E16,0) -> 19247 | F88: =TRUNC(E88*D88, 0) -> 169373 | G88: =TRUNC(일위대가목록!F16,0) -> 36238 | H88: =TRUNC(G88*D88, 0) -> 318894 | I88: =TRUNC(일위대가목록!G16,0) -> 25061 | J88: =TRUNC(I88*D88, 0) -> 220536 | K88: =TRUNC(E88+G88+I88, 0) -> 80546 | L88: =TRUNC(F88+H88+J88, 0) -> 708803 | M88: 호표 13 | N88: 58DD251D59202A84957DF56A970E29 | Q88: 010104 | R88: T | S88: F | T88: F | AU88: 01010458DD251D59202A84957DF56A970E29 | AV88: 40
A89: 앵커 볼트 설치 | B89: ∮20*L:600 | C89: 개 | D89: 48 | E89: =TRUNC(일위대가목록!E17,0) -> 6600 | F89: =TRUNC(E89*D89, 0) -> 316800 | G89: =TRUNC(일위대가목록!F17,0) -> 24565 | H89: =TRUNC(G89*D89, 0) -> 1179120 | I89: =TRUNC(일위대가목록!G17,0) -> 491 | J89: =TRUNC(I89*D89, 0) -> 23568 | K89: =TRUNC(E89+G89+I89, 0) -> 31656 | L89: =TRUNC(F89+H89+J89, 0) -> 1519488 | M89: 호표 14 | N89: 58DD65BBEF2B2C8A475DDF6934B0D5 | Q89: 010104 | R89: T | S89: F | T89: F | AU89: 01010458DD65BBEF2B2C8A475DDF6934B0D5 | AV89: 41
A90: 철골 가공 조립(적은 구조) | B90: Rolled shape, 60ton 미만 | C90: TON | D90: 6.6 | E90: =TRUNC(일위대가목록!E18,0) -> 17488 | F90: =TRUNC(E90*D90, 0) -> 115420 | G90: =TRUNC(일위대가목록!F18,0) -> 354212 | H90: =TRUNC(G90*D90, 0) -> 2337799 | I90: =TRUNC(일위대가목록!G18,0) -> 212527 | J90: =TRUNC(I90*D90, 0) -> 1402678 | K90: =TRUNC(E90+G90+I90, 0) -> 584227 | L90: =TRUNC(F90+H90+J90, 0) -> 3855897 | M90: 호표 15 | N90: 58DD65BAC92B288244460167D4FF5D | Q90: 010104 | R90: T | S90: F | T90: F | AU90: 01010458DD65BAC92B288244460167D4FF5D | AV90: 42
A91: 부대철골 설치 | C91: TON | D91: 2.3 | E91: =TRUNC(일위대가목록!E19,0) -> 71540 | F91: =TRUNC(E91*D91, 0) -> 164542 | G91: =TRUNC(일위대가목록!F19,0) -> 604632 | H91: =TRUNC(G91*D91, 0) -> 1390653 | I91: =TRUNC(일위대가목록!G19,0) -> 226110 | J91: =TRUNC(I91*D91, 0) -> 520053 | K91: =TRUNC(E91+G91+I91, 0) -> 902282 | L91: =TRUNC(F91+H91+J91, 0) -> 2075248 | M91: 호표 16 | N91: 58DD65BD9C27218C24F2EE6433A46F | Q91: 010104 | R91: T | S91: F | T91: F | AU91: 01010458DD65BD9C27218C24F2EE6433A46F | AV91: 43
A92: 철골세우기 - 표준단가 | B92: 6층 미만 | C92: TON | D92: 6.6 | E92: =TRUNC(일위대가목록!E20,0) -> 0 | F92: =TRUNC(E92*D92, 0) -> 0 | G92: =TRUNC(일위대가목록!F20,0) -> 126190 | H92: =TRUNC(G92*D92, 0) -> 832854 | I92: =TRUNC(일위대가목록!G20,0) -> 0 | J92: =TRUNC(I92*D92, 0) -> 0 | K92: =TRUNC(E92+G92+I92, 0) -> 126190 | L92: =TRUNC(F92+H92+J92, 0) -> 832854 | M92: 호표 17 | N92: 58DD65BCF72B2586C51EBE6382BC80 | Q92: 010104 | R92: T | S92: F | T92: F | AU92: 01010458DD65BCF72B2586C51EBE6382BC80 | AV92: 44
A93: 고장력 볼트 본조임 - 표준단가 | B93: 30본/t 미만 | C93: TON | D93: 6.6 | E93: =TRUNC(일위대가목록!E21,0) -> 0 | F93: =TRUNC(E93*D93, 0) -> 0 | G93: =TRUNC(일위대가목록!F21,0) -> 123550 | H93: =TRUNC(G93*D93, 0) -> 815430 | I93: =TRUNC(일위대가목록!G21,0) -> 3706 | J93: =TRUNC(I93*D93, 0) -> 24459 | K93: =TRUNC(E93+G93+I93, 0) -> 127256 | L93: =TRUNC(F93+H93+J93, 0) -> 839889 | M93: 호표 18 | N93: 58DD65BCFC2326880CF65F6843EB9E | Q93: 010104 | R93: T | S93: F | T93: F | AU93: 01010458DD65BCFC2326880CF65F6843EB9E | AV93: 45
Q94: 010104
Q95: 010104
Q96: 010104
Q97: 010104
Q98: 010104
A99: [ 합 계 ] | F99: =SUMIF(Q77:Q98,"010104",F77:F98) -> 12427969 | H99: =SUMIF(Q77:Q98,"010104",H77:H98) -> 6874750 | J99: =SUMIF(Q77:Q98,"010104",J77:J98) -> 2191294 | L99: =SUMIF(Q77:Q98,"010104",L77:L98) -> 21494013 | N99: TOTAL
A100: 타 일 공 사 | Q100: 010105
A101: 도기질타일 접착 붙이기 (줄눈설치+접착제포함). | B101: 벽, 300*300 | C101: m2 | D101: 30.1 | E101: =TRUNC(일위대가목록!E22,0) -> 16343 | F101: =TRUNC(E101*D101, 0) -> 491924 | G101: =TRUNC(일위대가목록!F22,0) -> 31294 | H101: =TRUNC(G101*D101, 0) -> 941949 | I101: =TRUNC(일위대가목록!G22,0) -> 823 | J101: =TRUNC(I101*D101, 0) -> 24772 | K101: =TRUNC(E101+G101+I101, 0) -> 48460 | L101: =TRUNC(F101+H101+J101, 0) -> 1458645 | M101: 호표 19 | N101: 58DDE56EBA252A8EB88DB1688896BB | Q101: 010105 | R101: T | S101: F | T101: F | AU101: 01010558DDE56EBA252A8EB88DB1688896BB | AV101: 47
A102: 자기질타일 압착붙이기(바탕 24mm+압 5mm) | B102: 바닥, 300*300(타일C, 백색줄눈), (6.2M2) | C102: 일당 | D102: 1 | E102: =TRUNC(일위대가목록!E23,0) -> 131067 | F102: =TRUNC(E102*D102, 0) -> 131067 | G102: =TRUNC(일위대가목록!F23,0) -> 601662 | H102: =TRUNC(G102*D102, 0) -> 601662 | I102: =TRUNC(일위대가목록!G23,0) -> 13704 | J102: =TRUNC(I102*D102, 0) -> 13704 | K102: =TRUNC(E102+G102+I102, 0) -> 746433 | L102: =TRUNC(F102+H102+J102, 0) -> 746433 | M102: 호표 20 | N102: 58DDE56EB82A2B86BECAFD69F617AE | Q102: 010105 | R102: T | S102: F | T102: F | AU102: 01010558DDE56EB82A2B86BECAFD69F617AE | AV102: 48
Q103: 010105
Q104: 010105
Q105: 010105
...

Sheet 일위대가목록
B1: 일 위 대 가 목 록
B2: [ 하동군 옥종면 병천리 228-3번지 제조업소 신축공사 ]
A3: 코 드 | B3: 품 명 | C3: 규 격 | D3: 단위 | E3: 재 료 비 | F3: 노 무 비 | G3: 경 비 | H3: 합 계 | I3: 번 호 | J3: 비 고 | K3: 노임계수 | L3: 할증 | M3: 품셈개요 | N3: 장비일위
A4: 58DD251F0B24238AECACBA659862FD | B4: 강관 조립말비계(이동식)설치 및 해체 | C4: 높이 2m, 3개월 | D4: 대 | E4: =일위대가!F12 -> 39087 | F4: =일위대가!H12 -> 86062 | G4: =일위대가!J12 -> 0 | H4: =E4+F4+G4 -> 125149 | I4: 호표 1 | M4: 공통 2-7-6, 2-2-5
A5: 58DD251F0B24238AFD4F536CED401A | B5: 목재 평 규준틀 설치 및 철거 | D5: 개소 | E5: =일위대가!F18 -> 8001 | F5: =일위대가!H18 -> 84872 | G5: =일위대가!J18 -> 0 | H5: =E5+F5+G5 -> 92873 | I5: 호표 2 | M5: 공통 2-5-4, 2-2-7
A6: 58DD251F0B24238AFD4F536FA10601 | B6: 목재 귀 규준틀 설치 및 철거 | D6: 개소 | E6: =일위대가!F24 -> 12574 | F6: =일위대가!H24 -> 146258 | G6: =일위대가!J24 -> 0 | H6: =E6+F6+G6 -> 158832 | I6: 호표 3 | M6: 공통 2-5-4, 2-2-7
A7: 58DD251A862B2283AC667068E7DA9B | B7: 건축물 현장정리 | C7: 목조, 철골조, 조적조 | D7: M2 | E7: =일위대가!F28 -> 0 | F7: =일위대가!H28 -> 7829 | G7: =일위대가!J28 -> 0 | H7: =E7+F7+G7 -> 7829 | I7: 호표 4 | M7: 공통 2-11-2
A8: 58DD251A852A2D8F4FE7EE6A949A1D | B8: 먹매김 | C8: 구조부,거푸집 | D8: M2 | E8: =일위대가!F33 -> 0 | F8: =일위대가!H33 -> 4294 | G8: =일위대가!J33 -> 0 | H8: =E8+F8+G8 -> 4294 | I8: 호표 5
A9: 58DD251A832F2E8733B63F6A5A9915 | B9: 준공청소 | D9: M2 | E9: =일위대가!F37 -> 0 | F9: =일위대가!H37 -> 3131 | G9: =일위대가!J37 -> 0 | H9: =E9+F9+G9 -> 3131 | I9: 호표 6 | M9: 공통 2-11-3
A10: 58DD05D00E2A2980B20C2D6FF74E94 | B10: 잡석지정 | C10: 굴삭기 0.2m3+진동롤러(핸드가이드식) | D10: M3 | E10: =일위대가!F43 -> 23961 | F10: =일위대가!H43 -> 6596 | G10: =일위대가!J43 -> 1140 | H10: =E10+F10+G10 -> 31697 | I10: 호표 7
A11: 58DDC52612202F8D31898660450B30 | B11: 방습필름 설치 - 기초바닥 | C11: 폴리에틸렌필름, 두께, 0.05mm, 2겹 | D11: M2 | E11: =일위대가!F48 -> 708 | F11: =일위대가!H48 -> 1324 | G11: =일위대가!J48 -> 0 | H11: =E11+F11+G11 -> 2032 | I11: 호표 8
A12: 58DD75A1062F2B89DE705669C6B90C | B12: 유로폼 설치 및 해체 | C12: 3회, 간단, 수직고 7m까지 | D12: M2 | E12: =일위대가!F53 -> 3967 | F12: =일위대가!H53 -> 29010 | G12: =일위대가!J53 -> 870 | H12: =E12+F12+G12 -> 33847 | I12: 호표 9 | M12: 공통 6-3-3
A13: 58DD75A22820238CC2C7C4684ECDB2 | B13: 철근 현장가공 및 현장조립.. | C13: Type-Ⅱ | D13: TON | E13: =일위대가!F58 -> 12432 | F13: =일위대가!H58 -> 815192 | G13: =일위대가!J58 -> 31856 | H13: =E13+F13+G13 -> 859480 | I13: 호표 10
A14: 58DD75A682262D8CB61E826F0B783C | B14: 콘크리트 펌프차 타설(무근).. | C14: slump 8~12cm, 매트기초 등, f2 : Type-Ⅱ, 36m,(10.8M3) | D14: 일당 | E14: =일위대가!F62 -> 208214 | F14: =일위대가!H62 -> 894875 | G14: =일위대가!J62 -> 394098 | H14: =E14+F14+G14 -> 1497187 | I14: 호표 11
A15: 58DD75A681242386EA158065546477 | B15: 콘크리트 펌프차 타설.. | C15: slump 15cm, 매트기초 등, f2 : Type-Ⅱ, 36m,(66.8M3) | D15: 일당 | E15: =일위대가!F66 -> 214437 | F15: =일위대가!H66 -> 1019336 | G15: =일위대가!J66 -> 400321 | H15: =E15+F15+G15 -> 1634094 | I15: 호표 12
A16: 58DD251D59202A84957DF56A970E29 | B16: 철골 세우기 - 트럭 탑재령 크레인 15ton | C16: 소규모 건물 | D16: TON | E16: =일위대가!F70 -> 19247 | F16: =일위대가!H70 -> 36238 | G16: =일위대가!J70 -> 25061 | H16: =E16+F16+G16 -> 80546 | I16: 호표 13 | M16: 건축 1-2-3
A17: 58DD65BBEF2B2C8A475DDF6934B0D5 | B17: 앵커 볼트 설치 | C17: ∮20*L:600 | D17: 개 | E17: =일위대가!F77 -> 6600 | F17: =일위대가!H77 -> 24565 | G17: =일위대가!J77 -> 491 | H17: =E17+F17+G17 -> 31656 | I17: 호표 14
A18: 58DD65BAC92B288244460167D4FF5D | B18: 철골 가공 조립(적은 구조) | C18: Rolled shape, 60ton 미만 | D18: TON | E18: =일위대가!F83 -> 17488 | F18: =일위대가!H83 -> 354212 | G18: =일위대가!J83 -> 212527 | H18: =E18+F18+G18 -> 584227 | I18: 호표 15 | M18: 건축 1-1-1, 1-1-2
A19: 58DD65BD9C27218C24F2EE6433A46F | B19: 부대철골 설치 | D19: TON | E19: =일위대가!F89 -> 71540 | F19: =일위대가!H89 -> 604632 | G19: =일위대가!J89 -> 226110 | H19: =E19+F19+G19 -> 902282 | I19: 호표 16 | M19: 건축 1-4-1
A20: 58DD65BCF72B2586C51EBE6382BC80 | B20: 철골세우기 - 표준단가 | C20: 6층 미만 | D20: TON | E20: =일위대가!F95 -> 0 | F20: =일위대가!H95 -> 126190 | G20: =일위대가!J95 -> 0 | H20: =E20+F20+G20 -> 126190 | I20: 호표 17 | M20: 건축 1-2-1
A21: 58DD65BCFC2326880CF65F6843EB9E | B21: 고장력 볼트 본조임 - 표준단가 | C21: 30본/t 미만 | D21: TON | E21: =일위대가!F101 -> 0 | F21: =일위대가!H101 -> 123550 | G21: =일위대가!J101 -> 3706 | H21: =E21+F21+G21 -> 127256 | I21: 호표 18 | M21: 건축 1-2-4
A22: 58DDE56EBA252A8EB88DB1688896BB | B22: 도기질타일 접착 붙이기 (줄눈설치+접착제포함). | C22: 벽, 300*300 | D22: m2 | E22: =일위대가!F108 -> 16343 | F22: =일위대가!H108 -> 31294 | G22: =일위대가!J108 -> 823 | H22: =E22+F22+G22 -> 48460 | I22: 호표 19
A23: 58DDE56EB82A2B86BECAFD69F617AE | B23: 자기질타일 압착붙이기(바탕 24mm+압 5mm) | C23: 바닥, 300*300(타일C, 백색줄눈), (6.2M2) | D23: 일당 | E23: =일위대가!F115 -> 131067 | F23: =일위대가!H115 -> 601662 | G23: =일위대가!J115 -> 13704 | H23: =E23+F23+G23 -> 746433 | I23: 호표 20
A24: 58DDC523592C278AAEE403674CB958 | B24: 걸레받이 설치 - 합성수지류.. | C24: 굽도리, 3.2*103mm, 이중구조, PVC | D24: M | E24: =일위대가!F121 -> 1691 | F24: =일위대가!H121 -> 3120 | G24: =일위대가!J121 -> 62 | H24: =E24+F24+G24 -> 4873 | I24: 호표 21
A25: 58DDC520892C2088854CA862C4B55F | B25: 도배바름(합판·석고보드면) | C25: 벽, 방염벽지,(22.1M2) | D25: 일당 | E25: =일위대가!F126 -> 159097 | F25: =일위대가!H126 -> 285419 | G25: =일위대가!J126 -> 0 | H25: =E25+F25+G25 -> 444516 | I25: 호표 22
A26: 58DDC520892C2088EFDED86F82E432 | B26: 도배바름(합판·석고보드면) | C26: 천장, 방염벽지,(12.1M2) | D26: 일당 | E26: =일위대가!F131 -> 87107 | F26: =일위대가!H131 -> 285419 | G26: =일위대가!J131 -> 0 | H26: =E26+F26+G26 -> 372526 | I26: 호표 23
A27: 58DDC5208E24238EDBA5DE67B457E1 | B27: 샌드위치(단열)페널 설치 - 외벽.. | C27: 준불연, T:125MM | D27: M2 | E27: =일위대가!F138 -> 53760 | F27: =일위대가!H138 -> 31205 | G27: =일위대가!J138 -> 624 | H27: =E27+F27+G27 -> 85589 | I27: 호표 24
A28: 58DDC5208E24238EDBA5DE67B457E3 | B28: 샌드위치(단열)페널 설치 - 처마 | C28: 1,000*5,500, T:50MM 샌드위치판넬 | D28: EA | E28: =일위대가!F148 -> 703896 | F28: =일위대가!H148 -> 436841 | G28: =일위대가!J148 -> 44650 | H28: =E28+F28+G28 -> 1185387 | I28: 호표 25
A29: 58DDC521AD21268ED926DA6AF00EE4 | B29: 석고판 설치(나사고정) - 바탕용 | C29: 천장, T:9.5 석고보드1겹 붙임, (12.1M2) | D29: 일당 | E29: =일위대가!F153 -> 3110 | F29: =일위대가!H153 -> 312054 | G29: =일위대가!J153 -> 3120 | H29: =E29+F29+G29 -> 318284 | I29: 호표 26
A30: 58DDC521AD21258C95C6276BBC19E5 | B30: 석고판 설치(접착제 붙임).. | C30: 벽, T:9.5석고보드 1겹, (22.1M2) | D30: 일당 | E30: =일위대가!F158 -> 114660 | F30: =일위대가!H158 -> 312054 | G30: =일위대가!J158 -> 3120 | H30: =E30+F30+G30 -> 429834 | I30: 호표 27
A31: 58DDC521AD21258C95C6276BBC19E7 | B31: 석고판 설치(접착제 붙임) | C31: 벽, T:9.5방수석고보드 1겹, (30.1M2) | D31: 일당 | E31: =일위대가!F163 -> 139541 | F31: =일위대가!H163 -> 312054 | G31: =일위대가!J163 -> 3120 | H31: =E31+F31+G31 -> 454715 | I31: 호표 28
A32: 58DDC52610242380B6C89B6D1BAA51 | B32: 기초 발포폴리스티렌 슬래브 위 깔기.. | C32: 비드법 2종, T:100mm | D32: M2 | E32: =일위대가!F168 -> 14712 | F32: =일위대가!H168 -> 2831 | G32: =일위대가!J168 -> 0 | H32: =E32+F32+G32 -> 17543 | I32: 호표 29
A33: 58DDB53D2A2627838B64C66846D926 | B33: 수밀코킹(실리콘) | C33: 삼각, 10mm, 창호주위 | D33: M | E33: =일위대가!F173 -> 622 | F33: =일위대가!H173 -> 4757 | G33: =일위대가!J173 -> 0 | H33: =E33+F33+G33 -> 5379 | I33: 호표 30 | M33: 건축 6-6-1
A34: 58DDB5321E21288B92DF41607DB7FC | B34: 시멘트 액체방수. | C34: 바닥 | D34: m2 | E34: =일위대가!F180 -> 3657 | F34: =일위대가!H180 -> 21843 | G34: =일위대가!J180 -> 655 | H34: =E34+F34+G34 -> 26155 | I34: 호표 31
A35: 58DDB5321D27228D6ACCF160C345FD | B35: 시멘트 액체방수. | C35: 벽 | D35: m2 | E35: =일위대가!F187 -> 2116 | F35: =일위대가!H187 -> 17161 | G35: =일위대가!J187 -> 514 | H35: =E35+F35+G35 -> 19791 | I35: 호표 32
A36: 58DD8586AA222E8E22C2A666B6032A | B36: 베이스찬넬 설치 | C36: C/S, ST'L 1.6T*230 | D36: M | E36: =일위대가!F192 -> 9166 | F36: =일위대가!H192 -> 4245 | G36: =일위대가!J192 -> 212 | H36: =E36+F36+G36 -> 13623 | I36: 호표 33
A37: 58DD8586AA222E8E22C2A666B60329 | B37: 톱찬넬 설치 | C37: C/S, T:0.5*230 | D37: M | E37: =일위대가!F197 -> 1550 | F37: =일위대가!H197 -> 4245 | G37: =일위대가!J197 -> 212 | H37: =E37+F37+G37 -> 6007 | I37: 호표 34
A38: 58DD8586AA222E8E22C2A666B60328 | B38: 코너후레싱 설치 | C38: C/S, T:0.5*400 | D38: M | E38: =일위대가!F202 -> 2695 | F38: =일위대가!H202 -> 4245 | G38: =일위대가!J202 -> 212 | H38: =E38+F38+G38 -> 7152 | I38: 호표 35
A39: 58DD8586AA222E8E22C2A666B6032F | B39: 처마후레싱 설치 | C39: C/S, T:0.5*350 | D39: M | E39: =일위대가!F207 -> 2358 | F39: =일위대가!H207 -> 4245 | G39: =일위대가!J207 -> 212 | H39: =E39+F39+G39 -> 6815 | I39: 호표 36
A40: 58DD8586AA222E8E22C2A666B6032D | B40: 물받이후레싱 설치 | C40: C/S, T:0.5*250*250 | D40: M | E40: =일위대가!F213 -> 7447 | F40: =일위대가!H213 -> 4245 | G40: =일위대가!J213 -> 212 | H40: =E40+F40+G40 -> 11904 | I40: 호표 37
A41: 58DD8585862D298A59CC6E674B6538 | B41: 선홈통(강관) 설치. | C41: 101.6mm, 스테인리스관 | D41: m | E41: =일위대가!F219 -> 21650 | F41: =일위대가!H219 -> 23434 | G41: =일위대가!J219 -> 468 | H41: =E41+F41+G41 -> 45552 | I41: 호표 38
A42: 58DD95E42A212E84A3A534675379A1 | B42: 경량철골천정틀. | C42: M-BAR, H:1m이상. 인써트 무 | D42: m2 | E42: =일위대가!F231 -> 8846 | F42: =일위대가!H231 -> 10375 | G42: =일위대가!J231 -> 622 | H42: =E42+F42+G42 -> 19843 | I42: 호표 39
A43: 58DDC52B902A2C804FE9B569A21FD8 | B43: AL몰딩 설치 | C43: L형, 19*19*1.0mm | D43: M | E43: =일위대가!F237 -> 2367 | F43: =일위대가!H237 -> 8180 | G43: =일위대가!J237 -> 327 | H43: =E43+F43+G43 -> 10874 | I43: 호표 40 | M43: 건축 8-1-5
A44: 58DD65BCFC23278A7DF5FC66CCC8B6 | B44: 주각부 무수축 모르타르 충전 | C44: 340*190*50mm, 재료비 포함 | D44: 개소 | E44: =일위대가!F242 -> 3023 | F44: =일위대가!H242 -> 48199 | G44: =일위대가!J242 -> 0 | H44: =E44+F44+G44 -> 51222 | I44: 호표 41
A45: 58DD65BCFC23278A7DF5FC66CCC8B5 | B45: 주각부 무수축 모르타르 충전 | C45: 230*190*50mm, 재료비 포함 | D45: 개소 | E45: =일위대가!F247 -> 2045 | F45: =일위대가!H247 -> 48199 | G45: =일위대가!J247 -> 0 | H45: =E45+F45+G45 -> 50244 | I45: 호표 42
A46: 58DD456D3A22288E0295DD62EB3A1C | B46: 모르타르 바름 | C46: 바닥, 50mm | D46: M2 | E46: =일위대가!F252 -> 6246 | F46: =일위대가!H252 -> 14712 | G46: =일위대가!J252 -> 211 | H46: =E46+F46+G46 -> 21169 | I46: 호표 43
A47: 58DD456D3F2A2F87E5EE4B6042DCF6 | B47: 표면 마무리 | C47: 기계마감 | D47: M2 | E47: =일위대가!F257 -> 0 | F47: =일위대가!H257 -> 555 | G47: =일위대가!J257 -> 49 | H47: =E47+F47+G47 -> 604 | I47: 호표 44 | M47: 건축 9-1-4
A48: 58DDF55077202D8E0CF7CA64055A4C | B48: 창호주위 발포우레탄 충전 | D48: M | E48: =일위대가!F262 -> 0 | F48: =일위대가!H262 -> 2488 | G48: =일위대가!J262 -> 0 | H48: =E48+F48+G48 -> 2488 | I48: 호표 45 | M48: 건축 9-3-2
A49: 58DDF557A320278C50742161369F45 | B49: HD01[건 축 공 사] | C49: 2.400 x 3.000 = 7.200 | D49: EA | E49: =일위대가!F270 -> 418793 | F49: =일위대가!H270 -> 266604 | G49: =일위대가!J270 -> 6581 | H49: =E49+F49+G49 -> 691978 | I49: 호표 46
A50: 58DDF557A320278C50742161369F47 | B50: HD02[건 축 공 사] | C50: 2.000 x 3.000 = 6.000 | D50: EA | E50: =일위대가!F278 -> 348031 | F50: =일위대가!H278 -> 212187 | G50: =일위대가!J278 -> 4987 | H50: =E50+F50+G50 -> 565205 | I50: 호표 47
A51: 58DDF557A320278C50742161369F41 | B51: PD01[건 축 공 사] | C51: 0.900 x 2.100 = 1.890 | D51: EA | E51: =일위대가!F286 -> 412900 | F51: =일위대가!H286 -> 87400 | G51: =일위대가!J286 -> 2690 | H51: =E51+F51+G51 -> 502990 | I51: 호표 48
A52: 58DDF557A320278C50742161369F43 | B52: PD02[건 축 공 사] | C52: 0.900 x 2.100 = 1.890 | D52: EA | E52: =일위대가!F294 -> 412900 | F52: =일위대가!H294 -> 87400 | G52: =일위대가!J294 -> 2690 | H52: =E52+F52+G52 -> 502990 | I52: 호표 49
A53: 58DDF557A320278C50742161369F4D | B53: PW01[건 축 공 사] | C53: 1.500 x 1.000 = 1.500 | D53: EA | E53: =일위대가!F299 -> 243150 | F53: =일위대가!H299 -> 0 | G53: =일위대가!J299 -> 0 | H53: =E53+F53+G53 -> 243150 | I53: 호표 50
A54: 58DDF557A320278C50742161369EBC | B54: PW02[건 축 공 사] | C54: 0.800 x 0.600 = 0.480 | D54: EA | E54: =일위대가!F304 -> 77808 | F54: =일위대가!H304 -> 0 | G54: =일위대가!J304 -> 0 | H54: =E54+F54+G54 -> 77808 | I54: 호표 51
A55: 58DDF557A320278C50742161369EBE | B55: SD01[건 축 공 사] | C55: 0.900 x 2.100 = 1.890 | D55: EA | E55: =일위대가!F314 -> 644951 | F55: =일위대가!H314 -> 137499 | G55: =일위대가!J314 -> 3882 | H55: =E55+F55+G55 -> 786332 | I55: 호표 52
A56: 58DDF557A320278C50742161369EB8 | B56: SD02[건 축 공 사] | C56: 0.900 x 2.100 = 1.890 | D56: EA | E56: =일위대가!F324 -> 644951 | F56: =일위대가!H324 -> 137499 | G56: =일위대가!J324 -> 3882 | H56: =E56+F56+G56 -> 786332 | I56: 호표 53
A57: 58DDF55ED22D2686D67D476F6D89DD | B57: 창호유리설치 / 복층유리 | C57: 유리두께 24mm 이하 | D57: M2 | E57: =일위대가!F329 -> 0 | F57: =일위대가!H329 -> 31740 | G57: =일위대가!J329 -> 0 | H57: =E57+F57+G57 -> 31740 | I57: 호표 54 | M57: 건축 10-3-1
A58: 58DDF55EDB232B84DD14996E590DEB | B58: 복층유리주위 코킹 | C58: 5*5, 실리콘 | D58: M | E58: =일위대가!F333 -> 311 | F58: =일위대가!H333 -> 0 | G58: =일위대가!J333 -> 0 | H58: =E58+F58+G58 -> 311 | I58: 호표 55 | M58: 건축 6-6-1
A59: 58DDD5098F2D24884729E765169AFD | B59: 녹막이페인트 붓칠(재료비포함) | C59: 철재면, 1회 1종 | D59: M2 | E59: =일위대가!F338 -> 894 | F59: =일위대가!H338 -> 4059 | G59: =일위대가!J338 -> 0 | H59: =E59+F59+G59 -> 4953 | I59: 호표 56
A60: 58DDD50A972E2C85D0E6B06EF93AA1 | B60: 유성페인트 붓칠(재료비포함) | C60: 철재면, 2회 1급 | D60: M2 | E60: =일위대가!F343 -> 1250 | F60: =일위대가!H343 -> 10826 | G60: =일위대가!J343 -> 0 | H60: =E60+F60+G60 -> 12076 | I60: 호표 57
A61: 58DDD50240262E890D299B698B1074 | B61: 에폭시 코팅 | C61: 하도1회, 퍼티 및 연마, 에폭시 페인트 2회칠 기준 | D61: M2 | E61: =일위대가!F348 -> 9867 | F61: =일위대가!H348 -> 10586 | G61: =일위대가!J348 -> 0 | H61: =E61+F61+G61 -> 20453 | I61: 호표 58
A62: 58DD75A682262D8CB61EBE63F15FA2 | B62: 콘크리트 펌프차 타설(무근).. | C62: slump 8~12cm, 포장, f2 : Type-Ⅰ, 36m, (2.4M3) | D62: 일당 | E62: =일위대가!F352 -> 104107 | F62: =일위대가!H352 -> 447437 | G62: =일위대가!J352 -> 197049 | H62: =E62+F62+G62 -> 748593 | I62: 호표 59
A63: 58DD75A681242386D98BBA66FFAEFB | B63: 콘크리트 펌프차 타설.. | C63: slump 8~12cm, 수로관덮개, f2 : Type-Ⅱ, 36m, (1.5M3) | D63: 일당 | E63: =일위대가!F356 -> 107218 | F63: =일위대가!H356 -> 509668 | G63: =일위대가!J356 -> 200160 | H63: =E63+F63+G63 -> 817046 | I63: 호표 60
A64: 58DD858584222B80A8D0F763EA1B3D | B64: PE빗물받이설치 | C64: 510*410*940, 토공사 포함 | D64: 개소 | E64: =일위대가!F365 -> 35485 | F64: =일위대가!H365 -> 39383 | G64: =일위대가!J365 -> 974 | H64: =E64+F64+G64 -> 75842 | I64: 호표 61
A65: 58DD858584222B80A8D0D464C8F700 | B65: 오수받이설치 | C65: ∮400*H600~800, 토공사 포함 | D65: 개소 | E65: =일위대가!F373 -> 219972 | F65: =일위대가!H373 -> 35901 | G65: =일위대가!J373 -> 649 | H65: =E65+F65+G65 -> 256522 | I65: 호표 62
A66: 58DC359A8123258168E37B6066A0E9 | B66: 오수관설치. | C66: Ø150 PVC,VG2 | D66: m | E66: =일위대가!F384 -> 18931 | F66: =일위대가!H384 -> 11726 | G66: =일위대가!J384 -> 636 | H66: =E66+F66+G66 -> 31293 | I66: 호표 63
A67: 58DC359A8123258168E37B6066A3BF | B67: 우수관설치. | C67: Ø150 PVC,VG1 | D67: M | E67: =일위대가!F395 -> 34848 | F67: =일위대가!H395 -> 11726 | G67: =일위대가!J395 -> 636 | H67: =E67+F67+G67 -> 47210 | I67: 호표 64
A68: 58DD251F0B24238AECACBA64F2812C | B68: 강관 조립말비계(이동식)설치 및 해체 | C68: 높이 2m, 노무비 | D68: 대 | E68: =일위대가!F400 -> 0 | F68: =일위대가!H400 -> 86062 | G68: =일위대가!J400 -> 0 | H68: =E68+F68+G68 -> 86062 | I68: 호표 65 | M68: 공통 2-7-6
A69: 58DD251A852A2D8F4FE7C36D00FAEA | B69: 구조부 먹매김 | C69: 일반 | D69: M2 | E69: =일위대가!F404 -> 0 | F69: =일위대가!H404 -> 1263 | G69: =일위대가!J404 -> 0 | H69: =E69+F69+G69 -> 1263 | I69: 호표 66 | M69: 건축 4-1-1
A70: 58DD251A852A2D8F4FE7EE6A949A1E | B70: 거푸집 먹매김 | C70: 일반 | D70: M2 | E70: =일위대가!F408 -> 0 | F70: =일위대가!H408 -> 3031 | G70: =일위대가!J408 -> 0 | H70: =E70+F70+G70 -> 3031 | I70: 호표 67 | M70: 건축 4-1-1
A71: 5FCAF518192A26860142246117B06F5331AC363A | B71: 굴착기(무한궤도) | C71: 0.2㎥ | D71: HR | E71: =일위대가!F415 -> 11027 | F71: =일위대가!H415 -> 53708 | G71: =일위대가!J415 -> 13873 | H71: =E71+F71+G71 -> 78608 | I71: 호표 68 | K71: A | M71: 공통 8-3,4(0201) | N71: T
A72: 5FCAF518192A2780A5296463E2E56396EB3B620C | B72: 진동롤러(핸드가이드식) | C72: 0.7ton | D72: HR | E72: =일위대가!F422 -> 4531 | F72: =일위대가!H422 -> 32986 | G72: =일위대가!J422 -> 1967 | H72: =E72+F72+G72 -> 39484 | I72: 호표 69 | K72: A | M72: 공통 8-3,4(1305) | N72: T
A73: 58DDC52612202F8D16A3C969F154D2 | B73: 방습필름 설치 | C73: 바닥 | D73: M2 | E73: =일위대가!F427 -> 0 | F73: =일위대가!H427 -> 1325 | G73: =일위대가!J427 -> 0 | H73: =E73+F73+G73 -> 1325 | I73: 호표 70 | M73: 건축 5-4-8
A74: 5FCAF518192A26860142246117B5D1B5D1F21259 | B74: 굴착기(무한궤도) | C74: 0.7㎥ | D74: HR | E74: =일위대가!F434 -> 25795 | F74: =일위대가!H434 -> 53708 | G74: =일위대가!J434 -> 24554 | H74: =E74+F74+G74 -> 104057 | I74: 호표 71 | K74: A | M74: 공통 8-3,4(0201) | N74: T
A75: 5FCAF518192A268648FC946DC82B74EF00D60EF3 | B75: 덤프트럭 | C75: 15ton | D75: HR | E75: =일위대가!F441 -> 39994 | F75: =일위대가!H441 -> 53708 | G75: =일위대가!J441 -> 20659 | H75: =E75+F75+G75 -> 114361 | I75: 호표 72 | K75: A | M75: 공통 8-3,4(0602) | N75: T
A76: 5FCAF518192A268648E243616BB74AF4B4A904A0 | B76: 덤프트럭 자동덮개시설 | C76: 15ton | D76: HR | E76: =일위대가!F445 -> 0 | F76: =일위대가!H445 -> 0 | G76: =일위대가!J445 -> 438 | H76: =E76+F76+G76 -> 438 | I76: 호표 73 | K76: A | M76: 공통 8-3(0610) | N76: T
A77: 5FCAF518192A2780FD760D693C31625E53132D88 | B77: 래머 | C77: 80kg | D77: HR | E77: =일위대가!F452 -> 1406 | F77: =일위대가!H452 -> 32986 | G77: =일위대가!J452 -> 525 | H77: =E77+F77+G77 -> 34917 | I77: 호표 74 | K77: A | M77: 공통 8-3,4(1630) | N77: T
A78: 5FCAF518192A2780A5295B6C116DAC3A0EBF8315 | B78: 진동롤러(자주식) | C78: 10ton | D78: HR | E78: =일위대가!F459 -> 34121 | F78: =일위대가!H459 -> 53708 | G78: =일위대가!J459 -> 26662 | H78: =E78+F78+G78 -> 114491 | I78: 호표 75 | K78: A | M78: 공통 8-3,4(1306) | N78: T
A79: 5FCAF518192A2780D271E96A9983F9BBE1171285 | B79: 타이어 롤러(자주식) | C79: 8∼15ton | D79: HR | E79: =일위대가!F466 -> 17935 | F79: =일위대가!H466 -> 53708 | G79: =일위대가!J466 -> 19136 | H79: =E79+F79+G79 -> 90779 | I79: 호표 76 | K79: A | M79: 공통 8-3,4(1406) | N79: T
A80: 5FCAF518192A218E2B5D6662C6843F6C1EC9F36F | B80: 물탱크(살수차) | C80: 5500L | D80: HR | E80: =일위대가!F473 -> 22036 | F80: =일위대가!H473 -> 45298 | G80: =일위대가!J473 -> 9986 | H80: =E80+F80+G80 -> 77320 | I80: 호표 77 | K80: A | M80: 공통 8-3,4(7204) | N80: T
A81: 5FCAF518192A268648FC946DCBE24E86358C7958 | B81: 덤프트럭 | C81: 20ton | D81: HR | E81: =일위대가!F480 -> 50307 | F81: =일위대가!H480 -> 53708 | G81: =일위대가!J480 -> 28383 | H81: =E81+F81+G81 -> 132398 | I81: 호표 78 | K81: A | M81: 공통 8-3,4(0602) | N81: T
A82: 5FCAF518192A268648E2436168FE01EC85C04056 | B82: 덤프트럭 자동덮개시설 | C82: 20ton | D82: HR | E82: =일위대가!F484 -> 0 | F82: =일위대가!H484 -> 0 | G82: =일위대가!J484 -> 473 | H82: =E82+F82+G82 -> 473 | I82: 호표 79 | K82: A | M82: 공통 8-3(0610) | N82: T
A83: 58DD75A1062F2B89DE67E9664008ED | B83: 유로폼 - 재료비 | C83: 3회, 간단 | D83: 10M2 | E83: =일위대가!F489 -> 39671 | F83: =일위대가!H489 -> 0 | G83: =일위대가!J489 -> 0 | H83: =E83+F83+G83 -> 39671 | I83: 호표 80 | M83: 공통 6-3-3.2
A84: 58DD75A1062F2B89DE67CE698BE21E | B84: 유로폼 - 인력투입 | C84: 간단, 수직고 7m까지 | D84: M2 | E84: =일위대가!F495 -> 0 | F84: =일위대가!H495 -> 29011 | G84: =일위대가!J495 -> 870 | H84: =E84+F84+G84 -> 29881 | I84: 호표 81 | M84: 공통 6-3-3.3
A85: 58DD75A22820238CC2C7C4684FD54C | B85: 철근 현장가공 | C85: Type-Ⅱ | D85: TON | E85: =일위대가!F501 -> 0 | F85: =일위대가!H501 -> 222183 | G85: =일위대가!J501 -> 19996 | H85: =E85+F85+G85 -> 242179 | I85: 호표 82 | M85: 공통 6-2-2
A86: 58DD75A22820238CC2C7C4684FD653 | B86: 철근 현장조립 | C86: Type-Ⅱ | D86: TON | E86: =일위대가!F508 -> 12432 | F86: =일위대가!H508 -> 593010 | G86: =일위대가!J508 -> 11860 | H86: =E86+F86+G86 -> 617302 | I86: 호표 83 | M86: 공통 6-2-3
A87: 58DD75A682262D8C9B14316735C81F | B87: 콘크리트 펌프차 타설(무근) - 매트기초 등 | C87: slump 8~12cm, f2 : Type-Ⅱ, 36m, 182.0㎥/일당 | D87: 일당 | E87: =일위대가!F518 -> 416428 | F87: =일위대가!H518 -> 1789751 | G87: =일위대가!J518 -> 788196 | H87: =E87+F87+G87 -> 2994375 | I87: 호표 84 | M87: 공통 6-1-4
A88: 5FCAF518192A228828F813624DD256195DF74D0B | B88: 콘크리트 펌프차 | C88: 36m(80∼95㎥/hr) | D88: HR | E88: =일위대가!F525 -> 43553 | F88: =일위대가!H525 -> 53708 | G88: =일위대가!J525 -> 90024 | H88: =E88+F88+G88 -> 187285 | I88: 호표 85 | K88: A | M88: 공통 8-3,4(4504) | N88: T
A89: 58DD75A681242386F446CA69936D52 | B89: 콘크리트 펌프차 타설 - 매트기초 등 | C89: slump 15cm, f2 : Type-Ⅱ, 36m, 182.0㎥/일당 | D89: 일당 | E89: =일위대가!F535 -> 428874 | F89: =일위대가!H535 -> 2038672 | G89: =일위대가!J535 -> 800642 | H89: =E89+F89+G89 -> 3268188 | I89: 호표 86 | M89: 공통 6-1-4
A90: 5FCAF518192A248B50C5F0689389EABBAFABA446 | B90: 트럭탑재형 크레인 | C90: 15ton | D90: HR | E90: =일위대가!F542 -> 24059 | F90: =일위대가!H542 -> 45298 | G90: =일위대가!J542 -> 31327 | H90: =E90+F90+G90 -> 100684 | I90: 호표 87 | K90: A | M90: 공통 8-3,4(2105) | N90: T
A91: 58DD65BAC92B288244460166CD8C5F | B91: 철골공수 산정방법<소요 부자재량> | C91: H형강부재(Rolled shape) | D91: TON | E91: =일위대가!F549 -> 17488 | F91: =일위대가!H549 -> 0 | G91: =일위대가!J549 -> 0 | H91: =E91+F91+G91 -> 17488 | I91: 호표 88 | M91: 건축 1-1-2
A92: 5FCAF518192A248B50C5E66129FDA9C0BCC339E3 | B92: 크레인(타이어) | C92: 50ton | D92: HR | E92: =일위대가!F556 -> 28616 | F92: =일위대가!H556 -> 53708 | G92: =일위대가!J556 -> 90444 | H92: =E92+F92+G92 -> 172768 | I92: 호표 89 | K92: A | M92: 공통 8-3,4(2104) | N92: T
A93: 58DDE56EBA252A8EB88DB16888914D | B93: 타일 접착 붙이기 | C93: 재료비 | D93: m2 | E93: =일위대가!F561 -> 3983 | F93: =일위대가!H561 -> 0 | G93: =일위대가!J561 -> 0 | H93: =E93+F93+G93 -> 3983 | I93: 호표 90
A94: 58DDE56EBA252A8EB88DB16B5C70DC | B94: 타일 붙임 / 접착 붙이기 | C94: 벽, 타일 0.04∼0.10m2 이하, 25m2/일당 | D94: M2 | E94: =일위대가!F567 -> 0 | F94: =일위대가!H567 -> 27443 | G94: =일위대가!J567 -> 823 | H94: =E94+F94+G94 -> 28266 | I94: 호표 91 | M94: 건축 3-2-3
A95: 58DDE56EBA252188E206726F274269 | B95: 타일줄눈 설치 / 벽면 | C95: 타일규격 m2, 0.04 ~ 0.10 이하 | D95: M2 | E95: =일위대가!F571 -> 0 | F95: =일위대가!H571 -> 3852 | G95: =일위대가!J571 -> 0 | H95: =E95+F95+G95 -> 3852 | I95: 호표 92 | M95: 건축 3-1-2
A96: 58DD456D3A222B8B7403FC610A4440 | B96: 모르타르 배합(배합품 포함) | C96: 배합용적비 1:3, 시멘트, 모래 | D96: M3 | E96: =일위대가!F577 -> 156160 | F96: =일위대가!H577 -> 103344 | G96: =일위대가!J577 -> 0 | H96: =E96+F96+G96 -> 259504 | I96: 호표 93 | M96: 건축 9-1-1
A97: 58DDE56EBA252883C491446906B6AF | B97: 바탕 고르기 | C97: 바닥, 24mm 이하 기준, 62m2/일당 | D97: 일당 | E97: =일위대가!F583 -> 0 | F97: =일위대가!H583 -> 661224 | G97: =일위대가!J583 -> 13224 | H97: =E97+F97+G97 -> 674448 | I97: 호표 94 | M97: 건축 3-1-1
A98: 58DDE56EB82A2B86BEDB0A64F84823 | B98: 압착 붙이기, 바닥면, 바름두께 5mm | C98: 0.04∼0.10 이하, 타일C, 백색줄눈 | D98: M2 | E98: =일위대가!F590 -> 1942 | F98: =일위대가!H590 -> 41237 | G98: =일위대가!J590 -> 1144 | H98: =E98+F98+G98 -> 44323 | I98: 호표 95 | M98: 건축 3-2-2, -1-2
A99: 58DDE56EB82A2B86AC2CC166A46DE8 | B99: 타일 붙임 / 압착 붙이기 | C99: 바닥, 타일 0.04 ~ 0.10m2 이하, 18m2/일당 | D99: M2 | E99: =일위대가!F596 -> 0 | F99: =일위대가!H596 -> 38156 | G99: =일위대가!J596 -> 1144 | H99: =E99+F99+G99 -> 39300 | I99: 호표 96 | M99: 건축 3-2-2
A100: 58DDE56EBA252188E206726F22C135 | B100: 타일줄눈 설치 / 바닥면 | C100: 타일규격 m2, 0.04 ∼ 0.10 이하 | D100: M2 | E100: =일위대가!F600 -> 0 | F100: =일위대가!H600 -> 3081 | G100: =일위대가!J600 -> 0 | H100: =E100+F100+G100 -> 3081 | I100: 호표 97 | M100: 건축 3-1-2
...

Sheet 일위대가
A1: [ 하동군 옥종면 병천리 228-3번지 제조업소 신축공사 ]
A2: 품 명 | B2: 규 격 | C2: 단위 | D2: 수량 | E2: 재 료 비 | G2: 노 무 비 | I2: 경 비 | K2: 합 계 | M2: 비 고 | N2: 일위대가 | O2: 품목코드 | P2: 일위 | Q2: 단산 | R2: 자재 | S2: 손료적용 | T2: 손료저장 | U2: 적용율 | V2: JUK1 | W2: JUK2 | X2: JUK3 | Y2: JUK4 | Z2: JUK5 | AA2: JUK6 | AB2: JUK7 | AC2: JUK8 | AD2: JUK9 | AE2: JUK10 | AF2: JUK11 | AG2: JUK12 | AH2: JUK13 | AI2: JUK14 | AJ2: JUK15 | AK2: JUK16 | AL2: JUK17 | AM2: JUK18 | AN2: JUK19 | AO2: JUK20 | AP2: 할증적용 | AQ2: 할증저장 | AR2: 할증율 | AS2: HAL1 | AT2: HAL2 | AU2: HAL3 | AV2: 자재구분 | AW2: 일위대가+자재 | AX2: 장비일위 | AY2: 설정 | AZ2: 할증체크
E3: 단 가 | F3: 금 액 | G3: 단 가 | H3: 금 액 | I3: 단 가 | J3: 금 액 | K3: 단 가 | L3: 금 액
A4: 강관 조립말비계(이동식)설치 및 해체 높이 2m, 3개월 대 공통 2-7-6, 2-2-5 ( 호표 1 ) | N4: 58DD251F0B24238AECACBA659862FD
A5: 비계안정장치 | B5: 비계안정장치, 비계기본틀, 기둥, 1.2*1.7m | C5: 개 | D5: 0.14 | E5: =단가대비표!O77 -> 27739 | F5: =TRUNC(E5*D5,1) -> 3883.4 | G5: 0 | H5: =TRUNC(G5*D5,1) -> 0 | I5: =단가대비표!V77 -> 0 | J5: =TRUNC(I5*D5,1) -> 0 | K5: =TRUNC(E5+G5+I5,1) -> 27739 | L5: =TRUNC(F5+H5+J5,1) -> 3883.4 | N5: 58DD251F0B24238AECACBA659862FD | O5: 5FF645E7F7232685144F33651DEB937EB20A4E | P5: F | Q5: F | R5: T | AW5: 58DD251F0B24238AECACBA659862FD5FF645E7F7232685144F33651DEB937EB20A4E
A6: 비계안정장치 | B6: 비계안정장치, 가새, 1.2*1.9m | C6: 개 | D6: 0.14 | E6: =단가대비표!O78 -> 9246 | F6: =TRUNC(E6*D6,1) -> 1294.4 | G6: 0 | H6: =TRUNC(G6*D6,1) -> 0 | I6: =단가대비표!V78 -> 0 | J6: =TRUNC(I6*D6,1) -> 0 | K6: =TRUNC(E6+G6+I6,1) -> 9246 | L6: =TRUNC(F6+H6+J6,1) -> 1294.4 | N6: 58DD251F0B24238AECACBA659862FD | O6: 5FF645E7F7232685144F33651DEB937EB20A40 | P6: F | Q6: F | R6: T | AW6: 58DD251F0B24238AECACBA659862FD5FF645E7F7232685144F33651DEB937EB20A40
A7: 비계안정장치 | B7: 비계안정장치, 수평띠장, 1829mm | C7: 개 | D7: 0.28 | E7: =단가대비표!O79 -> 25000 | F7: =TRUNC(E7*D7,1) -> 7000 | G7: 0 | H7: =TRUNC(G7*D7,1) -> 0 | I7: =단가대비표!V79 -> 0 | J7: =TRUNC(I7*D7,1) -> 0 | K7: =TRUNC(E7+G7+I7,1) -> 25000 | L7: =TRUNC(F7+H7+J7,1) -> 7000 | N7: 58DD251F0B24238AECACBA659862FD | O7: 5FF645E7F7232685144F33651DEB937EB205C5 | P7: F | Q7: F | R7: T | AW7: 58DD251F0B24238AECACBA659862FD5FF645E7F7232685144F33651DEB937EB205C5
A8: 비계안정장치 | B8: 비계안정장치, 바퀴 | C8: 개 | D8: 0.36 | E8: =단가대비표!O80 -> 9500 | F8: =TRUNC(E8*D8,1) -> 3420 | G8: 0 | H8: =TRUNC(G8*D8,1) -> 0 | I8: =단가대비표!V80 -> 0 | J8: =TRUNC(I8*D8,1) -> 0 | K8: =TRUNC(E8+G8+I8,1) -> 9500 | L8: =TRUNC(F8+H8+J8,1) -> 3420 | N8: 58DD251F0B24238AECACBA659862FD | O8: 5FF645E7F7232685144F33651DEB937EB205C1 | P8: F | Q8: F | R8: T | AW8: 58DD251F0B24238AECACBA659862FD5FF645E7F7232685144F33651DEB937EB205C1
A9: 비계안정장치 | B9: 비계안정장치, 쟈키 | C9: 개 | D9: 0.36 | E9: =단가대비표!O81 -> 11000 | F9: =TRUNC(E9*D9,1) -> 3960 | G9: 0 | H9: =TRUNC(G9*D9,1) -> 0 | I9: =단가대비표!V81 -> 0 | J9: =TRUNC(I9*D9,1) -> 0 | K9: =TRUNC(E9+G9+I9,1) -> 11000 | L9: =TRUNC(F9+H9+J9,1) -> 3960 | N9: 58DD251F0B24238AECACBA659862FD | O9: 5FF645E7F7232685144F33651DEB937EB205C0 | P9: F | Q9: F | R9: T | AW9: 58DD251F0B24238AECACBA659862FD5FF645E7F7232685144F33651DEB937EB205C0
A10: 안전발판 | B10: PSP, 3040*420*3mm | C10: 매 | D10: 0.63 | E10: =단가대비표!O28 -> 31000 | F10: =TRUNC(E10*D10,1) -> 19530 | G10: 0 | H10: =TRUNC(G10*D10,1) -> 0 | I10: =단가대비표!V28 -> 0 | J10: =TRUNC(I10*D10,1) -> 0 | K10: =TRUNC(E10+G10+I10,1) -> 31000 | L10: =TRUNC(F10+H10+J10,1) -> 19530 | N10: 58DD251F0B24238AECACBA659862FD | O10: 5FE59518EB2C2D8A97EF7866370AA394953EFD | P10: F | Q10: F | R10: T | AW10: 58DD251F0B24238AECACBA659862FD5FE59518EB2C2D8A97EF7866370AA394953EFD
A11: 강관 조립말비계(이동식)설치 및 해체 | B11: 높이 2m, 노무비 | C11: 대 | D11: 1 | E11: =일위대가목록!E68 -> 0 | F11: =TRUNC(E11*D11,1) -> 0 | G11: 86062.34 | H11: =TRUNC(G11*D11,1) -> 86062.3 | I11: =일위대가목록!G68 -> 0 | J11: =TRUNC(I11*D11,1) -> 0 | K11: =TRUNC(E11+G11+I11,1) -> 86062.3 | L11: =TRUNC(F11+H11+J11,1) -> 86062.3 | M11: 호표 65 | N11: 58DD251F0B24238AECACBA659862FD | O11: 58DD251F0B24238AECACBA64F2812C | P11: T | Q11: F | R11: F | AW11: 58DD251F0B24238AECACBA659862FD58DD251F0B24238AECACBA64F2812C
A12: [ 합 계 ] | F12: =TRUNC(SUMIF(N5:N11, N4, F5:F11),0) -> 39087 | H12: =TRUNC(SUMIF(N5:N11, N4, H5:H11),0) -> 86062 | J12: =TRUNC(SUMIF(N5:N11, N4, J5:J11),0) -> 0 | L12: =F12+H12+J12 -> 125149 | N12: TOTAL | O12: TOTAL
A14: 목재 평 규준틀 설치 및 철거 개소 공통 2-5-4, 2-2-7 ( 호표 2 ) | N14: 58DD251F0B24238AFD4F536CED401A
A15: 각재 | B15: 각재, 외송 | C15: M3 | D15: 0.014 | E15: =단가대비표!O43 -> 571556 | F15: =TRUNC(E15*D15,1) -> 8001.7 | G15: 0 | H15: =TRUNC(G15*D15,1) -> 0 | I15: =단가대비표!V43 -> 0 | J15: =TRUNC(I15*D15,1) -> 0 | K15: =TRUNC(E15+G15+I15,1) -> 571556 | L15: =TRUNC(F15+H15+J15,1) -> 8001.7 | N15: 58DD251F0B24238AFD4F536CED401A | O15: 5FF645E7FE262582024E13678795627C1C4DAD | P15: F | Q15: F | R15: T | AW15: 58DD251F0B24238AFD4F536CED401A5FF645E7FE262582024E13678795627C1C4DAD
A16: 건축목공 | B16: 일반공사 직종 | C16: 인 | D16: 0.15 | E16: =단가대비표!O116 -> 0 | F16: =TRUNC(E16*D16,1) -> 0 | G16: 252654.22 | H16: =TRUNC(G16*D16,1) -> 37898.1 | I16: =단가대비표!V116 -> 0 | J16: =TRUNC(I16*D16,1) -> 0 | K16: =TRUNC(E16+G16+I16,1) -> 252654.2 | L16: =TRUNC(F16+H16+J16,1) -> 37898.1 | N16: 58DD251F0B24238AFD4F536CED401A | O16: 580EB5368A2F2E8E3602AF6B0293AEBD59EDCD | P16: F | Q16: F | R16: T | AW16: 58DD251F0B24238AFD4F536CED401A580EB5368A2F2E8E3602AF6B0293AEBD59EDCD
A17: 보통인부 | B17: 일반공사 직종 | C17: 인 | D17: 0.3 | E17: =단가대비표!O107 -> 0 | F17: =TRUNC(E17*D17,1) -> 0 | G17: 156581.88 | H17: =TRUNC(G17*D17,1) -> 46974.5 | I17: =단가대비표!V107 -> 0 | J17: =TRUNC(I17*D17,1) -> 0 | K17: =TRUNC(E17+G17+I17,1) -> 156581.8 | L17: =TRUNC(F17+H17+J17,1) -> 46974.5 | N17: 58DD251F0B24238AFD4F536CED401A | O17: 580EB5368A2F2E8E3602AF6B0293AEBD59EFF9 | P17: F | Q17: F | R17: T | AW17: 58DD251F0B24238AFD4F536CED401A580EB5368A2F2E8E3602AF6B0293AEBD59EFF9
A18: [ 합 계 ] | F18: =TRUNC(SUMIF(N15:N17, N14, F15:F17),0) -> 8001 | G18: 0 | H18: =TRUNC(SUMIF(N15:N17, N14, H15:H17),0) -> 84872 | J18: =TRUNC(SUMIF(N15:N17, N14, J15:J17),0) -> 0 | L18: =F18+H18+J18 -> 92873 | N18: TOTAL | O18: TOTAL
G19: 0
A20: 목재 귀 규준틀 설치 및 철거 개소 공통 2-5-4, 2-2-7 ( 호표 3 ) | G20: 0 | N20: 58DD251F0B24238AFD4F536FA10601
A21: 각재 | B21: 각재, 외송 | C21: M3 | D21: 0.022 | E21: =단가대비표!O43 -> 571556 | F21: =TRUNC(E21*D21,1) -> 12574.2 | G21: 0 | H21: =TRUNC(G21*D21,1) -> 0 | I21: =단가대비표!V43 -> 0 | J21: =TRUNC(I21*D21,1) -> 0 | K21: =TRUNC(E21+G21+I21,1) -> 571556 | L21: =TRUNC(F21+H21+J21,1) -> 12574.2 | N21: 58DD251F0B24238AFD4F536FA10601 | O21: 5FF645E7FE262582024E13678795627C1C4DAD | P21: F | Q21: F | R21: T | AW21: 58DD251F0B24238AFD4F536FA106015FF645E7FE262582024E13678795627C1C4DAD
A22: 건축목공 | B22: 일반공사 직종 | C22: 인 | D22: 0.3 | E22: =단가대비표!O116 -> 0 | F22: =TRUNC(E22*D22,1) -> 0 | G22: 252654.22 | H22: =TRUNC(G22*D22,1) -> 75796.2 | I22: =단가대비표!V116 -> 0 | J22: =TRUNC(I22*D22,1) -> 0 | K22: =TRUNC(E22+G22+I22,1) -> 252654.2 | L22: =TRUNC(F22+H22+J22,1) -> 75796.2 | N22: 58DD251F0B24238AFD4F536FA10601 | O22: 580EB5368A2F2E8E3602AF6B0293AEBD59EDCD | P22: F | Q22: F | R22: T | AW22: 58DD251F0B24238AFD4F536FA10601580EB5368A2F2E8E3602AF6B0293AEBD59EDCD
A23: 보통인부 | B23: 일반공사 직종 | C23: 인 | D23: 0.45 | E23: =단가대비표!O107 -> 0 | F23: =TRUNC(E23*D23,1) -> 0 | G23: 156581.88 | H23: =TRUNC(G23*D23,1) -> 70461.8 | I23: =단가대비표!V107 -> 0 | J23: =TRUNC(I23*D23,1) -> 0 | K23: =TRUNC(E23+G23+I23,1) -> 156581.8 | L23: =TRUNC(F23+H23+J23,1) -> 70461.8 | N23: 58DD251F0B24238AFD4F536FA10601 | O23: 580EB5368A2F2E8E3602AF6B0293AEBD59EFF9 | P23: F | Q23: F | R23: T | AW23: 58DD251F0B24238AFD4F536FA10601580EB5368A2F2E8E3602AF6B0293AEBD59EFF9
A24: [ 합 계 ] | F24: =TRUNC(SUMIF(N21:N23, N20, F21:F23),0) -> 12574 | G24: 0 | H24: =TRUNC(SUMIF(N21:N23, N20, H21:H23),0) -> 146258 | J24: =TRUNC(SUMIF(N21:N23, N20, J21:J23),0) -> 0 | L24: =F24+H24+J24 -> 158832 | N24: TOTAL | O24: TOTAL
G25: 0
A26: 건축물 현장정리 목조, 철골조, 조적조 M2 공통 2-11-2 ( 호표 4 ) | G26: 0 | N26: 58DD251A862B2283AC667068E7DA9B
A27: 보통인부 | B27: 일반공사 직종 | C27: 인 | D27: 0.05 | E27: =단가대비표!O107 -> 0 | F27: =TRUNC(E27*D27,1) -> 0 | G27: 156581.88 | H27: =TRUNC(G27*D27,1) -> 7829 | I27: =단가대비표!V107 -> 0 | J27: =TRUNC(I27*D27,1) -> 0 | K27: =TRUNC(E27+G27+I27,1) -> 156581.8 | L27: =TRUNC(F27+H27+J27,1) -> 7829 | N27: 58DD251A862B2283AC667068E7DA9B | O27: 580EB5368A2F2E8E3602AF6B0293AEBD59EFF9 | P27: F | Q27: F | R27: T | AW27: 58DD251A862B2283AC667068E7DA9B580EB5368A2F2E8E3602AF6B0293AEBD59EFF9
A28: [ 합 계 ] | F28: =TRUNC(SUMIF(N27:N27, N26, F27:F27),0) -> 0 | G28: 0 | H28: =TRUNC(SUMIF(N27:N27, N26, H27:H27),0) -> 7829 | J28: =TRUNC(SUMIF(N27:N27, N26, J27:J27),0) -> 0 | L28: =F28+H28+J28 -> 7829 | N28: TOTAL | O28: TOTAL
G29: 0
A30: 먹매김 구조부,거푸집 M2 ( 호표 5 ) | G30: 0 | N30: 58DD251A852A2D8F4FE7EE6A949A1D
A31: 구조부 먹매김 | B31: 일반 | C31: M2 | D31: 1 | E31: =일위대가목록!E69 -> 0 | F31: =TRUNC(E31*D31,1) -> 0 | G31: 1263.08 | H31: =TRUNC(G31*D31,1) -> 1263 | I31: =일위대가목록!G69 -> 0 | J31: =TRUNC(I31*D31,1) -> 0 | K31: =TRUNC(E31+G31+I31,1) -> 1263 | L31: =TRUNC(F31+H31+J31,1) -> 1263 | M31: 호표 66 | N31: 58DD251A852A2D8F4FE7EE6A949A1D | O31: 58DD251A852A2D8F4FE7C36D00FAEA | P31: T | Q31: F | R31: F | AW31: 58DD251A852A2D8F4FE7EE6A949A1D58DD251A852A2D8F4FE7C36D00FAEA
A32: 거푸집 먹매김 | B32: 일반 | C32: M2 | D32: 1 | E32: =일위대가목록!E70 -> 0 | F32: =TRUNC(E32*D32,1) -> 0 | G32: 3031.21 | H32: =TRUNC(G32*D32,1) -> 3031.2 | I32: =일위대가목록!G70 -> 0 | J32: =TRUNC(I32*D32,1) -> 0 | K32: =TRUNC(E32+G32+I32,1) -> 3031.2 | L32: =TRUNC(F32+H32+J32,1) -> 3031.2 | M32: 호표 67 | N32: 58DD251A852A2D8F4FE7EE6A949A1D | O32: 58DD251A852A2D8F4FE7EE6A949A1E | P32: T | Q32: F | R32: F | AW32: 58DD251A852A2D8F4FE7EE6A949A1D58DD251A852A2D8F4FE7EE6A949A1E
A33: [ 합 계 ] | F33: =TRUNC(SUMIF(N31:N32, N30, F31:F32),0) -> 0 | G33: 0 | H33: =TRUNC(SUMIF(N31:N32, N30, H31:H32),0) -> 4294 | J33: =TRUNC(SUMIF(N31:N32, N30, J31:J32),0) -> 0 | L33: =F33+H33+J33 -> 4294 | N33: TOTAL | O33: TOTAL
G34: 0
A35: 준공청소 M2 공통 2-11-3 ( 호표 6 ) | G35: 0 | N35: 58DD251A832F2E8733B63F6A5A9915
A36: 보통인부 | B36: 일반공사 직종 | C36: 인 | D36: 0.02 | E36: =단가대비표!O107 -> 0 | F36: =TRUNC(E36*D36,1) -> 0 | G36: 156581.88 | H36: =TRUNC(G36*D36,1) -> 3131.6 | I36: =단가대비표!V107 -> 0 | J36: =TRUNC(I36*D36,1) -> 0 | K36: =TRUNC(E36+G36+I36,1) -> 156581.8 | L36: =TRUNC(F36+H36+J36,1) -> 3131.6 | N36: 58DD251A832F2E8733B63F6A5A9915 | O36: 580EB5368A2F2E8E3602AF6B0293AEBD59EFF9 | P36: F | Q36: F | R36: T | AW36: 58DD251A832F2E8733B63F6A5A9915580EB5368A2F2E8E3602AF6B0293AEBD59EFF9
A37: [ 합 계 ] | F37: =TRUNC(SUMIF(N36:N36, N35, F36:F36),0) -> 0 | G37: 0 | H37: =TRUNC(SUMIF(N36:N36, N35, H36:H36),0) -> 3131 | J37: =TRUNC(SUMIF(N36:N36, N35, J36:J36),0) -> 0 | L37: =F37+H37+J37 -> 3131 | N37: TOTAL | O37: TOTAL
G38: 0
A39: 잡석지정 굴삭기 0.2m3+진동롤러(핸드가이드식) M3 ( 호표 7 ) | G39: 0 | N39: 58DD05D00E2A2980B20C2D6FF74E94
A40: 굴착기(무한궤도) | B40: 0.2㎥ | C40: HR | D40: 0.07 | E40: =일위대가목록!E71 -> 11027 | F40: =TRUNC(E40*D40,1) -> 771.8 | G40: 53708.2 | H40: =TRUNC(G40*D40,1) -> 3759.5 | I40: =일위대가목록!G71 -> 13873 | J40: =TRUNC(I40*D40,1) -> 971.1 | K40: =TRUNC(E40+G40+I40,1) -> 78608.2 | L40: =TRUNC(F40+H40+J40,1) -> 5502.4 | M40: 호표 68 | N40: 58DD05D00E2A2980B20C2D6FF74E94 | O40: 5FCAF518192A26860142246117B06F5331AC363A | P40: T | Q40: F | R40: F | AW40: 58DD05D00E2A2980B20C2D6FF74E945FCAF518192A26860142246117B06F5331AC363A
A41: 진동롤러(핸드가이드식) | B41: 0.7ton | C41: HR | D41: 0.086 | E41: =일위대가목록!E72 -> 4531 | F41: =TRUNC(E41*D41,1) -> 389.6 | G41: 32985.68 | H41: =TRUNC(G41*D41,1) -> 2836.7 | I41: =일위대가목록!G72 -> 1967 | J41: =TRUNC(I41*D41,1) -> 169.1 | K41: =TRUNC(E41+G41+I41,1) -> 39483.6 | L41: =TRUNC(F41+H41+J41,1) -> 3395.4 | M41: 호표 69 | N41: 58DD05D00E2A2980B20C2D6FF74E94 | O41: 5FCAF518192A2780A5296463E2E56396EB3B620C | P41: T | Q41: F | R41: F | AW41: 58DD05D00E2A2980B20C2D6FF74E945FCAF518192A2780A5296463E2E56396EB3B620C
A42: 혼합골재 | B42: A급 기층용 | C42: M3 | D42: 1.2 | E42: =단가대비표!O21 -> 19000 | F42: =TRUNC(E42*D42,1) -> 22800 | G42: 0 | H42: =TRUNC(G42*D42,1) -> 0 | I42: =단가대비표!V21 -> 0 | J42: =TRUNC(I42*D42,1) -> 0 | K42: =TRUNC(E42+G42+I42,1) -> 19000 | L42: =TRUNC(F42+H42+J42,1) -> 22800 | N42: 58DD05D00E2A2980B20C2D6FF74E94 | O42: 5FDB75103A2129802F24C76BB4D2F191E8A33F | P42: F | Q42: F | R42: T | AW42: 58DD05D00E2A2980B20C2D6FF74E945FDB75103A2129802F24C76BB4D2F191E8A33F
A43: [ 합 계 ] | F43: =TRUNC(SUMIF(N40:N42, N39, F40:F42),0) -> 23961 | G43: 0 | H43: =TRUNC(SUMIF(N40:N42, N39, H40:H42),0) -> 6596 | J43: =TRUNC(SUMIF(N40:N42, N39, J40:J42),0) -> 1140 | L43: =F43+H43+J43 -> 31697 | N43: TOTAL | O43: TOTAL
G44: 0
A45: 방습필름 설치 - 기초바닥 폴리에틸렌필름, 두께, 0.05mm, 2겹 M2 ( 호표 8 ) | G45: 0 | N45: 58DDC52612202F8D31898660450B30
A46: 폴리에틸렌필름 | B46: 폴리에틸렌필름, 두께, 0.05mm | C46: M2 | D46: 2.3 | E46: =단가대비표!O24 -> 308.18 | F46: =TRUNC(E46*D46,1) -> 708.8 | G46: 0 | H46: =TRUNC(G46*D46,1) -> 0 | I46: =단가대비표!V24 -> 0 | J46: =TRUNC(I46*D46,1) -> 0 | K46: =TRUNC(E46+G46+I46,1) -> 308.1 | L46: =TRUNC(F46+H46+J46,1) -> 708.8 | N46: 58DDC52612202F8D31898660450B30 | O46: 5FDB55625E2E2E86C23DE462F5506EF1C34148 | P46: F | Q46: F | R46: T | AW46: 58DDC52612202F8D31898660450B305FDB55625E2E2E86C23DE462F5506EF1C34148
A47: 방습필름 설치 | B47: 바닥 | C47: M2 | D47: 1 | E47: =일위대가목록!E73 -> 0 | F47: =TRUNC(E47*D47,1) -> 0 | G47: 1324.96 | H47: =TRUNC(G47*D47,1) -> 1324.9 | I47: =일위대가목록!G73 -> 0 | J47: =TRUNC(I47*D47,1) -> 0 | K47: =TRUNC(E47+G47+I47,1) -> 1324.9 | L47: =TRUNC(F47+H47+J47,1) -> 1324.9 | M47: 호표 70 | N47: 58DDC52612202F8D31898660450B30 | O47: 58DDC52612202F8D16A3C969F154D2 | P47: T | Q47: F | R47: F | AW47: 58DDC52612202F8D31898660450B3058DDC52612202F8D16A3C969F154D2
A48: [ 합 계 ] | F48: =TRUNC(SUMIF(N46:N47, N45, F46:F47),0) -> 708 | G48: 0 | H48: =TRUNC(SUMIF(N46:N47, N45, H46:H47),0) -> 1324 | J48: =TRUNC(SUMIF(N46:N47, N45, J46:J47),0) -> 0 | L48: =F48+H48+J48 -> 2032 | N48: TOTAL | O48: TOTAL
G49: 0
A50: 유로폼 설치 및 해체 3회, 간단, 수직고 7m까지 M2 공통 6-3-3 ( 호표 9 ) | G50: 0 | N50: 58DD75A1062F2B89DE705669C6B90C
A51: 유로폼 - 재료비 | B51: 3회, 간단 | C51: 10M2 | D51: 0.1 | E51: =일위대가목록!E83 -> 39671 | F51: =TRUNC(E51*D51,1) -> 3967.1 | G51: 0 | H51: =TRUNC(G51*D51,1) -> 0 | I51: =일위대가목록!G83 -> 0 | J51: =TRUNC(I51*D51,1) -> 0 | K51: =TRUNC(E51+G51+I51,1) -> 39671 | L51: =TRUNC(F51+H51+J51,1) -> 3967.1 | M51: 호표 80 | N51: 58DD75A1062F2B89DE705669C6B90C | O51: 58DD75A1062F2B89DE67E9664008ED | P51: T | Q51: F | R51: F | AW51: 58DD75A1062F2B89DE705669C6B90C58DD75A1062F2B89DE67E9664008ED
A52: 유로폼 - 인력투입 | B52: 간단, 수직고 7m까지 | C52: M2 | D52: 1 | E52: =일위대가목록!E84 -> 0 | F52: =TRUNC(E52*D52,1) -> 0 | G52: 29010.8 | H52: =TRUNC(G52*D52,1) -> 29010.8 | I52: =일위대가목록!G84 -> 870 | J52: =TRUNC(I52*D52,1) -> 870 | K52: =TRUNC(E52+G52+I52,1) -> 29880.8 | L52: =TRUNC(F52+H52+J52,1) -> 29880.8 | M52: 호표 81 | N52: 58DD75A1062F2B89DE705669C6B90C | O52: 58DD75A1062F2B89DE67CE698BE21E | P52: T | Q52: F | R52: F | AW52: 58DD75A1062F2B89DE705669C6B90C58DD75A1062F2B89DE67CE698BE21E
A53: [ 합 계 ] | F53: =TRUNC(SUMIF(N51:N52, N50, F51:F52),0) -> 3967 | G53: 0 | H53: =TRUNC(SUMIF(N51:N52, N50, H51:H52),0) -> 29010 | J53: =TRUNC(SUMIF(N51:N52, N50, J51:J52),0) -> 870 | L53: =F53+H53+J53 -> 33847 | N53: TOTAL | O53: TOTAL
G54: 0
A55: 철근 현장가공 및 현장조립.. Type-Ⅱ TON ( 호표 10 ) | G55: 0 | N55: 58DD75A22820238CC2C7C4684ECDB2
A56: 철근 현장가공 | B56: Type-Ⅱ | C56: TON | D56: 1 | E56: =일위대가목록!E85 -> 0 | F56: =TRUNC(E56*D56,1) -> 0 | G56: 222182.87 | H56: =TRUNC(G56*D56,1) -> 222182.8 | I56: =일위대가목록!G85 -> 19996 | J56: =TRUNC(I56*D56,1) -> 19996 | K56: =TRUNC(E56+G56+I56,1) -> 242178.8 | L56: =TRUNC(F56+H56+J56,1) -> 242178.8 | M56: 호표 82 | N56: 58DD75A22820238CC2C7C4684ECDB2 | O56: 58DD75A22820238CC2C7C4684FD54C | P56: T | Q56: F | R56: F | AW56: 58DD75A22820238CC2C7C4684ECDB258DD75A22820238CC2C7C4684FD54C
A57: 철근 현장조립 | B57: Type-Ⅱ | C57: TON | D57: 1 | E57: =일위대가목록!E86 -> 12432 | F57: =TRUNC(E57*D57,1) -> 12432 | G57: 593009.69 | H57: =TRUNC(G57*D57,1) -> 593009.6 | I57: =일위대가목록!G86 -> 11860 | J57: =TRUNC(I57*D57,1) -> 11860 | K57: =TRUNC(E57+G57+I57,1) -> 617301.6 | L57: =TRUNC(F57+H57+J57,1) -> 617301.6 | M57: 호표 83 | N57: 58DD75A22820238CC2C7C4684ECDB2 | O57: 58DD75A22820238CC2C7C4684FD653 | P57: T | Q57: F | R57: F | AW57: 58DD75A22820238CC2C7C4684ECDB258DD75A22820238CC2C7C4684FD653
A58: [ 합 계 ] | F58: =TRUNC(SUMIF(N56:N57, N55, F56:F57),0) -> 12432 | G58: 0 | H58: =TRUNC(SUMIF(N56:N57, N55, H56:H57),0) -> 815192 | J58: =TRUNC(SUMIF(N56:N57, N55, J56:J57),0) -> 31856 | L58: =F58+H58+J58 -> 859480 | N58: TOTAL | O58: TOTAL
G59: 0
A60: 콘크리트 펌프차 타설(무근).. slump 8~12cm, 매트기초 등, f2 : Type-Ⅱ, 36m,(10.8M3) 일당 ( 호표 11 ) | G60: 0 | N60: 58DD75A682262D8CB61E826F0B783C
A61: 콘크리트 펌프차 타설(무근) - 매트기초 등 | B61: slump 8~12cm, f2 : Type-Ⅱ, 36m, 182.0㎥/일당 | C61: 일당 | D61: 0.5 | E61: =일위대가목록!E87 -> 416428 | F61: =TRUNC(E61*D61,1) -> 208214 | G61: 1789751.6 | H61: =TRUNC(G61*D61,1) -> 894875.8 | I61: =일위대가목록!G87 -> 788196 | J61: =TRUNC(I61*D61,1) -> 394098 | K61: =TRUNC(E61+G61+I61,1) -> 2994375.6 | L61: =TRUNC(F61+H61+J61,1) -> 1497187.8 | M61: 호표 84 | N61: 58DD75A682262D8CB61E826F0B783C | O61: 58DD75A682262D8C9B14316735C81F | P61: T | Q61: F | R61: F | AW61: 58DD75A682262D8CB61E826F0B783C58DD75A682262D8C9B14316735C81F
A62: [ 합 계 ] | F62: =TRUNC(SUMIF(N61:N61, N60, F61:F61),0) -> 208214 | G62: 0 | H62: =TRUNC(SUMIF(N61:N61, N60, H61:H61),0) -> 894875 | J62: =TRUNC(SUMIF(N61:N61, N60, J61:J61),0) -> 394098 | L62: =F62+H62+J62 -> 1497187 | N62: TOTAL | O62: TOTAL
G63: 0
A64: 콘크리트 펌프차 타설.. slump 15cm, 매트기초 등, f2 : Type-Ⅱ, 36m,(66.8M3) 일당 ( 호표 12 ) | G64: 0 | N64: 58DD75A681242386EA158065546477
A65: 콘크리트 펌프차 타설 - 매트기초 등 | B65: slump 15cm, f2 : Type-Ⅱ, 36m, 182.0㎥/일당 | C65: 일당 | D65: 0.5 | E65: =일위대가목록!E89 -> 428874 | F65: =TRUNC(E65*D65,1) -> 214437 | G65: 2038673 | H65: =TRUNC(G65*D65,1) -> 1019336.5 | I65: =일위대가목록!G89 -> 800642 | J65: =TRUNC(I65*D65,1) -> 400321 | K65: =TRUNC(E65+G65+I65,1) -> 3268189 | L65: =TRUNC(F65+H65+J65,1) -> 1634094.5 | M65: 호표 86 | N65: 58DD75A681242386EA158065546477 | O65: 58DD75A681242386F446CA69936D52 | P65: T | Q65: F | R65: F | AW65: 58DD75A681242386EA15806554647758DD75A681242386F446CA69936D52
A66: [ 합 계 ] | F66: =TRUNC(SUMIF(N65:N65, N64, F65:F65),0) -> 214437 | G66: 0 | H66: =TRUNC(SUMIF(N65:N65, N64, H65:H65),0) -> 1019336 | J66: =TRUNC(SUMIF(N65:N65, N64, J65:J65),0) -> 400321 | L66: =F66+H66+J66 -> 1634094 | N66: TOTAL | O66: TOTAL
G67: 0
A68: 철골 세우기 - 트럭 탑재령 크레인 15ton 소규모 건물 TON 건축 1-2-3 ( 호표 13 ) | G68: 0 | N68: 58DD251D59202A84957DF56A970E29
A69: 트럭탑재형 크레인 | B69: 15ton | C69: HR | D69: 0.8 | E69: =일위대가목록!E90 -> 24059 | F69: =TRUNC(E69*D69,1) -> 19247.2 | G69: 45297.98 | H69: =TRUNC(G69*D69,1) -> 36238.3 | I69: =일위대가목록!G90 -> 31327 | J69: =TRUNC(I69*D69,1) -> 25061.6 | K69: =TRUNC(E69+G69+I69,1) -> 100683.9 | L69: =TRUNC(F69+H69+J69,1) -> 80547.1 | M69: 호표 87 | N69: 58DD251D59202A84957DF56A970E29 | O69: 5FCAF518192A248B50C5F0689389EABBAFABA446 | P69: T | Q69: F | R69: F | AW69: 58DD251D59202A84957DF56A970E295FCAF518192A248B50C5F0689389EABBAFABA446
A70: [ 합 계 ] | F70: =TRUNC(SUMIF(N69:N69, N68, F69:F69),0) -> 19247 | G70: 0 | H70: =TRUNC(SUMIF(N69:N69, N68, H69:H69),0) -> 36238 | J70: =TRUNC(SUMIF(N69:N69, N68, J69:J69),0) -> 25061 | L70: =F70+H70+J70 -> 80546 | N70: TOTAL | O70: TOTAL
G71: 0
A72: 앵커 볼트 설치 ∮20*L:600 개 ( 호표 14 ) | G72: 0 | N72: 58DD65BBEF2B2C8A475DDF6934B0D5
A73: 철골공 | B73: 일반공사 직종 | C73: 인 | D73: 0.08 | E73: =단가대비표!O113 -> 0 | F73: =TRUNC(E73*D73,1) -> 0 | G73: 229903.31 | H73: =TRUNC(G73*D73,1) -> 18392.2 | I73: =단가대비표!V113 -> 0 | J73: =TRUNC(I73*D73,1) -> 0 | K73: =TRUNC(E73+G73+I73,1) -> 229903.3 | L73: =TRUNC(F73+H73+J73,1) -> 18392.2 | N73: 58DD65BBEF2B2C8A475DDF6934B0D5 | O73: 580EB5368A2F2E8E3602AF6B0293AEBD59EED4 | P73: F | Q73: F | R73: T | V73: 1 | AW73: 58DD65BBEF2B2C8A475DDF6934B0D5580EB5368A2F2E8E3602AF6B0293AEBD59EED4
A74: 특별인부 | B74: 일반공사 직종 | C74: 인 | D74: 0.03 | E74: =단가대비표!O108 -> 0 | F74: =TRUNC(E74*D74,1) -> 0 | G74: 205771.02 | H74: =TRUNC(G74*D74,1) -> 6173.1 | I74: =단가대비표!V108 -> 0 | J74: =TRUNC(I74*D74,1) -> 0 | K74: =TRUNC(E74+G74+I74,1) -> 205771 | L74: =TRUNC(F74+H74+J74,1) -> 6173.1 | N74: 58DD65BBEF2B2C8A475DDF6934B0D5 | O74: 580EB5368A2F2E8E3602AF6B0293AEBD59EFF8 | P74: F | Q74: F | R74: T | V74: 1 | AW74: 58DD65BBEF2B2C8A475DDF6934B0D5580EB5368A2F2E8E3602AF6B0293AEBD59EFF8
A75: 공구손료 | B75: 인력품의 2% | C75: 식 | D75: 1 | E75: 0 | F75: =TRUNC(E75*D75,1) -> 0 | G75: 0 | H75: =TRUNC(G75*D75,1) -> 0 | I75: =TRUNC(SUMIF(V73:V76, RIGHTB(O75, 1), H73:H76)*U75, 2) -> 491.3 | J75: =TRUNC(I75*D75,1) -> 491.3 | K75: =TRUNC(E75+G75+I75,1) -> 491.3 | L75: =TRUNC(F75+H75+J75,1) -> 491.3 | N75: 58DD65BBEF2B2C8A475DDF6934B0D5 | O75: 59C485328F222D85CDD03D67409E001 | P75: F | Q75: F | R75: F | S75: 1 | T75: 2 | U75: 0.02 | AW75: 58DD65BBEF2B2C8A475DDF6934B0D559C485328F222D85CDD03D67409E001
A76: 기초앵커볼트(L형) | B76: M20, L:600 | C76: 개 | D76: 1 | E76: =단가대비표!O84 -> 6600 | F76: =TRUNC(E76*D76,1) -> 6600 | G76: 0 | H76: =TRUNC(G76*D76,1) -> 0 | I76: =단가대비표!V84 -> 0 | J76: =TRUNC(I76*D76,1) -> 0 | K76: =TRUNC(E76+G76+I76,1) -> 6600 | L76: =TRUNC(F76+H76+J76,1) -> 6600 | N76: 58DD65BBEF2B2C8A475DDF6934B0D5 | O76: 5FF6558D4723278EAE3BE365E0D9F88B75BB24 | P76: F | Q76: F | R76: T | AW76: 58DD65BBEF2B2C8A475DDF6934B0D55FF6558D4723278EAE3BE365E0D9F88B75BB24
A77: [ 합 계 ] | F77: =TRUNC(SUMIF(N73:N76, N72, F73:F76),0) -> 6600 | G77: 0 | H77: =TRUNC(SUMIF(N73:N76, N72, H73:H76),0) -> 24565 | J77: =TRUNC(SUMIF(N73:N76, N72, J73:J76),0) -> 491 | L77: =F77+H77+J77 -> 31656 | N77: TOTAL | O77: TOTAL
G78: 0
A79: 철골 가공 조립(적은 구조) Rolled shape, 60ton 미만 TON 건축 1-1-1, 1-1-2 ( 호표 15 ) | G79: 0 | N79: 58DD65BAC92B288244460167D4FF5D
A80: 철골공수 산정방법<소요 부자재량> | B80: H형강부재(Rolled shape) | C80: TON | D80: 1 | E80: =일위대가목록!E91 -> 17488 | F80: =TRUNC(E80*D80,1) -> 17488 | G80: 0 | H80: =TRUNC(G80*D80,1) -> 0 | I80: =일위대가목록!G91 -> 0 | J80: =TRUNC(I80*D80,1) -> 0 | K80: =TRUNC(E80+G80+I80,1) -> 17488 | L80: =TRUNC(F80+H80+J80,1) -> 17488 | M80: 호표 88 | N80: 58DD65BAC92B288244460167D4FF5D | O80: 58DD65BAC92B288244460166CD8C5F | P80: T | Q80: F | R80: F | AW80: 58DD65BAC92B288244460167D4FF5D58DD65BAC92B288244460166CD8C5F
A81: 철골공 | B81: 일반공사 직종 | C81: 인 | D81: 1.5407 | E81: =단가대비표!O113 -> 0 | F81: =TRUNC(E81*D81,1) -> 0 | G81: 229903.31 | H81: =TRUNC(G81*D81,1) -> 354212 | I81: =단가대비표!V113 -> 0 | J81: =TRUNC(I81*D81,1) -> 0 | K81: =TRUNC(E81+G81+I81,1) -> 229903.3 | L81: =TRUNC(F81+H81+J81,1) -> 354212 | N81: 58DD65BAC92B288244460167D4FF5D | O81: 580EB5368A2F2E8E3602AF6B0293AEBD59EED4 | P81: F | Q81: F | R81: T | V81: 1 | AW81: 58DD65BAC92B288244460167D4FF5D580EB5368A2F2E8E3602AF6B0293AEBD59EED4
A82: 제경비 | B82: 인력품의 60% | C82: 식 | D82: 1 | E82: 0 | F82: =TRUNC(E82*D82,1) -> 0 | G82: 0 | H82: =TRUNC(G82*D82,1) -> 0 | I82: =TRUNC(SUMIF(V80:V82, RIGHTB(O82, 1), H80:H82)*U82, 2) -> 212527.2 | J82: =TRUNC(I82*D82,1) -> 212527.2 | K82: =TRUNC(E82+G82+I82,1) -> 212527.2 | L82: =TRUNC(F82+H82+J82,1) -> 212527.2 | N82: 58DD65BAC92B288244460167D4FF5D | O82: 59C485328F222D85CDD03D67409E001 | P82: F | Q82: F | R82: F | S82: 1 | T82: 2 | U82: 0.6 | AW82: 58DD65BAC92B288244460167D4FF5D59C485328F222D85CDD03D67409E001
A83: [ 합 계 ] | F83: =TRUNC(SUMIF(N80:N82, N79, F80:F82),0) -> 17488 | G83: 0 | H83: =TRUNC(SUMIF(N80:N82, N79, H80:H82),0) -> 354212 | J83: =TRUNC(SUMIF(N80:N82, N79, J80:J82),0) -> 212527 | L83: =F83+H83+J83 -> 584227 | N83: TOTAL | O83: TOTAL
G84: 0
A85: 부대철골 설치 TON 건축 1-4-1 ( 호표 16 ) | G85: 0 | N85: 58DD65BD9C27218C24F2EE6433A46F
A86: 철골공 | B86: 일반공사 직종 | C86: 인 | D86: 1.67 | E86: =단가대비표!O113 -> 0 | F86: =TRUNC(E86*D86,1) -> 0 | G86: 229903.31 | H86: =TRUNC(G86*D86,1) -> 383938.5 | I86: =단가대비표!V113 -> 0 | J86: =TRUNC(I86*D86,1) -> 0 | K86: =TRUNC(E86+G86+I86,1) -> 229903.3 | L86: =TRUNC(F86+H86+J86,1) -> 383938.5 | N86: 58DD65BD9C27218C24F2EE6433A46F | O86: 580EB5368A2F2E8E3602AF6B0293AEBD59EED4 | P86: F | Q86: F | R86: T | AW86: 58DD65BD9C27218C24F2EE6433A46F580EB5368A2F2E8E3602AF6B0293AEBD59EED4
A87: 특별인부 | B87: 일반공사 직종 | C87: 인 | D87: 0.42 | E87: =단가대비표!O108 -> 0 | F87: =TRUNC(E87*D87,1) -> 0 | G87: 205771.02 | H87: =TRUNC(G87*D87,1) -> 86423.8 | I87: =단가대비표!V108 -> 0 | J87: =TRUNC(I87*D87,1) -> 0 | K87: =TRUNC(E87+G87+I87,1) -> 205771 | L87: =TRUNC(F87+H87+J87,1) -> 86423.8 | N87: 58DD65BD9C27218C24F2EE6433A46F | O87: 580EB5368A2F2E8E3602AF6B0293AEBD59EFF8 | P87: F | Q87: F | R87: T | AW87: 58DD65BD9C27218C24F2EE6433A46F580EB5368A2F2E8E3602AF6B0293AEBD59EFF8
A88: 크레인(타이어) | B88: 50ton | C88: HR | D88: 2.5 | E88: =일위대가목록!E92 -> 28616 | F88: =TRUNC(E88*D88,1) -> 71540 | G88: 53708.2 | H88: =TRUNC(G88*D88,1) -> 134270.5 | I88: =일위대가목록!G92 -> 90444 | J88: =TRUNC(I88*D88,1) -> 226110 | K88: =TRUNC(E88+G88+I88,1) -> 172768.2 | L88: =TRUNC(F88+H88+J88,1) -> 431920.5 | M88: 호표 89 | N88: 58DD65BD9C27218C24F2EE6433A46F | O88: 5FCAF518192A248B50C5E66129FDA9C0BCC339E3 | P88: T | Q88: F | R88: F | AW88: 58DD65BD9C27218C24F2EE6433A46F5FCAF518192A248B50C5E66129FDA9C0BCC339E3
A89: [ 합 계 ] | F89: =TRUNC(SUMIF(N86:N88, N85, F86:F88),0) -> 71540 | G89: 0 | H89: =TRUNC(SUMIF(N86:N88, N85, H86:H88),0) -> 604632 | J89: =TRUNC(SUMIF(N86:N88, N85, J86:J88),0) -> 226110 | L89: =F89+H89+J89 -> 902282 | N89: TOTAL | O89: TOTAL
G90: 0
A91: 철골세우기 - 표준단가 6층 미만 TON 건축 1-2-1 ( 호표 17 ) | G91: 0 | N91: 58DD65BCF72B2586C51EBE6382BC80
A92: 철골공 | B92: 일반공사 직종 | C92: 인 | D92: 0.33 | E92: =단가대비표!O113 -> 0 | F92: =TRUNC(E92*D92,1) -> 0 | G92: 229903.31 | H92: =TRUNC(G92*D92,1) -> 75868 | I92: =단가대비표!V113 -> 0 | J92: =TRUNC(I92*D92,1) -> 0 | K92: =TRUNC(E92+G92+I92,1) -> 229903.3 | L92: =TRUNC(F92+H92+J92,1) -> 75868 | N92: 58DD65BCF72B2586C51EBE6382BC80 | O92: 580EB5368A2F2E8E3602AF6B0293AEBD59EED4 | P92: F | Q92: F | R92: T | AW92: 58DD65BCF72B2586C51EBE6382BC80580EB5368A2F2E8E3602AF6B0293AEBD59EED4
A93: 비계공 | B93: 일반공사 직종 | C93: 인 | D93: 0.14 | E93: =단가대비표!O109 -> 0 | F93: =TRUNC(E93*D93,1) -> 0 | G93: 256564.49 | H93: =TRUNC(G93*D93,1) -> 35919 | I93: =단가대비표!V109 -> 0 | J93: =TRUNC(I93*D93,1) -> 0 | K93: =TRUNC(E93+G93+I93,1) -> 256564.4 | L93: =TRUNC(F93+H93+J93,1) -> 35919 | N93: 58DD65BCF72B2586C51EBE6382BC80 | O93: 580EB5368A2F2E8E3602AF6B0293AEBD59EFFD | P93: F | Q93: F | R93: T | AW93: 58DD65BCF72B2586C51EBE6382BC80580EB5368A2F2E8E3602AF6B0293AEBD59EFFD
A94: 특별인부 | B94: 일반공사 직종 | C94: 인 | D94: 0.07 | E94: =단가대비표!O108 -> 0 | F94: =TRUNC(E94*D94,1) -> 0 | G94: 205771.02 | H94: =TRUNC(G94*D94,1) -> 14403.9 | I94: =단가대비표!V108 -> 0 | J94: =TRUNC(I94*D94,1) -> 0 | K94: =TRUNC(E94+G94+I94,1) -> 205771 | L94: =TRUNC(F94+H94+J94,1) -> 14403.9 | N94: 58DD65BCF72B2586C51EBE6382BC80 | O94: 580EB5368A2F2E8E3602AF6B0293AEBD59EFF8 | P94: F | Q94: F | R94: T | AW94: 58DD65BCF72B2586C51EBE6382BC80580EB5368A2F2E8E3602AF6B0293AEBD59EFF8
A95: [ 합 계 ] | F95: =TRUNC(SUMIF(N92:N94, N91, F92:F94),0) -> 0 | G95: 0 | H95: =TRUNC(SUMIF(N92:N94, N91, H92:H94),0) -> 126190 | J95: =TRUNC(SUMIF(N92:N94, N91, J92:J94),0) -> 0 | L95: =F95+H95+J95 -> 126190 | N95: TOTAL | O95: TOTAL
G96: 0
A97: 고장력 볼트 본조임 - 표준단가 30본/t 미만 TON 건축 1-2-4 ( 호표 18 ) | G97: 0 | N97: 58DD65BCFC2326880CF65F6843EB9E
A98: 철골공 | B98: 일반공사 직종 | C98: 인 | D98: 0.43 | E98: =단가대비표!O113 -> 0 | F98: =TRUNC(E98*D98,1) -> 0 | G98: 229903.31 | H98: =TRUNC(G98*D98,1) -> 98858.4 | I98: =단가대비표!V113 -> 0 | J98: =TRUNC(I98*D98,1) -> 0 | K98: =TRUNC(E98+G98+I98,1) -> 229903.3 | L98: =TRUNC(F98+H98+J98,1) -> 98858.4 | N98: 58DD65BCFC2326880CF65F6843EB9E | O98: 580EB5368A2F2E8E3602AF6B0293AEBD59EED4 | P98: F | Q98: F | R98: T | V98: 1 | AW98: 58DD65BCFC2326880CF65F6843EB9E580EB5368A2F2E8E3602AF6B0293AEBD59EED4
A99: 특별인부 | B99: 일반공사 직종 | C99: 인 | D99: 0.12 | E99: =단가대비표!O108 -> 0 | F99: =TRUNC(E99*D99,1) -> 0 | G99: 205771.02 | H99: =TRUNC(G99*D99,1) -> 24692.5 | I99: =단가대비표!V108 -> 0 | J99: =TRUNC(I99*D99,1) -> 0 | K99: =TRUNC(E99+G99+I99,1) -> 205771 | L99: =TRUNC(F99+H99+J99,1) -> 24692.5 | N99: 58DD65BCFC2326880CF65F6843EB9E | O99: 580EB5368A2F2E8E3602AF6B0293AEBD59EFF8 | P99: F | Q99: F | R99: T | V99: 1 | AW99: 58DD65BCFC2326880CF65F6843EB9E580EB5368A2F2E8E3602AF6B0293AEBD59EFF8
A100: 공구손료 | B100: 인력품의 3% | C100: 식 | D100: 1 | E100: 0 | F100: =TRUNC(E100*D100,1) -> 0 | G100: 0 | H100: =TRUNC(G100*D100,1) -> 0 | I100: =TRUNC(SUMIF(V98:V100, RIGHTB(O100, 1), H98:H100)*U100, 2) -> 3706.52 | J100: =TRUNC(I100*D100,1) -> 3706.5 | K100: =TRUNC(E100+G100+I100,1) -> 3706.5 | L100: =TRUNC(F100+H100+J100,1) -> 3706.5 | N100: 58DD65BCFC2326880CF65F6843EB9E | O100: 59C485328F222D85CDD03D67409E001 | P100: F | Q100: F | R100: F | S100: 1 | T100: 2 | U100: 0.03 | AW100: 58DD65BCFC2326880CF65F6843EB9E59C485328F222D85CDD03D67409E001
A101: [ 합 계 ] | F101: =TRUNC(SUMIF(N98:N100, N97, F98:F100),0) -> 0 | G101: 0 | H101: =TRUNC(SUMIF(N98:N100, N97, H98:H100),0) -> 123550 | J101: =TRUNC(SUMIF(N98:N100, N97, J98:J100),0) -> 3706 | L101: =F101+H101+J101 -> 127256 | N101: TOTAL | O101: TOTAL
...

Sheet 단가산출목록
B1: 단 가 산 출 목 록
B2: [ 하동군 옥종면 병천리 228-3번지 제조업소 신축공사 ]
A3: 코 드 | B3: 품 명 | C3: 규 격 | D3: 단위 | E3: 재 료 비 | F3: 노 무 비 | G3: 경 비 | H3: 합 계 | I3: 번 호 | J3: 비 고 | K3: START | L3: 품셈개요
A4: 58F2454833272E88B2EAB269B8F915 | B4: 터파기/토사 | C4: 보통, 굴착기 0.7m3 | D4: M3 | E4: =단가산출서!B20 -> 437 | F4: =단가산출서!C20 -> 1000 | G4: =단가산출서!D20 -> 416 | H4: =단가산출서!E20 -> 1853 | I4: 산근 1 | K4: 58F2454833272E88B2EAB269B8F915 | L4: 공통 8-2-3
A5: 58F2454B85242F8886C1F06205BFB3 | B5: 잔토처리 | C5: 보통, 덤프 15ton+굴삭기 0.7m3 | D5: M3 | E5: =단가산출서!B69 -> 3982 | F5: =단가산출서!C69 -> 5876 | G5: =단가산출서!D69 -> 2100 | H5: =단가산출서!E69 -> 11958 | I5: 산근 2 | K5: 58F2454B85242F8886C1F06205BFB3
A6: 58F245457C2E258CCEBA4363D6F13B | B6: 되메우기/토사, 두께 15cm | C6: 보통, 굴삭기 0.7m3+래머 80kg | D6: M3 | E6: =단가산출서!B100 -> 640 | F6: =단가산출서!C100 -> 9011 | G6: =단가산출서!D100 -> 423 | H6: =단가산출서!E100 -> 10074 | I6: 산근 3 | K6: 58F245457C2E258CCEBA4363D6F13B
A7: 58F245457C2E258CCEBA4363D6F012 | B7: 흙 쌓기/로상 다짐 20cm | C7: 보통, 진동롤러 10ton+타이어롤러 8∼15ton+살수 | D7: M3 | E7: =단가산출서!B153 -> 546 | F7: =단가산출서!C153 -> 1380 | G7: =단가산출서!D153 -> 428 | H7: =단가산출서!E153 -> 2354 | I7: 산근 4 | K7: 58F245457C2E258CCEBA4363D6F012
A8: 58F24549DE20228D73371767B8EB0C | B8: 흙 쌓기 장외운반/토사 | C8: 보통, 덤프 20ton, L=10km | D8: M3 | E8: =단가산출서!B203 -> 4321 | F8: =단가산출서!C203 -> 5070 | G8: =단가산출서!D203 -> 2479 | H8: =단가산출서!E203 -> 11870 | I8: 산근 5 | K8: 58F24549DE20228D73371767B8EB0C | L8: 공통 8-2-8

Sheet 단가산출서
A1: 단 가 산 출 서
A2: [ 하동군 옥종면 병천리 228-3번지 제조업소 신축공사 ]
A3: 산 출 내 역 | B3: 재 료 비 | C3: 노 무 비 | D3: 경 비 | E3: 합 계 | F3: 비 고 | G3: START | H3: 코드 | I3: 품명 | J3: 규격 | K3: 단위 | L3: 수량 | M3: 변수 | N3: 값 | O3: 소계 | P3: 소계 | Q3: 소계 | R3: 소계 | S3: 소계 | T3: 총계
A4: 터파기/토사 보통, 굴착기 0.7m3 M3 공통 8-2-3 ( 산근 1 ) | G4: 58F2454833272E88B2EAB269B8F915 | I4: 터파기/토사 | J4: 보통, 굴착기 0.7m3 | K4: M3
G5: 58F2454833272E88B2EAB269B8F915 | H5: C | L5: 1
A6: 굴삭기(무한궤도),0.7㎥ M3 | B6: 0 | C6: 0 | D6: 0 | E6: 0 | G6: 58F2454833272E88B2EAB269B8F915 | H6: C! | I6: '굴삭기(무한궤도),0.7㎥ M3'
B7: 0 | C7: 0 | D7: 0 | E7: 0 | G7: 58F2454833272E88B2EAB269B8F915 | H7: C!
A8: Q1 바켓용량(M3) =0.70 | B8: 0 | C8: 0 | D8: 0 | E8: 0 | G8: 58F2454833272E88B2EAB269B8F915 | H8: C! | I8: q1 '바켓용량(M3)' =0.70
A9: K 바켓계수(양호1.1,보통0.90,불량0.70,파쇄암0.55) = 0.90 | B9: 0 | C9: 0 | D9: 0 | E9: 0 | G9: 58F2454833272E88B2EAB269B8F915 | H9: C! | I9: k '바켓계수(양호1.1,보통0.90,불량0.70,파쇄암0.55)'= 0.90
A10: F 토량환산계수(1/L) = 1/1.25= 0.8 | B10: 0 | C10: 0 | D10: 0 | E10: 0 | G10: 58F2454833272E88B2EAB269B8F915 | H10: C! | I10: f '토량환산계수(1/L)'= 1/1.25=?
A11: E1 터파기에 대하여 -0.05 =0.05 | B11: 0 | C11: 0 | D11: 0 | E11: 0 | G11: 58F2454833272E88B2EAB269B8F915 | H11: C! | I11: E1 '터파기에 대하여 -0.05'=0.05
A12: E 작업효율사질토(양호0.85,보통0.70,불량0.55) = 0.70-E1= 0.65 | B12: 0 | C12: 0 | D12: 0 | E12: 0 | G12: 58F2454833272E88B2EAB269B8F915 | H12: C! | I12: E '작업효율사질토(양호0.85,보통0.70,불량0.55)'= 0.70-E1=?
A13: CM 1회 싸이클시간(135˚SEC) =20 | B13: 0 | C13: 0 | D13: 0 | E13: 0 | G13: 58F2454833272E88B2EAB269B8F915 | H13: C! | I13: Cm '1회 싸이클시간(135˚SEC)'=20
A14: Q 시간당 작업량 (M3/HR) = 3600*Q1*K*F*E/CM= 58.968 | B14: 0 | C14: 0 | D14: 0 | E14: 0 | G14: 58F2454833272E88B2EAB269B8F915 | H14: C! | I14: Q '시간당 작업량 (M3/Hr)'= 3600*q1*k*f*E/Cm=?
B15: 0 | C15: 0 | D15: 0 | E15: 0 | G15: 58F2454833272E88B2EAB269B8F915 | H15: C!
A16: 재료비: 25795 / 58.968 = 437.4 | B16: 437.4 | C16: 0 | D16: 0 | E16: 437.4 | G16: 58F2454833272E88B2EAB269B8F915 | H16: C! | I16: '재료비:' ~00000201007000000.M~ / {Q} =?MA+
A17: 노무비: 59020 / 58.968 = 1000.8 | B17: 0 | C17: 1000.8 | D17: 0 | E17: 1000.8 | G17: 58F2454833272E88B2EAB269B8F915 | H17: C! | I17: '노무비:' ~00000201007000000.L~ / {Q} =?LA+
A18: 경 비: 24554 / 58.968 = 416.3 | B18: 0 | C18: 0 | D18: 416.3 | E18: 416.3 | G18: 58F2454833272E88B2EAB269B8F915 | H18: C! | I18: '경 비:' ~00000201007000000.E~ / {Q} =?EQ+
A19: 소 계 | B19: 437.4 | C19: 1000.8 | D19: 416.3 | E19: 1854.5 | G19: 58F2454833272E88B2EAB269B8F915 | H19: C! | I19: >'소 계'
A20: 총 계 | B20: 437 | C20: 1000 | D20: 416 | E20: 1853
A22: 잔토처리 보통, 덤프 15ton+굴삭기 0.7m3 M3 ( 산근 2 ) | G22: 58F2454B85242F8886C1F06205BFB3 | I22: 잔토처리 | J22: 보통, 덤프 15ton+굴삭기 0.7m3 | K22: M3
G23: 58F2454B85242F8886C1F06205BFB3 | H23: C | K23: M3 | L23: 1
A24: 운반거리 L=10KN,(적재,고르기별도) M3 | B24: 0 | C24: 0 | D24: 0 | E24: 0 | G24: 58F2454B85242F8886C1F06205BFB3 | H24: C! | I24: '운반거리 L=10KN,(적재,고르기별도) M3'
A25: 차량속도= 30KM/V1,35KM/V2,35KM/V3,35KM/V4,30KM/V5,35KM/V6 | B25: 0 | C25: 0 | D25: 0 | E25: 0 | G25: 58F2454B85242F8886C1F06205BFB3 | H25: C! | I25: '차량속도= 30KM/V1,35KM/V2,35KM/V3,35KM/V4,30KM/V5,35KM/V6 '
A26: ○------------------0------------0----------------○10KM | B26: 0 | C26: 0 | D26: 0 | E26: 0 | G26: 58F2454B85242F8886C1F06205BFB3 | H26: C! | I26: ' ○------------------0------------0----------------○10KM '
A27: 운반거리=단지대L1=0.5KM,시내외L2=9.0KM,사토장L3=0.5KM | B27: 0 | C27: 0 | D27: 0 | E27: 0 | G27: 58F2454B85242F8886C1F06205BFB3 | H27: C! | I27: '운반거리=단지대L1=0.5KM,시내외L2=9.0KM,사토장L3=0.5KM'
B28: 0 | C28: 0 | D28: 0 | E28: 0 | G28: 58F2454B85242F8886C1F06205BFB3 | H28: C!
A29: 1.덤프트럭,15톤 | B29: 0 | C29: 0 | D29: 0 | E29: 0 | G29: 58F2454B85242F8886C1F06205BFB3 | H29: C! | I29: '1.덤프트럭,15톤'
A30: T 적재용량(톤) =15 | B30: 0 | C30: 0 | D30: 0 | E30: 0 | G30: 58F2454B85242F8886C1F06205BFB3 | H30: C! | I30: T '적재용량(톤)' =15
A31: R1 토석의 단위중량(톤) =1.7 | B31: 0 | C31: 0 | D31: 0 | E31: 0 | G31: 58F2454B85242F8886C1F06205BFB3 | H31: C! | I31: r1 '토석의 단위중량(톤)' =1.7
A32: L 토량 변화율 =1.25 | B32: 0 | C32: 0 | D32: 0 | E32: 0 | G32: 58F2454B85242F8886C1F06205BFB3 | H32: C! | I32: L '토량 변화율' =1.25
A33: Q1 1회 적재량(M3) =T/R1*L= 11.0294 | B33: 0 | C33: 0 | D33: 0 | E33: 0 | G33: 58F2454B85242F8886C1F06205BFB3 | H33: C! | I33: q1 '1회 적재량(M3)' =T/r1*L=?
A34: F 토량 환산계수(1/L) =1/L= 0.8 | B34: 0 | C34: 0 | D34: 0 | E34: 0 | G34: 58F2454B85242F8886C1F06205BFB3 | H34: C! | I34: f '토량 환산계수(1/L)' =1/L=?
A35: E 작업효율 =0.9 | B35: 0 | C35: 0 | D35: 0 | E35: 0 | G35: 58F2454B85242F8886C1F06205BFB3 | H35: C! | I35: E '작업효율' =0.9
A36: CMS 적재기계 1회 싸이클시간(SEC) =20 | B36: 0 | C36: 0 | D36: 0 | E36: 0 | G36: 58F2454B85242F8886C1F06205BFB3 | H36: C! | I36: Cms '적재기계 1회 싸이클시간(SEC)' =20
A37: V1 단지내적재운반속도(KM/HR) =15 | B37: 0 | C37: 0 | D37: 0 | E37: 0 | G37: 58F2454B85242F8886C1F06205BFB3 | H37: C! | I37: V1 '단지내적재운반속도(KM/HR)' =15
A38: V2 단지내공차운반속도(KM/HR) =20 | B38: 0 | C38: 0 | D38: 0 | E38: 0 | G38: 58F2454B85242F8886C1F06205BFB3 | H38: C! | I38: V2 '단지내공차운반속도(KM/HR)' =20
A39: V3 시내외포장적재운반속도(KM/HR) =35 | B39: 0 | C39: 0 | D39: 0 | E39: 0 | G39: 58F2454B85242F8886C1F06205BFB3 | H39: C! | I39: V3 '시내외포장적재운반속도(KM/HR)' =35
A40: V4 시내외포장공차운반속도(KM/HR) =35 | B40: 0 | C40: 0 | D40: 0 | E40: 0 | G40: 58F2454B85242F8886C1F06205BFB3 | H40: C! | I40: V4 '시내외포장공차운반속도(KM/HR)' =35
... A45: L3 사토장비포장(KM) =0.5 | B45: 0 | C45: 0 | D45: 0 | E45: 0 | G45: 58F2454B85242F8886C1F06205BFB3 | H45: C! | I45: L3 '사토장비포장(KM)' =0.5
B46: 0 | C46: 0 | D46: 0 | E46: 0 | G46: 58F2454B85242F8886C1F06205BFB3 | H46: C!
A47: T2 왕복시간(MIN) =((L1/V1)+(L1/V2)+(L2/V3)+(L2/V4)+(L3/V5)+(L3/V6))*60= 37.8571 | B47: 0 | C47: 0 | D47: 0 | E47: 0 | G47: 58F2454B85242F8886C1F06205BFB3 | H47: C! | I47: t2 '왕복시간(MIN)' =((L1/V1)+(L1/V2)+(L2/V3)+(L2/V4)+(L3/V5)+(L3/V6))*60=?
A48: T3 적하시간(MIN)양호0.5,보통0.8,불량1.1 =0.8 | B48: 0 | C48: 0 | D48: 0 | E48: 0 | G48: 58F2454B85242F8886C1F06205BFB3 | H48: C! | I48: t3 '적하시간(MIN)양호0.5,보통0.8,불량1.1'=0.8
A49: T4 적재대기(MIN)양호0.15,보통0.42,불량0.7 =0.42 | B49: 0 | C49: 0 | D49: 0 | E49: 0 | G49: 58F2454B85242F8886C1F06205BFB3 | H49: C! | I49: t4 '적재대기(MIN)양호0.15,보통0.42,불량0.7 '=0.42
A50: T5 적재합자동덮개설치및해체(MIN) =0.5 | B50: 0 | C50: 0 | D50: 0 | E50: 0 | G50: 58F2454B85242F8886C1F06205BFB3 | H50: C! | I50: t5 '적재합자동덮개설치및해체(MIN)' =0.5
A51: T6 세륜시간 (MIN) =1.5 | B51: 0 | C51: 0 | D51: 0 | E51: 0 | G51: 58F2454B85242F8886C1F06205BFB3 | H51: C! | I51: t6 '세륜시간 (MIN)' =1.5
B52: 0 | C52: 0 | D52: 0 | E52: 0 | G52: 58F2454B85242F8886C1F06205BFB3 | H52: C!
A53: k 백호바켓계수 =1.1 | B53: 0 | C53: 0 | D53: 0 | E53: 0 | G53: 58F2454B85242F8886C1F06205BFB3 | H53: C! | I53: k '백호바켓계수' =1.1
A54: ES 작업효율(양호0.9,보통0.75,불량0.6) = 0.75 | B54: 0 | C54: 0 | D54: 0 | E54: 0 | G54: 58F2454B85242F8886C1F06205BFB3 | H54: C! | I54: Es '작업효율(양호0.9,보통0.75,불량0.6)'= 0.75
A55: N 덤프트럭 소요 백호 적재회수 =Q1/(0.7*K)= 14.32 | B55: 0 | C55: 0 | D55: 0 | E55: 0 | G55: 58F2454B85242F8886C1F06205BFB3 | H55: C! | I55: n '덤프트럭 소요 백호 적재회수' =q1/(0.7*k)=?
A56: CM 1회 싸이클 시간(MIN) =CMS*N/(60*ES)+T2+T3+T4+T5+T6= 47.442 | B56: 0 | C56: 0 | D56: 0 | E56: 0 | G56: 58F2454B85242F8886C1F06205BFB3 | H56: C! | I56: Cm '1회 싸이클 시간(MIN)' =Cms*n/(60*Es)+t2+t3+t4+t5+t6=?
A57: Q 시간당 작업량(M3/HR) =60*Q1*F*E/CM= 10.043 | B57: 0 | C57: 0 | D57: 0 | E57: 0 | G57: 58F2454B85242F8886C1F06205BFB3 | H57: C! | I57: Q '시간당 작업량(M3/HR)' =60*q1*f*E/Cm=?
A58: 재료비: 39994 / 10.043 = 3982.2 | B58: 3982.2 | C58: 0 | D58: 0 | E58: 3982.2 | G58: 58F2454B85242F8886C1F06205BFB3 | H58: C! | I58: '재료비:' ~00000602015000000.M~ / {Q} =?MA+
A59: 노무비: 59020 / 10.043 = 5876.7 | B59: 0 | C59: 5876.7 | D59: 0 | E59: 5876.7 | G59: 58F2454B85242F8886C1F06205BFB3 | H59: C! | I59: '노무비:' ~00000602015000000.L~ / {Q} =?LA+
A60: 경 비: 20659 / 10.043 = 2057 | B60: 0 | C60: 0 | D60: 2057 | E60: 2057 | G60: 58F2454B85242F8886C1F06205BFB3 | H60: C! | I60: '경 비:' ~00000602015000000.E~ / {Q} =?EQ+
A61: 소계 | B61: 3982.2 | C61: 5876.7 | D61: 2057 | E61: 11915.9 | G61: 58F2454B85242F8886C1F06205BFB3 | H61: C! | I61: >'소계'
B62: 0 | C62: 0 | D62: 0 | E62: 0 | G62: 58F2454B85242F8886C1F06205BFB3 | H62: C!
A63: 2.자동덮개시설,덤프15톤용 M3 | B63: 0 | C63: 0 | D63: 0 | E63: 0 | G63: 58F2454B85242F8886C1F06205BFB3 | H63: C! | I63: '2.자동덮개시설,덤프15톤용 M3'
A64: 재료비: 0 / 10.043 = 0 | B64: 0 | C64: 0 | D64: 0 | E64: 0 | G64: 58F2454B85242F8886C1F06205BFB3 | H64: C! | I64: '재료비:' ~00000610015000000.M~ / {Q} =?MA+
A65: 노무비: 0 / 10.043 = 0 | B65: 0 | C65: 0 | D65: 0 | E65: 0 | G65: 58F2454B85242F8886C1F06205BFB3 | H65: C! | I65: '노무비:' ~00000610015000000.L~ / {Q} =?LA+
A66: 경 비: 438 / 10.043 = 43.6 | B66: 0 | C66: 0 | D66: 43.6 | E66: 43.6 | G66: 58F2454B85242F8886C1F06205BFB3 | H66: C! | I66: '경 비:' ~00000610015000000.E~ / {Q} =?EQ+
A67: 소계 | B67: 0 | C67: 0 | D67: 43.6 | E67: 43.6 | G67: 58F2454B85242F8886C1F06205BFB3 | H67: C! | I67: >'소계'
B68: 0 | C68: 0 | D68: 0 | E68: 0 | G68: 58F2454B85242F8886C1F06205BFB3 | H68: C!
A69: 총 계 | B69: 3982 | C69: 5876 | D69: 2100 | E69: 11958
A71: 되메우기/토사, 두께 15cm 보통, 굴삭기 0.7m3+래머 80kg M3 ( 산근 3 ) | G71: 58F245457C2E258CCEBA4363D6F13B | I71: 되메우기/토사, 두께 15cm | J71: 보통, 굴삭기 0.7m3+래머 80kg | K71: M3
G72: 58F245457C2E258CCEBA4363D6F13B | H72: C | K72: M3 | L72: 1
A73: 1.굴삭기 (무한궤도)0.7㎥M3 | B73: 0 | C73: 0 | D73: 0 | E73: 0 | G73: 58F245457C2E258CCEBA4363D6F13B | H73: C! | I73: '1.굴삭기 (무한궤도)0.7㎥M3 '
A74: Q1 바켓용량(M3) = 0.7 | B74: 0 | C74: 0 | D74: 0 | E74: 0 | G74: 58F245457C2E258CCEBA4363D6F13B | H74: C! | I74: q1 '바켓용량(M3)'= 0.7
A75: k 바켓계수 = 1.1 | B75: 0 | C75: 0 | D75: 0 | E75: 0 | G75: 58F245457C2E258CCEBA4363D6F13B | H75: C! | I75: k '바켓계수'= 1.1
A76: L1 흐트러진상태 =1.25 | B76: 0 | C76: 0 | D76: 0 | E76: 0 | G76: 58F245457C2E258CCEBA4363D6F13B | H76: C! | I76: L1 '흐트러진상태' =1.25
A77: C 다져진상태 =0.875 | B77: 0 | C77: 0 | D77: 0 | E77: 0 | G77: 58F245457C2E258CCEBA4363D6F13B | H77: C! | I77: C '다져진상태'=0.875
A78: F 토량환산계(C/L) =C/L1= 0.7 | B78: 0 | C78: 0 | D78: 0 | E78: 0 | G78: 58F245457C2E258CCEBA4363D6F13B | H78: C! | I78: f '토량환산계(C/L)'=C/L1=?
A79: E 작업효율(양호0.9,보통0.75,불량0.6) = 0.75 | B79: 0 | C79: 0 | D79: 0 | E79: 0 | G79: 58F245457C2E258CCEBA4363D6F13B | H79: C! | I79: E '작업효율(양호0.9,보통0.75,불량0.6)'= 0.75
A80: CM 1회 싸이클시간(90˚SEC) =18 | B80: 0 | C80: 0 | D80: 0 | E80: 0 | G80: 58F245457C2E258CCEBA4363D6F13B | H80: C! | I80: Cm '1회 싸이클시간(90˚sec)'=18
A81: Q 시간당 작업량 (M3/HR) = 3600*Q1*K*F*E/CM= 80.85 | B81: 0 | C81: 0 | D81: 0 | E81: 0 | G81: 58F245457C2E258CCEBA4363D6F13B | H81: C! | I81: Q '시간당 작업량 (M3/Hr)'= 3600*q1*k*f*E/Cm=?
A82: 재료비: 25795 / 80.85 = 319 | B82: 319 | C82: 0 | D82: 0 | E82: 319 | G82: 58F245457C2E258CCEBA4363D6F13B | H82: C! | I82: '재료비:' ~00000201007000000.M~ / {Q} =?MA+
A83: 노무비: 59020 / 80.85 = 729.9 | B83: 0 | C83: 729.9 | D83: 0 | E83: 729.9 | G83: 58F245457C2E258CCEBA4363D6F13B | H83: C! | I83: '노무비:' ~00000201007000000.L~ / {Q} =?LA+
A84: 경 비: 24554 / 80.85 = 303.6 | B84: 0 | C84: 0 | D84: 303.6 | E84: 303.6 | G84: 58F245457C2E258CCEBA4363D6F13B | H84: C! | I84: '경 비:' ~00000201007000000.E~ / {Q} =?EQ+
A85: 소 계 | B85: 319 | C85: 729.9 | D85: 303.6 | E85: 1352.5 | G85: 58F245457C2E258CCEBA4363D6F13B | H85: C! | I85: >'소 계'
B86: 0 | C86: 0 | D86: 0 | E86: 0 | G86: 58F245457C2E258CCEBA4363D6F13B | H86: C!
A87: 2.래머,80kg | B87: 0 | C87: 0 | D87: 0 | E87: 0 | G87: 58F245457C2E258CCEBA4363D6F13B | H87: C! | I87: '2.래머,80kg'
A88: A 1회당 유호 다짐면적(M2) =0.28*0.33= 0.0924 | B88: 0 | C88: 0 | D88: 0 | E88: 0 | G88: 58F245457C2E258CCEBA4363D6F13B | H88: C! | I88: A '1회당 유호 다짐면적(M2)' =0.28*0.33=?
A89: N 1시간당 타격회수(회/HR) =36000 | B89: 0 | C89: 0 | D89: 0 | E89: 0 | G89: 58F245457C2E258CCEBA4363D6F13B | H89: C! | I89: N '1시간당 타격회수(회/HR)' =36000
A90: H 다짐두께(M) =0.15 | B90: 0 | C90: 0 | D90: 0 | E90: 0 | G90: 58F245457C2E258CCEBA4363D6F13B | H90: C! | I90: H '다짐두께(M)' =0.15
A91: L1 흐트러진상태 =1.25 | B91: 0 | C91: 0 | D91: 0 | E91: 0 | G91: 58F245457C2E258CCEBA4363D6F13B | H91: C! | I91: L1 '흐트러진상태' =1.25
A92: F 토량환산계(L1/L1) =L1/L1= 1 | B92: 0 | C92: 0 | D92: 0 | E92: 0 | G92: 58F245457C2E258CCEBA4363D6F13B | H92: C! | I92: f '토량환산계(L1/L1)'=L1/L1=?
A93: E 작업효율(양호0.7,보통0.5,불량0.3) = 0.5 | B93: 0 | C93: 0 | D93: 0 | E93: 0 | G93: 58F245457C2E258CCEBA4363D6F13B | H93: C! | I93: E '작업효율(양호0.7,보통0.5,불량0.3)'= 0.5
A94: P 중복 다짐회수(회) =57 | B94: 0 | C94: 0 | D94: 0 | E94: 0 | G94: 58F245457C2E258CCEBA4363D6F13B | H94: C! | I94: P '중복 다짐회수(회)' =57
A95: Q 시간당 작업량(M3/HR) =A*N*H*F*E/P= 4.377 | B95: 0 | C95: 0 | D95: 0 | E95: 0 | G95: 58F245457C2E258CCEBA4363D6F13B | H95: C! | I95: Q '시간당 작업량(M3/HR)' =A*N*H*f*E/P=?
A96: 재료비: 1406 / 4.377 = 321.2 | B96: 321.2 | C96: 0 | D96: 0 | E96: 321.2 | G96: 58F245457C2E258CCEBA4363D6F13B | H96: C! | I96: '재료비:' ~00001630008000000.M~ / {Q} =?MA+
A97: 노무비: 36248 / 4.377 = 8281.4 | B97: 0 | C97: 8281.4 | D97: 0 | E97: 8281.4 | G97: 58F245457C2E258CCEBA4363D6F13B | H97: C! | I97: '노무비:' ~00001630008000000.L~ / {Q} =?LA+
A98: 경 비: 525 / 4.377 = 119.9 | B98: 0 | C98: 0 | D98: 119.9 | E98: 119.9 | G98: 58F245457C2E258CCEBA4363D6F13B | H98: C! | I98: '경 비:' ~00001630008000000.E~ / {Q} =?EQ+
A99: 소 계 | B99: 321.2 | C99: 8281.4 | D99: 119.9 | E99: 8722.5 | G99: 58F245457C2E258CCEBA4363D6F13B | H99: C! | I99: >'소 계'
A100: 총 계 | B100: 640 | C100: 9011 | D100: 423 | E100: 10074
A102: 흙 쌓기/로상 다짐 20cm 보통, 진동롤러 10ton+타이어롤러 8∼15ton+살수 M3 ( 산근 4 ) | G102: 58F245457C2E258CCEBA4363D6F012 | I102: 흙 쌓기/로상 다짐 20cm | J102: 보통, 진동롤러 10ton+타이어롤러 8∼15ton+살수 | K102: M3
G103: 58F245457C2E258CCEBA4363D6F012 | H103: C | K103: M3 | L103: 1
A104: 1.진동,롤러,10톤 M3 | B104: 0 | C104: 0 | D104: 0 | E104: 0 | G104: 58F245457C2E258CCEBA4363D6F012 | H104: C! | I104: '1.진동,롤러,10톤 M3 '
A105: V 다짐속도(KM/HR) =4.0 | B105: 0 | C105: 0 | D105: 0 | E105: 0 | G105: 58F245457C2E258CCEBA4363D6F012 | H105: C! | I105: V '다짐속도(KM/HR)' =4.0
A106: W 유효다짐폭(M) =1.9 | B106: 0 | C106: 0 | D106: 0 | E106: 0 | G106: 58F245457C2E258CCEBA4363D6F012 | H106: C! | I106: W '유효다짐폭(M)' =1.9
A107: D 펴는흙의 두께(M) =0.2 | B107: 0 | C107: 0 | D107: 0 | E107: 0 | G107: 58F245457C2E258CCEBA4363D6F012 | H107: C! | I107: D '펴는흙의 두께(M)' =0.2
...

Sheet 단가대비표
A1: 단 가 대 비 표
A2: [ 하동군 옥종면 병천리 228-3번지 제조업소 신축공사 ]
A3: 코 드 | B3: 품 명 | C3: 규격 | D3: 단위 | E3: 재 료 비 | P3: 노 무 비 | Q3: 경 비 | W3: 번 호 | X3: 비 고 | Y3: 품목구분 | Z3: 노임구분 | AA3: 소수점처리 | AB3: 자재구분
E4: 조달청가격 | F4: PAGE | G4: 거래가격 | H4: PAGE | I4: 유통물가 | J4: PAGE | K4: 물가자료 | L4: PAGE | M4: 조사가격 | N4: PAGE | O4: 적용단가 | Q4: 조달청가격 | R4: 거래가격 | S4: 유통물가 | T4: 물가자료 | U4: 조사가격 | V4: 적용단가
A5: 5FCAF518192A26860142246117B06F5331AC36 | B5: 굴착기(무한궤도) | C5: 0.2㎥ | D5: 대 | E5: 0 | G5: 0 | I5: 0 | K5: 0 | M5: 0 | O5: 0 | P5: 0 | Q5: 0 | R5: 0 | S5: 0 | T5: 0 | U5: 66538 | V5: =SMALL(Q5:U5,COUNTIF(Q5:U5,0)+1) -> 66538 | W5: 자재 1 | X5: 천원
A6: 5FCAF518192A26860142246117B5D1B5D1F212 | B6: 굴착기(무한궤도) | C6: 0.7㎥ | D6: 대 | E6: 0 | G6: 0 | I6: 0 | K6: 0 | M6: 0 | O6: 0 | P6: 0 | Q6: 0 | R6: 0 | S6: 0 | T6: 0 | U6: 117766 | V6: =SMALL(Q6:U6,COUNTIF(Q6:U6,0)+1) -> 117766 | W6: 자재 2 | X6: 천원
A7: 5FCAF518192A268648FC946DC82B74EF00D60E | B7: 덤프트럭 | C7: 15ton | D7: 대 | E7: 0 | G7: 0 | I7: 0 | K7: 0 | M7: 0 | O7: 0 | P7: 0 | Q7: 0 | R7: 0 | S7: 0 | T7: 0 | U7: 90653 | V7: =SMALL(Q7:U7,COUNTIF(Q7:U7,0)+1) -> 90653 | W7: 자재 3 | X7: 천원
A8: 5FCAF518192A268648FC946DCBE24E86358C79 | B8: 덤프트럭 | C8: 20ton | D8: 대 | E8: 0 | G8: 0 | I8: 0 | K8: 0 | M8: 0 | O8: 0 | P8: 0 | Q8: 0 | R8: 0 | S8: 0 | T8: 0 | U8: 127336 | V8: =SMALL(Q8:U8,COUNTIF(Q8:U8,0)+1) -> 127336 | W8: 자재 4 | X8: 천원
A9: 5FCAF518192A268648E243616BB74AF4B4A904 | B9: 덤프트럭 자동덮개시설 | C9: 15ton | D9: 대 | E9: 0 | G9: 0 | I9: 0 | K9: 0 | M9: 0 | O9: 0 | P9: 0 | Q9: 0 | R9: 0 | S9: 0 | T9: 0 | U9: 1634 | V9: =SMALL(Q9:U9,COUNTIF(Q9:U9,0)+1) -> 1634 | W9: 자재 5 | X9: 천원
A10: 5FCAF518192A268648E2436168FE01EC85C040 | B10: 덤프트럭 자동덮개시설 | C10: 20ton | D10: 대 | E10: 0 | G10: 0 | I10: 0 | K10: 0 | M10: 0 | O10: 0 | P10: 0 | Q10: 0 | R10: 0 | S10: 0 | T10: 0 | U10: 1765 | V10: =SMALL(Q10:U10,COUNTIF(Q10:U10,0)+1) -> 1765 | W10: 자재 6 | X10: 천원
A11: 5FCAF518192A2780A5296463E2E56396EB3B62 | B11: 진동롤러(핸드가이드식) | C11: 0.7ton | D11: 대 | E11: 0 | G11: 0 | I11: 0 | K11: 0 | M11: 0 | O11: 0 | P11: 0 | Q11: 0 | R11: 0 | S11: 0 | T11: 0 | U11: 6966 | V11: =SMALL(Q11:U11,COUNTIF(Q11:U11,0)+1) -> 6966 | W11: 자재 7 | X11: 천원
A12: 5FCAF518192A2780A5295B6C116DAC3A0EBF83 | B12: 진동롤러(자주식) | C12: 10ton | D12: 대 | E12: 0 | G12: 0 | I12: 0 | K12: 0 | M12: 0 | O12: 0 | P12: 0 | Q12: 0 | R12: 0 | S12: 0 | T12: 0 | U12: 94381 | V12: =SMALL(Q12:U12,COUNTIF(Q12:U12,0)+1) -> 94381 | W12: 자재 8 | X12: 천원
A13: 5FCAF518192A2780D271E96A9983F9BBE11712 | B13: 타이어 롤러(자주식) | C13: 8∼15ton | D13: 대 | E13: 0 | G13: 0 | I13: 0 | K13: 0 | M13: 0 | O13: 0 | P13: 0 | Q13: 0 | R13: 0 | S13: 0 | T13: 0 | U13: 98388 | V13: =SMALL(Q13:U13,COUNTIF(Q13:U13,0)+1) -> 98388 | W13: 자재 9 | X13: 천원
A14: 5FCAF518192A2780FD760D693C31625E53132D | B14: 래머 | C14: 80kg | D14: 대 | E14: 0 | G14: 0 | I14: 0 | K14: 0 | M14: 0 | O14: 0 | P14: 0 | Q14: 0 | R14: 0 | S14: 0 | T14: 0 | U14: 1418 | V14: =SMALL(Q14:U14,COUNTIF(Q14:U14,0)+1) -> 1418 | W14: 자재 10 | X14: 천원
A15: 5FCAF518192A248B50C5E66129FAD562030322 | B15: 크레인(타이어) | C15: 20ton | D15: 대 | E15: 0 | G15: 0 | I15: 0 | K15: 0 | M15: 0 | O15: 0 | P15: 0 | Q15: 0 | R15: 0 | S15: 0 | T15: 0 | U15: 233376 | V15: =SMALL(Q15:U15,COUNTIF(Q15:U15,0)+1) -> 233376 | W15: 자재 11 | X15: 천원
A16: 5FCAF518192A248B50C5E66129FDA9C0BCC339 | B16: 크레인(타이어) | C16: 50ton | D16: 대 | E16: 0 | G16: 0 | I16: 0 | K16: 0 | M16: 0 | O16: 0 | P16: 0 | Q16: 0 | R16: 0 | S16: 0 | T16: 0 | U16: 520694 | V16: =SMALL(Q16:U16,COUNTIF(Q16:U16,0)+1) -> 520694 | W16: 자재 12 | X16: 천원
... A19: 5FCAF518192A218E2B5D6662C6843F6C1EC9F3 | B19: 물탱크(살수차) | C19: 5500L | D19: 대 | E19: 0 | G19: 0 | I19: 0 | K19: 0 | M19: 0 | O19: 0 | P19: 0 | Q19: 0 | R19: 0 | S19: 0 | T19: 0 | U19: 47263 | V19: =SMALL(Q19:U19,COUNTIF(Q19:U19,0)+1) -> 47263 | W19: 자재 15 | X19: 천원
A20: 5FDB75103A2129802F24C76BB4D2F191E8A5E1 | B20: 모래 | D20: M3 | E20: 0 | G20: 0 | I20: 65000 | J20: 61 | K20: 0 | M20: 0 | O20: =SMALL(E20:M20,COUNTIF(E20:M20,0)+1) -> 65000 | P20: 0 | Q20: 0 | R20: 0 | S20: 0 | T20: 0 | U20: 0 | V20: 0 | W20: 자재 16
A21: 5FDB75103A2129802F24C76BB4D2F191E8A33F | B21: 혼합골재 | C21: A급 기층용 | D21: M3 | E21: 0 | G21: 0 | I21: 0 | K21: 19000 | L21: 63 | M21: 0 | O21: =SMALL(E21:M21,COUNTIF(E21:M21,0)+1) -> 19000 | P21: 0 | Q21: 0 | R21: 0 | S21: 0 | T21: 0 | U21: 0 | V21: 0 | W21: 자재 17
A22: 5FDB455D1F272785D6D6CD6036A76E0867CC3F | B22: 산소가스 | C22: 산소가스, 기체(㎥) | D22: M3 | E22: 0 | G22: 4375 | H22: 1451 | I22: 3333.33 | J22: 1190 | K22: 0 | M22: 0 | O22: =SMALL(E22:M22,COUNTIF(E22:M22,0)+1) -> 3333.33 | P22: 0 | Q22: 0 | R22: 0 | S22: 0 | T22: 0 | U22: 0 | V22: 0 | W22: 자재 18 | X22: 대기압상태기준
A23: 5FDB455D1D242C824788166C1F1AD7340800AB | B23: 모르타르액체방수제 | D23: L | E23: 0 | G23: 0 | I23: 0 | K23: 590 | L23: 503 | M23: 0 | O23: =SMALL(E23:M23,COUNTIF(E23:M23,0)+1) -> 590 | P23: 0 | Q23: 0 | R23: 0 | S23: 0 | T23: 0 | U23: 0 | V23: 0 | W23: 자재 19 | X23: 10,630/18L
A24: 5FDB55625E2E2E86C23DE462F5506EF1C34148 | B24: 폴리에틸렌필름 | C24: 폴리에틸렌필름, 두께, 0.05mm | D24: M2 | E24: 309 | G24: 308.18 | H24: 1460 | I24: 402.56 | J24: 1182 | K24: 0 | M24: 0 | O24: =SMALL(E24:M24,COUNTIF(E24:M24,0)+1) -> 308.18 | P24: 0 | Q24: 0 | R24: 0 | S24: 0 | T24: 0 | U24: 0 | V24: 0 | W24: 자재 20
A25: 5FDB35B7B82B2A8F50199B65E2435FEA785320 | B25: 경유 | C25: 경유, 저유황 | D25: L | E25: 0 | G25: 1839.09 | H25: 1451 | I25: 1822.72 | J25: 1189 | K25: 0 | M25: 0 | O25: =SMALL(E25:M25,COUNTIF(E25:M25,0)+1) -> 1822.72 | P25: 0 | Q25: 0 | R25: 0 | S25: 0 | T25: 0 | U25: 0 | V25: 0 | W25: 자재 21
A26: 5FDB35B7B82B2A8F5019A56C6C48B5AAF1C1B4 | B26: 공업용휘발유 | C26: 공업용휘발유, 무연 | D26: L | E26: 0 | G26: 1838.18 | H26: 1451 | I26: 1827.27 | J26: 1189 | K26: 0 | M26: 0 | O26: =SMALL(E26:M26,COUNTIF(E26:M26,0)+1) -> 1827.27 | P26: 0 | Q26: 0 | R26: 0 | S26: 0 | T26: 0 | U26: 0 | V26: 0 | W26: 자재 22
A27: 5FDB35B7B924238755A5F36F46E55D7D6193F6 | B27: 액화석유가스 | C27: 액화석유가스, 건설용 LPG | D27: kg | E27: 2076 | G27: 0 | I27: 0 | K27: 0 | M27: 0 | O27: =SMALL(E27:M27,COUNTIF(E27:M27,0)+1) -> 2076 | P27: 0 | Q27: 0 | R27: 0 | S27: 0 | T27: 0 | U27: 0 | V27: 0 | W27: 자재 23
A28: 5FE59518EB2C2D8A97EF7866370AA394953EFD | B28: 안전발판 | C28: PSP, 3040*420*3mm | D28: 매 | E28: 0 | G28: 31000 | H28: 172 | I28: 0 | K28: 0 | M28: 0 | O28: =SMALL(E28:M28,COUNTIF(E28:M28,0)+1) -> 31000 | P28: 0 | Q28: 0 | R28: 0 | S28: 0 | T28: 0 | U28: 0 | V28: 0 | W28: 자재 24
A29: 5FF645E7FE26278D69E155675896C3A82ED501 | B29: ㄱ형강 | C29: ㄱ형강, 등변, 40*40*3mm | D29: kg | E29: 940 | G29: 1080 | H29: 55 | I29: 1100 | J29: 21 | K29: 0 | M29: 0 | O29: =SMALL(E29:M29,COUNTIF(E29:M29,0)+1) -> 940 | P29: 0 | Q29: 0 | R29: 0 | S29: 0 | T29: 0 | U29: 0 | V29: 0 | W29: 자재 25
A30: 5FF645E7FE26278D69E155675896C3A82FE550 | B30: ㄱ형강 | C30: ㄱ형강, 등변, 70*70*6mm | D30: kg | E30: 0 | G30: 1080 | H30: 55 | I30: 0 | K30: 0 | M30: 0 | O30: =SMALL(E30:M30,COUNTIF(E30:M30,0)+1) -> 1080 | P30: 0 | Q30: 0 | R30: 0 | S30: 0 | T30: 0 | U30: 0 | V30: 0 | W30: 자재 26
A31: 5FF645E7FE26278D4D1A05676241EECA3B43F8 | B31: 보조강재 | C31: 대강 | D31: kg | E31: 0 | G31: 1080 | H31: 53 | I31: 0 | K31: 0 | M31: 0 | O31: =SMALL(E31:M31,COUNTIF(E31:M31,0)+1) -> 1080 | P31: 0 | Q31: 0 | R31: 0 | S31: 0 | T31: 0 | U31: 0 | V31: 0 | W31: 자재 30
A32: 5FF645E7FE26278D4D1A05676368F20C0E4EEC | B32: H형강 | C32: SS275, 200*100*5.5*8mm, 현장도착도 | D32: TON | E32: 0 | G32: 1250000 | H32: 56 | I32: 1240000 | J32: 19 | K32: 0 | M32: 0 | O32: =SMALL(E32:M32,COUNTIF(E32:M32,0)+1) -> 1240000 | P32: 0 | Q32: 0 | R32: 0 | S32: 0 | T32: 0 | U32: 0 | V32: 0 | W32: 자재 31 | X32: 21.3kg/m
A33: 5FF645E7FE26278D4D1A05676368F20C0E4EE3 | B33: H형강 | C33: SS275, 194*150*6*9mm, 현장도착도 | D33: TON | E33: 0 | G33: 0 | I33: 1240000 | J33: 19 | K33: 0 | M33: 0 | O33: =SMALL(E33:M33,COUNTIF(E33:M33,0)+1) -> 1240000 | P33: 0 | Q33: 0 | R33: 0 | S33: 0 | T33: 0 | U33: 0 | V33: 0 | W33: 자재 32 | X33: 30.6kg/m
A34: 5FF645E7FE26278D4D1A05676368F20C0E4C3C | B34: H형강 | C34: SS275, 300*150*6.5*9mm, 현장도착도 | D34: TON | E34: 0 | G34: 1250000 | H34: 56 | I34: 1240000 | J34: 19 | K34: 0 | M34: 0 | O34: =SMALL(E34:M34,COUNTIF(E34:M34,0)+1) -> 1240000 | P34: 0 | Q34: 0 | R34: 0 | S34: 0 | T34: 0 | U34: 0 | V34: 0 | W34: 자재 33 | X34: 36.7kg/m
A35: 5FF645E7FE26278D4D1A0564AE98CD73E32C61 | B35: 경량형강 | C35: 경량형강, 블랙C형강, 100*50*20, t2.3 | D35: TON | E35: 1010000 | G35: 1090000 | H35: 58 | I35: 1087000 | J35: 24 | K35: 0 | M35: 0 | O35: =SMALL(E35:M35,COUNTIF(E35:M35,0)+1) -> 1010000 | P35: 0 | Q35: 0 | R35: 0 | S35: 0 | T35: 0 | U35: 0 | V35: 0 | W35: 자재 34
A36: 5FF645E7FE26278D4D1A0564AE98CD73E32C66 | B36: 경량형강 | C36: 경량형강, 블랙C형강, 150*50*20, t3.2 | D36: TON | E36: 1010000 | G36: 1090000 | H36: 58 | I36: 1087000 | J36: 24 | K36: 0 | M36: 0 | O36: =SMALL(E36:M36,COUNTIF(E36:M36,0)+1) -> 1010000 | P36: 0 | Q36: 0 | R36: 0 | S36: 0 | T36: 0 | U36: 0 | V36: 0 | W36: 자재 35
A37: 5FF645E7FE262481D970196E24F7A2D67C6638 | B37: 일반구조용압연강판 | C37: 일반구조용압연강판, 6.0mm | D37: TON | E37: 1092465 | G37: 1193500 | H37: 62 | I37: 0 | K37: 0 | M37: 0 | O37: =SMALL(E37:M37,COUNTIF(E37:M37,0)+1) -> 1092465 | P37: 0 | Q37: 0 | R37: 0 | S37: 0 | T37: 0 | U37: 0 | V37: 0 | W37: 자재 36
A38: 5FF645E7FE262481D970196E24F7A2D67C6634 | B38: 일반구조용압연강판 | C38: 일반구조용압연강판, 16mm | D38: TON | E38: 990000 | G38: 1080000 | H38: 62 | I38: 0 | K38: 0 | M38: 0 | O38: =SMALL(E38:M38,COUNTIF(E38:M38,0)+1) -> 990000 | P38: 0 | Q38: 0 | R38: 0 | S38: 0 | T38: 0 | U38: 0 | V38: 0 | W38: 자재 37
A39: 5FF645E7FE262481D970196E24F7A2D677EB17 | B39: 도장용융아연도강판 | C39: 도장용융아연도강판, 폴리에스터(양면), 0.50mm | D39: kg | E39: 0 | G39: 1717 | H39: 67 | I39: 1824.81 | J39: 29 | K39: 0 | M39: 0 | O39: =SMALL(E39:M39,COUNTIF(E39:M39,0)+1) -> 1717 | P39: 0 | Q39: 0 | R39: 0 | S39: 0 | T39: 0 | U39: 0 | V39: 0 | W39: 자재 38
A40: 5FF645E7FE262481D970196E24F7A2D677E4E7 | B40: 도장용융아연도강판 | C40: 도장용융아연도강판, 폴리에스터(양면), 1.60mm | D40: kg | E40: 0 | G40: 1604 | H40: 67 | I40: 1697.5 | J40: 29 | K40: 0 | M40: 0 | O40: =SMALL(E40:M40,COUNTIF(E40:M40,0)+1) -> 1604 | P40: 0 | Q40: 0 | R40: 0 | S40: 0 | T40: 0 | U40: 0 | V40: 0 | W40: 자재 39
A41: 5FF645E7FE262481D970196E2594175CEF80A9 | B41: 일반구조용압연강판 | C41: 일반구조용압연강판, 9.0mm | D41: TON | E41: 1040094 | G41: 1130600 | H41: 62 | I41: 0 | K41: 0 | M41: 0 | O41: =SMALL(E41:M41,COUNTIF(E41:M41,0)+1) -> 1040094 | P41: 0 | Q41: 0 | R41: 0 | S41: 0 | T41: 0 | U41: 0 | V41: 0 | W41: 자재 40
A42: 5FF645E7FE262481D970196E2594175CEF80AA | B42: 일반구조용압연강판 | C42: 일반구조용압연강판, 13mm | D42: TON | E42: 990000 | G42: 1080000 | H42: 62 | I42: 0 | K42: 0 | M42: 0 | O42: =SMALL(E42:M42,COUNTIF(E42:M42,0)+1) -> 990000 | P42: 0 | Q42: 0 | R42: 0 | S42: 0 | T42: 0 | U42: 0 | V42: 0 | W42: 자재 41
A43: 5FF645E7FE262582024E13678795627C1C4DAD | B43: 각재 | C43: 각재, 외송 | D43: M3 | E43: 571556 | G43: 634730.53 | H43: 147 | I43: 571556.88 | J43: 73 | K43: 0 | M43: 0 | O43: =SMALL(E43:M43,COUNTIF(E43:M43,0)+1) -> 571556 | P43: 0 | Q43: 0 | R43: 0 | S43: 0 | T43: 0 | U43: 0 | V43: 0 | W43: 자재 42
A44: 5FF645E7FF202C895C8E87662FA3D48F6C29B9 | B44: 무수축모르타르 | C44: GP600 | D44: kg | E44: 0 | G44: 400 | H44: 105 | I44: 0 | K44: 0 | M44: 0 | O44: =SMALL(E44:M44,COUNTIF(E44:M44,0)+1) -> 400 | P44: 0 | Q44: 0 | R44: 0 | S44: 0 | T44: 0 | U44: 0 | V44: 0 | W44: 자재 43
A45: 5FF645E7FF202C896EFF4868D16D094CA94612 | B45: 시멘트 | C45: 시멘트 | D45: kg | E45: 0 | G45: 0 | I45: 0 | K45: 166 | L45: 63 | M45: 0 | O45: =SMALL(E45:M45,COUNTIF(E45:M45,0)+1) -> 166 | P45: 0 | Q45: 0 | R45: 0 | S45: 0 | T45: 0 | U45: 0 | V45: 0 | W45: 자재 47
A46: 5FF645E7FF202C896EFF4868D16D094AE53BFE | B46: 특수시멘트 | C46: 특수시멘트, 백색시멘트 | D46: kg | E46: 0 | G46: 375 | H46: 102 | I46: 456.81 | J46: 62 | K46: 0 | M46: 0 | O46: =SMALL(E46:M46,COUNTIF(E46:M46,0)+1) -> 375 | P46: 0 | Q46: 0 | R46: 0 | S46: 0 | T46: 0 | U46: 0 | V46: 0 | W46: 자재 48
A47: 5FF645E7FF202C896EFF4868D16D094AE53712 | B47: 타일시멘트 | C47: 타일시멘트, 압착용, 회색 | D47: kg | E47: 0 | G47: 0 | I47: 240 | J47: 64 | K47: 0 | M47: 0 | O47: =SMALL(E47:M47,COUNTIF(E47:M47,0)+1) -> 240 | P47: 0 | Q47: 0 | R47: 0 | S47: 0 | T47: 0 | U47: 0 | V47: 0 | W47: 자재 49
A48: 5FF645E7FF202C896EFF4868D16D094AEAA0AF | B48: 타일시멘트 | C48: 타일시멘트, 줄눈용, 백색 | D48: kg | E48: 0 | G48: 292 | H48: 104 | I48: 228 | J48: 64 | K48: 0 | M48: 0 | O48: =SMALL(E48:M48,COUNTIF(E48:M48,0)+1) -> 228 | P48: 0 | Q48: 0 | R48: 0 | S48: 0 | T48: 0 | U48: 0 | V48: 0 | W48: 자재 50
A49: 5FF645E7FD252E833D89186594EC940A999910 | B49: 자기질타일 | C49: 자기질타일, 무유, 300*300*8~11mm | D49: M2 | E49: 15000 | G49: 0 | I49: 0 | K49: 0 | M49: 0 | O49: =SMALL(E49:M49,COUNTIF(E49:M49,0)+1) -> 15000 | P49: 0 | Q49: 0 | R49: 0 | S49: 0 | T49: 0 | U49: 0 | V49: 0 | W49: 자재 51
A50: 5FF645E7FD252E833D89186594E459C8C2E653 | B50: 도기질타일 | C50: 도기질타일, 일반색, 250*400*7.5mm, 300*300mm | D50: M2 | E50: 12000 | G50: 16000 | H50: 565 | I50: 12000 | J50: 373 | K50: 0 | M50: 0 | O50: =SMALL(E50:M50,COUNTIF(E50:M50,0)+1) -> 12000 | P50: 0 | Q50: 0 | R50: 0 | S50: 0 | T50: 0 | U50: 0 | V50: 0 | W50: 자재 52
A51: 5FF645E7FA282A8505C6036AF81759D235A98C | B51: 발포폴리스티렌단열재 | C51: 발포폴리스티렌단열재, 0.03, 900*1800*100mm, 1종 | D51: M2 | E51: 14134 | G51: 14012.34 | H51: 699 | I51: 14320.98 | J51: 393 | K51: 0 | M51: 0 | O51: =SMALL(E51:M51,COUNTIF(E51:M51,0)+1) -> 14012.34 | P51: 0 | Q51: 0 | R51: 0 | S51: 0 | T51: 0 | U51: 0 | V51: 0 | W51: 자재 53
A52: 5FF645E7FB292387CC0E2868687A230F2C3A47 | B52: 샌드위치패널 | C52: 준불연, 지붕재, 50mm | D52: M2 | E52: 0 | G52: 0 | I52: 0 | K52: 39600 | L52: 514 | M52: 0 | O52: =SMALL(E52:M52,COUNTIF(E52:M52,0)+1) -> 39600 | P52: 0 | Q52: 0 | R52: 0 | S52: 0 | T52: 0 | U52: 0 | V52: 0 | W52: 자재 54
A53: 5FF645E7FB292387CC0E2868687A230F2C3A42 | B53: 샌드위치패널 | C53: 준불연, 벽재, 50mm | D53: M2 | E53: 0 | G53: 0 | I53: 0 | K53: 39200 | L53: 514 | M53: 0 | O53: =SMALL(E53:M53,COUNTIF(E53:M53,0)+1) -> 39200 | P53: 0 | Q53: 0 | R53: 0 | S53: 0 | T53: 0 | U53: 0 | V53: 0 | W53: 자재 55
A54: 5FF645E7FB292387CC0E2868687A230F2C3A43 | B54: 샌드위치패널 | C54: 준불연, 벽재, 75mm | D54: M2 | E54: 0 | G54: 0 | I54: 0 | K54: 43200 | L54: 514 | M54: 0 | O54: =SMALL(E54:M54,COUNTIF(E54:M54,0)+1) -> 43200 | P54: 0 | Q54: 0 | R54: 0 | S54: 0 | T54: 0 | U54: 0 | V54: 0 | W54: 자재 56
A55: 5FF645E7FB292387CC0E2868687A230F2C3438 | B55: 샌드위치패널 | C55: 준불연, 횡판넬, 벽재, 125mm | D55: M2 | E55: 0 | G55: 0 | I55: 0 | K55: 51200 | L55: 514 | M55: 0 | O55: =SMALL(E55:M55,COUNTIF(E55:M55,0)+1) -> 51200 | P55: 0 | Q55: 0 | R55: 0 | S55: 0 | T55: 0 | U55: 0 | V55: 0 | W55: 자재 57
A56: 5FF645E7F82D2C8FC8A7E0651E6FAF9780759F | B56: 종이벽지 | C56: 종이벽지, 초배지 | D56: M2 | E56: 242 | G56: 296.88 | H56: 692 | I56: 0 | K56: 0 | M56: 0 | O56: =SMALL(E56:M56,COUNTIF(E56:M56,0)+1) -> 242 | P56: 0 | Q56: 0 | R56: 0 | S56: 0 | T56: 0 | U56: 0 | V56: 0 | W56: 자재 58
A57: 5FF645E7F82D2C8FC8A7E0651E6FAF978101D7 | B57: 방염벽지 | C57: 방염벽지 | D57: M2 | E57: 0 | G57: 0 | I57: 0 | K57: 5500 | L57: 704 | M57: 0 | O57: =SMALL(E57:M57,COUNTIF(E57:M57,0)+1) -> 5500 | P57: 0 | Q57: 0 | R57: 0 | S57: 0 | T57: 0 | U57: 0 | V57: 0 | W57: 자재 59
A58: 5FF645E7F82D2C8FC8A7526BA84AFCB266B7AA | B58: 석고보드 | C58: 석고보드, 평보드, 9.5*900*1800mm(㎡) | D58: M2 | E58: 2962 | G58: 2962.96 | H58: 671 | I58: 3177.77 | J58: 408 | K58: 0 | M58: 0 | O58: =SMALL(E58:M58,COUNTIF(E58:M58,0)+1) -> 2962 | P58: 0 | Q58: 0 | R58: 0 | S58: 0 | T58: 0 | U58: 0 | V58: 0 | W58: 자재 60
A59: 5FF645E7F82D2C8FF5ED8C673070C550F1B19F | B59: 열경화성수지천장재(KMC)-현징설치도 | C59: 300*300*1.5T, 신원형, 신사각, 원형, 평판 | D59: M2 | E59: 0 | G59: 67000 | H59: 678 | I59: 0 | K59: 0 | M59: 0 | O59: =SMALL(E59:M59,COUNTIF(E59:M59,0)+1) -> 67000 | P59: 0 | Q59: 0 | R59: 0 | S59: 0 | T59: 0 | U59: 0 | V59: 0 | W59: 자재 61
A60: 5FF645E7F82D2C8FF5EDE66F0EEDC670E0124E | B60: 경량철골천장틀 | C60: 경량철골천장틀, M-BAR더블, 50*19*0.5mm | D60: M | E60: 0 | G60: 0 | I60: 1550 | J60: 420 | K60: 0 | M60: 0 | O60: =SMALL(E60:M60,COUNTIF(E60:M60,0)+1) -> 1550 | P60: 0 | Q60: 0 | R60: 0 | S60: 0 | T60: 0 | U60: 0 | V60: 0 | W60: 자재 62
A61: 5FF645E7F82D2C8FF5EDE66F0EEDC670E01519 | B61: 경량철골천장틀 | C61: 경량철골천장틀, 달대볼트, 상6*1000mm | D61: 개 | E61: 0 | G61: 570 | H61: 90 | I61: 0 | K61: 0 | M61: 0 | O61: =SMALL(E61:M61,COUNTIF(E61:M61,0)+1) -> 570 | P61: 0 | Q61: 0 | R61: 0 | S61: 0 | T61: 0 | U61: 0 | V61: 0 | W61: 자재 63
A62: 5FF645E7F82D2C8FF5EDE66F0EEDC670E01625 | B62: 경량철골천장틀 | C62: 경량철골천장틀, 캐링찬넬, 38*12*1.2mm | D62: M | E62: 0 | G62: 0 | I62: 1290 | J62: 420 | K62: 0 | M62: 0 | O62: =SMALL(E62:M62,COUNTIF(E62:M62,0)+1) -> 1290 | P62: 0 | Q62: 0 | R62: 0 | S62: 0 | T62: 0 | U62: 0 | V62: 0 | W62: 자재 64
A63: 5FF645E7F82D2C8FF5EDE66F0EEDC670E01624 | B63: 경량철골천장틀 | C63: 경량철골천장틀, 마이너찬넬, 19*10*1.2mm | D63: M | E63: 0 | G63: 0 | I63: 800 | J63: 420 | K63: 0 | M63: 0 | O63: =SMALL(E63:M63,COUNTIF(E63:M63,0)+1) -> 800 | P63: 0 | Q63: 0 | R63: 0 | S63: 0 | T63: 0 | U63: 0 | V63: 0 | W63: 자재 65
A64: 5FF645E7F82D2C8FF5EDE66F0EEDC670E01626 | B64: 경량철골천장틀 | C64: 경량철골천장틀, 찬넬크립, 37*30*10*1.2mm | D64: 조 | E64: 0 | G64: 0 | I64: 0 | K64: 0 | M64: 111 | O64: =SMALL(E64:M64,COUNTIF(E64:M64,0)+1) -> 111 | P64: 0 | Q64: 0 | R64: 0 | S64: 0 | T64: 0 | U64: 0 | V64: 0 | W64: 자재 66
A65: 5FF645E7F82D2C8FF5EDE66F0EEDC670E01621 | B65: 경량철골천장틀 | C65: 경량철골천장틀, 캐링조인트, 90*40*13*0.5mm | D65: 조 | E65: 0 | G65: 0 | I65: 0 | K65: 0 | M65: 107 | O65: =SMALL(E65:M65,COUNTIF(E65:M65,0)+1) -> 107 | P65: 0 | Q65: 0 | R65: 0 | S65: 0 | T65: 0 | U65: 0 | V65: 0 | W65: 자재 67
A66: 5FF645E7F82D2C8FF5EDE66F0EEDC670E01620 | B66: 경량철골천장틀 | C66: 경량철골천장틀, BAR크립, 더블 | D66: 개 | E66: 0 | G66: 0 | I66: 0 | K66: 0 | M66: 60 | O66: =SMALL(E66:M66,COUNTIF(E66:M66,0)+1) -> 60 | P66: 0 | Q66: 0 | R66: 0 | S66: 0 | T66: 0 | U66: 0 | V66: 0 | W66: 자재 68
A67: 5FF645E7F82D2C8FF5EDE66F0EEDC670E01622 | B67: 경량철골천장틀 | C67: 경량철골천장틀, BAR조인트, 더블 | D67: 개 | E67: 0 | G67: 0 | I67: 0 | K67: 0 | M67: 80 | O67: =SMALL(E67:M67,COUNTIF(E67:M67,0)+1) -> 80 | P67: 0 | Q67: 0 | R67: 0 | S67: 0 | T67: 0 | U67: 0 | V67: 0 | W67: 자재 69
A68: 5FF645E7F82D2C8FF5EDE66F0EEDC670E018D2 | B68: 경량철골천장틀 | C68: 경량철골천장틀, 몰딩(알루미늄), L형, 19*19*1.0mm | D68: M | E68: 0 | G68: 0 | I68: 0 | K68: 0 | M68: 2050 | N68: 643물정 | O68: =SMALL(E68:M68,COUNTIF(E68:M68,0)+1) -> 2050 | P68: 0 | Q68: 0 | R68: 0 | S68: 0 | T68: 0 | U68: 0 | V68: 0 | W68: 자재 70
A69: 5FF645E7F82D2C8FF5EDE66F0EE85DE55A94A6 | B69: 몰딩(알루미늄) | C69: ㄷ형, 15*30*15*1.0mm | D69: M | E69: 0 | G69: 0 | I69: 0 | K69: 0 | M69: 2000 | N69: 643물정 | O69: =SMALL(E69:M69,COUNTIF(E69:M69,0)+1) -> 2000 | P69: 0 | Q69: 0 | R69: 0 | S69: 0 | T69: 0 | U69: 0 | V69: 0 | W69: 자재 71
A70: 5FF645E7F82D2C8FEB75776B02B6379EEB2AC0 | B70: 굽도리 | C70: 굽도리, 3.2*103mm, 이중구조, PVC | D70: M | E70: 0 | G70: 1320 | H70: 692 | I70: 0 | K70: 0 | M70: 0 | O70: =SMALL(E70:M70,COUNTIF(E70:M70,0)+1) -> 1320 | P70: 0 | Q70: 0 | R70: 0 | S70: 0 | T70: 0 | U70: 0 | V70: 0 | W70: 자재 72
A71: 5FF645E7F92E2589C3DEA7642A1FE527F17CF4 | B71: 철재후라쉬도아(함마톤), 문틀 포함 | C71: 240*45*1.6T, 0.9*2.1, 편개 | D71: M2 | E71: 225900 | G71: 0 | I71: 0 | K71: 0 | M71: 0 | O71: =SMALL(E71:M71,COUNTIF(E71:M71,0)+1) -> 225900 | P71: 0 | Q71: 0 | R71: 0 | S71: 0 | T71: 0 | U71: 0 | V71: 0 | W71: 자재 73
A72: 5FF645E7F92E2589C3CCC46B65DD7F43BBF017 | B72: 도어클로저 | C72: 도어클로저, K-2850, KS5호, 고급방화, 80∼120kg | D72: 조 | E72: 105000 | G72: 106000 | H72: 656 | I72: 0 | K72: 0 | M72: 0 | O72: =SMALL(E72:M72,COUNTIF(E72:M72,0)+1) -> 105000 | P72: 0 | Q72: 0 | R72: 0 | S72: 0 | T72: 0 | U72: 0 | V72: 0 | W72: 자재 74
A73: 5FF645E7F92E2589C3F99F6B765FC3D886F40A | B73: 플라스틱 미서기창(복층) | C73: 116mm WHIT | D73: M2 | E73: 0 | G73: 0 | I73: 0 | K73: 142600 | L73: 547 | M73: 0 | O73: =SMALL(E73:M73,COUNTIF(E73:M73,0)+1) -> 142600 | P73: 0 | Q73: 0 | R73: 0 | S73: 0 | T73: 0 | U73: 0 | V73: 0 | W73: 자재 75 | X73: 시공도
A74: 5FF645E7F92E2589FF881F627DB4B077BD21F4 | B74: PVC방충망(백색) | D74: M2 | E74: 0 | G74: 0 | I74: 0 | K74: 39000 | L74: 547 | M74: 0 | O74: =SMALL(E74:M74,COUNTIF(E74:M74,0)+1) -> 39000 | P74: 0 | Q74: 0 | R74: 0 | S74: 0 | T74: 0 | U74: 0 | V74: 0 | W74: 자재 76
A75: 5FF645E7F92E2589FF881F6157B034235C1452 | B75: 합성수지도어(문틀포함) | C75: 0.9*2.1*0.14 | D75: SET | E75: 0 | G75: 0 | I75: 0 | K75: 366000 | L75: 548 | M75: 0 | O75: =SMALL(E75:M75,COUNTIF(E75:M75,0)+1) -> 366000 | P75: 0 | Q75: 0 | R75: 0 | S75: 0 | T75: 0 | U75: 0 | V75: 0 | W75: 자재 77
A76: 5FF645E7F92E2589EE22AA6F9D01CB88C243D7 | B76: 로이복층유리 22mm(5+12A+5) | C76: 로이(반강화)+아르곤공기(SWS-단열간봉)+투명 | D76: M2 | E76: 0 | G76: 0 | I76: 0 | K76: 69100 | L76: 585 | M76: 0 | O76: =SMALL(E76:M76,COUNTIF(E76:M76,0)+1) -> 69100 | P76: 0 | Q76: 0 | R76: 0 | S76: 0 | T76: 0 | U76: 0 | V76: 0 | W76: 자재 78
A77: 5FF645E7F7232685144F33651DEB937EB20A4E | B77: 비계안정장치 | C77: 비계안정장치, 비계기본틀, 기둥, 1.2*1.7m | D77: 개 | E77: 27739 | G77: 0 | I77: 0 | K77: 0 | M77: 0 | O77: =SMALL(E77:M77,COUNTIF(E77:M77,0)+1) -> 27739 | P77: 0 | Q77: 0 | R77: 0 | S77: 0 | T77: 0 | U77: 0 | V77: 0 | W77: 자재 79
A78: 5FF645E7F7232685144F33651DEB937EB20A40 | B78: 비계안정장치 | C78: 비계안정장치, 가새, 1.2*1.9m | D78: 개 | E78: 9246 | G78: 10000 | H78: 167 | I78: 0 | K78: 0 | M78: 0 | O78: =SMALL(E78:M78,COUNTIF(E78:M78,0)+1) -> 9246 | P78: 0 | Q78: 0 | R78: 0 | S78: 0 | T78: 0 | U78: 0 | V78: 0 | W78: 자재 80
A79: 5FF645E7F7232685144F33651DEB937EB205C5 | B79: 비계안정장치 | C79: 비계안정장치, 수평띠장, 1829mm | D79: 개 | E79: 0 | G79: 25000 | H79: 167 | I79: 0 | K79: 0 | M79: 0 | O79: =SMALL(E79:M79,COUNTIF(E79:M79,0)+1) -> 25000 | P79: 0 | Q79: 0 | R79: 0 | S79: 0 | T79: 0 | U79: 0 | V79: 0 | W79: 자재 81
A80: 5FF645E7F7232685144F33651DEB937EB205C1 | B80: 비계안정장치 | C80: 비계안정장치, 바퀴 | D80: 개 | E80: 0 | G80: 9500 | H80: 167 | I80: 0 | K80: 0 | M80: 0 | O80: =SMALL(E80:M80,COUNTIF(E80:M80,0)+1) -> 9500 | P80: 0 | Q80: 0 | R80: 0 | S80: 0 | T80: 0 | U80: 0 | V80: 0 | W80: 자재 82
A81: 5FF645E7F7232685144F33651DEB937EB205C0 | B81: 비계안정장치 | C81: 비계안정장치, 쟈키 | D81: 개 | E81: 0 | G81: 11000 | H81: 167 | I81: 0 | K81: 0 | M81: 0 | O81: =SMALL(E81:M81,COUNTIF(E81:M81,0)+1) -> 11000 | P81: 0 | Q81: 0 | R81: 0 | S81: 0 | T81: 0 | U81: 0 | V81: 0 | W81: 자재 83
A82: 5FF645E7F7232E8A4612326F1448826F13D5E6 | B82: 건설용거푸집 | C82: 건설용거푸집, 강, 600*1200*63.5mm | D82: 매 | E82: 26885 | G82: 29000 | H82: 167 | I82: 0 | K82: 0 | M82: 0 | O82: =SMALL(E82:M82,COUNTIF(E82:M82,0)+1) -> 26885 | P82: 0 | Q82: 0 | R82: 0 | S82: 0 | T82: 0 | U82: 0 | V82: 0 | W82: 자재 84
A83: 5FF6558D44262B84A28C9A66BF0F9BCFD57561 | B83: 철선 | C83: 철선, 어닐링, ∮0.9mm | D83: kg | E83: 1554 | G83: 1780 | H83: 83 | I83: 1830 | J83: 42 | K83: 0 | M83: 0 | O83: =SMALL(E83:M83,COUNTIF(E83:M83,0)+1) -> 1554 | P83: 0 | Q83: 0 | R83: 0 | S83: 0 | T83: 0 | U83: 0 | V83: 0 | W83: 자재 85
A84: 5FF6558D4723278EAE3BE365E0D9F88B75BB24 | B84: 기초앵커볼트(L형) | C84: M20, L:600 | D84: 개 | E84: 0 | G84: 0 | I84: 0 | K84: 6600 | L84: 53 | M84: 0 | O84: =SMALL(E84:M84,COUNTIF(E84:M84,0)+1) -> 6600 | P84: 0 | Q84: 0 | R84: 0 | S84: 0 | T84: 0 | U84: 0 | V84: 0 | W84: 자재 86
A85: 5FF6558D4723278EAE29B86AE13B8CD5B0CB99 | B85: 고장력볼트 | C85: 고장력볼트, F10T, M20*65mm | D85: 조 | E85: 931 | G85: 939 | H85: 91 | I85: 1353 | J85: 49 | K85: 0 | M85: 0 | O85: =SMALL(E85:M85,COUNTIF(E85:M85,0)+1) -> 931 | P85: 0 | Q85: 0 | R85: 0 | S85: 0 | T85: 0 | U85: 0 | V85: 0 | W85: 자재 87
A86: 5FF6558D4723278EAE1F2561B6960BE98AC406 | B86: 육각볼트 | C86: 육각볼트, M20*100 | D86: 개 | E86: 755 | G86: 948 | H86: 90 | I86: 943 | J86: 49 | K86: 0 | M86: 0 | O86: =SMALL(E86:M86,COUNTIF(E86:M86,0)+1) -> 755 | P86: 0 | Q86: 0 | R86: 0 | S86: 0 | T86: 0 | U86: 0 | V86: 0 | W86: 자재 88
A87: 5FF6558D47232481CEEDAD672DE7E786EEB36C | B87: 도어힌지 | C87: 도어힌지, 스테인리스강, 베어링2개, 101.6*3.0mm | D87: 개 | E87: 0 | G87: 5300 | H87: 658 | I87: 0 | K87: 0 | M87: 0 | O87: =SMALL(E87:M87,COUNTIF(E87:M87,0)+1) -> 5300 | P87: 0 | Q87: 0 | R87: 0 | S87: 0 | T87: 0 | U87: 0 | V87: 0 | W87: 자재 89
A88: 5FF6558D47232481CEEDAD672DE7E16FAA9014 | B88: 피벗힌지 | C88: 피벗힌지, 100kg, 방화문용 | D88: 조 | E88: 70000 | G88: 70000 | H88: 658 | I88: 70000 | J88: 454 | K88: 0 | M88: 0 | O88: =SMALL(E88:M88,COUNTIF(E88:M88,0)+1) -> 70000 | P88: 0 | Q88: 0 | R88: 0 | S88: 0 | T88: 0 | U88: 0 | V88: 0 | W88: 자재 90
A89: 5FF6558D4723248103D7096E3A83AC67A91401 | B89: 도어핸들 | C89: 도어핸들, KNOB 9000 스텐, (현관, 방화문) | D89: 조 | E89: 0 | G89: 0 | I89: 43000 | J89: 457 | K89: 0 | M89: 0 | O89: =SMALL(E89:M89,COUNTIF(E89:M89,0)+1) -> 43000 | P89: 0 | Q89: 0 | R89: 0 | S89: 0 | T89: 0 | U89: 0 | V89: 0 | W89: 자재 91
A90: 5FF6558D4723248103D7096E3A83AC67A876F8 | B90: 도어핸들 | C90: 도어핸들, 9000PB, 레바형 | D90: 조 | E90: 0 | G90: 0 | I90: 31000 | J90: 485 | K90: 0 | M90: 0 | O90: =SMALL(E90:M90,COUNTIF(E90:M90,0)+1) -> 31000 | P90: 0 | Q90: 0 | R90: 0 | S90: 0 | T90: 0 | U90: 0 | V90: 0 | W90: 자재 92
A91: 5FF6558E682B2685AE715064C34DFA82A84588 | B91: 초산비닐계접착제 | C91: 초산비닐계접착제, 벽지용 | D91: kg | E91: 1352 | G91: 3200 | H91: 692 | I91: 0 | K91: 0 | M91: 0 | O91: =SMALL(E91:M91,COUNTIF(E91:M91,0)+1) -> 1352 | P91: 0 | Q91: 0 | R91: 0 | S91: 0 | T91: 0 | U91: 0 | V91: 0 | W91: 자재 93
A92: 5FF6558E682B2685AE715064C34DFA82A842CD | B92: 석고본드 | C92: 석고 | D92: kg | E92: 0 | G92: 540 | H92: 671 | I92: 575.52 | J92: 408 | K92: 0 | M92: 0 | O92: =SMALL(E92:M92,COUNTIF(E92:M92,0)+1) -> 540 | P92: 0 | Q92: 0 | R92: 0 | S92: 0 | T92: 0 | U92: 0 | V92: 0 | W92: 자재 94
A93: 5FF6558E682B2685AE710866639AA48C18F05F | B93: 고무접착제 | C93: 고무접착제, 건설용고무풀 | D93: kg | E93: 0 | G93: 11000 | H93: 146 | I93: 0 | K93: 0 | M93: 0 | O93: =SMALL(E93:M93,COUNTIF(E93:M93,0)+1) -> 11000 | P93: 0 | Q93: 0 | R93: 0 | S93: 0 | T93: 0 | U93: 0 | V93: 0 | W93: 자재 95
A94: 5FF6558E682B2685AE71356AC2D5B4603AA7A1 | B94: 에폭시접착제 | C94: 에폭시접착제, 세라믹타일용 | D94: kg | E94: 2005 | G94: 3565 | H94: 146 | I94: 0 | K94: 0 | M94: 0 | O94: =SMALL(E94:M94,COUNTIF(E94:M94,0)+1) -> 2005 | P94: 0 | Q94: 0 | R94: 0 | S94: 0 | T94: 0 | U94: 0 | V94: 0 | W94: 자재 96
A95: 5FF6558E69252F8F66EDFE6FA84485D421C60D | B95: 에폭시페인트 | C95: EP1730 비철금속용 프라이머(회색) | D95: L | E95: 0 | G95: 11250 | H95: 618 | I95: 12000 | J95: 476 | K95: 0 | M95: 0 | O95: =SMALL(E95:M95,COUNTIF(E95:M95,0)+1) -> 11250 | P95: 0 | Q95: 0 | R95: 0 | S95: 0 | T95: 0 | U95: 0 | V95: 0 | W95: 자재 97
A96: 5FF6558E69252F8F66EDFE6FA84485D421C711 | B96: 유니폭시 투명라이닝 | C96: 후막형 투명 에폭시 바닥마감재(2~3mm) | D96: L | E96: 0 | G96: 12281.25 | H96: 618 | I96: 13187.91 | J96: 476 | K96: 0 | M96: 0 | O96: =SMALL(E96:M96,COUNTIF(E96:M96,0)+1) -> 12281.25 | P96: 0 | Q96: 0 | R96: 0 | S96: 0 | T96: 0 | U96: 0 | V96: 0 | W96: 자재 98
A97: 5FF6558E69252F8F667AD469EC58CD21F8F912 | B97: 방청페인트 | C97: 방청페인트, KSM6030-1종1류, 광명단페인트 | D97: L | E97: 11211 | G97: 10000 | H97: 614 | I97: 0 | K97: 0 | M97: 0 | O97: =SMALL(E97:M97,COUNTIF(E97:M97,0)+1) -> 10000 | P97: 0 | Q97: 0 | R97: 0 | S97: 0 | T97: 0 | U97: 0 | V97: 0 | W97: 자재 99
A98: 5FF6558E69252F8F667A9D62623B18B3EF9022 | B98: 조합페인트 | C98: 조합페인트, KSM6020-1종1급, 백색 | D98: L | E98: 6066 | G98: 12666.66 | H98: 615 | I98: 0 | K98: 0 | M98: 0 | O98: =SMALL(E98:M98,COUNTIF(E98:M98,0)+1) -> 6066 | P98: 0 | Q98: 0 | R98: 0 | S98: 0 | T98: 0 | U98: 0 | V98: 0 | W98: 자재 100
A99: 5FF6558E69252F8F4A04E1635C2D367982DCC5 | B99: 실링재 | C99: 실링재, 실리콘, 비초산, 유리용, 창호주위 | D99: L | E99: 10371 | G99: 18518.51 | H99: 607 | I99: 0 | K99: 0 | M99: 0 | O99: =SMALL(E99:M99,COUNTIF(E99:M99,0)+1) -> 10371 | P99: 0 | Q99: 0 | R99: 0 | S99: 0 | T99: 0 | U99: 0 | V99: 0 | W99: 자재 101
A100: 5FF6558E69252F8FBEF33D6CF73666A84D67C5 | B100: 시너 | C100: 시너, KSM6060, 1종 | D100: L | E100: 0 | G100: 3494.44 | H100: 614 | I100: 4466.66 | J100: 466 | K100: 0 | M100: 0 | O100: =SMALL(E100:M100,COUNTIF(E100:M100,0)+1) -> 3494.44 | P100: 0 | Q100: 0 | R100: 0 | S100: 0 | T100: 0 | U100: 0 | V100: 0 | W100: 자재 102
A101: 5FF6558E69252F8FBEF33D6CF4693634C62AC6 | B101: 에폭시계시너 | C101: 024 | D101: L | E101: 0 | G101: 8083.33 | H101: 623 | I101: 0 | K101: 0 | M101: 0 | O101: =SMALL(E101:M101,COUNTIF(E101:M101,0)+1) -> 8083.33 | P101: 0 | Q101: 0 | R101: 0 | S101: 0 | T101: 0 | U101: 0 | V101: 0 | W101: 자재 103
A102: 5F834571E8292A8247174960306989418340C6 | B102: 토목용폴리에틸렌구조물 | C102: 토목용폴리에틸렌구조물, 보도측빗물받이2호, 510*410*940mm, 유입+유출관 | D102: 개 | E102: 0 | G102: 31500 | H102: 220 | I102: 0 | K102: 0 | M102: 0 | O102: =SMALL(E102:M102,COUNTIF(E102:M102,0)+1) -> 31500 | P102: 0 | Q102: 0 | R102: 0 | S102: 0 | T102: 0 | U102: 0 | V102: 0 | W102: 자재 104
...

Sheet  공사설정 
A1: 이 Sheet는 수정하지 마십시요
A2: 공사구분 | B2: A | C2: 타이틀
A3: 확정내역 | B3: 원내역
A4: 자재단가적용 | B4: 5
A5: 경비단가적용 | B5: 5
A6: 품목코드형식 | B6: XXXX-XXXX-XXXXXXXXX
A7: 내역금액소수점처리 | B7: C | C7: T
A8: 일위대가내역소수점처리 | B8: C | C8: 2
A9: 단가명 | B9: 조달청가격 | C9: 거래가격 | D9: 유통물가 | E9: 물가자료 | F9: 조사가격 | G9: TTTTT
A10: 환율 | B10: 1472 | C10: 0 | D10: 0
A11: 시간당작업량 | B11: R | C11: 4
A12: 1회 사이클시간 | B12: R | C12: 4
A13: 시간당 작업사이클 | B13: R | C13: 3
A14: 일반변수 | B14: R | C14: 5
A15: 시간당 노임산출 계수 | B15: A | C15: 1/8*16/12*25/20 | D15: 1/8*16/12*25/20 | E15: 1/8*16/12*25/20 | F15: 1
A16: 재료비 할증 계수 | B16: 1.11 | C16: 1.12
A17: 노무비 할증 계수 | B17: 1 | C17: 1.5 | D17: 1.16 | E17: 1.6 | F17: 1.6 | G17: 1.6 | H17: 1.94 | I17: 1.94 | J17: 1.94 | K17: 1 | L17: 1 | M17: 1
A18: 경비 할증 계수 | B18: 1.25 | C18: 1.071
A19: 내역,일위대가 품명,규격,단위 따로적용
A20: 내역단가 소수점처리 | B20: C | C20: 1
A21: 코드 | B21: 공종구분명 | C21: 원가비목코드
A22: 1 | B22: 작 업 부 산 물 | C22: A3
A23: 2 | B23: 운 반 비 | C23: C1
A24: 3 | B24: 관 급 자 재 비 | C24: DJ
A25: 4 | B25: 사 급 자 재 비 | C25: D3
A26: 5 | B26: 외 자 재
A27: 6 | B27: 건설폐기물처리비 | C27: D4
A28: 7 | B28: 고 재 처 리 비 | C28: D8
A29: 8 | B29: 도급자관급자재비 | C29: DK
A30: 9 | B30: 관급자관급자재비 | C30: DL
A31: A | B31: 지정폐기물처리비 | C31: D5
A32: B | B32: 품 질 시 험 비 | C32: CC
A33: C | B33: 재해 예방 기술비 | C33: DN
A34: D | B34: 비구조요소구조검 | C34: DP
A35: E | B35: 시공상세도작성비
A36: F | B36: ....
A37: G | B37: ....
A38: H | B38: ....
A39: I | B39: ....
A40: J | B40: ....
A43: 단가 순서 | B43: 1234

Sheet Sheet1
