Workbook

Sheet 원가계산서
B1: 공 사 원 가 계 산 서
B2: 공사명 : 하동군 옥종면 병천리 228-3번지 제조업소 신축공사
B3: 비 목 | E3: 금 액 | F3: 구 성 비 | G3: 비 고
A4: A1 | B4: 순 공 사 원 가 | C4: 재 료 비 | D4: 직 접 재 료 비 | E4: =TRUNC(공종별집계표!F5, 0) -> 56951018
A5: A2 | D5: 간 접 재 료 비 | E5: 0
A6: A3 | D6: 작업설, 부산물(△) | E6: 0
A7: AS | D7: [ 소 계 ] | E7: =TRUNC(E4+E5-E6, 0) -> 56951018
A8: B1 | C8: 노 무 비 | D8: 직 접 노 무 비 | E8: =TRUNC(공종별집계표!H5, 0) -> 63558360
A9: B2 | D9: 간 접 노 무 비 | E9: =TRUNC(E8*0.15, 0) -> 9533754 | F9: 직접노무비 * 15%
A10: BS | D10: [ 소 계 ] | E10: =TRUNC(E8+E9, 0) -> 73092114
A11: C2 | C11: 경 비 | D11: 경 비 | E11: =TRUNC(공종별집계표!J5, 0) -> 5687513
A12: C4 | D12: 산 재 보 험 료 | E12: =TRUNC(E10*0.0356, 0) -> 2602079 | F12: 노무비 * 3.56%
A13: C5 | D13: 고 용 보 험 료 | E13: =TRUNC(E10*0.0101, 0) -> 738230 | F13: 노무비 * 1.01%
A14: C6 | D14: 국민 건강 보험료 | E14: =TRUNC(E8*0.03595, 0) -> 2284923 | F14: 직접노무비 * 3.595%
A15: C7 | D15: 국민 연금 보험료 | E15: =TRUNC(E8*0.0475, 0) -> 3019022 | F15: 직접노무비 * 4.75%
A16: C8 | D16: 퇴직 공제 부금비 | E16: =TRUNC(E8*0.023, 0) -> 1461842 | F16: 직접노무비 * 2.3%
A17: CA | D17: 산업안전보건관리비 | E17: =TRUNC((E7+E8+(E32/1.1))*0.0311, 0) -> 4162857 | F17: (재료비+직노+관급자재비) * 3.11%
A18: CB | D18: 노인장기요양보험료 | E18: =TRUNC(E14*0.1314, 0) -> 300238 | F18: 건강보험료 * 13.14%
A19: CE | D19: 임금 채권 부담금 | E19: =TRUNC(E10*0.0009, 0) -> 65782 | F19: 노무비 * 0.09%
A20: CF | D20: 석 면 분 담 금 | E20: =TRUNC(E10*0.00006, 0) -> 4385 | F20: 노무비 * 0.006%
A21: CG | D21: 기 타 경 비 | E21: =TRUNC((E7+E10)*0.045, 0) -> 5851940 | F21: (재료비+노무비) * 4.5%
A22: CH | D22: 환 경 보 전 비 | E22: =TRUNC((E7+E8+E11)*0.003, 0) -> 378590 | F22: (재료비+직노+경비) * 0.3%
A23: CK | D23: 하도급지급보증수수료 | E23: =TRUNC((E7+E8+E11)*0.00081, 0) -> 102219 | F23: (재료비+직노+경비) * 0.081% | G23: 최저가대상공사
A24: CL | D24: 건설기계대여금지급보증서발급수수료 | E24: =TRUNC((E7+E8+E11)*0.0007, 0) -> 88337 | F24: (재료비+직노+경비) * 0.07%
A25: CS | D25: [ 소 계 ] | E25: =TRUNC(E11+E12+E13+E14+E15+E16+E17+E18+E19+E20+E21+E22+E23+E24, 0) -> 26747957
A26: S1 | B26: 계 | E26: =TRUNC(E7+E10+E25, 0) -> 156791089
A27: D1 | B27: 일 반 관 리 비 | E27: =TRUNC(E26*0.07, 0) -> 10975376 | F27: 계 * 7%
A28: D2 | B28: 이 윤 | E28: =TRUNC((E10+E25+E27)*0.13, 0) -> 14406008 | F28: (노무비+경비+일반관리비) * 13%
A29: D9 | B29: 공 급 가 액 | E29: =TRUNC(INT((E26+E27+E28)/10000)*10000, 0) -> 182170000
A30: DB | B30: 부 가 가 치 세 | E30: =TRUNC(E29*0.1, 0) -> 18217000 | F30: 공급가액 * 10%
A31: DH | B31: 도 급 액 | E31: =TRUNC(E29+E30, 0) -> 200387000
B32: 도급자 자재 | E32: =공종별집계표!L22-986 -> 14679000 | G32: 백단위 절삭
B33: 관급자 자재 | E33: =공종별집계표!L23 -> 3322000
A34: S2 | B34: 총 공 사 비 | E34: =TRUNC(E31+E32+E33, 0) -> 218388000

Sheet 공종별집계표
A1: 공 종 별 집 계 표
A2: [ 하동군 옥종면 병천리 228-3번지 제조업소 신축공사 ]
A3: 품 명 | B3: 규 격 | C3: 단위 | D3: 수량 | E3: 재 료 비 | G3: 노 무 비 | I3: 경 비 | K3: 합 계 | M3: 비 고 | N3: 공종코드 | O3: 변수 | P3: 상위공종 | Q3: 공종구분 | R3: 공종레벨 | S3: 공종소계 | T3: 원가계산서 연결금액
E4: 단 가 | F4: 금 액 | G4: 단 가 | H4: 금 액 | I4: 단 가 | J4: 금 액 | K4: 단 가 | L4: 금 액
A5: 하동군 옥종면 병천리 228-3번지 제조업소 신축공사 | D5: 1 | E5: =F6+F20 -> 56951018 | F5: =E5*D5 -> 56951018 | G5: =H6+H20 -> 63558360 | H5: =G5*D5 -> 63558360 | I5: =J6+J20 -> 5687513 | J5: =I5*D5 -> 5687513 | K5: =E5+G5+I5 -> 126196891 | L5: =F5+H5+J5 -> 126196891 | N5: 01 | R5: 1
A6: 건 축 공 사 | D6: 1 | E6: =F7+F8+F9+F10+F11+F12+F13+F14+F15+F16+F17+F18+F19 -> 52703631 | F6: =E6*D6 -> 52703631 | G6: =H7+H8+H9+H10+H11+H12+H13+H14+H15+H16+H17+H18+H19 -> 55148319 | H6: =G6*D6 -> 55148319 | I6: =J7+J8+J9+J10+J11+J12+J13+J14+J15+J16+J17+J18+J19 -> 5599469 | J6: =I6*D6 -> 5599469 | K6: =E6+G6+I6 -> 113451419 | L6: =F6+H6+J6 -> 113451419 | N6: 0101 | P6: 01 | R6: 2
A7: 가 설 공 사 | D7: 1 | E7: =공종별내역서!F27 -> 169393 | F7: =E7*D7 -> 169393 | G7: =공종별내역서!H27 -> 4540106 | H7: =G7*D7 -> 4540106 | I7: =공종별내역서!J27 -> 0 | J7: =I7*D7 -> 0 | K7: =E7+G7+I7 -> 4709499 | L7: =F7+H7+J7 -> 4709499 | N7: 010101 | P7: 0101 | R7: 3
A8: 토 및 지정공사 | D8: 1 | E8: =공종별내역서!F51 -> 3384435 | F8: =E8*D8 -> 3384435 | G8: =공종별내역서!H51 -> 4008004 | H8: =G8*D8 -> 4008004 | I8: =공종별내역서!J51 -> 1476636 | J8: =I8*D8 -> 1476636 | K8: =E8+G8+I8 -> 8869075 | L8: =F8+H8+J8 -> 8869075 | N8: 010102 | P8: 0101 | R8: 3
A9: 철근콘크리트공사 | D9: 1 | E9: =공종별내역서!F75 -> 601999 | F9: =E9*D9 -> 601999 | G9: =공종별내역서!H75 -> 8150855 | H9: =G9*D9 -> 8150855 | I9: =공종별내역서!J75 -> 1031832 | J9: =I9*D9 -> 1031832 | K9: =E9+G9+I9 -> 9784686 | L9: =F9+H9+J9 -> 9784686 | N9: 010103 | P9: 0101 | R9: 3
A10: 철 골 공 사 | D10: 1 | E10: =공종별내역서!F99 -> 12427969 | F10: =E10*D10 -> 12427969 | G10: =공종별내역서!H99 -> 6874750 | H10: =G10*D10 -> 6874750 | I10: =공종별내역서!J99 -> 2191294 | J10: =I10*D10 -> 2191294 | K10: =E10+G10+I10 -> 21494013 | L10: =F10+H10+J10 -> 21494013 | N10: 010104 | P10: 0101 | R10: 3
A11: 타 일 공 사 | D11: 1 | E11: =공종별내역서!F123 -> 622991 | F11: =E11*D11 -> 622991 | G11: =공종별내역서!H123 -> 1543611 | H11: =G11*D11 -> 1543611 | I11: =공종별내역서!J123 -> 38476 | J11: =I11*D11 -> 38476 | K11: =E11+G11+I11 -> 2205078 | L11: =F11+H11+J11 -> 2205078 | N11: 010105 | P11: 0101 | R11: 3
A12: 목공사및수장공사 | D12: 1 | E12: =공종별내역서!F147 -> 17224149 | F12: =E12*D12 -> 17224149 | G12: =공종별내역서!H147 -> 9787976 | H12: =G12*D12 -> 9787976 | I12: =공종별내역서!J147 -> 198687 | J12: =I12*D12 -> 198687 | K12: =E12+G12+I12 -> 27210812 | L12: =F12+H12+J12 -> 27210812 | N12: 010106 | P12: 0101 | R12: 3
A13: 방 수 공 사 | D13: 1 | E13: =공종별내역서!F171 -> 156184 | F13: =E13*D13 -> 156184 | G13: =공종별내역서!H171 -> 1171477 | H13: =G13*D13 -> 1171477 | I13: =공종별내역서!J171 -> 11925 | J13: =I13*D13 -> 11925 | K13: =E13+G13+I13 -> 1339586 | L13: =F13+H13+J13 -> 1339586 | N13: 010107 | P13: 0101 | R13: 3
A14: 지붕 및 홈통공사 | D14: 1 | E14: =공종별내역서!F195 -> 1838819 | F14: =E14*D14 -> 1838819 | G14: =공종별내역서!H195 -> 1763940 | H14: =G14*D14 -> 1763940 | I14: =공종별내역서!J195 -> 62809 | J14: =I14*D14 -> 62809 | K14: =E14+G14+I14 -> 3665568 | L14: =F14+H14+J14 -> 3665568 | N14: 010108 | P14: 0101 | R14: 3
A15: 금 속 공 사 | D15: 1 | E15: =공종별내역서!F219 -> 167937 | F15: =E15*D15 -> 167937 | G15: =공종별내역서!H219 -> 239239 | H15: =G15*D15 -> 239239 | I15: =공종별내역서!J219 -> 12071 | J15: =I15*D15 -> 12071 | K15: =E15+G15+I15 -> 419247 | L15: =F15+H15+J15 -> 419247 | N15: 010109 | P15: 0101 | R15: 3
A16: 미 장 공 사 | D16: 1 | E16: =공종별내역서!F243 -> 1190797 | F16: =E16*D16 -> 1190797 | G16: =공종별내역서!H243 -> 3693821 | H16: =G16*D16 -> 3693821 | I16: =공종별내역서!J243 -> 47969 | J16: =I16*D16 -> 47969 | K16: =E16+G16+I16 -> 4932587 | L16: =F16+H16+J16 -> 4932587 | N16: 010110 | P16: 0101 | R16: 3
A17: 창호 및 유리공사 | D17: 1 | E17: =공종별내역서!F267 -> 8397986 | F17: =E17*D17 -> 8397986 | G17: =공종별내역서!H267 -> 2182398 | H17: =G17*D17 -> 2182398 | I17: =공종별내역서!J267 -> 46734 | J17: =I17*D17 -> 46734 | K17: =E17+G17+I17 -> 10627118 | L17: =F17+H17+J17 -> 10627118 | N17: 010111 | P17: 0101 | R17: 3
A18: 칠 공 사 | D18: 1 | E18: =공종별내역서!F291 -> 2759533 | F18: =E18*D18 -> 2759533 | G18: =공종별내역서!H291 -> 8472747 | H18: =G18*D18 -> 8472747 | I18: =공종별내역서!J291 -> 0 | J18: =I18*D18 -> 0 | K18: =E18+G18+I18 -> 11232280 | L18: =F18+H18+J18 -> 11232280 | N18: 010112 | P18: 0101 | R18: 3
A19: 부 대 공 사 | D19: 1 | E19: =공종별내역서!F315 -> 3761439 | F19: =E19*D19 -> 3761439 | G19: =공종별내역서!H315 -> 2719395 | H19: =G19*D19 -> 2719395 | I19: =공종별내역서!J315 -> 481036 | J19: =I19*D19 -> 481036 | K19: =E19+G19+I19 -> 6961870 | L19: =F19+H19+J19 -> 6961870 | N19: 010113 | P19: 0101 | R19: 3
A20: 설 비 공 사 | D20: 1 | E20: =공종별내역서!F339 -> 4247387 | F20: =E20*D20 -> 4247387 | G20: =공종별내역서!H339 -> 8410041 | H20: =G20*D20 -> 8410041 | I20: =공종별내역서!J339 -> 88044 | J20: =I20*D20 -> 88044 | K20: =E20+G20+I20 -> 12745472 | L20: =F20+H20+J20 -> 12745472 | N20: 0102 | P20: 01 | R20: 2
A21: 자재
A22: 도급자재 | D22: 1 | E22: =TRUNC(공종별내역서!L348,0) -> 14679986 | F22: =E22*D22 -> 14679986 | L22: =F22 -> 14679986
A23: 관급자자재 | D23: 1 | E23: =공종별내역서!L350 -> 3322000 | F23: =E23*D23 -> 3322000 | L23: =F23 -> 3322000
A24: 관급자자재
A27: [ 합 계 ] | F27: =F5 -> 56951018 | H27: =H5 -> 63558360 | J27: =J5 -> 5687513 | L27: =L5 -> 126196891

Sheet 공종별내역서
A1: [ 하동군 옥종면 병천리 228-3번지 제조업소 신축공사 ]
A2: 품 명 | B2: 규 격 | C2: 단위 | D2: 수량 | E2: 재 료 비 | G2: 노 무 비 | I2: 경 비 | K2: 합 계 | M2: 비 고 | N2: 품목코드 | O2: 변수 | P2: 설정 | Q2: 공종코드 | R2: 일위 | S2: 단산 | T2: 자재 | U2: 손료적용 | V2: 손료저장 | W2: 적용율 | X2: JUK1 | Y2: JUK2 | Z2: JUK3 | AA2: JUK4 | AB2: JUK5 | AC2: JUK6 | AD2: JUK7 | AE2: JUK8 | AF2: JUK9 | AG2: JUK10 | AH2: JUK11 | AI2: JUK12 | AJ2: JUK13 | AK2: JUK14 | AL2: JUK15 | AM2: JUK16 | AN2: JUK17 | AO2: JUK18 | AP2: JUK19 | AQ2: JUK20 | AR2: 자재구분 | AS2: 공종구분 | AT2: 공종레벨 | AU2: 공종+자재 | AV2: 고유번호
E3: 단 가 | F3: 금 액 | G3: 단 가 | H3: 금 액 | I3: 단 가 | J3: 금 액 | K3: 단 가 | L3: 금 액
A4: 가 설 공 사 | Q4: 010101
A5: 강관 조립말비계(이동식)설치 및 해체 | B5: 높이 2m, 3개월 | C5: 대 | D5: 1 | E5: =TRUNC(일위대가목록!E4,0) -> 39087 | F5: =TRUNC(E5*D5, 0) -> 39087 | G5: =TRUNC(일위대가목록!F4,0) -> 86062 | H5: =TRUNC(G5*D5, 0) -> 86062 | I5: =TRUNC(일위대가목록!G4,0) -> 0 | J5: =TRUNC(I5*D5, 0) -> 0 | K5: =TRUNC(E5+G5+I5, 0) -> 125149 | L5: =TRUNC(F5+H5+J5, 0) -> 125149 | M5: 호표 1 | N5: 58DD251F0B24238AECACBA659862FD | Q5: 010101 | R5: T | S5: F | T5: F | AU5: 01010158DD251F0B24238AECACBA659862FD | AV5: 4
A6: 목재 평 규준틀 설치 및 철거 | C6: 개소 | D6: 10 | E6: =TRUNC(일위대가목록!E5,0) -> 8001 | F6: =TRUNC(E6*D6, 0) -> 80010 | G6: =TRUNC(일위대가목록!F5,0) -> 84872 | H6: =TRUNC(G6*D6, 0) -> 848720 | I6: =TRUNC(일위대가목록!G5,0) -> 0 | J6: =TRUNC(I6*D6, 0) -> 0 | K6: =TRUNC(E6+G6+I6, 0) -> 92873 | L6: =TRUNC(F6+H6+J6, 0) -> 928730 | M6: 호표 2 | N6: 58DD251F0B24238AFD4F536CED401A | Q6: 010101 | R6: T | S6: F | T6: F | AU6: 01010158DD251F0B24238AFD4F536CED401A | AV6: 5
A7: 목재 귀 규준틀 설치 및 철거 | C7: 개소 | D7: 4 | E7: =TRUNC(일위대가목록!E6,0) -> 12574 | F7: =TRUNC(E7*D7, 0) -> 50296 | G7: =TRUNC(일위대가목록!F6,0) -> 146258 | H7: =TRUNC(G7*D7, 0) -> 585032 | I7: =TRUNC(일위대가목록!G6,0) -> 0 | J7: =TRUNC(I7*D7, 0) -> 0 | K7: =TRUNC(E7+G7+I7, 0) -> 158832 | L7: =TRUNC(F7+H7+J7, 0) -> 635328 | M7: 호표 3 | N7: 58DD251F0B24238AFD4F536FA10601 | Q7: 010101 | R7: T | S7: F | T7: F | AU7: 01010158DD251F0B24238AFD4F536FA10601 | AV7: 6
A8: 건축물 현장정리 | B8: 목조, 철골조, 조적조 | C8: M2 | D8: 198 | E8: =TRUNC(일위대가목록!E7,0) -> 0 | F8: =TRUNC(E8*D8, 0) -> 0 | G8: =TRUNC(일위대가목록!F7,0) -> 7829 | H8: =TRUNC(G8*D8, 0) -> 1550142 | I8: =TRUNC(일위대가목록!G7,0) -> 0 | J8: =TRUNC(I8*D8, 0) -> 0 | K8: =TRUNC(E8+G8+I8, 0) -> 7829 | L8: =TRUNC(F8+H8+J8, 0) -> 1550142 | M8: 호표 4 | N8: 58DD251A862B2283AC667068E7DA9B | Q8: 010101 | R8: T | S8: F | T8: F | AU8: 01010158DD251A862B2283AC667068E7DA9B | AV8: 7
A9: 먹매김 | B9: 구조부,거푸집 | C9: M2 | D9: 198 | E9: =TRUNC(일위대가목록!E8,0) -> 0 | F9: =TRUNC(E9*D9, 0) -> 0 | G9: =TRUNC(일위대가목록!F8,0) -> 4294 | H9: =TRUNC(G9*D9, 0) -> 850212 | I9: =TRUNC(일위대가목록!G8,0) -> 0 | J9: =TRUNC(I9*D9, 0) -> 0 | K9: =TRUNC(E9+G9+I9, 0) -> 4294 | L9: =TRUNC(F9+H9+J9, 0) -> 850212 | M9: 호표 5 | N9: 58DD251A852A2D8F4FE7EE6A949A1D | Q9: 010101 | R9: T | S9: F | T9: F | AU9: 01010158DD251A852A2D8F4FE7EE6A949A1D | AV9: 8
A10: 준공청소 | C10: M2 | D10: 198 | E10: =TRUNC(일위대가목록!E9,0) -> 0 | F10: =TRUNC(E10*D10, 0) -> 0 | G10: =TRUNC(일위대가목록!F9,0) -> 3131 | H10: =TRUNC(G10*D10, 0) -> 619938 | I10: =TRUNC(일위대가목록!G9,0) -> 0 | J10: =TRUNC(I10*D10, 0) -> 0 | K10: =TRUNC(E10+G10+I10, 0) -> 3131 | L10: =TRUNC(F10+H10+J10, 0) -> 619938 | M10: 호표 6 | N10: 58DD251A832F2E8733B63F6A5A9915 | Q10: 010101 | R10: T | S10: F | T10: F | AU10: 01010158DD251A832F2E8733B63F6A5A9915 | AV10: 9
Q11: 010101
Q12: 010101
Q13: 010101
Q14: 010101
Q15: 010101
Q16: 010101
Q17: 010101
Q18: 010101
Q19: 010101
Q20: 010101
Q21: 010101
Q22: 010101
... Q26: 010101
A27: [ 합 계 ] | F27: =SUMIF(Q5:Q26,"010101",F5:F26) -> 169393 | H27: =SUMIF(Q5:Q26,"010101",H5:H26) -> 4540106 | J27: =SUMIF(Q5:Q26,"010101",J5:J26) -> 0 | L27: =SUMIF(Q5:Q26,"010101",L5:L26) -> 4709499 | N27: TOTAL
A28: 토 및 지정공사 | Q28: 010102
A29: 잡석지정 | B29: 굴삭기 0.2m3+진동롤러(핸드가이드식) | C29: M3 | D29: 33.6 | E29: =TRUNC(일위대가목록!E10,0) -> 23961 | F29: =TRUNC(E29*D29, 0) -> 805089 | G29: =TRUNC(일위대가목록!F10,0) -> 6596 | H29: =TRUNC(G29*D29, 0) -> 221625 | I29: =TRUNC(일위대가목록!G10,0) -> 1140 | J29: =TRUNC(I29*D29, 0) -> 38304 | K29: =TRUNC(E29+G29+I29, 0) -> 31697 | L29: =TRUNC(F29+H29+J29, 0) -> 1065018 | M29: 호표 7 | N29: 58DD05D00E2A2980B20C2D6FF74E94 | Q29: 010102 | R29: T | S29: F | T29: F | AU29: 01010258DD05D00E2A2980B20C2D6FF74E94 | AV29: 11
A30: 방습필름 설치 - 기초바닥 | B30: 폴리에틸렌필름, 두께, 0.05mm, 2겹 | C30: M2 | D30: 215.1 | E30: =TRUNC(일위대가목록!E11,0) -> 708 | F30: =TRUNC(E30*D30, 0) -> 152290 | G30: =TRUNC(일위대가목록!F11,0) -> 1324 | H30: =TRUNC(G30*D30, 0) -> 284792 | I30: =TRUNC(일위대가목록!G11,0) -> 0 | J30: =TRUNC(I30*D30, 0) -> 0 | K30: =TRUNC(E30+G30+I30, 0) -> 2032 | L30: =TRUNC(F30+H30+J30, 0) -> 437082 | M30: 호표 8 | N30: 58DDC52612202F8D31898660450B30 | Q30: 010102 | R30: T | S30: F | T30: F | AU30: 01010258DDC52612202F8D31898660450B30 | AV30: 12
A31: 터파기/토사 | B31: 보통, 굴착기 0.7m3 | C31: M3 | D31: 140.1 | E31: =TRUNC(단가산출목록!E4,0) -> 437 | F31: =TRUNC(E31*D31, 0) -> 61223 | G31: =TRUNC(단가산출목록!F4,0) -> 1000 | H31: =TRUNC(G31*D31, 0) -> 140100 | I31: =TRUNC(단가산출목록!G4,0) -> 416 | J31: =TRUNC(I31*D31, 0) -> 58281 | K31: =TRUNC(E31+G31+I31, 0) -> 1853 | L31: =TRUNC(F31+H31+J31, 0) -> 259604 | M31: 산근 1 | N31: 58F2454833272E88B2EAB269B8F915 | Q31: 010102 | R31: F | S31: T | T31: F | AU31: 01010258F2454833272E88B2EAB269B8F915 | AV31: 13
A32: 잔토처리 | B32: 보통, 덤프 15ton+굴삭기 0.7m3 | C32: M3 | D32: 121.4 | E32: =TRUNC(단가산출목록!E5,0) -> 3982 | F32: =TRUNC(E32*D32, 0) -> 483414 | G32: =TRUNC(단가산출목록!F5,0) -> 5876 | H32: =TRUNC(G32*D32, 0) -> 713346 | I32: =TRUNC(단가산출목록!G5,0) -> 2100 | J32: =TRUNC(I32*D32, 0) -> 254940 | K32: =TRUNC(E32+G32+I32, 0) -> 11958 | L32: =TRUNC(F32+H32+J32, 0) -> 1451700 | M32: 산근 2 | N32: 58F2454B85242F8886C1F06205BFB3 | Q32: 010102 | R32: F | S32: T | T32: F | AU32: 01010258F2454B85242F8886C1F06205BFB3 | AV32: 14
A33: 되메우기/토사, 두께 15cm | B33: 보통, 굴삭기 0.7m3+래머 80kg | C33: M3 | D33: 18.8 | E33: =TRUNC(단가산출목록!E6,0) -> 640 | F33: =TRUNC(E33*D33, 0) -> 12032 | G33: =TRUNC(단가산출목록!F6,0) -> 9011 | H33: =TRUNC(G33*D33, 0) -> 169406 | I33: =TRUNC(단가산출목록!G6,0) -> 423 | J33: =TRUNC(I33*D33, 0) -> 7952 | K33: =TRUNC(E33+G33+I33, 0) -> 10074 | L33: =TRUNC(F33+H33+J33, 0) -> 189390 | M33: 산근 3 | N33: 58F245457C2E258CCEBA4363D6F13B | Q33: 010102 | R33: F | S33: T | T33: F | AU33: 01010258F245457C2E258CCEBA4363D6F13B | AV33: 15
A34: 흙 쌓기/로상 다짐 20cm | B34: 보통, 진동롤러 10ton+타이어롤러 8∼15ton+살수 | C34: M3 | D34: 384.3 | E34: =TRUNC(단가산출목록!E7,0) -> 546 | F34: =TRUNC(E34*D34, 0) -> 209827 | G34: =TRUNC(단가산출목록!F7,0) -> 1380 | H34: =TRUNC(G34*D34, 0) -> 530334 | I34: =TRUNC(단가산출목록!G7,0) -> 428 | J34: =TRUNC(I34*D34, 0) -> 164480 | K34: =TRUNC(E34+G34+I34, 0) -> 2354 | L34: =TRUNC(F34+H34+J34, 0) -> 904641 | M34: 산근 4 | N34: 58F245457C2E258CCEBA4363D6F012 | Q34: 010102 | R34: F | S34: T | T34: F | AU34: 01010258F245457C2E258CCEBA4363D6F012 | AV34: 16
A35: 흙 쌓기 장외운반/토사 | B35: 보통, 덤프 20ton, L=10km | C35: M3 | D35: 384.3 | E35: =TRUNC(단가산출목록!E8,0) -> 4321 | F35: =TRUNC(E35*D35, 0) -> 1660560 | G35: =TRUNC(단가산출목록!F8,0) -> 5070 | H35: =TRUNC(G35*D35, 0) -> 1948401 | I35: =TRUNC(단가산출목록!G8,0) -> 2479 | J35: =TRUNC(I35*D35, 0) -> 952679 | K35: =TRUNC(E35+G35+I35, 0) -> 11870 | L35: =TRUNC(F35+H35+J35, 0) -> 4561640 | M35: 산근 5 | N35: 58F24549DE20228D73371767B8EB0C | Q35: 010102 | R35: F | S35: T | T35: F | AU35: 01010258F24549DE20228D73371767B8EB0C | AV35: 105
Q36: 010102
Q37: 010102
Q38: 010102
Q39: 010102
Q40: 010102
Q41: 010102
Q42: 010102
Q43: 010102
...

Sheet 일위대가목록
B1: 일 위 대 가 목 록
B2: [ 하동군 옥종면 병천리 228-3번지 제조업소 신축공사 ]
A3: 코 드 | B3: 품 명 | C3: 규 격 | D3: 단위 | E3: 재 료 비 | F3: 노 무 비 | G3: 경 비 | H3: 합 계 | I3: 번 호 | J3: 비 고 | K3: 노임계수 | L3: 할증 | M3: 품셈개요 | N3: 장비일위
A4: 58DD251F0B24238AECACBA659862FD | B4: 강관 조립말비계(이동식)설치 및 해체 | C4: 높이 2m, 3개월 | D4: 대 | E4: =일위대가!F12 -> 39087 | F4: =일위대가!H12 -> 86062 | G4: =일위대가!J12 -> 0 | H4: =E4+F4+G4 -> 125149 | I4: 호표 1 | M4: 공통 2-7-6, 2-2-5
A5: 58DD251F0B24238AFD4F536CED401A | B5: 목재 평 규준틀 설치 및 철거 | D5: 개소 | E5: =일위대가!F18 -> 8001 | F5: =일위대가!H18 -> 84872 | G5: =일위대가!J18 -> 0 | H5: =E5+F5+G5 -> 92873 | I5: 호표 2 | M5: 공통 2-5-4, 2-2-7
A6: 58DD251F0B24238AFD4F536FA10601 | B6: 목재 귀 규준틀 설치 및 철거 | D6: 개소 | E6: =일위대가!F24 -> 12574 | F6: =일위대가!H24 -> 146258 | G6: =일위대가!J24 -> 0 | H6: =E6+F6+G6 -> 158832 | I6: 호표 3 | M6: 공통 2-5-4, 2-2-7
A7: 58DD251A862B2283AC667068E7DA9B | B7: 건축물 현장정리 | C7: 목조, 철골조, 조적조 | D7: M2 | E7: =일위대가!F28 -> 0 | F7: =일위대가!H28 -> 7829 | G7: =일위대가!J28 -> 0 | H7: =E7+F7+G7 -> 7829 | I7: 호표 4 | M7: 공통 2-11-2
A8: 58DD251A852A2D8F4FE7EE6A949A1D | B8: 먹매김 | C8: 구조부,거푸집 | D8: M2 | E8: =일위대가!F33 -> 0 | F8: =일위대가!H33 -> 4294 | G8: =일위대가!J33 -> 0 | H8: =E8+F8+G8 -> 4294 | I8: 호표 5
A9: 58DD251A832F2E8733B63F6A5A9915 | B9: 준공청소 | D9: M2 | E9: =일위대가!F37 -> 0 | F9: =일위대가!H37 -> 3131 | G9: =일위대가!J37 -> 0 | H9: =E9+F9+G9 -> 3131 | I9: 호표 6 | M9: 공통 2-11-3
A10: 58DD05D00E2A2980B20C2D6FF74E94 | B10: 잡석지정 | C10: 굴삭기 0.2m3+진동롤러(핸드가이드식) | D10: M3 | E10: =일위대가!F43 -> 23961 | F10: =일위대가!H43 -> 6596 | G10: =일위대가!J43 -> 1140 | H10: =E10+F10+G10 -> 31697 | I10: 호표 7
A11: 58DDC52612202F8D31898660450B30 | B11: 방습필름 설치 - 기초바닥 | C11: 폴리에틸렌필름, 두께, 0.05mm, 2겹 | D11: M2 | E11: =일위대가!F48 -> 708 | F11: =일위대가!H48 -> 1324 | G11: =일위대가!J48 -> 0 | H11: =E11+F11+G11 -> 2032 | I11: 호표 8
A12: 58DD75A1062F2B89DE705669C6B90C | B12: 유로폼 설치 및 해체 | C12: 3회, 간단, 수직고 7m까지 | D12: M2 | E12: =일위대가!F53 -> 3967 | F12: =일위대가!H53 -> 29010 | G12: =일위대가!J53 -> 870 | H12: =E12+F12+G12 -> 33847 | I12: 호표 9 | M12: 공통 6-3-3
A13: 58DD75A22820238CC2C7C4684ECDB2 | B13: 철근 현장가공 및 현장조립.. | C13: Type-Ⅱ | D13: TON | E13: =일위대가!F58 -> 12432 | F13: =일위대가!H58 -> 815192 | G13: =일위대가!J58 -> 31856 | H13: =E13+F13+G13 -> 859480 | I13: 호표 10
A14: 58DD75A682262D8CB61E826F0B783C | B14: 콘크리트 펌프차 타설(무근).. | C14: slump 8~12cm, 매트기초 등, f2 : Type-Ⅱ, 36m,(10.8M3) | D14: 일당 | E14: =일위대가!F62 -> 208214 | F14: =일위대가!H62 -> 894875 | G14: =일위대가!J62 -> 394098 | H14: =E14+F14+G14 -> 1497187 | I14: 호표 11
A15: 58DD75A681242386EA158065546477 | B15: 콘크리트 펌프차 타설.. | C15: slump 15cm, 매트기초 등, f2 : Type-Ⅱ, 36m,(66.8M3) | D15: 일당 | E15: =일위대가!F66 -> 214437 | F15: =일위대가!H66 -> 1019336 | G15: =일위대가!J66 -> 400321 | H15: =E15+F15+G15 -> 1634094 | I15: 호표 12
A16: 58DD251D59202A84957DF56A970E29 | B16: 철골 세우기 - 트럭 탑재령 크레인 15ton | C16: 소규모 건물 | D16: TON | E16: =일위대가!F70 -> 19247 | F16: =일위대가!H70 -> 36238 | G16: =일위대가!J70 -> 25061 | H16: =E16+F16+G16 -> 80546 | I16: 호표 13 | M16: 건축 1-2-3
A17: 58DD65BBEF2B2C8A475DDF6934B0D5 | B17: 앵커 볼트 설치 | C17: ∮20*L:600 | D17: 개 | E17: =일위대가!F77 -> 6600 | F17: =일위대가!H77 -> 24565 | G17: =일위대가!J77 -> 491 | H17: =E17+F17+G17 -> 31656 | I17: 호표 14
A18: 58DD65BAC92B288244460167D4FF5D | B18: 철골 가공 조립(적은 구조) | C18: Rolled shape, 60ton 미만 | D18: TON | E18: =일위대가!F83 -> 17488 | F18: =일위대가!H83 -> 354212 | G18: =일위대가!J83 -> 212527 | H18: =E18+F18+G18 -> 584227 | I18: 호표 15 | M18: 건축 1-1-1, 1-1-2
A19: 58DD65BD9C27218C24F2EE6433A46F | B19: 부대철골 설치 | D19: TON | E19: =일위대가!F89 -> 71540 | F19: =일위대가!H89 -> 604632 | G19: =일위대가!J89 -> 226110 | H19: =E19+F19+G19 -> 902282 | I19: 호표 16 | M19: 건축 1-4-1
A20: 58DD65BCF72B2586C51EBE6382BC80 | B20: 철골세우기 - 표준단가 | C20: 6층 미만 | D20: TON | E20: =일위대가!F95 -> 0 | F20: =일위대가!H95 -> 126190 | G20: =일위대가!J95 -> 0 | H20: =E20+F20+G20 -> 126190 | I20: 호표 17 | M20: 건축 1-2-1
A21: 58DD65BCFC2326880CF65F6843EB9E | B21: 고장력 볼트 본조임 - 표준단가 | C21: 30본/t 미만 | D21: TON | E21: =일위대가!F101 -> 0 | F21: =일위대가!H101 -> 123550 | G21: =일위대가!J101 -> 3706 | H21: =E21+F21+G21 -> 127256 | I21: 호표 18 | M21: 건축 1-2-4
A22: 58DDE56EBA252A8EB88DB1688896BB | B22: 도기질타일 접착 붙이기 (줄눈설치+접착제포함). | C22: 벽, 300*300 | D22: m2 | E22: =일위대가!F108 -> 16343 | F22: =일위대가!H108 -> 31294 | G22: =일위대가!J108 -> 823 | H22: =E22+F22+G22 -> 48460 | I22: 호표 19
A23: 58DDE56EB82A2B86BECAFD69F617AE | B23: 자기질타일 압착붙이기(바탕 24mm+압 5mm) | C23: 바닥, 300*300(타일C, 백색줄눈), (6.2M2) | D23: 일당 | E23: =일위대가!F115 -> 131067 | F23: =일위대가!H115 -> 601662 | G23: =일위대가!J115 -> 13704 | H23: =E23+F23+G23 -> 746433 | I23: 호표 20
A24: 58DDC523592C278AAEE403674CB958 | B24: 걸레받이 설치 - 합성수지류.. | C24: 굽도리, 3.2*103mm, 이중구조, PVC | D24: M | E24: =일위대가!F121 -> 1691 | F24: =일위대가!H121 -> 3120 | G24: =일위대가!J121 -> 62 | H24: =E24+F24+G24 -> 4873 | I24: 호표 21
A25: 58DDC520892C2088854CA862C4B55F | B25: 도배바름(합판·석고보드면) | C25: 벽, 방염벽지,(22.1M2) | D25: 일당 | E25: =일위대가!F126 -> 159097 | F25: =일위대가!H126 -> 285419 | G25: =일위대가!J126 -> 0 | H25: =E25+F25+G25 -> 444516 | I25: 호표 22
A26: 58DDC520892C2088EFDED86F82E432 | B26: 도배바름(합판·석고보드면) | C26: 천장, 방염벽지,(12.1M2) | D26: 일당 | E26: =일위대가!F131 -> 87107 | F26: =일위대가!H131 -> 285419 | G26: =일위대가!J131 -> 0 | H26: =E26+F26+G26 -> 372526 | I26: 호표 23
A27: 58DDC5208E24238EDBA5DE67B457E1 | B27: 샌드위치(단열)페널 설치 - 외벽.. | C27: 준불연, T:125MM | D27: M2 | E27: =일위대가!F138 -> 53760 | F27: =일위대가!H138 -> 31205 | G27: =일위대가!J138 -> 624 | H27: =E27+F27+G27 -> 85589 | I27: 호표 24
A28: 58DDC5208E24238EDBA5DE67B457E3 | B28: 샌드위치(단열)페널 설치 - 처마 | C28: 1,000*5,500, T:50MM 샌드위치판넬 | D28: EA | E28: =일위대가!F148 -> 703896 | F28: =일위대가!H148 -> 436841 | G28: =일위대가!J148 -> 44650 | H28: =E28+F28+G28 -> 1185387 | I28: 호표 25
A29: 58DDC521AD21268ED926DA6AF00EE4 | B29: 석고판 설치(나사고정) - 바탕용 | C29: 천장, T:9.5 석고보드1겹 붙임, (12.1M2) | D29: 일당 | E29: =일위대가!F153 -> 3110 | F29: =일위대가!H153 -> 312054 | G29: =일위대가!J153 -> 3120 | H29: =E29+F29+G29 -> 318284 | I29: 호표 26
A30: 58DDC521AD21258C95C6276BBC19E5 | B30: 석고판 설치(접착제 붙임).. | C30: 벽, T:9.5석고보드 1겹, (22.1M2) | D30: 일당 | E30: =일위대가!F158 -> 114660 | F30: =일위대가!H158 -> 312054 | G30: =일위대가!J158 -> 3120 | H30: =E30+F30+G30 -> 429834 | I30: 호표 27
A31: 58DDC521AD21258C95C6276BBC19E7 | B31: 석고판 설치(접착제 붙임) | C31: 벽, T:9.5방수석고보드 1겹, (30.1M2) | D31: 일당 | E31: =일위대가!F163 -> 139541 | F31: =일위대가!H163 -> 312054 | G31: =일위대가!J163 -> 3120 | H31: =E31+F31+G31 -> 454715 | I31: 호표 28
A32: 58DDC52610242380B6C89B6D1BAA51 | B32: 기초 발포폴리스티렌 슬래브 위 깔기.. | C32: 비드법 2종, T:100mm | D32: M2 | E32: =일위대가!F168 -> 14712 | F32: =일위대가!H168 -> 2831 | G32: =일위대가!J168 -> 0 | H32: =E32+F32+G32 -> 17543 | I32: 호표 29
A33: 58DDB53D2A2627838B64C66846D926 | B33: 수밀코킹(실리콘) | C33: 삼각, 10mm, 창호주위 | D33: M | E33: =일위대가!F173 -> 622 | F33: =일위대가!H173 -> 4757 | G33: =일위대가!J173 -> 0 | H33: =E33+F33+G33 -> 5379 | I33: 호표 30 | M33: 건축 6-6-1
A34: 58DDB5321E21288B92DF41607DB7FC | B34: 시멘트 액체방수. | C34: 바닥 | D34: m2 | E34: =일위대가!F180 -> 3657 | F34: =일위대가!H180 -> 21843 | G34: =일위대가!J180 -> 655 | H34: =E34+F34+G34 -> 26155 | I34: 호표 31
A35: 58DDB5321D27228D6ACCF160C345FD | B35: 시멘트 액체방수. | C35: 벽 | D35: m2 | E35: =일위대가!F187 -> 2116 | F35: =일위대가!H187 -> 17161 | G35: =일위대가!J187 -> 514 | H35: =E35+F35+G35 -> 19791 | I35: 호표 32
A36: 58DD8586AA222E8E22C2A666B6032A | B36: 베이스찬넬 설치 | C36: C/S, ST'L 1.6T*230 | D36: M | E36: =일위대가!F192 -> 9166 | F36: =일위대가!H192 -> 4245 | G36: =일위대가!J192 -> 212 | H36: =E36+F36+G36 -> 13623 | I36: 호표 33
A37: 58DD8586AA222E8E22C2A666B60329 | B37: 톱찬넬 설치 | C37: C/S, T:0.5*230 | D37: M | E37: =일위대가!F197 -> 1550 | F37: =일위대가!H197 -> 4245 | G37: =일위대가!J197 -> 212 | H37: =E37+F37+G37 -> 6007 | I37: 호표 34
A38: 58DD8586AA222E8E22C2A666B60328 | B38: 코너후레싱 설치 | C38: C/S, T:0.5*400 | D38: M | E38: =일위대가!F202 -> 2695 | F38: =일위대가!H202 -> 4245 | G38: =일위대가!J202 -> 212 | H38: =E38+F38+G38 -> 7152 | I38: 호표 35
A39: 58DD8586AA222E8E22C2A666B6032F | B39: 처마후레싱 설치 | C39: C/S, T:0.5*350 | D39: M | E39: =일위대가!F207 -> 2358 | F39: =일위대가!H207 -> 4245 | G39: =일위대가!J207 -> 212 | H39: =E39+F39+G39 -> 6815 | I39: 호표 36
A40: 58DD8586AA222E8E22C2A666B6032D | B40: 물받이후레싱 설치 | C40: C/S, T:0.5*250*250 | D40: M | E40: =일위대가!F213 -> 7447 | F40: =일위대가!H213 -> 4245 | G40: =일위대가!J213 -> 212 | H40: =E40+F40+G40 -> 11904 | I40: 호표 37
...

Sheet 일위대가
A1: [ 하동군 옥종면 병천리 228-3번지 제조업소 신축공사 ]
A2: 품 명 | B2: 규 격 | C2: 단위 | D2: 수량 | E2: 재 료 비 | G2: 노 무 비 | I2: 경 비 | K2: 합 계 | M2: 비 고 | N2: 일위대가 | O2: 품목코드 | P2: 일위 | Q2: 단산 | R2: 자재 | S2: 손료적용 | T2: 손료저장 | U2: 적용율 | V2: JUK1 | W2: JUK2 | X2: JUK3 | Y2: JUK4 | Z2: JUK5 | AA2: JUK6 | AB2: JUK7 | AC2: JUK8 | AD2: JUK9 | AE2: JUK10 | AF2: JUK11 | AG2: JUK12 | AH2: JUK13 | AI2: JUK14 | AJ2: JUK15 | AK2: JUK16 | AL2: JUK17 | AM2: JUK18 | AN2: JUK19 | AO2: JUK20 | AP2: 할증적용 | AQ2: 할증저장 | AR2: 할증율 | AS2: HAL1 | AT2: HAL2 | AU2: HAL3 | AV2: 자재구분 | AW2: 일위대가+자재 | AX2: 장비일위 | AY2: 설정 | AZ2: 할증체크
E3: 단 가 | F3: 금 액 | G3: 단 가 | H3: 금 액 | I3: 단 가 | J3: 금 액 | K3: 단 가 | L3: 금 액
A4: 강관 조립말비계(이동식)설치 및 해체 높이 2m, 3개월 대 공통 2-7-6, 2-2-5 ( 호표 1 ) | N4: 58DD251F0B24238AECACBA659862FD
A5: 비계안정장치 | B5: 비계안정장치, 비계기본틀, 기둥, 1.2*1.7m | C5: 개 | D5: 0.14 | E5: =단가대비표!O77 -> 27739 | F5: =TRUNC(E5*D5,1) -> 3883.4 | G5: 0 | H5: =TRUNC(G5*D5,1) -> 0 | I5: =단가대비표!V77 -> 0 | J5: =TRUNC(I5*D5,1) -> 0 | K5: =TRUNC(E5+G5+I5,1) -> 27739 | L5: =TRUNC(F5+H5+J5,1) -> 3883.4 | N5: 58DD251F0B24238AECACBA659862FD | O5: 5FF645E7F7232685144F33651DEB937EB20A4E | P5: F | Q5: F | R5: T | AW5: 58DD251F0B24238AECACBA659862FD5FF645E7F7232685144F33651DEB937EB20A4E
A6: 비계안정장치 | B6: 비계안정장치, 가새, 1.2*1.9m | C6: 개 | D6: 0.14 | E6: =단가대비표!O78 -> 9246 | F6: =TRUNC(E6*D6,1) -> 1294.4 | G6: 0 | H6: =TRUNC(G6*D6,1) -> 0 | I6: =단가대비표!V78 -> 0 | J6: =TRUNC(I6*D6,1) -> 0 | K6: =TRUNC(E6+G6+I6,1) -> 9246 | L6: =TRUNC(F6+H6+J6,1) -> 1294.4 | N6: 58DD251F0B24238AECACBA659862FD | O6: 5FF645E7F7232685144F33651DEB937EB20A40 | P6: F | Q6: F | R6: T | AW6: 58DD251F0B24238AECACBA659862FD5FF645E7F7232685144F33651DEB937EB20A40
A7: 비계안정장치 | B7: 비계안정장치, 수평띠장, 1829mm | C7: 개 | D7: 0.28 | E7: =단가대비표!O79 -> 25000 | F7: =TRUNC(E7*D7,1) -> 7000 | G7: 0 | H7: =TRUNC(G7*D7,1) -> 0 | I7: =단가대비표!V79 -> 0 | J7: =TRUNC(I7*D7,1) -> 0 | K7: =TRUNC(E7+G7+I7,1) -> 25000 | L7: =TRUNC(F7+H7+J7,1) -> 7000 | N7: 58DD251F0B24238AECACBA659862FD | O7: 5FF645E7F7232685144F33651DEB937EB205C5 | P7: F | Q7: F | R7: T | AW7: 58DD251F0B24238AECACBA659862FD5FF645E7F7232685144F33651DEB937EB205C5
A8: 비계안정장치 | B8: 비계안정장치, 바퀴 | C8: 개 | D8: 0.36 | E8: =단가대비표!O80 -> 9500 | F8: =TRUNC(E8*D8,1) -> 3420 | G8: 0 | H8: =TRUNC(G8*D8,1) -> 0 | I8: =단가대비표!V80 -> 0 | J8: =TRUNC(I8*D8,1) -> 0 | K8: =TRUNC(E8+G8+I8,1) -> 9500 | L8: =TRUNC(F8+H8+J8,1) -> 3420 | N8: 58DD251F0B24238AECACBA659862FD | O8: 5FF645E7F7232685144F33651DEB937EB205C1 | P8: F | Q8: F | R8: T | AW8: 58DD251F0B24238AECACBA659862FD5FF645E7F7232685144F33651DEB937EB205C1
A9: 비계안정장치 | B9: 비계안정장치, 쟈키 | C9: 개 | D9: 0.36 | E9: =단가대비표!O81 -> 11000 | F9: =TRUNC(E9*D9,1) -> 3960 | G9: 0 | H9: =TRUNC(G9*D9,1) -> 0 | I9: =단가대비표!V81 -> 0 | J9: =TRUNC(I9*D9,1) -> 0 | K9: =TRUNC(E9+G9+I9,1) -> 11000 | L9: =TRUNC(F9+H9+J9,1) -> 3960 | N9: 58DD251F0B24238AECACBA659862FD | O9: 5FF645E7F7232685144F33651DEB937EB205C0 | P9: F | Q9: F | R9: T | AW9: 58DD251F0B24238AECACBA659862FD5FF645E7F7232685144F33651DEB937EB205C0
A10: 안전발판 | B10: PSP, 3040*420*3mm | C10: 매 | D10: 0.63 | E10: =단가대비표!O28 -> 31000 | F10: =TRUNC(E10*D10,1) -> 19530 | G10: 0 | H10: =TRUNC(G10*D10,1) -> 0 | I10: =단가대비표!V28 -> 0 | J10: =TRUNC(I10*D10,1) -> 0 | K10: =TRUNC(E10+G10+I10,1) -> 31000 | L10: =TRUNC(F10+H10+J10,1) -> 19530 | N10: 58DD251F0B24238AECACBA659862FD | O10: 5FE59518EB2C2D8A97EF7866370AA394953EFD | P10: F | Q10: F | R10: T | AW10: 58DD251F0B24238AECACBA659862FD5FE59518EB2C2D8A97EF7866370AA394953EFD
A11: 강관 조립말비계(이동식)설치 및 해체 | B11: 높이 2m, 노무비 | C11: 대 | D11: 1 | E11: =일위대가목록!E68 -> 0 | F11: =TRUNC(E11*D11,1) -> 0 | G11: 86062.34 | H11: =TRUNC(G11*D11,1) -> 86062.3 | I11: =일위대가목록!G68 -> 0 | J11: =TRUNC(I11*D11,1) -> 0 | K11: =TRUNC(E11+G11+I11,1) -> 86062.3 | L11: =TRUNC(F11+H11+J11,1) -> 86062.3 | M11: 호표 65 | N11: 58DD251F0B24238AECACBA659862FD | O11: 58DD251F0B24238AECACBA64F2812C | P11: T | Q11: F | R11: F | AW11: 58DD251F0B24238AECACBA659862FD58DD251F0B24238AECACBA64F2812C
A12: [ 합 계 ] | F12: =TRUNC(SUMIF(N5:N11, N4, F5:F11),0) -> 39087 | H12: =TRUNC(SUMIF(N5:N11, N4, H5:H11),0) -> 86062 | J12: =TRUNC(SUMIF(N5:N11, N4, J5:J11),0) -> 0 | L12: =F12+H12+J12 -> 125149 | N12: TOTAL | O12: TOTAL
A14: 목재 평 규준틀 설치 및 철거 개소 공통 2-5-4, 2-2-7 ( 호표 2 ) | N14: 58DD251F0B24238AFD4F536CED401A
A15: 각재 | B15: 각재, 외송 | C15: M3 | D15: 0.014 | E15: =단가대비표!O43 -> 571556 | F15: =TRUNC(E15*D15,1) -> 8001.7 | G15: 0 | H15: =TRUNC(G15*D15,1) -> 0 | I15: =단가대비표!V43 -> 0 | J15: =TRUNC(I15*D15,1) -> 0 | K15: =TRUNC(E15+G15+I15,1) -> 571556 | L15: =TRUNC(F15+H15+J15,1) -> 8001.7 | N15: 58DD251F0B24238AFD4F536CED401A | O15: 5FF645E7FE262582024E13678795627C1C4DAD | P15: F | Q15: F | R15: T | AW15: 58DD251F0B24238AFD4F536CED401A5FF645E7FE262582024E13678795627C1C4DAD
A16: 건축목공 | B16: 일반공사 직종 | C16: 인 | D16: 0.15 | E16: =단가대비표!O116 -> 0 | F16: =TRUNC(E16*D16,1) -> 0 | G16: 252654.22 | H16: =TRUNC(G16*D16,1) -> 37898.1 | I16: =단가대비표!V116 -> 0 | J16: =TRUNC(I16*D16,1) -> 0 | K16: =TRUNC(E16+G16+I16,1) -> 252654.2 | L16: =TRUNC(F16+H16+J16,1) -> 37898.1 | N16: 58DD251F0B24238AFD4F536CED401A | O16: 580EB5368A2F2E8E3602AF6B0293AEBD59EDCD | P16: F | Q16: F | R16: T | AW16: 58DD251F0B24238AFD4F536CED401A580EB5368A2F2E8E3602AF6B0293AEBD59EDCD
A17: 보통인부 | B17: 일반공사 직종 | C17: 인 | D17: 0.3 | E17: =단가대비표!O107 -> 0 | F17: =TRUNC(E17*D17,1) -> 0 | G17: 156581.88 | H17: =TRUNC(G17*D17,1) -> 46974.5 | I17: =단가대비표!V107 -> 0 | J17: =TRUNC(I17*D17,1) -> 0 | K17: =TRUNC(E17+G17+I17,1) -> 156581.8 | L17: =TRUNC(F17+H17+J17,1) -> 46974.5 | N17: 58DD251F0B24238AFD4F536CED401A | O17: 580EB5368A2F2E8E3602AF6B0293AEBD59EFF9 | P17: F | Q17: F | R17: T | AW17: 58DD251F0B24238AFD4F536CED401A580EB5368A2F2E8E3602AF6B0293AEBD59EFF9
A18: [ 합 계 ] | F18: =TRUNC(SUMIF(N15:N17, N14, F15:F17),0) -> 8001 | G18: 0 | H18: =TRUNC(SUMIF(N15:N17, N14, H15:H17),0) -> 84872 | J18: =TRUNC(SUMIF(N15:N17, N14, J15:J17),0) -> 0 | L18: =F18+H18+J18 -> 92873 | N18: TOTAL | O18: TOTAL
G19: 0
A20: 목재 귀 규준틀 설치 및 철거 개소 공통 2-5-4, 2-2-7 ( 호표 3 ) | G20: 0 | N20: 58DD251F0B24238AFD4F536FA10601
A21: 각재 | B21: 각재, 외송 | C21: M3 | D21: 0.022 | E21: =단가대비표!O43 -> 571556 | F21: =TRUNC(E21*D21,1) -> 12574.2 | G21: 0 | H21: =TRUNC(G21*D21,1) -> 0 | I21: =단가대비표!V43 -> 0 | J21: =TRUNC(I21*D21,1) -> 0 | K21: =TRUNC(E21+G21+I21,1) -> 571556 | L21: =TRUNC(F21+H21+J21,1) -> 12574.2 | N21: 58DD251F0B24238AFD4F536FA10601 | O21: 5FF645E7FE262582024E13678795627C1C4DAD | P21: F | Q21: F | R21: T | AW21: 58DD251F0B24238AFD4F536FA106015FF645E7FE262582024E13678795627C1C4DAD
A22: 건축목공 | B22: 일반공사 직종 | C22: 인 | D22: 0.3 | E22: =단가대비표!O116 -> 0 | F22: =TRUNC(E22*D22,1) -> 0 | G22: 252654.22 | H22: =TRUNC(G22*D22,1) -> 75796.2 | I22: =단가대비표!V116 -> 0 | J22: =TRUNC(I22*D22,1) -> 0 | K22: =TRUNC(E22+G22+I22,1) -> 252654.2 | L22: =TRUNC(F22+H22+J22,1) -> 75796.2 | N22: 58DD251F0B24238AFD4F536FA10601 | O22: 580EB5368A2F2E8E3602AF6B0293AEBD59EDCD | P22: F | Q22: F | R22: T | AW22: 58DD251F0B24238AFD4F536FA10601580EB5368A2F2E8E3602AF6B0293AEBD59EDCD
A23: 보통인부 | B23: 일반공사 직종 | C23: 인 | D23: 0.45 | E23: =단가대비표!O107 -> 0 | F23: =TRUNC(E23*D23,1) -> 0 | G23: 156581.88 | H23: =TRUNC(G23*D23,1) -> 70461.8 | I23: =단가대비표!V107 -> 0 | J23: =TRUNC(I23*D23,1) -> 0 | K23: =TRUNC(E23+G23+I23,1) -> 156581.8 | L23: =TRUNC(F23+H23+J23,1) -> 70461.8 | N23: 58DD251F0B24238AFD4F536FA10601 | O23: 580EB5368A2F2E8E3602AF6B0293AEBD59EFF9 | P23: F | Q23: F | R23: T | AW23: 58DD251F0B24238AFD4F536FA10601580EB5368A2F2E8E3602AF6B0293AEBD59EFF9
A24: [ 합 계 ] | F24: =TRUNC(SUMIF(N21:N23, N20, F21:F23),0) -> 12574 | G24: 0 | H24: =TRUNC(SUMIF(N21:N23, N20, H21:H23),0) -> 146258 | J24: =TRUNC(SUMIF(N21:N23, N20, J21:J23),0) -> 0 | L24: =F24+H24+J24 -> 158832 | N24: TOTAL | O24: TOTAL
G25: 0
A26: 건축물 현장정리 목조, 철골조, 조적조 M2 공통 2-11-2 ( 호표 4 ) | G26: 0 | N26: 58DD251A862B2283AC667068E7DA9B
A27: 보통인부 | B27: 일반공사 직종 | C27: 인 | D27: 0.05 | E27: =단가대비표!O107 -> 0 | F27: =TRUNC(E27*D27,1) -> 0 | G27: 156581.88 | H27: =TRUNC(G27*D27,1) -> 7829 | I27: =단가대비표!V107 -> 0 | J27: =TRUNC(I27*D27,1) -> 0 | K27: =TRUNC(E27+G27+I27,1) -> 156581.8 | L27: =TRUNC(F27+H27+J27,1) -> 7829 | N27: 58DD251A862B2283AC667068E7DA9B | O27: 580EB5368A2F2E8E3602AF6B0293AEBD59EFF9 | P27: F | Q27: F | R27: T | AW27: 58DD251A862B2283AC667068E7DA9B580EB5368A2F2E8E3602AF6B0293AEBD59EFF9
A28: [ 합 계 ] | F28: =TRUNC(SUMIF(N27:N27, N26, F27:F27),0) -> 0 | G28: 0 | H28: =TRUNC(SUMIF(N27:N27, N26, H27:H27),0) -> 7829 | J28: =TRUNC(SUMIF(N27:N27, N26, J27:J27),0) -> 0 | L28: =F28+H28+J28 -> 7829 | N28: TOTAL | O28: TOTAL
G29: 0
A30: 먹매김 구조부,거푸집 M2 ( 호표 5 ) | G30: 0 | N30: 58DD251A852A2D8F4FE7EE6A949A1D
A31: 구조부 먹매김 | B31: 일반 | C31: M2 | D31: 1 | E31: =일위대가목록!E69 -> 0 | F31: =TRUNC(E31*D31,1) -> 0 | G31: 1263.08 | H31: =TRUNC(G31*D31,1) -> 1263 | I31: =일위대가목록!G69 -> 0 | J31: =TRUNC(I31*D31,1) -> 0 | K31: =TRUNC(E31+G31+I31,1) -> 1263 | L31: =TRUNC(F31+H31+J31,1) -> 1263 | M31: 호표 66 | N31: 58DD251A852A2D8F4FE7EE6A949A1D | O31: 58DD251A852A2D8F4FE7C36D00FAEA | P31: T | Q31: F | R31: F | AW31: 58DD251A852A2D8F4FE7EE6A949A1D58DD251A852A2D8F4FE7C36D00FAEA
A32: 거푸집 먹매김 | B32: 일반 | C32: M2 | D32: 1 | E32: =일위대가목록!E70 -> 0 | F32: =TRUNC(E32*D32,1) -> 0 | G32: 3031.21 | H32: =TRUNC(G32*D32,1) -> 3031.2 | I32: =일위대가목록!G70 -> 0 | J32: =TRUNC(I32*D32,1) -> 0 | K32: =TRUNC(E32+G32+I32,1) -> 3031.2 | L32: =TRUNC(F32+H32+J32,1) -> 3031.2 | M32: 호표 67 | N32: 58DD251A852A2D8F4FE7EE6A949A1D | O32: 58DD251A852A2D8F4FE7EE6A949A1E | P32: T | Q32: F | R32: F | AW32: 58DD251A852A2D8F4FE7EE6A949A1D58DD251A852A2D8F4FE7EE6A949A1E
A33: [ 합 계 ] | F33: =TRUNC(SUMIF(N31:N32, N30, F31:F32),0) -> 0 | G33: 0 | H33: =TRUNC(SUMIF(N31:N32, N30, H31:H32),0) -> 4294 | J33: =TRUNC(SUMIF(N31:N32, N30, J31:J32),0) -> 0 | L33: =F33+H33+J33 -> 4294 | N33: TOTAL | O33: TOTAL
G34: 0
A35: 준공청소 M2 공통 2-11-3 ( 호표 6 ) | G35: 0 | N35: 58DD251A832F2E8733B63F6A5A9915
A36: 보통인부 | B36: 일반공사 직종 | C36: 인 | D36: 0.02 | E36: =단가대비표!O107 -> 0 | F36: =TRUNC(E36*D36,1) -> 0 | G36: 156581.88 | H36: =TRUNC(G36*D36,1) -> 3131.6 | I36: =단가대비표!V107 -> 0 | J36: =TRUNC(I36*D36,1) -> 0 | K36: =TRUNC(E36+G36+I36,1) -> 156581.8 | L36: =TRUNC(F36+H36+J36,1) -> 3131.6 | N36: 58DD251A832F2E8733B63F6A5A9915 | O36: 580EB5368A2F2E8E3602AF6B0293AEBD59EFF9 | P36: F | Q36: F | R36: T | AW36: 58DD251A832F2E8733B63F6A5A9915580EB5368A2F2E8E3602AF6B0293AEBD59EFF9
A37: [ 합 계 ] | F37: =TRUNC(SUMIF(N36:N36, N35, F36:F36),0) -> 0 | G37: 0 | H37: =TRUNC(SUMIF(N36:N36, N35, H36:H36),0) -> 3131 | J37: =TRUNC(SUMIF(N36:N36, N35, J36:J36),0) -> 0 | L37: =F37+H37+J37 -> 3131 | N37: TOTAL | O37: TOTAL
G38: 0
A39: 잡석지정 굴삭기 0.2m3+진동롤러(핸드가이드식) M3 ( 호표 7 ) | G39: 0 | N39: 58DD05D00E2A2980B20C2D6FF74E94
A40: 굴착기(무한궤도) | B40: 0.2㎥ | C40: HR | D40: 0.07 | E40: =일위대가목록!E71 -> 11027 | F40: =TRUNC(E40*D40,1) -> 771.8 | G40: 53708.2 | H40: =TRUNC(G40*D40,1) -> 3759.5 | I40: =일위대가목록!G71 -> 13873 | J40: =TRUNC(I40*D40,1) -> 971.1 | K40: =TRUNC(E40+G40+I40,1) -> 78608.2 | L40: =TRUNC(F40+H40+J40,1) -> 5502.4 | M40: 호표 68 | N40: 58DD05D00E2A2980B20C2D6FF74E94 | O40: 5FCAF518192A26860142246117B06F5331AC363A | P40: T | Q40: F | R40: F | AW40: 58DD05D00E2A2980B20C2D6FF74E945FCAF518192A26860142246117B06F5331AC363A
A41: 진동롤러(핸드가이드식) | B41: 0.7ton | C41: HR | D41: 0.086 | E41: =일위대가목록!E72 -> 4531 | F41: =TRUNC(E41*D41,1) -> 389.6 | G41: 32985.68 | H41: =TRUNC(G41*D41,1) -> 2836.7 | I41: =일위대가목록!G72 -> 1967 | J41: =TRUNC(I41*D41,1) -> 169.1 | K41: =TRUNC(E41+G41+I41,1) -> 39483.6 | L41: =TRUNC(F41+H41+J41,1) -> 3395.4 | M41: 호표 69 | N41: 58DD05D00E2A2980B20C2D6FF74E94 | O41: 5FCAF518192A2780A5296463E2E56396EB3B620C | P41: T | Q41: F | R41: F | AW41: 58DD05D00E2A2980B20C2D6FF74E945FCAF518192A2780A5296463E2E56396EB3B620C
...

Sheet 단가산출목록
B1: 단 가 산 출 목 록
B2: [ 하동군 옥종면 병천리 228-3번지 제조업소 신축공사 ]
A3: 코 드 | B3: 품 명 | C3: 규 격 | D3: 단위 | E3: 재 료 비 | F3: 노 무 비 | G3: 경 비 | H3: 합 계 | I3: 번 호 | J3: 비 고 | K3: START | L3: 품셈개요
A4: 58F2454833272E88B2EAB269B8F915 | B4: 터파기/토사 | C4: 보통, 굴착기 0.7m3 | D4: M3 | E4: =단가산출서!B20 -> 437 | F4: =단가산출서!C20 -> 1000 | G4: =단가산출서!D20 -> 416 | H4: =단가산출서!E20 -> 1853 | I4: 산근 1 | K4: 58F2454833272E88B2EAB269B8F915 | L4: 공통 8-2-3
A5: 58F2454B85242F8886C1F06205BFB3 | B5: 잔토처리 | C5: 보통, 덤프 15ton+굴삭기 0.7m3 | D5: M3 | E5: =단가산출서!B69 -> 3982 | F5: =단가산출서!C69 -> 5876 | G5: =단가산출서!D69 -> 2100 | H5: =단가산출서!E69 -> 11958 | I5: 산근 2 | K5: 58F2454B85242F8886C1F06205BFB3
A6: 58F245457C2E258CCEBA4363D6F13B | B6: 되메우기/토사, 두께 15cm | C6: 보통, 굴삭기 0.7m3+래머 80kg | D6: M3 | E6: =단가산출서!B100 -> 640 | F6: =단가산출서!C100 -> 9011 | G6: =단가산출서!D100 -> 423 | H6: =단가산출서!E100 -> 10074 | I6: 산근 3 | K6: 58F245457C2E258CCEBA4363D6F13B
A7: 58F245457C2E258CCEBA4363D6F012 | B7: 흙 쌓기/로상 다짐 20cm | C7: 보통, 진동롤러 10ton+타이어롤러 8∼15ton+살수 | D7: M3 | E7: =단가산출서!B153 -> 546 | F7: =단가산출서!C153 -> 1380 | G7: =단가산출서!D153 -> 428 | H7: =단가산출서!E153 -> 2354 | I7: 산근 4 | K7: 58F245457C2E258CCEBA4363D6F012
A8: 58F24549DE20228D73371767B8EB0C | B8: 흙 쌓기 장외운반/토사 | C8: 보통, 덤프 20ton, L=10km | D8: M3 | E8: =단가산출서!B203 -> 4321 | F8: =단가산출서!C203 -> 5070 | G8: =단가산출서!D203 -> 2479 | H8: =단가산출서!E203 -> 11870 | I8: 산근 5 | K8: 58F24549DE20228D73371767B8EB0C | L8: 공통 8-2-8

Sheet 단가산출서
A1: 단 가 산 출 서
A2: [ 하동군 옥종면 병천리 228-3번지 제조업소 신축공사 ]
A3: 산 출 내 역 | B3: 재 료 비 | C3: 노 무 비 | D3: 경 비 | E3: 합 계 | F3: 비 고 | G3: START | H3: 코드 | I3: 품명 | J3: 규격 | K3: 단위 | L3: 수량 | M3: 변수 | N3: 값 | O3: 소계 | P3: 소계 | Q3: 소계 | R3: 소계 | S3: 소계 | T3: 총계
A4: 터파기/토사 보통, 굴착기 0.7m3 M3 공통 8-2-3 ( 산근 1 ) | G4: 58F2454833272E88B2EAB269B8F915 | I4: 터파기/토사 | J4: 보통, 굴착기 0.7m3 | K4: M3
G5: 58F2454833272E88B2EAB269B8F915 | H5: C | L5: 1
A6: 굴삭기(무한궤도),0.7㎥ M3 | B6: 0 | C6: 0 | D6: 0 | E6: 0 | G6: 58F2454833272E88B2EAB269B8F915 | H6: C! | I6: '굴삭기(무한궤도),0.7㎥ M3'
B7: 0 | C7: 0 | D7: 0 | E7: 0 | G7: 58F2454833272E88B2EAB269B8F915 | H7: C!
A8: Q1 바켓용량(M3) =0.70 | B8: 0 | C8: 0 | D8: 0 | E8: 0 | G8: 58F2454833272E88B2EAB269B8F915 | H8: C! | I8: q1 '바켓용량(M3)' =0.70
A9: K 바켓계수(양호1.1,보통0.90,불량0.70,파쇄암0.55) = 0.90 | B9: 0 | C9: 0 | D9: 0 | E9: 0 | G9: 58F2454833272E88B2EAB269B8F915 | H9: C! | I9: k '바켓계수(양호1.1,보통0.90,불량0.70,파쇄암0.55)'= 0.90
A10: F 토량환산계수(1/L) = 1/1.25= 0.8 | B10: 0 | C10: 0 | D10: 0 | E10: 0 | G10: 58F2454833272E88B2EAB269B8F915 | H10: C! | I10: f '토량환산계수(1/L)'= 1/1.25=?
A11: E1 터파기에 대하여 -0.05 =0.05 | B11: 0 | C11: 0 | D11: 0 | E11: 0 | G11: 58F2454833272E88B2EAB269B8F915 | H11: C! | I11: E1 '터파기에 대하여 -0.05'=0.05
A12: E 작업효율사질토(양호0.85,보통0.70,불량0.55) = 0.70-E1= 0.65 | B12: 0 | C12: 0 | D12: 0 | E12: 0 | G12: 58F2454833272E88B2EAB269B8F915 | H12: C! | I12: E '작업효율사질토(양호0.85,보통0.70,불량0.55)'= 0.70-E1=?
A13: CM 1회 싸이클시간(135˚SEC) =20 | B13: 0 | C13: 0 | D13: 0 | E13: 0 | G13: 58F2454833272E88B2EAB269B8F915 | H13: C! | I13: Cm '1회 싸이클시간(135˚SEC)'=20
A14: Q 시간당 작업량 (M3/HR) = 3600*Q1*K*F*E/CM= 58.968 | B14: 0 | C14: 0 | D14: 0 | E14: 0 | G14: 58F2454833272E88B2EAB269B8F915 | H14: C! | I14: Q '시간당 작업량 (M3/Hr)'= 3600*q1*k*f*E/Cm=?
B15: 0 | C15: 0 | D15: 0 | E15: 0 | G15: 58F2454833272E88B2EAB269B8F915 | H15: C!
A16: 재료비: 25795 / 58.968 = 437.4 | B16: 437.4 | C16: 0 | D16: 0 | E16: 437.4 | G16: 58F2454833272E88B2EAB269B8F915 | H16: C! | I16: '재료비:' ~00000201007000000.M~ / {Q} =?MA+
A17: 노무비: 59020 / 58.968 = 1000.8 | B17: 0 | C17: 1000.8 | D17: 0 | E17: 1000.8 | G17: 58F2454833272E88B2EAB269B8F915 | H17: C! | I17: '노무비:' ~00000201007000000.L~ / {Q} =?LA+
A18: 경 비: 24554 / 58.968 = 416.3 | B18: 0 | C18: 0 | D18: 416.3 | E18: 416.3 | G18: 58F2454833272E88B2EAB269B8F915 | H18: C! | I18: '경 비:' ~00000201007000000.E~ / {Q} =?EQ+
A19: 소 계 | B19: 437.4 | C19: 1000.8 | D19: 416.3 | E19: 1854.5 | G19: 58F2454833272E88B2EAB269B8F915 | H19: C! | I19: >'소 계'
A20: 총 계 | B20: 437 | C20: 1000 | D20: 416 | E20: 1853
A22: 잔토처리 보통, 덤프 15ton+굴삭기 0.7m3 M3 ( 산근 2 ) | G22: 58F2454B85242F8886C1F06205BFB3 | I22: 잔토처리 | J22: 보통, 덤프 15ton+굴삭기 0.7m3 | K22: M3
G23: 58F2454B85242F8886C1F06205BFB3 | H23: C | K23: M3 | L23: 1
A24: 운반거리 L=10KN,(적재,고르기별도) M3 | B24: 0 | C24: 0 | D24: 0 | E24: 0 | G24: 58F2454B85242F8886C1F06205BFB3 | H24: C! | I24: '운반거리 L=10KN,(적재,고르기별도) M3'
A25: 차량속도= 30KM/V1,35KM/V2,35KM/V3,35KM/V4,30KM/V5,35KM/V6 | B25: 0 | C25: 0 | D25: 0 | E25: 0 | G25: 58F2454B85242F8886C1F06205BFB3 | H25: C! | I25: '차량속도= 30KM/V1,35KM/V2,35KM/V3,35KM/V4,30KM/V5,35KM/V6 '
A26: ○------------------0------------0----------------○10KM | B26: 0 | C26: 0 | D26: 0 | E26: 0 | G26: 58F2454B85242F8886C1F06205BFB3 | H26: C! | I26: ' ○------------------0------------0----------------○10KM '
A27: 운반거리=단지대L1=0.5KM,시내외L2=9.0KM,사토장L3=0.5KM | B27: 0 | C27: 0 | D27: 0 | E27: 0 | G27: 58F2454B85242F8886C1F06205BFB3 | H27: C! | I27: '운반거리=단지대L1=0.5KM,시내외L2=9.0KM,사토장L3=0.5KM'
B28: 0 | C28: 0 | D28: 0 | E28: 0 | G28: 58F2454B85242F8886C1F06205BFB3 | H28: C!
A29: 1.덤프트럭,15톤 | B29: 0 | C29: 0 | D29: 0 | E29: 0 | G29: 58F2454B85242F8886C1F06205BFB3 | H29: C! | I29: '1.덤프트럭,15톤'
A30: T 적재용량(톤) =15 | B30: 0 | C30: 0 | D30: 0 | E30: 0 | G30: 58F2454B85242F8886C1F06205BFB3 | H30: C! | I30: T '적재용량(톤)' =15
A31: R1 토석의 단위중량(톤) =1.7 | B31: 0 | C31: 0 | D31: 0 | E31: 0 | G31: 58F2454B85242F8886C1F06205BFB3 | H31: C! | I31: r1 '토석의 단위중량(톤)' =1.7
A32: L 토량 변화율 =1.25 | B32: 0 | C32: 0 | D32: 0 | E32: 0 | G32: 58F2454B85242F8886C1F06205BFB3 | H32: C! | I32: L '토량 변화율' =1.25
A33: Q1 1회 적재량(M3) =T/R1*L= 11.0294 | B33: 0 | C33: 0 | D33: 0 | E33: 0 | G33: 58F2454B85242F8886C1F06205BFB3 | H33: C! | I33: q1 '1회 적재량(M3)' =T/r1*L=?
A34: F 토량 환산계수(1/L) =1/L= 0.8 | B34: 0 | C34: 0 | D34: 0 | E34: 0 | G34: 58F2454B85242F8886C1F06205BFB3 | H34: C! | I34: f '토량 환산계수(1/L)' =1/L=?
A35: E 작업효율 =0.9 | B35: 0 | C35: 0 | D35: 0 | E35: 0 | G35: 58F2454B85242F8886C1F06205BFB3 | H35: C! | I35: E '작업효율' =0.9
A36: CMS 적재기계 1회 싸이클시간(SEC) =20 | B36: 0 | C36: 0 | D36: 0 | E36: 0 | G36: 58F2454B85242F8886C1F06205BFB3 | H36: C! | I36: Cms '적재기계 1회 싸이클시간(SEC)' =20
A37: V1 단지내적재운반속도(KM/HR) =15 | B37: 0 | C37: 0 | D37: 0 | E37: 0 | G37: 58F2454B85242F8886C1F06205BFB3 | H37: C! | I37: V1 '단지내적재운반속도(KM/HR)' =15
A38: V2 단지내공차운반속도(KM/HR) =20 | B38: 0 | C38: 0 | D38: 0 | E38: 0 | G38: 58F2454B85242F8886C1F06205BFB3 | H38: C! | I38: V2 '단지내공차운반속도(KM/HR)' =20
A39: V3 시내외포장적재운반속도(KM/HR) =35 | B39: 0 | C39: 0 | D39: 0 | E39: 0 | G39: 58F2454B85242F8886C1F06205BFB3 | H39: C! | I39: V3 '시내외포장적재운반속도(KM/HR)' =35
A40: V4 시내외포장공차운반속도(KM/HR) =35 | B40: 0 | C40: 0 | D40: 0 | E40: 0 | G40: 58F2454B85242F8886C1F06205BFB3 | H40: C! | I40: V4 '시내외포장공차운반속도(KM/HR)' =35
... A45: L3 사토장비포장(KM) =0.5 | B45: 0 | C45: 0 | D45: 0 | E45: 0 | G45: 58F2454B85242F8886C1F06205BFB3 | H45: C! | I45: L3 '사토장비포장(KM)' =0.5
...

Sheet 단가대비표
A1: 단 가 대 비 표
A2: [ 하동군 옥종면 병천리 228-3번지 제조업소 신축공사 ]
A3: 코 드 | B3: 품 명 | C3: 규격 | D3: 단위 | E3: 재 료 비 | P3: 노 무 비 | Q3: 경 비 | W3: 번 호 | X3: 비 고 | Y3: 품목구분 | Z3: 노임구분 | AA3: 소수점처리 | AB3: 자재구분
E4: 조달청가격 | F4: PAGE | G4: 거래가격 | H4: PAGE | I4: 유통물가 | J4: PAGE | K4: 물가자료 | L4: PAGE | M4: 조사가격 | N4: PAGE | O4: 적용단가 | Q4: 조달청가격 | R4: 거래가격 | S4: 유통물가 | T4: 물가자료 | U4: 조사가격 | V4: 적용단가
A5: 5FCAF518192A26860142246117B06F5331AC36 | B5: 굴착기(무한궤도) | C5: 0.2㎥ | D5: 대 | E5: 0 | G5: 0 | I5: 0 | K5: 0 | M5: 0 | O5: 0 | P5: 0 | Q5: 0 | R5: 0 | S5: 0 | T5: 0 | U5: 66538 | V5: =SMALL(Q5:U5,COUNTIF(Q5:U5,0)+1) -> 66538 | W5: 자재 1 | X5: 천원
A6: 5FCAF518192A26860142246117B5D1B5D1F212 | B6: 굴착기(무한궤도) | C6: 0.7㎥ | D6: 대 | E6: 0 | G6: 0 | I6: 0 | K6: 0 | M6: 0 | O6: 0 | P6: 0 | Q6: 0 | R6: 0 | S6: 0 | T6: 0 | U6: 117766 | V6: =SMALL(Q6:U6,COUNTIF(Q6:U6,0)+1) -> 117766 | W6: 자재 2 | X6: 천원
A7: 5FCAF518192A268648FC946DC82B74EF00D60E | B7: 덤프트럭 | C7: 15ton | D7: 대 | E7: 0 | G7: 0 | I7: 0 | K7: 0 | M7: 0 | O7: 0 | P7: 0 | Q7: 0 | R7: 0 | S7: 0 | T7: 0 | U7: 90653 | V7: =SMALL(Q7:U7,COUNTIF(Q7:U7,0)+1) -> 90653 | W7: 자재 3 | X7: 천원
A8: 5FCAF518192A268648FC946DCBE24E86358C79 | B8: 덤프트럭 | C8: 20ton | D8: 대 | E8: 0 | G8: 0 | I8: 0 | K8: 0 | M8: 0 | O8: 0 | P8: 0 | Q8: 0 | R8: 0 | S8: 0 | T8: 0 | U8: 127336 | V8: =SMALL(Q8:U8,COUNTIF(Q8:U8,0)+1) -> 127336 | W8: 자재 4 | X8: 천원
A9: 5FCAF518192A268648E243616BB74AF4B4A904 | B9: 덤프트럭 자동덮개시설 | C9: 15ton | D9: 대 | E9: 0 | G9: 0 | I9: 0 | K9: 0 | M9: 0 | O9: 0 | P9: 0 | Q9: 0 | R9: 0 | S9: 0 | T9: 0 | U9: 1634 | V9: =SMALL(Q9:U9,COUNTIF(Q9:U9,0)+1) -> 1634 | W9: 자재 5 | X9: 천원
A10: 5FCAF518192A268648E2436168FE01EC85C040 | B10: 덤프트럭 자동덮개시설 | C10: 20ton | D10: 대 | E10: 0 | G10: 0 | I10: 0 | K10: 0 | M10: 0 | O10: 0 | P10: 0 | Q10: 0 | R10: 0 | S10: 0 | T10: 0 | U10: 1765 | V10: =SMALL(Q10:U10,COUNTIF(Q10:U10,0)+1) -> 1765 | W10: 자재 6 | X10: 천원
A11: 5FCAF518192A2780A5296463E2E56396EB3B62 | B11: 진동롤러(핸드가이드식) | C11: 0.7ton | D11: 대 | E11: 0 | G11: 0 | I11: 0 | K11: 0 | M11: 0 | O11: 0 | P11: 0 | Q11: 0 | R11: 0 | S11: 0 | T11: 0 | U11: 6966 | V11: =SMALL(Q11:U11,COUNTIF(Q11:U11,0)+1) -> 6966 | W11: 자재 7 | X11: 천원
A12: 5FCAF518192A2780A5295B6C116DAC3A0EBF83 | B12: 진동롤러(자주식) | C12: 10ton | D12: 대 | E12: 0 | G12: 0 | I12: 0 | K12: 0 | M12: 0 | O12: 0 | P12: 0 | Q12: 0 | R12: 0 | S12: 0 | T12: 0 | U12: 94381 | V12: =SMALL(Q12:U12,COUNTIF(Q12:U12,0)+1) -> 94381 | W12: 자재 8 | X12: 천원
A13: 5FCAF518192A2780D271E96A9983F9BBE11712 | B13: 타이어 롤러(자주식) | C13: 8∼15ton | D13: 대 | E13: 0 | G13: 0 | I13: 0 | K13: 0 | M13: 0 | O13: 0 | P13: 0 | Q13: 0 | R13: 0 | S13: 0 | T13: 0 | U13: 98388 | V13: =SMALL(Q13:U13,COUNTIF(Q13:U13,0)+1) -> 98388 | W13: 자재 9 | X13: 천원
A14: 5FCAF518192A2780FD760D693C31625E53132D | B14: 래머 | C14: 80kg | D14: 대 | E14: 0 | G14: 0 | I14: 0 | K14: 0 | M14: 0 | O14: 0 | P14: 0 | Q14: 0 | R14: 0 | S14: 0 | T14: 0 | U14: 1418 | V14: =SMALL(Q14:U14,COUNTIF(Q14:U14,0)+1) -> 1418 | W14: 자재 10 | X14: 천원
A15: 5FCAF518192A248B50C5E66129FAD562030322 | B15: 크레인(타이어) | C15: 20ton | D15: 대 | E15: 0 | G15: 0 | I15: 0 | K15: 0 | M15: 0 | O15: 0 | P15: 0 | Q15: 0 | R15: 0 | S15: 0 | T15: 0 | U15: 233376 | V15: =SMALL(Q15:U15,COUNTIF(Q15:U15,0)+1) -> 233376 | W15: 자재 11 | X15: 천원
A16: 5FCAF518192A248B50C5E66129FDA9C0BCC339 | B16: 크레인(타이어) | C16: 50ton | D16: 대 | E16: 0 | G16: 0 | I16: 0 | K16: 0 | M16: 0 | O16: 0 | P16: 0 | Q16: 0 | R16: 0 | S16: 0 | T16: 0 | U16: 520694 | V16: =SMALL(Q16:U16,COUNTIF(Q16:U16,0)+1) -> 520694 | W16: 자재 12 | X16: 천원
... A19: 5FCAF518192A218E2B5D6662C6843F6C1EC9F3 | B19: 물탱크(살수차) | C19: 5500L | D19: 대 | E19: 0 | G19: 0 | I19: 0 | K19: 0 | M19: 0 | O19: 0 | P19: 0 | Q19: 0 | R19: 0 | S19: 0 | T19: 0 | U19: 47263 | V19: =SMALL(Q19:U19,COUNTIF(Q19:U19,0)+1) -> 47263 | W19: 자재 15 | X19: 천원
A20: 5FDB75103A2129802F24C76BB4D2F191E8A5E1 | B20: 모래 | D20: M3 | E20: 0 | G20: 0 | I20: 65000 | J20: 61 | K20: 0 | M20: 0 | O20: =SMALL(E20:M20,COUNTIF(E20:M20,0)+1) -> 65000 | P20: 0 | Q20: 0 | R20: 0 | S20: 0 | T20: 0 | U20: 0 | V20: 0 | W20: 자재 16
A21: 5FDB75103A2129802F24C76BB4D2F191E8A33F | B21: 혼합골재 | C21: A급 기층용 | D21: M3 | E21: 0 | G21: 0 | I21: 0 | K21: 19000 | L21: 63 | M21: 0 | O21: =SMALL(E21:M21,COUNTIF(E21:M21,0)+1) -> 19000 | P21: 0 | Q21: 0 | R21: 0 | S21: 0 | T21: 0 | U21: 0 | V21: 0 | W21: 자재 17
A22: 5FDB455D1F272785D6D6CD6036A76E0867CC3F | B22: 산소가스 | C22: 산소가스, 기체(㎥) | D22: M3 | E22: 0 | G22: 4375 | H22: 1451 | I22: 3333.33 | J22: 1190 | K22: 0 | M22: 0 | O22: =SMALL(E22:M22,COUNTIF(E22:M22,0)+1) -> 3333.33 | P22: 0 | Q22: 0 | R22: 0 | S22: 0 | T22: 0 | U22: 0 | V22: 0 | W22: 자재 18 | X22: 대기압상태기준
A23: 5FDB455D1D242C824788166C1F1AD7340800AB | B23: 모르타르액체방수제 | D23: L | E23: 0 | G23: 0 | I23: 0 | K23: 590 | L23: 503 | M23: 0 | O23: =SMALL(E23:M23,COUNTIF(E23:M23,0)+1) -> 590 | P23: 0 | Q23: 0 | R23: 0 | S23: 0 | T23: 0 | U23: 0 | V23: 0 | W23: 자재 19 | X23: 10,630/18L
A24: 5FDB55625E2E2E86C23DE462F5506EF1C34148 | B24: 폴리에틸렌필름 | C24: 폴리에틸렌필름, 두께, 0.05mm | D24: M2 | E24: 309 | G24: 308.18 | H24: 1460 | I24: 402.56 | J24: 1182 | K24: 0 | M24: 0 | O24: =SMALL(E24:M24,COUNTIF(E24:M24,0)+1) -> 308.18 | P24: 0 | Q24: 0 | R24: 0 | S24: 0 | T24: 0 | U24: 0 | V24: 0 | W24: 자재 20
A25: 5FDB35B7B82B2A8F50199B65E2435FEA785320 | B25: 경유 | C25: 경유, 저유황 | D25: L | E25: 0 | G25: 1839.09 | H25: 1451 | I25: 1822.72 | J25: 1189 | K25: 0 | M25: 0 | O25: =SMALL(E25:M25,COUNTIF(E25:M25,0)+1) -> 1822.72 | P25: 0 | Q25: 0 | R25: 0 | S25: 0 | T25: 0 | U25: 0 | V25: 0 | W25: 자재 21
A26: 5FDB35B7B82B2A8F5019A56C6C48B5AAF1C1B4 | B26: 공업용휘발유 | C26: 공업용휘발유, 무연 | D26: L | E26: 0 | G26: 1838.18 | H26: 1451 | I26: 1827.27 | J26: 1189 | K26: 0 | M26: 0 | O26: =SMALL(E26:M26,COUNTIF(E26:M26,0)+1) -> 1827.27 | P26: 0 | Q26: 0 | R26: 0 | S26: 0 | T26: 0 | U26: 0 | V26: 0 | W26: 자재 22
A27: 5FDB35B7B924238755A5F36F46E55D7D6193F6 | B27: 액화석유가스 | C27: 액화석유가스, 건설용 LPG | D27: kg | E27: 2076 | G27: 0 | I27: 0 | K27: 0 | M27: 0 | O27: =SMALL(E27:M27,COUNTIF(E27:M27,0)+1) -> 2076 | P27: 0 | Q27: 0 | R27: 0 | S27: 0 | T27: 0 | U27: 0 | V27: 0 | W27: 자재 23
A28: 5FE59518EB2C2D8A97EF7866370AA394953EFD | B28: 안전발판 | C28: PSP, 3040*420*3mm | D28: 매 | E28: 0 | G28: 31000 | H28: 172 | I28: 0 | K28: 0 | M28: 0 | O28: =SMALL(E28:M28,COUNTIF(E28:M28,0)+1) -> 31000 | P28: 0 | Q28: 0 | R28: 0 | S28: 0 | T28: 0 | U28: 0 | V28: 0 | W28: 자재 24
A29: 5FF645E7FE26278D69E155675896C3A82ED501 | B29: ㄱ형강 | C29: ㄱ형강, 등변, 40*40*3mm | D29: kg | E29: 940 | G29: 1080 | H29: 55 | I29: 1100 | J29: 21 | K29: 0 | M29: 0 | O29: =SMALL(E29:M29,COUNTIF(E29:M29,0)+1) -> 940 | P29: 0 | Q29: 0 | R29: 0 | S29: 0 | T29: 0 | U29: 0 | V29: 0 | W29: 자재 25
A30: 5FF645E7FE26278D69E155675896C3A82FE550 | B30: ㄱ형강 | C30: ㄱ형강, 등변, 70*70*6mm | D30: kg | E30: 0 | G30: 1080 | H30: 55 | I30: 0 | K30: 0 | M30: 0 | O30: =SMALL(E30:M30,COUNTIF(E30:M30,0)+1) -> 1080 | P30: 0 | Q30: 0 | R30: 0 | S30: 0 | T30: 0 | U30: 0 | V30: 0 | W30: 자재 26
A31: 5FF645E7FE26278D4D1A05676241EECA3B43F8 | B31: 보조강재 | C31: 대강 | D31: kg | E31: 0 | G31: 1080 | H31: 53 | I31: 0 | K31: 0 | M31: 0 | O31: =SMALL(E31:M31,COUNTIF(E31:M31,0)+1) -> 1080 | P31: 0 | Q31: 0 | R31: 0 | S31: 0 | T31: 0 | U31: 0 | V31: 0 | W31: 자재 30
A32: 5FF645E7FE26278D4D1A05676368F20C0E4EEC | B32: H형강 | C32: SS275, 200*100*5.5*8mm, 현장도착도 | D32: TON | E32: 0 | G32: 1250000 | H32: 56 | I32: 1240000 | J32: 19 | K32: 0 | M32: 0 | O32: =SMALL(E32:M32,COUNTIF(E32:M32,0)+1) -> 1240000 | P32: 0 | Q32: 0 | R32: 0 | S32: 0 | T32: 0 | U32: 0 | V32: 0 | W32: 자재 31 | X32: 21.3kg/m
A33: 5FF645E7FE26278D4D1A05676368F20C0E4EE3 | B33: H형강 | C33: SS275, 194*150*6*9mm, 현장도착도 | D33: TON | E33: 0 | G33: 0 | I33: 1240000 | J33: 19 | K33: 0 | M33: 0 | O33: =SMALL(E33:M33,COUNTIF(E33:M33,0)+1) -> 1240000 | P33: 0 | Q33: 0 | R33: 0 | S33: 0 | T33: 0 | U33: 0 | V33: 0 | W33: 자재 32 | X33: 30.6kg/m
A34: 5FF645E7FE26278D4D1A05676368F20C0E4C3C | B34: H형강 | C34: SS275, 300*150*6.5*9mm, 현장도착도 | D34: TON | E34: 0 | G34: 1250000 | H34: 56 | I34: 1240000 | J34: 19 | K34: 0 | M34: 0 | O34: =SMALL(E34:M34,COUNTIF(E34:M34,0)+1) -> 1240000 | P34: 0 | Q34: 0 | R34: 0 | S34: 0 | T34: 0 | U34: 0 | V34: 0 | W34: 자재 33 | X34: 36.7kg/m
A35: 5FF645E7FE26278D4D1A0564AE98CD73E32C61 | B35: 경량형강 | C35: 경량형강, 블랙C형강, 100*50*20, t2.3 | D35: TON | E35: 1010000 | G35: 1090000 | H35: 58 | I35: 1087000 | J35: 24 | K35: 0 | M35: 0 | O35: =SMALL(E35:M35,COUNTIF(E35:M35,0)+1) -> 1010000 | P35: 0 | Q35: 0 | R35: 0 | S35: 0 | T35: 0 | U35: 0 | V35: 0 | W35: 자재 34
A36: 5FF645E7FE26278D4D1A0564AE98CD73E32C66 | B36: 경량형강 | C36: 경량형강, 블랙C형강, 150*50*20, t3.2 | D36: TON | E36: 1010000 | G36: 1090000 | H36: 58 | I36: 1087000 | J36: 24 | K36: 0 | M36: 0 | O36: =SMALL(E36:M36,COUNTIF(E36:M36,0)+1) -> 1010000 | P36: 0 | Q36: 0 | R36: 0 | S36: 0 | T36: 0 | U36: 0 | V36: 0 | W36: 자재 35
A37: 5FF645E7FE262481D970196E24F7A2D67C6638 | B37: 일반구조용압연강판 | C37: 일반구조용압연강판, 6.0mm | D37: TON | E37: 1092465 | G37: 1193500 | H37: 62 | I37: 0 | K37: 0 | M37: 0 | O37: =SMALL(E37:M37,COUNTIF(E37:M37,0)+1) -> 1092465 | P37: 0 | Q37: 0 | R37: 0 | S37: 0 | T37: 0 | U37: 0 | V37: 0 | W37: 자재 36
A38: 5FF645E7FE262481D970196E24F7A2D67C6634 | B38: 일반구조용압연강판 | C38: 일반구조용압연강판, 16mm | D38: TON | E38: 990000 | G38: 1080000 | H38: 62 | I38: 0 | K38: 0 | M38: 0 | O38: =SMALL(E38:M38,COUNTIF(E38:M38,0)+1) -> 990000 | P38: 0 | Q38: 0 | R38: 0 | S38: 0 | T38: 0 | U38: 0 | V38: 0 | W38: 자재 37
A39: 5FF645E7FE262481D970196E24F7A2D677EB17 | B39: 도장용융아연도강판 | C39: 도장용융아연도강판, 폴리에스터(양면), 0.50mm | D39: kg | E39: 0 | G39: 1717 | H39: 67 | I39: 1824.81 | J39: 29 | K39: 0 | M39: 0 | O39: =SMALL(E39:M39,COUNTIF(E39:M39,0)+1) -> 1717 | P39: 0 | Q39: 0 | R39: 0 | S39: 0 | T39: 0 | U39: 0 | V39: 0 | W39: 자재 38
A40: 5FF645E7FE262481D970196E24F7A2D677E4E7 | B40: 도장용융아연도강판 | C40: 도장용융아연도강판, 폴리에스터(양면), 1.60mm | D40: kg | E40: 0 | G40: 1604 | H40: 67 | I40: 1697.5 | J40: 29 | K40: 0 | M40: 0 | O40: =SMALL(E40:M40,COUNTIF(E40:M40,0)+1) -> 1604 | P40: 0 | Q40: 0 | R40: 0 | S40: 0 | T40: 0 | U40: 0 | V40: 0 | W40: 자재 39
A41: 5FF645E7FE262481D970196E2594175CEF80A9 | B41: 일반구조용압연강판 | C41: 일반구조용압연강판, 9.0mm | D41: TON | E41: 1040094 | G41: 1130600 | H41: 62 | I41: 0 | K41: 0 | M41: 0 | O41: =SMALL(E41:M41,COUNTIF(E41:M41,0)+1) -> 1040094 | P41: 0 | Q41: 0 | R41: 0 | S41: 0 | T41: 0 | U41: 0 | V41: 0 | W41: 자재 40
A42: 5FF645E7FE262481D970196E2594175CEF80AA | B42: 일반구조용압연강판 | C42: 일반구조용압연강판, 13mm | D42: TON | E42: 990000 | G42: 1080000 | H42: 62 | I42: 0 | K42: 0 | M42: 0 | O42: =SMALL(E42:M42,COUNTIF(E42:M42,0)+1) -> 990000 | P42: 0 | Q42: 0 | R42: 0 | S42: 0 | T42: 0 | U42: 0 | V42: 0 | W42: 자재 41
...

Sheet  공사설정 
A1: 이 Sheet는 수정하지 마십시요
A2: 공사구분 | B2: A | C2: 타이틀
A3: 확정내역 | B3: 원내역
A4: 자재단가적용 | B4: 5
A5: 경비단가적용 | B5: 5
A6: 품목코드형식 | B6: XXXX-XXXX-XXXXXXXXX
A7: 내역금액소수점처리 | B7: C | C7: T
A8: 일위대가내역소수점처리 | B8: C | C8: 2
A9: 단가명 | B9: 조달청가격 | C9: 거래가격 | D9: 유통물가 | E9: 물가자료 | F9: 조사가격 | G9: TTTTT
A10: 환율 | B10: 1472 | C10: 0 | D10: 0
A11: 시간당작업량 | B11: R | C11: 4
A12: 1회 사이클시간 | B12: R | C12: 4
A13: 시간당 작업사이클 | B13: R | C13: 3
A14: 일반변수 | B14: R | C14: 5
A15: 시간당 노임산출 계수 | B15: A | C15: 1/8*16/12*25/20 | D15: 1/8*16/12*25/20 | E15: 1/8*16/12*25/20 | F15: 1
A16: 재료비 할증 계수 | B16: 1.11 | C16: 1.12
A17: 노무비 할증 계수 | B17: 1 | C17: 1.5 | D17: 1.16 | E17: 1.6 | F17: 1.6 | G17: 1.6 | H17: 1.94 | I17: 1.94 | J17: 1.94 | K17: 1 | L17: 1 | M17: 1
A18: 경비 할증 계수 | B18: 1.25 | C18: 1.071
A19: 내역,일위대가 품명,규격,단위 따로적용
A20: 내역단가 소수점처리 | B20: C | C20: 1
A21: 코드 | B21: 공종구분명 | C21: 원가비목코드
A22: 1 | B22: 작 업 부 산 물 | C22: A3
A23: 2 | B23: 운 반 비 | C23: C1
A24: 3 | B24: 관 급 자 재 비 | C24: DJ
A25: 4 | B25: 사 급 자 재 비 | C25: D3
A26: 5 | B26: 외 자 재
A27: 6 | B27: 건설폐기물처리비 | C27: D4
A28: 7 | B28: 고 재 처 리 비 | C28: D8
A29: 8 | B29: 도급자관급자재비 | C29: DK
A30: 9 | B30: 관급자관급자재비 | C30: DL
A31: A | B31: 지정폐기물처리비 | C31: D5
A32: B | B32: 품 질 시 험 비 | C32: CC
A33: C | B33: 재해 예방 기술비 | C33: DN
A34: D | B34: 비구조요소구조검 | C34: DP
A35: E | B35: 시공상세도작성비
A36: F | B36: ....
A37: G | B37: ....
A38: H | B38: ....
A39: I | B39: ....
A40: J | B40: ....
...

Sheet Sheet1
