Workbook
Name _: "="
Name ___PB1: #REF!
Name ___PB1: #REF!
Name ___PB1: #REF!
Name __CDT1: #REF!
Name __CDT1: #REF!
Name __CDT1: #REF!
Name __CDT2: #REF!
Name __CDT2: #REF!
Name __CDT2: #REF!
Name __CDT3: #REF!
Name __CDT3: #REF!
Name __CDT3: #REF!
Name __D1: #REF!
Name __D1: #REF!
Name __D1: #REF!
Name __DemandLoad: TRUE
Name __PB1: #REF!
Name __PB1: #REF!
Name __PB1: #REF!
Name _10_7: #REF!
Name _10_7: #REF!
Name _10_7: #REF!
Name _10A_61: #N/A
Name _10A_62: #N/A
Name _10A_63: #N/A
Name _10A_64: #N/A
Name _10A_65: #N/A
Name _10A_66: #N/A
Name _10A_67: #N/A
Name _10A_68: #N/A
Name _10A_69: #N/A
Name _10A_70: #N/A
Name _10A_71: #N/A
Name _10A_72: #N/A
Name _10A_73: #N/A
Name _10A_74: #N/A
Name _10A_75: #N/A
Name _10A_76: #N/A
Name _10A_77: #N/A
Name _10A_78: #N/A
Name _10A_79: #N/A
Name _10A_80: #N/A
Name _10A_81: #N/A
Name _10A_82: #N/A
Name _10A_83: #N/A
Name _10A_84: #N/A
Name _10A_85: #N/A
Name _10A_86: #N/A
Name _10A_87: #N/A
Name _10A_88: #N/A
Name _10A_89: #N/A
Name _10A_90: #N/A
Name _10B_61: #N/A
Name _10B_62: #N/A
Name _10B_63: #N/A
Name _10B_64: #N/A
Name _10B_65: #N/A
Name _10B_66: #N/A
Name _10B_67: #N/A

Sheet 갑지
A1: 과 장 | D1: 팀 장 | G1: 심사자 | J1: 설계자 | M1: 2026 년 설 계
A8: 2026년
C10: 중기2리 지방상수도 급수구역 확장공사
D11: 설계예산서(전기 및 계측제어공사)
D13: 공 사 위 치 : | F13: 경상북도 청송군 부남면 중기리 산 69-2 일원
D15: 공 사 개 요 : | F15: 중기2리 가압장 전기 및 계측제어공사 1개소
D20: 총 공 사 비: | F20: =SUM(F21:I28) -> #REF! | J20: ( | K20: ="일금 "&NUMBERSTRING(F20,1)&" 원정" -> #REF! | Q20: )
D22: 도급예정액: | F22: =원가계산서!E27 -> #REF! | J22: ( | K22: ="일금 "&NUMBERSTRING(F22,1)&" 원정" -> #REF! | Q22: )
D24: 관 급 자 재 비 : | F24: =원가계산서!E28 -> 0 | J24: ( | K24: ="일금 "&NUMBERSTRING(F24,1)&" 원정" -> 일금 영 원정 | Q24: )
D26: 수탁공사비: | F26: =원가계산서!E29 -> #REF! | J26: ( | K26: ="일금 "&NUMBERSTRING(F26,1)&" 원정" -> #REF! | Q26: )

Sheet 26. 4. 13.
B2: ※ 적용시기 : 2026. 04. 13. 입찰공고분부터 | AL2: 2026년 토목∙조경∙산업환경설비공사 원가계산 간접공사비(제비율) 적용기준 (참고: 간접노무비율, 기타경비율, 일반관리비율, 이윤율, 공사이행보증수수료율은 조달청 분석요율임)
AC3: [간접노무비] | AL3: [기타경비] | BD3: [일반관리비] | BS3: [이윤] | BZ3: [건설기계대여대금 지급보증액 발급금액] | DK3: [산업안전보건관리비]
B7: 공사규모 | M7: 공사기간 | AC7: (직노) x 율 | AL7: (재+노) x 율 | AU7: 공사규모 | BD7: (재+노+경) x 율 | BS7: (노+경+일) x 율 | BZ7: (직접공사비) x 율 | DK7: □ 도급자관급자재 미포함 | EB7: (재+직노) x 요율 + 기초액
B9: (직접공사비) | AC9: 토목 | AF9: 조경 | AI9: 산업 설비 (토목) | AL9: 토목 | AO9: 조경 | AR9: 산업 설비 (토목) | AU9: (추정가격) | BD9: 토목, 조경, 산업∙설비(토목) | BL9: 전문· 전기·통신· 소방·기타
BZ11: 종합건설업 | CN11: 전문건설업 | DK11: □ 도급자관급자재 포함 | EB11: (재+직노+도급자관급) x 요율주2) + 기초액과
EB13: ((재+직노) x 요율주3) + 기초액) x 1.2 중 작은 금액
B15: 10억 미만 | M15: 6개월 이하 (183일) | AC15: 19.1 | AF15: 18.4 | AI15: =AC15 -> 19.1 | AL15: 5.5 | AO15: 4.9 | AR15: =AL15 -> 5.5 | AU15: 5억 미만 | BD15: 8 | BL15: 8 | BS15: 15 | BZ15: 구분 | CI15: 요율 | CN15: 구분 | DE15: 요율 | DK15: 산업안전보건관리비 대상액주1) | EB15: 구분 | ES15: 요율 | FA15: 기초액(천원)
M17: 7~12개월 (365일) | AC17: 19.5 | AF17: 18.8 | AI17: =AC17 -> 19.5 | AL17: 5.7 | AO17: 5.1 | AR17: =AL17 -> 5.7
M19: 13~36개월 (1095일) | AC19: 19.8 | AF19: 19.1 | AI19: =AC19 -> 19.8 | AL19: 6.1 | AO19: 5.4 | AR19: =AL19 -> 6.1 | BZ19: 토목공사(토건) | CI19: 0.4 | CN19: 준설공사, 포장공사 | DE19: 0.68 | DK19: 5억 미만 | EB19: 건축공사 | ES19: 3.11
M21: 36개월 초과 (1096일) | AC21: 21 | AF21: 20.3 | AI21: =AC21 -> 21 | AL21: 6.7 | AO21: 6 | AR21: =AL21 -> 6.7 | AU21: 5억 - 30억 미만 | BL21: 6.5 | CN21: 토공사, 비계구조물해제공사 | EB21: 토목공사 | ES21: 3.15
B23: 10억 - 50억 미만 | M23: 6개월 이하 (183일) | AC23: 18.9 | AF23: 18.3 | AI23: =AC23 -> 18.9 | AL23: 5.8 | AO23: 5.1 | AR23: =AL23 -> 5.8 | BZ23: 산업∙설비공사 | CI23: 0.16 | CN23: 상하수도설비공사, 수중공사 | DE23: 0.51 | EB23: 중건설공사 | ES23: 3.64
M25: 7~12개월 (365일) | AC25: 19.3 | AF25: 18.7 | AI25: =AC25 -> 19.3 | AL25: 5.9 | AO25: 5.3 | AR25: =AL25 -> 5.9 | CN25: 보링그라우팅공사 | EB25: 특수건설공사 | ES25: 2.07
M27: 13~36개월 (1095일) | AC27: 19.6 | AF27: 19 | AI27: =AC27 -> 19.6 | AL27: 6.3 | AO27: 5.6 | AR27: =AL27 -> 6.3 | AU27: 30억 - 50억 미만 | BL27: 5 | BZ27: 조경공사 | CI27: 0.18 | CN27: 석공사, 철근콘크리트공사 | DE27: 0.32 | DK27: 5억 ~ 50억 미만 | EB27: 건축공사 | ES27: 2.28 | FA27: 4325
M29: 36개월 초과 (1096일) | AC29: 20.8 | AF29: 20.2 | AI29: =AC29 -> 20.8 | AL29: 6.9 | AO29: 6.3 | AR29: =AL29 -> 6.9 | EB29: 토목공사 | ES29: 2.53 | FA29: 3300
B31: 50억 - 300억 미만 | M31: 6개월 이하 (183일) | AC31: 19 | AF31: 18.4 | AI31: =AC31 -> 19 | AL31: 6.4 | AO31: 5.8 | AR31: =AL31 -> 6.4 | AU31: 50억 - 100억 미만 | BD31: 6.5 | BS31: 12 | CN31: 조경시설물설치, 조경식재공사 | DE31: 0.16 | EB31: 중건설공사 | ES31: 3.05 | FA31: 2975
M33: 7~12개월 (365일) | AC33: 19.4 | AF33: 18.8 | AI33: =AC33 -> 19.4 | AL33: 6.6 | AO33: 5.9 | AR33: =AL33 -> 6.6 | CN33: 도장공사, 철도궤도공사 | EB33: 특수건설공사 | ES33: 1.59 | FA33: 2450
M35: 13~36개월 (1095일) | AC35: 19.7 | AF35: 19.1 | AI35: =AC35 -> 19.7 | AL35: 6.9 | AO35: 6.3 | AR35: =AL35 -> 6.9 | AU35: 100억 - 300억 미만 | BL35: 4.5 | CN35: 철강재설치공사 | DK35: 50억 이상 | DR35: 추정금액 800억 미만 건설공사 (주공종이 토목인 경우 1,000억) | EB35: 건축공사 | ES35: 2.37
M37: 36개월 초과 (1096일) | AC37: 20.9 | AF37: 20.3 | AI37: =AC37 -> 20.9 | AL37: 7.6 | AO37: 6.9 | AR37: =AL37 -> 7.6 | CN37: 그 외 | DE37: 0.1 | EB37: 토목공사 | ES37: 2.6
B39: 300억 - 1000억 미만 | M39: 6개월 이하 (183일) | AC39: 19.1 | AF39: 18.4 | AI39: =AC39 -> 19.1 | AL39: 6.6 | AO39: 6 | AR39: =AL39 -> 6.6 | AU39: 300억 - 1000억 미만 | BD39: 5 | BS39: 10 | EB39: 중건설공사 | ES39: 3.11
M41: 7~12개월 (365일) | AC41: 19.5 | AF41: 18.8 | AI41: =AC41 -> 19.5 | AL41: 6.8 | AO41: 6.1 | AR41: =AL41 -> 6.8 | BZ41: * 적용제외: 국가유산수리공사, 전기, 정보통신, 소방시설 | EB41: 특수건설공사 | ES41: 1.64
M43: 13~36개월 (1095일) | AC43: 19.8 | AF43: 19.1 | AI43: =AC43 -> 19.8 | AL43: 7.2 | AO43: 6.5 | AR43: =AL43 -> 7.2 | AU43: 1000억 이상 | BD43: 4.5 | BS43: 9 | BZ43: ※ 건설기계대여대금 지급보증서 발급금액 및 업종별 건설기계 | DR43: 추정금액 800억 이상 건설공사 (주공종이 토목인 경우 1,000억) | EB43: 건축공사 | ES43: 2.64
M45: 36개월 초과 (1096일) | AC45: 21 | AF45: 20.3 | AI45: =AC45 -> 21 | AL45: 7.8 | AO45: 7.1 | AR45: =AL45 -> 7.8 | BZ45: 투입비율 산정기준(국토부 고시 제2019-286호, 2019.6.19.) | EB45: 토목공사 | ES45: 2.73
B47: 1000억 이상 | M47: 6개월 이하 (183일) | AC47: 18.9 | AF47: 18.3 | AI47: =AC47 -> 18.9 | AL47: 6.9 | AO47: 6.2 | AR47: =AL47 -> 6.9 | AU47: [건강보험료] | BD47: [노인장기요양보험료] | BR47: [연금보험료] | BZ47: [산재보험료] | EB47: 중건설공사 | ES47: 3.39
M49: 7~12개월 (365일) | AC49: 19.3 | AF49: 18.7 | AI49: =AC49 -> 19.3 | AL49: 7.1 | AO49: 6.4 | AR49: =AL49 -> 7.1 | EB49: 특수건설공사 | ES49: 1.78
M51: 13~36개월 (1095일) | AC51: 19.6 | AF51: 19 | AI51: =AC51 -> 19.6 | AL51: 7.4 | AO51: 6.8 | AR51: =AL51 -> 7.4 | AU51: (직노) x 3.595 | BD51: (건강보험료) x 13.14 | BR51: (직노) x 4.75 | BZ51: (노) x 3.56 | DK51: * 총 공사금액(도급금액+도급자설치 관급금액) 2천만원 이상 건설공사
M53: 36개월 초과 (1096일) | AC53: 20.8 | AF53: 20.2 | AI53: =AC53 -> 20.8 | AL53: 8.1 | AO53: 7.4 | AR53: =AL53 -> 8.1 | AU53: * 공사기간 1개월(30일) 이상 모든 건설공사 (노인장기요양보험료는 소수점 다섯째자리에서 반올림) | BZ53: * 모든 건설공사 적용. 노동부 고시 제2024-77호(2024. 12. 30.), 산업재해보상보험법시행령 | DK53: 주1) 산업안전보건관리비 대상액
B55: * 기타경비항목: 수도광열비, 복리후생비, 소모품비, 여비∙교통비∙통신비, 세금과공과, 도서인쇄비
DK56: - 재료비+직접노무비+도급자설치 관급금액
B57: □ 산업∙설비(토목) 해당공종: 수처리시설(오폐수, 하수처리, 분뇨처리, 정수장) 등 | AU57: ※ 사회보험의 보험료 적용기준 (국토부 고시 제2021-905호, 2021.7.1.) | BZ57: ※ 사회보험의 보험료 적용기준 (국토부 고시 제2021-905호, 2021.7.1.)
B59: [고용보험료] | AU59: [환경보전비] | BZ59: [건설하도급대금지급보증서발급수수료] | DK59: 주2) 대상액이 재료비, 직접노무비, 도급자관급의 합계금액인 요율
DK62: 주3) 대상액이 재료비, 직접노무비의 합계금액인 요율
B63: (노) x 율 | AU63: (직접공사비) x 율 | BZ63: (직접공사비) x 율
B65: 공사배정규모(추정금액) | AH65: 요율 | AU65: 공사의 종류 | BU65: 요율 | BZ65: 공사규모(추정가격) | DC65: 요율 | DK65: * 산업안전보건관리비 산출 건설공사의 종류
B67: [1등급] 1400억 이상 | AH67: 1.57
AU68: 토목 | AZ68: 도로(예시: 교량,터널,활주로 등) | BU68: 0.9 | BZ68: 50억 미만 | DC68: 0.081 | DK68: - [건축공사] 「건설산업기본법 시행령」 (별표 1) 제1호 '나'목 / 제2호의 전문공사로서 건축물과
B69: [2등급] 900억 ~ 1400억 미만 | AH69: 1.30
AZ70: 플랜트(예시: 발전소,쓰레기소각장 등) | BU70: 0.4
B71: [3등급] 570억 ~ 900억 미만 | AH71: 1.13 | BZ71: 50억 이상 - 100억 미만 | DC71: 0.08 | DK71: 관련하여 분리하여 발주되었고 시간적·장소적으로도 독립하여 행하는 공사
AZ72: 지하철 | BU72: 0.5
B73: [4등급] 370억 ~ 570억 미만 | AH73: 1.06
AZ74: 철도 | BU74: 1.5 | BZ74: 100억 이상 - 300억 미만 | DC74: 0.075 | DK74: - [토목공사] 「건설산업기본법 시행령」 (별표 1) 제1호 '가'목, '라'목 / 제2호의 전문공사로서
B75: [5등급] 220억 ~ 370억 미만 | AH75: 1.03
AZ76: 상하수도(예시: 폐수, 하수처리장, 정수장 등) | BU76: 0.5
B77: [6등급] 140억 ~ 220억 미만 | AH77: 1.02 | BZ77: 300억 이상 종심∙종평제(토목 및 산업설비) | DC77: 0.071 | DK77: 건축공사 외의 시설물과 관련하여 분리하여 발주되었고 시간적·장소적으로도 독립하여 행하는 공사
AZ78: 항만 | BU78: 0.8
B79: [7등급] 고시금액 ~ 140억 미만 | AH79: 1.01
AZ80: (오탁방지막 또는 준설토방지막을 설치하는 경우) | BU80: (1.8) | BZ80: 300억 이상 종심∙종평제(건축) | DC80: 0.068 | DK80: - [중건설공사] 「건설산업기본법 시행령」 (별표 1) 제1호 '가'목, '라'목 해당공사 중
B81: 7등급 미만
AZ82: 댐 | BU82: 1.1
B83: * 모든 건설공사에 적용, 국토부 고시 제2021-905호(2021.7.1.), 고용보험법 시행령 | BZ83: 턴키∙대안공사 | DC83: 0.084 | DK83: 다음과 같은 공사 및 이와 함께 부대하여 현장 내에서 행하는 공사
AZ84: 택지개발 | BU84: 0.6
B85: * 총공사금액[(도급금액+관급금액)에서 부가세 제외] 2천만원 미만의 건설공사를 건설업자가 아닌 자가 시공 시 미적용
AZ86: 그 밖의 토목공사(하천 등) | BU86: 0.8 | BZ86: * 적용제외: 전문공사, 국가유산수리공사 | DK86: · 고제방 댐 공사 등 - 댐 신설공사, 제방신설공사와 관련한 제반시설공사
B87: ※ 등급기준: 조달청 등급별 유자격자 명부 등록 및 운용기준(조달청 공고 제2023-235호, 2023.7.6.)
AU88: 조경 | AZ88: 조경 | BU88: 0.3 | BZ88: ※ 하도급대금 지급보증서 발급금액 적용기준
B89: ※ 사회보험의 보험료 적용기준 (국토부 고시 제2021-905호, 2021.7.1.) | DK89: · 화력, 수력, 원자력, 열병합 발전시설 등 설치공사 - 화력, 수력, 원자력, 열병합 발전시설과 관련된 신설공사 및 제반시설공사
AU90: 건축 | AZ90: 주택(재개발 및 재건축) | BU90: 0.7 | BZ90: (국토부 고시 제2016-921호, 2016.12.19.)
B91: [공사이행보증수수료]
AZ92: 주택(신축) | BU92: 0.3 | BZ92: [법정부담금] | DK92: · 터널신설공사 등 - 도로, 철도, 지하철 공사로서 터널, 교량, 토공사 등이 포함된 복합시설물로 구성된 공사에 있어
AZ94: 그 밖의 건축공사 | BU94: 0.5
B95: 공사규모(직접공사비) | P95: 수수료 | DK95: 터널공사비 비중이 가장 큰 비중을 차지하는 건설공사
AU96: * 환경관리비의 산출기준 및 관리에 관한 지침 | BZ96: [석면분담금] | CS96: [임금채권부담금]
B98: 70억 미만 | P98: [직공비x0.0108%]x공기(년) | DK98: - [특수건설공사] 「건설산업기본법 시행령」(별표1) 제1호 '마'목로서 시행규칙(별표3)에서 구분한 조경공사
AU99: (국토부 고시 제2018-528호, 2018.8.30.) | BZ99: (노) x 0.006 | CS99: (노) x 0.09
B101: 70억 이상 - 120억 미만 | P101: [79만원+(직공비-75억원)x0.0070%]x공기(년) | AU101: ※ 적용제외: 전기공사, 정보통신공사, 소방시설공사, | DK101: /아래 각목에 따른 건설공사 중 다른 공사와 분리하여 발주되었고 시간적·장소적으로도 독립하여 행하는 공사
BZ102: * 모든 건설공사 적용.
B104: 120억 이상 - 250억 미만 | P104: [116만원+(직공비-130억원)x0.0059%]x공기(년) | AU104: 국가유산 수리공사 | BZ104: 환경부 고시 제2025-25호(2025. 12. 22.), 2026년도 석면피해구제분담금률 | DK104: · 「전기공사업법」, 「정보통신공사업법」, 「소방공사업법」, 「문화재수리공사업법」에 의한 공사
AU106: [퇴직공제부금비]
B107: 250억 이상 - 500억 미만 | P107: [186만원+(직공비-250억원)x0.0048%]x공기(년) | BZ107: 노동부 고시 제2025-100호(2025.12.31.), 임금채권보장법 사업주 부담금비율 고시 | DK107: 비고 1 건축물과 관련하여 공사가 수행된다 하더라도 독립하여 행하는 공사가 토목공사, 중건설공사가 명백한 경우 해당 공사 종류로 분류
B110: 500억 이상 | P110: [306만원+(직공비-500억원)x0.0040%]x공기(년) | AU110: (직노) x 2.3 | DK110: 2 건축공사, 토목공사 및 중건설공사와 함께 부대하여 현장 내에서 이루어지는 공사는 개별 법령에 따라 수행되는 공사를 포함
B113: * 「지방계약법 시행령」 제51조제1항에 따른 적용 의무 대상 | AU113: * 추정금액이 1억 이상인 건설공사 | DK113: ※ 건설업 산업안전보건관리비 계상 및 사용기준 (고용노동부 고시 제2025-11호, 2025.2.12.)
B115: - (시행령 제42조 제1항) 추정가격 300억 이상인 공사의 계약 | AU115: ※ 국토부 고시 제2015-610호(2015.8.20.) 요율 적용
B117: - (시행령 제6장) 대형공사계약(대안입찰, 일괄입찰), 특정공사의 계약 | BZ117: □ 전기∙통신∙소방∙전문 및 기타공사의 경우 일반관리비요율을 제외한 각종 요율은 토목, 건축 등 관련 공사업종에 따라 적용
B119: - (시행령 제9장) 기술제안 입찰에 의한 계약 | BZ119: (단. 공사규모 및 기간은 해당공종<전기∙통신∙소방∙전문 및 기타공사>을 기준으로 함)
B122: 위 적용기준은 조달청 발주공사에 적용하는 기준이므로 참고자료로 활용하시기 바랍니다.

Sheet 원가계산서
B1: 공 사 원 가 계 산 서
B2: 공사명 : 중기2리 지방상수도 급수구역 확장공사
B3: 비 목 | E3: 금 액 | F3: 구 성 비 | G3: 비 고
A4: A1 | B4: 순 공 사 원 가 | C4: 재 료 비 | D4: 직 접 재 료 비 | E4: =TRUNC(공종별집계표!#REF!, 0) -> #REF!
A5: A2 | D5: 간 접 재 료 비 | E5: 0
A6: A3 | D6: 작업설, 부산물(△) | E6: 0
A7: AS | D7: [ 소 계 ] | E7: =TRUNC(E4+E5-E6, 0) -> #REF!
A8: B1 | C8: 노 무 비 | D8: 직 접 노 무 비 | E8: =TRUNC(공종별집계표!#REF!, 0) -> #REF!
A9: B2 | D9: 간 접 노 무 비 | E9: =TRUNC(E8*0.191, 0) -> #REF! | F9: 직접노무비 * 19.1%
A10: BS | D10: [ 소 계 ] | E10: =TRUNC(E8+E9, 0) -> #REF!
A11: C2 | C11: 경 비 | D11: 기 계 경 비 | E11: =TRUNC(공종별집계표!#REF!, 0) -> #REF!
A12: C4 | D12: 산 재 보 험 료 | E12: =TRUNC(E10*0.0356, 0) -> #REF! | F12: 노무비 * 3.56%
A13: C5 | D13: 고 용 보 험 료 | E13: =TRUNC(E10*0.0101, 0) -> #REF! | F13: 노무비 * 1.01%
A14: C6 | D14: 국민 건강 보험료 | E14: =TRUNC(E8*0.03595, 0) -> #REF! | F14: 직접노무비 * 3.595%
A15: C7 | D15: 국민 연금 보험료 | E15: =TRUNC(E8*0.0475, 0) -> #REF! | F15: 직접노무비 * 4.75%
A16: CB | D16: 노인장기요양보험료 | E16: =TRUNC(E14*0.1314, 0) -> #REF! | F16: 건강보험료 * 13.14%
A17: CA | D17: 산업안전보건관리비 | E17: =E33 -> #REF! | F17: ="(재료비+직접노무비) * 2.07% = "&TEXT(E33,"#,#") -> #REF!
A18: CG | D18: 기 타 경 비 | E18: =TRUNC((E7+E10)*0.055, 0) -> #REF! | F18: (재료비+노무비) * 5.5%
A19: CG | D19: 석 면 분 담 금 | E19: =TRUNC(E10*0.00006, 0) -> #REF! | F19: 노무비 * 0.006%
A20: CG | D20: 임 금 채 권 부 담 금 | E20: =TRUNC(E10*0.0009, 0) -> #REF! | F20: 노무비 * 0.09%
A21: CS | D21: [ 소 계 ] | E21: =TRUNC(E11+E12+E13+E14+E15+E16+E17+E18+E19+E20, 0) -> #REF!
A22: S1 | B22: 계 | E22: =TRUNC(E7+E10+E21, 0) -> #REF!
A23: D1 | B23: 일 반 관 리 비 | E23: =TRUNC(E22*0.08, 0) -> #REF! | F23: 계 * 8%
A24: D2 | B24: 이 윤 | E24: =TRUNC((E10+E21+E23)*0.15, 0)-I24 -> #REF! | F24: (노무비+경비+일반관리비) * 15% | I24: 7587
A25: D9 | B25: 공 급 가 액 | E25: =TRUNC(E22+E23+E24, 0) -> #REF!
A26: DB | B26: 부 가 가 치 세 | E26: =TRUNC(E25*0.1, 0) -> #REF! | F26: 공급가액 * 10%
A27: DH | B27: 도 급 액 | E27: =TRUNC(E25+E26, -3) -> #REF! | G27: (천원단위절사)
A28: DK | B28: 관급자 관급자재 | E28: =TRUNC(공종별집계표!F6, -3) -> 0 | G28: (천원단위절사)
A29: DL | B29: 수 탁 공 사 비 | E29: =TRUNC(공종별집계표!#REF!, -3) -> #REF! | G29: (천원단위절사)
A30: S2 | B30: 총 공 사 비 | E30: =TRUNC(E27+E28+E29, 0) -> #REF!
B33: * 도급자 관급자재 미포함 산업안전보건관리비 = | E33: =TRUNC(((E7+E8)*0.0207), 0) -> #REF!

Sheet 공종별집계표
A1: 공 종 별 집 계 표
A2: [ 중기2리 지방상수도 급수구역 확장공사 ]
A3: 품 명 | B3: 규 격 | C3: 단위 | D3: 수량 | E3: 합 계 | G3: 재 료 비 | I3: 노 무 비 | K3: 경 비 | M3: 비 고 | N3: 공종코드 | O3: 변수 | P3: 상위공종 | Q3: 공종구분 | R3: 공종레벨 | S3: 공종소계 | T3: 원가계산서 연결금액
E4: 단 가 | F4: 금 액 | G4: 단 가 | H4: 금 액 | I4: 단 가 | J4: 금 액 | K4: 단 가 | L4: 금 액
A5: 중기2리 지방상수도 급수구역 확장공사 | N5: 01 | R5: 1
A6: ■ 관급공사 | D6: 1 | E6: =G6+I6+K6 -> 0 | F6: =H6+J6+L6 -> 0 | G6: =H7 -> 0 | H6: =G6*D6 -> 0 | I6: =J7 -> 0 | J6: =I6*D6 -> 0 | K6: =L7 -> 0 | L6: =K6*D6 -> 0 | N6: 0102 | Q6: 3 | R6: 2 | T6: =F6*1 -> 0
A7: 1.중기2리 가압장 감시제어설비 | D7: 1 | E7: =G7+I7+K7 -> 0 | F7: =H7+J7+L7 -> 0 | G7: =H8+H9+H10 -> 0 | H7: =G7*D7 -> 0 | I7: =J8+J9+J10 -> 0 | J7: =I7*D7 -> 0 | K7: =L8+L9+L10 -> 0 | L7: =K7*D7 -> 0 | N7: 010201 | P7: 0102 | R7: 3 | W7: 56419000
A8: 1-1.청송 정수장 중앙제어실 개량(가압장) | D8: 1 | E8: =G8+I8+K8 -> 0 | F8: =H8+J8+L8 -> 0 | G8: =공종별내역서!H29 -> 0 | H8: =G8*D8 -> 0 | I8: =공종별내역서!J29 -> 0 | J8: =I8*D8 -> 0 | K8: =공종별내역서!L29 -> 0 | L8: =K8*D8 -> 0 | N8: 01020101 | P8: 010201 | R8: 4 | W8: 51298789
A9: 1-2.중기2리 가압장 TM/TC-S | D9: 1 | E9: =G9+I9+K9 -> 0 | F9: =H9+J9+L9 -> 0 | G9: =공종별내역서!H104 -> 0 | H9: =G9*D9 -> 0 | I9: =공종별내역서!J104 -> 0 | J9: =I9*D9 -> 0 | K9: =공종별내역서!L104 -> 0 | L9: =K9*D9 -> 0 | N9: 01020102 | P9: 010201 | R9: 4
A10: 1-3.부가가치세 | D10: 1 | J10: =I10*D10 -> 0 | K10: =공종별내역서!L129 -> 0 | L10: =K10*D10 -> 0 | N10: 01020103 | P10: 010201 | R10: 4 | W10: =W7-W8 -> 5120211

Sheet 공종별내역서
A1: [ 중기2리 지방상수도 급수구역 확장공사 ]
A2: 품 명 | B2: 규 격 | C2: 단위 | D2: 수량 | E2: 합 계 | G2: 재 료 비 | I2: 노 무 비 | K2: 경 비 | M2: 비 고 | N2: 품목코드 | O2: 변수 | P2: 설정 | Q2: 공종코드 | R2: 일위 | S2: 단산 | T2: 자재 | U2: 손료적용 | V2: 손료저장 | W2: 적용율 | X2: JUK1 | Y2: JUK2 | Z2: JUK3 | AA2: JUK4 | AB2: JUK5 | AC2: JUK6 | AD2: JUK7 | AE2: JUK8 | AF2: JUK9 | AG2: JUK10 | AH2: JUK11 | AI2: JUK12 | AJ2: JUK13 | AK2: JUK14 | AL2: JUK15 | AM2: JUK16 | AN2: JUK17 | AO2: JUK18 | AP2: JUK19 | AQ2: JUK20 | AR2: 자재구분 | AS2: 공종구분 | AT2: 공종레벨 | AU2: 공종+자재 | AV2: 고유번호
E3: 단 가 | F3: 금 액 | G3: 단 가 | H3: 금 액 | I3: 단 가 | J3: 금 액 | K3: 단 가 | L3: 금 액
A4: 1. 중기2리 가압장 전기 및 계측제어설비공사 | Q4: 010101
A5: 1-1.청송 정수장 중앙제어실 개량(가압장) | Q5: 01020101
A6: i-WATER/HMI 엔지니어링 | C6: 식 | D6: 1 | I6: =TRUNC(단가대비표!P51,0) -> 0 | J6: =TRUNC(I6*D6, 0) -> 0 | K6: =TRUNC(단가대비표!V51,0) -> 0 | L6: =TRUNC(K6*D6, 0) -> 0 | N6: 5FAE4489F758A6F99A10A7496183A43F2FC80C | Q6: 01020101 | R6: F | S6: F | T6: T | AU6: 010201015FAE4489F758A6F99A10A7496183A43F2FC80C | AV6: 208
A7: i-WATER/서버,HISTORIAN | C7: 식 | D7: 1 | I7: =TRUNC(단가대비표!P52,0) -> 0 | J7: =TRUNC(I7*D7, 0) -> 0 | K7: =TRUNC(단가대비표!V52,0) -> 0 | L7: =TRUNC(K7*D7, 0) -> 0 | N7: 5FAE4489F758A6F99A10A7496183A43F2FC80F | Q7: 01020101 | R7: F | S7: F | T7: T | AU7: 010201015FAE4489F758A6F99A10A7496183A43F2FC80F | AV7: 349
A8: i-WATER/통합경보시스템 | C8: 식 | D8: 1 | I8: =TRUNC(단가대비표!P53,0) -> 0 | J8: =TRUNC(I8*D8, 0) -> 0 | K8: =TRUNC(단가대비표!V53,0) -> 0 | L8: =TRUNC(K8*D8, 0) -> 0 | N8: 5FAE4489F758A6F99A10A7496183A43F2FC80E | Q8: 01020101 | R8: F | S8: F | T8: T | AU8: 010201015FAE4489F758A6F99A10A7496183A43F2FC80E | AV8: 350
A9: i-WATER/실시간 DB 엔지니어링 | C9: 식 | D9: 1 | I9: =TRUNC(단가대비표!P54,0) -> 0 | J9: =TRUNC(I9*D9, 0) -> 0 | K9: =TRUNC(단가대비표!V54,0) -> 0 | L9: =TRUNC(K9*D9, 0) -> 0 | N9: 5FAE4489F758A6F99A10A7496183A43F2FC809 | Q9: 01020101 | R9: F | S9: F | T9: T | AU9: 010201015FAE4489F758A6F99A10A7496183A43F2FC809 | AV9: 351
A10: 처리장 통신/통합센터 | C10: 식 | D10: 1 | I10: =TRUNC(단가대비표!P55,0) -> 0 | J10: =TRUNC(I10*D10, 0) -> 0 | K10: =TRUNC(단가대비표!V55,0) -> 0 | L10: =TRUNC(K10*D10, 0) -> 0 | N10: 5FAE4489F758A6F99A10A7496183A43F2FC808 | Q10: 01020101 | R10: F | S10: F | T10: T | AU10: 010201015FAE4489F758A6F99A10A7496183A43F2FC808 | AV10: 352
A11: GATEWAY 엔지니어링/UTM License(엑스게이트 10User) | C11: 식 | D11: 1 | I11: =TRUNC(단가대비표!P56,0) -> 0 | J11: =TRUNC(I11*D11, 0) -> 0 | K11: =TRUNC(단가대비표!V56,0) -> 0 | L11: =TRUNC(K11*D11, 0) -> 0 | N11: 5FAE4489F758A6F99A10A7496183A43F2FC80B | Q11: 01020101 | R11: F | S11: F | T11: T | AU11: 010201015FAE4489F758A6F99A10A7496183A43F2FC80B | AV11: 353
Q12: 01020101
Q13: 01020101
Q14: 01020101
Q15: 01020101
Q16: 01020101
Q17: 01020101
Q18: 01020101
Q19: 01020101
Q20: 01020101
Q21: 01020101
Q22: 01020101
Q23: 01020101
... Q28: 01020101
A29: [ 합 계 ] | J29: =SUMIF(Q6:Q28,"01020101",J6:J28) -> 0 | L29: =SUMIF(Q6:Q28,"01020101",L6:L28) -> 0 | N29: TOTAL
A30: 1-2.중기2리 가압장 TM/TC-S | Q30: 01020102
A31: 외함(옥외자립형, 이중도어) | B31: W900*H2100*D600, STS304 ALL 2.0t | C31: 면 | D31: 1 | I31: =TRUNC(단가대비표!P57,0) -> 0 | J31: =TRUNC(I31*D31, 0) -> 0 | K31: =TRUNC(단가대비표!V57,0) -> 0 | L31: =TRUNC(K31*D31, 0) -> 0 | N31: 5FAE4489F758A6F99A10A7496183A43F2FCA3A | Q31: 01020102 | R31: F | S31: F | T31: T | AU31: 010201025FAE4489F758A6F99A10A7496183A43F2FCA3A | AV31: 773
A32: 계량기함 | B32: STS304 ALL 2.0t | C32: 면 | D32: 1 | I32: =TRUNC(단가대비표!P58,0) -> 0 | J32: =TRUNC(I32*D32, 0) -> 0 | K32: =TRUNC(단가대비표!V58,0) -> 0 | L32: =TRUNC(K32*D32, 0) -> 0 | N32: 5FAE4489F758A6F99A10A7496183A43F2FCA39 | Q32: 01020102 | R32: F | S32: F | T32: T | AU32: 010201025FAE4489F758A6F99A10A7496183A43F2FCA39 | AV32: 774
A33: CPU Module(XGT series) | B33: I/O점수:3072점, P/G용량:128kb | C33: 개 | D33: 1 | I33: =TRUNC(단가대비표!P59,0) -> 0 | J33: =TRUNC(I33*D33, 0) -> 0 | K33: =TRUNC(단가대비표!V59,0) -> 0 | L33: =TRUNC(K33*D33, 0) -> 0 | N33: 5FAE4489F758A6F99A10A7496183A43F2FCA38 | Q33: 01020102 | R33: F | S33: F | T33: T | AU33: 010201025FAE4489F758A6F99A10A7496183A43F2FCA38 | AV33: 775
A34: 기본 Base Module | B34: 8 SLOT | C34: 개 | D34: 1 | I34: =TRUNC(단가대비표!P60,0) -> 0 | J34: =TRUNC(I34*D34, 0) -> 0 | K34: =TRUNC(단가대비표!V60,0) -> 0 | L34: =TRUNC(K34*D34, 0) -> 0 | N34: 5FAE4489F758A6F99A10A7496183A43F2FCA3F | Q34: 01020102 | R34: F | S34: F | T34: T | AU34: 010201025FAE4489F758A6F99A10A7496183A43F2FCA3F | AV34: 776
A35: Power Module | B35: 220V, 8.5A | C35: 개 | D35: 1 | I35: =TRUNC(단가대비표!P61,0) -> 0 | J35: =TRUNC(I35*D35, 0) -> 0 | K35: =TRUNC(단가대비표!V61,0) -> 0 | L35: =TRUNC(K35*D35, 0) -> 0 | N35: 5FAE4489F758A6F99A10A7496183A43F2FCA3E | Q35: 01020102 | R35: F | S35: F | T35: T | AU35: 010201025FAE4489F758A6F99A10A7496183A43F2FCA3E | AV35: 777
A36: D/I Module | B36: 32Point | C36: 개 | D36: 1 | I36: =TRUNC(단가대비표!P62,0) -> 0 | J36: =TRUNC(I36*D36, 0) -> 0 | K36: =TRUNC(단가대비표!V62,0) -> 0 | L36: =TRUNC(K36*D36, 0) -> 0 | N36: 5FAE4489F758A6F99A10A7496183A43F2FCA3D | Q36: 01020102 | R36: F | S36: F | T36: T | AU36: 010201025FAE4489F758A6F99A10A7496183A43F2FCA3D | AV36: 778
A37: D/O Module | B37: 16Point | C37: 개 | D37: 1 | I37: =TRUNC(단가대비표!P63,0) -> 0 | J37: =TRUNC(I37*D37, 0) -> 0 | K37: =TRUNC(단가대비표!V63,0) -> 0 | L37: =TRUNC(K37*D37, 0) -> 0 | N37: 5FAE4489F758A6F99A10A7496183A43F2FCA3C | Q37: 01020102 | R37: F | S37: F | T37: T | AU37: 010201025FAE4489F758A6F99A10A7496183A43F2FCA3C | AV37: 779
A38: A/I Module | B38: 8Point | C38: 개 | D38: 1 | I38: =TRUNC(단가대비표!P64,0) -> 0 | J38: =TRUNC(I38*D38, 0) -> 0 | K38: =TRUNC(단가대비표!V64,0) -> 0 | L38: =TRUNC(K38*D38, 0) -> 0 | N38: 5FAE4489F758A6F99A10A7496183A43F2FCA33 | Q38: 01020102 | R38: F | S38: F | T38: T | AU38: 010201025FAE4489F758A6F99A10A7496183A43F2FCA33 | AV38: 780
A39: A/O Module | B39: 8Point | C39: 개 | D39: 1 | I39: =TRUNC(단가대비표!P65,0) -> 0 | J39: =TRUNC(I39*D39, 0) -> 0 | K39: =TRUNC(단가대비표!V65,0) -> 0 | L39: =TRUNC(K39*D39, 0) -> 0 | N39: 5FAE4489F758A6F99A10A7496183A43F2FCA32 | Q39: 01020102 | R39: F | S39: F | T39: T | AU39: 010201025FAE4489F758A6F99A10A7496183A43F2FCA32 | AV39: 1079
A40: Computer Link Module | B40: RS422C/2CH | C40: 개 | D40: 1 | I40: =TRUNC(단가대비표!P66,0) -> 0 | J40: =TRUNC(I40*D40, 0) -> 0 | K40: =TRUNC(단가대비표!V66,0) -> 0 | L40: =TRUNC(K40*D40, 0) -> 0 | N40: 5FAE4489F758A6F99A10A7496183A43F2FCBC2 | Q40: 01020102 | R40: F | S40: F | T40: T | AU40: 010201025FAE4489F758A6F99A10A7496183A43F2FCBC2 | AV40: 781
A41: Computer Link Module | B41: RS232C/422 Link | C41: 개 | D41: 1 | I41: =TRUNC(단가대비표!P67,0) -> 0 | J41: =TRUNC(I41*D41, 0) -> 0 | K41: =TRUNC(단가대비표!V67,0) -> 0 | L41: =TRUNC(K41*D41, 0) -> 0 | N41: 5FAE4489F758A6F99A10A7496183A43F2FCBC3 | Q41: 01020102 | R41: F | S41: F | T41: T | AU41: 010201025FAE4489F758A6F99A10A7496183A43F2FCBC3 | AV41: 782
A42: Ethernet Module | B42: 10/100Base-TX, RJ-45 | C42: 개 | D42: 1 | I42: =TRUNC(단가대비표!P68,0) -> 0 | J42: =TRUNC(I42*D42, 0) -> 0 | K42: =TRUNC(단가대비표!V68,0) -> 0 | L42: =TRUNC(K42*D42, 0) -> 0 | N42: 5FAE4489F758A6F99A10A7496183A43F2FCBC0 | Q42: 01020102 | R42: F | S42: F | T42: T | AU42: 010201025FAE4489F758A6F99A10A7496183A43F2FCBC0 | AV42: 783
... A88: 제어용조작선 | B88: UL 18AWG | C88: M | D88: 50 | I88: =TRUNC(단가대비표!P114,0) -> 0 | J88: =TRUNC(I88*D88, 0) -> 0 | K88: =TRUNC(단가대비표!V114,0) -> 0 | L88: =TRUNC(K88*D88, 0) -> 0 | N88: 5FAE4489F758A6F99A10A7496183A43F2E21C4 | Q88: 01020102 | R88: F | S88: F | T88: T | AU88: 010201025FAE4489F758A6F99A10A7496183A43F2E21C4 | AV88: 826
A89: 잡자재 | C89: 식 | D89: 1 | I89: =TRUNC(단가대비표!P115,0) -> 0 | J89: =TRUNC(I89*D89, 0) -> 0 | K89: =TRUNC(단가대비표!V115,0) -> 0 | L89: =TRUNC(K89*D89, 0) -> 0 | N89: 5FAE4489F758A6F99A10A7496183A43F2E21C5 | Q89: 01020102 | R89: F | S89: F | T89: T | AU89: 010201025FAE4489F758A6F99A10A7496183A43F2E21C5 | AV89: 894
A90: 무정전전원장치(UPS) | B90: 1￠1KVA, Backup 30분 | C90: 개 | D90: 1 | I90: =TRUNC(단가대비표!P116,0) -> 0 | J90: =TRUNC(I90*D90, 0) -> 0 | K90: =TRUNC(단가대비표!V116,0) -> 0 | L90: =TRUNC(K90*D90, 0) -> 0 | N90: 5FAE4489F758A6F99A10A7496183A43F2E21C6 | Q90: 01020102 | R90: F | S90: F | T90: T | AU90: 010201025FAE4489F758A6F99A10A7496183A43F2E21C6 | AV90: 831
A91: 압력계 | B91: 다이아프램식,IP67,4~20mA,LCD | C91: SET | D91: 2 | I91: =TRUNC(단가대비표!P117,0) -> 0 | J91: =TRUNC(I91*D91, 0) -> 0 | K91: =TRUNC(단가대비표!V117,0) -> 0 | L91: =TRUNC(K91*D91, 0) -> 0 | N91: 5FAE4489F758A6F99A10A7496183A43F2E21C7 | Q91: 01020102 | R91: F | S91: F | T91: T | AU91: 010201025FAE4489F758A6F99A10A7496183A43F2E21C7 | AV91: 830
A92: 압력계 | B92: 4~20mA(0~10bar) | C92: 개 | D92: 1 | I92: =TRUNC(단가대비표!P118,0) -> 0 | J92: =TRUNC(I92*D92, 0) -> 0 | K92: =TRUNC(단가대비표!V118,0) -> 0 | L92: =TRUNC(K92*D92, 0) -> 0 | N92: 5FAE4489F758A6F99A10A7496183A43F2E21C0 | Q92: 01020102 | R92: F | S92: F | T92: T | AU92: 010201025FAE4489F758A6F99A10A7496183A43F2E21C0 | AV92: 832
A93: 수위스위치 | B93: 전극봉식 4극, CONTROLLER 포함 | C93: SET | D93: 1 | I93: =TRUNC(단가대비표!P119,0) -> 0 | J93: =TRUNC(I93*D93, 0) -> 0 | K93: =TRUNC(단가대비표!V119,0) -> 0 | L93: =TRUNC(K93*D93, 0) -> 0 | N93: 5FAE4489F758A6F99A10A7496183A43F2E203F | Q93: 01020102 | R93: F | S93: F | T93: T | AU93: 010201025FAE4489F758A6F99A10A7496183A43F2E203F | AV93: 827
A94: 수위스위치 브라켓 | B94: SUS304, 1.5T | C94: SET | D94: 1 | I94: =TRUNC(단가대비표!P120,0) -> 0 | J94: =TRUNC(I94*D94, 0) -> 0 | K94: =TRUNC(단가대비표!V120,0) -> 0 | L94: =TRUNC(K94*D94, 0) -> 0 | N94: 5FAE4489F758A6F99A10A7496183A43F2E203C | Q94: 01020102 | R94: F | S94: F | T94: T | AU94: 010201025FAE4489F758A6F99A10A7496183A43F2E203C | AV94: 1081
A95: 디지털 수도미타 | B95: 80mm | C95: SET | D95: 1 | I95: =TRUNC(단가대비표!P121,0) -> 0 | J95: =TRUNC(I95*D95, 0) -> 0 | K95: =TRUNC(단가대비표!V121,0) -> 0 | L95: =TRUNC(K95*D95, 0) -> 0 | N95: 5FAE4489F758A6F99A10A7496183A43F2E23F2 | Q95: 01020102 | R95: F | S95: F | T95: T | AU95: 010201025FAE4489F758A6F99A10A7496183A43F2E23F2 | AV95: 828
A96: 스마트허브 | C96: SET | D96: 1 | I96: =TRUNC(단가대비표!P122,0) -> 0 | J96: =TRUNC(I96*D96, 0) -> 0 | K96: =TRUNC(단가대비표!V122,0) -> 0 | L96: =TRUNC(K96*D96, 0) -> 0 | N96: 5FAE4489F758A6F99A10A7496183A43F2E23F3 | Q96: 01020102 | R96: F | S96: F | T96: T | AU96: 010201025FAE4489F758A6F99A10A7496183A43F2E23F3 | AV96: 829
A97: 제작 노무비 및 경비 | B97: 가압장 | C97: 식 | D97: 1 | I97: =TRUNC(단가대비표!P123,0) -> 0 | J97: =TRUNC(I97*D97, 0) -> 0 | K97: =TRUNC(단가대비표!V123,0) -> 0 | L97: =TRUNC(K97*D97, 0) -> 0 | N97: 5FAE4489F758A6F99A10A7496183A43F2E22EB | Q97: 01020102 | R97: F | S97: F | T97: T | AU97: 010201025FAE4489F758A6F99A10A7496183A43F2E22EB | AV97: 497
A98: 설치 노무비 | B98: 가압장 | C98: 식 | D98: 1 | I98: =TRUNC(단가대비표!P124,0) -> 0 | J98: =TRUNC(I98*D98, 0) -> 0 | K98: =TRUNC(단가대비표!V124,0) -> 0 | L98: =TRUNC(K98*D98, 0) -> 0 | N98: 5FAE4489F758A6F99A10A7496183A43F2E22EA | Q98: 01020102 | R98: F | S98: F | T98: T | AU98: 010201025FAE4489F758A6F99A10A7496183A43F2E22EA | AV98: 498
Q99: 01020102
Q100: 01020102
Q101: 01020102
Q102: 01020102
Q103: 01020102
A104: [ 합 계 ] | J104: =SUMIF(Q31:Q103,"01020102",J31:J103) -> 0 | L104: =SUMIF(Q31:Q103,"01020102",L31:L103) -> 0 | N104: TOTAL
A105: 1-3.부가가치세 및 조달수수료 | Q105: 01020103
A106: 부가가치세 | B106: 10% | C106: 식 | D106: 1 | I106: =TRUNC(단가대비표!P125,0) -> 0 | J106: =TRUNC(I106*D106, 0) -> 0 | K106: =TRUNC(단가대비표!V125,0) -> 0 | L106: =TRUNC(K106*D106, 0) -> 0 | N106: 5FAE4489F758A6F99A10A7400186DADD2F5D82 | Q106: 01020103 | R106: F | S106: F | T106: T | AU106: 010201035FAE4489F758A6F99A10A7400186DADD2F5D82 | AV106: 265 | AZ106: =F104+F29 -> 0
A107: 조달수수료(1.07%) | B107: 5천만원초과 ~ 1억원까지 | C107: 식 | D107: 1 | I107: =TRUNC(단가대비표!P126,0) -> 0 | J107: =TRUNC(I107*D107, 0) -> 0 | K107: =TRUNC(단가대비표!V126,0) -> 0 | L107: =TRUNC(K107*D107, 0) -> 0 | N107: 5FAE4489F758A6F99A10A7400186DADD2F5EA8 | Q107: 01020103 | R107: F | S107: F | T107: T | AU107: 010201035FAE4489F758A6F99A10A7400186DADD2F5EA8 | AV107: 266 | AZ107: =AZ106*10% -> 0
Q108: 01020103 | AZ108: =AZ106+AZ107 -> 0
Q109: 01020103 | AZ109: =AZ108*1.07% -> 0
Q110: 01020103
Q111: 01020103
Q112: 01020103
Q113: 01020103
Q114: 01020103
Q115: 01020103
Q116: 01020103
Q117: 01020103
Q118: 01020103
Q119: 01020103
Q120: 01020103
Q121: 01020103
... Q128: 01020103
A129: [ 합 계 ] | J129: =SUMIF(Q106:Q128,"01020103",J106:J128) -> 0 | L129: =SUMIF(Q106:Q128,"01020103",L106:L128) -> 0 | N129: TOTAL

Sheet 일위대가목록
B1: 일 위 대 가 목 록
B2: [ 중기2리 지방상수도 급수구역 확장공사 ]
A3: 코 드 | B3: 품 명 | C3: 규 격 | D3: 단위 | E3: 합 계 | F3: 재 료 비 | G3: 노 무 비 | H3: 경 비 | I3: 번 호 | J3: 비 고 | K3: 노임계수 | L3: 할증 | M3: 품셈개요 | N3: 장비일위
A4: 5FE174B2270BA0D1933BF0818188D5 | B4: 1종금속제가요전선관-노출 | C4: 비닐피복, 22mm, 방수 | D4: M | E4: =F4+G4+H4 -> 21244 | F4: =일위대가!H9 -> 2087 | G4: =일위대가!J9 -> 19157 | H4: =일위대가!L9 -> 0 | I4: 호표 1 | M4: 전기 5-1
A5: 5FE174B2270BA0D1933BF081818F04 | B5: 1종금속제가요전선관-노출 | C5: 비닐피복, 28mm, 방수 | D5: M | E5: =F5+G5+H5 -> 26075 | F5: =일위대가!H16 -> 2539 | G5: =일위대가!J16 -> 23536 | H5: =일위대가!L16 -> 0 | I5: 호표 2 | M5: 전기 5-1
A6: 5FE174B2270BA0C09CC5FE75A181BA | B6: 강제전선관-노출 | C6: 아연도, 22mm | D6: M | E6: =F6+G6+H6 -> 41179 | F6: =일위대가!H24 -> 5054 | G6: =일위대가!J24 -> 36125 | H6: =일위대가!L24 -> 0 | I6: 호표 3 | M6: 전기 5-1
A7: 5FE174B2270BA0C09CC5FE75A18093 | B7: 강제전선관-노출 | C7: 아연도, 28mm | D7: M | E7: =F7+G7+H7 -> 52519 | F7: =일위대가!H32 -> 6542 | G7: =일위대가!J32 -> 45977 | H7: =일위대가!L32 -> 0 | I7: 호표 4 | M7: 전기 5-1
A8: 5FE174B2270BA0FC91555C48318335 | B8: 파상형경질폴리에틸렌전선관-지중포설 | C8: 40㎜ | D8: M | E8: =F8+G8+H8 -> 6809 | F8: =일위대가!H41 -> 808 | G8: =일위대가!J41 -> 6001 | H8: =일위대가!L41 -> 0 | I8: 호표 5 | M8: 전기 4-31
A9: 5FE174B2270BA0FC91555C4831822F | B9: 파상형경질폴리에틸렌전선관-지중포설 | C9: 50㎜ | D9: M | E9: =F9+G9+H9 -> 7000 | F9: =일위대가!H50 -> 999 | G9: =일위대가!J50 -> 6001 | H9: =일위대가!L50 -> 0 | I9: 호표 6 | M9: 전기 4-31
A10: 5FE174B2270BA0FC91555C483185E3 | B10: 파상형경질폴리에틸렌전선관-지중포설 | C10: 65㎜ | D10: M | E10: =F10+G10+H10 -> 8938 | F10: =일위대가!H59 -> 1418 | G10: =일위대가!J59 -> 7520 | H10: =일위대가!L59 -> 0 | I10: 호표 7 | M10: 전기 4-31
A11: 5FE174B2270BA09B98896B8B4182A9 | B11: 경질비닐PVC전선관-매입 | C11: HI, 16mm | D11: M | E11: =F11+G11+H11 -> 14471 | F11: =일위대가!H67 -> 788 | G11: =일위대가!J67 -> 13683 | H11: =일위대가!L67 -> 0 | I11: 호표 8 | M11: 전기 5-1
A12: 5FE174B2270BA09B98896B8B4183B0 | B12: 경질비닐PVC전선관-매입 | C12: HI, 22mm | D12: M | E12: =F12+G12+H12 -> 17363 | F12: =일위대가!H75 -> 943 | G12: =일위대가!J75 -> 16420 | H12: =일위대가!L75 -> 0 | I12: 호표 9 | M12: 전기 5-1
A13: 5FE174B227268E769DCB0452B18A0A | B13: 0.6/1kv 난연 전력케이블(F-CV) | C13: 3C*4㎟ | D13: M | E13: =F13+G13+H13 -> 10498 | F13: =일위대가!H82 -> 3807 | G13: =일위대가!J82 -> 6691 | H13: =일위대가!L82 -> 0 | I13: 호표 10 | M13: 전기 5-13
A14: 5FE174B227268E769DCC2B7B1186C9 | B14: 0.6/1kv 난연 전력케이블(F-CV) | C14: 4C*10㎟ | D14: M | E14: =F14+G14+H14 -> 25595 | F14: =일위대가!H89 -> 10692 | G14: =일위대가!J89 -> 14903 | H14: =일위대가!L89 -> 0 | I14: 호표 11 | M14: 전기 5-13
A15: 5FE174B2272698A79CE9EE97A18125 | B15: 0.6/1kv 트레이용 절연난연 제어용케이블(F-CVV) | C15: 3C*1.5㎟ | D15: M | E15: =F15+G15+H15 -> 7742 | F15: =일위대가!H96 -> 1964 | G15: =일위대가!J96 -> 5778 | H15: =일위대가!L96 -> 0 | I15: 호표 12 | M15: 전기 5-13
A16: 5FE174B2272698A79CE9EE96918EAF | B16: 0.6/1kv 트레이용 절연난연 제어용케이블(F-CVV) | C16: 5C*1.5㎟ | D16: M | E16: =F16+G16+H16 -> 12478 | F16: =일위대가!H103 -> 2746 | G16: =일위대가!J103 -> 9732 | H16: =일위대가!L103 -> 0 | I16: 호표 13 | M16: 전기 5-13
A17: 5FE174B2272698849FF5463F518D93 | B17: 0.6/1kv 트레이용 동편조차폐 제어용케이블(F-CVV-SB) | C17: 2C*1.5㎟ | D17: M | E17: =F17+G17+H17 -> 7389 | F17: =일위대가!H110 -> 2280 | G17: =일위대가!J110 -> 5109 | H17: =일위대가!L110 -> 0 | I17: 호표 14 | M17: 전기 5-13
A18: 5FE174B22730F6FA9875DA2CD188A3 | B18: 450/75OV 저독성난연가교폴리올레핀절연전선(HFIX) | C18: 2.5㎟ | D18: M | E18: =F18+G18+H18 -> 3457 | F18: =일위대가!H117 -> 721 | G18: =일위대가!J117 -> 2736 | H18: =일위대가!L117 -> 0 | I18: 호표 15 | M18: 전기 5-10
A19: 5FE174B22730F6DF9BBE8ED9518E2A | B19: 난연 비닐절연접지용전선(F-GV)-관내 | C19: 0.6/1kv, 2.5㎟ | D19: M | E19: =F19+G19+H19 -> 3501 | F19: =일위대가!H124 -> 1038 | G19: =일위대가!J124 -> 2463 | H19: =일위대가!L124 -> 0 | I19: 호표 16 | M19: 전기 3-38
A20: 5FE174B22730F6DF9BBE8ED9518D03 | B20: 난연 비닐절연접지용전선(F-GV)-관내 | C20: 0.6/1kv, 4㎟ | D20: M | E20: =F20+G20+H20 -> 3755 | F20: =일위대가!H131 -> 1292 | G20: =일위대가!J131 -> 2463 | H20: =일위대가!L131 -> 0 | I20: 호표 17 | M20: 전기 3-38
A21: 5FE174B22730F6DF9BBE8ED9518C7C | B21: 난연 비닐절연접지용전선(F-GV)-관내 | C21: 0.6/1kv, 6㎟ | D21: M | E21: =F21+G21+H21 -> 4116 | F21: =일위대가!H138 -> 1653 | G21: =일위대가!J138 -> 2463 | H21: =일위대가!L138 -> 0 | I21: 호표 18 | M21: 전기 3-38
A22: 5FE174B22730F6DF9BBE8ED9518B56 | B22: 난연 비닐절연접지용전선(F-GV)-관내 | C22: 0.6/1kv, 10㎟ | D22: M | E22: =F22+G22+H22 -> 4881 | F22: =일위대가!H145 -> 2418 | G22: =일위대가!J145 -> 2463 | H22: =일위대가!L145 -> 0 | I22: 호표 19 | M22: 전기 3-38
A23: 5FE174B22730F6DF9BBE8ED9518A4F | B23: 난연 비닐절연접지용전선(F-GV)-관내 | C23: 0.6/1kv, 16㎟ | D23: M | E23: =F23+G23+H23 -> 6371 | F23: =일위대가!H152 -> 3498 | G23: =일위대가!J152 -> 2873 | H23: =일위대가!L152 -> 0 | I23: 호표 20 | M23: 전기 3-38
A24: 5FE174B22730F6A2970321F27186CB | B24: 전기용연동연선 | C24: AS 16㎟ | D24: M | E24: =F24+G24+H24 -> 3510 | F24: =일위대가!H160 -> 2709 | G24: =일위대가!J160 -> 801 | H24: =일위대가!L160 -> 0 | I24: 호표 21 | M24: 전기 4-10
A25: 5FE174B2278F0C8E9AC62B3ED1872F | B25: 풀박스(천장면)-노출 | C25: 200*200*100mm | D25: 개 | E25: =F25+G25+H25 -> 78437 | F25: =일위대가!H166 -> 6187 | G25: =일위대가!J166 -> 72250 | H25: =일위대가!L166 -> 0 | I25: 호표 22 | M25: 전기 5-4
A26: 5FE174B2278F0C8E9AC62B3FF18A5E | B26: 풀박스(천장면)-노출 | C26: 300*300*300mm | D26: 개 | E26: =F26+G26+H26 -> 132756 | F26: =일위대가!H172 -> 17813 | G26: =일위대가!J172 -> 114943 | H26: =일위대가!L172 -> 0 | I26: 호표 23 | M26: 전기 5-4
A27: 5FE174B2270BA0059B3D3B71F18590 | B27: 전선관 지지금구(벽체,바닥) | C27: 22C | D27: 개소 | E27: =F27+G27+H27 -> 22049 | F27: =일위대가!H182 -> 2345 | G27: =일위대가!J182 -> 19704 | H27: =일위대가!L182 -> 0 | I27: 호표 24
A28: 5FE174B2270BA0059B3D3B71F18591 | B28: 전선관 지지금구(벽체,바닥) | C28: 28C | D28: 개소 | E28: =F28+G28+H28 -> 22075 | F28: =일위대가!H192 -> 2371 | G28: =일위대가!J192 -> 19704 | H28: =일위대가!L192 -> 0 | I28: 호표 25
A29: 5FE174B2278F0C8E9AC731098187AC | B29: 아우트렛박스-노출 | C29: 중형 4각 54㎜ | D29: 개 | E29: =F29+G29+H29 -> 68492 | F29: =일위대가!H198 -> 2810 | G29: =일위대가!J198 -> 65682 | H29: =일위대가!L198 -> 0 | I29: 호표 26 | M29: 전기 5-3
A30: 5FE174C1A73340B09DDC2E95D1884A | B30: LED 등기구 설치 | C30: 방진방습등, LED 20W | D30: 개 | E30: =F30+G30+H30 -> 148900 | F30: =일위대가!H204 -> 111133 | G30: =일위대가!J204 -> 37767 | H30: =일위대가!L204 -> 0 | I30: 호표 27 | M30: 전기 5-25-3
A31: 5FE174B227415B8C9969D2E3318D7D | B31: 접지봉 | C31: 16∮*1800mm | D31: 개 | E31: =F31+G31+H31 -> 49545 | F31: =일위대가!H211 -> 5676 | G31: =일위대가!J211 -> 43869 | H31: =일위대가!L211 -> 0 | I31: 호표 28 | M31: 전기 3-38
A32: 5FE174B2278F925F951D6B3491893B | B32: 접지봉 커넥터 | C32: U-BOLT Φ16 | D32: EA | E32: =F32+G32+H32 -> 14410 | F32: =일위대가!H217 -> 7021 | G32: =일위대가!J217 -> 7389 | H32: =일위대가!L217 -> 0 | I32: 호표 29 | M32: 전기 3-38
A33: 5FE174B4E7F9476D914B90E21183D0 | B33: 한전인입 | C33: 저압 | D33: 개소 | E33: =F33+G33+H33 -> 677116 | F33: =일위대가!H230 -> 120804 | G33: =일위대가!J230 -> 556312 | H33: =일위대가!L230 -> 0 | I33: 호표 30 | M33: 전기 4-33,5-1,5-29
A34: 5FE174B2270BA09B988A72FDB183C6 | B34: 관로굴착 | C34: 400W*1150D | D34: M | E34: =F34+G34+H34 -> 13033 | F34: =일위대가!H237 -> 934 | G34: =일위대가!J237 -> 11556 | H34: =일위대가!L237 -> 543 | I34: 호표 31 | M34: 공통대가
A35: 5FE174B2278F92C29D00508B618C99 | B35: TM/TC 현장제어반 기초(가압장) | C35: 1700Wx800Dx800H | D35: 개소 | E35: =F35+G35+H35 -> 405620 | F35: =일위대가!H243 -> 49704 | G35: =일위대가!J243 -> 183092 | H35: =일위대가!L243 -> 172824 | I35: 호표 32
A36: 5FE174B2278F92C29D00508B618DA0 | B36: 스마트허브 외함 설치 | C36: 300Wx200Dx600H | D36: 본 | E36: =F36+G36+H36 -> 121741 | F36: =일위대가!H248 -> 3545 | G36: =일위대가!J248 -> 118196 | H36: =일위대가!L248 -> 0 | I36: 호표 33 | M36: 전기 6-2
A37: 5FE174B227415BCA9311F272618A5C | B37: 경고테이프 | C37: 폭30cm x 1m | D37: m | E37: =F37+G37+H37 -> 447 | F37: =일위대가!H255 -> 123 | G37: =일위대가!J255 -> 324 | H37: =일위대가!L255 -> 0 | I37: 호표 34 | M37: 전기4-45
A38: 5FE174B2278F92C29D094DEAE18C25 | B38: 세트앵커 | C38: M12*150L | D38: 개 | E38: =F38+G38+H38 -> 10707 | F38: =일위대가!H261 -> 855 | G38: =일위대가!J261 -> 9852 | H38: =일위대가!L261 -> 0 | I38: 호표 35 | M38: 전기 5-29
A39: 5FAF64AB27DB64C09FAC4A4CE18A03 | B39: 레미콘타설 / 가설 | C39: 25-18-8, 무근구조물 | D39: M3 | E39: =F39+G39+H39 -> 157890 | F39: =일위대가!H267 -> 0 | G39: =일위대가!J267 -> 0 | H39: =일위대가!L267 -> 157890 | I39: 호표 36 | M39: 공통 6-1-1
A40: 5FE174B2278F92C29C62C3E231848A | B40: 합판거푸집 | C40: 4회 | D40: ㎡ | E40: =F40+G40+H40 -> 37045 | F40: =일위대가!H272 -> 10716 | G40: =일위대가!J272 -> 26069 | H40: =일위대가!L272 -> 260 | I40: 호표 37
A41: 5FAF347367D9631D98B5B910018A67 | B41: 레디믹스트콘크리트 인력운반 타설 | C41: 무근구조물 | D41: M3 | E41: =F41+G41+H41 -> 59807 | F41: =일위대가!H278 -> 0 | G41: =일위대가!J278 -> 58635 | H41: =일위대가!L278 -> 1172 | I41: 호표 38 | M41: 공통 6-1-1
A42: 5FAF3474775AF90490158B46618EC7 | B42: 합판거푸집 - 자재비 | C42: 6회 | D42: M2 | E42: =F42+G42+H42 -> 10716 | F42: =일위대가!H285 -> 10716 | G42: =일위대가!J285 -> 0 | H42: =일위대가!L285 -> 0 | I42: 호표 39 | M42: 공통 6-3-1
A43: 5FAF3474775AF90490158B46618FED | B43: 합판거푸집 - 인력투입 | C43: 간단, 수직고 7m까지 | D43: M2 | E43: =F43+G43+H43 -> 26329 | F43: =일위대가!H291 -> 0 | G43: =일위대가!J291 -> 26069 | H43: =일위대가!L291 -> 260 | I43: 호표 40 | M43: 공통 6-3-1

Sheet 일위대가
A1: [ 중기2리 지방상수도 급수구역 확장공사 ]
A2: 품 명 | B2: 규 격 | C2: 단위 | D2: 수량 | E2: 합 계 | G2: 재 료 비 | I2: 노 무 비 | K2: 경 비 | M2: 비 고 | N2: 일위대가 | O2: 품목코드 | P2: 일위 | Q2: 단산 | R2: 자재 | S2: 손료적용 | T2: 손료저장 | U2: 적용율 | V2: JUK1 | W2: JUK2 | X2: JUK3 | Y2: JUK4 | Z2: JUK5 | AA2: JUK6 | AB2: JUK7 | AC2: JUK8 | AD2: JUK9 | AE2: JUK10 | AF2: JUK11 | AG2: JUK12 | AH2: JUK13 | AI2: JUK14 | AJ2: JUK15 | AK2: JUK16 | AL2: JUK17 | AM2: JUK18 | AN2: JUK19 | AO2: JUK20 | AP2: 할증적용 | AQ2: 할증저장 | AR2: 할증율 | AS2: HAL1 | AT2: HAL2 | AU2: HAL3 | AV2: 자재구분 | AW2: 일위대가+자재 | AX2: 장비일위 | AY2: 설정 | AZ2: 할증체크
E3: 단 가 | F3: 금 액 | G3: 단 가 | H3: 금 액 | I3: 단 가 | J3: 금 액 | K3: 단 가 | L3: 금 액
A4: 1종금속제가요전선관-노출 비닐피복, 22mm, 방수 M 전기 5-1 ( 호표 1 ) | N4: 5FE174B2270BA0D1933BF0818188D5
A5: 1종금속제가요전선관 | B5: 1종금속제가요전선관, 비닐피복, 22mm, 방수 | C5: M | D5: 1.1 | E5: =TRUNC(G5+I5+K5,1) -> 1348 | F5: =TRUNC(H5+J5+L5,1) -> 1482.8 | G5: =단가대비표!O41 -> 1348 | H5: =TRUNC(G5*D5,1) -> 1482.8 | I5: =단가대비표!P41 -> 0 | J5: =TRUNC(I5*D5,1) -> 0 | K5: =단가대비표!V41 -> 0 | L5: =TRUNC(K5*D5,1) -> 0 | N5: 5FE174B2270BA0D1933BF0818188D5 | O5: 588CF4155761D9B8978C7E07C18DA8CD582515 | P5: F | Q5: F | R5: T | V5: 1 | AW5: 5FE174B2270BA0D1933BF0818188D5588CF4155761D9B8978C7E07C18DA8CD582515
A6: 잡재료비 | B6: 배관배선의 2% | C6: 식 | D6: 1 | E6: =TRUNC(G6+I6+K6,1) -> 29.6 | F6: =TRUNC(H6+J6+L6,1) -> 29.6 | G6: =TRUNC(SUMIF(V5:V8, RIGHTB(O6, 1), H5:H8)*U6, 2) -> 29.65 | H6: =TRUNC(G6*D6,1) -> 29.6 | I6: 0 | J6: =TRUNC(I6*D6,1) -> 0 | K6: 0 | L6: =TRUNC(K6*D6,1) -> 0 | N6: 5FE174B2270BA0D1933BF0818188D5 | O6: 5EB6244EA799CA2B9B1CF153418F001 | P6: F | Q6: F | R6: F | S6: 0 | T6: 0 | U6: 0.02 | AW6: 5FE174B2270BA0D1933BF0818188D55EB6244EA799CA2B9B1CF153418C002
A7: 내선전공 | B7: 일반공사 직종 | C7: 인 | D7: 0.07 | E7: =TRUNC(G7+I7+K7,1) -> 273676 | F7: =TRUNC(H7+J7+L7,1) -> 19157.3 | G7: =단가대비표!O130 -> 0 | H7: =TRUNC(G7*D7,1) -> 0 | I7: =단가대비표!P130 -> 273676 | J7: =TRUNC(I7*D7,1) -> 19157.3 | K7: =단가대비표!V130 -> 0 | L7: =TRUNC(K7*D7,1) -> 0 | N7: 5FE174B2270BA0D1933BF0818188D5 | O7: 5F7334EE77FE5B669F5EF5C251873F7A0B56CB | P7: F | Q7: F | R7: T | W7: 2 | AW7: 5FE174B2270BA0D1933BF0818188D55F7334EE77FE5B669F5EF5C251873F7A0B56CB
A8: 공구손료 | B8: 인력품의 3% | C8: 식 | D8: 1 | E8: =TRUNC(G8+I8+K8,1) -> 574.7 | F8: =TRUNC(H8+J8+L8,1) -> 574.7 | G8: =TRUNC(SUMIF(W5:W8, RIGHTB(O8, 1), J5:J8)*U8, 2) -> 574.71 | H8: =TRUNC(G8*D8,1) -> 574.7 | I8: 0 | J8: =TRUNC(I8*D8,1) -> 0 | K8: 0 | L8: =TRUNC(K8*D8,1) -> 0 | N8: 5FE174B2270BA0D1933BF0818188D5 | O8: 5EB6244EA799CA2B9B1CF153418C002 | P8: F | Q8: F | R8: F | S8: 1 | T8: 0 | U8: 0.03 | AW8: 5FE174B2270BA0D1933BF0818188D55EB6244EA799CA2B9B1CF153418D003
A9: [ 합 계 ] | F9: =H9+J9+L9 -> 21244 | H9: =TRUNC(SUMIF(N5:N8, N4, H5:H8),0) -> 2087 | J9: =TRUNC(SUMIF(N5:N8, N4, J5:J8),0) -> 19157 | L9: =TRUNC(SUMIF(N5:N8, N4, L5:L8),0) -> 0 | N9: TOTAL | O9: TOTAL
A11: 1종금속제가요전선관-노출 비닐피복, 28mm, 방수 M 전기 5-1 ( 호표 2 ) | N11: 5FE174B2270BA0D1933BF081818F04
A12: 1종금속제가요전선관 | B12: 1종금속제가요전선관, 비닐피복, 28mm, 방수 | C12: M | D12: 1.1 | E12: =TRUNC(G12+I12+K12,1) -> 1634 | F12: =TRUNC(H12+J12+L12,1) -> 1797.4 | G12: =단가대비표!O42 -> 1634 | H12: =TRUNC(G12*D12,1) -> 1797.4 | I12: =단가대비표!P42 -> 0 | J12: =TRUNC(I12*D12,1) -> 0 | K12: =단가대비표!V42 -> 0 | L12: =TRUNC(K12*D12,1) -> 0 | N12: 5FE174B2270BA0D1933BF081818F04 | O12: 588CF4155761D9B8978C7E07C18DA8CD582512 | P12: F | Q12: F | R12: T | V12: 1 | AW12: 5FE174B2270BA0D1933BF081818F04588CF4155761D9B8978C7E07C18DA8CD582512
A13: 잡재료비 | B13: 배관배선의 2% | C13: 식 | D13: 1 | E13: =TRUNC(G13+I13+K13,1) -> 35.9 | F13: =TRUNC(H13+J13+L13,1) -> 35.9 | G13: =TRUNC(SUMIF(V12:V15, RIGHTB(O13, 1), H12:H15)*U13, 2) -> 35.94 | H13: =TRUNC(G13*D13,1) -> 35.9 | I13: 0 | J13: =TRUNC(I13*D13,1) -> 0 | K13: 0 | L13: =TRUNC(K13*D13,1) -> 0 | N13: 5FE174B2270BA0D1933BF081818F04 | O13: 5EB6244EA799CA2B9B1CF153418F001 | P13: F | Q13: F | R13: F | S13: 0 | T13: 0 | U13: 0.02 | AW13: 5FE174B2270BA0D1933BF081818F045EB6244EA799CA2B9B1CF153418C002
A14: 내선전공 | B14: 일반공사 직종 | C14: 인 | D14: 0.086 | E14: =TRUNC(G14+I14+K14,1) -> 273676 | F14: =TRUNC(H14+J14+L14,1) -> 23536.1 | G14: =단가대비표!O130 -> 0 | H14: =TRUNC(G14*D14,1) -> 0 | I14: =단가대비표!P130 -> 273676 | J14: =TRUNC(I14*D14,1) -> 23536.1 | K14: =단가대비표!V130 -> 0 | L14: =TRUNC(K14*D14,1) -> 0 | N14: 5FE174B2270BA0D1933BF081818F04 | O14: 5F7334EE77FE5B669F5EF5C251873F7A0B56CB | P14: F | Q14: F | R14: T | W14: 2 | AW14: 5FE174B2270BA0D1933BF081818F045F7334EE77FE5B669F5EF5C251873F7A0B56CB
A15: 공구손료 | B15: 인력품의 3% | C15: 식 | D15: 1 | E15: =TRUNC(G15+I15+K15,1) -> 706 | F15: =TRUNC(H15+J15+L15,1) -> 706 | G15: =TRUNC(SUMIF(W12:W15, RIGHTB(O15, 1), J12:J15)*U15, 2) -> 706.08 | H15: =TRUNC(G15*D15,1) -> 706 | I15: 0 | J15: =TRUNC(I15*D15,1) -> 0 | K15: 0 | L15: =TRUNC(K15*D15,1) -> 0 | N15: 5FE174B2270BA0D1933BF081818F04 | O15: 5EB6244EA799CA2B9B1CF153418C002 | P15: F | Q15: F | R15: F | S15: 1 | T15: 0 | U15: 0.03 | AW15: 5FE174B2270BA0D1933BF081818F045EB6244EA799CA2B9B1CF153418D003
A16: [ 합 계 ] | F16: =H16+J16+L16 -> 26075 | H16: =TRUNC(SUMIF(N12:N15, N11, H12:H15),0) -> 2539 | J16: =TRUNC(SUMIF(N12:N15, N11, J12:J15),0) -> 23536 | L16: =TRUNC(SUMIF(N12:N15, N11, L12:L15),0) -> 0 | N16: TOTAL | O16: TOTAL
A18: 강제전선관-노출 아연도, 22mm M 전기 5-1 ( 호표 3 ) | N18: 5FE174B2270BA0C09CC5FE75A181BA
A19: 강제전선관 | B19: 강제전선관, 후강전선관, 아연도, 22mm | C19: M | D19: 1.1 | E19: =TRUNC(G19+I19+K19,1) -> 3085 | F19: =TRUNC(H19+J19+L19,1) -> 3393.5 | G19: =단가대비표!O33 -> 3085 | H19: =TRUNC(G19*D19,1) -> 3393.5 | I19: =단가대비표!P33 -> 0 | J19: =TRUNC(I19*D19,1) -> 0 | K19: =단가대비표!V33 -> 0 | L19: =TRUNC(K19*D19,1) -> 0 | N19: 5FE174B2270BA0C09CC5FE75A181BA | O19: 588CF4155761D9B8978C7D604182C35C5ACAE6 | P19: F | Q19: F | R19: T | V19: 1 | W19: 2 | AW19: 5FE174B2270BA0C09CC5FE75A181BA588CF4155761D9B8978C7D604182C35C5ACAE6
A20: 전선관부속품비 | B20: 전선관의 15% | C20: 식 | D20: 1 | E20: =TRUNC(G20+I20+K20,1) -> 509 | F20: =TRUNC(H20+J20+L20,1) -> 509 | G20: =TRUNC(SUMIF(V19:V23, RIGHTB(O20, 1), H19:H23)*U20, 2) -> 509.02 | H20: =TRUNC(G20*D20,1) -> 509 | I20: 0 | J20: =TRUNC(I20*D20,1) -> 0 | K20: 0 | L20: =TRUNC(K20*D20,1) -> 0 | N20: 5FE174B2270BA0C09CC5FE75A181BA | O20: 5EB6244EA799CA2B9B1CF153418F001 | P20: F | Q20: F | R20: F | S20: 0 | T20: 0 | U20: 0.15 | AW20: 5FE174B2270BA0C09CC5FE75A181BA5EB6244EA799CA2B9B1CF153418F001
A21: 잡재료비 | B21: 배관배선의 2% | C21: 식 | D21: 1 | E21: =TRUNC(G21+I21+K21,1) -> 67.8 | F21: =TRUNC(H21+J21+L21,1) -> 67.8 | G21: =TRUNC(SUMIF(W19:W23, RIGHTB(O21, 1), H19:H23)*U21, 2) -> 67.87 | H21: =TRUNC(G21*D21,1) -> 67.8 | I21: 0 | J21: =TRUNC(I21*D21,1) -> 0 | K21: 0 | L21: =TRUNC(K21*D21,1) -> 0 | N21: 5FE174B2270BA0C09CC5FE75A181BA | O21: 5EB6244EA799CA2B9B1CF153418C002 | P21: F | Q21: F | R21: F | S21: 0 | T21: 0 | U21: 0.02 | AW21: 5FE174B2270BA0C09CC5FE75A181BA5EB6244EA799CA2B9B1CF153418C002
A22: 내선전공 | B22: 일반공사 직종 | C22: 인 | D22: 0.132 | E22: =TRUNC(G22+I22+K22,1) -> 273676 | F22: =TRUNC(H22+J22+L22,1) -> 36125.2 | G22: =단가대비표!O130 -> 0 | H22: =TRUNC(G22*D22,1) -> 0 | I22: =단가대비표!P130 -> 273676 | J22: =TRUNC(I22*D22,1) -> 36125.2 | K22: =단가대비표!V130 -> 0 | L22: =TRUNC(K22*D22,1) -> 0 | N22: 5FE174B2270BA0C09CC5FE75A181BA | O22: 5F7334EE77FE5B669F5EF5C251873F7A0B56CB | P22: F | Q22: F | R22: T | X22: 3 | AW22: 5FE174B2270BA0C09CC5FE75A181BA5F7334EE77FE5B669F5EF5C251873F7A0B56CB
A23: 공구손료 | B23: 인력품의 3% | C23: 식 | D23: 1 | E23: =TRUNC(G23+I23+K23,1) -> 1083.7 | F23: =TRUNC(H23+J23+L23,1) -> 1083.7 | G23: =TRUNC(SUMIF(X19:X23, RIGHTB(O23, 1), J19:J23)*U23, 2) -> 1083.75 | H23: =TRUNC(G23*D23,1) -> 1083.7 | I23: 0 | J23: =TRUNC(I23*D23,1) -> 0 | K23: 0 | L23: =TRUNC(K23*D23,1) -> 0 | N23: 5FE174B2270BA0C09CC5FE75A181BA | O23: 5EB6244EA799CA2B9B1CF153418D003 | P23: F | Q23: F | R23: F | S23: 1 | T23: 0 | U23: 0.03 | AW23: 5FE174B2270BA0C09CC5FE75A181BA5EB6244EA799CA2B9B1CF153418D003
A24: [ 합 계 ] | F24: =H24+J24+L24 -> 41179 | H24: =TRUNC(SUMIF(N19:N23, N18, H19:H23),0) -> 5054 | J24: =TRUNC(SUMIF(N19:N23, N18, J19:J23),0) -> 36125 | L24: =TRUNC(SUMIF(N19:N23, N18, L19:L23),0) -> 0 | N24: TOTAL | O24: TOTAL
A26: 강제전선관-노출 아연도, 28mm M 전기 5-1 ( 호표 4 ) | N26: 5FE174B2270BA0C09CC5FE75A18093
A27: 강제전선관 | B27: 강제전선관, 후강전선관, 아연도, 28mm | C27: M | D27: 1.1 | E27: =TRUNC(G27+I27+K27,1) -> 4012 | F27: =TRUNC(H27+J27+L27,1) -> 4413.2 | G27: =단가대비표!O34 -> 4012 | H27: =TRUNC(G27*D27,1) -> 4413.2 | I27: =단가대비표!P34 -> 0 | J27: =TRUNC(I27*D27,1) -> 0 | K27: =단가대비표!V34 -> 0 | L27: =TRUNC(K27*D27,1) -> 0 | N27: 5FE174B2270BA0C09CC5FE75A18093 | O27: 588CF4155761D9B8978C7D604182C35C5ACAE1 | P27: F | Q27: F | R27: T | V27: 1 | W27: 2 | AW27: 5FE174B2270BA0C09CC5FE75A18093588CF4155761D9B8978C7D604182C35C5ACAE1
A28: 전선관부속품비 | B28: 전선관의 15% | C28: 식 | D28: 1 | E28: =TRUNC(G28+I28+K28,1) -> 661.9 | F28: =TRUNC(H28+J28+L28,1) -> 661.9 | G28: =TRUNC(SUMIF(V27:V31, RIGHTB(O28, 1), H27:H31)*U28, 2) -> 661.98 | H28: =TRUNC(G28*D28,1) -> 661.9 | I28: 0 | J28: =TRUNC(I28*D28,1) -> 0 | K28: 0 | L28: =TRUNC(K28*D28,1) -> 0 | N28: 5FE174B2270BA0C09CC5FE75A18093 | O28: 5EB6244EA799CA2B9B1CF153418F001 | P28: F | Q28: F | R28: F | S28: 0 | T28: 0 | U28: 0.15 | AW28: 5FE174B2270BA0C09CC5FE75A180935EB6244EA799CA2B9B1CF153418F001
A29: 잡재료비 | B29: 배관배선의 2% | C29: 식 | D29: 1 | E29: =TRUNC(G29+I29+K29,1) -> 88.2 | F29: =TRUNC(H29+J29+L29,1) -> 88.2 | G29: =TRUNC(SUMIF(W27:W31, RIGHTB(O29, 1), H27:H31)*U29, 2) -> 88.26 | H29: =TRUNC(G29*D29,1) -> 88.2 | I29: 0 | J29: =TRUNC(I29*D29,1) -> 0 | K29: 0 | L29: =TRUNC(K29*D29,1) -> 0 | N29: 5FE174B2270BA0C09CC5FE75A18093 | O29: 5EB6244EA799CA2B9B1CF153418C002 | P29: F | Q29: F | R29: F | S29: 0 | T29: 0 | U29: 0.02 | AW29: 5FE174B2270BA0C09CC5FE75A180935EB6244EA799CA2B9B1CF153418C002
A30: 내선전공 | B30: 일반공사 직종 | C30: 인 | D30: 0.168 | E30: =TRUNC(G30+I30+K30,1) -> 273676 | F30: =TRUNC(H30+J30+L30,1) -> 45977.5 | G30: =단가대비표!O130 -> 0 | H30: =TRUNC(G30*D30,1) -> 0 | I30: =단가대비표!P130 -> 273676 | J30: =TRUNC(I30*D30,1) -> 45977.5 | K30: =단가대비표!V130 -> 0 | L30: =TRUNC(K30*D30,1) -> 0 | N30: 5FE174B2270BA0C09CC5FE75A18093 | O30: 5F7334EE77FE5B669F5EF5C251873F7A0B56CB | P30: F | Q30: F | R30: T | X30: 3 | AW30: 5FE174B2270BA0C09CC5FE75A180935F7334EE77FE5B669F5EF5C251873F7A0B56CB
A31: 공구손료 | B31: 인력품의 3% | C31: 식 | D31: 1 | E31: =TRUNC(G31+I31+K31,1) -> 1379.3 | F31: =TRUNC(H31+J31+L31,1) -> 1379.3 | G31: =TRUNC(SUMIF(X27:X31, RIGHTB(O31, 1), J27:J31)*U31, 2) -> 1379.32 | H31: =TRUNC(G31*D31,1) -> 1379.3 | I31: 0 | J31: =TRUNC(I31*D31,1) -> 0 | K31: 0 | L31: =TRUNC(K31*D31,1) -> 0 | N31: 5FE174B2270BA0C09CC5FE75A18093 | O31: 5EB6244EA799CA2B9B1CF153418D003 | P31: F | Q31: F | R31: F | S31: 1 | T31: 0 | U31: 0.03 | AW31: 5FE174B2270BA0C09CC5FE75A180935EB6244EA799CA2B9B1CF153418D003
A32: [ 합 계 ] | F32: =H32+J32+L32 -> 52519 | H32: =TRUNC(SUMIF(N27:N31, N26, H27:H31),0) -> 6542 | J32: =TRUNC(SUMIF(N27:N31, N26, J27:J31),0) -> 45977 | L32: =TRUNC(SUMIF(N27:N31, N26, L27:L31),0) -> 0 | N32: TOTAL | O32: TOTAL
A34: 파상형경질폴리에틸렌전선관-지중포설 40㎜ M 전기 4-31 ( 호표 5 ) | N34: 5FE174B2270BA0FC91555C48318335
A35: 파상형경질폴리에틸렌전선관 | B35: 파상형경질폴리에틸렌전선관, ELP, 40mm | C35: M | D35: 1.03 | E35: =TRUNC(G35+I35+K35,1) -> 522 | F35: =TRUNC(H35+J35+L35,1) -> 537.6 | G35: =단가대비표!O38 -> 522 | H35: =TRUNC(G35*D35,1) -> 537.6 | I35: =단가대비표!P38 -> 0 | J35: =TRUNC(I35*D35,1) -> 0 | K35: =단가대비표!V38 -> 0 | L35: =TRUNC(K35*D35,1) -> 0 | N35: 5FE174B2270BA0FC91555C48318335 | O35: 588CF4155761D9B8978C7D604182C35D7F2616 | P35: F | Q35: F | R35: T | V35: 1 | W35: 2 | AW35: 5FE174B2270BA0FC91555C48318335588CF4155761D9B8978C7D604182C35D7F2616
A36: 전선관부속품비 | B36: 전선관의 15% | C36: 식 | D36: 1 | E36: =TRUNC(G36+I36+K36,1) -> 80.6 | F36: =TRUNC(H36+J36+L36,1) -> 80.6 | G36: =TRUNC(SUMIF(V35:V40, RIGHTB(O36, 1), H35:H40)*U36, 2) -> 80.64 | H36: =TRUNC(G36*D36,1) -> 80.6 | I36: 0 | J36: =TRUNC(I36*D36,1) -> 0 | K36: 0 | L36: =TRUNC(K36*D36,1) -> 0 | N36: 5FE174B2270BA0FC91555C48318335 | O36: 5EB6244EA799CA2B9B1CF153418F001 | P36: F | Q36: F | R36: F | S36: 0 | T36: 0 | U36: 0.15 | AW36: 5FE174B2270BA0FC91555C483183355EB6244EA799CA2B9B1CF153418F001
A37: 잡재료비 | B37: 배관배선의 2% | C37: 식 | D37: 1 | E37: =TRUNC(G37+I37+K37,1) -> 10.7 | F37: =TRUNC(H37+J37+L37,1) -> 10.7 | G37: =TRUNC(SUMIF(W35:W40, RIGHTB(O37, 1), H35:H40)*U37, 2) -> 10.75 | H37: =TRUNC(G37*D37,1) -> 10.7 | I37: 0 | J37: =TRUNC(I37*D37,1) -> 0 | K37: 0 | L37: =TRUNC(K37*D37,1) -> 0 | N37: 5FE174B2270BA0FC91555C48318335 | O37: 5EB6244EA799CA2B9B1CF153418C002 | P37: F | Q37: F | R37: F | S37: 0 | T37: 0 | U37: 0.02 | AW37: 5FE174B2270BA0FC91555C483183355EB6244EA799CA2B9B1CF153418C002
A38: 배전전공 | B38: 일반공사 직종 | C38: 인 | D38: 0.007 | E38: =TRUNC(G38+I38+K38,1) -> 414968 | F38: =TRUNC(H38+J38+L38,1) -> 2904.7 | G38: =단가대비표!O132 -> 0 | H38: =TRUNC(G38*D38,1) -> 0 | I38: =단가대비표!P132 -> 414968 | J38: =TRUNC(I38*D38,1) -> 2904.7 | K38: =단가대비표!V132 -> 0 | L38: =TRUNC(K38*D38,1) -> 0 | N38: 5FE174B2270BA0FC91555C48318335 | O38: 5F7334EE77FE5B669F5EF5C251873F7A0B5983 | P38: F | Q38: F | R38: T | X38: 3 | AW38: 5FE174B2270BA0FC91555C483183355F7334EE77FE5B669F5EF5C251873F7A0B5983
A39: 보통인부 | B39: 일반공사 직종 | C39: 인 | D39: 0.018 | E39: =TRUNC(G39+I39+K39,1) -> 172068 | F39: =TRUNC(H39+J39+L39,1) -> 3097.2 | G39: =단가대비표!O128 -> 0 | H39: =TRUNC(G39*D39,1) -> 0 | I39: =단가대비표!P128 -> 172068 | J39: =TRUNC(I39*D39,1) -> 3097.2 | K39: =단가대비표!V128 -> 0 | L39: =TRUNC(K39*D39,1) -> 0 | N39: 5FE174B2270BA0FC91555C48318335 | O39: 5F7334EE77FE5B669F5EF5C251873F7A0B514E | P39: F | Q39: F | R39: T | X39: 3 | AW39: 5FE174B2270BA0FC91555C483183355F7334EE77FE5B669F5EF5C251873F7A0B514E
A40: 공구손료 | B40: 인력품의 3% | C40: 식 | D40: 1 | E40: =TRUNC(G40+I40+K40,1) -> 180 | F40: =TRUNC(H40+J40+L40,1) -> 180 | G40: =TRUNC(SUMIF(X35:X40, RIGHTB(O40, 1), J35:J40)*U40, 2) -> 180.05 | H40: =TRUNC(G40*D40,1) -> 180 | I40: 0 | J40: =TRUNC(I40*D40,1) -> 0 | K40: 0 | L40: =TRUNC(K40*D40,1) -> 0 | N40: 5FE174B2270BA0FC91555C48318335 | O40: 5EB6244EA799CA2B9B1CF153418D003 | P40: F | Q40: F | R40: F | S40: 1 | T40: 0 | U40: 0.03 | AW40: 5FE174B2270BA0FC91555C483183355EB6244EA799CA2B9B1CF153418D003
A41: [ 합 계 ] | F41: =H41+J41+L41 -> 6809 | H41: =TRUNC(SUMIF(N35:N40, N34, H35:H40),0) -> 808 | J41: =TRUNC(SUMIF(N35:N40, N34, J35:J40),0) -> 6001 | L41: =TRUNC(SUMIF(N35:N40, N34, L35:L40),0) -> 0 | N41: TOTAL | O41: TOTAL
A43: 파상형경질폴리에틸렌전선관-지중포설 50㎜ M 전기 4-31 ( 호표 6 ) | N43: 5FE174B2270BA0FC91555C4831822F
A44: 파상형경질폴리에틸렌전선관 | B44: 파상형경질폴리에틸렌전선관, ELP, 50mm | C44: M | D44: 1.03 | E44: =TRUNC(G44+I44+K44,1) -> 680 | F44: =TRUNC(H44+J44+L44,1) -> 700.4 | G44: =단가대비표!O39 -> 680 | H44: =TRUNC(G44*D44,1) -> 700.4 | I44: =단가대비표!P39 -> 0 | J44: =TRUNC(I44*D44,1) -> 0 | K44: =단가대비표!V39 -> 0 | L44: =TRUNC(K44*D44,1) -> 0 | N44: 5FE174B2270BA0FC91555C4831822F | O44: 588CF4155761D9B8978C7D604182C35D7F2617 | P44: F | Q44: F | R44: T | V44: 1 | W44: 2 | AW44: 5FE174B2270BA0FC91555C4831822F588CF4155761D9B8978C7D604182C35D7F2617
A45: 전선관부속품비 | B45: 전선관의 15% | C45: 식 | D45: 1 | E45: =TRUNC(G45+I45+K45,1) -> 105 | F45: =TRUNC(H45+J45+L45,1) -> 105 | G45: =TRUNC(SUMIF(V44:V49, RIGHTB(O45, 1), H44:H49)*U45, 2) -> 105.06 | H45: =TRUNC(G45*D45,1) -> 105 | I45: 0 | J45: =TRUNC(I45*D45,1) -> 0 | K45: 0 | L45: =TRUNC(K45*D45,1) -> 0 | N45: 5FE174B2270BA0FC91555C4831822F | O45: 5EB6244EA799CA2B9B1CF153418F001 | P45: F | Q45: F | R45: F | S45: 0 | T45: 0 | U45: 0.15 | AW45: 5FE174B2270BA0FC91555C4831822F5EB6244EA799CA2B9B1CF153418F001
A46: 잡재료비 | B46: 배관배선의 2% | C46: 식 | D46: 1 | E46: =TRUNC(G46+I46+K46,1) -> 14 | F46: =TRUNC(H46+J46+L46,1) -> 14 | G46: =TRUNC(SUMIF(W44:W49, RIGHTB(O46, 1), H44:H49)*U46, 2) -> 14 | H46: =TRUNC(G46*D46,1) -> 14 | I46: 0 | J46: =TRUNC(I46*D46,1) -> 0 | K46: 0 | L46: =TRUNC(K46*D46,1) -> 0 | N46: 5FE174B2270BA0FC91555C4831822F | O46: 5EB6244EA799CA2B9B1CF153418C002 | P46: F | Q46: F | R46: F | S46: 0 | T46: 0 | U46: 0.02 | AW46: 5FE174B2270BA0FC91555C4831822F5EB6244EA799CA2B9B1CF153418C002
A47: 배전전공 | B47: 일반공사 직종 | C47: 인 | D47: 0.007 | E47: =TRUNC(G47+I47+K47,1) -> 414968 | F47: =TRUNC(H47+J47+L47,1) -> 2904.7 | G47: =단가대비표!O132 -> 0 | H47: =TRUNC(G47*D47,1) -> 0 | I47: =단가대비표!P132 -> 414968 | J47: =TRUNC(I47*D47,1) -> 2904.7 | K47: =단가대비표!V132 -> 0 | L47: =TRUNC(K47*D47,1) -> 0 | N47: 5FE174B2270BA0FC91555C4831822F | O47: 5F7334EE77FE5B669F5EF5C251873F7A0B5983 | P47: F | Q47: F | R47: T | X47: 3 | AW47: 5FE174B2270BA0FC91555C4831822F5F7334EE77FE5B669F5EF5C251873F7A0B5983
A48: 보통인부 | B48: 일반공사 직종 | C48: 인 | D48: 0.018 | E48: =TRUNC(G48+I48+K48,1) -> 172068 | F48: =TRUNC(H48+J48+L48,1) -> 3097.2 | G48: =단가대비표!O128 -> 0 | H48: =TRUNC(G48*D48,1) -> 0 | I48: =단가대비표!P128 -> 172068 | J48: =TRUNC(I48*D48,1) -> 3097.2 | K48: =단가대비표!V128 -> 0 | L48: =TRUNC(K48*D48,1) -> 0 | N48: 5FE174B2270BA0FC91555C4831822F | O48: 5F7334EE77FE5B669F5EF5C251873F7A0B514E | P48: F | Q48: F | R48: T | X48: 3 | AW48: 5FE174B2270BA0FC91555C4831822F5F7334EE77FE5B669F5EF5C251873F7A0B514E
A49: 공구손료 | B49: 인력품의 3% | C49: 식 | D49: 1 | E49: =TRUNC(G49+I49+K49,1) -> 180 | F49: =TRUNC(H49+J49+L49,1) -> 180 | G49: =TRUNC(SUMIF(X44:X49, RIGHTB(O49, 1), J44:J49)*U49, 2) -> 180.05 | H49: =TRUNC(G49*D49,1) -> 180 | I49: 0 | J49: =TRUNC(I49*D49,1) -> 0 | K49: 0 | L49: =TRUNC(K49*D49,1) -> 0 | N49: 5FE174B2270BA0FC91555C4831822F | O49: 5EB6244EA799CA2B9B1CF153418D003 | P49: F | Q49: F | R49: F | S49: 1 | T49: 0 | U49: 0.03 | AW49: 5FE174B2270BA0FC91555C4831822F5EB6244EA799CA2B9B1CF153418D003
A50: [ 합 계 ] | F50: =H50+J50+L50 -> 7000 | H50: =TRUNC(SUMIF(N44:N49, N43, H44:H49),0) -> 999 | J50: =TRUNC(SUMIF(N44:N49, N43, J44:J49),0) -> 6001 | L50: =TRUNC(SUMIF(N44:N49, N43, L44:L49),0) -> 0 | N50: TOTAL | O50: TOTAL
A52: 파상형경질폴리에틸렌전선관-지중포설 65㎜ M 전기 4-31 ( 호표 7 ) | N52: 5FE174B2270BA0FC91555C483185E3
A53: 파상형경질폴리에틸렌전선관 | B53: 파상형경질폴리에틸렌전선관, ELP, 65mm | C53: M | D53: 1.03 | E53: =TRUNC(G53+I53+K53,1) -> 990 | F53: =TRUNC(H53+J53+L53,1) -> 1019.7 | G53: =단가대비표!O40 -> 990 | H53: =TRUNC(G53*D53,1) -> 1019.7 | I53: =단가대비표!P40 -> 0 | J53: =TRUNC(I53*D53,1) -> 0 | K53: =단가대비표!V40 -> 0 | L53: =TRUNC(K53*D53,1) -> 0 | N53: 5FE174B2270BA0FC91555C483185E3 | O53: 588CF4155761D9B8978C7D604182C35D7F2610 | P53: F | Q53: F | R53: T | V53: 1 | W53: 2 | AW53: 5FE174B2270BA0FC91555C483185E3588CF4155761D9B8978C7D604182C35D7F2610
A54: 전선관부속품비 | B54: 전선관의 15% | C54: 식 | D54: 1 | E54: =TRUNC(G54+I54+K54,1) -> 152.9 | F54: =TRUNC(H54+J54+L54,1) -> 152.9 | G54: =TRUNC(SUMIF(V53:V58, RIGHTB(O54, 1), H53:H58)*U54, 2) -> 152.95 | H54: =TRUNC(G54*D54,1) -> 152.9 | I54: 0 | J54: =TRUNC(I54*D54,1) -> 0 | K54: 0 | L54: =TRUNC(K54*D54,1) -> 0 | N54: 5FE174B2270BA0FC91555C483185E3 | O54: 5EB6244EA799CA2B9B1CF153418F001 | P54: F | Q54: F | R54: F | S54: 0 | T54: 0 | U54: 0.15 | AW54: 5FE174B2270BA0FC91555C483185E35EB6244EA799CA2B9B1CF153418F001
A55: 잡재료비 | B55: 배관배선의 2% | C55: 식 | D55: 1 | E55: =TRUNC(G55+I55+K55,1) -> 20.3 | F55: =TRUNC(H55+J55+L55,1) -> 20.3 | G55: =TRUNC(SUMIF(W53:W58, RIGHTB(O55, 1), H53:H58)*U55, 2) -> 20.39 | H55: =TRUNC(G55*D55,1) -> 20.3 | I55: 0 | J55: =TRUNC(I55*D55,1) -> 0 | K55: 0 | L55: =TRUNC(K55*D55,1) -> 0 | N55: 5FE174B2270BA0FC91555C483185E3 | O55: 5EB6244EA799CA2B9B1CF153418C002 | P55: F | Q55: F | R55: F | S55: 0 | T55: 0 | U55: 0.02 | AW55: 5FE174B2270BA0FC91555C483185E35EB6244EA799CA2B9B1CF153418C002
A56: 배전전공 | B56: 일반공사 직종 | C56: 인 | D56: 0.009 | E56: =TRUNC(G56+I56+K56,1) -> 414968 | F56: =TRUNC(H56+J56+L56,1) -> 3734.7 | G56: =단가대비표!O132 -> 0 | H56: =TRUNC(G56*D56,1) -> 0 | I56: =단가대비표!P132 -> 414968 | J56: =TRUNC(I56*D56,1) -> 3734.7 | K56: =단가대비표!V132 -> 0 | L56: =TRUNC(K56*D56,1) -> 0 | N56: 5FE174B2270BA0FC91555C483185E3 | O56: 5F7334EE77FE5B669F5EF5C251873F7A0B5983 | P56: F | Q56: F | R56: T | X56: 3 | AW56: 5FE174B2270BA0FC91555C483185E35F7334EE77FE5B669F5EF5C251873F7A0B5983
A57: 보통인부 | B57: 일반공사 직종 | C57: 인 | D57: 0.022 | E57: =TRUNC(G57+I57+K57,1) -> 172068 | F57: =TRUNC(H57+J57+L57,1) -> 3785.4 | G57: =단가대비표!O128 -> 0 | H57: =TRUNC(G57*D57,1) -> 0 | I57: =단가대비표!P128 -> 172068 | J57: =TRUNC(I57*D57,1) -> 3785.4 | K57: =단가대비표!V128 -> 0 | L57: =TRUNC(K57*D57,1) -> 0 | N57: 5FE174B2270BA0FC91555C483185E3 | O57: 5F7334EE77FE5B669F5EF5C251873F7A0B514E | P57: F | Q57: F | R57: T | X57: 3 | AW57: 5FE174B2270BA0FC91555C483185E35F7334EE77FE5B669F5EF5C251873F7A0B514E
A58: 공구손료 | B58: 인력품의 3% | C58: 식 | D58: 1 | E58: =TRUNC(G58+I58+K58,1) -> 225.6 | F58: =TRUNC(H58+J58+L58,1) -> 225.6 | G58: =TRUNC(SUMIF(X53:X58, RIGHTB(O58, 1), J53:J58)*U58, 2) -> 225.6 | H58: =TRUNC(G58*D58,1) -> 225.6 | I58: 0 | J58: =TRUNC(I58*D58,1) -> 0 | K58: 0 | L58: =TRUNC(K58*D58,1) -> 0 | N58: 5FE174B2270BA0FC91555C483185E3 | O58: 5EB6244EA799CA2B9B1CF153418D003 | P58: F | Q58: F | R58: F | S58: 1 | T58: 0 | U58: 0.03 | AW58: 5FE174B2270BA0FC91555C483185E35EB6244EA799CA2B9B1CF153418D003
A59: [ 합 계 ] | F59: =H59+J59+L59 -> 8938 | H59: =TRUNC(SUMIF(N53:N58, N52, H53:H58),0) -> 1418 | J59: =TRUNC(SUMIF(N53:N58, N52, J53:J58),0) -> 7520 | L59: =TRUNC(SUMIF(N53:N58, N52, L53:L58),0) -> 0 | N59: TOTAL | O59: TOTAL
A61: 경질비닐PVC전선관-매입 HI, 16mm M 전기 5-1 ( 호표 8 ) | N61: 5FE174B2270BA09B98896B8B4182A9
A62: 경질비닐전선관 | B62: 경질비닐전선관, HI, 16mm | C62: M | D62: 1.1 | E62: =TRUNC(G62+I62+K62,1) -> 294 | F62: =TRUNC(H62+J62+L62,1) -> 323.4 | G62: =단가대비표!O36 -> 294 | H62: =TRUNC(G62*D62,1) -> 323.4 | I62: =단가대비표!P36 -> 0 | J62: =TRUNC(I62*D62,1) -> 0 | K62: =단가대비표!V36 -> 0 | L62: =TRUNC(K62*D62,1) -> 0 | N62: 5FE174B2270BA09B98896B8B4182A9 | O62: 588CF4155761D9B8978C7D604182C35C5BD65C | P62: F | Q62: F | R62: T | V62: 1 | W62: 2 | AW62: 5FE174B2270BA09B98896B8B4182A9588CF4155761D9B8978C7D604182C35C5BD65C
A63: 전선관부속품비 | B63: 전선관의 15% | C63: 식 | D63: 1 | E63: =TRUNC(G63+I63+K63,1) -> 48.5 | F63: =TRUNC(H63+J63+L63,1) -> 48.5 | G63: =TRUNC(SUMIF(V62:V66, RIGHTB(O63, 1), H62:H66)*U63, 2) -> 48.51 | H63: =TRUNC(G63*D63,1) -> 48.5 | I63: 0 | J63: =TRUNC(I63*D63,1) -> 0 | K63: 0 | L63: =TRUNC(K63*D63,1) -> 0 | N63: 5FE174B2270BA09B98896B8B4182A9 | O63: 5EB6244EA799CA2B9B1CF153418F001 | P63: F | Q63: F | R63: F | S63: 0 | T63: 0 | U63: 0.15 | AW63: 5FE174B2270BA09B98896B8B4182A95EB6244EA799CA2B9B1CF153418F001
A64: 잡재료비 | B64: 배관배선의 2% | C64: 식 | D64: 1 | E64: =TRUNC(G64+I64+K64,1) -> 6.4 | F64: =TRUNC(H64+J64+L64,1) -> 6.4 | G64: =TRUNC(SUMIF(W62:W66, RIGHTB(O64, 1), H62:H66)*U64, 2) -> 6.46 | H64: =TRUNC(G64*D64,1) -> 6.4 | I64: 0 | J64: =TRUNC(I64*D64,1) -> 0 | K64: 0 | L64: =TRUNC(K64*D64,1) -> 0 | N64: 5FE174B2270BA09B98896B8B4182A9 | O64: 5EB6244EA799CA2B9B1CF153418C002 | P64: F | Q64: F | R64: F | S64: 0 | T64: 0 | U64: 0.02 | AW64: 5FE174B2270BA09B98896B8B4182A95EB6244EA799CA2B9B1CF153418C002
A65: 내선전공 | B65: 일반공사 직종 | C65: 인 | D65: 0.05 | E65: =TRUNC(G65+I65+K65,1) -> 273676 | F65: =TRUNC(H65+J65+L65,1) -> 13683.8 | G65: =단가대비표!O130 -> 0 | H65: =TRUNC(G65*D65,1) -> 0 | I65: =단가대비표!P130 -> 273676 | J65: =TRUNC(I65*D65,1) -> 13683.8 | K65: =단가대비표!V130 -> 0 | L65: =TRUNC(K65*D65,1) -> 0 | N65: 5FE174B2270BA09B98896B8B4182A9 | O65: 5F7334EE77FE5B669F5EF5C251873F7A0B56CB | P65: F | Q65: F | R65: T | X65: 3 | AW65: 5FE174B2270BA09B98896B8B4182A95F7334EE77FE5B669F5EF5C251873F7A0B56CB
A66: 공구손료 | B66: 인력품의 3% | C66: 식 | D66: 1 | E66: =TRUNC(G66+I66+K66,1) -> 410.5 | F66: =TRUNC(H66+J66+L66,1) -> 410.5 | G66: =TRUNC(SUMIF(X62:X66, RIGHTB(O66, 1), J62:J66)*U66, 2) -> 410.51 | H66: =TRUNC(G66*D66,1) -> 410.5 | I66: 0 | J66: =TRUNC(I66*D66,1) -> 0 | K66: 0 | L66: =TRUNC(K66*D66,1) -> 0 | N66: 5FE174B2270BA09B98896B8B4182A9 | O66: 5EB6244EA799CA2B9B1CF153418D003 | P66: F | Q66: F | R66: F | S66: 1 | T66: 0 | U66: 0.03 | AW66: 5FE174B2270BA09B98896B8B4182A95EB6244EA799CA2B9B1CF153418D003
A67: [ 합 계 ] | F67: =H67+J67+L67 -> 14471 | H67: =TRUNC(SUMIF(N62:N66, N61, H62:H66),0) -> 788 | J67: =TRUNC(SUMIF(N62:N66, N61, J62:J66),0) -> 13683 | L67: =TRUNC(SUMIF(N62:N66, N61, L62:L66),0) -> 0 | N67: TOTAL | O67: TOTAL
A69: 경질비닐PVC전선관-매입 HI, 22mm M 전기 5-1 ( 호표 9 ) | N69: 5FE174B2270BA09B98896B8B4183B0
A70: 경질비닐전선관 | B70: 경질비닐전선관, HI, 22mm | C70: M | D70: 1.1 | E70: =TRUNC(G70+I70+K70,1) -> 350 | F70: =TRUNC(H70+J70+L70,1) -> 385 | G70: =단가대비표!O37 -> 350 | H70: =TRUNC(G70*D70,1) -> 385 | I70: =단가대비표!P37 -> 0 | J70: =TRUNC(I70*D70,1) -> 0 | K70: =단가대비표!V37 -> 0 | L70: =TRUNC(K70*D70,1) -> 0 | N70: 5FE174B2270BA09B98896B8B4183B0 | O70: 588CF4155761D9B8978C7D604182C35C5BD65F | P70: F | Q70: F | R70: T | V70: 1 | W70: 2 | AW70: 5FE174B2270BA09B98896B8B4183B0588CF4155761D9B8978C7D604182C35C5BD65F
A71: 전선관부속품비 | B71: 전선관의 15% | C71: 식 | D71: 1 | E71: =TRUNC(G71+I71+K71,1) -> 57.7 | F71: =TRUNC(H71+J71+L71,1) -> 57.7 | G71: =TRUNC(SUMIF(V70:V74, RIGHTB(O71, 1), H70:H74)*U71, 2) -> 57.75 | H71: =TRUNC(G71*D71,1) -> 57.7 | I71: 0 | J71: =TRUNC(I71*D71,1) -> 0 | K71: 0 | L71: =TRUNC(K71*D71,1) -> 0 | N71: 5FE174B2270BA09B98896B8B4183B0 | O71: 5EB6244EA799CA2B9B1CF153418F001 | P71: F | Q71: F | R71: F | S71: 0 | T71: 0 | U71: 0.15 | AW71: 5FE174B2270BA09B98896B8B4183B05EB6244EA799CA2B9B1CF153418F001
A72: 잡재료비 | B72: 배관배선의 2% | C72: 식 | D72: 1 | E72: =TRUNC(G72+I72+K72,1) -> 7.7 | F72: =TRUNC(H72+J72+L72,1) -> 7.7 | G72: =TRUNC(SUMIF(W70:W74, RIGHTB(O72, 1), H70:H74)*U72, 2) -> 7.7 | H72: =TRUNC(G72*D72,1) -> 7.7 | I72: 0 | J72: =TRUNC(I72*D72,1) -> 0 | K72: 0 | L72: =TRUNC(K72*D72,1) -> 0 | N72: 5FE174B2270BA09B98896B8B4183B0 | O72: 5EB6244EA799CA2B9B1CF153418C002 | P72: F | Q72: F | R72: F | S72: 0 | T72: 0 | U72: 0.02 | AW72: 5FE174B2270BA09B98896B8B4183B05EB6244EA799CA2B9B1CF153418C002
A73: 내선전공 | B73: 일반공사 직종 | C73: 인 | D73: 0.06 | E73: =TRUNC(G73+I73+K73,1) -> 273676 | F73: =TRUNC(H73+J73+L73,1) -> 16420.5 | G73: =단가대비표!O130 -> 0 | H73: =TRUNC(G73*D73,1) -> 0 | I73: =단가대비표!P130 -> 273676 | J73: =TRUNC(I73*D73,1) -> 16420.5 | K73: =단가대비표!V130 -> 0 | L73: =TRUNC(K73*D73,1) -> 0 | N73: 5FE174B2270BA09B98896B8B4183B0 | O73: 5F7334EE77FE5B669F5EF5C251873F7A0B56CB | P73: F | Q73: F | R73: T | X73: 3 | AW73: 5FE174B2270BA09B98896B8B4183B05F7334EE77FE5B669F5EF5C251873F7A0B56CB
A74: 공구손료 | B74: 인력품의 3% | C74: 식 | D74: 1 | E74: =TRUNC(G74+I74+K74,1) -> 492.6 | F74: =TRUNC(H74+J74+L74,1) -> 492.6 | G74: =TRUNC(SUMIF(X70:X74, RIGHTB(O74, 1), J70:J74)*U74, 2) -> 492.61 | H74: =TRUNC(G74*D74,1) -> 492.6 | I74: 0 | J74: =TRUNC(I74*D74,1) -> 0 | K74: 0 | L74: =TRUNC(K74*D74,1) -> 0 | N74: 5FE174B2270BA09B98896B8B4183B0 | O74: 5EB6244EA799CA2B9B1CF153418D003 | P74: F | Q74: F | R74: F | S74: 1 | T74: 0 | U74: 0.03 | AW74: 5FE174B2270BA09B98896B8B4183B05EB6244EA799CA2B9B1CF153418D003
A75: [ 합 계 ] | F75: =H75+J75+L75 -> 17363 | H75: =TRUNC(SUMIF(N70:N74, N69, H70:H74),0) -> 943 | J75: =TRUNC(SUMIF(N70:N74, N69, J70:J74),0) -> 16420 | L75: =TRUNC(SUMIF(N70:N74, N69, L70:L74),0) -> 0 | N75: TOTAL | O75: TOTAL
A77: 0.6/1kv 난연 전력케이블(F-CV) 3C*4㎟ M 전기 5-13 ( 호표 10 ) | N77: 5FE174B227268E769DCB0452B18A0A
A78: 600V폴리에틸렌케이블 | B78: 600V폴리에틸렌케이블, 0.6/1kv, F-CV, 3C*4㎟ | C78: M | D78: 1.05 | E78: =TRUNC(G78+I78+K78,1) -> 3368 | F78: =TRUNC(H78+J78+L78,1) -> 3536.4 | G78: =단가대비표!O17 -> 3368 | H78: =TRUNC(G78*D78,1) -> 3536.4 | I78: =단가대비표!P17 -> 0 | J78: =TRUNC(I78*D78,1) -> 0 | K78: =단가대비표!V17 -> 0 | L78: =TRUNC(K78*D78,1) -> 0 | N78: 5FE174B227268E769DCB0452B18A0A | O78: 589EB41597D565A6948B95D3418EC98A9EE89B | P78: F | Q78: F | R78: T | V78: 1 | AW78: 5FE174B227268E769DCB0452B18A0A589EB41597D565A6948B95D3418EC98A9EE89B
A79: 잡재료비 | B79: 배관배선의 2% | C79: 식 | D79: 1 | E79: =TRUNC(G79+I79+K79,1) -> 70.7 | F79: =TRUNC(H79+J79+L79,1) -> 70.7 | G79: =TRUNC(SUMIF(V78:V81, RIGHTB(O79, 1), H78:H81)*U79, 2) -> 70.72 | H79: =TRUNC(G79*D79,1) -> 70.7 | I79: 0 | J79: =TRUNC(I79*D79,1) -> 0 | K79: 0 | L79: =TRUNC(K79*D79,1) -> 0 | N79: 5FE174B227268E769DCB0452B18A0A | O79: 5EB6244EA799CA2B9B1CF153418F001 | P79: F | Q79: F | R79: F | S79: 0 | T79: 0 | U79: 0.02 | AW79: 5FE174B227268E769DCB0452B18A0A5EB6244EA799CA2B9B1CF153418F001
A80: 저압케이블전공 | B80: 일반공사 직종 | C80: 인 | D80: 0.022 | E80: =TRUNC(G80+I80+K80,1) -> 304156 | F80: =TRUNC(H80+J80+L80,1) -> 6691.4 | G80: =단가대비표!O131 -> 0 | H80: =TRUNC(G80*D80,1) -> 0 | I80: =단가대비표!P131 -> 304156 | J80: =TRUNC(I80*D80,1) -> 6691.4 | K80: =단가대비표!V131 -> 0 | L80: =TRUNC(K80*D80,1) -> 0 | N80: 5FE174B227268E769DCB0452B18A0A | O80: 5F7334EE77FE5B669F5EF5C251873F7A0B56C6 | P80: F | Q80: F | R80: T | W80: 2 | AW80: 5FE174B227268E769DCB0452B18A0A5F7334EE77FE5B669F5EF5C251873F7A0B56C6
A81: 공구손료 | B81: 인력품의 3% | C81: 식 | D81: 1 | E81: =TRUNC(G81+I81+K81,1) -> 200.7 | F81: =TRUNC(H81+J81+L81,1) -> 200.7 | G81: =TRUNC(SUMIF(W78:W81, RIGHTB(O81, 1), J78:J81)*U81, 2) -> 200.74 | H81: =TRUNC(G81*D81,1) -> 200.7 | I81: 0 | J81: =TRUNC(I81*D81,1) -> 0 | K81: 0 | L81: =TRUNC(K81*D81,1) -> 0 | N81: 5FE174B227268E769DCB0452B18A0A | O81: 5EB6244EA799CA2B9B1CF153418C002 | P81: F | Q81: F | R81: F | S81: 1 | T81: 0 | U81: 0.03 | AW81: 5FE174B227268E769DCB0452B18A0A5EB6244EA799CA2B9B1CF153418C002
A82: [ 합 계 ] | F82: =H82+J82+L82 -> 10498 | H82: =TRUNC(SUMIF(N78:N81, N77, H78:H81),0) -> 3807 | J82: =TRUNC(SUMIF(N78:N81, N77, J78:J81),0) -> 6691 | L82: =TRUNC(SUMIF(N78:N81, N77, L78:L81),0) -> 0 | N82: TOTAL | O82: TOTAL
A84: 0.6/1kv 난연 전력케이블(F-CV) 4C*10㎟ M 전기 5-13 ( 호표 11 ) | N84: 5FE174B227268E769DCC2B7B1186C9
A85: 600V폴리에틸렌케이블 | B85: 600V폴리에틸렌케이블, 0.6/1kv, F-CV, 4C*10㎟ | C85: M | D85: 1.05 | E85: =TRUNC(G85+I85+K85,1) -> 9566 | F85: =TRUNC(H85+J85+L85,1) -> 10044.3 | G85: =단가대비표!O18 -> 9566 | H85: =TRUNC(G85*D85,1) -> 10044.3 | I85: =단가대비표!P18 -> 0 | J85: =TRUNC(I85*D85,1) -> 0 | K85: =단가대비표!V18 -> 0 | L85: =TRUNC(K85*D85,1) -> 0 | N85: 5FE174B227268E769DCC2B7B1186C9 | O85: 589EB41597D565A6948B95D3418EC98A9EEE27 | P85: F | Q85: F | R85: T | V85: 1 | AW85: 5FE174B227268E769DCC2B7B1186C9589EB41597D565A6948B95D3418EC98A9EEE27
A86: 잡재료비 | B86: 배관배선의 2% | C86: 식 | D86: 1 | E86: =TRUNC(G86+I86+K86,1) -> 200.8 | F86: =TRUNC(H86+J86+L86,1) -> 200.8 | G86: =TRUNC(SUMIF(V85:V88, RIGHTB(O86, 1), H85:H88)*U86, 2) -> 200.88 | H86: =TRUNC(G86*D86,1) -> 200.8 | I86: 0 | J86: =TRUNC(I86*D86,1) -> 0 | K86: 0 | L86: =TRUNC(K86*D86,1) -> 0 | N86: 5FE174B227268E769DCC2B7B1186C9 | O86: 5EB6244EA799CA2B9B1CF153418F001 | P86: F | Q86: F | R86: F | S86: 0 | T86: 0 | U86: 0.02 | AW86: 5FE174B227268E769DCC2B7B1186C95EB6244EA799CA2B9B1CF153418F001
A87: 저압케이블전공 | B87: 일반공사 직종 | C87: 인 | D87: 0.049 | E87: =TRUNC(G87+I87+K87,1) -> 304156 | F87: =TRUNC(H87+J87+L87,1) -> 14903.6 | G87: =단가대비표!O131 -> 0 | H87: =TRUNC(G87*D87,1) -> 0 | I87: =단가대비표!P131 -> 304156 | J87: =TRUNC(I87*D87,1) -> 14903.6 | K87: =단가대비표!V131 -> 0 | L87: =TRUNC(K87*D87,1) -> 0 | N87: 5FE174B227268E769DCC2B7B1186C9 | O87: 5F7334EE77FE5B669F5EF5C251873F7A0B56C6 | P87: F | Q87: F | R87: T | W87: 2 | AW87: 5FE174B227268E769DCC2B7B1186C95F7334EE77FE5B669F5EF5C251873F7A0B56C6
A88: 공구손료 | B88: 인력품의 3% | C88: 식 | D88: 1 | E88: =TRUNC(G88+I88+K88,1) -> 447.1 | F88: =TRUNC(H88+J88+L88,1) -> 447.1 | G88: =TRUNC(SUMIF(W85:W88, RIGHTB(O88, 1), J85:J88)*U88, 2) -> 447.1 | H88: =TRUNC(G88*D88,1) -> 447.1 | I88: 0 | J88: =TRUNC(I88*D88,1) -> 0 | K88: 0 | L88: =TRUNC(K88*D88,1) -> 0 | N88: 5FE174B227268E769DCC2B7B1186C9 | O88: 5EB6244EA799CA2B9B1CF153418C002 | P88: F | Q88: F | R88: F | S88: 1 | T88: 0 | U88: 0.03 | AW88: 5FE174B227268E769DCC2B7B1186C95EB6244EA799CA2B9B1CF153418C002
A89: [ 합 계 ] | F89: =H89+J89+L89 -> 25595 | H89: =TRUNC(SUMIF(N85:N88, N84, H85:H88),0) -> 10692 | J89: =TRUNC(SUMIF(N85:N88, N84, J85:J88),0) -> 14903 | L89: =TRUNC(SUMIF(N85:N88, N84, L85:L88),0) -> 0 | N89: TOTAL | O89: TOTAL
A91: 0.6/1kv 트레이용 절연난연 제어용케이블(F-CVV) 3C*1.5㎟ M 전기 5-13 ( 호표 12 ) | N91: 5FE174B2272698A79CE9EE97A18125
A92: 제어케이블 | B92: 제어케이블, 0.6/1kv, TFR-CVV, 3C*1.5㎟ | C92: M | D92: 1.05 | E92: =TRUNC(G92+I92+K92,1) -> 1672 | F92: =TRUNC(H92+J92+L92,1) -> 1755.6 | G92: =단가대비표!O14 -> 1672 | H92: =TRUNC(G92*D92,1) -> 1755.6 | I92: =단가대비표!P14 -> 0 | J92: =TRUNC(I92*D92,1) -> 0 | K92: =단가대비표!V14 -> 0 | L92: =TRUNC(K92*D92,1) -> 0 | N92: 5FE174B2272698A79CE9EE97A18125 | O92: 589EB41597D565A6964C51F311826C309DEA9A | P92: F | Q92: F | R92: T | V92: 1 | AW92: 5FE174B2272698A79CE9EE97A18125589EB41597D565A6964C51F311826C309DEA9A
A93: 잡재료비 | B93: 배관배선의 2% | C93: 식 | D93: 1 | E93: =TRUNC(G93+I93+K93,1) -> 35.1 | F93: =TRUNC(H93+J93+L93,1) -> 35.1 | G93: =TRUNC(SUMIF(V92:V95, RIGHTB(O93, 1), H92:H95)*U93, 2) -> 35.11 | H93: =TRUNC(G93*D93,1) -> 35.1 | I93: 0 | J93: =TRUNC(I93*D93,1) -> 0 | K93: 0 | L93: =TRUNC(K93*D93,1) -> 0 | N93: 5FE174B2272698A79CE9EE97A18125 | O93: 5EB6244EA799CA2B9B1CF153418F001 | P93: F | Q93: F | R93: F | S93: 0 | T93: 0 | U93: 0.02 | AW93: 5FE174B2272698A79CE9EE97A181255EB6244EA799CA2B9B1CF153418F001
A94: 저압케이블전공 | B94: 일반공사 직종 | C94: 인 | D94: 0.019 | E94: =TRUNC(G94+I94+K94,1) -> 304156 | F94: =TRUNC(H94+J94+L94,1) -> 5778.9 | G94: =단가대비표!O131 -> 0 | H94: =TRUNC(G94*D94,1) -> 0 | I94: =단가대비표!P131 -> 304156 | J94: =TRUNC(I94*D94,1) -> 5778.9 | K94: =단가대비표!V131 -> 0 | L94: =TRUNC(K94*D94,1) -> 0 | N94: 5FE174B2272698A79CE9EE97A18125 | O94: 5F7334EE77FE5B669F5EF5C251873F7A0B56C6 | P94: F | Q94: F | R94: T | W94: 2 | AW94: 5FE174B2272698A79CE9EE97A181255F7334EE77FE5B669F5EF5C251873F7A0B56C6
A95: 공구손료 | B95: 인력품의 3% | C95: 식 | D95: 1 | E95: =TRUNC(G95+I95+K95,1) -> 173.3 | F95: =TRUNC(H95+J95+L95,1) -> 173.3 | G95: =TRUNC(SUMIF(W92:W95, RIGHTB(O95, 1), J92:J95)*U95, 2) -> 173.36 | H95: =TRUNC(G95*D95,1) -> 173.3 | I95: 0 | J95: =TRUNC(I95*D95,1) -> 0 | K95: 0 | L95: =TRUNC(K95*D95,1) -> 0 | N95: 5FE174B2272698A79CE9EE97A18125 | O95: 5EB6244EA799CA2B9B1CF153418C002 | P95: F | Q95: F | R95: F | S95: 1 | T95: 0 | U95: 0.03 | AW95: 5FE174B2272698A79CE9EE97A181255EB6244EA799CA2B9B1CF153418C002
A96: [ 합 계 ] | F96: =H96+J96+L96 -> 7742 | H96: =TRUNC(SUMIF(N92:N95, N91, H92:H95),0) -> 1964 | J96: =TRUNC(SUMIF(N92:N95, N91, J92:J95),0) -> 5778 | L96: =TRUNC(SUMIF(N92:N95, N91, L92:L95),0) -> 0 | N96: TOTAL | O96: TOTAL
A98: 0.6/1kv 트레이용 절연난연 제어용케이블(F-CVV) 5C*1.5㎟ M 전기 5-13 ( 호표 13 ) | N98: 5FE174B2272698A79CE9EE96918EAF
A99: 제어케이블 | B99: 제어케이블, 0.6/1kv, TFR-CVV, 5C*1.5㎟ | C99: M | D99: 1.05 | E99: =TRUNC(G99+I99+K99,1) -> 2292 | F99: =TRUNC(H99+J99+L99,1) -> 2406.6 | G99: =단가대비표!O15 -> 2292 | H99: =TRUNC(G99*D99,1) -> 2406.6 | I99: =단가대비표!P15 -> 0 | J99: =TRUNC(I99*D99,1) -> 0 | K99: =단가대비표!V15 -> 0 | L99: =TRUNC(K99*D99,1) -> 0 | N99: 5FE174B2272698A79CE9EE96918EAF | O99: 589EB41597D565A6964C51F311826C309DEBB1 | P99: F | Q99: F | R99: T | V99: 1 | AW99: 5FE174B2272698A79CE9EE96918EAF589EB41597D565A6964C51F311826C309DEBB1
A100: 잡재료비 | B100: 배관배선의 2% | C100: 식 | D100: 1 | E100: =TRUNC(G100+I100+K100,1) -> 48.1 | F100: =TRUNC(H100+J100+L100,1) -> 48.1 | G100: =TRUNC(SUMIF(V99:V102, RIGHTB(O100, 1), H99:H102)*U100, 2) -> 48.13 | H100: =TRUNC(G100*D100,1) -> 48.1 | I100: 0 | J100: =TRUNC(I100*D100,1) -> 0 | K100: 0 | L100: =TRUNC(K100*D100,1) -> 0 | N100: 5FE174B2272698A79CE9EE96918EAF | O100: 5EB6244EA799CA2B9B1CF153418F001 | P100: F | Q100: F | R100: F | S100: 0 | T100: 0 | U100: 0.02 | AW100: 5FE174B2272698A79CE9EE96918EAF5EB6244EA799CA2B9B1CF153418F001
A101: 저압케이블전공 | B101: 일반공사 직종 | C101: 인 | D101: 0.032 | E101: =TRUNC(G101+I101+K101,1) -> 304156 | F101: =TRUNC(H101+J101+L101,1) -> 9732.9 | G101: =단가대비표!O131 -> 0 | H101: =TRUNC(G101*D101,1) -> 0 | I101: =단가대비표!P131 -> 304156 | J101: =TRUNC(I101*D101,1) -> 9732.9 | K101: =단가대비표!V131 -> 0 | L101: =TRUNC(K101*D101,1) -> 0 | N101: 5FE174B2272698A79CE9EE96918EAF | O101: 5F7334EE77FE5B669F5EF5C251873F7A0B56C6 | P101: F | Q101: F | R101: T | W101: 2 | AW101: 5FE174B2272698A79CE9EE96918EAF5F7334EE77FE5B669F5EF5C251873F7A0B56C6
A102: 공구손료 | B102: 인력품의 3% | C102: 식 | D102: 1 | E102: =TRUNC(G102+I102+K102,1) -> 291.9 | F102: =TRUNC(H102+J102+L102,1) -> 291.9 | G102: =TRUNC(SUMIF(W99:W102, RIGHTB(O102, 1), J99:J102)*U102, 2) -> 291.98 | H102: =TRUNC(G102*D102,1) -> 291.9 | I102: 0 | J102: =TRUNC(I102*D102,1) -> 0 | K102: 0 | L102: =TRUNC(K102*D102,1) -> 0 | N102: 5FE174B2272698A79CE9EE96918EAF | O102: 5EB6244EA799CA2B9B1CF153418C002 | P102: F | Q102: F | R102: F | S102: 1 | T102: 0 | U102: 0.03 | AW102: 5FE174B2272698A79CE9EE96918EAF5EB6244EA799CA2B9B1CF153418C002
A103: [ 합 계 ] | F103: =H103+J103+L103 -> 12478 | H103: =TRUNC(SUMIF(N99:N102, N98, H99:H102),0) -> 2746 | J103: =TRUNC(SUMIF(N99:N102, N98, J99:J102),0) -> 9732 | L103: =TRUNC(SUMIF(N99:N102, N98, L99:L102),0) -> 0 | N103: TOTAL | O103: TOTAL
A105: 0.6/1kv 트레이용 동편조차폐 제어용케이블(F-CVV-SB) 2C*1.5㎟ M 전기 5-13 ( 호표 14 ) | N105: 5FE174B2272698849FF5463F518D93
A106: 제어케이블 | B106: 제어케이블, 0.6/1kv, TFR-CVV-SB, 2C*1.5㎟ | C106: M | D106: 1.05 | E106: =TRUNC(G106+I106+K106,1) -> 1986 | F106: =TRUNC(H106+J106+L106,1) -> 2085.3 | G106: =단가대비표!O16 -> 1986 | H106: =TRUNC(G106*D106,1) -> 2085.3 | I106: =단가대비표!P16 -> 0 | J106: =TRUNC(I106*D106,1) -> 0 | K106: =단가대비표!V16 -> 0 | L106: =TRUNC(K106*D106,1) -> 0 | N106: 5FE174B2272698849FF5463F518D93 | O106: 589EB41597D565A6964C51F311826C309B3D1F | P106: F | Q106: F | R106: T | V106: 1 | AW106: 5FE174B2272698849FF5463F518D93589EB41597D565A6964C51F311826C309B3D1F
A107: 잡재료비 | B107: 배관배선의 2% | C107: 식 | D107: 1 | E107: =TRUNC(G107+I107+K107,1) -> 41.7 | F107: =TRUNC(H107+J107+L107,1) -> 41.7 | G107: =TRUNC(SUMIF(V106:V109, RIGHTB(O107, 1), H106:H109)*U107, 2) -> 41.7 | H107: =TRUNC(G107*D107,1) -> 41.7 | I107: 0 | J107: =TRUNC(I107*D107,1) -> 0 | K107: 0 | L107: =TRUNC(K107*D107,1) -> 0 | N107: 5FE174B2272698849FF5463F518D93 | O107: 5EB6244EA799CA2B9B1CF153418F001 | P107: F | Q107: F | R107: F | S107: 0 | T107: 0 | U107: 0.02 | AW107: 5FE174B2272698849FF5463F518D935EB6244EA799CA2B9B1CF153418F001
A108: 저압케이블전공 | B108: 일반공사 직종 | C108: 인 | D108: 0.0168 | E108: =TRUNC(G108+I108+K108,1) -> 304156 | F108: =TRUNC(H108+J108+L108,1) -> 5109.8 | G108: =단가대비표!O131 -> 0 | H108: =TRUNC(G108*D108,1) -> 0 | I108: =단가대비표!P131 -> 304156 | J108: =TRUNC(I108*D108,1) -> 5109.8 | K108: =단가대비표!V131 -> 0 | L108: =TRUNC(K108*D108,1) -> 0 | N108: 5FE174B2272698849FF5463F518D93 | O108: 5F7334EE77FE5B669F5EF5C251873F7A0B56C6 | P108: F | Q108: F | R108: T | W108: 2 | AW108: 5FE174B2272698849FF5463F518D935F7334EE77FE5B669F5EF5C251873F7A0B56C6
A109: 공구손료 | B109: 인력품의 3% | C109: 식 | D109: 1 | E109: =TRUNC(G109+I109+K109,1) -> 153.2 | F109: =TRUNC(H109+J109+L109,1) -> 153.2 | G109: =TRUNC(SUMIF(W106:W109, RIGHTB(O109, 1), J106:J109)*U109, 2) -> 153.29 | H109: =TRUNC(G109*D109,1) -> 153.2 | I109: 0 | J109: =TRUNC(I109*D109,1) -> 0 | K109: 0 | L109: =TRUNC(K109*D109,1) -> 0 | N109: 5FE174B2272698849FF5463F518D93 | O109: 5EB6244EA799CA2B9B1CF153418C002 | P109: F | Q109: F | R109: F | S109: 1 | T109: 0 | U109: 0.03 | AW109: 5FE174B2272698849FF5463F518D935EB6244EA799CA2B9B1CF153418C002
A110: [ 합 계 ] | F110: =H110+J110+L110 -> 7389 | H110: =TRUNC(SUMIF(N106:N109, N105, H106:H109),0) -> 2280 | J110: =TRUNC(SUMIF(N106:N109, N105, J106:J109),0) -> 5109 | L110: =TRUNC(SUMIF(N106:N109, N105, L106:L109),0) -> 0 | N110: TOTAL | O110: TOTAL
A112: 450/75OV 저독성난연가교폴리올레핀절연전선(HFIX) 2.5㎟ M 전기 5-10 ( 호표 15 ) | N112: 5FE174B22730F6FA9875DA2CD188A3
A113: 저독성난연케이블 | B113: HFIX, 2.5㎟ | C113: M | D113: 1.1 | E113: =TRUNC(G113+I113+K113,1) -> 570 | F113: =TRUNC(H113+J113+L113,1) -> 627 | G113: =단가대비표!O19 -> 570 | H113: =TRUNC(G113*D113,1) -> 627 | I113: =단가대비표!P19 -> 0 | J113: =TRUNC(I113*D113,1) -> 0 | K113: =단가대비표!V19 -> 0 | L113: =TRUNC(K113*D113,1) -> 0 | N113: 5FE174B22730F6FA9875DA2CD188A3 | O113: 589EB41597D565A6948B95D1918BE4B1384EA6 | P113: F | Q113: F | R113: T | V113: 1 | AW113: 5FE174B22730F6FA9875DA2CD188A3589EB41597D565A6948B95D1918BE4B1384EA6
A114: 잡재료비 | B114: 배관배선의 2% | C114: 식 | D114: 1 | E114: =TRUNC(G114+I114+K114,1) -> 12.5 | F114: =TRUNC(H114+J114+L114,1) -> 12.5 | G114: =TRUNC(SUMIF(V113:V116, RIGHTB(O114, 1), H113:H116)*U114, 2) -> 12.54 | H114: =TRUNC(G114*D114,1) -> 12.5 | I114: 0 | J114: =TRUNC(I114*D114,1) -> 0 | K114: 0 | L114: =TRUNC(K114*D114,1) -> 0 | N114: 5FE174B22730F6FA9875DA2CD188A3 | O114: 5EB6244EA799CA2B9B1CF153418F001 | P114: F | Q114: F | R114: F | S114: 0 | T114: 0 | U114: 0.02 | AW114: 5FE174B22730F6FA9875DA2CD188A35EB6244EA799CA2B9B1CF153418F001
...

Sheet 단가대비표
A1: 단 가 대 비 표
A2: [ 중기2리 지방상수도 급수구역 확장공사 ]
A3: 코 드 | B3: 품 명 | C3: 규격 | D3: 단위 | E3: 재 료 비 | P3: 노 무 비 | Q3: 경 비 | W3: 번 호 | X3: 비 고 | Y3: 품목구분 | Z3: 노임구분 | AA3: 소수점처리 | AB3: 자재구분
E4: 조달청가격 | F4: PAGE | G4: 거래가격 | H4: PAGE | I4: 유통물가 | J4: PAGE | K4: 조사가격1 | L4: PAGE | M4: 조사가격2 | N4: PAGE | O4: 적용단가 | Q4: 조달청가격 | R4: 거래가격 | S4: 유통물가 | T4: 조사가격1 | U4: 조사가격2 | V4: 적용단가
A5: 58B9A4964734DB059CFA6CDC018F023292196A | B5: 터파기 | C5: 백호(0.7㎥)90%+인력10% | D5: ㎥ | E5: 0 | G5: 0 | I5: 0 | K5: 420 | M5: 0 | O5: =SMALL(E5:M5,COUNTIF(E5:M5,0)+1) -> 420 | P5: 8944 | Q5: 0 | R5: 0 | S5: 0 | T5: 400 | U5: 0 | V5: =SMALL(Q5:U5,COUNTIF(Q5:U5,0)+1) -> 400 | W5: 자재 1 | X5: 토목공통단가
A6: 58B9A4964734DB059CFA6CDC018F0232921969 | B6: 되메우기및다짐(콤팩터) | C6: 백호(0.7㎥)90%+인력10% | D6: ㎥ | E6: 0 | G6: 0 | I6: 0 | K6: 545 | M6: 0 | O6: =SMALL(E6:M6,COUNTIF(E6:M6,0)+1) -> 545 | P6: 6441 | Q6: 0 | R6: 0 | S6: 0 | T6: 357 | U6: 0 | V6: =SMALL(Q6:U6,COUNTIF(Q6:U6,0)+1) -> 357 | W6: 자재 2 | X6: 토목공통단가
A7: 58B9A4964734DB059CFA6CDC018F0232921968 | B7: 잔토처리(현장내) | C7: 백호(0.7㎥)90%+인력10% | D7: ㎥ | E7: 0 | G7: 0 | I7: 0 | K7: 324 | M7: 0 | O7: =SMALL(E7:M7,COUNTIF(E7:M7,0)+1) -> 324 | P7: 4184 | Q7: 0 | R7: 0 | S7: 0 | T7: 309 | U7: 0 | V7: =SMALL(Q7:U7,COUNTIF(Q7:U7,0)+1) -> 309 | W7: 자재 3 | X7: 토목공통단가
A8: 589EB41597D565959D9293B4E18A1F5FD28D84 | B8: 전기용연동연선 | C8: 전기용연동연선, AS 16㎟ | D8: M | E8: 2787 | G8: 2556 | H8: 1008 | I8: 3383 | J8: 842 | K8: 0 | M8: 0 | O8: =SMALL(E8:M8,COUNTIF(E8:M8,0)+1) -> 2556 | P8: 0 | Q8: 0 | R8: 0 | S8: 0 | T8: 0 | U8: 0 | V8: 0 | W8: 자재 4
A9: 589EB41597D565959D945C46C1821EF1CE9B1A | B9: 접지용비닐절연전선 | C9: 접지용비닐절연전선, F-GV, 2.5㎟ | D9: M | E9: 860 | G9: 1228 | H9: 994 | I9: 1098 | J9: 833 | K9: 0 | M9: 0 | O9: =SMALL(E9:M9,COUNTIF(E9:M9,0)+1) -> 860 | P9: 0 | Q9: 0 | R9: 0 | S9: 0 | T9: 0 | U9: 0 | V9: 0 | W9: 자재 5
A10: 589EB41597D565959D945C46C1821EF1CE9B19 | B10: 접지용비닐절연전선 | C10: 접지용비닐절연전선, F-GV, 4㎟ | D10: M | E10: 1086 | G10: 1519 | H10: 994 | I10: 1536 | J10: 833 | K10: 0 | M10: 0 | O10: =SMALL(E10:M10,COUNTIF(E10:M10,0)+1) -> 1086 | P10: 0 | Q10: 0 | R10: 0 | S10: 0 | T10: 0 | U10: 0 | V10: 0 | W10: 자재 6
A11: 589EB41597D565959D945C46C1821EF1CE9B18 | B11: 접지용비닐절연전선 | C11: 접지용비닐절연전선, F-GV, 6㎟ | D11: M | E11: 1408 | G11: 1969 | H11: 994 | I11: 1765 | J11: 833 | K11: 0 | M11: 0 | O11: =SMALL(E11:M11,COUNTIF(E11:M11,0)+1) -> 1408 | P11: 0 | Q11: 0 | R11: 0 | S11: 0 | T11: 0 | U11: 0 | V11: 0 | W11: 자재 7
A12: 589EB41597D565959D945C46C1821EF1CE9B17 | B12: 접지용비닐절연전선 | C12: 접지용비닐절연전선, F-GV, 10㎟ | D12: M | E12: 2090 | G12: 3099 | H12: 994 | I12: 2971 | J12: 833 | K12: 0 | M12: 0 | O12: =SMALL(E12:M12,COUNTIF(E12:M12,0)+1) -> 2090 | P12: 0 | Q12: 0 | R12: 0 | S12: 0 | T12: 0 | U12: 0 | V12: 0 | W12: 자재 8
A13: 589EB41597D565959D945C46C1821EF1CE9B16 | B13: 접지용비닐절연전선 | C13: 접지용비닐절연전선, F-GV, 16㎟ | D13: M | E13: 3041 | G13: 4351 | H13: 994 | I13: 4057 | J13: 833 | K13: 0 | M13: 0 | O13: =SMALL(E13:M13,COUNTIF(E13:M13,0)+1) -> 3041 | P13: 0 | Q13: 0 | R13: 0 | S13: 0 | T13: 0 | U13: 0 | V13: 0 | W13: 자재 9
A14: 589EB41597D565A6964C51F311826C309DEA9A | B14: 제어케이블 | C14: 제어케이블, 0.6/1kv, TFR-CVV, 3C*1.5㎟ | D14: M | E14: 1672 | G14: 2358 | H14: 995 | I14: 2863 | J14: 834 | K14: 0 | M14: 0 | O14: =SMALL(E14:M14,COUNTIF(E14:M14,0)+1) -> 1672 | P14: 0 | Q14: 0 | R14: 0 | S14: 0 | T14: 0 | U14: 0 | V14: 0 | W14: 자재 10
A15: 589EB41597D565A6964C51F311826C309DEBB1 | B15: 제어케이블 | C15: 제어케이블, 0.6/1kv, TFR-CVV, 5C*1.5㎟ | D15: M | E15: 2292 | G15: 3234 | H15: 995 | I15: 3915 | J15: 834 | K15: 0 | M15: 0 | O15: =SMALL(E15:M15,COUNTIF(E15:M15,0)+1) -> 2292 | P15: 0 | Q15: 0 | R15: 0 | S15: 0 | T15: 0 | U15: 0 | V15: 0 | W15: 자재 11
A16: 589EB41597D565A6964C51F311826C309B3D1F | B16: 제어케이블 | C16: 제어케이블, 0.6/1kv, TFR-CVV-SB, 2C*1.5㎟ | D16: M | E16: 1986 | G16: 2747 | H16: 995 | I16: 3161 | J16: 835 | K16: 0 | M16: 0 | O16: =SMALL(E16:M16,COUNTIF(E16:M16,0)+1) -> 1986 | P16: 0 | Q16: 0 | R16: 0 | S16: 0 | T16: 0 | U16: 0 | V16: 0 | W16: 자재 12
A17: 589EB41597D565A6948B95D3418EC98A9EE89B | B17: 600V폴리에틸렌케이블 | C17: 600V폴리에틸렌케이블, 0.6/1kv, F-CV, 3C*4㎟ | D17: M | E17: 3368 | G17: 4091 | H17: 993 | I17: 3724 | J17: 834 | K17: 0 | M17: 0 | O17: =SMALL(E17:M17,COUNTIF(E17:M17,0)+1) -> 3368 | P17: 0 | Q17: 0 | R17: 0 | S17: 0 | T17: 0 | U17: 0 | V17: 0 | W17: 자재 13
A18: 589EB41597D565A6948B95D3418EC98A9EEE27 | B18: 600V폴리에틸렌케이블 | C18: 600V폴리에틸렌케이블, 0.6/1kv, F-CV, 4C*10㎟ | D18: M | E18: 9566 | G18: 11540 | H18: 993 | I18: 10574 | J18: 834 | K18: 0 | M18: 0 | O18: =SMALL(E18:M18,COUNTIF(E18:M18,0)+1) -> 9566 | P18: 0 | Q18: 0 | R18: 0 | S18: 0 | T18: 0 | U18: 0 | V18: 0 | W18: 자재 14
A19: 589EB41597D565A6948B95D1918BE4B1384EA6 | B19: 저독성난연케이블 | C19: HFIX, 2.5㎟ | D19: M | E19: 570 | G19: 740 | H19: 993 | I19: 921 | J19: 833 | K19: 0 | M19: 0 | O19: =SMALL(E19:M19,COUNTIF(E19:M19,0)+1) -> 570 | P19: 0 | Q19: 0 | R19: 0 | S19: 0 | T19: 0 | U19: 0 | V19: 0 | W19: 자재 15
... A27: 588CF41557722C299FEBBB0A218C0BB8CBCDC2 | B27: 풀박스 | C27: 풀박스, 300*300*300mm | D27: 개 | E27: 14365 | G27: 34760 | H27: 1028 | I27: 16900 | J27: 873 | K27: 0 | M27: 0 | O27: =SMALL(E27:M27,COUNTIF(E27:M27,0)+1) -> 14365 | P27: 0 | Q27: 0 | R27: 0 | S27: 0 | T27: 0 | U27: 0 | V27: 0 | W27: 자재 23
A28: 588CF41557722C299FE0AE17F185A9050ADADA | B28: 아웃렛박스 | C28: 아웃렛박스, 중형4각, 54mm | D28: 개 | E28: 0 | G28: 840 | H28: 1020 | I28: 0 | K28: 0 | M28: 0 | O28: =SMALL(E28:M28,COUNTIF(E28:M28,0)+1) -> 840 | P28: 0 | Q28: 0 | R28: 0 | S28: 0 | T28: 0 | U28: 0 | V28: 0 | W28: 자재 24
A29: 588CF41557722C2996823CE4418A2335EA6D97 | B29: 경고테이프 | D29: M | E29: 0 | G29: 297 | H29: 1134 | I29: 110 | J29: 539 | K29: 0 | M29: 0 | O29: =SMALL(E29:M29,COUNTIF(E29:M29,0)+1) -> 110 | P29: 0 | Q29: 0 | R29: 0 | S29: 0 | T29: 0 | U29: 0 | V29: 0 | W29: 자재 25
A30: 588CF415577213B09660CC92418F390D729DF0 | B30: 필름밴드 | C30: 입상보호관용 | D30: 개 | E30: 0 | G30: 0 | I30: 3850 | J30: 대봉이엔지 | K30: 0 | M30: 0 | O30: =SMALL(E30:M30,COUNTIF(E30:M30,0)+1) -> 3850 | P30: 0 | Q30: 0 | R30: 0 | S30: 0 | T30: 0 | U30: 0 | V30: 0 | W30: 자재 26
A31: 588CF415577213B09778502D51888EFF7BF0C9 | B31: 전주 입상보호관 | C31: 130Φ 2000mm | D31: 개 | E31: 0 | G31: 0 | I31: 36300 | J31: 대봉이엔지 | K31: 0 | M31: 0 | O31: =SMALL(E31:M31,COUNTIF(E31:M31,0)+1) -> 36300 | P31: 0 | Q31: 0 | R31: 0 | S31: 0 | T31: 0 | U31: 0 | V31: 0 | W31: 자재 27
A32: 588CF4155761D9B8978F32CE91882F2F560043 | B32: 케이블트레이부속품 | C32: 케이블트레이부속품, U Channel, 41*41*t2.6mm | D32: M | E32: 6176 | G32: 0 | I32: 0 | K32: 0 | M32: 0 | O32: =SMALL(E32:M32,COUNTIF(E32:M32,0)+1) -> 6176 | P32: 0 | Q32: 0 | R32: 0 | S32: 0 | T32: 0 | U32: 0 | V32: 0 | W32: 자재 28
A33: 588CF4155761D9B8978C7D604182C35C5ACAE6 | B33: 강제전선관 | C33: 강제전선관, 후강전선관, 아연도, 22mm | D33: M | E33: 3085 | G33: 3630 | H33: 1029 | I33: 4412 | J33: 864 | K33: 0 | M33: 0 | O33: =SMALL(E33:M33,COUNTIF(E33:M33,0)+1) -> 3085 | P33: 0 | Q33: 0 | R33: 0 | S33: 0 | T33: 0 | U33: 0 | V33: 0 | W33: 자재 29
A34: 588CF4155761D9B8978C7D604182C35C5ACAE1 | B34: 강제전선관 | C34: 강제전선관, 후강전선관, 아연도, 28mm | D34: M | E34: 4012 | G34: 4720 | H34: 1029 | I34: 5766 | J34: 864 | K34: 0 | M34: 0 | O34: =SMALL(E34:M34,COUNTIF(E34:M34,0)+1) -> 4012 | P34: 0 | Q34: 0 | R34: 0 | S34: 0 | T34: 0 | U34: 0 | V34: 0 | W34: 자재 30
A35: 588CF4155761D9B8978C7D604182C35C5ACAE0 | B35: 강제전선관 | C35: 강제전선관, 후강전선관, 아연도, 36mm | D35: M | E35: 5134 | G35: 6040 | H35: 1029 | I35: 7379 | J35: 864 | K35: 0 | M35: 0 | O35: =SMALL(E35:M35,COUNTIF(E35:M35,0)+1) -> 5134 | P35: 0 | Q35: 0 | R35: 0 | S35: 0 | T35: 0 | U35: 0 | V35: 0 | W35: 자재 31
A36: 588CF4155761D9B8978C7D604182C35C5BD65C | B36: 경질비닐전선관 | C36: 경질비닐전선관, HI, 16mm | D36: M | E36: 294 | G36: 457 | H36: 1024 | I36: 440 | J36: 861 | K36: 0 | M36: 0 | O36: =SMALL(E36:M36,COUNTIF(E36:M36,0)+1) -> 294 | P36: 0 | Q36: 0 | R36: 0 | S36: 0 | T36: 0 | U36: 0 | V36: 0 | W36: 자재 32
A37: 588CF4155761D9B8978C7D604182C35C5BD65F | B37: 경질비닐전선관 | C37: 경질비닐전선관, HI, 22mm | D37: M | E37: 350 | G37: 566 | H37: 1024 | I37: 528 | J37: 861 | K37: 0 | M37: 0 | O37: =SMALL(E37:M37,COUNTIF(E37:M37,0)+1) -> 350 | P37: 0 | Q37: 0 | R37: 0 | S37: 0 | T37: 0 | U37: 0 | V37: 0 | W37: 자재 33
A38: 588CF4155761D9B8978C7D604182C35D7F2616 | B38: 파상형경질폴리에틸렌전선관 | C38: 파상형경질폴리에틸렌전선관, ELP, 40mm | D38: M | E38: 522 | G38: 857 | H38: 1025 | I38: 607 | J38: 861 | K38: 0 | M38: 0 | O38: =SMALL(E38:M38,COUNTIF(E38:M38,0)+1) -> 522 | P38: 0 | Q38: 0 | R38: 0 | S38: 0 | T38: 0 | U38: 0 | V38: 0 | W38: 자재 34
A39: 588CF4155761D9B8978C7D604182C35D7F2617 | B39: 파상형경질폴리에틸렌전선관 | C39: 파상형경질폴리에틸렌전선관, ELP, 50mm | D39: M | E39: 680 | G39: 1143 | H39: 1025 | I39: 860 | J39: 861 | K39: 0 | M39: 0 | O39: =SMALL(E39:M39,COUNTIF(E39:M39,0)+1) -> 680 | P39: 0 | Q39: 0 | R39: 0 | S39: 0 | T39: 0 | U39: 0 | V39: 0 | W39: 자재 35
A40: 588CF4155761D9B8978C7D604182C35D7F2610 | B40: 파상형경질폴리에틸렌전선관 | C40: 파상형경질폴리에틸렌전선관, ELP, 65mm | D40: M | E40: 990 | G40: 1905 | H40: 1025 | I40: 1239 | J40: 861 | K40: 0 | M40: 0 | O40: =SMALL(E40:M40,COUNTIF(E40:M40,0)+1) -> 990 | P40: 0 | Q40: 0 | R40: 0 | S40: 0 | T40: 0 | U40: 0 | V40: 0 | W40: 자재 36
A41: 588CF4155761D9B8978C7E07C18DA8CD582515 | B41: 1종금속제가요전선관 | C41: 1종금속제가요전선관, 비닐피복, 22mm, 방수 | D41: M | E41: 1348 | G41: 2880 | H41: 1027 | I41: 0 | K41: 0 | M41: 0 | O41: =SMALL(E41:M41,COUNTIF(E41:M41,0)+1) -> 1348 | P41: 0 | Q41: 0 | R41: 0 | S41: 0 | T41: 0 | U41: 0 | V41: 0 | W41: 자재 37
A42: 588CF4155761D9B8978C7E07C18DA8CD582512 | B42: 1종금속제가요전선관 | C42: 1종금속제가요전선관, 비닐피복, 28mm, 방수 | D42: M | E42: 1634 | G42: 3470 | H42: 1027 | I42: 0 | K42: 0 | M42: 0 | O42: =SMALL(E42:M42,COUNTIF(E42:M42,0)+1) -> 1634 | P42: 0 | Q42: 0 | R42: 0 | S42: 0 | T42: 0 | U42: 0 | V42: 0 | W42: 자재 38
A43: 588CF4155761D9B8978C7E07C18DA8CD58236F | B43: 1종금속제가요전선관 | C43: 1종금속제가요전선관, 박스커넥터-비닐, 22mm, 방수 | D43: 개 | E43: 2164 | G43: 3300 | H43: 1027 | I43: 0 | K43: 0 | M43: 0 | O43: =SMALL(E43:M43,COUNTIF(E43:M43,0)+1) -> 2164 | P43: 0 | Q43: 0 | R43: 0 | S43: 0 | T43: 0 | U43: 0 | V43: 0 | W43: 자재 39
A44: 588CF4155761D9B8978C7E07C18DA8CD582360 | B44: 1종금속제가요전선관 | C44: 1종금속제가요전선관, 박스커넥터-비닐, 28mm, 방수 | D44: 개 | E44: 2722 | G44: 3980 | H44: 1027 | I44: 0 | K44: 0 | M44: 0 | O44: =SMALL(E44:M44,COUNTIF(E44:M44,0)+1) -> 2722 | P44: 0 | Q44: 0 | R44: 0 | S44: 0 | T44: 0 | U44: 0 | V44: 0 | W44: 자재 40
A45: 588CF4155761D9B89782792C618E6711F40366 | B45: 강재전선관용부품 | C45: 강재전선관용부품, 파이프크램프, 22C | D45: 개 | E45: 138 | G45: 160 | H45: 1029 | I45: 181 | J45: 864 | K45: 0 | M45: 0 | O45: =SMALL(E45:M45,COUNTIF(E45:M45,0)+1) -> 138 | P45: 0 | Q45: 0 | R45: 0 | S45: 0 | T45: 0 | U45: 0 | V45: 0 | W45: 자재 41
A46: 588CF4155761D9B89782792C618E6711F40365 | B46: 강재전선관용부품 | C46: 강재전선관용부품, 파이프크램프, 28C | D46: 개 | E46: 164 | G46: 190 | H46: 1029 | I46: 217 | J46: 864 | K46: 0 | M46: 0 | O46: =SMALL(E46:M46,COUNTIF(E46:M46,0)+1) -> 164 | P46: 0 | Q46: 0 | R46: 0 | S46: 0 | T46: 0 | U46: 0 | V46: 0 | W46: 자재 42
A47: 588CF4155761D9B897827A3341812DA48F45DE | B47: 강재전선관용부품 | C47: 강재전선관용부품, 위샤캡, 36C | D47: 개 | E47: 4361 | G47: 5240 | H47: 1029 | I47: 0 | K47: 0 | M47: 0 | O47: =SMALL(E47:M47,COUNTIF(E47:M47,0)+1) -> 4361 | P47: 0 | Q47: 0 | R47: 0 | S47: 0 | T47: 0 | U47: 0 | V47: 0 | W47: 자재 43
A48: 588CF4155761D9B897827A3341812DA48F4435 | B48: 강재전선관용부품 | C48: 강재전선관용부품, 노말밴드후강전선관용, 아연도, 28mm | D48: 개 | E48: 3108 | G48: 3500 | H48: 1029 | I48: 4031 | J48: 864 | K48: 0 | M48: 0 | O48: =SMALL(E48:M48,COUNTIF(E48:M48,0)+1) -> 3108 | P48: 0 | Q48: 0 | R48: 0 | S48: 0 | T48: 0 | U48: 0 | V48: 0 | W48: 자재 44
A49: 5FAE4489F758337E98FD1FCC41806948015CB2 | B49: 접지봉 커넥터 | C49: U-BOLT형 Φ16 | D49: EA | E49: 0 | G49: 0 | I49: 0 | K49: 6800 | L49: 1198(물가자료) | M49: 0 | O49: =SMALL(E49:M49,COUNTIF(E49:M49,0)+1) -> 6800 | P49: 0 | Q49: 0 | R49: 0 | S49: 0 | T49: 0 | U49: 0 | V49: 0 | W49: 자재 45
A50: 5FAE4489F758337E98FD1FCC41806948015CB3 | B50: 방진방습등 | C50: LED 20W | D50: EA | E50: 0 | G50: 0 | I50: 0 | K50: 110000 | L50: 1216(물가자료) | M50: 0 | O50: =SMALL(E50:M50,COUNTIF(E50:M50,0)+1) -> 110000 | P50: 0 | Q50: 0 | R50: 0 | S50: 0 | T50: 0 | U50: 0 | V50: 0 | W50: 자재 46
A51: 5FAE4489F758A6F99A10A7496183A43F2FC80C | B51: i-WATER/HMI 엔지니어링 | D51: 식 | E51: 0 | G51: 0 | I51: 800000 | J51: 우리기술 | K51: 800000 | L51: 티앤제이 | M51: 800000 | N51: 휴먼테크 | O51: =SMALL(E51:M51,COUNTIF(E51:M51,0)+1) -> 800000 | P51: 0 | Q51: 0 | R51: 0 | S51: 0 | T51: 0 | U51: 0 | V51: 0 | W51: 자재 47
A52: 5FAE4489F758A6F99A10A7496183A43F2FC80F | B52: i-WATER/서버,HISTORIAN | D52: 식 | E52: 0 | G52: 0 | I52: 490556 | J52: 우리기술 | K52: 490556 | L52: 티앤제이 | M52: 490556 | N52: 휴먼테크 | O52: =SMALL(E52:M52,COUNTIF(E52:M52,0)+1) -> 490556 | P52: 0 | Q52: 0 | R52: 0 | S52: 0 | T52: 0 | U52: 0 | V52: 0 | W52: 자재 48
A53: 5FAE4489F758A6F99A10A7496183A43F2FC80E | B53: i-WATER/통합경보시스템 | D53: 식 | E53: 0 | G53: 0 | I53: 490556 | J53: 우리기술 | K53: 490556 | L53: 티앤제이 | M53: 490556 | N53: 휴먼테크 | O53: =SMALL(E53:M53,COUNTIF(E53:M53,0)+1) -> 490556 | P53: 0 | Q53: 0 | R53: 0 | S53: 0 | T53: 0 | U53: 0 | V53: 0 | W53: 자재 49
A54: 5FAE4489F758A6F99A10A7496183A43F2FC809 | B54: i-WATER/실시간 DB 엔지니어링 | D54: 식 | E54: 0 | G54: 0 | I54: 1500000 | J54: 우리기술 | K54: 1500000 | L54: 티앤제이 | M54: 1500000 | N54: 휴먼테크 | O54: =SMALL(E54:M54,COUNTIF(E54:M54,0)+1) -> 1500000 | P54: 0 | Q54: 0 | R54: 0 | S54: 0 | T54: 0 | U54: 0 | V54: 0 | W54: 자재 50
A55: 5FAE4489F758A6F99A10A7496183A43F2FC808 | B55: 처리장 통신/통합센터 | D55: 식 | E55: 0 | G55: 0 | I55: 300000 | J55: 우리기술 | K55: 300000 | L55: 티앤제이 | M55: 300000 | N55: 휴먼테크 | O55: =SMALL(E55:M55,COUNTIF(E55:M55,0)+1) -> 300000 | P55: 0 | Q55: 0 | R55: 0 | S55: 0 | T55: 0 | U55: 0 | V55: 0 | W55: 자재 51
A56: 5FAE4489F758A6F99A10A7496183A43F2FC80B | B56: GATEWAY 엔지니어링/UTM License(엑스게이트 10User) | D56: 식 | E56: 0 | G56: 0 | I56: 2500000 | J56: 우리기술 | K56: 2700000 | L56: 티앤제이 | M56: 3000000 | N56: 휴먼테크 | O56: =SMALL(E56:M56,COUNTIF(E56:M56,0)+1) -> 2500000 | P56: 0 | Q56: 0 | R56: 0 | S56: 0 | T56: 0 | U56: 0 | V56: 0 | W56: 자재 52
A57: 5FAE4489F758A6F99A10A7496183A43F2FCA3A | B57: 외함(옥외자립형, 이중도어) | C57: W900*H2100*D600, STS304 ALL 2.0t | D57: 면 | E57: 0 | G57: 0 | I57: 5000000 | J57: 우리기술 | K57: 5200000 | L57: 티앤제이 | M57: 5500000 | N57: 휴먼테크 | O57: =SMALL(E57:M57,COUNTIF(E57:M57,0)+1) -> 5000000 | P57: 0 | Q57: 0 | R57: 0 | S57: 0 | T57: 0 | U57: 0 | V57: 0 | W57: 자재 53
A58: 5FAE4489F758A6F99A10A7496183A43F2FCA39 | B58: 계량기함 | C58: STS304 ALL 2.0t | D58: 면 | E58: 0 | G58: 0 | I58: 350000 | J58: 우리기술 | K58: 400000 | L58: 티앤제이 | M58: 450000 | N58: 휴먼테크 | O58: =SMALL(E58:M58,COUNTIF(E58:M58,0)+1) -> 350000 | P58: 0 | Q58: 0 | R58: 0 | S58: 0 | T58: 0 | U58: 0 | V58: 0 | W58: 자재 54
A59: 5FAE4489F758A6F99A10A7496183A43F2FCA38 | B59: CPU Module(XGT series) | C59: I/O점수:3072점, P/G용량:128kb | D59: 개 | E59: 0 | G59: 0 | I59: 1146000 | J59: 우리기술 | K59: 1146000 | L59: 티앤제이 | M59: 1146000 | N59: 휴먼테크 | O59: =SMALL(E59:M59,COUNTIF(E59:M59,0)+1) -> 1146000 | P59: 0 | Q59: 0 | R59: 0 | S59: 0 | T59: 0 | U59: 0 | V59: 0 | W59: 자재 55
A60: 5FAE4489F758A6F99A10A7496183A43F2FCA3F | B60: 기본 Base Module | C60: 8 SLOT | D60: 개 | E60: 0 | G60: 0 | I60: 320000 | J60: 우리기술 | K60: 320000 | L60: 티앤제이 | M60: 320000 | N60: 휴먼테크 | O60: =SMALL(E60:M60,COUNTIF(E60:M60,0)+1) -> 320000 | P60: 0 | Q60: 0 | R60: 0 | S60: 0 | T60: 0 | U60: 0 | V60: 0 | W60: 자재 56
A61: 5FAE4489F758A6F99A10A7496183A43F2FCA3E | B61: Power Module | C61: 220V, 8.5A | D61: 개 | E61: 0 | G61: 0 | I61: 238000 | J61: 우리기술 | K61: 238000 | L61: 티앤제이 | M61: 238000 | N61: 휴먼테크 | O61: =SMALL(E61:M61,COUNTIF(E61:M61,0)+1) -> 238000 | P61: 0 | Q61: 0 | R61: 0 | S61: 0 | T61: 0 | U61: 0 | V61: 0 | W61: 자재 57
A62: 5FAE4489F758A6F99A10A7496183A43F2FCA3D | B62: D/I Module | C62: 32Point | D62: 개 | E62: 0 | G62: 0 | I62: 259000 | J62: 우리기술 | K62: 259000 | L62: 티앤제이 | M62: 259000 | N62: 휴먼테크 | O62: =SMALL(E62:M62,COUNTIF(E62:M62,0)+1) -> 259000 | P62: 0 | Q62: 0 | R62: 0 | S62: 0 | T62: 0 | U62: 0 | V62: 0 | W62: 자재 58
A63: 5FAE4489F758A6F99A10A7496183A43F2FCA3C | B63: D/O Module | C63: 16Point | D63: 개 | E63: 0 | G63: 0 | I63: 188000 | J63: 우리기술 | K63: 188000 | L63: 티앤제이 | M63: 188000 | N63: 휴먼테크 | O63: =SMALL(E63:M63,COUNTIF(E63:M63,0)+1) -> 188000 | P63: 0 | Q63: 0 | R63: 0 | S63: 0 | T63: 0 | U63: 0 | V63: 0 | W63: 자재 59
A64: 5FAE4489F758A6F99A10A7496183A43F2FCA33 | B64: A/I Module | C64: 8Point | D64: 개 | E64: 0 | G64: 0 | I64: 1002000 | J64: 우리기술 | K64: 1002000 | L64: 티앤제이 | M64: 1002000 | N64: 휴먼테크 | O64: =SMALL(E64:M64,COUNTIF(E64:M64,0)+1) -> 1002000 | P64: 0 | Q64: 0 | R64: 0 | S64: 0 | T64: 0 | U64: 0 | V64: 0 | W64: 자재 60
A65: 5FAE4489F758A6F99A10A7496183A43F2FCA32 | B65: A/O Module | C65: 8Point | D65: 개 | E65: 0 | G65: 0 | I65: 1158000 | J65: 우리기술 | K65: 1158000 | L65: 티앤제이 | M65: 1158000 | N65: 휴먼테크 | O65: =SMALL(E65:M65,COUNTIF(E65:M65,0)+1) -> 1158000 | P65: 0 | Q65: 0 | R65: 0 | S65: 0 | T65: 0 | U65: 0 | V65: 0 | W65: 자재 61
A66: 5FAE4489F758A6F99A10A7496183A43F2FCBC2 | B66: Computer Link Module | C66: RS422C/2CH | D66: 개 | E66: 0 | G66: 0 | I66: 491000 | J66: 우리기술 | K66: 491000 | L66: 티앤제이 | M66: 491000 | N66: 휴먼테크 | O66: =SMALL(E66:M66,COUNTIF(E66:M66,0)+1) -> 491000 | P66: 0 | Q66: 0 | R66: 0 | S66: 0 | T66: 0 | U66: 0 | V66: 0 | W66: 자재 62
A67: 5FAE4489F758A6F99A10A7496183A43F2FCBC3 | B67: Computer Link Module | C67: RS232C/422 Link | D67: 개 | E67: 0 | G67: 0 | I67: 491000 | J67: 우리기술 | K67: 491000 | L67: 티앤제이 | M67: 491000 | N67: 휴먼테크 | O67: =SMALL(E67:M67,COUNTIF(E67:M67,0)+1) -> 491000 | P67: 0 | Q67: 0 | R67: 0 | S67: 0 | T67: 0 | U67: 0 | V67: 0 | W67: 자재 63
A68: 5FAE4489F758A6F99A10A7496183A43F2FCBC0 | B68: Ethernet Module | C68: 10/100Base-TX, RJ-45 | D68: 개 | E68: 0 | G68: 0 | I68: 1162000 | J68: 우리기술 | K68: 1162000 | L68: 티앤제이 | M68: 1162000 | N68: 휴먼테크 | O68: =SMALL(E68:M68,COUNTIF(E68:M68,0)+1) -> 1162000 | P68: 0 | Q68: 0 | R68: 0 | S68: 0 | T68: 0 | U68: 0 | V68: 0 | W68: 자재 64
... A114: 5FAE4489F758A6F99A10A7496183A43F2E21C4 | B114: 제어용조작선 | C114: UL 18AWG | D114: M | E114: 0 | G114: 0 | I114: 469 | J114: 우리기술 | K114: 469 | L114: 티앤제이 | M114: 469 | N114: 휴먼테크 | O114: =SMALL(E114:M114,COUNTIF(E114:M114,0)+1) -> 469 | P114: 0 | Q114: 0 | R114: 0 | S114: 0 | T114: 0 | U114: 0 | V114: 0 | W114: 자재 110
A115: 5FAE4489F758A6F99A10A7496183A43F2E21C5 | B115: 잡자재 | D115: 식 | E115: 0 | G115: 0 | I115: 1000000 | J115: 우리기술 | K115: 1100000 | L115: 티앤제이 | M115: 1200000 | N115: 휴먼테크 | O115: =SMALL(E115:M115,COUNTIF(E115:M115,0)+1) -> 1000000 | P115: 0 | Q115: 0 | R115: 0 | S115: 0 | T115: 0 | U115: 0 | V115: 0 | W115: 자재 111
A116: 5FAE4489F758A6F99A10A7496183A43F2E21C6 | B116: 무정전전원장치(UPS) | C116: 1￠1KVA, Backup 30분 | D116: 개 | E116: 0 | G116: 0 | I116: 1800000 | J116: 우리기술 | K116: 1800000 | L116: 티앤제이 | M116: 1800000 | N116: 휴먼테크 | O116: =SMALL(E116:M116,COUNTIF(E116:M116,0)+1) -> 1800000 | P116: 0 | Q116: 0 | R116: 0 | S116: 0 | T116: 0 | U116: 0 | V116: 0 | W116: 자재 112
A117: 5FAE4489F758A6F99A10A7496183A43F2E21C7 | B117: 압력계 | C117: 다이아프램식,IP67,4~20mA,LCD | D117: SET | E117: 0 | G117: 0 | I117: 1200000 | J117: 우리기술 | K117: 1250000 | L117: 티앤제이 | M117: 1250000 | N117: 휴먼테크 | O117: =SMALL(E117:M117,COUNTIF(E117:M117,0)+1) -> 1200000 | P117: 0 | Q117: 0 | R117: 0 | S117: 0 | T117: 0 | U117: 0 | V117: 0 | W117: 자재 113
A118: 5FAE4489F758A6F99A10A7496183A43F2E21C0 | B118: 압력계 | C118: 4~20mA(0~10bar) | D118: 개 | E118: 0 | G118: 0 | I118: 600000 | J118: 우리기술 | K118: 650000 | L118: 티앤제이 | M118: 700000 | N118: 휴먼테크 | O118: =SMALL(E118:M118,COUNTIF(E118:M118,0)+1) -> 600000 | P118: 0 | Q118: 0 | R118: 0 | S118: 0 | T118: 0 | U118: 0 | V118: 0 | W118: 자재 114
A119: 5FAE4489F758A6F99A10A7496183A43F2E203F | B119: 수위스위치 | C119: 전극봉식 4극, CONTROLLER 포함 | D119: SET | E119: 0 | G119: 0 | I119: 468000 | J119: 우리기술 | K119: 468000 | L119: 티앤제이 | M119: 468000 | N119: 휴먼테크 | O119: =SMALL(E119:M119,COUNTIF(E119:M119,0)+1) -> 468000 | P119: 0 | Q119: 0 | R119: 0 | S119: 0 | T119: 0 | U119: 0 | V119: 0 | W119: 자재 115
A120: 5FAE4489F758A6F99A10A7496183A43F2E203C | B120: 수위스위치 브라켓 | C120: SUS304, 1.5T | D120: SET | E120: 0 | G120: 0 | I120: 100000 | J120: 우리기술 | K120: 110000 | L120: 티앤제이 | M120: 130000 | N120: 휴먼테크 | O120: =SMALL(E120:M120,COUNTIF(E120:M120,0)+1) -> 100000 | P120: 0 | Q120: 0 | R120: 0 | S120: 0 | T120: 0 | U120: 0 | V120: 0 | W120: 자재 116
A121: 5FAE4489F758A6F99A10A7496183A43F2E23F2 | B121: 디지털 수도미타 | C121: 80mm | D121: SET | E121: 0 | G121: 0 | I121: 1050000 | J121: 우리기술 | K121: 1050000 | L121: 티앤제이 | M121: 1050000 | N121: 휴먼테크 | O121: =SMALL(E121:M121,COUNTIF(E121:M121,0)+1) -> 1050000 | P121: 0 | Q121: 0 | R121: 0 | S121: 0 | T121: 0 | U121: 0 | V121: 0 | W121: 자재 117
A122: 5FAE4489F758A6F99A10A7496183A43F2E23F3 | B122: 스마트허브 | D122: SET | E122: 0 | G122: 0 | I122: 4060000 | J122: 우리기술 | K122: 4060000 | L122: 티앤제이 | M122: 4060000 | N122: 휴먼테크 | O122: =SMALL(E122:M122,COUNTIF(E122:M122,0)+1) -> 4060000 | P122: 0 | Q122: 0 | R122: 0 | S122: 0 | T122: 0 | U122: 0 | V122: 0 | W122: 자재 118
A123: 5FAE4489F758A6F99A10A7496183A43F2E22EB | B123: 제작 노무비 및 경비 | C123: 가압장 | D123: 식 | E123: 0 | G123: 0 | I123: 4983067 | J123: 우리기술 | K123: 5042907 | L123: 티앤제이 | M123: 5095826 | N123: 휴먼테크 | O123: =SMALL(E123:M123,COUNTIF(E123:M123,0)+1) -> 4983067 | P123: 0 | Q123: 0 | R123: 0 | S123: 0 | T123: 0 | U123: 0 | V123: 0 | W123: 자재 119
A124: 5FAE4489F758A6F99A10A7496183A43F2E22EA | B124: 설치 노무비 | C124: 가압장 | D124: 식 | E124: 0 | G124: 0 | I124: 652200 | J124: 우리기술 | K124: 652200 | L124: 티앤제이 | M124: 652200 | N124: 휴먼테크 | O124: =SMALL(E124:M124,COUNTIF(E124:M124,0)+1) -> 652200 | P124: 0 | Q124: 0 | R124: 0 | S124: 0 | T124: 0 | U124: 0 | V124: 0 | W124: 자재 120
A125: 5FAE4489F758A6F99A10A7400186DADD2F5D82 | B125: 부가가치세 | C125: 10% | D125: 식 | E125: 5129879 | F125: 부가가치세 | G125: 0 | I125: 0 | K125: 0 | M125: 0 | O125: =SMALL(E125:M125,COUNTIF(E125:M125,0)+1) -> 5129879 | P125: 0 | Q125: 0 | R125: 0 | S125: 0 | T125: 0 | U125: 0 | V125: 0 | W125: 자재 121
A126: 5FAE4489F758A6F99A10A7400186DADD2F5EA8 | B126: 조달수수료(1.07%) | C126: 5천만원초과 ~ 1억원까지 | D126: 식 | E126: 603787 | F126: 조달청 | G126: 0 | I126: 0 | K126: 0 | M126: 0 | O126: =SMALL(E126:M126,COUNTIF(E126:M126,0)+1) -> 603787 | P126: 0 | Q126: 0 | R126: 0 | S126: 0 | T126: 0 | U126: 0 | V126: 0 | W126: 자재 122
A127: 5FAE4489F758A6F99A10A7400186DADD2F50CA | B127: 한전수탁비 | D127: 식 | E127: ='수탁공사비 집계표'!F8 -> 336000 | F127: 한국전력 | G127: 0 | I127: 0 | K127: 0 | M127: 0 | O127: =SMALL(E127:M127,COUNTIF(E127:M127,0)+1) -> 336000 | P127: 0 | Q127: 0 | R127: 0 | S127: 0 | T127: 0 | U127: 0 | V127: 0 | W127: 자재 123
A128: 5F7334EE77FE5B669F5EF5C251873F7A0B514E | B128: 보통인부 | C128: 일반공사 직종 | D128: 인 | E128: 0 | G128: 0 | I128: 0 | K128: 0 | M128: 0 | O128: 0 | P128: 172068 | Q128: 0 | R128: 0 | S128: 0 | T128: 0 | U128: 0 | V128: 0 | W128: 노임 1 | Y128: B
A129: 5F7334EE77FE5B669F5EF5C251873F7A0B50A6 | B129: 콘크리트공 | C129: 일반공사 직종 | D129: 인 | E129: 0 | G129: 0 | I129: 0 | K129: 0 | M129: 0 | O129: 0 | P129: 273540 | Q129: 0 | R129: 0 | S129: 0 | T129: 0 | U129: 0 | V129: 0 | W129: 노임 2 | Y129: B
A130: 5F7334EE77FE5B669F5EF5C251873F7A0B56CB | B130: 내선전공 | C130: 일반공사 직종 | D130: 인 | E130: 0 | G130: 0 | I130: 0 | K130: 0 | M130: 0 | O130: 0 | P130: 273676 | Q130: 0 | R130: 0 | S130: 0 | T130: 0 | U130: 0 | V130: 0 | W130: 노임 3 | Y130: B
A131: 5F7334EE77FE5B669F5EF5C251873F7A0B56C6 | B131: 저압케이블전공 | C131: 일반공사 직종 | D131: 인 | E131: 0 | G131: 0 | I131: 0 | K131: 0 | M131: 0 | O131: 0 | P131: 304156 | Q131: 0 | R131: 0 | S131: 0 | T131: 0 | U131: 0 | V131: 0 | W131: 노임 4 | Y131: B
A132: 5F7334EE77FE5B669F5EF5C251873F7A0B5983 | B132: 배전전공 | C132: 일반공사 직종 | D132: 인 | E132: 0 | G132: 0 | I132: 0 | K132: 0 | M132: 0 | O132: 0 | P132: 414968 | Q132: 0 | R132: 0 | S132: 0 | T132: 0 | U132: 0 | V132: 0 | W132: 노임 5 | Y132: B
A133: 5F7334EE77FE5B669F5EF5C251873F7A0B5986 | B133: 계장공 | C133: 일반공사 직종 | D133: 인 | E133: 0 | G133: 0 | I133: 0 | K133: 0 | M133: 0 | O133: 0 | P133: 319449 | Q133: 0 | R133: 0 | S133: 0 | T133: 0 | U133: 0 | V133: 0 | W133: 노임 6 | Y133: B

Sheet 수탁공사비 집계표
A1: 수 탁 공 사 비 집 계 표
A2: [ 중기2리 지방상수도 급수구역 확장공사 ]
A3: 품 명 | B3: 규 격 | C3: 단위 | D3: 수량 | E3: 합 계 | G3: 재 료 비 | I3: 노 무 비 | K3: 경 비 | M3: 비 고 | N3: 공종코드 | O3: 변수 | P3: 상위공종 | Q3: 공종구분 | R3: 공종레벨 | S3: 공종소계 | T3: 원가계산서 연결금액
E4: 단 가 | F4: 금 액 | G4: 단 가 | H4: 금 액 | I4: 단 가 | J4: 금 액 | K4: 단 가 | L4: 금 액
A5: ■ 한전수탁공사비(한전공급규정에 의해 변경될 수 있음)
A6: ='수탁공사비 내역서'!A5 -> 1. 중기2리 가압장(5kW) : | C6: 식 | D6: 1 | E6: =TRUNC(G6+I6+K6, 0) -> 336600 | F6: =H6+J6+L6 -> 336600 | G6: ='수탁공사비 내역서'!F24 -> 336600 | H6: =G6*D6 -> 336600
A8: [ 합 계 ] | F8: =TRUNC(F6,-3) -> 336000 | M8: 천단위 절사

Sheet 수탁공사비 내역서
A1: 수 탁 공 사 비 내 역 서
A2: ='수탁공사비 집계표'!A2:M2 -> [ 중기2리 지방상수도 급수구역 확장공사 ]
A3: 품 명 | B3: 규 격 | C3: 단위 | D3: 수량 | E3: 합 계 | G3: 재 료 비 | I3: 노 무 비 | K3: 경 비 | M3: 비 고 | N3: 품목코드 | O3: 변수 | P3: 설정 | Q3: 공종코드 | R3: 일위 | S3: 단산 | T3: 자재 | U3: 손료적용 | V3: 손료저장 | W3: 적용율 | X3: JUK1 | Y3: JUK2 | Z3: JUK3 | AA3: JUK4 | AB3: JUK5 | AC3: JUK6 | AD3: JUK7 | AE3: JUK8 | AF3: JUK9 | AG3: JUK10 | AH3: JUK11 | AI3: JUK12 | AJ3: JUK13 | AK3: JUK14 | AL3: JUK15 | AM3: JUK16 | AN3: JUK17 | AO3: JUK18 | AP3: JUK19 | AQ3: JUK20 | AR3: 자재구분 | AS3: 공종구분 | AT3: 공종레벨 | AU3: 공종+자재 | AV3: 고유번호
E4: 단 가 | F4: 금 액 | G4: 단 가 | H4: 금 액 | I4: 단 가 | J4: 금 액 | K4: 단 가 | L4: 금 액
A5: 1. 중기2리 가압장(5kW) :
A6: (1) 수전방식 : 3Ø4W 380V-220V 가공인입
A7: (2) 수전용량
A8: - 수전용량 : 5kW
A9: (3) 기본시설부담금 :
B10: - 용량공사비 : 매 1계약에 대하여 계약전력 5kW까지 306,000원, 계약전력 5kW 초과분에 대하여 121,000원 적용
B11: - 용량공사비 : 306,000원 | L11: 306000
B12: - 초과용량 공사비 : 없음 | C12: KW | K12: 121000 | L12: =K12*D12 -> 0
B13: [소 계] 용량공사비+초과용량공사비 = | F13: =H13+J13+L13 -> 306000 | L13: =SUM(L11:L12) -> 306000
A14: (4) 거리시설부담금 :
B15: - 첨가거리시설공사비 : 기본거리 200m 에서 초과하는 첨가거리 매 1m에 대하여, 고압:12,000원, 저압:7,000원
B16: - 고압첨가시설공사비 : 없음 | L16: =K16*D16 -> 0
B17: - 저압첨가시설공사비 : 없음 | L17: =K17*D17 -> 0
B18: [소 계] 신설거리시설공사비 = | F18: =H18+J18+L18 -> 0 | L18: =SUM(L16:L17) -> 0
A19: (5) 합계
B20: [합 계] 기본시설부담금 + 거리시설부담금 = | F20: =H20+J20+L20 -> 306000 | L20: =SUM(L13,L18) -> 306000
A21: (6) 부가세: 10% | F21: =H21+J21+L21 -> 30600 | L21: =L20*10% -> 30600
A24: [ 합 계 ] | F24: =SUM(F20:F21) -> 336600 | L24: =SUM(L20:L21) -> 336600

Sheet  공사설정 
A1: 이 Sheet는 수정하지 마십시요
A2: 공사구분 | B2: D | C2: 타이틀
A3: 확정내역 | B3: 원내역
A4: 자재단가적용 | B4: 5
A5: 경비단가적용 | B5: 5
A6: 품목코드형식 | B6: XXXX-XXXXXXXXXXXXX
A7: 내역금액소수점처리 | B7: C | C7: 1
A8: 일위대가내역소수점처리 | B8: C | C8: 2
A9: 단가명 | B9: 조달청가격 | C9: 거래가격 | D9: 유통물가 | E9: 조사가격1 | F9: 조사가격2 | G9: TTTTT
A10: 환율 | B10: 0 | C10: 0 | D10: 0
A11: 시간당작업량 | B11: R | C11: 3
A12: 1회 사이클시간 | B12: R | C12: 3
A13: 시간당 작업사이클 | B13: R | C13: 2
A14: 일반변수 | B14: C | C14: 5
A15: 시간당 노임산출 계수 | B15: A | C15: 1/8*16/12*25/20 | D15: 1/8*16/12*25/20 | E15: 1/8*16/12*25/20 | F15: 1
A16: 재료비 할증 계수 | B16: 0 | C16: 0
A17: 노무비 할증 계수 | B17: 0 | C17: 0 | D17: 0 | E17: 0 | F17: 0 | G17: 0 | H17: 0 | I17: 0 | J17: 0 | K17: 0 | L17: 0 | M17: 0
A18: 경비 할증 계수 | B18: 0 | C18: 0
A19: 내역,일위대가 품명,규격,단위 따로적용
A20: 내역단가 소수점처리 | C20: 1
A21: 코드 | B21: 공종구분명 | C21: 원가비목코드
A22: 1 | B22: 작 업 부 산 물 | C22: A3
A23: 2 | B23: 운 반 비 | C23: C1
A24: 3 | B24: 관 급 자 재 비 | C24: DJ
A25: 4 | B25: 사 급 자 재 비 | C25: D3
A26: 5 | B26: 외 자 재
A27: 6 | B27: 한전수탁공사비 | C27: DL
A28: 7 | B28: ...
A29: 8 | B29: ...
A30: 9 | B30: ...
A43: 단가 순서 | B43: 1234

Sheet Sheet1
