Workbook
Name \c: [1]sum!#REF!
Name \d: [1]sum!#REF!
Name \f: [1]sum!#REF!
Name \g: [1]sum!#REF!
Name \h: [1]sum!#REF!
Name \i: [1]sum!#REF!
Name \j: [1]sum!#REF!
Name \k: [1]sum!#REF!
Name \l: [1]sum!#REF!
Name \m: [1]sum!#REF!
Name \n: [1]sum!#REF!
Name \o: [1]sum!#REF!
Name \p: [1]sum!#REF!
Name \z: [1]sum!#REF!
Name A: #REF!
Name AA: #REF!
Name aaaa: #REF!
Name aaaaa: #REF!
Name aaad: '[2]C-18'!#REF!
Name ABC: [3]CAT_5!#REF!
Name adad: [1]sum!#REF!
Name adsDD: #REF!
Name ADSS: #REF!
Name AIR_PIPE: #REF!
Name AREA: #REF!
Name asas: #REF!
Name asasas: #REF!
Name BREAKDOWN: '[4]Summary Sheets'!$A$2:$K$36
Name CA_70: #REF!
Name CABLE: #REF!
Name CLIENT: #REF!
Name Cnm: #REF!
Name COA_10: #REF!
Name COA_11: #REF!
Name COA_12: #REF!
Name COA_13: #REF!
Name COA_14: #REF!
Name COA_15: #REF!
Name COA_16: #REF!
Name COA_17: #REF!
Name COA_18: #REF!
Name COA_19: #REF!
Name COA_20: #REF!
Name COA_30: #REF!
Name COA_40: #REF!
Name COA_51: #REF!
Name COA_52: #REF!
Name COA_53: #REF!
Name COA_54: #REF!
Name COA_55: #REF!
Name COA_60: #REF!
Name COA_70: #REF!
Name COA_80: #REF!
Name COA_90: #REF!
Name COA50A: #REF!
Name COA50B: #REF!
Name CODE: [5]LABTOTAL!$C$7:$BN$480
Name CONSUM: #REF!
Name COVER50: [3]CAT_5!#REF!
Name CURR: #REF!

Sheet 일위대가 목록
A1: 일 위 대 가 목 록 표
A3: 구 분 | B3: 규 격 | C3: 수량 | D3: 단위 | E3: 합 계 | G3: 재 료 비 | I3: 노 무 비 | K3: 경 비 | M3: 비 고
E4: 단 가 | F4: 금 액 | G4: 단 가 | H4: 금 액 | I4: 단 가 | J4: 금 액 | K4: 단 가 | L4: 금 액
A5: =일위대가!A5 -> 1 | B5: =일위대가!B5 -> 동측 급수가압펌프 설치, 일반펌프(1.5Kw이하) 설치, 1대 | C5: =일위대가!D5 -> 1 | D5: =일위대가!C5 -> 대 | I5: =일위대가!J8 -> 0 | J5: =C5*I5 -> 0 | K5: 0 | L5: =C5*K5 -> 0
A6: =일위대가!A10 -> 2 | B6: =일위대가!B10 -> 동측 급수가압펌프 밸브 및 콕류 설치, 50A 이하, 5EA | C6: =일위대가!D10 -> 1 | D6: =일위대가!C10 -> 식 | I6: =일위대가!J12 -> 0 | J6: =C6*I6 -> 0 | K6: 0 | L6: =C6*K6 -> 0
A7: =일위대가!A14 -> 3 | B7: =일위대가!B14 -> 동측 급수가압펌프 스테인리스강관 용접배관, 기계실배관 30% 가산, 50A, 3M | C7: =일위대가!D14 -> 1 | D7: =일위대가!C14 -> 식 | I7: =일위대가!J17 -> 0 | J7: =C7*I7 -> 0 | K7: 0 | L7: =C7*K7 -> 0
A8: =일위대가!A19 -> 4 | B8: =일위대가!B19 -> 동측 급수가압펌프 스테인리스강관 용접접합, 50A, 21개소 | C8: =일위대가!D19 -> 1 | D8: =일위대가!C19 -> 식 | I8: =일위대가!J21 -> 0 | J8: =C8*I8 -> 0 | K8: 0 | L8: =C8*K8 -> 0
A9: =일위대가!A23 -> 5 | B9: =일위대가!B23 -> 동측 급수가압펌프 스테인리스강관 용접접합, 32A, 2개소 | C9: =일위대가!D23 -> 1 | D9: =일위대가!C23 -> 식 | I9: =일위대가!J25 -> 0 | J9: =C9*I9 -> 0 | K9: 0 | L9: =C9*K9 -> 0
A10: =일위대가!A27 -> 6 | B10: =일위대가!B27 -> 서측 급수가압펌프 설치, 일반펌프(2.2Kw이하) 설치, 1대 | C10: =일위대가!D27 -> 1 | D10: =일위대가!C27 -> 대 | I10: =일위대가!J30 -> 0 | J10: =C10*I10 -> 0 | K10: 0 | L10: =C10*K10 -> 0
A11: =일위대가!A32 -> 7 | B11: =일위대가!B32 -> 서측 급수가압펌프 밸브 및 콕류 설치, 80A 이하, 1EA | C11: =일위대가!D32 -> 1 | D11: =일위대가!C32 -> 식 | I11: =일위대가!J35 -> 0 | J11: =C11*I11 -> 0 | K11: 0 | L11: =C11*K11 -> 0
A12: =일위대가!A37 -> 8 | B12: =일위대가!B37 -> 서측 급수가압펌프 밸브 및 콕류 설치, 50A 이하, 5EA | C12: =일위대가!D37 -> 1 | D12: =일위대가!C37 -> 식 | I12: =일위대가!J39 -> 0 | J12: =C12*I12 -> 0 | K12: 0 | L12: =C12*K12 -> 0
A13: =일위대가!A41 -> 9 | B13: =일위대가!B41 -> 서측 급수가압펌프 스테인리스강관 용접배관, 기계실배관 30% 가산, 50A, 3M | C13: =일위대가!D41 -> 1 | D13: =일위대가!C41 -> 식 | I13: =일위대가!J44 -> 0 | J13: =C13*I13 -> 0 | K13: 0 | L13: =C13*K13 -> 0
A14: =일위대가!A46 -> 10 | B14: =일위대가!B46 -> 서측 급수가압펌프 스테인리스강관 용접접합, 80A, 4개소 | C14: =일위대가!D46 -> 1 | D14: =일위대가!C46 -> 식 | I14: =일위대가!J48 -> 0 | J14: =C14*I14 -> 0 | K14: 0 | L14: =C14*K14 -> 0
A15: =일위대가!A50 -> 11 | B15: =일위대가!B50 -> 서측 급수가압펌프 스테인리스강관 용접접합, 50A, 21개소 | C15: =일위대가!D50 -> 1 | D15: =일위대가!C50 -> 식 | I15: =일위대가!J52 -> 0 | J15: =C15*I15 -> 0 | K15: 0 | L15: =C15*K15 -> 0
A20: 소계 | J20: =SUM(J5:J19) -> 0 | L20: =SUM(L5:L9) -> 0

Sheet 일위대가
A1: 일 위 대 가 표
A3: 구 분 | B3: 규 격 | C3: 단위 | D3: 수 량 | E3: 합 계 | G3: 재 료 비 | I3: 노 무 비 | K3: 경 비 | M3: 비 고
E4: 단 가 | F4: 금 액 | G4: 단 가 | H4: 금 액 | I4: 단 가 | J4: 금 액 | K4: 단 가 | L4: 금 액
A5: 1 | B5: 동측 급수가압펌프 설치, 일반펌프(1.5Kw이하) 설치, 1대 | C5: 대 | D5: 1
A6: 기계설비공 | C6: 인 | D6: =0.848*2 -> 1.696 | L6: =INT($D6*K6) -> 0 | M6: 기계품 4-1-1
A7: 보통인부 | C7: 인 | D7: =0.281*2 -> 0.562 | L7: =INT($D7*K7) -> 0
A8: 합 계 | L8: =SUM(L6:L7) -> 0
A10: 2 | B10: 동측 급수가압펌프 밸브 및 콕류 설치, 50A 이하, 5EA | C10: 식 | D10: 1
A11: 배관공 | C11: 인 | D11: =0.074*5 -> 0.37 | L11: =INT($D11*K11) -> 0 | M11: 기계품 5-1-1
A12: 합 계 | L12: =SUM(L11:L11) -> 0
A14: 3 | B14: 동측 급수가압펌프 스테인리스강관 용접배관, 기계실배관 30% 가산, 50A, 3M | C14: 식 | D14: 1
A15: 배관공 | C15: 인 | D15: =0.079*1.3*3 -> 0.3081 | L15: =INT($D15*K15) -> 0 | M15: 기계품 1-3-2
A16: 보통인부 | C16: 인 | D16: =0.032*1.3*3 -> 0.1248 | L16: =INT($D16*K16) -> 0
A17: 합 계 | L17: =SUM(L15:L16) -> 0
A19: 4 | B19: 동측 급수가압펌프 스테인리스강관 용접접합, 50A, 21개소 | C19: 식 | D19: 1
A20: 용접공 | C20: 인 | D20: =0.099*21 -> 2.079 | L20: =INT($D20*K20) -> 0 | M20: 기계품 1-3-1
A21: 합 계 | L21: =SUM(L20:L20) -> 0
A23: 5 | B23: 동측 급수가압펌프 스테인리스강관 용접접합, 32A, 2개소 | C23: 식 | D23: 1
A24: 용접공 | C24: 인 | D24: =0.077*2 -> 0.154 | L24: =INT($D24*K24) -> 0 | M24: 기계품 1-3-1
A25: 합 계 | L25: =SUM(L24:L24) -> 0
A27: 6 | B27: 서측 급수가압펌프 설치, 일반펌프(2.2Kw이하) 설치, 1대 | C27: 대 | D27: 1
A28: 기계설비공 | C28: 인 | D28: =0.977*2 -> 1.954 | L28: =INT($D28*K28) -> 0 | M28: 기계품 4-1-1
A29: 보통인부 | C29: 인 | D29: =0.324*2 -> 0.648 | L29: =INT($D29*K29) -> 0
A30: 합 계 | L30: =SUM(L28:L29) -> 0
A32: 7 | B32: 서측 급수가압펌프 밸브 및 콕류 설치, 80A 이하, 1EA | C32: 식 | D32: 1
A33: 배관공 | C33: 인 | D33: =0.141 -> 0.141 | L33: =INT($D33*K33) -> 0 | M33: 기계품 4-1-1
A34: 보통인부 | C34: 인 | D34: =0.083 -> 0.083 | L34: =INT($D34*K34) -> 0
A35: 합 계 | L35: =SUM(L33:L34) -> 0
A37: 8 | B37: 서측 급수가압펌프 밸브 및 콕류 설치, 50A 이하, 5EA | C37: 식 | D37: 1
A38: 배관공 | C38: 인 | D38: =0.074*5 -> 0.37 | L38: =INT($D38*K38) -> 0 | M38: 기계품 4-1-1
A39: 합 계 | L39: =SUM(L38:L38) -> 0
A41: 9 | B41: 서측 급수가압펌프 스테인리스강관 용접배관, 기계실배관 30% 가산, 50A, 3M | C41: 식 | D41: 1
A42: 배관공 | C42: 인 | D42: =0.079*1.3*3 -> 0.3081 | L42: =INT($D42*K42) -> 0 | M42: 기계품 1-3-2
A43: 보통인부 | C43: 인 | D43: =0.032*1.3*3 -> 0.1248 | L43: =INT($D43*K43) -> 0
A44: 합 계 | L44: =SUM(L42:L43) -> 0
A46: 10 | B46: 서측 급수가압펌프 스테인리스강관 용접접합, 80A, 4개소 | C46: 식 | D46: 1
A47: 용접공 | C47: 인 | D47: =0.135*4 -> 0.54 | L47: =INT($D47*K47) -> 0 | M47: 기계품 1-3-1
A48: 합 계 | L48: =SUM(L47:L47) -> 0
A50: 11 | B50: 서측 급수가압펌프 스테인리스강관 용접접합, 50A, 21개소 | C50: 식 | D50: 1
A51: 용접공 | C51: 인 | D51: =0.099*21 -> 2.079 | L51: =INT($D51*K51) -> 0 | M51: 기계품 1-3-1
A52: 합 계 | L52: =SUM(L51:L51) -> 0
