Workbook
Name __________aab42: #REF!
Name _________aab42: #REF!
Name ________aab42: #REF!
Name _______aab42: #REF!
Name ______aab42: #REF!
Name ______ll15: #REF!
Name ______LPB1: #REF!
Name ______LPK1: #REF!
Name ______LV02: #REF!
Name ______UP1: #REF!
Name ______UP2: #REF!
Name _____aab42: #REF!
Name _____ASP1: [1]포장공!#REF!
Name _____CNP1: [2]CON포장수량!#REF!
Name _____ll15: #REF!
Name _____LPB1: #REF!
Name _____LPK1: #REF!
Name _____LV02: #REF!
Name _____SBB1: #REF!
Name _____SBB2: #REF!
Name _____SBB3: #REF!
Name _____SBB4: #REF!
Name _____SBB5: #REF!
Name _____SHH1: #REF!
Name _____SHH2: #REF!
Name _____SHH3: #REF!
Name _____UP1: #REF!
Name _____UP2: #REF!
Name ____aab42: #REF!
Name ____ASP1: [1]포장공!#REF!
Name ____CNP1: [2]CON포장수량!#REF!
Name ____ll15: #REF!
Name ____LPB1: #REF!
Name ____LPK1: #REF!
Name ____LV02: #REF!
Name ____SBB1: #REF!
Name ____SBB2: #REF!
Name ____SBB3: #REF!
Name ____SBB4: #REF!
Name ____SBB5: #REF!
Name ____SHH1: #REF!
Name ____SHH2: #REF!
Name ____SHH3: #REF!
Name ____UP1: #REF!
Name ____UP2: #REF!
Name ___aab42: #REF!
Name ___ASP1: [1]포장공!#REF!
Name ___CNP1: [2]CON포장수량!#REF!
Name ___ju8: {"'광피스표'!$A$3:$N$54"}
Name ___ll15: #REF!
Name ___LPB1: #REF!
Name ___LPK1: #REF!
Name ___LV02: #REF!
Name ___SBB1: #REF!
Name ___SBB2: #REF!
Name ___SBB3: #REF!
Name ___SBB4: #REF!
Name ___SBB5: #REF!
Name ___SHH1: #REF!
Name ___SHH2: #REF!

Sheet 설계서갑지
A1: 과 장 | E1: 팀 장 | G1: 심사자 | I1: 설계자 | K1: 설 계 | L1: 2026년 07월 | N1: 결 재
K2: 심 사 | L2: 2026년 07월 | N2: 2026년 07월
A4: 설 계 내 역 서
D6: □ 건 명 : 2026년 슬러지처리장 유량계 및 수위계 교체 용역
D7: 구 분 | G7: 금 액 | M7: 비 고
D8: 총 사 업 비 | G8: ="금" & " " & NUMBERSTRING(J8,1) & "원정" -> #REF! | J8: =J11 -> #REF!
D9: 공 급 가 액 | G9: ="금" & " " & NUMBERSTRING(J9,1) & "원정" -> #REF! | J9: =원가계산서!D29 -> #REF!
D10: 부 가 가 치 세 | G10: ="금" & " " & NUMBERSTRING(J10,1) & "원정" -> #REF! | J10: =J9*10% -> #REF!
D11: 소 계 | G11: ="금" & " " & NUMBERSTRING(J11,1) & "원정" -> #REF! | J11: =SUM(J9:K10) -> #REF!
D13: ㅇ 사업개요

Sheet 원가계산서
A1: =설계서갑지!D6 -> □ 건 명 : 2026년 슬러지처리장 유량계 및 수위계 교체 용역
G2: * 2026년 건축ㆍ산업환경설비공사 원가계산 간접공사비(제비율) 적용기준
A3: 비 목 | C3: 구 분 | D3: 금 액 | E3: 구 성 비 | G3: 비 고
A5: 순공사비 원가 | B5: 재 료 비 | C5: 직접재료비 | D5: =원가집계표!F23 -> #REF!
C6: 간접재료비 | D6: 0
C7: ［소 계 ］ | D7: =SUM(D5:D6) -> #REF!
B8: 노 무 비 | C8: 직접노무비 | D8: =원가집계표!H23 -> #REF!
C9: 간접노무비 | D9: =+D8*F9 -> #REF! | E9: 직접노무비 x | F9: 0.175 | G9: *50억 미만, 공사기간 6개월이하
C10: ［소 계 ］ | D10: =SUM(D8:D9) -> #REF!
B11: 경 비 | C11: 운반비 | D11: 0
C12: 기계경비 | D12: 0
C13: 산재보험료 | D13: =INT(+D10*F13) -> #REF! | E13: (직접노무비+간접노무비) x | F13: 0.0356
C14: 고용보험료 | D14: =INT(+D10*F14) -> #REF! | E14: 노무비 x | F14: 0.0101
C15: 퇴직공제부금비 | D15: 0 | E15: 직접노무비 x | F15: 0 | G15: *공사 추정금액 1억원 미만
C16: 국민건강보험료 | D16: =INT((D8)*F16) -> #REF! | E16: 직접노무비 x | F16: 0 | G16: *공사기간 1개월 미만
C17: 노인장기요양보험료 | D17: =INT(+D16*F17) -> #REF! | E17: 건강보험료 x | F17: 0 | G17: *공사기간 1개월 미만
C18: 연금보험료 | D18: =INT((D8)*F18) -> #REF! | E18: 직접노무비 x | F18: 0 | G18: *공사기간 1개월 미만
C19: 산업안전보건관리비 | D19: =INT((D7+D8)*F19) -> #REF! | E19: (재료비+직접노무비) x | F19: 0.0207
C20: 석면분담금 | D20: =INT((D10)*F20) -> #REF! | E20: 노무비 x | F20: 6e-05
C21: 임금채권부담금 | D21: =INT(D10*F21) -> #REF! | E21: 노무비 x | F21: 0.0009
C22: 기타경비 | D22: =INT((D7+D10)*F22) -> #REF! | E22: (재료비+노무비) x | F22: 0.05
C23: 환경보전비 | D23: =SUM(D7+D8+D12)*F23 -> #REF! | E23: (재료비+직접노무비+산출경비) x | F23: 0 | G23: *전기/정보통신공사 적용 제외
C24: ［소 계 ］ | D24: =SUM(D11:D23) -> #REF!
A25: 계 | D25: =SUM(D24+D10+D7) -> #REF! | E25: (재료비+노무비+경비) x
A26: 일 반 관 리 비 | D26: =INT((D7+D10+D24)*F26) -> #REF! | E26: (재료비+노무비+경비) x | F26: 0.08
A27: 이 윤 | D27: =INT((+D10+D24+D26)*F27)-3018 -> #REF! | E27: (노무비+경비+일반관리비) x | F27: 0.15
A28: 고 재 비 | D28: =원가집계표!F12 -> 0 | E28: (노무비+경비+일반관리비) x | F28: 0.15
A29: 공 급 가 액 | D29: =ROUNDDOWN(SUM(D25:D28),0) -> #REF! | E29: (공사비 계+일반관리비+이윤) | G29: *단위절사
A30: 부 가 가 치 세 | D30: =+D29*F30 -> #REF! | E30: 공급가액 x | F30: 0.1
A31: 총 원 가 | D31: =+D30+D29 -> #REF!

Sheet 원가집계표
A1: 품 명 | B1: 규 격 | C1: 단위 | D1: 수량 | E1: 재료비 | G1: 노무비 | I1: 경 비 | K1: 합 계 | L1: 비 고
E2: 단가 | F2: 금액 | G2: 단가 | H2: 금액 | I2: 단가 | J2: 금액
A3: =원가계산서!A1 -> □ 건 명 : 2026년 슬러지처리장 유량계 및 수위계 교체 용역
A5: =내역서!A4 -> 1. 기자재비 | C5: 식 | D5: 1 | E5: =내역서!F10 -> 0 | F5: =E5*D5 -> 0 | K5: =+F5+H5+J5 -> 0
A6: 소 계 | F6: =F5 -> 0 | H6: =SUM(H5:H5) -> 0 | K6: =+F6+H6+J6 -> 0
A8: =내역서!A12 -> 2. 설치자재비 | C8: 식 | D8: 1 | E8: =내역서!F27 -> #REF! | F8: =E8*D8 -> #REF! | G8: =내역서!H27 -> #REF! | H8: =G8*D8 -> #REF! | K8: =+F8+H8+J8 -> #REF!
A9: 소 계 | F9: =F8 -> #REF! | H9: =SUM(H8:H8) -> #REF! | I9: =내역서!J32 -> 0 | K9: =+F9+H9+J9 -> #REF!
A11: =내역서!A29 -> 3. 고재처리비 | C11: 식 | D11: 1 | E11: =내역서!F32 -> 0 | F11: =E11*D11 -> 0 | H11: =G11*D11 -> 0 | K11: =+F11+H11+J11 -> 0
A12: 소 계 | F12: =F11 -> 0 | H12: =SUM(H11:H11) -> 0 | I12: =내역서!J35 -> 0 | K12: =+F12+H12+J12 -> 0
A23: 【 합 계 】 | F23: =F6+F9+F12 -> #REF! | H23: =H6+H9+H12 -> #REF! | J23: =J6+J9+J12 -> 0 | K23: =K6+K9+K12 -> #REF!

Sheet 내역서
A1: =원가집계표!A3 -> □ 건 명 : 2026년 슬러지처리장 유량계 및 수위계 교체 용역
A2: 품 명 | B2: 규 격 | C2: 단위 | D2: 수량 | E2: 재료비 | G2: 노무비 | I2: 경 비 | K2: 합 계 | L2: 비 고
E3: 단가 | F3: 금액 | G3: 단가 | H3: 금액 | I3: 단가 | J3: 금액
A4: 1. 기자재비
A5: =산출기초조사서!A6 -> 전자식유량계 | B5: =산출기초조사서!B6 -> 150A | C5: =산출기초조사서!C6 -> 대 | D5: 1 | E5: =산출기초조사서!M6 -> 0 | F5: =INT(D5*E5) -> 0 | K5: =F5+H5+J5 -> 0 | N5: 4 | Q5: 2
A6: =산출기초조사서!A7 -> 초음파수위계 | B6: =산출기초조사서!B7 -> 일체형 | C6: =산출기초조사서!C7 -> 대 | D6: 1 | E6: =산출기초조사서!M7 -> 0 | F6: =INT(D6*E6) -> 0 | K6: =F6+H6+J6 -> 0 | N6: 8 | Q6: 4
A7: =산출기초조사서!A8 -> 레이더수위계 | B7: =산출기초조사서!B8 -> 일체형 | C7: =산출기초조사서!C8 -> 대 | D7: 1 | E7: =산출기초조사서!M8 -> 0 | F7: =INT(D7*E7) -> 0 | K7: =F7+H7+J7 -> 0 | N7: 8 | Q7: 4
A8: =산출기초조사서!A9 -> 포텐티오메타 | B8: =산출기초조사서!B9 -> 탱크 수위계 AS품 | C8: =산출기초조사서!C9 -> 대 | D8: 1 | E8: =산출기초조사서!M9 -> 0 | F8: =INT(D8*E8) -> 0 | K8: =F8+H8+J8 -> 0 | N8: 8 | Q8: 4
A9: =산출기초조사서!A10 -> 신호변환기 | B9: =산출기초조사서!B10 -> 4~20mA, 2CH | C9: =산출기초조사서!C10 -> 대 | D9: 1 | E9: =산출기초조사서!M10 -> 0 | F9: =INT(D9*E9) -> 0 | K9: =F9+H9+J9 -> 0 | N9: 16 | O9: 40 | P9: 30 | Q9: 12
A10: ［ 소 계 ］ | F10: =SUM(F5:F9) -> 0 | H10: =SUM(H5:H6) -> 0 | J10: =SUM(J5:J6) -> 0 | K10: =+J10+H10+F10 -> 0
A12: =산출기초조사서!A12 -> 2. 설치자재비
A13: 전자식 유량계 철거 설치 | B13: =B5 -> 150A | C13: =C5 -> 대 | D13: =D5 -> 1 | E13: =산출기초조사서!M12 -> 0 | F13: =INT(D13*E13) -> 0 | G13: ='일위대가표(공통)'!K16 -> #REF! | H13: =INT(G13*D13) -> #REF! | K13: =F13+H13+J13 -> #REF! | L13: ='일위대가표(공통)'!A5 -> 제1호표
A14: 초음파수위계 철거 설치 | B14: =B6 -> 일체형 | C14: =C6 -> 대 | D14: =D6 -> 1 | G14: ='일위대가표(공통)'!K23 -> #REF! | H14: =INT(G14*D14) -> #REF! | K14: =F14+H14+J14 -> #REF! | L14: ='일위대가표(공통)'!A18 -> 제2호표
A15: 레이더수위계 철거 설치 | B15: =B7 -> 일체형 | C15: =C7 -> 대 | D15: =D7 -> 1 | G15: =G14 -> #REF! | H15: =INT(G15*D15) -> #REF! | K15: =F15+H15+J15 -> #REF! | L15: ='일위대가표(공통)'!A19 -> 센서 설치
A16: 신호변환기 철거 설치 | B16: =B9 -> 4~20mA, 2CH | C16: =C9 -> 대 | D16: =D9 -> 1 | G16: ='일위대가표(공통)'!K34 -> #REF! | H16: =INT(G16*D16) -> #REF! | L16: ='일위대가표(공통)'!A32 -> 제4호표
A17: =산출기초조사서!A13 -> 후렌지형 익스팬션죠인트 | B17: =산출기초조사서!B13 -> STS304, 150Ax300LxSCH10 | C17: =산출기초조사서!C13 -> 개 | D17: 1 | E17: =산출기초조사서!M13 -> 0 | F17: =INT(D17*E17) -> 0 | G17: ='일위대가표(공통)'!K40 -> #REF! | H17: =INT(G17*D17) -> #REF! | K17: =F17+H17+J17 -> #REF! | L17: ='일위대가표(공통)'!A36 -> 제5호표
A18: =산출기초조사서!A14 -> 후렌지형 단관(드레인 포함) | B18: =산출기초조사서!B14 -> STS304, 150Ax600LxSCH10 | C18: =산출기초조사서!C14 -> 개 | D18: 1 | E18: =산출기초조사서!M14 -> 0 | F18: =INT(D18*E18) -> 0 | G18: ='일위대가표(공통)'!K46 -> #REF! | H18: =INT(G18*D18) -> #REF! | K18: =F18+H18+J18 -> #REF! | L18: ='일위대가표(공통)'!A42 -> 제6호표
A19: =산출기초조사서!A15 -> 볼트 (STS304) | B19: =산출기초조사서!B15 -> M20×90L | C19: =산출기초조사서!C15 -> 개 | D19: 40 | E19: =산출기초조사서!M15 -> 0 | F19: =INT(D19*E19) -> 0 | H19: =INT(G19*D19) -> 0 | K19: =F19+H19+J19 -> 0 | L19: ='일위대가표(공통)'!A48 -> 제7호표
A20: =산출기초조사서!A16 -> 너트 (STS304) | B20: =산출기초조사서!B16 -> M20 | C20: =산출기초조사서!C16 -> 개 | D20: 40 | E20: =산출기초조사서!M16 -> 0 | F20: =INT(D20*E20) -> 0 | H20: =INT(G20*D20) -> 0 | K20: =F20+H20+J20 -> 0
A21: =산출기초조사서!A17 -> 평와샤 (STS304) | B21: =산출기초조사서!B17 -> M20 | C21: =산출기초조사서!C17 -> 개 | D21: 80 | E21: =산출기초조사서!M17 -> 0 | F21: =INT(D21*E21) -> 0 | H21: =INT(G21*D21) -> 0 | K21: =F21+H21+J21 -> 0 | L21: ='일위대가표(공통)'!#REF! -> #REF!
A22: =산출기초조사서!A18 -> 스프링평와샤 (STS304) | B22: =산출기초조사서!B18 -> M20 | C22: =산출기초조사서!C18 -> 개 | D22: 40 | E22: =산출기초조사서!M18 -> 0 | F22: =INT(D22*E22) -> 0 | H22: =INT(G22*D22) -> 0 | K22: =F22+H22+J22 -> 0 | L22: ='일위대가표(공통)'!#REF! -> #REF!
A23: =산출기초조사서!A19 -> 가스켓 | B23: =산출기초조사서!B19 -> 150A | C23: =산출기초조사서!C19 -> 개 | D23: 5 | E23: =산출기초조사서!M19 -> 0 | F23: =INT(D23*E23) -> 0 | H23: =INT(G23*D23) -> 0 | K23: =F23+H23+J23 -> 0 | L23: ='일위대가표(공통)'!#REF! -> #REF!
A24: =산출기초조사서!A20 -> 후렉시블 전선관 | B24: =산출기초조사서!B20 -> 고장력 방수 22mm | C24: =산출기초조사서!C20 -> M | D24: 5 | E24: =산출기초조사서!M20 -> 0 | F24: =INT(D24*E24) -> 0 | G24: ='일위대가표(공통)'!K50 -> #REF! | H24: =INT(G24*D24) -> #REF! | K24: =F24+H24+J24 -> #REF! | L24: ='일위대가표(공통)'!#REF! -> #REF!
A25: =산출기초조사서!A21 -> 후렉시블 커넥터 | B25: =산출기초조사서!B21 -> 22mm 아연도금 | C25: =산출기초조사서!C21 -> 개 | D25: 4 | E25: =산출기초조사서!M21 -> 0 | F25: =INT(D25*E25) -> 0 | H25: =INT(G25*D25) -> 0 | K25: =F25+H25+J25 -> 0 | L25: ='일위대가표(공통)'!#REF! -> #REF!
A26: 공구손료 | B26: 노무비의 3% | C26: % | D26: 3 | E26: =SUM(H13:H18) -> #REF! | F26: =E26*D26% -> #REF!
A27: ［ 소 계 ］ | F27: =SUM(F13:F26) -> #REF! | H27: =SUM(H13:H26) -> #REF! | J27: =SUM(J13:J26) -> 0 | K27: =+J27+H27+F27 -> #REF!
A29: =산출기초조사서!A23 -> 3. 고재처리비
A30: =산출기초조사서!A24 -> 고재처리비 | B30: =산출기초조사서!B24 -> 경량철 | C30: =산출기초조사서!C24 -> kg | D30: 30 | E30: =산출기초조사서!M24 -> 0 | F30: =INT(D30*E30) -> 0 | H30: =INT(G30*D30) -> 0 | K30: =F30+H30+J30 -> 0
A31: =산출기초조사서!A25 -> 고재처리비 | B31: =산출기초조사서!B25 -> SUS304 | C31: =산출기초조사서!C25 -> kg | D31: 30 | E31: =산출기초조사서!M25 -> 0 | F31: =INT(D31*E31) -> 0 | H31: =INT(G31*D31) -> 0 | K31: =F31+H31+J31 -> 0
A32: ［ 소 계 ］ | F32: =SUM(F30:F31) -> 0 | H32: =SUM(H30:H31) -> 0 | J32: =SUM(J30:J31) -> 0 | K32: =+J32+H32+F32 -> 0
A33: ［ 계 ］ | F33: =F10+F27+F32 -> #REF! | H33: =H10+H27+H32 -> #REF! | K33: =F33+H33 -> #REF!

Sheet 산출기초조사서
A1: 산 출 기 초 조 사 서
A2: 품 명 | B2: 규 격 | C2: 단위 | D2: 수량 | E2: 물가자료 1월호 | G2: 물가정보 1월호 | I2: 견적가격 | M2: 적용단가 | N2: 비 고
E3: 단가 | F3: 페이지 | G3: 단가 | H3: 페이지 | I3: 금액 | J3: A사 | K3: 금액 | L3: B사
A5: 1. 기자재비
A6: 전자식유량계 | B6: 150A | C6: 대 | D6: 1
A7: 초음파수위계 | B7: 일체형 | C7: 대 | D7: 1
A8: 레이더수위계 | B8: 일체형 | C8: 대 | D8: 1
A9: 포텐티오메타 | B9: 탱크 수위계 AS품 | C9: 대 | D9: 1
A10: 신호변환기 | B10: 4~20mA, 2CH | C10: 대 | D10: 1
A12: 2. 설치자재비
A13: 후렌지형 익스팬션죠인트 | B13: STS304, 150Ax300LxSCH10 | C13: 개 | D13: 1
A14: 후렌지형 단관(드레인 포함) | B14: STS304, 150Ax600LxSCH10 | C14: 개 | D14: 1
A15: 볼트 (STS304) | B15: M20×90L | C15: 개 | D15: 1
A16: 너트 (STS304) | B16: M20 | C16: 개 | D16: 1
A17: 평와샤 (STS304) | B17: M20 | C17: 개 | D17: 1
A18: 스프링평와샤 (STS304) | B18: M20 | C18: 개 | D18: 1
A19: 가스켓 | B19: 150A | C19: 개 | D19: 1
A20: 후렉시블 전선관 | B20: 고장력 방수 22mm | C20: M | D20: 1
A21: 후렉시블 커넥터 | B21: 22mm 아연도금 | C21: 개 | D21: 1
A23: 3. 고재처리비
A24: 고재처리비 | B24: 경량철 | C24: kg | D24: 1
A25: 고재처리비 | B25: SUS304 | C25: kg | D25: 1

Sheet 일위대가표(공통)
A1: 일 위 대 가 표 【 2026년 상반기- 한국물가정보 발행 綜合 積算情報 一位代價 기준 】
A2: 종 별 | B2: 규 격 | C2: 단 위 | D2: 수 량 | E2: 재 료 비 | G2: 노 무 비 | I2: 경 비 | K2: 합 계 | L2: 비 고
E3: 단 가 | F3: 금 액 | G3: 단 가 | H3: 금 액 | I3: 단 가 | J3: 금 액
A4: 【 전기 및 계측기 】
A5: 제1호표 | B5: 전자식 유량계 철거 설치 150mm(대당)
A6: 변환기 설치 | B6: 통신설비공 0.15인(철거 40%) | C6: 인 | D6: =0.15*1.4 -> 0.21 | G6: =#REF! -> #REF! | H6: =+G6*D6 -> #REF! | K6: =+H6 -> #REF! | L6: 정통 9-3-2-2
B7: 특별인부 0.15인(철거 40%) | C7: 인 | D7: =0.15*1.4 -> 0.21 | G7: =#REF! -> #REF! | H7: =+G7*D7 -> #REF! | K7: =+H7 -> #REF!
A8: 센서 설치(150mm) | B8: 배관공 0.533인 | C8: 인 | D8: 0.533 | G8: =#REF! -> #REF! | H8: =+G8*D8 -> #REF! | K8: =+H8 -> #REF! | L8: 기계 6-1-1
B9: 보통인부 0.533인 | C9: 인 | D9: 0.533 | G9: =#REF! -> #REF! | H9: =+G9*D9 -> #REF! | K9: =+H9 -> #REF!
B10: 공구손료(노무비의 1%) | C10: % | D10: 1 | G10: =H8+H9 -> #REF! | H10: =G10*D10% -> #REF! | K10: =+H10 -> #REF!
A11: 센서 철거(150mm) | B11: 배관공 0.533인 | C11: 인 | D11: 0.533 | G11: =G8 -> #REF! | H11: =+G11*D11 -> #REF! | K11: =+H11 -> #REF! | L11: 기계 6-1-1
B12: 보통인부 0.533인 | C12: 인 | D12: 0.533 | G12: =G9 -> #REF! | H12: =+G12*D12 -> #REF! | K12: =+H12 -> #REF!
B13: 공구손료(노무비의 1%) | C13: % | D13: 1 | G13: =H11+H12 -> #REF! | H13: =G13*D13% -> #REF! | K13: =+H13 -> #REF!
A14: 시험 | B14: 통신설비공 0.11인 | C14: 인 | D14: 0.11 | G14: =G6 -> #REF! | H14: =+G14*D14 -> #REF! | K14: =+H14 -> #REF! | L14: 정통 9-3-2-2
B15: 특별인부 0.11인 | C15: 인 | D15: 0.11 | G15: =G7 -> #REF! | H15: =+G15*D15 -> #REF! | K15: =+H15 -> #REF!
A16: 합 계 | H16: =SUM(H6:H15) -> #REF! | K16: =F16+H16+J16 -> #REF!
A18: 제2호표 | B18: 초음파수위계 철거 설치(대당)
A19: 센서 설치 | B19: 통신설비공 0.10(철거 40%) | C19: 인 | D19: =0.1*1.4 -> 0.14 | G19: =G6 -> #REF! | H19: =+G19*D19 -> #REF! | K19: =+H19 -> #REF! | L19: 정통 9-3-2-1
B20: 특별인부 0.10(철거 40%) | C20: 인 | D20: =0.1*1.4 -> 0.14 | G20: =G7 -> #REF! | H20: =+G20*D20 -> #REF! | K20: =+H20 -> #REF!
A21: 시험 | B21: 통신설비공 0.09 | C21: 인 | D21: 0.09 | G21: =G19 -> #REF! | H21: =+G21*D21 -> #REF! | K21: =+H21 -> #REF! | L21: 정통 9-3-2-1
B22: 특별인부 0.09 | C22: 인 | D22: 0.09 | G22: =G20 -> #REF! | H22: =+G22*D22 -> #REF! | K22: =+H22 -> #REF!
A23: 합 계 | H23: =SUM(H19:H22) -> #REF! | K23: =+H23 -> #REF!
A25: 제3호표 | B25: 레이더수위계 철거 설치(대당)
A26: 센서 설치 | B26: 통신설비공 0.10(철거 40%) | C26: 인 | D26: =0.1*1.4 -> 0.14 | G26: =G19 -> #REF! | H26: =+G26*D26 -> #REF! | K26: =+H26 -> #REF! | L26: 정통 9-3-2-1
B27: 특별인부 0.10(철거 40%) | C27: 인 | D27: =0.1*1.4 -> 0.14 | G27: =G20 -> #REF! | H27: =+G27*D27 -> #REF! | K27: =+H27 -> #REF!
A28: 시험 | B28: 통신설비공 0.09 | C28: 인 | D28: 0.09 | G28: =G21 -> #REF! | H28: =+G28*D28 -> #REF! | K28: =+H28 -> #REF! | L28: 정통 9-3-2-1
B29: 특별인부 0.09 | C29: 인 | D29: 0.09 | G29: =G22 -> #REF! | H29: =+G29*D29 -> #REF! | K29: =+H29 -> #REF!
A30: 합 계 | H30: =SUM(H26:H29) -> #REF! | K30: =+H30 -> #REF!
A32: 제4호표 | B32: 신호변환기 철거 설치(대당)
A33: 계기 | B33: 계장공 0.3(철거 40%) | C33: 인 | D33: =0.3*1.4 -> 0.42 | G33: =#REF! -> #REF! | H33: =+G33*D33 -> #REF! | K33: =+H33 -> #REF! | L33: 전기 6-2
A34: 합 계 | H34: =SUM(H33:H33) -> #REF! | K34: =+H34 -> #REF!
A36: 제5호표 | B36: 후렉시블 익스팬션죠인트 설치(개당)
A37: =산출기초조사서!B13 -> STS304, 150Ax300LxSCH10 | B37: 배관공 0.696 | C37: 인 | D37: =0.696 -> 0.696 | G37: =G11 -> #REF! | H37: =+G37*D37 -> #REF! | K37: =+H37 -> #REF! | L37: 기계 5-3-2
B38: 보통인부 0.237 | C38: 인 | D38: =0.237 -> 0.237 | G38: =G12 -> #REF! | H38: =+G38*D38 -> #REF! | K38: =+H38 -> #REF!
B39: 공구손료(노무비의 2%) | C39: % | D39: 2 | G39: =H37+H38 -> #REF! | H39: =G39*D39% -> #REF! | K39: =+H39 -> #REF!
A40: 합 계 | H40: =SUM(H37:H39) -> #REF! | K40: =+H40 -> #REF!
A42: 제6호표 | B42: 후렌지형 단관 설치(개당)
A43: =산출기초조사서!B14 -> STS304, 150Ax600LxSCH10 | B43: 배관공 0.696(플렉시블 품셈 적용) | C43: 인 | D43: =0.696 -> 0.696 | G43: =G37 -> #REF! | H43: =+G43*D43 -> #REF! | K43: =+H43 -> #REF! | L43: 기계 5-3-2
B44: 보통인부 0.237(플렉시블 품셈 적용) | C44: 인 | D44: =0.237 -> 0.237 | G44: =G38 -> #REF! | H44: =+G44*D44 -> #REF! | K44: =+H44 -> #REF!
B45: 공구손료(노무비의 2%) | C45: % | D45: 2 | G45: =G39 -> #REF! | H45: =G45*D45% -> #REF! | K45: =+H45 -> #REF!
...
