Workbook
Name ____HPP1: #REF!
Name ____JB1: #REF!
Name ___GJP1: #REF!
Name ___HPP1: #REF!
Name ___HSH1: #REF!
Name ___HSH2: #REF!
Name ___JB1: #REF!
Name ___JS1: #REF!
Name ___JS2: #REF!
Name ___LS1: #REF!
Name ___LS2: #REF!
Name ___LS3: #REF!
Name ___LS4: #REF!
Name ___NP1: #REF!
Name ___NP2: #REF!
Name ___NS1: #REF!
Name ___NS2: #REF!
Name ___NS3: #REF!
Name ___NS4: #REF!
Name ___NSH1: #REF!
Name ___NSH2: #REF!
Name ___pa1: #REF!
Name ___pa2: #REF!
Name ___pl1: #REF!
Name ___PL2: #REF!
Name ___PL3: #REF!
Name ___SA1: #REF!
Name ___SBB1: #REF!
Name ___SBB2: #REF!
Name ___SBB3: #REF!
Name ___SBB4: #REF!
Name ___SBB5: #REF!
Name ___SHH1: #REF!
Name ___SHH2: #REF!
Name ___SHH3: #REF!
Name ___SS1: #REF!
Name ___SS2: #REF!
Name ___TC1: #REF!
Name ___TC2: #REF!
Name ___Ted1: #REF!
Name ___Ts1: #REF!
Name ___TW1: #REF!
Name ___TW2: #REF!
Name ___WC1: #REF!
Name __GJP1: #REF!
Name __HPP1: #REF!
Name __HSH1: #REF!
Name __HSH2: #REF!
Name __JB1: #REF!
Name __JS1: #REF!
Name __JS2: #REF!
Name __LS1: #REF!
Name __LS2: #REF!
Name __LS3: #REF!
Name __LS4: #REF!
Name __NP1: #REF!
Name __NP2: #REF!
Name __NS1: #REF!
Name __NS2: #REF!
Name __NS3: #REF!

Sheet 표지
A2: 2026년
B6: 사곡리 취약지역생활여건개조사업 건축공사
B8: 재해예방기술지도 용역비 산출내역서
B17: 한국농어촌공사 예천지사

Sheet 갑지
A1: 설계일자 | D1: 설 계 자 | G1: 담 당 | J1: 팀 장 | M1: 과 장
A2: 2022년 06월 일
A5: 2026년도
A7: 사곡리 취약지역생활여건개조사업 건축공사 재해예방기술지도
C10: 소 재 지: | F10: 경북 예천군 효자면 사곡리 일원
C12: 사 업 개 요: | F12: =A7 -> 사곡리 취약지역생활여건개조사업 건축공사 재해예방기술지도
C15: 용역기간(총괄) : | F15: 계약일로부터 ~ 2027.12.24
C16: 용역기간(당해) : | F16: 계약일로부터 ~ 2026.12.24
C18: 용 역 비(총괄) : | F18: ="일금 "&NUMBERSTRING(원가계산서!E11,1)&"원정" -> 일금 일천일백팔십팔만원정 | K18: (\ | L18: =원가계산서!E11 -> 11880000 | N18: )
C19: 용 역 비(당해) : | F19: ="일금 "&NUMBERSTRING(원가계산서!G11,1)&"원정" -> 일금 삼백육십삼만원정 | K19: (\ | L19: =원가계산서!G11 -> 3630000 | N19: )

Sheet 원가계산서
A2: 예정금액 산출
A4: 사곡리 취약지역생활여건개조사업 건축공사 재해예방기술지도
A5: 품 명 | E5: 산출(총괄) | G5: 산출(당해) | I5: 비 고
A6: 1. 착공일(예정) | E6: 46203 | F6: 일 | G6: 46203 | H6: 일
A7: 2. 준공일(예정) | E7: 46745 | F7: 일 | G7: 46380 | H7: 일
A8: 3. 공사기간 산출 | E8: =DATEDIF(E6,E7,"d") -> 542 | F8: 일 | G8: =DATEDIF(G6,G7,"d") -> 177 | H8: 일
A9: 4. 기술지도 횟수 | E9: =INT(E8/15) -> 36 | F9: 회 | G9: =INT(G8/15) -> 11 | H9: 회 | I9: 공사기간(일)/15일
A10: 5. 예정금액 | E10: ='단가 산정표'!E21*E9 -> 11880000 | F10: 원 | G10: ='단가 산정표'!E21*G9 -> 3630000 | H10: 원 | I10: 부가세포함
A11: 총 용역금액 | E11: =E10 -> 11880000 | F11: 원 | G11: =G10 -> 3630000 | H11: 원
G20: =E11-G11 -> 8250000

Sheet 단가 산정표
B1: 건설공사 재해예방기술지도 단가 산정표(2026년)
B3: □ 기술지도 1인당 일 방문 현장 수 & 직접 인건비 (금액단위: 원)
B4: 항목 | D4: 3억원 미만 | E4: 3억원 이상 ~20억원 미만 | F4: 20억원 이상 ~40억원 미만 | G4: 40억원 이상 | H4: 비고
B5: 기술자 노임단가 (한국엔지니어링협회 임금실태조사, 2025) | D5: 295138 | E5: 295138 | F5: 310884 | G5: =O19 -> 330425.62 | H5: ▷3억미만:중급 ▷3~20억:중급 ▷20~40억:고급 ▷40억 이상: (고급7회+기술사1회)/8
B6: 일 기술지도 현장 수 | D6: 4개 (=80개소 /20일) | E6: 3.00 (=60개소 /20일) | F6: 2.50 (=50개소 /20일) | G6: 2.00 (=40개소 /20일) | H6: ▷월 최대 80개소 ▷일 최대 4개소
B7: 1회당 직접인건비 | D7: =D5/4 -> 73784.5 | E7: =E5/3 -> 98379.333 | F7: =F5/2.5 -> 124353.6 | G7: =G5/2 -> 165212.81
B9: □ 기술지도 1회당 단가 (금액단위: 원)
B10: 항목 | D10: 3억원 미만 | E10: 3억원 이상 ~20억원 미만 | F10: 20억원 이상 ~40억원 미만 | G10: 40억원 이상 | H10: 비고
B11: 1) 직접인건비 | D11: =D7 -> 73784.5 | E11: =E7 -> 98379.333 | F11: =F7 -> 124353.6 | G11: =G7 -> 165212.81
B12: 2) 직접경비 | D12: 30000 | E12: 30000 | F12: 30000 | G12: 30000 | H12: 여비 등
B13: 3) 제경비 (직접인건비의 110~120%) | D13: =D11*1.15 -> 84852.175 | E13: =E11*1.15 -> 113136.23 | F13: =F11*1.15 -> 143006.64 | G13: =G11*1.15 -> 189994.73 | H13: 1.15
B14: 4) 기술료 (직접인건비+제경비 합의 20~40%) | D14: =(D11+D13)*0.3 -> 47591.002 | E14: =(E11+E13)*0.3 -> 63454.67 | F14: =(F11+F13)*0.3 -> 80208.072 | G14: =(G11+G13)*0.3 -> 106562.26 | H14: 0.3
B15: 5) 합계 (1)+2)+3)+4)) | D15: =TRUNC(INT(SUM(D11:D14)),-4) -> 230000 | E15: =TRUNC(INT(SUM(E11:E14)),-4) -> 300000 | F15: =TRUNC(INT(SUM(F11:F14)),-4) -> 370000 | G15: =TRUNC(INT(SUM(G11:G14)),-4) -> 490000 | H15: 만원이하 절삭
B16: 6) 부가가치세 ( 5)*10%) | D16: =D15*0.1 -> 23000 | E16: =E15*0.1 -> 30000 | F16: =F15*0.1 -> 37000 | G16: =G15*0.1 -> 49000 | H16: 0.1
B17: 적용단가( 5)+6) ) | D17: =INT(D15+D16) -> 253000 | E17: =E15+E16 -> 330000 | F17: =F15+F16 -> 407000 | G17: =G15+G16 -> 539000
L18: 310884 | M18: 467217
B19: # (참고) 계약기간별 단가표 (금액단위: 원) | L19: =L18*7 -> 2176188 | M19: =M18 -> 467217 | N19: =L19+M19 -> 2643405 | O19: =N19/8 -> 330425.62
B20: 항목 | D20: 3억원 미만 | E20: 3억원 이상 ~20억원 미만 | F20: 20억원 이상 ~40억원 미만 | G20: 40억원 이상 | H20: 비고
B21: 회당단가(1회 기준) | D21: =D17 -> 253000 | E21: =E17 -> 330000 | F21: =F17 -> 407000 | G21: =G17 -> 539000
B22: 월별단가(2회 기준) | D22: =D21*2 -> 506000 | E22: =E21*2 -> 660000 | F22: =F21*2 -> 814000 | G22: =G21*2 -> 1078000
B23: 연간단가(24회 기준) | D23: =D22*12 -> 6072000 | E23: =E22*12 -> 7920000 | F23: =F22*12 -> 9768000 | G23: =G22*12 -> 12936000

Sheet Sheet1
B1: 건설공사 재해예방기술지도 단가 산정표
B3: □ 기술지도 1인당 일 방문 현장 수 & 직접 인건비 (금액단위: 원)
B4: 항목 | D4: 3억원 미만 | E4: 3억원 이상 ~20억원 미만 | F4: 20억원 이상 ~40억원 미만 | G4: 40억원 이상 | H4: 비고
B5: 기술자 노임단가 (한국엔지니어링협회 임금실태조사, 2022) | D5: 261571 | E5: 261571 | F5: 282545 | G5: =O19 -> 301281.88 | H5: ▷3억미만:중급 ▷3~20억:중급 ▷20~40억:고급 ▷40억 이상: (고급7회+기술사1회)/8
B6: 일 기술지도 현장 수 | D6: 4개 (=80개소 /20일) | E6: 3.00 (=60개소 /20일) | F6: 2.50 (=50개소 /20일) | G6: 2.00 (=40개소 /20일) | H6: ▷월 최대 80개소 ▷일 최대 4개소
B7: 1회당 직접인건비 | D7: =D5/4 -> 65392.75 | E7: =E5/3 -> 87190.333 | F7: =F5/2.5 -> 113018 | G7: =G5/2 -> 150640.94
B9: □ 기술지도 1회당 단가 (금액단위: 원)
B10: 항목 | D10: 3억원 미만 | E10: 3억원 이상 ~20억원 미만 | F10: 20억원 이상 ~40억원 미만 | G10: 40억원 이상 | H10: 비고
B11: 1) 직접인건비 | D11: =D7 -> 65392.75 | E11: =E7 -> 87190.333 | F11: =F7 -> 113018 | G11: =G7 -> 150640.94
B12: 2) 직접경비 | D12: 30000 | E12: 30000 | F12: 30000 | G12: 30000 | H12: 여비 등
B13: 3) 제경비 (직접인건비의 110~120%) | D13: =D11*1.15 -> 75201.662 | E13: =E11*1.15 -> 100268.88 | F13: =F11*1.15 -> 129970.7 | G13: =G11*1.15 -> 173237.08 | H13: 1.15
B14: 4) 기술료 (직접인건비+제경비 합의 20~40%) | D14: =(D11+D13)*0.3 -> 42178.324 | E14: =(E11+E13)*0.3 -> 56237.765 | F14: =(F11+F13)*0.3 -> 72896.61 | G14: =(G11+G13)*0.3 -> 97163.405 | H14: 0.3
B15: 5) 합계 (1)+2)+3)+4)) | D15: =INT(SUM(D11:D14))-2772 -> 210000 | E15: =INT(SUM(E11:E14))-3696 -> 270000 | F15: =INT(SUM(F11:F14))-5885 -> 340000 | G15: =INT(SUM(G11:G14))-1041 -> 450000 | H15: 만원이하 절삭
B16: 6) 부가가치세 ( 5)*10%) | D16: =D15*0.1 -> 21000 | E16: =E15*0.1 -> 27000 | F16: =F15*0.1 -> 34000 | G16: =G15*0.1 -> 45000
B17: 적용단가( 5)+6) ) | D17: =INT(D15+D16) -> 231000 | E17: =E15+E16 -> 297000 | F17: =F15+F16 -> 374000 | G17: =G15+G16 -> 495000
L18: 282545 | M18: 432440
B19: # (참고) 계약기간별 단가표 (금액단위: 원) | L19: =L18*7 -> 1977815 | M19: =M18 -> 432440 | N19: =L19+M19 -> 2410255 | O19: =N19/8 -> 301281.88
B20: 항목 | D20: 3억원 미만 | E20: 3억원 이상 ~20억원 미만 | F20: 20억원 이상 ~40억원 미만 | G20: 40억원 이상 | H20: 비고
B21: 회당단가(1회 기준) | D21: =D17 -> 231000 | E21: =E17 -> 297000 | F21: =F17 -> 374000 | G21: =G17 -> 495000
B22: 월별단가(2회 기준) | D22: =D21*2 -> 462000 | E22: =E21*2 -> 594000 | F22: =F21*2 -> 748000 | G22: =G21*2 -> 990000
B23: 연간단가(24회 기준) | D23: =D22*12 -> 5544000 | E23: =E22*12 -> 7128000 | F23: =F22*12 -> 8976000 | G23: =G22*12 -> 11880000
