Workbook
Name _1._PANEL_BD.__LP___1: #REF!
Name _1218000897: #REF!
Name _9연봉입력: #REF!
Name _IJ66980: #REF!
Name _LP1: #REF!
Name _LP2: #REF!
Name _NON1: #REF!
Name _SUB1: #REF!
Name _SUB2: #REF!
Name _TOT2: #REF!
Name _건축목공: #REF!
Name \0: #REF!
Name \b: #REF!
Name \g: #REF!
Name \h: #REF!
Name \j: #REF!
Name \k: #REF!
Name \l: #REF!
Name \m: #REF!
Name \n: #REF!
Name A0: #REF!
Name aa: #REF!
Name AAAA: #REF!
Name AB: #REF!
Name AB_1: #REF!
Name ACCESS중급: #REF!
Name ACCESS초급: #REF!
Name aqsswsss: #REF!
Name AV: #REF!
Name BEGIN1: #REF!
Name CCC: #REF!
Name CKSP: #REF!
Name CODE: #REF!
Name COMB: #REF!
Name DANGA: #REF!,#REF!
Name danga2: #REF!,#REF!
Name DATABAS: #REF!
Name database2: #REF!
Name Db: #REF!
Name dfsd: #REF!
Name dustmq: #REF!
Name EQU_EXHAUST: #REF!
Name EXCEL고급: #REF!
Name EXCEL중급: #REF!
Name Extract_MI: #REF!
Name fdgz: #REF!
Name FEEL: #REF!
Name ff: #REF!
Name GONGJONG: #REF!
Name HEC: #REF!
Name HWP: #REF!
Name ID: #REF!,#REF!
Name INTERNET중급: #REF!
Name INTERNET초급: #REF!
Name KSVT: #REF!
Name LAST1: #REF!
Name LOOP: #REF!
Name LOOP1: #REF!
Name LOOP2: #REF!
Name LOOP3: #REF!

Sheet 총괄내역서
A1: 총 괄 내 역 서
A2: 건명 : 문경중앙시장 LED전광판 제작설치
A3: 품 명 | B3: 규 격 | C3: 단위 | D3: 수량 | E3: 재 료 비 | G3: 노 무 비 | I3: 경 비 | K3: 합 계 | L3: 비고
E4: 단 가 | F4: 금 액 | G4: 단 가 | H4: 금 액 | I4: 단 가 | J4: 금 액
A5: 전광판 제작 부분
A6: =설계내역!A5 -> 1. 전광판 표시부 | C6: 식 | D6: 1 | G6: =설계내역!H16 -> 0 | H6: =D6*G6 -> 0 | I6: =설계내역!J16 -> 0 | J6: =SUM(I6) -> 0 | K6: =F6+H6+J6 -> 0
A8: 계 | K8: =SUM(K6:K7) -> 0
A9: 부가가치세 | C9: % | D9: 10 | K9: =K8*0.1 -> 0
A10: 소계 | C10: 식 | D10: 1 | K10: =TRUNC(SUM(K8:K9),-4) -> 0 | L10: 천단위 절사
A21: 합 계 | K21: =TRUNC(SUM(K10:K12),-4) -> 0 | L21: 천단위 절사

Sheet 설계내역
A1: 설 계 내 역 서
A2: 건명 : 문경중앙시장 LED전광판 제작설치
A3: 품 명 | B3: 규 격 | C3: 단위 | D3: 수량 | E3: 재 료 비 | G3: 노 무 비 | I3: 경 비 | K3: 금 액 | L3: 비고
E4: 단 가 | F4: 금 액 | G4: 단 가 | H4: 금 액 | I4: 단가 | J4: 금액
A5: =수량산출서!A4 -> 1. 전광판 표시부
A6: =수량산출서!A5 -> LED MODULE | B6: =수량산출서!B5 -> FULL Color LED(320x160mm) / KC인증 | C6: =수량산출서!C5 -> EA | D6: 101 | F6: =TRUNC(E6*D6) -> 0 | K6: =F6+H6+J6 -> 0
A7: =수량산출서!A7 -> MAIN CONTROLLER | B7: =수량산출서!B7 -> 256BIT | C7: =수량산출서!C7 -> SET | D7: =수량산출서!D7 -> 1 | F7: =TRUNC(E7*D7) -> 0 | K7: =F7+H7+J7 -> 0
A8: =수량산출서!A8 -> SUB CONTROLLER | B8: =수량산출서!B8 -> LED섹센 | C8: =수량산출서!C8 -> EA | D8: 18 | F8: =TRUNC(E8*D8) -> 0 | K8: =F8+H8+J8 -> 0
A9: =수량산출서!A9 -> POWER SUPPLY | B9: =수량산출서!B9 -> DC5V/ 1.5KW | C9: =수량산출서!C9 -> EA | D9: 18 | F9: =TRUNC(E9*D9) -> 0 | K9: =F9+H9+J9 -> 0
A16: 소계 | F16: =SUM(F5:F15) -> 0 | H16: =SUM(H5:H15) -> 0 | J16: =SUM(J5:J15) -> 0 | K16: =SUM(K6:K15) -> 0 | N16: =F16+H16+J16 -> 0 | O16: =N16-K16 -> 0
N25: =F25+H25+J25 -> 0 | O25: =N25-K25 -> 0
A27: 계 | F27: =SUM(F16,F25) -> 0 | H27: =SUM(H16,H25) -> 0 | J27: =SUM(J16,J25) -> 0 | K27: =SUM(K16,K25) -> 0 | N27: =F27+H27+J27 -> 0 | O27: =N27-K27 -> 0
K28: =F27+H27+J27 -> 0

Sheet 수량산출서
A1: 수 량 산 출 서
A2: 건명 : 문경중앙시장 LED전광판 제작설치
A3: 품 명 | B3: 규 격 | C3: 단위 | D3: 수량 | E3: 산 출 기 초 | F3: 소계 | G3: 할증 | H3: 계 | I3: 비고
A4: 1. 전광판 표시부
A5: LED MODULE | B5: FULL Color LED(320x160mm) / KC인증 | C5: EA | D5: 96 | E5: - Module Size : W320mm ×H160mm - Dot : 32 × 16 dot - Module 수량 : 1SET:140EA - Pixel/LED : R(1). P/G(1), B(1) | F5: 140 | G5: 0 | H5: =F5+G5 -> 140
A6: LED MODULE (예비품) | B6: FULL Color LED(320x160mm) | C6: EA | D6: 5 | E6: - 예비비품 20개 | F6: 20 | H6: =SUM(F6:G6) -> 20
A7: MAIN CONTROLLER | B7: 256BIT | C7: SET | D7: 1 | E7: - 1SET : 1ES | F7: =D7 -> 1 | G7: 0 | H7: =F7+G7 -> 1
A8: SUB CONTROLLER | B8: LED섹센 | C8: EA | D8: 18 | E8: - 1SET : 36EA | F8: =D8 -> 18 | G8: 0 | H8: =F8+G8 -> 18
A9: POWER SUPPLY | B9: DC5V/ 1.5KW | C9: EA | D9: 18 | E9: - 1SET : 12EA | F9: =D9 -> 18 | G9: 0 | H9: =F9+G9 -> 18
A37: 기초공사 | B37: 3000mm*3000mm*1600mm | C37: 개 | D37: 2 | F37: 2 | H37: 2
