Workbook
Name _1_: '[1]집계표(육상)'!#REF!
Name _10: #REF!
Name _10_3_0Crite: #REF!
Name _11: #REF!
Name _11_3_0Criteria: #REF!
Name _12_6: #REF!
Name _13_7: #REF!
Name _14_8: #REF!
Name _15_9: #REF!
Name _16a1_: #REF!
Name _17B2_: '[2]단면 (2)'!$K$55
Name _18C_: #REF!
Name _19G_0Extr: #REF!
Name _20G_0Extract: #REF!
Name _21L1_: '[3]U-TYPE(1)'!$F$10
Name _22P1_: '[4]Sheet1 (2)'!#REF!
Name _23P2_: '[5]Sheet1 (2)'!#REF!
Name _24t3_: #REF!
Name _25T4_: #REF!
Name _26t5_: #REF!
Name _29옹벽부용수: [1]지급자재!#REF!
Name _2C_: #REF!
Name _6: #REF!
Name _6_0옹벽부용수: [1]지급자재!#REF!
Name _7: #REF!
Name _7_10: #REF!
Name _8: #REF!
Name _8_11: #REF!
Name _9: #REF!
Name _a1: #REF!
Name _B2: '[6]단면 (2)'!$K$55
Name _C: #REF!
Name _L1: '[2]U-TYPE(1)'!$F$10
Name _P1: '[7]Sheet1 (2)'!#REF!
Name _P2: '[4]Sheet1 (2)'!#REF!
Name _t3: #REF!
Name _T4: #REF!
Name _t5: #REF!

Sheet 표지,목차
B3: 국도26호선 진안 부귀교차로 등 2개소 병목지점 개선공사
B4: 설계서
A11: 2026. 7
E20: 국토교통부

Sheet 수량표지 
A4: ='표지,목차'!B3 -> 국도26호선 진안 부귀교차로 등 2개소 병목지점 개선공사
A5: 수량산출서
A13: ='표지,목차'!A11 -> 2026. 7
C25: 국토교통부
C26: 남원국토관리사무소

Sheet 목차
A4: 목 차
A10: 1 . 총 괄 집 계 표 | K10: =A10 -> 1 . 총 괄 집 계 표 | U10: =A12 -> 2 . 보수물량 수량산출 | AE10: =A14 -> 0 | AO10: =A16 -> 0
A12: 2 . 보수물량 수량산출

Sheet 단가표지
A4: ='표지,목차'!B3 -> 국도26호선 진안 부귀교차로 등 2개소 병목지점 개선공사
A5: 단가산출서
A13: ='표지,목차'!A11 -> 2026. 7
C25: 국토교통부
C26: 전주국토관리사무소
A31: 목 차
C34: ◈ 노 무 단 가
C36: ◈ 자 재 단 가
C38: ◈ 견 적 단 가
C40: ◈ 일 위 대 가
C42: ◈ 단 가 산 출
C44: ◈ 중 기 산 출

Sheet 단가간지
A1: =단가표지!C34 -> ◈ 노 무 단 가
A2: =단가표지!C36 -> ◈ 자 재 단 가
A3: =단가표지!C38 -> ◈ 견 적 단 가
A4: =단가표지!C40 -> ◈ 일 위 대 가
A5: =단가표지!C42 -> ◈ 단 가 산 출
A6: =단가표지!C44 -> ◈ 중 기 산 출

Sheet 예정공정, 인력동원
A1: 예 정 공 정 표
A4: 기 간 | D4: 보 할 ( % ) | F4: 90 | H4: =$F$4+F4 -> 180 | J4: =$F$4+H4 -> 270 | L4: =$F$4+J4 -> 360 | N4: =$F$4+L4 -> 450 | P4: =$F$4+N4 -> 540 | R4: 비 고
A5: 공 종
A6: 토 공 | D6: 0.04 | F6: 0.01 | H6: =F6 -> 0.01 | J6: =H6 -> 0.01 | L6: =D6-F6-H6-J6 -> 0.01 | R6: 12402444 | U6: 0.04 | W6: =R6/R16 -> 0.039993225 | X6: =W6/4 -> 0.0099983061 | AC6: 0.126 | AE6: 0.126 | AG6: 0.126 | AI6: 0.126 | AK6: 0.126 | AM6: =SUM(AC6:AL6) -> 0.63
R7: 189514 | AC7: 12.6 | AE7: 12.6 | AG7: 12.6 | AI7: 12.6 | AK7: 12.6 | AM7: =SUM(AC7:AL7) -> 63
A8: 배수공 | D8: 0.085 | H8: 0.028 | J8: =H8 -> 0.028 | L8: =D8-H8-J8 -> 0.029 | R8: 26361683 | U8: 0.085 | W8: =R8/R16 -> 0.085006528 | X8: =W8/3 -> 0.028335509
R9: 189514
A10: 구조물공 | D10: 0.26 | J10: 0.087 | L10: =J10 -> 0.087 | N10: =D10-J10-L10 -> 0.086 | R10: 81322276 | U10: 0.26 | W10: =R10/R16 -> 0.2622338 | X10: =W10/3 -> 0.087411267
R11: 289188
A12: 포장공 | D12: 0.476 | L12: 0.158 | N12: =L12 -> 0.158 | P12: =D12-L12-N12 -> 0.16 | R12: 147170283 | U12: 0.476 | W12: =R12/R16 -> 0.4745689 | X12: =W12/3 -> 0.15818963
R13: 2121771
A14: 부대공 | D14: 0.139 | F14: 0.023 | H14: =F14 -> 0.023 | J14: =F14 -> 0.023 | L14: =F14 -> 0.023 | N14: =F14 -> 0.023 | P14: =D14-F14-H14-J14-L14-N14 -> 0.024 | R14: 42856943 | U14: 0.139 | W14: =R14/R16 -> 0.13819755 | X14: =W14/6 -> 0.023032925 | AC14: 13.6 | AD14: 13.6 | AE14: 13.7 | AF14: 13.7 | AG14: 13.7 | AH14: 13.7 | AJ14: =SUM(AC14:AI14) -> 82
U15: =SUM(U6:U14) -> 1 | AC15: 3 | AD15: 3 | AE15: 3 | AF15: 3 | AG15: 3 | AH15: 3 | AJ15: =SUM(AC15:AI15) -> 18
A16: 계 | D16: =D6+D14+D10 -> 0.439 | F16: =F6+F14+F10+F12+F8 -> 0.033 | H16: =H6+H14+H10+H12+H8 -> 0.061 | J16: =J6+J14+J10+J12+J8 -> 0.148 | L16: =L6+L14+L10+L12+L8 -> 0.307 | N16: =N6+N14+N10+N12+N8 -> 0.267 | P16: =P6+P14+P10+P12+P8 -> 0.184 | R16: 310113629 | AJ16: =SUM(AJ14:AJ15) -> 100
A18: 누 계 | D18: =D16 -> 0.439 | F18: =F16 -> 0.033 | H18: =F18+H16 -> 0.094 | J18: =H18+J16 -> 0.242 | L18: =J18+L16 -> 0.549 | N18: =L18+N16 -> 0.816 | P18: =N18+P16 -> 1
A22: 동 원 인 원 계 획 표
A25: 기 간 | F25: =F4 -> 90 | H25: =H4 -> 180 | J25: =J4 -> 270 | L25: =L4 -> 360 | N25: =N4 -> 450 | P25: =P4 -> 540 | R25: 합 계 | U25: =내역서!J176 -> 154668680 | V25: 150000 | W25: =U25/(V25+V26)/2 -> 234.34648 | X25: =W25*40% -> 93.738594
A26: 공 종 | V26: 180000 | X26: =W25-X25 -> 140.60789
A27: 보통인부 | D27: 93 | F27: =ROUND($D27*F16,0) -> 3 | H27: =ROUND($D27*H16,0) -> 6 | J27: =ROUND($D27*J16,0) -> 14 | L27: =ROUND($D27*L16,0) -> 29 | N27: =ROUND($D27*N16,0) -> 25 | P27: =ROUND($D27*P16,0)-1 -> 16 | R27: =SUM(F27:Q28) -> 93
A29: 특별인부 | D29: 140 | F29: =ROUND($D29*F16,0) -> 5 | H29: =ROUND($D29*H16,0) -> 9 | J29: =ROUND($D29*J16,0) -> 21 | L29: =ROUND($D29*L16,0) -> 43 | N29: =ROUND($D29*N16,0)+1 -> 38 | P29: =ROUND($D29*P16,0)-2 -> 24 | R29: =SUM(F29:Q30) -> 140
A31: 소 계 | D31: =SUM(D27:E30) -> 233 | F31: =SUM(F27:G30) -> 8 | H31: =SUM(H27:I30) -> 15 | J31: =SUM(J27:K30) -> 35 | L31: =SUM(L27:M30) -> 72 | N31: =SUM(N27:O30) -> 63 | P31: =SUM(P27:Q30) -> 40 | R31: =R27+R29 -> 233
A33: 누 계 | F33: =F31 -> 8 | H33: =F33+H31 -> 23 | J33: =H33+J31 -> 58 | L33: =J33+L31 -> 130 | N33: =L33+N31 -> 193 | P33: =N33+P31 -> 233

Sheet 갑지-출력X
A1: 2 0 2 0 년 0 2 월 일 설 계 | M1: 설 계 자 | S1: 심 사 자 | Y1: 과 장 | AE1: 소 장
B4: 2020 년도
A6: ='표지,목차'!B3 & " 설계예산서" -> 국도26호선 진안 부귀교차로 등 2개소 병목지점 개선공사 설계예산서
B10: ◈ 공 사 개 요 | Q10: ◈ 공 사 금 액
R12: ○ 총 공 사 비 | X12: : | Y12: 일금 | AA12: =AA14+AA20+AA22+AA24 -> 843900000 | AF12: 원정 | AL12: =AL14+AL20+AL22 -> 683511600
W14: - 도 급 예 정 액 | X14: : | Y14: 일금 | AA14: =AA16+AA18 -> 587400000 | AF14: 원정 | AL14: =AA14*0.876 -> 514562400
T16: 공 급 가 액 | X16: : | Y16: 일금 | AA16: =내역서!F197 -> 534000000 | AF16: 원정
T18: 부 가 가 치 세 | X18: : | Y18: 일금 | AA18: =내역서!F198 -> 53400000 | AF18: 원정
W20: - 관급자재비 | X20: : | AA20: =내역서!F204 -> 136800000 | AL20: =AA20 -> 136800000
W22: 폐기물처리비 | X22: : | AA22: =내역서!F201 -> 36700000 | AL22: =AA22*0.876 -> 32149200
W24: 용지보상비 | X24: : | Y24: 일금 | AA24: =내역서!F243 -> 83000000
A26: 국 토 교 통 부
A27: 남원국토관리사무소
A29: 2 0 1 7 년 04 월 일 설 계 | L29: 설 계 자 | Q29: 심 사 자 | V29: 공사관리관 | AA29: 과 장 | AF29: 소 장
B32: =B4 -> 2020 년도
A34: ='표지,목차'!B3 & " 설계서" -> 국도26호선 진안 부귀교차로 등 2개소 병목지점 개선공사 설계서
A46: 국 토 교 통 부
A47: 남원 국토관리사무소

Sheet 내역서
A1: 공 종 | B1: 규 격 | C1: 수 량 | D1: 단위 | E1: 합 계 | G1: 재 료 비 | I1: 노 무 비 | K1: 경 비 | M1: 비 고
E2: 단 가 | F2: 금 액 | G2: 단 가 | H2: 금 액 | I2: 단 가 | J2: 금 액 | K2: 단 가 | L2: 금 액
A3: 국도26호선 진안 부귀교차로 등 2개소 병목지점 개선공사 설계예산내역서 | F3: {='갑지-출력X'!AA12:AE12} -> 843900000 | G3: 0 | H3: 0 | I3: 0 | J3: 0
A4: 1.부귀교차로 | F4: =H4+J4+L4 -> 280833170 | G4: 0 | H4: =H5+H32+H72+H82+H94+H118 -> 121058593 | I4: 0 | J4: =J5+J32+J72+J82+J94+J118 -> 130245048 | K4: 0 | L4: =L5+L32+L72+L82+L94+L118 -> 29529529
A5: 1)토공 | F5: =H5+J5+L5 -> 59678730 | G5: 0 | H5: =H6+H16 -> 16073581 | I5: 0 | J5: =J6+J16 -> 32322320 | K5: 0 | L5: =L6+L16 -> 11282829
A6: 1]구조물깨기 | F6: =H6+J6+L6 -> 10988155 | G6: 0 | H6: =SUM(H7:H15) -> 2085116 | I6: 0 | J6: =SUM(J7:J15) -> 6421285 | K6: 0 | L6: =SUM(L7:L15) -> 2481754 | P6: =F6+F8+#REF!+#REF!+#REF!+#REF! -> #REF!
A7: 무근콘크리트깨기 | B7: T=30cm미만 | C7: 82 | D7: ㎥ | E7: =G7+I7+K7 -> 36028 | F7: =H7+J7+L7 -> 2954296 | G7: 6704 | H7: =TRUNC(C7*G7,0) -> 549728 | I7: 20331 | J7: =TRUNC(C7*I7,0) -> 1667142 | K7: 8993 | L7: =TRUNC(C7*K7,0) -> 737426
A8: 무근콘크리트깨기 | B8: T=30cm이상 | C8: 18 | D8: ㎥ | E8: =G8+I8+K8 -> 44614 | F8: =H8+J8+L8 -> 803052 | G8: 8255 | H8: =TRUNC(C8*G8,0) -> 148590 | I8: 25194 | J8: =TRUNC(C8*I8,0) -> 453492 | K8: 11165 | L8: =TRUNC(C8*K8,0) -> 200970
A9: 철근콘크리트깨기 | B9: T=30cm미만 | C9: 14 | D9: ㎥ | E9: =G9+I9+K9 -> 87216 | F9: =H9+J9+L9 -> 1221024 | G9: 13549 | H9: =TRUNC(C9*G9,0) -> 189686 | I9: 57812 | J9: =TRUNC(C9*I9,0) -> 809368 | K9: 15855 | L9: =TRUNC(C9*K9,0) -> 221970
A10: 철근콘크리트깨기 | B10: T=30cm이상 | C10: 10 | D10: ㎥ | E10: =G10+I10+K10 -> 98539 | F10: =H10+J10+L10 -> 985390 | G10: 15594 | H10: =TRUNC(C10*G10,0) -> 155940 | I10: 64226 | J10: =TRUNC(C10*I10,0) -> 642260 | K10: 18719 | L10: =TRUNC(C10*K10,0) -> 187190
A11: 아스팔트포장깨기 | B11: 대형브레이커+0.7㎥ | C11: 91 | D11: ㎥ | E11: =G11+I11+K11 -> 14008 | F11: =H11+J11+L11 -> 1274728 | G11: 2727 | H11: =TRUNC(C11*G11,0) -> 248157 | I11: 7858 | J11: =TRUNC(C11*I11,0) -> 715078 | K11: 3423 | L11: =TRUNC(C11*K11,0) -> 311493
A12: 콘크리트포장깨기 | B12: 대형브레이커+0.7㎥ | C12: 55 | D12: ㎥ | E12: =G12+I12+K12 -> 36028 | F12: =H12+J12+L12 -> 1981540 | G12: 6704 | H12: =TRUNC(C12*G12,0) -> 368720 | I12: 20331 | J12: =TRUNC(C12*I12,0) -> 1118205 | K12: 8993 | L12: =TRUNC(C12*K12,0) -> 494615
A13: 콘크리트포장절단 | B13: 1차로(기계) | C13: 9 | D13: m | E13: =G13+I13+K13 -> 2705 | F13: =H13+J13+L13 -> 24345 | G13: 860 | H13: =TRUNC(C13*G13,0) -> 7740 | I13: 1760 | J13: =TRUNC(C13*I13,0) -> 15840 | K13: 85 | L13: =TRUNC(C13*K13,0) -> 765
A14: 아스팔트포장절단 | C14: 155 | D14: m | E14: =G14+I14+K14 -> 2328 | F14: =H14+J14+L14 -> 360840 | G14: 733 | H14: =TRUNC(C14*G14,0) -> 113615 | I14: 1530 | J14: =TRUNC(C14*I14,0) -> 237150 | K14: 65 | L14: =TRUNC(C14*K14,0) -> 10075
A15: 폐기물상차 | B15: 백호0.7㎥ | C15: 270 | D15: ㎥ | E15: =G15+I15+K15 -> 5122 | F15: =H15+J15+L15 -> 1382940 | G15: 1122 | H15: =TRUNC(C15*G15,0) -> 302940 | I15: 2825 | J15: =TRUNC(C15*I15,0) -> 762750 | K15: 1175 | L15: =TRUNC(C15*K15,0) -> 317250
A16: 2]일반토공 | F16: =H16+J16+L16 -> 48690575 | G16: 0 | H16: =SUM(H17:H31) -> 13988465 | I16: 0 | J16: =SUM(J17:J31) -> 25901035 | K16: 0 | L16: =SUM(L17:L31) -> 8801075
A17: 표토제거 | B17: 답구간-BH0.7㎥ | C17: 716 | D17: ㎡ | E17: =G17+I17+K17 -> 400 | F17: =H17+J17+L17 -> 286400 | G17: 87 | H17: =TRUNC(C17*G17,0) -> 62292 | I17: 221 | J17: =TRUNC(C17*I17,0) -> 158236 | K17: 92 | L17: =TRUNC(C17*K17,0) -> 65872
A18: 표토제거 | B18: 답외구간-BH0.7㎥ | C18: 1784 | D18: ㎡ | E18: =G18+I18+K18 -> 314 | F18: =H18+J18+L18 -> 560176 | G18: 69 | H18: =TRUNC(C18*G18,0) -> 123096 | I18: 173 | J18: =TRUNC(C18*I18,0) -> 308632 | K18: 72 | L18: =TRUNC(C18*K18,0) -> 128448
A19: 벌개제근 | B19: 뿌리뽑기 | C19: 321 | D19: ㎡ | E19: =G19+I19+K19 -> 506 | F19: =H19+J19+L19 -> 162426 | G19: 37 | H19: =TRUNC(C19*G19,0) -> 11877 | I19: 404 | J19: =TRUNC(C19*I19,0) -> 129684 | K19: 65 | L19: =TRUNC(C19*K19,0) -> 20865
A20: 벌목 | B20: 5m이상∼8m미만 | C20: 321 | D20: ㎡ | E20: =G20+I20+K20 -> 1210 | F20: =H20+J20+L20 -> 388410 | G20: 35 | H20: =TRUNC(C20*G20,0) -> 11235 | I20: 1031 | J20: =TRUNC(C20*I20,0) -> 330951 | K20: 144 | L20: =TRUNC(C20*K20,0) -> 46224
A21: 흙깎기 | B21: 백호0.7㎥ | C21: 53 | D21: ㎥ | E21: =G21+I21+K21 -> 1662 | F21: =H21+J21+L21 -> 88086 | G21: 364 | H21: =TRUNC(C21*G21,0) -> 19292 | I21: 917 | J21: =TRUNC(C21*I21,0) -> 48601 | K21: 381 | L21: =TRUNC(C21*K21,0) -> 20193
A22: 무대운반 | C22: 1481 | D22: ㎥ | E22: =G22+I22+K22 -> 0 | F22: =H22+J22+L22 -> 0 | G22: 0 | H22: =TRUNC(C22*G22,0) -> 0 | I22: 0 | J22: =TRUNC(C22*I22,0) -> 0 | K22: 0 | L22: =TRUNC(C22*K22,0) -> 0
A23: 도쟈운반(토사) | B23: 도쟈32톤 | C23: 56 | D23: ㎥ | E23: =G23+I23+K23 -> 1298 | F23: =H23+J23+L23 -> 72688 | G23: 556 | H23: =TRUNC(C23*G23,0) -> 31136 | I23: 410 | J23: =TRUNC(C23*I23,0) -> 22960 | K23: 332 | L23: =TRUNC(C23*K23,0) -> 18592
A24: 순성토운반(토사) | B24: L=10km | C24: 2104 | D24: ㎥ | E24: =G24+I24+K24 -> 14347 | F24: =H24+J24+L24 -> 30186088 | G24: 3651 | H24: =TRUNC(C24*G24,0) -> 7681704 | I24: 7824 | J24: =TRUNC(C24*I24,0) -> 16461696 | K24: 2872 | L24: =TRUNC(C24*K24,0) -> 6042688
A25: 흙쌓기(노상) | B25: 백호0.7㎥ | C25: 1592 | D25: ㎥ | E25: =G25+I25+K25 -> 2626 | F25: =H25+J25+L25 -> 4180592 | G25: 635 | H25: =TRUNC(C25*G25,0) -> 1010920 | I25: 1469 | J25: =TRUNC(C25*I25,0) -> 2338648 | K25: 522 | L25: =TRUNC(C25*K25,0) -> 831024
A26: 흙쌓기(노체) | B26: 백호0.7㎥ | C26: 1110 | D26: ㎥ | E26: =G26+I26+K26 -> 2370 | F26: =H26+J26+L26 -> 2630700 | G26: 567 | H26: =TRUNC(C26*G26,0) -> 629370 | I26: 1339 | J26: =TRUNC(C26*I26,0) -> 1486290 | K26: 464 | L26: =TRUNC(C26*K26,0) -> 515040
A27: 노반준비공 | B27: 절토부 | C27: 883 | D27: ㎡ | E27: =G27+I27+K27 -> 227 | F27: =H27+J27+L27 -> 200441 | G27: 39 | H27: =TRUNC(C27*G27,0) -> 34437 | I27: 134 | J27: =TRUNC(C27*I27,0) -> 118322 | K27: 54 | L27: =TRUNC(C27*K27,0) -> 47682
A28: 초류종자살포 | B28: 씨드스프레이+거적덮기 | C28: 869 | D28: ㎡ | E28: =G28+I28+K28 -> 4830 | F28: =H28+J28+L28 -> 4197270 | G28: 3846 | H28: =TRUNC(C28*G28,0) -> 3342174 | I28: 883 | J28: =TRUNC(C28*I28,0) -> 767327 | K28: 101 | L28: =TRUNC(C28*K28,0) -> 87769
A29: 층따기 | B29: 백호0.7㎥ | C29: 283 | D29: ㎥ | E29: =G29+I29+K29 -> 2096 | F29: =H29+J29+L29 -> 593168 | G29: 459 | H29: =TRUNC(C29*G29,0) -> 129897 | I29: 1156 | J29: =TRUNC(C29*I29,0) -> 327148 | K29: 481 | L29: =TRUNC(C29*K29,0) -> 136123
A30: 터파기 | B30: 백호0.7㎥(100%) | C30: 1080 | D30: ㎥ | E30: =G30+I30+K30 -> 1940 | F30: =H30+J30+L30 -> 2095200 | G30: 425 | H30: =TRUNC(C30*G30,0) -> 459000 | I30: 1070 | J30: =TRUNC(C30*I30,0) -> 1155600 | K30: 445 | L30: =TRUNC(C30*K30,0) -> 480600
A31: 되메우기및다짐(진동롤러) | B31: 백호0.7㎥(100%) | C31: 855 | D31: ㎥ | E31: =G31+I31+K31 -> 3566 | F31: =H31+J31+L31 -> 3048930 | G31: 517 | H31: =TRUNC(C31*G31,0) -> 442035 | I31: 2628 | J31: =TRUNC(C31*I31,0) -> 2246940 | K31: 421 | L31: =TRUNC(C31*K31,0) -> 359955
A32: 2)배수공 | F32: =H32+J32+L32 -> 75360350 | G32: 0 | H32: =H33+H40+H47+H52+H55+H64+H69 -> 16611502 | I32: 0 | J32: =J33+J40+J47+J52+J55+J64+J69 -> 55585157 | K32: 0 | L32: =L33+L40+L47+L52+L55+L64+L69 -> 3163691
A33: 1]L형측구 | F33: =H33+J33+L33 -> 14430865 | G33: 0 | H33: =SUM(H34:H39) -> 1787049 | I33: 0 | J33: =SUM(J34:J39) -> 12089421 | K33: 0 | L33: =SUM(L34:L39) -> 554395
A34: 레미콘타설(장비사용타설) | B34: 무근구조물 | C34: 64 | D34: ㎥ | E34: =G34+I34+K34 -> 30026 | F34: =H34+J34+L34 -> 1921664 | G34: 3024 | H34: =TRUNC(C34*G34,0) -> 193536 | I34: 23246 | J34: =TRUNC(C34*I34,0) -> 1487744 | K34: 3756 | L34: =TRUNC(C34*K34,0) -> 240384
A35: 유로폼 | B35: 간단,0~7m | C35: 317 | D35: ㎡ | E35: =G35+I35+K35 -> 36180 | F35: =H35+J35+L35 -> 11469060 | G35: 3344 | H35: =TRUNC(C35*G35,0) -> 1060048 | I35: 31880 | J35: =TRUNC(C35*I35,0) -> 10105960 | K35: 956 | L35: =TRUNC(C35*K35,0) -> 303052
A36: 철근조립 | B36: Type-2-2 | C36: 0.42 | D36: Ton | E36: =G36+I36+K36 -> 677478 | F36: =H36+J36+L36 -> 284539 | G36: 20560 | H36: =TRUNC(C36*G36,0) -> 8635 | I36: 644038 | J36: =TRUNC(C36*I36,0) -> 270495 | K36: 12880 | L36: =TRUNC(C36*K36,0) -> 5409
A37: 신축이음 | B37: 스치로폴(t=10mm) | C37: 3 | D37: ㎡ | E37: =G37+I37+K37 -> 10346 | F37: =H37+J37+L37 -> 31038 | G37: 1316 | H37: =TRUNC(C37*G37,0) -> 3948 | I37: 9030 | J37: =TRUNC(C37*I37,0) -> 27090 | K37: 0 | L37: =TRUNC(C37*K37,0) -> 0
A38: 줄눈설치 | B38: 수축줄눈 | C38: 74 | D38: m | E38: =G38+I38+K38 -> 6323 | F38: =H38+J38+L38 -> 467902 | G38: 3734 | H38: =TRUNC(C38*G38,0) -> 276316 | I38: 2514 | J38: =TRUNC(C38*I38,0) -> 186036 | K38: 75 | L38: =TRUNC(C38*K38,0) -> 5550
A39: 비닐깔기 | C39: 378 | D39: ㎡ | E39: =G39+I39+K39 -> 679 | F39: =H39+J39+L39 -> 256662 | G39: 647 | H39: =TRUNC(C39*G39,0) -> 244566 | I39: 32 | J39: =TRUNC(C39*I39,0) -> 12096 | K39: 0 | L39: =TRUNC(C39*K39,0) -> 0
A40: 2]집수정 | F40: =H40+J40+L40 -> 5649459 | G40: 0 | H40: =SUM(H41:H46) -> 3745538 | I40: 0 | J40: =SUM(J41:J46) -> 1859412 | K40: 0 | L40: =SUM(L41:L46) -> 44509
A41: 레미콘타설(장비사용타설) | B41: 철근구조물 | C41: 4 | D41: ㎥ | E41: =G41+I41+K41 -> 34393 | F41: =H41+J41+L41 -> 137572 | G41: 3464 | H41: =TRUNC(C41*G41,0) -> 13856 | I41: 26627 | J41: =TRUNC(C41*I41,0) -> 106508 | K41: 4302 | L41: =TRUNC(C41*K41,0) -> 17208
A42: 레미콘타설(장비사용타설) | B42: 무근구조물 | C42: 1 | D42: ㎥ | E42: =G42+I42+K42 -> 30026 | F42: =H42+J42+L42 -> 30026 | G42: 3024 | H42: =TRUNC(C42*G42,0) -> 3024 | I42: 23246 | J42: =TRUNC(C42*I42,0) -> 23246 | K42: 3756 | L42: =TRUNC(C42*K42,0) -> 3756
A43: 합판거푸집 | B43: 4회(보통) | C43: 33 | D43: ㎡ | E43: =G43+I43+K43 -> 53139 | F43: =H43+J43+L43 -> 1753587 | G43: 14467 | H43: =TRUNC(C43*G43,0) -> 477411 | I43: 38290 | J43: =TRUNC(C43*I43,0) -> 1263570 | K43: 382 | L43: =TRUNC(C43*K43,0) -> 12606
A44: 합판거푸집 | B44: 6회(간단) | C44: 1 | D44: ㎡ | E44: =G44+I44+K44 -> 47482 | F44: =H44+J44+L44 -> 47482 | G44: 12677 | H44: =TRUNC(C44*G44,0) -> 12677 | I44: 34461 | J44: =TRUNC(C44*I44,0) -> 34461 | K44: 344 | L44: =TRUNC(C44*K44,0) -> 344
A45: 철근가공및조립 | B45: Type-2-2 | C45: 0.304 | D45: Ton | E45: =G45+I45+K45 -> 943609 | F45: =H45+J45+L45 -> 286856 | G45: 20560 | H45: =TRUNC(C45*G45,0) -> 6250 | I45: 888195 | J45: =TRUNC(C45*I45,0) -> 270011 | K45: 34854 | L45: =TRUNC(C45*K45,0) -> 10595
A46: 주철뚜껑설치 | B46: 1300x1300x70 | C46: 2 | D46: EA | E46: =G46+I46+K46 -> 1696968 | F46: =H46+J46+L46 -> 3393936 | G46: 1616160 | H46: =TRUNC(C46*G46,0) -> 3232320 | I46: 80808 | J46: =TRUNC(C46*I46,0) -> 161616 | K46: 0 | L46: =TRUNC(C46*K46,0) -> 0
A47: 3]배수관설치 | F47: =H47+J47+L47 -> 12068239 | G47: 0 | H47: =SUM(H48:H51) -> 1293908 | I47: 0 | J47: =SUM(J48:J51) -> 9507868 | K47: 0 | L47: =SUM(L48:L51) -> 1266463
A48: 레미콘타설(장비사용타설) | B48: 무근구조물 | C48: 32 | D48: ㎥ | E48: =G48+I48+K48 -> 30026 | F48: =H48+J48+L48 -> 960832 | G48: 3024 | H48: =TRUNC(C48*G48,0) -> 96768 | I48: 23246 | J48: =TRUNC(C48*I48,0) -> 743872 | K48: 3756 | L48: =TRUNC(C48*K48,0) -> 120192
A49: 유로폼 | B49: 간단,0~7m | C49: 96 | D49: ㎡ | E49: =G49+I49+K49 -> 36180 | F49: =H49+J49+L49 -> 3473280 | G49: 3344 | H49: =TRUNC(C49*G49,0) -> 321024 | I49: 31880 | J49: =TRUNC(C49*I49,0) -> 3060480 | K49: 956 | L49: =TRUNC(C49*K49,0) -> 91776
A50: 몰 탈 | B50: 1:2(재료비포함) | C50: 0.208 | D50: ㎥ | E50: =G50+I50+K50 -> 262223 | F50: =H50+J50+L50 -> 54542 | G50: 148659 | H50: =TRUNC(C50*G50,0) -> 30921 | I50: 113564 | J50: =TRUNC(C50*I50,0) -> 23621 | K50: 0 | L50: =TRUNC(C50*K50,0) -> 0
A51: 흄관부설및접합(소켓관) | B51: D=800mm | C51: 65 | D51: m | E51: =G51+I51+K51 -> 116609 | F51: =H51+J51+L51 -> 7579585 | G51: 13003 | H51: =TRUNC(C51*G51,0) -> 845195 | I51: 87383 | J51: =TRUNC(C51*I51,0) -> 5679895 | K51: 16223 | L51: =TRUNC(C51*K51,0) -> 1054495
A52: 4]면벽설치 | F52: =H52+J52+L52 -> 3149027 | G52: 0 | H52: =SUM(H53:H54) -> 836715 | I52: 0 | J52: =SUM(J53:J54) -> 2275514 | K52: 0 | L52: =SUM(L53:L54) -> 36798
A53: 레미콘타설(장비사용타설) | B53: 무근구조물 | C53: 4 | D53: ㎥ | E53: =G53+I53+K53 -> 30026 | F53: =H53+J53+L53 -> 120104 | G53: 3024 | H53: =TRUNC(C53*G53,0) -> 12096 | I53: 23246 | J53: =TRUNC(C53*I53,0) -> 92984 | K53: 3756 | L53: =TRUNC(C53*K53,0) -> 15024
A54: 합판거푸집 | B54: 4회(보통) | C54: 57 | D54: ㎡ | E54: =G54+I54+K54 -> 53139 | F54: =H54+J54+L54 -> 3028923 | G54: 14467 | H54: =TRUNC(C54*G54,0) -> 824619 | I54: 38290 | J54: =TRUNC(C54*I54,0) -> 2182530 | K54: 382 | L54: =TRUNC(C54*K54,0) -> 21774
A55: 5]개거설치 | F55: =H55+J55+L55 -> 32587111 | G55: 0 | H55: =SUM(H56:H63) -> 3235135 | I55: 0 | J55: =SUM(J56:J63) -> 28122668 | K55: 0 | L55: =SUM(L56:L63) -> 1229308
A56: 레미콘타설(장비사용타설) | B56: 철근구조물 | C56: 92 | D56: ㎥ | E56: =G56+I56+K56 -> 34393 | F56: =H56+J56+L56 -> 3164156 | G56: 3464 | H56: =TRUNC(C56*G56,0) -> 318688 | I56: 26627 | J56: =TRUNC(C56*I56,0) -> 2449684 | K56: 4302 | L56: =TRUNC(C56*K56,0) -> 395784
A57: 레미콘타설(장비사용타설) | B57: 무근구조물 | C57: 21 | D57: ㎥ | E57: =G57+I57+K57 -> 30026 | F57: =H57+J57+L57 -> 630546 | G57: 3024 | H57: =TRUNC(C57*G57,0) -> 63504 | I57: 23246 | J57: =TRUNC(C57*I57,0) -> 488166 | K57: 3756 | L57: =TRUNC(C57*K57,0) -> 78876
A58: 유로폼 | B58: 간단,0~7m | C58: 601 | D58: ㎡ | E58: =G58+I58+K58 -> 36180 | F58: =H58+J58+L58 -> 21744180 | G58: 3344 | H58: =TRUNC(C58*G58,0) -> 2009744 | I58: 31880 | J58: =TRUNC(C58*I58,0) -> 19159880 | K58: 956 | L58: =TRUNC(C58*K58,0) -> 574556
A59: 합판거푸집 | B59: 6회(간단) | C59: 32 | D59: ㎡ | E59: =G59+I59+K59 -> 47482 | F59: =H59+J59+L59 -> 1519424 | G59: 12677 | H59: =TRUNC(C59*G59,0) -> 405664 | I59: 34461 | J59: =TRUNC(C59*I59,0) -> 1102752 | K59: 344 | L59: =TRUNC(C59*K59,0) -> 11008
A60: 철근가공및조립 | B60: Type-2-2 | C60: 4.692 | D60: Ton | E60: =G60+I60+K60 -> 943609 | F60: =H60+J60+L60 -> 4427411 | G60: 20560 | H60: =TRUNC(C60*G60,0) -> 96467 | I60: 888195 | J60: =TRUNC(C60*I60,0) -> 4167410 | K60: 34854 | L60: =TRUNC(C60*K60,0) -> 163534
A61: 지수판 설치(소켓) | B61: 200×5t | C61: 22 | D61: m | E61: =G61+I61+K61 -> 26914 | F61: =H61+J61+L61 -> 592108 | G61: 2704 | H61: =TRUNC(C61*G61,0) -> 59488 | I61: 24210 | J61: =TRUNC(C61*I61,0) -> 532620 | K61: 0 | L61: =TRUNC(C61*K61,0) -> 0
A62: 신축이음 | B62: 스치로폴(t=10mm) | C62: 4 | D62: ㎡ | E62: =G62+I62+K62 -> 10346 | F62: =H62+J62+L62 -> 41384 | G62: 1316 | H62: =TRUNC(C62*G62,0) -> 5264 | I62: 9030 | J62: =TRUNC(C62*I62,0) -> 36120 | K62: 0 | L62: =TRUNC(C62*K62,0) -> 0
A63: 줄눈설치 | B63: 수축줄눈 | C63: 74 | D63: m | E63: =G63+I63+K63 -> 6323 | F63: =H63+J63+L63 -> 467902 | G63: 3734 | H63: =TRUNC(C63*G63,0) -> 276316 | I63: 2514 | J63: =TRUNC(C63*I63,0) -> 186036 | K63: 75 | L63: =TRUNC(C63*K63,0) -> 5550
A64: 6]도수로설치 | F64: =H64+J64+L64 -> 1963149 | G64: 0 | H64: =SUM(H65:H68) -> 463157 | I64: 0 | J64: =SUM(J65:J68) -> 1467774 | K64: 0 | L64: =SUM(L65:L68) -> 32218
A65: 레미콘타설(장비사용타설) | B65: 철근구조물 | C65: 2 | D65: ㎥ | E65: =G65+I65+K65 -> 34393 | F65: =H65+J65+L65 -> 68786 | G65: 3464 | H65: =TRUNC(C65*G65,0) -> 6928 | I65: 26627 | J65: =TRUNC(C65*I65,0) -> 53254 | K65: 4302 | L65: =TRUNC(C65*K65,0) -> 8604
A66: 레미콘타설(장비사용타설) | B66: 무근구조물 | C66: 1 | D66: ㎥ | E66: =G66+I66+K66 -> 30026 | F66: =H66+J66+L66 -> 30026 | G66: 3024 | H66: =TRUNC(C66*G66,0) -> 3024 | I66: 23246 | J66: =TRUNC(C66*I66,0) -> 23246 | K66: 3756 | L66: =TRUNC(C66*K66,0) -> 3756
A67: 합판거푸집 | B67: 4회(보통) | C67: 31 | D67: ㎡ | E67: =G67+I67+K67 -> 53139 | F67: =H67+J67+L67 -> 1647309 | G67: 14467 | H67: =TRUNC(C67*G67,0) -> 448477 | I67: 38290 | J67: =TRUNC(C67*I67,0) -> 1186990 | K67: 382 | L67: =TRUNC(C67*K67,0) -> 11842
A68: 철근가공및조립 | B68: Type-2-2 | C68: 0.23 | D68: Ton | E68: =G68+I68+K68 -> 943609 | F68: =H68+J68+L68 -> 217028 | G68: 20560 | H68: =TRUNC(C68*G68,0) -> 4728 | I68: 888195 | J68: =TRUNC(C68*I68,0) -> 204284 | K68: 34854 | L68: =TRUNC(C68*K68,0) -> 8016
A69: 7]문비설치 | F69: =H69+J69+L69 -> 5512500 | G69: 0 | H69: =SUM(H70:H71) -> 5250000 | I69: 0 | J69: =SUM(J70:J71) -> 262500 | K69: 0 | L69: =SUM(L70:L71) -> 0
A70: 문비설치 | B70: 800x800 | C70: 1 | D70: EA | E70: =G70+I70+K70 -> 3192000 | F70: =H70+J70+L70 -> 3192000 | G70: 3040000 | H70: =TRUNC(C70*G70,0) -> 3040000 | I70: 152000 | J70: =TRUNC(C70*I70,0) -> 152000 | K70: 0 | L70: =TRUNC(C70*K70,0) -> 0
A71: 문비설치 | B71: 500x500 | C71: 1 | D71: EA | E71: =G71+I71+K71 -> 2320500 | F71: =H71+J71+L71 -> 2320500 | G71: 2210000 | H71: =TRUNC(C71*G71,0) -> 2210000 | I71: 110500 | J71: =TRUNC(C71*I71,0) -> 110500 | K71: 0 | L71: =TRUNC(C71*K71,0) -> 0
A72: 3)포장공 | F72: =H72+J72+L72 -> 10863206 | G72: 0 | H72: =H73+H79 -> 1803049 | I72: 0 | J72: =J73+J79 -> 7194854 | K72: 0 | L72: =L73+L79 -> 1865303
A73: 1]아스콘포장 | F73: =H73+J73+L73 -> 8684850 | G73: 0 | H73: =SUM(H74:H78) -> 1639959 | I73: 0 | J73: =SUM(J74:J78) -> 5296242 | K73: 0 | L73: =SUM(L74:L78) -> 1748649
A74: 아스팔트표층포설및다짐 | B74: 3m≤시공폭 | C74: 1500 | D74: ㎡ | E74: =G74+I74+K74 -> 1008 | F74: =H74+J74+L74 -> 1512000 | G74: 135 | H74: =TRUNC(C74*G74,0) -> 202500 | I74: 698 | J74: =TRUNC(C74*I74,0) -> 1047000 | K74: 175 | L74: =TRUNC(C74*K74,0) -> 262500
A75: 텍코팅(인력식) | B75: 아스팔트스프레이어400ℓ | C75: 1500 | D75: ㎡ | E75: =G75+I75+K75 -> 104 | F75: =H75+J75+L75 -> 156000 | G75: 2 | H75: =TRUNC(C75*G75,0) -> 3000 | I75: 102 | J75: =TRUNC(C75*I75,0) -> 153000 | K75: 0 | L75: =TRUNC(C75*K75,0) -> 0
A76: 아스팔트기층(BB층)포설및다짐 | B76: 3m≤시공폭,1층포설두께8~10cm | C76: 1500 | D76: ㎡ | E76: =G76+I76+K76 -> 1075 | F76: =H76+J76+L76 -> 1612500 | G76: 144 | H76: =TRUNC(C76*G76,0) -> 216000 | I76: 744 | J76: =TRUNC(C76*I76,0) -> 1116000 | K76: 187 | L76: =TRUNC(C76*K76,0) -> 280500
A77: 프라임코팅(인력식) | B77: 아스팔트스프레이어400ℓ | C77: 1500 | D77: ㎡ | E77: =G77+I77+K77 -> 104 | F77: =H77+J77+L77 -> 156000 | G77: 2 | H77: =TRUNC(C77*G77,0) -> 3000 | I77: 102 | J77: =TRUNC(C77*I77,0) -> 153000 | K77: 0 | L77: =TRUNC(C77*K77,0) -> 0
A78: 보조기층포설및다짐 | B78: 기계시공-본선포장 | C78: 981 | D78: ㎥ | E78: =G78+I78+K78 -> 5350 | F78: =H78+J78+L78 -> 5248350 | G78: 1239 | H78: =TRUNC(C78*G78,0) -> 1215459 | I78: 2882 | J78: =TRUNC(C78*I78,0) -> 2827242 | K78: 1229 | L78: =TRUNC(C78*K78,0) -> 1205649
A79: 2]콘크리트포장 | F79: =H79+J79+L79 -> 2178356 | G79: 0 | H79: =SUM(H80:H81) -> 163090 | I79: 0 | J79: =SUM(J80:J81) -> 1898612 | K79: 0 | L79: =SUM(L80:L81) -> 116654
A80: 콘크리트포장(인력시공) | B80: B-Type, T=20cm | C80: 47 | D80: ㎥ | E80: =G80+I80+K80 -> 31226 | F80: =H80+J80+L80 -> 1467622 | G80: 1617 | H80: =TRUNC(C80*G80,0) -> 75999 | I80: 28747 | J80: =TRUNC(C80*I80,0) -> 1351109 | K80: 862 | L80: =TRUNC(C80*K80,0) -> 40514
A81: 보조기층포설및다짐 | B81: 인력식 소규모 장비사용 시공 | C81: 47 | D81: ㎥ | E81: =G81+I81+K81 -> 15122 | F81: =H81+J81+L81 -> 710734 | G81: 1853 | H81: =TRUNC(C81*G81,0) -> 87091 | I81: 11649 | J81: =TRUNC(C81*I81,0) -> 547503 | K81: 1620 | L81: =TRUNC(C81*K81,0) -> 76140
A82: 4)교통안전시설공 | F82: =H82+J82+L82 -> 9232671 | G82: 0 | H82: =H83+H87+H90+H92 -> 2543944 | I82: 0 | J82: =J83+J87+J90+J92 -> 6180423 | K82: 0 | L82: =L83+L87+L90+L92 -> 508304
A83: 1]표지판기초 | F83: =H83+J83+L83 -> 5591418 | G83: 0 | H83: =SUM(H84:H86) -> 479198 | I83: 0 | J83: =SUM(J84:J86) -> 4848057 | K83: 0 | L83: =SUM(L84:L86) -> 264163
A84: 레미콘타설(장비사용타설) | B84: 무근구조물 | C84: 37 | D84: ㎥ | E84: =G84+I84+K84 -> 30026 | F84: =H84+J84+L84 -> 1110962 | G84: 3024 | H84: =TRUNC(C84*G84,0) -> 111888 | I84: 23246 | J84: =TRUNC(C84*I84,0) -> 860102 | K84: 3756 | L84: =TRUNC(C84*K84,0) -> 138972
A85: 유로폼 | B85: 간단,0~7m | C85: 106 | D85: ㎡ | E85: =G85+I85+K85 -> 36180 | F85: =H85+J85+L85 -> 3835080 | G85: 3344 | H85: =TRUNC(C85*G85,0) -> 354464 | I85: 31880 | J85: =TRUNC(C85*I85,0) -> 3379280 | K85: 956 | L85: =TRUNC(C85*K85,0) -> 101336
A86: 철근가공및조립 | B86: Type-1-1 | C86: 0.769 | D86: Ton | E86: =G86+I86+K86 -> 839243 | F86: =H86+J86+L86 -> 645376 | G86: 16705 | H86: =TRUNC(C86*G86,0) -> 12846 | I86: 791516 | J86: =TRUNC(C86*I86,0) -> 608675 | K86: 31022 | L86: =TRUNC(C86*K86,0) -> 23855
A87: 2]표지판신설 | F87: =H87+J87+L87 -> 1345640 | G87: 0 | H87: =SUM(H88:H89) -> 732600 | I87: 0 | J87: =SUM(J88:J89) -> 567945 | K87: 0 | L87: =SUM(L88:L89) -> 45095 | P87: 레미콘 | Q87: 25-21-080 | R87: 10
A88: 원형표지판 | B88: D=60cm | C88: 4 | D88: EA | E88: =G88+I88+K88 -> 270568 | F88: =H88+J88+L88 -> 1082272 | G88: 147960 | H88: =TRUNC(C88*G88,0) -> 591840 | I88: 113589 | J88: =TRUNC(C88*I88,0) -> 454356 | K88: 9019 | L88: =TRUNC(C88*K88,0) -> 36076 | P88: 레미콘(전주) | Q88: 25-21-080 | R88: 64 | S88: ㎥
A89: 삼각표지판 | B89: D=90cm | C89: 1 | D89: EA | E89: =G89+I89+K89 -> 263368 | F89: =H89+J89+L89 -> 263368 | G89: 140760 | H89: =TRUNC(C89*G89,0) -> 140760 | I89: 113589 | J89: =TRUNC(C89*I89,0) -> 113589 | K89: 9019 | L89: =TRUNC(C89*K89,0) -> 9019 | P89: 레미콘(전주) | Q89: 25-18-080 | R89: 8 | S89: ㎥
A90: 3]표지판이설 | F90: =H90+J90+L90 -> 723748 | G90: 0 | H90: =H91 -> 42146 | I90: 0 | J90: =J91 -> 495972 | K90: 0 | L90: =L91 -> 185630 | P90: 이형철근(SD400) | Q90: D=13mm | R90: 3.084 | S90: Ton
A91: 편지식표지판이설 | B91: 1회 | C91: 2 | D91: 개소 | E91: =G91+I91+K91 -> 361874 | F91: =H91+J91+L91 -> 723748 | G91: 21073 | H91: =TRUNC(C91*G91,0) -> 42146 | I91: 247986 | J91: =TRUNC(C91*I91,0) -> 495972 | K91: 92815 | L91: =TRUNC(C91*K91,0) -> 185630 | P91: 혼합골재, 도착도 | Q91: D=40mm(기층용) | R91: 13 | S91: ㎥
A92: 4]차선규제봉 | F92: =H92+J92+L92 -> 1571865 | G92: 0 | H92: =H93 -> 1290000 | I92: 0 | J92: =J93 -> 268449 | K92: 0 | L92: =L93 -> 13416 | P92: 와이어메쉬(용접철망) | Q92: #6, 100×100 | R92: 46 | S92: ㎡
A93: 차선규제봉설치 | B93: Φ200×Φ80×750 | C93: 43 | D93: 개 | E93: =G93+I93+K93 -> 36555 | F93: =H93+J93+L93 -> 1571865 | G93: 30000 | H93: =TRUNC(C93*G93,0) -> 1290000 | I93: 6243 | J93: =TRUNC(C93*I93,0) -> 268449 | K93: 312 | L93: =TRUNC(C93*K93,0) -> 13416
A94: 5)부대공 | F94: =H94+J94+L94 -> 79925043 | G94: 0 | H94: =H95+H100+H104+H108+H111+H113+H115 -> 38253347 | I94: 0 | J94: =J95+J100+J104+J108+J111+J113+J115 -> 28962294 | K94: 0 | L94: =L95+L100+L104+L108+L111+L113+L115 -> 12709402
A95: 1]운반비 | F95: =H95+J95+L95 -> 11184804 | G95: 0 | H95: =SUM(H96:H99) -> 0 | I95: 0 | J95: =SUM(J96:J99) -> 0 | K95: 0 | L95: =SUM(L96:L99) -> 11184804
A96: 중기운반비 | B96: 트레일러20TON | C96: 1 | D96: 식 | E96: =G96+I96+K96 -> 11010570 | F96: =H96+J96+L96 -> 11010570 | G96: 0 | H96: =TRUNC(C96*G96,0) -> 0 | I96: 0 | J96: =TRUNC(C96*I96,0) -> 0 | K96: 11010570 | L96: =TRUNC(C96*K96,0) -> 11010570
A97: 아스팔트운반 | B97: 20km이내 | C97: 11 | D97: 드럼 | E97: =G97+I97+K97 -> 2329 | F97: =H97+J97+L97 -> 25619 | G97: 0 | H97: =TRUNC(C97*G97,0) -> 0 | I97: 0 | J97: =TRUNC(C97*I97,0) -> 0 | K97: 2329 | L97: =TRUNC(C97*K97,0) -> 25619
A98: 철근운반 | B98: L=20km 이내 | C98: 6.317 | D98: Ton | E98: =G98+I98+K98 -> 11851 | F98: =H98+J98+L98 -> 74862 | G98: 0 | H98: =TRUNC(C98*G98,0) -> 0 | I98: 0 | J98: =TRUNC(C98*I98,0) -> 0 | K98: 11851 | L98: =TRUNC(C98*K98,0) -> 74862
A99: 하차비 | C99: 32.61 | D99: Ton | E99: =G99+I99+K99 -> 2261.69 | F99: =H99+J99+L99 -> 73753 | G99: 0 | H99: =TRUNC(C99*G99,0) -> 0 | I99: 0 | J99: =TRUNC(C99*I99,0) -> 0 | K99: 2261.69 | L99: =TRUNC(C99*K99,0) -> 73753
A100: 2]차선도색 | F100: =H100+J100+L100 -> 8020566 | G100: 0 | H100: =SUM(H101:H103) -> 6970513 | I100: 0 | J100: =SUM(J101:J103) -> 936797 | K100: 0 | L100: =SUM(L101:L103) -> 113256
...

Sheet 제경비산출서
A1: 제 경 비 산 출 서
A3: 공 종 | B3: 계 | C3: 재 료 비 | I3: 노 무 비 | Q3: 경 비
A4: - 직 접 공 사 비 계 | B4: =C4+I4+Q4 -> 337704593 | C4: =내역서!H176 -> 148038447 | I4: =내역서!J176 -> 154668680 | Q4: =내역서!L176 -> 34997466
A5: 1. 간 접 노 무 비 | B5: =J5 -> 30624398 | D5: =I4 -> 154668680 | E5: × | F5: 0.198 | I5: = | J5: =INT(D5*F5) -> 30624398
A6: 2. 산 재 보 험 료 | B6: =Q6 -> 6596433 | C6: ( | D6: =I4 -> 154668680 | E6: + | F6: =B5 -> 30624398 | J6: ) × | L6: 0.0356 | P6: = | Q6: =INT((D6+F6)*L6) -> 6596433
A7: 3. 고 용 보 험 료 | B7: =Q7 -> 1871460 | C7: ( | D7: =I4 -> 154668680 | E7: + | F7: =B5 -> 30624398 | J7: ) × | L7: 0.0101 | P7: = | Q7: =INT((D7+F7)*L7) -> 1871460
A8: 4. 건 강 보 험 료 | B8: =Q8 -> 5560339 | C8: ( | D8: =I4 -> 154668680 | E8: )x | F8: 0.03595 | P8: = | Q8: =INT((D8*F8)) -> 5560339
A9: 5. 연 금 보 험 료 | B9: =Q9 -> 7346762 | C9: ( | D9: =I4 -> 154668680 | E9: )x | F9: 0.0475 | P9: = | Q9: =INT((D9*F9)) -> 7346762
A10: 6. 퇴직공제부금비 | B10: =Q10 -> 3557379 | C10: ( | D10: =I4 -> 154668680 | E10: )x | F10: 0.023 | P10: = | Q10: =INT((D10*F10)) -> 3557379
A11: 7. 노인장기요양보험료 | B11: =Q11 -> 730628 | C11: ( | D11: =B8 -> 5560339 | E11: )x | F11: 0.1314 | P11: = | Q11: =INT((D11*F11)) -> 730628
A12: 8. 석면분담금 | B12: =Q12 -> 11117 | C12: ( | D12: =I4 -> 154668680 | E12: + | F12: =B5 -> 30624398 | J12: ) × | L12: 6e-05 | P12: = | Q12: =INT((D12+F12)*L12) -> 11117
A13: 9. 임금채권부담금 | B13: =Q13 -> 166763 | C13: ( | D13: =I4 -> 154668680 | E13: + | F13: =B5 -> 30624398 | J13: ) × | L13: 0.0009 | P13: = | Q13: =INT((D13+F13)*L13) -> 166763
A14: 10. 건설기계대여대금 | B14: =T14 -> 1350818 | C14: ( | D14: =C4 -> 148038447 | E14: + | F14: =I4 -> 154668680 | J14: + | K14: =Q4 -> 34997466 | P14: )× | Q14: 0.004 | S14: = | T14: =INT((D14+F14+K14)*Q14) -> 1350818
A15: 11. 산업안전보건관리비 | B15: =MIN(T15:W16) -> 11442329 | C15: ( | D15: =C4 -> 148038447 | E15: + | F15: =I4 -> 154668680 | J15: + | K15: =내역서!F204/1.1 -> 1.2436364e+08 | N15: ) x | O15: 0.0315 | S15: = | T15: =INT((D15+F15+K15)*O15)+Q15 -> 13452729 | X15: (미적용) | AF15: 쌍암1교
C16: [( | D16: =D15 -> 148038447 | E16: + | F16: =F15 -> 154668680 | J16: ) x | K16: =O15 -> 0.0315 | P16: )]x | Q16: 1.2 | S16: = | T16: =INT(((D16+F16)*K16+N16)*Q16) -> 11442329 | X16: (적용) | AB16: 84183980 | AC16: 172973880 | AD16: =AC16-AB16 -> 88789900 | AF16: 양지3교
A17: 12. 환 경 보 전 비 | B17: =T17 -> 3039341 | C17: ( | D17: =C4 -> 148038447 | E17: + | F17: =I4 -> 154668680 | J17: + | K17: =Q4 -> 34997466 | P17: )× | Q17: 0.009 | S17: = | T17: =INT((D17+F17+K17)*Q17) -> 3039341 | AB17: 3248748 | AC17: 7112124 | AD17: =AC17-AB17 -> 3863376 | AF17: 양지2교
A18: 13. 기 타 경 비 | B18: =T18 -> 20333223 | C18: ( | D18: =C4 -> 148038447 | E18: + | F18: =I4 -> 154668680 | J18: + | K18: =B5 -> 30624398 | P18: )× | Q18: 0.061 | S18: = | T18: =INT((D18+F18+K18)*Q18) -> 20333223 | AB18: 560000 | AC18: 560000 | AD18: =AC18-AB18 -> 0 | AF18: 용내교
A19: 14. 건설하도급발급수수료 | B19: =T19 -> 273540 | C19: ( | D19: =C4 -> 148038447 | E19: + | F19: =I4 -> 154668680 | J19: + | K19: =Q4 -> 34997466 | P19: )× | Q19: 0.00081 | S19: = | T19: =INT((D19+F19+K19)*Q19) -> 273540
A20: 15. 품 질 관 리 비 | B20: =내역서!F230 -> 5400719
A21: 16. 안 전 관 리 비 | B21: =내역서!F237 -> 4682057
A22: - 순 공 사 원 가 | B22: =SUM(B4:B21) -> 440691899 | AB22: 8799272 | AC22: 18064600 | AD22: =AC22-AB22 -> 9265328 | AF22: 반월1교
A23: 17. 일 반 관 리 비 | B23: =J23 -> 35255351 | D23: =B22 -> 440691899 | E23: × | F23: 0.08 | I23: = | J23: =INT(D23*F23) -> 35255351 | AB23: 96792000 | AC23: 198710600 | AD23: =AC23-AB23 -> 101918600 | AF23: 반월2교
A24: 18. 이 윤 | B24: =B26-B23-B22-B25 -> 48882032 | C24: ( | D24: =B22 -> 440691899 | E24: + | F24: =B23 -> 35255351 | J24: - | K24: =C4 -> 148038447 | P24: )× | Q24: 0.15 | S24: = | T24: =INT(((D24+F24-K24)*Q24)) -> 49186320 | Z24: =T24-B24 -> 304288 | AF24: 덕산IC교
A25: 19. P.S(미확정공정) | B25: =내역서!F234 -> 9170718
A26: - 공 급 가 액 | B26: =ROUNDDOWN(Z26,-6) -> 534000000 | Z26: =T24+B23+B22+B25 -> 534304288 | AF26: 금복교
A27: - 부 가 가 치 세 | B27: =J27 -> 53400000 | D27: =B26 -> 534000000 | E27: × | F27: 0.1 | I27: = | J27: =(D27*F27) -> 53400000 | AF27: 쌍암3교
A28: O 도 급 예 정 액 | B28: =SUM(B26:B27) -> 587400000 | AF28: 일중교
AF29: 조산지하차도(상,하)
AF30: 가림지하차도
AF31: 블로치터널
AF32: 국포교
AF33: 하교교
AF34: 종평교
AF35: 내월교
AF36: 싸리재지하차도
AF37: 율천교
AF38: 하등교
AF39: 학석IC교
AF40: 회문교(상,하)
... AF65: 구룡육교
