Workbook
Name _1_: '[1]집계표(육상)'!#REF!
Name _10: #REF!
Name _10_3_0Crite: #REF!
Name _11: #REF!
Name _11_3_0Criteria: #REF!
Name _12_6: #REF!
Name _13_7: #REF!
Name _14_8: #REF!
Name _15_9: #REF!
Name _16a1_: #REF!
Name _17B2_: '[2]단면 (2)'!$K$55
Name _18C_: #REF!
Name _19G_0Extr: #REF!
Name _20G_0Extract: #REF!
Name _21L1_: '[3]U-TYPE(1)'!$F$10
Name _22P1_: '[4]Sheet1 (2)'!#REF!
Name _23P2_: '[5]Sheet1 (2)'!#REF!
Name _24t3_: #REF!
Name _25T4_: #REF!
Name _26t5_: #REF!
Name _29옹벽부용수: [1]지급자재!#REF!
Name _2C_: #REF!
Name _6: #REF!
Name _6_0옹벽부용수: [1]지급자재!#REF!
Name _7: #REF!
Name _7_10: #REF!
Name _8: #REF!
Name _8_11: #REF!
Name _9: #REF!
Name _a1: #REF!
Name _B2: '[6]단면 (2)'!$K$55
Name _C: #REF!
Name _L1: '[2]U-TYPE(1)'!$F$10
Name _P1: '[7]Sheet1 (2)'!#REF!
Name _P2: '[4]Sheet1 (2)'!#REF!
Name _t3: #REF!
Name _T4: #REF!
Name _t5: #REF!

Sheet 표지,목차
B3: 국도26호선 진안 부귀교차로 등 2개소 병목지점 개선공사
B4: 설계서
A11: 2026. 7
E20: 국토교통부

Sheet 수량표지 
A4: ='표지,목차'!B3 -> 국도26호선 진안 부귀교차로 등 2개소 병목지점 개선공사
A5: 수량산출서
A13: ='표지,목차'!A11 -> 2026. 7
C25: 국토교통부
C26: 남원국토관리사무소

Sheet 목차
A4: 목 차
A10: 1 . 총 괄 집 계 표 | K10: =A10 -> 1 . 총 괄 집 계 표 | U10: =A12 -> 2 . 보수물량 수량산출 | AE10: =A14 -> 0 | AO10: =A16 -> 0
A12: 2 . 보수물량 수량산출

Sheet 단가표지
A4: ='표지,목차'!B3 -> 국도26호선 진안 부귀교차로 등 2개소 병목지점 개선공사
A5: 단가산출서
A13: ='표지,목차'!A11 -> 2026. 7
C25: 국토교통부
C26: 전주국토관리사무소
A31: 목 차
C34: ◈ 노 무 단 가
C36: ◈ 자 재 단 가
C38: ◈ 견 적 단 가
C40: ◈ 일 위 대 가
C42: ◈ 단 가 산 출
C44: ◈ 중 기 산 출

Sheet 단가간지
A1: =단가표지!C34 -> ◈ 노 무 단 가
A2: =단가표지!C36 -> ◈ 자 재 단 가
A3: =단가표지!C38 -> ◈ 견 적 단 가
A4: =단가표지!C40 -> ◈ 일 위 대 가
A5: =단가표지!C42 -> ◈ 단 가 산 출
A6: =단가표지!C44 -> ◈ 중 기 산 출

Sheet 예정공정, 인력동원
A1: 예 정 공 정 표
A4: 기 간 | D4: 보 할 ( % ) | F4: 90 | H4: =$F$4+F4 -> 180 | J4: =$F$4+H4 -> 270 | L4: =$F$4+J4 -> 360 | N4: =$F$4+L4 -> 450 | P4: =$F$4+N4 -> 540 | R4: 비 고
A5: 공 종
A6: 토 공 | D6: 0.04 | F6: 0.01 | H6: =F6 -> 0.01 | J6: =H6 -> 0.01 | L6: =D6-F6-H6-J6 -> 0.01 | R6: 12402444 | U6: 0.04 | W6: =R6/R16 -> 0.039993225 | X6: =W6/4 -> 0.0099983061 | AC6: 0.126 | AE6: 0.126 | AG6: 0.126 | AI6: 0.126 | AK6: 0.126 | AM6: =SUM(AC6:AL6) -> 0.63
R7: 189514 | AC7: 12.6 | AE7: 12.6 | AG7: 12.6 | AI7: 12.6 | AK7: 12.6 | AM7: =SUM(AC7:AL7) -> 63
A8: 배수공 | D8: 0.085 | H8: 0.028 | J8: =H8 -> 0.028 | L8: =D8-H8-J8 -> 0.029 | R8: 26361683 | U8: 0.085 | W8: =R8/R16 -> 0.085006528 | X8: =W8/3 -> 0.028335509
R9: 189514
A10: 구조물공 | D10: 0.26 | J10: 0.087 | L10: =J10 -> 0.087 | N10: =D10-J10-L10 -> 0.086 | R10: 81322276 | U10: 0.26 | W10: =R10/R16 -> 0.2622338 | X10: =W10/3 -> 0.087411267
R11: 289188
A12: 포장공 | D12: 0.476 | L12: 0.158 | N12: =L12 -> 0.158 | P12: =D12-L12-N12 -> 0.16 | R12: 147170283 | U12: 0.476 | W12: =R12/R16 -> 0.4745689 | X12: =W12/3 -> 0.15818963
R13: 2121771
A14: 부대공 | D14: 0.139 | F14: 0.023 | H14: =F14 -> 0.023 | J14: =F14 -> 0.023 | L14: =F14 -> 0.023 | N14: =F14 -> 0.023 | P14: =D14-F14-H14-J14-L14-N14 -> 0.024 | R14: 42856943 | U14: 0.139 | W14: =R14/R16 -> 0.13819755 | X14: =W14/6 -> 0.023032925 | AC14: 13.6 | AD14: 13.6 | AE14: 13.7 | AF14: 13.7 | AG14: 13.7 | AH14: 13.7 | AJ14: =SUM(AC14:AI14) -> 82
U15: =SUM(U6:U14) -> 1 | AC15: 3 | AD15: 3 | AE15: 3 | AF15: 3 | AG15: 3 | AH15: 3 | AJ15: =SUM(AC15:AI15) -> 18
A16: 계 | D16: =D6+D14+D10 -> 0.439 | F16: =F6+F14+F10+F12+F8 -> 0.033 | H16: =H6+H14+H10+H12+H8 -> 0.061 | J16: =J6+J14+J10+J12+J8 -> 0.148 | L16: =L6+L14+L10+L12+L8 -> 0.307 | N16: =N6+N14+N10+N12+N8 -> 0.267 | P16: =P6+P14+P10+P12+P8 -> 0.184 | R16: 310113629 | AJ16: =SUM(AJ14:AJ15) -> 100
A18: 누 계 | D18: =D16 -> 0.439 | F18: =F16 -> 0.033 | H18: =F18+H16 -> 0.094 | J18: =H18+J16 -> 0.242 | L18: =J18+L16 -> 0.549 | N18: =L18+N16 -> 0.816 | P18: =N18+P16 -> 1
A22: 동 원 인 원 계 획 표
A25: 기 간 | F25: =F4 -> 90 | H25: =H4 -> 180 | J25: =J4 -> 270 | L25: =L4 -> 360 | N25: =N4 -> 450 | P25: =P4 -> 540 | R25: 합 계 | U25: =내역서!J176 -> 154668680 | V25: 150000 | W25: =U25/(V25+V26)/2 -> 234.34648 | X25: =W25*40% -> 93.738594
A26: 공 종 | V26: 180000 | X26: =W25-X25 -> 140.60789
A27: 보통인부 | D27: 93 | F27: =ROUND($D27*F16,0) -> 3 | H27: =ROUND($D27*H16,0) -> 6 | J27: =ROUND($D27*J16,0) -> 14 | L27: =ROUND($D27*L16,0) -> 29 | N27: =ROUND($D27*N16,0) -> 25 | P27: =ROUND($D27*P16,0)-1 -> 16 | R27: =SUM(F27:Q28) -> 93
A29: 특별인부 | D29: 140 | F29: =ROUND($D29*F16,0) -> 5 | H29: =ROUND($D29*H16,0) -> 9 | J29: =ROUND($D29*J16,0) -> 21 | L29: =ROUND($D29*L16,0) -> 43 | N29: =ROUND($D29*N16,0)+1 -> 38 | P29: =ROUND($D29*P16,0)-2 -> 24 | R29: =SUM(F29:Q30) -> 140
A31: 소 계 | D31: =SUM(D27:E30) -> 233 | F31: =SUM(F27:G30) -> 8 | H31: =SUM(H27:I30) -> 15 | J31: =SUM(J27:K30) -> 35 | L31: =SUM(L27:M30) -> 72 | N31: =SUM(N27:O30) -> 63 | P31: =SUM(P27:Q30) -> 40 | R31: =R27+R29 -> 233
A33: 누 계 | F33: =F31 -> 8 | H33: =F33+H31 -> 23 | J33: =H33+J31 -> 58 | L33: =J33+L31 -> 130 | N33: =L33+N31 -> 193 | P33: =N33+P31 -> 233

Sheet 갑지-출력X
A1: 2 0 2 0 년 0 2 월 일 설 계 | M1: 설 계 자 | S1: 심 사 자 | Y1: 과 장 | AE1: 소 장
B4: 2020 년도
A6: ='표지,목차'!B3 & " 설계예산서" -> 국도26호선 진안 부귀교차로 등 2개소 병목지점 개선공사 설계예산서
B10: ◈ 공 사 개 요 | Q10: ◈ 공 사 금 액
R12: ○ 총 공 사 비 | X12: : | Y12: 일금 | AA12: =AA14+AA20+AA22+AA24 -> 843900000 | AF12: 원정 | AL12: =AL14+AL20+AL22 -> 683511600
W14: - 도 급 예 정 액 | X14: : | Y14: 일금 | AA14: =AA16+AA18 -> 587400000 | AF14: 원정 | AL14: =AA14*0.876 -> 514562400
T16: 공 급 가 액 | X16: : | Y16: 일금 | AA16: =내역서!F197 -> 534000000 | AF16: 원정
T18: 부 가 가 치 세 | X18: : | Y18: 일금 | AA18: =내역서!F198 -> 53400000 | AF18: 원정
W20: - 관급자재비 | X20: : | AA20: =내역서!F204 -> 136800000 | AL20: =AA20 -> 136800000
W22: 폐기물처리비 | X22: : | AA22: =내역서!F201 -> 36700000 | AL22: =AA22*0.876 -> 32149200
W24: 용지보상비 | X24: : | Y24: 일금 | AA24: =내역서!F243 -> 83000000
A26: 국 토 교 통 부
A27: 남원국토관리사무소
A29: 2 0 1 7 년 04 월 일 설 계 | L29: 설 계 자 | Q29: 심 사 자 | V29: 공사관리관 | AA29: 과 장 | AF29: 소 장
B32: =B4 -> 2020 년도
A34: ='표지,목차'!B3 & " 설계서" -> 국도26호선 진안 부귀교차로 등 2개소 병목지점 개선공사 설계서
A46: 국 토 교 통 부
A47: 남원 국토관리사무소

Sheet 내역서
A1: 공 종 | B1: 규 격 | C1: 수 량 | D1: 단위 | E1: 합 계 | G1: 재 료 비 | I1: 노 무 비 | K1: 경 비 | M1: 비 고
E2: 단 가 | F2: 금 액 | G2: 단 가 | H2: 금 액 | I2: 단 가 | J2: 금 액 | K2: 단 가 | L2: 금 액
A3: 국도26호선 진안 부귀교차로 등 2개소 병목지점 개선공사 설계예산내역서 | F3: {='갑지-출력X'!AA12:AE12} -> 843900000 | G3: 0 | H3: 0 | I3: 0 | J3: 0
A4: 1.부귀교차로 | F4: =H4+J4+L4 -> 280833170 | G4: 0 | H4: =H5+H32+H72+H82+H94+H118 -> 121058593 | I4: 0 | J4: =J5+J32+J72+J82+J94+J118 -> 130245048 | K4: 0 | L4: =L5+L32+L72+L82+L94+L118 -> 29529529
A5: 1)토공 | F5: =H5+J5+L5 -> 59678730 | G5: 0 | H5: =H6+H16 -> 16073581 | I5: 0 | J5: =J6+J16 -> 32322320 | K5: 0 | L5: =L6+L16 -> 11282829
A6: 1]구조물깨기 | F6: =H6+J6+L6 -> 10988155 | G6: 0 | H6: =SUM(H7:H15) -> 2085116 | I6: 0 | J6: =SUM(J7:J15) -> 6421285 | K6: 0 | L6: =SUM(L7:L15) -> 2481754 | P6: =F6+F8+#REF!+#REF!+#REF!+#REF! -> #REF!
A7: 무근콘크리트깨기 | B7: T=30cm미만 | C7: 82 | D7: ㎥ | E7: =G7+I7+K7 -> 36028 | F7: =H7+J7+L7 -> 2954296 | G7: 6704 | H7: =TRUNC(C7*G7,0) -> 549728 | I7: 20331 | J7: =TRUNC(C7*I7,0) -> 1667142 | K7: 8993 | L7: =TRUNC(C7*K7,0) -> 737426
A8: 무근콘크리트깨기 | B8: T=30cm이상 | C8: 18 | D8: ㎥ | E8: =G8+I8+K8 -> 44614 | F8: =H8+J8+L8 -> 803052 | G8: 8255 | H8: =TRUNC(C8*G8,0) -> 148590 | I8: 25194 | J8: =TRUNC(C8*I8,0) -> 453492 | K8: 11165 | L8: =TRUNC(C8*K8,0) -> 200970
A9: 철근콘크리트깨기 | B9: T=30cm미만 | C9: 14 | D9: ㎥ | E9: =G9+I9+K9 -> 87216 | F9: =H9+J9+L9 -> 1221024 | G9: 13549 | H9: =TRUNC(C9*G9,0) -> 189686 | I9: 57812 | J9: =TRUNC(C9*I9,0) -> 809368 | K9: 15855 | L9: =TRUNC(C9*K9,0) -> 221970
A10: 철근콘크리트깨기 | B10: T=30cm이상 | C10: 10 | D10: ㎥ | E10: =G10+I10+K10 -> 98539 | F10: =H10+J10+L10 -> 985390 | G10: 15594 | H10: =TRUNC(C10*G10,0) -> 155940 | I10: 64226 | J10: =TRUNC(C10*I10,0) -> 642260 | K10: 18719 | L10: =TRUNC(C10*K10,0) -> 187190
A11: 아스팔트포장깨기 | B11: 대형브레이커+0.7㎥ | C11: 91 | D11: ㎥ | E11: =G11+I11+K11 -> 14008 | F11: =H11+J11+L11 -> 1274728 | G11: 2727 | H11: =TRUNC(C11*G11,0) -> 248157 | I11: 7858 | J11: =TRUNC(C11*I11,0) -> 715078 | K11: 3423 | L11: =TRUNC(C11*K11,0) -> 311493
A12: 콘크리트포장깨기 | B12: 대형브레이커+0.7㎥ | C12: 55 | D12: ㎥ | E12: =G12+I12+K12 -> 36028 | F12: =H12+J12+L12 -> 1981540 | G12: 6704 | H12: =TRUNC(C12*G12,0) -> 368720 | I12: 20331 | J12: =TRUNC(C12*I12,0) -> 1118205 | K12: 8993 | L12: =TRUNC(C12*K12,0) -> 494615
A13: 콘크리트포장절단 | B13: 1차로(기계) | C13: 9 | D13: m | E13: =G13+I13+K13 -> 2705 | F13: =H13+J13+L13 -> 24345 | G13: 860 | H13: =TRUNC(C13*G13,0) -> 7740 | I13: 1760 | J13: =TRUNC(C13*I13,0) -> 15840 | K13: 85 | L13: =TRUNC(C13*K13,0) -> 765
A14: 아스팔트포장절단 | C14: 155 | D14: m | E14: =G14+I14+K14 -> 2328 | F14: =H14+J14+L14 -> 360840 | G14: 733 | H14: =TRUNC(C14*G14,0) -> 113615 | I14: 1530 | J14: =TRUNC(C14*I14,0) -> 237150 | K14: 65 | L14: =TRUNC(C14*K14,0) -> 10075
A15: 폐기물상차 | B15: 백호0.7㎥ | C15: 270 | D15: ㎥ | E15: =G15+I15+K15 -> 5122 | F15: =H15+J15+L15 -> 1382940 | G15: 1122 | H15: =TRUNC(C15*G15,0) -> 302940 | I15: 2825 | J15: =TRUNC(C15*I15,0) -> 762750 | K15: 1175 | L15: =TRUNC(C15*K15,0) -> 317250
A16: 2]일반토공 | F16: =H16+J16+L16 -> 48690575 | G16: 0 | H16: =SUM(H17:H31) -> 13988465 | I16: 0 | J16: =SUM(J17:J31) -> 25901035 | K16: 0 | L16: =SUM(L17:L31) -> 8801075
A17: 표토제거 | B17: 답구간-BH0.7㎥ | C17: 716 | D17: ㎡ | E17: =G17+I17+K17 -> 400 | F17: =H17+J17+L17 -> 286400 | G17: 87 | H17: =TRUNC(C17*G17,0) -> 62292 | I17: 221 | J17: =TRUNC(C17*I17,0) -> 158236 | K17: 92 | L17: =TRUNC(C17*K17,0) -> 65872
A18: 표토제거 | B18: 답외구간-BH0.7㎥ | C18: 1784 | D18: ㎡ | E18: =G18+I18+K18 -> 314 | F18: =H18+J18+L18 -> 560176 | G18: 69 | H18: =TRUNC(C18*G18,0) -> 123096 | I18: 173 | J18: =TRUNC(C18*I18,0) -> 308632 | K18: 72 | L18: =TRUNC(C18*K18,0) -> 128448
A19: 벌개제근 | B19: 뿌리뽑기 | C19: 321 | D19: ㎡ | E19: =G19+I19+K19 -> 506 | F19: =H19+J19+L19 -> 162426 | G19: 37 | H19: =TRUNC(C19*G19,0) -> 11877 | I19: 404 | J19: =TRUNC(C19*I19,0) -> 129684 | K19: 65 | L19: =TRUNC(C19*K19,0) -> 20865
A20: 벌목 | B20: 5m이상∼8m미만 | C20: 321 | D20: ㎡ | E20: =G20+I20+K20 -> 1210 | F20: =H20+J20+L20 -> 388410 | G20: 35 | H20: =TRUNC(C20*G20,0) -> 11235 | I20: 1031 | J20: =TRUNC(C20*I20,0) -> 330951 | K20: 144 | L20: =TRUNC(C20*K20,0) -> 46224
A21: 흙깎기 | B21: 백호0.7㎥ | C21: 53 | D21: ㎥ | E21: =G21+I21+K21 -> 1662 | F21: =H21+J21+L21 -> 88086 | G21: 364 | H21: =TRUNC(C21*G21,0) -> 19292 | I21: 917 | J21: =TRUNC(C21*I21,0) -> 48601 | K21: 381 | L21: =TRUNC(C21*K21,0) -> 20193
A22: 무대운반 | C22: 1481 | D22: ㎥ | E22: =G22+I22+K22 -> 0 | F22: =H22+J22+L22 -> 0 | G22: 0 | H22: =TRUNC(C22*G22,0) -> 0 | I22: 0 | J22: =TRUNC(C22*I22,0) -> 0 | K22: 0 | L22: =TRUNC(C22*K22,0) -> 0
A23: 도쟈운반(토사) | B23: 도쟈32톤 | C23: 56 | D23: ㎥ | E23: =G23+I23+K23 -> 1298 | F23: =H23+J23+L23 -> 72688 | G23: 556 | H23: =TRUNC(C23*G23,0) -> 31136 | I23: 410 | J23: =TRUNC(C23*I23,0) -> 22960 | K23: 332 | L23: =TRUNC(C23*K23,0) -> 18592
A24: 순성토운반(토사) | B24: L=10km | C24: 2104 | D24: ㎥ | E24: =G24+I24+K24 -> 14347 | F24: =H24+J24+L24 -> 30186088 | G24: 3651 | H24: =TRUNC(C24*G24,0) -> 7681704 | I24: 7824 | J24: =TRUNC(C24*I24,0) -> 16461696 | K24: 2872 | L24: =TRUNC(C24*K24,0) -> 6042688
A25: 흙쌓기(노상) | B25: 백호0.7㎥ | C25: 1592 | D25: ㎥ | E25: =G25+I25+K25 -> 2626 | F25: =H25+J25+L25 -> 4180592 | G25: 635 | H25: =TRUNC(C25*G25,0) -> 1010920 | I25: 1469 | J25: =TRUNC(C25*I25,0) -> 2338648 | K25: 522 | L25: =TRUNC(C25*K25,0) -> 831024
A26: 흙쌓기(노체) | B26: 백호0.7㎥ | C26: 1110 | D26: ㎥ | E26: =G26+I26+K26 -> 2370 | F26: =H26+J26+L26 -> 2630700 | G26: 567 | H26: =TRUNC(C26*G26,0) -> 629370 | I26: 1339 | J26: =TRUNC(C26*I26,0) -> 1486290 | K26: 464 | L26: =TRUNC(C26*K26,0) -> 515040
A27: 노반준비공 | B27: 절토부 | C27: 883 | D27: ㎡ | E27: =G27+I27+K27 -> 227 | F27: =H27+J27+L27 -> 200441 | G27: 39 | H27: =TRUNC(C27*G27,0) -> 34437 | I27: 134 | J27: =TRUNC(C27*I27,0) -> 118322 | K27: 54 | L27: =TRUNC(C27*K27,0) -> 47682
A28: 초류종자살포 | B28: 씨드스프레이+거적덮기 | C28: 869 | D28: ㎡ | E28: =G28+I28+K28 -> 4830 | F28: =H28+J28+L28 -> 4197270 | G28: 3846 | H28: =TRUNC(C28*G28,0) -> 3342174 | I28: 883 | J28: =TRUNC(C28*I28,0) -> 767327 | K28: 101 | L28: =TRUNC(C28*K28,0) -> 87769
A29: 층따기 | B29: 백호0.7㎥ | C29: 283 | D29: ㎥ | E29: =G29+I29+K29 -> 2096 | F29: =H29+J29+L29 -> 593168 | G29: 459 | H29: =TRUNC(C29*G29,0) -> 129897 | I29: 1156 | J29: =TRUNC(C29*I29,0) -> 327148 | K29: 481 | L29: =TRUNC(C29*K29,0) -> 136123
A30: 터파기 | B30: 백호0.7㎥(100%) | C30: 1080 | D30: ㎥ | E30: =G30+I30+K30 -> 1940 | F30: =H30+J30+L30 -> 2095200 | G30: 425 | H30: =TRUNC(C30*G30,0) -> 459000 | I30: 1070 | J30: =TRUNC(C30*I30,0) -> 1155600 | K30: 445 | L30: =TRUNC(C30*K30,0) -> 480600
A31: 되메우기및다짐(진동롤러) | B31: 백호0.7㎥(100%) | C31: 855 | D31: ㎥ | E31: =G31+I31+K31 -> 3566 | F31: =H31+J31+L31 -> 3048930 | G31: 517 | H31: =TRUNC(C31*G31,0) -> 442035 | I31: 2628 | J31: =TRUNC(C31*I31,0) -> 2246940 | K31: 421 | L31: =TRUNC(C31*K31,0) -> 359955
A32: 2)배수공 | F32: =H32+J32+L32 -> 75360350 | G32: 0 | H32: =H33+H40+H47+H52+H55+H64+H69 -> 16611502 | I32: 0 | J32: =J33+J40+J47+J52+J55+J64+J69 -> 55585157 | K32: 0 | L32: =L33+L40+L47+L52+L55+L64+L69 -> 3163691
A33: 1]L형측구 | F33: =H33+J33+L33 -> 14430865 | G33: 0 | H33: =SUM(H34:H39) -> 1787049 | I33: 0 | J33: =SUM(J34:J39) -> 12089421 | K33: 0 | L33: =SUM(L34:L39) -> 554395
A34: 레미콘타설(장비사용타설) | B34: 무근구조물 | C34: 64 | D34: ㎥ | E34: =G34+I34+K34 -> 30026 | F34: =H34+J34+L34 -> 1921664 | G34: 3024 | H34: =TRUNC(C34*G34,0) -> 193536 | I34: 23246 | J34: =TRUNC(C34*I34,0) -> 1487744 | K34: 3756 | L34: =TRUNC(C34*K34,0) -> 240384
A35: 유로폼 | B35: 간단,0~7m | C35: 317 | D35: ㎡ | E35: =G35+I35+K35 -> 36180 | F35: =H35+J35+L35 -> 11469060 | G35: 3344 | H35: =TRUNC(C35*G35,0) -> 1060048 | I35: 31880 | J35: =TRUNC(C35*I35,0) -> 10105960 | K35: 956 | L35: =TRUNC(C35*K35,0) -> 303052
A36: 철근조립 | B36: Type-2-2 | C36: 0.42 | D36: Ton | E36: =G36+I36+K36 -> 677478 | F36: =H36+J36+L36 -> 284539 | G36: 20560 | H36: =TRUNC(C36*G36,0) -> 8635 | I36: 644038 | J36: =TRUNC(C36*I36,0) -> 270495 | K36: 12880 | L36: =TRUNC(C36*K36,0) -> 5409
A37: 신축이음 | B37: 스치로폴(t=10mm) | C37: 3 | D37: ㎡ | E37: =G37+I37+K37 -> 10346 | F37: =H37+J37+L37 -> 31038 | G37: 1316 | H37: =TRUNC(C37*G37,0) -> 3948 | I37: 9030 | J37: =TRUNC(C37*I37,0) -> 27090 | K37: 0 | L37: =TRUNC(C37*K37,0) -> 0
A38: 줄눈설치 | B38: 수축줄눈 | C38: 74 | D38: m | E38: =G38+I38+K38 -> 6323 | F38: =H38+J38+L38 -> 467902 | G38: 3734 | H38: =TRUNC(C38*G38,0) -> 276316 | I38: 2514 | J38: =TRUNC(C38*I38,0) -> 186036 | K38: 75 | L38: =TRUNC(C38*K38,0) -> 5550
A39: 비닐깔기 | C39: 378 | D39: ㎡ | E39: =G39+I39+K39 -> 679 | F39: =H39+J39+L39 -> 256662 | G39: 647 | H39: =TRUNC(C39*G39,0) -> 244566 | I39: 32 | J39: =TRUNC(C39*I39,0) -> 12096 | K39: 0 | L39: =TRUNC(C39*K39,0) -> 0
A40: 2]집수정 | F40: =H40+J40+L40 -> 5649459 | G40: 0 | H40: =SUM(H41:H46) -> 3745538 | I40: 0 | J40: =SUM(J41:J46) -> 1859412 | K40: 0 | L40: =SUM(L41:L46) -> 44509
...

Sheet 제경비산출서
A1: 제 경 비 산 출 서
A3: 공 종 | B3: 계 | C3: 재 료 비 | I3: 노 무 비 | Q3: 경 비
A4: - 직 접 공 사 비 계 | B4: =C4+I4+Q4 -> 337704593 | C4: =내역서!H176 -> 148038447 | I4: =내역서!J176 -> 154668680 | Q4: =내역서!L176 -> 34997466
A5: 1. 간 접 노 무 비 | B5: =J5 -> 30624398 | D5: =I4 -> 154668680 | E5: × | F5: 0.198 | I5: = | J5: =INT(D5*F5) -> 30624398
A6: 2. 산 재 보 험 료 | B6: =Q6 -> 6596433 | C6: ( | D6: =I4 -> 154668680 | E6: + | F6: =B5 -> 30624398 | J6: ) × | L6: 0.0356 | P6: = | Q6: =INT((D6+F6)*L6) -> 6596433
A7: 3. 고 용 보 험 료 | B7: =Q7 -> 1871460 | C7: ( | D7: =I4 -> 154668680 | E7: + | F7: =B5 -> 30624398 | J7: ) × | L7: 0.0101 | P7: = | Q7: =INT((D7+F7)*L7) -> 1871460
A8: 4. 건 강 보 험 료 | B8: =Q8 -> 5560339 | C8: ( | D8: =I4 -> 154668680 | E8: )x | F8: 0.03595 | P8: = | Q8: =INT((D8*F8)) -> 5560339
A9: 5. 연 금 보 험 료 | B9: =Q9 -> 7346762 | C9: ( | D9: =I4 -> 154668680 | E9: )x | F9: 0.0475 | P9: = | Q9: =INT((D9*F9)) -> 7346762
A10: 6. 퇴직공제부금비 | B10: =Q10 -> 3557379 | C10: ( | D10: =I4 -> 154668680 | E10: )x | F10: 0.023 | P10: = | Q10: =INT((D10*F10)) -> 3557379
A11: 7. 노인장기요양보험료 | B11: =Q11 -> 730628 | C11: ( | D11: =B8 -> 5560339 | E11: )x | F11: 0.1314 | P11: = | Q11: =INT((D11*F11)) -> 730628
A12: 8. 석면분담금 | B12: =Q12 -> 11117 | C12: ( | D12: =I4 -> 154668680 | E12: + | F12: =B5 -> 30624398 | J12: ) × | L12: 6e-05 | P12: = | Q12: =INT((D12+F12)*L12) -> 11117
A13: 9. 임금채권부담금 | B13: =Q13 -> 166763 | C13: ( | D13: =I4 -> 154668680 | E13: + | F13: =B5 -> 30624398 | J13: ) × | L13: 0.0009 | P13: = | Q13: =INT((D13+F13)*L13) -> 166763
A14: 10. 건설기계대여대금 | B14: =T14 -> 1350818 | C14: ( | D14: =C4 -> 148038447 | E14: + | F14: =I4 -> 154668680 | J14: + | K14: =Q4 -> 34997466 | P14: )× | Q14: 0.004 | S14: = | T14: =INT((D14+F14+K14)*Q14) -> 1350818
A15: 11. 산업안전보건관리비 | B15: =MIN(T15:W16) -> 11442329 | C15: ( | D15: =C4 -> 148038447 | E15: + | F15: =I4 -> 154668680 | J15: + | K15: =내역서!F204/1.1 -> 1.2436364e+08 | N15: ) x | O15: 0.0315 | S15: = | T15: =INT((D15+F15+K15)*O15)+Q15 -> 13452729 | X15: (미적용) | AF15: 쌍암1교
C16: [( | D16: =D15 -> 148038447 | E16: + | F16: =F15 -> 154668680 | J16: ) x | K16: =O15 -> 0.0315 | P16: )]x | Q16: 1.2 | S16: = | T16: =INT(((D16+F16)*K16+N16)*Q16) -> 11442329 | X16: (적용) | AB16: 84183980 | AC16: 172973880 | AD16: =AC16-AB16 -> 88789900 | AF16: 양지3교
A17: 12. 환 경 보 전 비 | B17: =T17 -> 3039341 | C17: ( | D17: =C4 -> 148038447 | E17: + | F17: =I4 -> 154668680 | J17: + | K17: =Q4 -> 34997466 | P17: )× | Q17: 0.009 | S17: = | T17: =INT((D17+F17+K17)*Q17) -> 3039341 | AB17: 3248748 | AC17: 7112124 | AD17: =AC17-AB17 -> 3863376 | AF17: 양지2교
A18: 13. 기 타 경 비 | B18: =T18 -> 20333223 | C18: ( | D18: =C4 -> 148038447 | E18: + | F18: =I4 -> 154668680 | J18: + | K18: =B5 -> 30624398 | P18: )× | Q18: 0.061 | S18: = | T18: =INT((D18+F18+K18)*Q18) -> 20333223 | AB18: 560000 | AC18: 560000 | AD18: =AC18-AB18 -> 0 | AF18: 용내교
A19: 14. 건설하도급발급수수료 | B19: =T19 -> 273540 | C19: ( | D19: =C4 -> 148038447 | E19: + | F19: =I4 -> 154668680 | J19: + | K19: =Q4 -> 34997466 | P19: )× | Q19: 0.00081 | S19: = | T19: =INT((D19+F19+K19)*Q19) -> 273540
A20: 15. 품 질 관 리 비 | B20: =내역서!F230 -> 5400719
A21: 16. 안 전 관 리 비 | B21: =내역서!F237 -> 4682057
A22: - 순 공 사 원 가 | B22: =SUM(B4:B21) -> 440691899 | AB22: 8799272 | AC22: 18064600 | AD22: =AC22-AB22 -> 9265328 | AF22: 반월1교
A23: 17. 일 반 관 리 비 | B23: =J23 -> 35255351 | D23: =B22 -> 440691899 | E23: × | F23: 0.08 | I23: = | J23: =INT(D23*F23) -> 35255351 | AB23: 96792000 | AC23: 198710600 | AD23: =AC23-AB23 -> 101918600 | AF23: 반월2교
A24: 18. 이 윤 | B24: =B26-B23-B22-B25 -> 48882032 | C24: ( | D24: =B22 -> 440691899 | E24: + | F24: =B23 -> 35255351 | J24: - | K24: =C4 -> 148038447 | P24: )× | Q24: 0.15 | S24: = | T24: =INT(((D24+F24-K24)*Q24)) -> 49186320 | Z24: =T24-B24 -> 304288 | AF24: 덕산IC교
A25: 19. P.S(미확정공정) | B25: =내역서!F234 -> 9170718
A26: - 공 급 가 액 | B26: =ROUNDDOWN(Z26,-6) -> 534000000 | Z26: =T24+B23+B22+B25 -> 534304288 | AF26: 금복교
A27: - 부 가 가 치 세 | B27: =J27 -> 53400000 | D27: =B26 -> 534000000 | E27: × | F27: 0.1 | I27: = | J27: =(D27*F27) -> 53400000 | AF27: 쌍암3교
A28: O 도 급 예 정 액 | B28: =SUM(B26:B27) -> 587400000 | AF28: 일중교
AF29: 조산지하차도(상,하)
AF30: 가림지하차도
AF31: 블로치터널
AF32: 국포교
AF33: 하교교
AF34: 종평교
AF35: 내월교
AF36: 싸리재지하차도
AF37: 율천교
AF38: 하등교
AF39: 학석IC교
AF40: 회문교(상,하)
... AF65: 구룡육교
