Workbook

Sheet 원가계산서
B1: 제 조 원 가 계 산 서
B2: 공사명 : 구례양수장 분전반 | F2: 금액 : 칠백이십오만구천오십구원(￦10,560,000)
B3: 비 목 | E3: 금 액 | F3: 구 성 비 | G3: 비 고
A4: A1 | B4: 순 공 사 원 가 | C4: 재 료 비 | D4: 직 접 재 료 비 | E4: =TRUNC(공종별집계표!F5, 0) -> 5428541 | F4: 산출재료비 * 100%
A5: A2 | D5: 간 접 재 료 비 | E5: =TRUNC(E4*0.0117, 0) -> 63513 | F5: 직접재료비 * 1.17%
A6: A3 | D6: 작업설, 부산물(△) | E6: 0
A7: AS | D7: [ 소 계 ] | E7: =TRUNC(E4+E5-E6, 0) -> 5492054
A8: B1 | C8: 노 무 비 | D8: 직 접 노 무 비 | E8: =TRUNC((공종별집계표!H5)*1.2025, 0) -> 1699654 | F8: 산출노무비 * 120.25%
A9: B2 | D9: 간 접 노 무 비 | E9: =TRUNC(E8*0.303, 0) -> 514995 | F9: 직접노무비 * 30.3%
A10: BS | D10: [ 소 계 ] | E10: =TRUNC(E8+E9, 0) -> 2214649
A11: C2 | C11: 경 비 | D11: 경 비 | E11: =TRUNC(E7*0.0907, 0) -> 498129 | F11: 재료비 * 9.07%
A12: CS | D12: [ 소 계 ] | E12: =TRUNC(E11, 0) -> 498129
A13: S1 | B13: 계 | E13: =TRUNC(E7+E10+E12, 0) -> 8204832
A14: D1 | B14: 일 반 관 리 비 | E14: =TRUNC(E13*0.07, 0) -> 574338 | F14: 계 * 7%
A15: D2 | B15: 이 윤 | E15: =TRUNC((E10+E12+E14)*0.25, 0) -> 821779 | F15: (노무비+경비+일반관리비) * 25%
A16: D9 | B16: 공 급 가 액 | E16: =TRUNC(E13+E14+E15, 0) -> 9600949
A17: DB | B17: 부 가 가 치 세 | E17: =TRUNC(E16*0.1, 0) -> 960094 | F17: 공급가액 * 10%
A18: DH | B18: 도 급 액 | E18: =TRUNC(E16+E17, -4) -> 10560000
A19: S2 | B19: 총 공 사 비 | E19: =TRUNC(E18+0, 0) -> 10560000

Sheet 공종별집계표
A1: 공 종 별 집 계 표
A2: [ 구례양수장 분전반 ]
A3: 품 명 | B3: 규 격 | C3: 단위 | D3: 수량 | E3: 재 료 비 | G3: 노 무 비 | I3: 경 비 | K3: 합 계 | M3: 비 고 | N3: 공종코드 | O3: 변수 | P3: 상위공종 | Q3: 공종구분 | R3: 공종레벨 | S3: 공종소계 | T3: 원가계산서 연결금액
E4: 단 가 | F4: 금 액 | G4: 단 가 | H4: 금 액 | I4: 단 가 | J4: 금 액 | K4: 단 가 | L4: 금 액
A5: 01 구례양수장 분전반 | D5: 1 | E5: =F6 -> 5428541 | F5: =E5*D5 -> 5428541 | G5: =H6 -> 1413434 | H5: =G5*D5 -> 1413434 | I5: =J6 -> 0 | J5: =I5*D5 -> 0 | K5: =E5+G5+I5 -> 6841975 | L5: =F5+H5+J5 -> 6841975 | N5: 01 | R5: 1
A6: 0101 분전반 제작 | D6: 1 | E6: =공종별내역서!F55 -> 5428541 | F6: =E6*D6 -> 5428541 | G6: =공종별내역서!H55 -> 1413434 | H6: =G6*D6 -> 1413434 | I6: =공종별내역서!J55 -> 0 | J6: =I6*D6 -> 0 | K6: =E6+G6+I6 -> 6841975 | L6: =F6+H6+J6 -> 6841975 | N6: 0101 | P6: 01 | R6: 2
A29: [ 합 계 ] | F29: =F5 -> 5428541 | H29: =H5 -> 1413434 | J29: =J5 -> 0 | L29: =L5 -> 6841975

Sheet 공종별내역서
A1: [ 구례양수장 분전반 ]
A2: 품 명 | B2: 규 격 | C2: 단위 | D2: 수량 | E2: 재 료 비 | G2: 노 무 비 | I2: 경 비 | K2: 합 계 | M2: 비 고 | N2: 품목코드 | O2: 변수 | P2: 설정 | Q2: 공종코드 | R2: 일위 | S2: 단산 | T2: 자재 | U2: 손료적용 | V2: 손료저장 | W2: 적용율 | X2: JUK1 | Y2: JUK2 | Z2: JUK3 | AA2: JUK4 | AB2: JUK5 | AC2: JUK6 | AD2: JUK7 | AE2: JUK8 | AF2: JUK9 | AG2: JUK10 | AH2: JUK11 | AI2: JUK12 | AJ2: JUK13 | AK2: JUK14 | AL2: JUK15 | AM2: JUK16 | AN2: JUK17 | AO2: JUK18 | AP2: JUK19 | AQ2: JUK20 | AR2: 자재구분 | AS2: 공종구분 | AT2: 공종레벨 | AU2: 공종+자재 | AV2: 고유번호
E3: 단 가 | F3: 금 액 | G3: 단 가 | H3: 금 액 | I3: 단 가 | J3: 금 액 | K3: 단 가 | L3: 금 액
A4: 0101 조작반 제작 | Q4: 0101
A5: 동력분전반 외함 | B5: STS 0.8(W)x0.6(D)x1.2(H) | C5: 면 | D5: 1 | E5: =TRUNC(단가대비표!O26,0) -> 1692900 | F5: =TRUNC(E5*D5, 0) -> 1692900 | G5: =TRUNC(단가대비표!P26,0) -> 0 | H5: =TRUNC(G5*D5, 0) -> 0 | I5: =TRUNC(단가대비표!V26,0) -> 0 | J5: =TRUNC(I5*D5, 0) -> 0 | K5: =TRUNC(E5+G5+I5, 0) -> 1692900 | L5: =TRUNC(F5+H5+J5, 0) -> 1692900 | N5: 53C54246E93811847062BA8C2C9B9A26717B24 | Q5: 0101 | R5: F | S5: F | T5: T | AU5: 010153C54246E93811847062BA8C2C9B9A26717B24 | AV5: 31
A6: DOOR HANDLE (배전반용) | B6: W/KEY(M) | C6: 개 | D6: 1 | E6: =TRUNC(단가대비표!O9,0) -> 4170 | F6: =TRUNC(E6*D6, 0) -> 4170 | G6: =TRUNC(단가대비표!P9,0) -> 0 | H6: =TRUNC(G6*D6, 0) -> 0 | I6: =TRUNC(단가대비표!V9,0) -> 0 | J6: =TRUNC(I6*D6, 0) -> 0 | K6: =TRUNC(E6+G6+I6, 0) -> 4170 | L6: =TRUNC(F6+H6+J6, 0) -> 4170 | N6: 53C54246E93811847062BA8C2C9B9A26717970 | Q6: 0101 | R6: F | S6: F | T6: T | AU6: 010153C54246E93811847062BA8C2C9B9A26717970 | AV6: 5
A7: DOOR HANDLE (배전반용) | B7: PUSH TURN W/KEY(M) | C7: 개 | D7: 1 | E7: =TRUNC(단가대비표!O10,0) -> 2830 | F7: =TRUNC(E7*D7, 0) -> 2830 | G7: =TRUNC(단가대비표!P10,0) -> 0 | H7: =TRUNC(G7*D7, 0) -> 0 | I7: =TRUNC(단가대비표!V10,0) -> 0 | J7: =TRUNC(I7*D7, 0) -> 0 | K7: =TRUNC(E7+G7+I7, 0) -> 2830 | L7: =TRUNC(F7+H7+J7, 0) -> 2830 | N7: 53C54246E93811847062BA8C2C9B9A26717977 | Q7: 0101 | R7: F | S7: F | T7: T | AU7: 010153C54246E93811847062BA8C2C9B9A26717977 | AV7: 6
A8: DOOR STOPPER (배전반용) | B8: STS | C8: 개 | D8: 1 | E8: =TRUNC(단가대비표!O11,0) -> 10000 | F8: =TRUNC(E8*D8, 0) -> 10000 | G8: =TRUNC(단가대비표!P11,0) -> 0 | H8: =TRUNC(G8*D8, 0) -> 0 | I8: =TRUNC(단가대비표!V11,0) -> 0 | J8: =TRUNC(I8*D8, 0) -> 0 | K8: =TRUNC(E8+G8+I8, 0) -> 10000 | L8: =TRUNC(F8+H8+J8, 0) -> 10000 | N8: 53C54246E93811847062BA8C2C9B9A26717976 | Q8: 0101 | R8: F | S8: F | T8: T | AU8: 010153C54246E93811847062BA8C2C9B9A26717976 | AV8: 7
A9: 누전차단기(ELCB) | B9: 분전반용 220V 2P 30AF | C9: 대 | D9: 4 | E9: =TRUNC(단가대비표!O12,0) -> 12000 | F9: =TRUNC(E9*D9, 0) -> 48000 | G9: =TRUNC(단가대비표!P12,0) -> 0 | H9: =TRUNC(G9*D9, 0) -> 0 | I9: =TRUNC(단가대비표!V12,0) -> 0 | J9: =TRUNC(I9*D9, 0) -> 0 | K9: =TRUNC(E9+G9+I9, 0) -> 12000 | L9: =TRUNC(F9+H9+J9, 0) -> 48000 | N9: 53C54246E93811847062BA8C2C9B9A2671797A | Q9: 0101 | R9: F | S9: F | T9: T | AU9: 010153C54246E93811847062BA8C2C9B9A2671797A | AV9: 11
A10: 전자식과전류계전기(EOCR-단자형) | B10: 디지털표시부부착 | C10: 개 | D10: 1 | E10: =TRUNC(단가대비표!O13,0) -> 125000 | F10: =TRUNC(E10*D10, 0) -> 125000 | G10: =TRUNC(단가대비표!P13,0) -> 0 | H10: =TRUNC(G10*D10, 0) -> 0 | I10: =TRUNC(단가대비표!V13,0) -> 0 | J10: =TRUNC(I10*D10, 0) -> 0 | K10: =TRUNC(E10+G10+I10, 0) -> 125000 | L10: =TRUNC(F10+H10+J10, 0) -> 125000 | N10: 53C54246E93811847062BA8C2C9B9A2671786D | Q10: 0101 | R10: F | S10: F | T10: T | AU10: 010153C54246E93811847062BA8C2C9B9A2671786D | AV10: 13
A11: 디지털메터 | B11: 전압, 전류 등, 통신無 | C11: 개 | D11: 1 | E11: =TRUNC(단가대비표!O14,0) -> 350000 | F11: =TRUNC(E11*D11, 0) -> 350000 | G11: =TRUNC(단가대비표!P14,0) -> 0 | H11: =TRUNC(G11*D11, 0) -> 0 | I11: =TRUNC(단가대비표!V14,0) -> 0 | J11: =TRUNC(I11*D11, 0) -> 0 | K11: =TRUNC(E11+G11+I11, 0) -> 350000 | L11: =TRUNC(F11+H11+J11, 0) -> 350000 | N11: 53C54246E93811847062BA8C2C9B9A2671786E | Q11: 0101 | R11: F | S11: F | T11: T | AU11: 010153C54246E93811847062BA8C2C9B9A2671786E | AV11: 14
A12: 단자대 | B12: 10P 30A | C12: 개 | D12: 2 | E12: =TRUNC(단가대비표!O15,0) -> 2500 | F12: =TRUNC(E12*D12, 0) -> 5000 | G12: =TRUNC(단가대비표!P15,0) -> 0 | H12: =TRUNC(G12*D12, 0) -> 0 | I12: =TRUNC(단가대비표!V15,0) -> 0 | J12: =TRUNC(I12*D12, 0) -> 0 | K12: =TRUNC(E12+G12+I12, 0) -> 2500 | L12: =TRUNC(F12+H12+J12, 0) -> 5000 | N12: 53C54246E93811847062BA8C2C9B9A2671786F | Q12: 0101 | R12: F | S12: F | T12: T | AU12: 010153C54246E93811847062BA8C2C9B9A2671786F | AV12: 15
A13: 단자대 | B13: 4P, 30A, 고정식 | C13: 개 | D13: 2 | E13: =TRUNC(단가대비표!O16,0) -> 1890 | F13: =TRUNC(E13*D13, 0) -> 3780 | G13: =TRUNC(단가대비표!P16,0) -> 0 | H13: =TRUNC(G13*D13, 0) -> 0 | I13: =TRUNC(단가대비표!V16,0) -> 0 | J13: =TRUNC(I13*D13, 0) -> 0 | K13: =TRUNC(E13+G13+I13, 0) -> 1890 | L13: =TRUNC(F13+H13+J13, 0) -> 3780 | N13: 53C54246E93811847062BA8C2C9B9A26717868 | Q13: 0101 | R13: F | S13: F | T13: T | AU13: 010153C54246E93811847062BA8C2C9B9A26717868 | AV13: 16
A14: 보조릴레이 | B14: 2A,2B(AC용) | C14: 개 | D14: 1 | E14: =TRUNC(단가대비표!O17,0) -> 13700 | F14: =TRUNC(E14*D14, 0) -> 13700 | G14: =TRUNC(단가대비표!P17,0) -> 0 | H14: =TRUNC(G14*D14, 0) -> 0 | I14: =TRUNC(단가대비표!V17,0) -> 0 | J14: =TRUNC(I14*D14, 0) -> 0 | K14: =TRUNC(E14+G14+I14, 0) -> 13700 | L14: =TRUNC(F14+H14+J14, 0) -> 13700 | N14: 53C54246E93811847062BA8C2C9B9A26717869 | Q14: 0101 | R14: F | S14: F | T14: T | AU14: 010153C54246E93811847062BA8C2C9B9A26717869 | AV14: 17
A15: 푸쉬버튼 스위치 | B15: D25AC110V/220V(조광형) | C15: 개 | D15: 3 | E15: =TRUNC(단가대비표!O18,0) -> 3100 | F15: =TRUNC(E15*D15, 0) -> 9300 | G15: =TRUNC(단가대비표!P18,0) -> 0 | H15: =TRUNC(G15*D15, 0) -> 0 | I15: =TRUNC(단가대비표!V18,0) -> 0 | J15: =TRUNC(I15*D15, 0) -> 0 | K15: =TRUNC(E15+G15+I15, 0) -> 3100 | L15: =TRUNC(F15+H15+J15, 0) -> 9300 | N15: 53C54246E93811847062BA8C2C9B9A2671786A | Q15: 0101 | R15: F | S15: F | T15: T | AU15: 010153C54246E93811847062BA8C2C9B9A2671786A | AV15: 18
A16: 신호등(LED) | B16: D25AC110V/220V | C16: 개 | D16: 4 | E16: =TRUNC(단가대비표!O19,0) -> 5800 | F16: =TRUNC(E16*D16, 0) -> 23200 | G16: =TRUNC(단가대비표!P19,0) -> 0 | H16: =TRUNC(G16*D16, 0) -> 0 | I16: =TRUNC(단가대비표!V19,0) -> 0 | J16: =TRUNC(I16*D16, 0) -> 0 | K16: =TRUNC(E16+G16+I16, 0) -> 5800 | L16: =TRUNC(F16+H16+J16, 0) -> 23200 | N16: 53C54246E93811847062BA8C2C9B9A2671786B | Q16: 0101 | R16: F | S16: F | T16: T | AU16: 010153C54246E93811847062BA8C2C9B9A2671786B | AV16: 19
A17: 서지보호기(카운터)3상4선 | B17: 전원용 Class2, In 20kA이상, Imax 40kA이상,누설전류 검출 | C17: SET | D17: 1 | E17: =TRUNC(단가대비표!O20,0) -> 1850000 | F17: =TRUNC(E17*D17, 0) -> 1850000 | G17: =TRUNC(단가대비표!P20,0) -> 0 | H17: =TRUNC(G17*D17, 0) -> 0 | I17: =TRUNC(단가대비표!V20,0) -> 0 | J17: =TRUNC(I17*D17, 0) -> 0 | K17: =TRUNC(E17+G17+I17, 0) -> 1850000 | L17: =TRUNC(F17+H17+J17, 0) -> 1850000 | N17: 53C54246E93811847062BA8C2C9B9A26717864 | Q17: 0101 | R17: F | S17: F | T17: T | AU17: 010153C54246E93811847062BA8C2C9B9A26717864 | AV17: 20
... A22: PVC DUCT | B22: 30 x 40 x 2m, W/COVER | C22: 개 | D22: 3 | E22: =TRUNC(단가대비표!O25,0) -> 3600 | F22: =TRUNC(E22*D22, 0) -> 10800 | G22: =TRUNC(단가대비표!P25,0) -> 0 | H22: =TRUNC(G22*D22, 0) -> 0 | I22: =TRUNC(단가대비표!V25,0) -> 0 | J22: =TRUNC(I22*D22, 0) -> 0 | K22: =TRUNC(E22+G22+I22, 0) -> 3600 | L22: =TRUNC(F22+H22+J22, 0) -> 10800 | N22: 53C54246E93811847062BA8C2C9B9A26717B23 | Q22: 0101 | R22: F | S22: F | T22: T | AU22: 010153C54246E93811847062BA8C2C9B9A26717B23 | AV22: 25
A23: 배선기구 설치 | B23: 푸시버튼 | C23: 개 | D23: 3 | E23: =TRUNC(일위대가목록!E4,0) -> 555 | F23: =TRUNC(E23*D23, 0) -> 1665 | G23: =TRUNC(일위대가목록!F4,0) -> 18517 | H23: =TRUNC(G23*D23, 0) -> 55551 | I23: =TRUNC(일위대가목록!G4,0) -> 0 | J23: =TRUNC(I23*D23, 0) -> 0 | K23: =TRUNC(E23+G23+I23, 0) -> 19072 | L23: =TRUNC(F23+H23+J23, 0) -> 57216 | N23: 523C92C671DC818FCD61F983318E6D | Q23: 0101 | R23: T | S23: F | T23: F | AU23: 0101523C92C671DC818FCD61F983318E6D | AV23: 28
A24: 표시등 | C24: 개 | D24: 4 | E24: =TRUNC(일위대가목록!E5,0) -> 1709 | F24: =TRUNC(E24*D24, 0) -> 6836 | G24: =TRUNC(일위대가목록!F5,0) -> 56976 | H24: =TRUNC(G24*D24, 0) -> 227904 | I24: =TRUNC(일위대가목록!G5,0) -> 0 | J24: =TRUNC(I24*D24, 0) -> 0 | K24: =TRUNC(E24+G24+I24, 0) -> 58685 | L24: =TRUNC(F24+H24+J24, 0) -> 234740 | N24: 523C5266A6366183C43DC888F0A799 | Q24: 0101 | R24: T | S24: F | T24: F | AU24: 0101523C5266A6366183C43DC888F0A799 | AV24: 29
A25: 배선용차단기(MCCB) | B25: 표준형 460V 4P 100AF | C25: 개 | D25: 2 | E25: =TRUNC(단가대비표!O27,0) -> 56200 | F25: =TRUNC(E25*D25, 0) -> 112400 | G25: =TRUNC(단가대비표!P27,0) -> 0 | H25: =TRUNC(G25*D25, 0) -> 0 | I25: =TRUNC(단가대비표!V27,0) -> 0 | J25: =TRUNC(I25*D25, 0) -> 0 | K25: =TRUNC(E25+G25+I25, 0) -> 56200 | L25: =TRUNC(F25+H25+J25, 0) -> 112400 | N25: 53C54246E93811847062BA8C2C9B9A26717B25 | Q25: 0101 | R25: F | S25: F | T25: T | AU25: 010153C54246E93811847062BA8C2C9B9A26717B25 | AV25: 32
A26: 누전차단기(ELCB) | B26: 표준형 460V 3P 100AF | C26: 개 | D26: 1 | E26: =TRUNC(단가대비표!O28,0) -> 101200 | F26: =TRUNC(E26*D26, 0) -> 101200 | G26: =TRUNC(단가대비표!P28,0) -> 0 | H26: =TRUNC(G26*D26, 0) -> 0 | I26: =TRUNC(단가대비표!V28,0) -> 0 | J26: =TRUNC(I26*D26, 0) -> 0 | K26: =TRUNC(E26+G26+I26, 0) -> 101200 | L26: =TRUNC(F26+H26+J26, 0) -> 101200 | N26: 53C54246E93811847062BA8C2C9B9A26717B26 | Q26: 0101 | R26: F | S26: F | T26: T | AU26: 010153C54246E93811847062BA8C2C9B9A26717B26 | AV26: 33
A27: 전자접촉기(개방형) | B27: (220V/380V)15/22㎾ | C27: 개 | D27: 3 | E27: =TRUNC(단가대비표!O29,0) -> 61700 | F27: =TRUNC(E27*D27, 0) -> 185100 | G27: =TRUNC(단가대비표!P29,0) -> 0 | H27: =TRUNC(G27*D27, 0) -> 0 | I27: =TRUNC(단가대비표!V29,0) -> 0 | J27: =TRUNC(I27*D27, 0) -> 0 | K27: =TRUNC(E27+G27+I27, 0) -> 61700 | L27: =TRUNC(F27+H27+J27, 0) -> 185100 | N27: 53C54246E93811847062BA8C2C9B9A26717B27 | Q27: 0101 | R27: F | S27: F | T27: T | AU27: 010153C54246E93811847062BA8C2C9B9A26717B27 | AV27: 34
A28: 셀렉터 스위치(Selectors Switch) | C28: 개 | D28: 1 | E28: =TRUNC(단가대비표!O30,0) -> 2100 | F28: =TRUNC(E28*D28, 0) -> 2100 | G28: =TRUNC(단가대비표!P30,0) -> 0 | H28: =TRUNC(G28*D28, 0) -> 0 | I28: =TRUNC(단가대비표!V30,0) -> 0 | J28: =TRUNC(I28*D28, 0) -> 0 | K28: =TRUNC(E28+G28+I28, 0) -> 2100 | L28: =TRUNC(F28+H28+J28, 0) -> 2100 | N28: 53C54246E93811847062BA8C2C9B9A26717B28 | Q28: 0101 | R28: F | S28: F | T28: T | AU28: 010153C54246E93811847062BA8C2C9B9A26717B28 | AV28: 35
A29: 타이머 | B29: W/SOCKET, 1~60 sec | C29: 개 | D29: 1 | E29: =TRUNC(단가대비표!O31,0) -> 27150 | F29: =TRUNC(E29*D29, 0) -> 27150 | G29: =TRUNC(단가대비표!P31,0) -> 0 | H29: =TRUNC(G29*D29, 0) -> 0 | I29: =TRUNC(단가대비표!V31,0) -> 0 | J29: =TRUNC(I29*D29, 0) -> 0 | K29: =TRUNC(E29+G29+I29, 0) -> 27150 | L29: =TRUNC(F29+H29+J29, 0) -> 27150 | N29: 53C54246E93811847062BA8C2C9B9A26717B29 | Q29: 0101 | R29: F | S29: F | T29: T | AU29: 010153C54246E93811847062BA8C2C9B9A26717B29 | AV29: 36
A30: 계기용변류기(C.T)환형 | B30: 600V5VA 300/5A 1.0 15VA | C30: 대 | D30: 3 | E30: =TRUNC(단가대비표!O32,0) -> 19000 | F30: =TRUNC(E30*D30, 0) -> 57000 | G30: =TRUNC(단가대비표!P32,0) -> 0 | H30: =TRUNC(G30*D30, 0) -> 0 | I30: =TRUNC(단가대비표!V32,0) -> 0 | J30: =TRUNC(I30*D30, 0) -> 0 | K30: =TRUNC(E30+G30+I30, 0) -> 19000 | L30: =TRUNC(F30+H30+J30, 0) -> 57000 | N30: 53C54246E93811847062BA8C2C9B9A26717A1A | Q30: 0101 | R30: F | S30: F | T30: T | AU30: 010153C54246E93811847062BA8C2C9B9A26717A1A | AV30: 37
A31: 콘덴서 (저압) | B31: (3P 380V/440V) 75㎌ | C31: 대 | D31: 1 | E31: =TRUNC(단가대비표!O33,0) -> 45400 | F31: =TRUNC(E31*D31, 0) -> 45400 | G31: =TRUNC(단가대비표!P33,0) -> 0 | H31: =TRUNC(G31*D31, 0) -> 0 | I31: =TRUNC(단가대비표!V33,0) -> 0 | J31: =TRUNC(I31*D31, 0) -> 0 | K31: =TRUNC(E31+G31+I31, 0) -> 45400 | L31: =TRUNC(F31+H31+J31, 0) -> 45400 | N31: 53C54246E93811847062BA8C2C9B9A26717A1B | Q31: 0101 | R31: F | S31: F | T31: T | AU31: 010153C54246E93811847062BA8C2C9B9A26717A1B | AV31: 38
A32: DIAZED FUSE | B32: 25A W/HOLDER | C32: 개 | D32: 3 | E32: =TRUNC(단가대비표!O34,0) -> 3000 | F32: =TRUNC(E32*D32, 0) -> 9000 | G32: =TRUNC(단가대비표!P34,0) -> 0 | H32: =TRUNC(G32*D32, 0) -> 0 | I32: =TRUNC(단가대비표!V34,0) -> 0 | J32: =TRUNC(I32*D32, 0) -> 0 | K32: =TRUNC(E32+G32+I32, 0) -> 3000 | L32: =TRUNC(F32+H32+J32, 0) -> 9000 | N32: 53C54246E93811847062BA8C2C9B9A26717A18 | Q32: 0101 | R32: F | S32: F | T32: T | AU32: 010153C54246E93811847062BA8C2C9B9A26717A18 | AV32: 39
A33: 부저 | B33: D65 AC110V/220V | C33: 개 | D33: 1 | E33: =TRUNC(단가대비표!O35,0) -> 3800 | F33: =TRUNC(E33*D33, 0) -> 3800 | G33: =TRUNC(단가대비표!P35,0) -> 0 | H33: =TRUNC(G33*D33, 0) -> 0 | I33: =TRUNC(단가대비표!V35,0) -> 0 | J33: =TRUNC(I33*D33, 0) -> 0 | K33: =TRUNC(E33+G33+I33, 0) -> 3800 | L33: =TRUNC(F33+H33+J33, 0) -> 3800 | N33: 53C54246E93811847062BA8C2C9B9A26717A19 | Q33: 0101 | R33: F | S33: F | T33: T | AU33: 010153C54246E93811847062BA8C2C9B9A26717A19 | AV33: 40
A34: 자동소화장치 | B34: 고체에어로졸 500g(방호체적 5.19㎥) | C34: SET | D34: 1 | E34: =TRUNC(단가대비표!O36,0) -> 495000 | F34: =TRUNC(E34*D34, 0) -> 495000 | G34: =TRUNC(단가대비표!P36,0) -> 0 | H34: =TRUNC(G34*D34, 0) -> 0 | I34: =TRUNC(단가대비표!V36,0) -> 0 | J34: =TRUNC(I34*D34, 0) -> 0 | K34: =TRUNC(E34+G34+I34, 0) -> 495000 | L34: =TRUNC(F34+H34+J34, 0) -> 495000 | N34: 53C54246E93811847062BA8C2C9B9A26717A1E | Q34: 0101 | R34: F | S34: F | T34: T | AU34: 010153C54246E93811847062BA8C2C9B9A26717A1E | AV34: 41
A35: 통전표시기 | B35: 200V~22.9kV | C35: 개 | D35: 3 | E35: =TRUNC(단가대비표!O37,0) -> 39500 | F35: =TRUNC(E35*D35, 0) -> 118500 | G35: =TRUNC(단가대비표!P37,0) -> 0 | H35: =TRUNC(G35*D35, 0) -> 0 | I35: =TRUNC(단가대비표!V37,0) -> 0 | J35: =TRUNC(I35*D35, 0) -> 0 | K35: =TRUNC(E35+G35+I35, 0) -> 39500 | L35: =TRUNC(F35+H35+J35, 0) -> 118500 | N35: 53C54246E93811847062BA8C2C9B9A26717A1F | Q35: 0101 | R35: F | S35: F | T35: T | AU35: 010153C54246E93811847062BA8C2C9B9A26717A1F | AV35: 42
A36: 플로트리스스위치 | B36: 플로트리스스위치, Float S/W, AC220VW/SOCKET | C36: 개 | D36: 1 | E36: =TRUNC(단가대비표!O5,0) -> 12600 | F36: =TRUNC(E36*D36, 0) -> 12600 | G36: =TRUNC(단가대비표!P5,0) -> 0 | H36: =TRUNC(G36*D36, 0) -> 0 | I36: =TRUNC(단가대비표!V5,0) -> 0 | J36: =TRUNC(I36*D36, 0) -> 0 | K36: =TRUNC(E36+G36+I36, 0) -> 12600 | L36: =TRUNC(F36+H36+J36, 0) -> 12600 | N36: 555A42A68C7B3181034F2088C545AD7D0EE5FA | Q36: 0101 | R36: F | S36: F | T36: T | AU36: 0101555A42A68C7B3181034F2088C545AD7D0EE5FA | AV36: 43
A37: 전기기계조립원 | B37: 제조부문 | C37: 인 | D37: =공량산출근거서!K22 -> 5.49 | E37: =TRUNC(단가대비표!O7,0) -> 0 | F37: =TRUNC(E37*D37, 0) -> 0 | G37: =TRUNC(단가대비표!P7,0) -> 122522 | H37: =TRUNC(G37*D37, 0) -> 672645 | I37: =TRUNC(단가대비표!V7,0) -> 0 | J37: =TRUNC(I37*D37, 0) -> 0 | K37: =TRUNC(E37+G37+I37, 0) -> 122522 | L37: =TRUNC(F37+H37+J37, 0) -> 672645 | M37: 중소기업중앙회 | N37: 52AEB2D6C3EAE181210D008D0068543E9AB0C1 | Q37: 0101 | R37: F | S37: F | T37: T | AU37: 010152AEB2D6C3EAE181210D008D0068543E9AB0C1 | AV37: 44
A38: 전선원 | B38: 제조부문 | C38: 인 | D38: =공량산출근거서!K23 -> 4.608 | E38: =TRUNC(단가대비표!O8,0) -> 0 | F38: =TRUNC(E38*D38, 0) -> 0 | G38: =TRUNC(단가대비표!P8,0) -> 99248 | H38: =TRUNC(G38*D38, 0) -> 457334 | I38: =TRUNC(단가대비표!V8,0) -> 0 | J38: =TRUNC(I38*D38, 0) -> 0 | K38: =TRUNC(E38+G38+I38, 0) -> 99248 | L38: =TRUNC(F38+H38+J38, 0) -> 457334 | M38: 중소기업중앙회 | N38: 52AEB2D6C3EAE181210D008D0068543E9AB2F4 | Q38: 0101 | R38: F | S38: F | T38: T | AU38: 010152AEB2D6C3EAE181210D008D0068543E9AB2F4 | AV38: 45
A55: [ 합 계 ] | F55: =SUM(F5:F54) -> 5428541 | H55: =SUM(H5:H54) -> 1413434 | J55: =SUM(J5:J54) -> 0 | L55: =SUM(L5:L54) -> 6841975 | N55: TOTAL

Sheet 일위대가목록
A1: 일 위 대 가 목 록
A2: [ 구례양수장 분전반 ]
A3: 코 드 | B3: 품 명 | C3: 규 격 | D3: 단위 | E3: 재 료 비 | F3: 노 무 비 | G3: 경 비 | H3: 합 계 | I3: 번 호 | J3: 비 고 | K3: 노임계수 | L3: 할증 | M3: 품셈개요 | N3: 장비일위
A4: 523C92C671DC818FCD61F983318E6D | B4: 배선기구 설치 | C4: 푸시버튼 | D4: 개 | E4: =일위대가!F7 -> 555 | F4: =일위대가!H7 -> 18517 | G4: =일위대가!J7 -> 0 | H4: =E4+F4+G4 -> 19072 | I4: 호표 1
A5: 523C5266A6366183C43DC888F0A799 | B5: 표시등 | D5: 개 | E5: =일위대가!F12 -> 1709 | F5: =일위대가!H12 -> 56976 | G5: =일위대가!J12 -> 0 | H5: =E5+F5+G5 -> 58685 | I5: 호표 2

Sheet 일위대가
A1: [ 구례양수장 분전반 ]
A2: 품 명 | B2: 규 격 | C2: 단위 | D2: 수량 | E2: 재 료 비 | G2: 노 무 비 | I2: 경 비 | K2: 합 계 | M2: 비 고 | N2: 일위대가 | O2: 품목코드 | P2: 일위 | Q2: 단산 | R2: 자재 | S2: 손료적용 | T2: 손료저장 | U2: 적용율 | V2: JUK1 | W2: JUK2 | X2: JUK3 | Y2: JUK4 | Z2: JUK5 | AA2: JUK6 | AB2: JUK7 | AC2: JUK8 | AD2: JUK9 | AE2: JUK10 | AF2: JUK11 | AG2: JUK12 | AH2: JUK13 | AI2: JUK14 | AJ2: JUK15 | AK2: JUK16 | AL2: JUK17 | AM2: JUK18 | AN2: JUK19 | AO2: JUK20 | AP2: 할증적용 | AQ2: 할증저장 | AR2: 할증율 | AS2: HAL1 | AT2: HAL2 | AU2: HAL3 | AV2: 자재구분 | AW2: 일위대가+자재 | AX2: 장비일위 | AY2: 설정 | AZ2: 할증체크
E3: 단 가 | F3: 금 액 | G3: 단 가 | H3: 금 액 | I3: 단 가 | J3: 금 액 | K3: 단 가 | L3: 금 액
A4: 배선기구 설치 푸시버튼 개 ( 호표 1 ) | N4: 523C92C671DC818FCD61F983318E6D
A5: 통신내선공 | B5: 일반공사 직종 | C5: 인 | D5: 0.065 | E5: =단가대비표!O6 -> 0 | F5: =TRUNC(E5*D5,1) -> 0 | G5: =단가대비표!P6 -> 284880 | H5: =TRUNC(G5*D5,1) -> 18517.2 | I5: =단가대비표!V6 -> 0 | J5: =TRUNC(I5*D5,1) -> 0 | K5: =TRUNC(E5+G5+I5,1) -> 284880 | L5: =TRUNC(F5+H5+J5,1) -> 18517.2 | N5: 523C92C671DC818FCD61F983318E6D | O5: 52AEB2D6C3EAE181062765838B9A08F391BB2A | P5: F | Q5: F | R5: T | V5: 1 | AW5: 523C92C671DC818FCD61F983318E6D52AEB2D6C3EAE181062765838B9A08F391BB2A
A6: 공구손료 | B6: 인력품의 3% | C6: 식 | D6: 1 | E6: =TRUNC(SUMIF(V5:V6, RIGHTB(O6, 1), H5:H6)*U6, 2) -> 555.51 | F6: =TRUNC(E6*D6,1) -> 555.5 | G6: 0 | H6: =TRUNC(G6*D6,1) -> 0 | I6: 0 | J6: =TRUNC(I6*D6,1) -> 0 | K6: =TRUNC(E6+G6+I6,1) -> 555.5 | L6: =TRUNC(F6+H6+J6,1) -> 555.5 | N6: 523C92C671DC818FCD61F983318E6D | O6: 536FC206E4FC21862B75A68AC32B001 | P6: F | Q6: F | R6: F | S6: 1 | T6: 0 | U6: 0.03 | AW6: 523C92C671DC818FCD61F983318E6D536FC206E4FC21862B75A68AC32B001
A7: [ 합 계 ] | F7: =TRUNC(SUMIF(N5:N6, N4, F5:F6),0) -> 555 | H7: =TRUNC(SUMIF(N5:N6, N4, H5:H6),0) -> 18517 | J7: =TRUNC(SUMIF(N5:N6, N4, J5:J6),0) -> 0 | L7: =F7+H7+J7 -> 19072 | N7: TOTAL | O7: TOTAL
A9: 표시등 개 ( 호표 2 ) | N9: 523C5266A6366183C43DC888F0A799
A10: 통신내선공 | B10: 일반공사 직종 | C10: 인 | D10: 0.2 | E10: =단가대비표!O6 -> 0 | F10: =TRUNC(E10*D10,1) -> 0 | G10: =단가대비표!P6 -> 284880 | H10: =TRUNC(G10*D10,1) -> 56976 | I10: =단가대비표!V6 -> 0 | J10: =TRUNC(I10*D10,1) -> 0 | K10: =TRUNC(E10+G10+I10,1) -> 284880 | L10: =TRUNC(F10+H10+J10,1) -> 56976 | N10: 523C5266A6366183C43DC888F0A799 | O10: 52AEB2D6C3EAE181062765838B9A08F391BB2A | P10: F | Q10: F | R10: T | V10: 1 | AW10: 523C5266A6366183C43DC888F0A79952AEB2D6C3EAE181062765838B9A08F391BB2A
A11: 공구손료 | B11: 인력품의 3% | C11: 식 | D11: 1 | E11: =TRUNC(SUMIF(V10:V11, RIGHTB(O11, 1), H10:H11)*U11, 2) -> 1709.28 | F11: =TRUNC(E11*D11,1) -> 1709.2 | G11: 0 | H11: =TRUNC(G11*D11,1) -> 0 | I11: 0 | J11: =TRUNC(I11*D11,1) -> 0 | K11: =TRUNC(E11+G11+I11,1) -> 1709.2 | L11: =TRUNC(F11+H11+J11,1) -> 1709.2 | N11: 523C5266A6366183C43DC888F0A799 | O11: 536FC206E4FC21862B75A68AC32B001 | P11: F | Q11: F | R11: F | S11: 1 | T11: 0 | U11: 0.03 | AW11: 523C5266A6366183C43DC888F0A799536FC206E4FC21862B75A68AC32B001
A12: [ 합 계 ] | F12: =TRUNC(SUMIF(N10:N11, N9, F10:F11),0) -> 1709 | H12: =TRUNC(SUMIF(N10:N11, N9, H10:H11),0) -> 56976 | J12: =TRUNC(SUMIF(N10:N11, N9, J10:J11),0) -> 0 | L12: =F12+H12+J12 -> 58685 | N12: TOTAL | O12: TOTAL

Sheet 단가대비표
A1: 단 가 대 비 표
A2: [ 구례양수장 분전반 ]
A3: 코 드 | B3: 품 명 | C3: 규격 | D3: 단위 | E3: 재 료 비 | P3: 노 무 비 | Q3: 경 비 | W3: 번 호 | X3: 비 고 | Y3: 품목구분 | Z3: 노임구분 | AA3: 소수점처리 | AB3: 자재구분
E4: 조달청가격 | F4: PAGE | G4: 거래가격 | H4: PAGE | I4: 유통물가 | J4: PAGE | K4: 조사가격1 | L4: PAGE | M4: 조사가격2 | N4: PAGE | O4: 적용단가 | Q4: 조달청가격 | R4: 거래가격 | S4: 유통물가 | T4: 조사가격1 | U4: 조사가격2 | V4: 적용단가
A5: 555A42A68C7B3181034F2088C545AD7D0EE5FA | B5: 플로트리스스위치 | C5: 플로트리스스위치, Float S/W, AC220VW/SOCKET | D5: 개 | E5: 0 | G5: 0 | I5: 0 | K5: 0 | M5: 12600 | O5: =SMALL(E5:M5,COUNTIF(E5:M5,0)+1) -> 12600 | P5: 0 | Q5: 0 | R5: 0 | S5: 0 | T5: 0 | U5: 0 | V5: 0 | W5: 자재 1
A6: 52AEB2D6C3EAE181062765838B9A08F391BB2A | B6: 통신내선공 | C6: 일반공사 직종 | D6: 인 | E6: 0 | G6: 0 | I6: 0 | K6: 0 | M6: 0 | O6: 0 | P6: 284880 | Q6: 0 | R6: 0 | S6: 0 | T6: 0 | U6: 0 | V6: 0 | W6: 노임 1 | Y6: B
A7: 52AEB2D6C3EAE181210D008D0068543E9AB0C1 | B7: 전기기계조립원 | C7: 제조부문 | D7: 인 | E7: 0 | G7: 0 | I7: 0 | K7: 0 | M7: 0 | O7: 0 | P7: 122522 | Q7: 0 | R7: 0 | S7: 0 | T7: 0 | U7: 0 | V7: 0 | W7: 노임 2 | X7: 중소기업중앙회 | Y7: B
A8: 52AEB2D6C3EAE181210D008D0068543E9AB2F4 | B8: 전선원 | C8: 제조부문 | D8: 인 | E8: 0 | G8: 0 | I8: 0 | K8: 0 | M8: 0 | O8: 0 | P8: 99248 | Q8: 0 | R8: 0 | S8: 0 | T8: 0 | U8: 0 | V8: 0 | W8: 노임 3 | X8: 중소기업중앙회 | Y8: B
A9: 53C54246E93811847062BA8C2C9B9A26717970 | B9: DOOR HANDLE (배전반용) | C9: W/KEY(M) | D9: 개 | E9: 0 | G9: 0 | I9: 0 | K9: 0 | M9: 4170 | N9: M079081 | O9: =SMALL(E9:M9,COUNTIF(E9:M9,0)+1) -> 4170 | P9: 0 | Q9: 0 | R9: 0 | S9: 0 | T9: 0 | U9: 0 | V9: 0 | W9: 자재 2
A10: 53C54246E93811847062BA8C2C9B9A26717977 | B10: DOOR HANDLE (배전반용) | C10: PUSH TURN W/KEY(M) | D10: 개 | E10: 0 | G10: 0 | I10: 0 | K10: 0 | M10: 2830 | N10: M079083 | O10: =SMALL(E10:M10,COUNTIF(E10:M10,0)+1) -> 2830 | P10: 0 | Q10: 0 | R10: 0 | S10: 0 | T10: 0 | U10: 0 | V10: 0 | W10: 자재 3
A11: 53C54246E93811847062BA8C2C9B9A26717976 | B11: DOOR STOPPER (배전반용) | C11: STS | D11: 개 | E11: 0 | G11: 0 | I11: 0 | K11: 0 | M11: 10000 | N11: M079085 | O11: =SMALL(E11:M11,COUNTIF(E11:M11,0)+1) -> 10000 | P11: 0 | Q11: 0 | R11: 0 | S11: 0 | T11: 0 | U11: 0 | V11: 0 | W11: 자재 4
A12: 53C54246E93811847062BA8C2C9B9A2671797A | B12: 누전차단기(ELCB) | C12: 분전반용 220V 2P 30AF | D12: 대 | E12: 0 | G12: 0 | I12: 0 | K12: 0 | M12: 12000 | N12: M081270 | O12: =SMALL(E12:M12,COUNTIF(E12:M12,0)+1) -> 12000 | P12: 0 | Q12: 0 | R12: 0 | S12: 0 | T12: 0 | U12: 0 | V12: 0 | W12: 자재 5
A13: 53C54246E93811847062BA8C2C9B9A2671786D | B13: 전자식과전류계전기(EOCR-단자형) | C13: 디지털표시부부착 | D13: 개 | E13: 0 | G13: 0 | I13: 0 | K13: 0 | M13: 125000 | N13: M080281 | O13: =SMALL(E13:M13,COUNTIF(E13:M13,0)+1) -> 125000 | P13: 0 | Q13: 0 | R13: 0 | S13: 0 | T13: 0 | U13: 0 | V13: 0 | W13: 자재 6
A14: 53C54246E93811847062BA8C2C9B9A2671786E | B14: 디지털메터 | C14: 전압, 전류 등, 통신無 | D14: 개 | E14: 0 | G14: 0 | I14: 0 | K14: 0 | M14: 350000 | N14: M080537 | O14: =SMALL(E14:M14,COUNTIF(E14:M14,0)+1) -> 350000 | P14: 0 | Q14: 0 | R14: 0 | S14: 0 | T14: 0 | U14: 0 | V14: 0 | W14: 자재 7
A15: 53C54246E93811847062BA8C2C9B9A2671786F | B15: 단자대 | C15: 10P 30A | D15: 개 | E15: 0 | G15: 0 | I15: 0 | K15: 0 | M15: 2500 | N15: M079128 | O15: =SMALL(E15:M15,COUNTIF(E15:M15,0)+1) -> 2500 | P15: 0 | Q15: 0 | R15: 0 | S15: 0 | T15: 0 | U15: 0 | V15: 0 | W15: 자재 8
A16: 53C54246E93811847062BA8C2C9B9A26717868 | B16: 단자대 | C16: 4P, 30A, 고정식 | D16: 개 | E16: 0 | G16: 0 | I16: 0 | K16: 0 | M16: 1890 | N16: M079130 | O16: =SMALL(E16:M16,COUNTIF(E16:M16,0)+1) -> 1890 | P16: 0 | Q16: 0 | R16: 0 | S16: 0 | T16: 0 | U16: 0 | V16: 0 | W16: 자재 9
A17: 53C54246E93811847062BA8C2C9B9A26717869 | B17: 보조릴레이 | C17: 2A,2B(AC용) | D17: 개 | E17: 0 | G17: 0 | I17: 0 | K17: 0 | M17: 13700 | N17: M080500 | O17: =SMALL(E17:M17,COUNTIF(E17:M17,0)+1) -> 13700 | P17: 0 | Q17: 0 | R17: 0 | S17: 0 | T17: 0 | U17: 0 | V17: 0 | W17: 자재 10
A18: 53C54246E93811847062BA8C2C9B9A2671786A | B18: 푸쉬버튼 스위치 | C18: D25AC110V/220V(조광형) | D18: 개 | E18: 0 | G18: 0 | I18: 0 | K18: 0 | M18: 3100 | N18: M080445 | O18: =SMALL(E18:M18,COUNTIF(E18:M18,0)+1) -> 3100 | P18: 0 | Q18: 0 | R18: 0 | S18: 0 | T18: 0 | U18: 0 | V18: 0 | W18: 자재 11
A19: 53C54246E93811847062BA8C2C9B9A2671786B | B19: 신호등(LED) | C19: D25AC110V/220V | D19: 개 | E19: 0 | G19: 0 | I19: 0 | K19: 0 | M19: 5800 | N19: M080446 | O19: =SMALL(E19:M19,COUNTIF(E19:M19,0)+1) -> 5800 | P19: 0 | Q19: 0 | R19: 0 | S19: 0 | T19: 0 | U19: 0 | V19: 0 | W19: 자재 12
A20: 53C54246E93811847062BA8C2C9B9A26717864 | B20: 서지보호기(카운터)3상4선 | C20: 전원용 Class2, In 20kA이상, Imax 40kA이상,누설전류 검출 | D20: SET | E20: 0 | G20: 0 | I20: 0 | K20: 0 | M20: 1850000 | N20: M061231 | O20: =SMALL(E20:M20,COUNTIF(E20:M20,0)+1) -> 1850000 | P20: 0 | Q20: 0 | R20: 0 | S20: 0 | T20: 0 | U20: 0 | V20: 0 | W20: 자재 13
... A25: 53C54246E93811847062BA8C2C9B9A26717B23 | B25: PVC DUCT | C25: 30 x 40 x 2m, W/COVER | D25: 개 | E25: 0 | G25: 0 | I25: 0 | K25: 0 | M25: 3600 | N25: M079126 | O25: =SMALL(E25:M25,COUNTIF(E25:M25,0)+1) -> 3600 | P25: 0 | Q25: 0 | R25: 0 | S25: 0 | T25: 0 | U25: 0 | V25: 0 | W25: 자재 18
A26: 53C54246E93811847062BA8C2C9B9A26717B24 | B26: 동력분전반 외함 | C26: STS 0.8(W)x0.6(D)x1.2(H) | D26: 면 | G26: 0 | I26: 0 | K26: 0 | M26: 1692900 | N26: M079041 | O26: =SMALL(E26:M26,COUNTIF(E26:M26,0)+1) -> 1692900 | P26: 0 | Q26: 0 | R26: 0 | S26: 0 | T26: 0 | U26: 0 | V26: 0 | W26: 자재 19
A27: 53C54246E93811847062BA8C2C9B9A26717B25 | B27: 배선용차단기(MCCB) | C27: 표준형 460V 4P 100AF | D27: 개 | E27: 0 | G27: 0 | I27: 0 | K27: 0 | M27: 56200 | N27: M081220 | O27: =SMALL(E27:M27,COUNTIF(E27:M27,0)+1) -> 56200 | P27: 0 | Q27: 0 | R27: 0 | S27: 0 | T27: 0 | U27: 0 | V27: 0 | W27: 자재 20
A28: 53C54246E93811847062BA8C2C9B9A26717B26 | B28: 누전차단기(ELCB) | C28: 표준형 460V 3P 100AF | D28: 개 | E28: 0 | G28: 0 | I28: 0 | K28: 0 | M28: 101200 | N28: M081274 | O28: =SMALL(E28:M28,COUNTIF(E28:M28,0)+1) -> 101200 | P28: 0 | Q28: 0 | R28: 0 | S28: 0 | T28: 0 | U28: 0 | V28: 0 | W28: 자재 21
A29: 53C54246E93811847062BA8C2C9B9A26717B27 | B29: 전자접촉기(개방형) | C29: (220V/380V)15/22㎾ | D29: 개 | E29: 0 | G29: 0 | I29: 0 | K29: 0 | M29: 61700 | N29: M081125 | O29: =SMALL(E29:M29,COUNTIF(E29:M29,0)+1) -> 61700 | P29: 0 | Q29: 0 | R29: 0 | S29: 0 | T29: 0 | U29: 0 | V29: 0 | W29: 자재 22
A30: 53C54246E93811847062BA8C2C9B9A26717B28 | B30: 셀렉터 스위치(Selectors Switch) | D30: 개 | E30: 0 | G30: 0 | I30: 0 | K30: 0 | M30: 2100 | N30: M080545 | O30: =SMALL(E30:M30,COUNTIF(E30:M30,0)+1) -> 2100 | P30: 0 | Q30: 0 | R30: 0 | S30: 0 | T30: 0 | U30: 0 | V30: 0 | W30: 자재 23
A31: 53C54246E93811847062BA8C2C9B9A26717B29 | B31: 타이머 | C31: W/SOCKET, 1~60 sec | D31: 개 | E31: 0 | G31: 0 | I31: 0 | K31: 0 | M31: 27150 | N31: M079152 | O31: =SMALL(E31:M31,COUNTIF(E31:M31,0)+1) -> 27150 | P31: 0 | Q31: 0 | R31: 0 | S31: 0 | T31: 0 | U31: 0 | V31: 0 | W31: 자재 24
A32: 53C54246E93811847062BA8C2C9B9A26717A1A | B32: 계기용변류기(C.T)환형 | C32: 600V5VA 300/5A 1.0 15VA | D32: 대 | E32: 0 | G32: 0 | I32: 0 | K32: 0 | M32: 19000 | N32: M080631 | O32: =SMALL(E32:M32,COUNTIF(E32:M32,0)+1) -> 19000 | P32: 0 | Q32: 0 | R32: 0 | S32: 0 | T32: 0 | U32: 0 | V32: 0 | W32: 자재 25
A33: 53C54246E93811847062BA8C2C9B9A26717A1B | B33: 콘덴서 (저압) | C33: (3P 380V/440V) 75㎌ | D33: 대 | E33: 0 | G33: 0 | I33: 0 | K33: 0 | M33: 45400 | N33: M081054 | O33: =SMALL(E33:M33,COUNTIF(E33:M33,0)+1) -> 45400 | P33: 0 | Q33: 0 | R33: 0 | S33: 0 | T33: 0 | U33: 0 | V33: 0 | W33: 자재 26
A34: 53C54246E93811847062BA8C2C9B9A26717A18 | B34: DIAZED FUSE | C34: 25A W/HOLDER | D34: 개 | E34: 0 | G34: 0 | I34: 0 | K34: 0 | M34: 3000 | N34: M079102 | O34: =SMALL(E34:M34,COUNTIF(E34:M34,0)+1) -> 3000 | P34: 0 | Q34: 0 | R34: 0 | S34: 0 | T34: 0 | U34: 0 | V34: 0 | W34: 자재 27
A35: 53C54246E93811847062BA8C2C9B9A26717A19 | B35: 부저 | C35: D65 AC110V/220V | D35: 개 | E35: 0 | G35: 0 | I35: 0 | K35: 0 | M35: 3800 | N35: M080540 | O35: =SMALL(E35:M35,COUNTIF(E35:M35,0)+1) -> 3800 | P35: 0 | Q35: 0 | R35: 0 | S35: 0 | T35: 0 | U35: 0 | V35: 0 | W35: 자재 28
A36: 53C54246E93811847062BA8C2C9B9A26717A1E | B36: 자동소화장치 | C36: 고체에어로졸 500g(방호체적 5.19㎥) | D36: SET | E36: 0 | G36: 0 | I36: 0 | K36: 0 | M36: 495000 | N36: M085170 | O36: =SMALL(E36:M36,COUNTIF(E36:M36,0)+1) -> 495000 | P36: 0 | Q36: 0 | R36: 0 | S36: 0 | T36: 0 | U36: 0 | V36: 0 | W36: 자재 29
A37: 53C54246E93811847062BA8C2C9B9A26717A1F | B37: 통전표시기 | C37: 200V~22.9kV | D37: 개 | E37: 0 | G37: 0 | I37: 0 | K37: 0 | M37: 39500 | N37: M080550 | O37: =SMALL(E37:M37,COUNTIF(E37:M37,0)+1) -> 39500 | P37: 0 | Q37: 0 | R37: 0 | S37: 0 | T37: 0 | U37: 0 | V37: 0 | W37: 자재 30

Sheet 공량산출근거서
A1: 공 량 산 출 근 거 서
A2: [ 구례양수장 분전반 ]
A3: 코 드 | B3: 품 명 | C3: 규 격 | D3: 단위 | E3: 품 셈 목 록 | F3: 수 량 | G3: 할증 | H3: 노임할증-1 | I3: 노임할증-2 | J3: 노임할증-3 | K3: 내역수량 | L3: 직 종 명 | M3: 공 량 | N3: 계 | O3: 번 호 | P3: 비 고 | T3: 공종+자재 | V3: 전선원 | W3: 전기기계조립원
B4: 01 조작반 제작
A5: 53C54246E93811847062BA8C2C9B9A2671797A | B5: 누전차단기(ELCB) | C5: 분전반용 220V 2P 30AF | D5: 대 | E5: 전기 5-19 | F5: 4 | G5: 0 | K5: 4 | L5: 전선원 | M5: =0.133*(H5+100)/100*(I5+100)/100*(J5+100)/100 -> 0.133 | N5: =F5*M5 -> 0.532 | O5: 노임 3 | Q5: 0101 | R5: 52AEB2D6C3EAE181210D008D0068543E9AB2F4 | S5: 0.133 | T5: 010153C54246E93811847062BA8C2C9B9A2671797A | V5: =N5 -> 0.532
A6: 53C54246E93811847062BA8C2C9B9A2671786D | B6: 전자식과전류계전기(EOCR-단자형) | C6: 디지털표시부부착 | D6: 개 | E6: 전기 3-34 | F6: 1 | G6: 0 | K6: 1 | L6: 전기기계조립원 | M6: =0.27*(H6+100)/100*(I6+100)/100*(J6+100)/100 -> 0.27 | N6: =F6*M6 -> 0.27 | O6: 노임 2 | Q6: 0101 | R6: 52AEB2D6C3EAE181210D008D0068543E9AB0C1 | S6: 0.27 | T6: 010153C54246E93811847062BA8C2C9B9A2671786D | W6: =N6 -> 0.27
A7: 53C54246E93811847062BA8C2C9B9A2671786E | B7: 디지털메터 | C7: 전압, 전류 등, 통신無 | D7: 개 | E7: 전기 3-34 | F7: 1 | G7: 0 | K7: 1 | L7: 전기기계조립원 | M7: =0.38*(H7+100)/100*(I7+100)/100*(J7+100)/100 -> 0.38 | N7: =F7*M7 -> 0.38 | O7: 노임 2 | Q7: 0101 | R7: 52AEB2D6C3EAE181210D008D0068543E9AB0C1 | S7: 0.38 | T7: 010153C54246E93811847062BA8C2C9B9A2671786E | W7: =N7 -> 0.38
A8: 53C54246E93811847062BA8C2C9B9A26717869 | B8: 보조릴레이 | C8: 2A,2B(AC용) | D8: 개 | E8: 전기 3-34 | F8: 1 | G8: 0 | K8: 1 | L8: 전기기계조립원 | M8: =0.09*(H8+100)/100*(I8+100)/100*(J8+100)/100 -> 0.09 | N8: =F8*M8 -> 0.09 | O8: 노임 2 | Q8: 0101 | R8: 52AEB2D6C3EAE181210D008D0068543E9AB0C1 | S8: 0.09 | T8: 010153C54246E93811847062BA8C2C9B9A26717869 | W8: =N8 -> 0.09
A9: 53C54246E93811847062BA8C2C9B9A26717865 | B9: 기기용 비닐절연전선 | C9: 450/700V KIV 2.5㎟(0.04kg) | D9: M | E9: 전기 3-34 | F9: 50 | G9: 0 | K9: 50 | L9: 전기기계조립원 | M9: =0.055*(H9+100)/100*(I9+100)/100*(J9+100)/100 -> 0.055 | N9: =F9*M9 -> 2.75 | O9: 노임 2 | Q9: 0101 | R9: 52AEB2D6C3EAE181210D008D0068543E9AB0C1 | S9: 0.055 | T9: 010153C54246E93811847062BA8C2C9B9A26717865 | W9: =N9 -> 2.75
A10: 53C54246E93811847062BA8C2C9B9A26717B25 | B10: 배선용차단기(MCCB) | C10: 표준형 460V 4P 100AF | D10: 개 | E10: 전기 5-19 | F10: 2 | G10: 0 | K10: 2 | L10: 전선원 | M10: =0.468*(H10+100)/100*(I10+100)/100*(J10+100)/100 -> 0.468 | N10: =F10*M10 -> 0.936 | O10: 노임 3 | Q10: 0101 | R10: 52AEB2D6C3EAE181210D008D0068543E9AB2F4 | S10: 0.468 | T10: 010153C54246E93811847062BA8C2C9B9A26717B25 | V10: =N10 -> 0.936
A11: 53C54246E93811847062BA8C2C9B9A26717B26 | B11: 누전차단기(ELCB) | C11: 표준형 460V 3P 100AF | D11: 개 | E11: 전기 5-19 | F11: 1 | G11: 0 | K11: 1 | L11: 전선원 | M11: =0.36*(H11+100)/100*(I11+100)/100*(J11+100)/100 -> 0.36 | N11: =F11*M11 -> 0.36 | O11: 노임 3 | Q11: 0101 | R11: 52AEB2D6C3EAE181210D008D0068543E9AB2F4 | S11: 0.36 | T11: 010153C54246E93811847062BA8C2C9B9A26717B26 | V11: =N11 -> 0.36
A12: 53C54246E93811847062BA8C2C9B9A26717B27 | B12: 전자접촉기(개방형) | C12: (220V/380V)15/22㎾ | D12: 개 | E12: 전기 5-19 | F12: 3 | G12: 0 | K12: 3 | L12: 전선원 | M12: =0.45*(H12+100)/100*(I12+100)/100*(J12+100)/100 -> 0.45 | N12: =F12*M12 -> 1.35 | O12: 노임 3 | Q12: 0101 | R12: 52AEB2D6C3EAE181210D008D0068543E9AB2F4 | S12: 0.45 | T12: 010153C54246E93811847062BA8C2C9B9A26717B27 | V12: =N12 -> 1.35
A13: 53C54246E93811847062BA8C2C9B9A26717B28 | B13: 셀렉터 스위치(Selectors Switch) | D13: 개 | E13: 전기 5-23 | F13: 1 | G13: 0 | K13: 1 | L13: 전선원 | M13: =0.1*(H13+100)/100*(I13+100)/100*(J13+100)/100 -> 0.1 | N13: =F13*M13 -> 0.1 | O13: 노임 3 | Q13: 0101 | R13: 52AEB2D6C3EAE181210D008D0068543E9AB2F4 | S13: 0.1 | T13: 010153C54246E93811847062BA8C2C9B9A26717B28 | V13: =N13 -> 0.1
A14: 53C54246E93811847062BA8C2C9B9A26717B29 | B14: 타이머 | C14: W/SOCKET, 1~60 sec | D14: 개 | E14: 전기 3-34 | F14: 1 | G14: 0 | K14: 1 | L14: 전기기계조립원 | M14: =0.2*(H14+100)/100*(I14+100)/100*(J14+100)/100 -> 0.2 | N14: =F14*M14 -> 0.2 | O14: 노임 2 | Q14: 0101 | R14: 52AEB2D6C3EAE181210D008D0068543E9AB0C1 | S14: 0.2 | T14: 010153C54246E93811847062BA8C2C9B9A26717B29 | W14: =N14 -> 0.2
A15: 53C54246E93811847062BA8C2C9B9A26717A1A | B15: 계기용변류기(C.T)환형 | C15: 600V5VA 300/5A 1.0 15VA | D15: 대 | E15: 전기 5-21 | F15: 3 | G15: 0 | K15: 3 | L15: 전선원 | M15: =0.4*(H15+100)/100*(I15+100)/100*(J15+100)/100 -> 0.4 | N15: =F15*M15 -> 1.2 | O15: 노임 3 | Q15: 0101 | R15: 52AEB2D6C3EAE181210D008D0068543E9AB2F4 | S15: 0.4 | T15: 010153C54246E93811847062BA8C2C9B9A26717A1A | V15: =N15 -> 1.2
A16: 53C54246E93811847062BA8C2C9B9A26717A1B | B16: 콘덴서 (저압) | C16: (3P 380V/440V) 75㎌ | D16: 대 | E16: 전기 5-40 | F16: 1 | G16: 0 | K16: 1 | L16: 전선원 | M16: =0.13*(H16+100)/100*(I16+100)/100*(J16+100)/100 -> 0.13 | N16: =F16*M16 -> 0.13 | O16: 노임 3 | Q16: 0101 | R16: 52AEB2D6C3EAE181210D008D0068543E9AB2F4 | S16: 0.13 | T16: 010153C54246E93811847062BA8C2C9B9A26717A1B | V16: =N16 -> 0.13
A17: 53C54246E93811847062BA8C2C9B9A26717A18 | B17: DIAZED FUSE | C17: 25A W/HOLDER | D17: 개 | E17: 전기 3-34 | F17: 3 | G17: 0 | K17: 3 | L17: 전기기계조립원 | M17: =0.2*(H17+100)/100*(I17+100)/100*(J17+100)/100 -> 0.2 | N17: =F17*M17 -> 0.6 | O17: 노임 2 | Q17: 0101 | R17: 52AEB2D6C3EAE181210D008D0068543E9AB0C1 | S17: 0.2 | T17: 010153C54246E93811847062BA8C2C9B9A26717A18 | W17: =N17 -> 0.6
A18: 53C54246E93811847062BA8C2C9B9A26717A19 | B18: 부저 | C18: D65 AC110V/220V | D18: 개 | E18: 전기 3-34 | F18: 1 | G18: 0 | K18: 1 | L18: 전기기계조립원 | M18: =0.2*(H18+100)/100*(I18+100)/100*(J18+100)/100 -> 0.2 | N18: =F18*M18 -> 0.2 | O18: 노임 2 | Q18: 0101 | R18: 52AEB2D6C3EAE181210D008D0068543E9AB0C1 | S18: 0.2 | T18: 010153C54246E93811847062BA8C2C9B9A26717A19 | W18: =N18 -> 0.2
A19: 53C54246E93811847062BA8C2C9B9A26717A1E | B19: 자동소화장치 | C19: 고체에어로졸 500g(방호체적 5.19㎥) | D19: SET | E19: 전기 3-34 | F19: 1 | G19: 0 | K19: 1 | L19: 전기기계조립원 | M19: =0.2*(H19+100)/100*(I19+100)/100*(J19+100)/100 -> 0.2 | N19: =F19*M19 -> 0.2 | O19: 노임 2 | Q19: 0101 | R19: 52AEB2D6C3EAE181210D008D0068543E9AB0C1 | S19: 0.2 | T19: 010153C54246E93811847062BA8C2C9B9A26717A1E | W19: =N19 -> 0.2
A20: 53C54246E93811847062BA8C2C9B9A26717A1F | B20: 통전표시기 | C20: 200V~22.9kV | D20: 개 | E20: 전기 3-34 | F20: 3 | G20: 0 | K20: 3 | L20: 전기기계조립원 | M20: =0.2*(H20+100)/100*(I20+100)/100*(J20+100)/100 -> 0.2 | N20: =F20*M20 -> 0.6 | O20: 노임 2 | Q20: 0101 | R20: 52AEB2D6C3EAE181210D008D0068543E9AB0C1 | S20: 0.2 | T20: 010153C54246E93811847062BA8C2C9B9A26717A1F | W20: =N20 -> 0.6
A21: 555A42A68C7B3181034F2088C545AD7D0EE5FA | B21: 플로트리스스위치 | C21: 플로트리스스위치, Float S/W, AC220VW/SOCKET | D21: 개 | E21: 전기 3-34 | F21: 1 | G21: 0 | K21: 1 | L21: 전기기계조립원 | M21: =0.2*(H21+100)/100*(I21+100)/100*(J21+100)/100 -> 0.2 | N21: =F21*M21 -> 0.2 | O21: 노임 2 | Q21: 0101 | R21: 52AEB2D6C3EAE181210D008D0068543E9AB0C1 | S21: 0.2 | T21: 0101555A42A68C7B3181034F2088C545AD7D0EE5FA | W21: =N21 -> 0.2
A22: 52AEB2D6C3EAE181210D008D0068543E9AB0C1 | B22: 전기기계조립원 | C22: 제조부문 | D22: 인 | F22: =SUM(W5:W21) -> 5.49 | K22: =TRUNC(ROUNDDOWN(F22,공량설정!C3+1)*공량설정!B2/100, 공량설정!C3) -> 5.49 | O22: 노임 2 | Q22: 0101 | T22: 010152AEB2D6C3EAE181210D008D0068543E9AB0C1
A23: 52AEB2D6C3EAE181210D008D0068543E9AB2F4 | B23: 전선원 | C23: 제조부문 | D23: 인 | F23: =SUM(V5:V21) -> 4.608 | K23: =TRUNC(ROUNDDOWN(F23,공량설정!C4+1)*공량설정!B2/100, 공량설정!C4) -> 4.608 | O23: 노임 3 | Q23: 0101 | T23: 010152AEB2D6C3EAE181210D008D0068543E9AB2F4

Sheet 공량설정
A1: 공종명 | B1: 적용율(%) | C1: 소수점이하자릿수 | D1: 공종코드
A2: 0101 조작반 제작 | B2: 100 | D2: 0101
A3: 전기기계조립원 | C3: 2 | D3: 010152AEB2D6C3EAE181210D008D0068543E9AB0C1
A4: 전선원 | C4: 3 | D4: 010152AEB2D6C3EAE181210D008D0068543E9AB2F4

Sheet  공사설정 
A1: 이 Sheet는 수정하지 마십시요
A2: 공사구분 | B2: A | C2: 타이틀
A3: 확정내역 | B3: 원내역
A4: 자재단가적용 | B4: 5
A5: 경비단가적용 | B5: 5
A6: 품목코드형식 | B6: XXXX-XXXXXXXXXXXXX
A7: 내역금액소수점처리 | B7: C | C7: 1
A8: 일위대가내역소수점처리 | B8: C | C8: 2
A9: 단가명 | B9: 조달청가격 | C9: 거래가격 | D9: 유통물가 | E9: 조사가격1 | F9: 조사가격2 | G9: TTTTT
A10: 환율 | B10: 0 | C10: 0 | D10: 0
A11: 시간당작업량 | B11: R | C11: 3
A12: 1회 사이클시간 | B12: R | C12: 3
A13: 시간당 작업사이클 | B13: R | C13: 2
A14: 일반변수 | B14: C | C14: 5
A15: 시간당 노임산출 계수 | B15: A | C15: 1/8*16/12*25/20 | D15: 1/8*16/12*25/20 | E15: 1/8*16/12*25/20 | F15: 1
A16: 재료비 할증 계수 | B16: 0 | C16: 0
A17: 노무비 할증 계수 | B17: 0 | C17: 0 | D17: 0 | E17: 0 | F17: 0 | G17: 0 | H17: 0 | I17: 0 | J17: 0 | K17: 0 | L17: 0 | M17: 0
A18: 경비 할증 계수 | B18: 0 | C18: 0
A19: 내역,일위대가 품명,규격,단위 따로적용
A20: 내역단가 소수점처리 | C20: 1
A21: 코드 | B21: 공종구분명 | C21: 원가비목코드
A22: 1 | B22: 작 업 부 산 물 | C22: A3
A23: 2 | B23: 운 반 비 | C23: C1
A24: 3 | B24: 관 급 자 재 비 | C24: DJ
A25: 4 | B25: 사 급 자 재 비 | C25: D3
A26: 5 | B26: 외 자 재
A27: 6 | B27: ...
A28: 7 | B28: ...
A29: 8 | B29: ...
A30: 9 | B30: ...
A31: A | B31: ....
A32: B | B32: .....
A33: C | B33: ....
A34: D | B34: ....
A35: E | B35: ....
A36: F | B36: ....
A37: G | B37: ....
A38: H | B38: ....
A39: I | B39: ....
A40: J | B40: ....

Sheet Sheet1
