Workbook

Sheet 원가계산서
B1: 공 사 원 가 계 산 서
B2: 공사명 : 하남지구 농촌용수이용체계재편사업 하남가압장 자동화시스템 제조구매설치
B3: 비 목 | E3: 금 액 | F3: 구 성 비 | G3: 비 고
A4: A1 | B4: 순 공 사 원 가 | C4: 재 료 비 | D4: 직 접 재 료 비 | E4: =TRUNC(공종별집계표!F5, 0) -> 212643000
A5: A2 | D5: 간 접 재 료 비 | E5: 0
A6: A3 | D6: 작업설, 부산물(△) | E6: 0
A7: AS | D7: [ 소 계 ] | E7: =TRUNC(E4+E5-E6, 0) -> 212643000
A8: B1 | C8: 노 무 비 | D8: 직 접 노 무 비 | E8: =TRUNC(공종별집계표!H5, 0) -> 0
A9: B2 | D9: 간 접 노 무 비 | E9: =TRUNC(E8*0.165, 0) -> 0 | F9: 직접노무비 * 16.5%
A10: BS | D10: [ 소 계 ] | E10: =TRUNC(E8+E9, 0) -> 0
A11: C4 | C11: 경 비 | D11: 산 재 보 험 료 | E11: =TRUNC(E10*0.0356, 0) -> 0 | F11: 노무비 * 3.56%
A12: C5 | D12: 고 용 보 험 료 | E12: =TRUNC(E10*0.0101, 0) -> 0 | F12: 노무비 * 1.01%
A13: C6 | D13: 국민 건강 보험료 | E13: =TRUNC(E8*0.03595, 0) -> 0 | F13: 직접노무비 * 3.595%
A14: C7 | D14: 국민 연금 보험료 | E14: =TRUNC(E8*0.0475, 0) -> 0 | F14: 직접노무비 * 4.75%
A15: CB | D15: 노인장기요양보험료 | E15: =TRUNC(E13*0.1314, 0) -> 0 | F15: 건강보험료 * 13.14%
A16: CA | D16: 산업안전보건관리비 | E16: =TRUNC((E7+E8)*0.0207, 0) -> 4401710 | F16: (재료비+직노+관급자재비) * 2.07%
A17: CG | D17: 기 타 경 비 | E17: =TRUNC((E7+E10)*0.052, 0) -> 11057436 | F17: (재료비+노무비) * 5.2%
A18: CS | D18: [ 소 계 ] | E18: =TRUNC(E11+E12+E13+E14+E16+E15+E17, 0) -> 15459146
A19: S1 | B19: 계 | E19: =TRUNC(E7+E10+E18, 0) -> 228102146
A20: D1 | B20: 일 반 관 리 비 | E20: =TRUNC(E19*0.08, 0) -> 18248171 | F20: 계 * 8%
A21: D2 | B21: 이 윤 | E21: =TRUNC((E10+E18+E20)*0.15-133, 0) -> 5055964 | F21: (노무비+경비+일반관리비) * 15%
A22: D9 | B22: 공 급 가 액 | E22: =TRUNC(INT((E19+E20+E21)/10000)*10000, 0) -> 251400000
A23: DB | B23: 부 가 가 치 세 | E23: =TRUNC(E22*0.1, 0) -> 25140000 | F23: 공급가액 * 10%
A24: DH | B24: 도 급 액 | E24: =TRUNC(E22+E23, 0) -> 276540000
A25: DJ | B25: 관 급 자 재 비 | E25: =TRUNC(공종별집계표!#REF!, 0) -> #REF!
A26: S2 | B26: 총 공 사 비 | E26: =TRUNC(E24+E25, 0) -> #REF!

Sheet 공종별집계표
A1: 공 종 별 집 계 표
A2: [ 하남지구 자동화시스템 제조구매설치 ]
A3: 품 명 | B3: 규 격 | C3: 단위 | D3: 수량 | E3: 재 료 비 | G3: 노 무 비 | I3: 경 비 | K3: 합 계 | M3: 비 고 | N3: 공종코드 | O3: 변수 | P3: 상위공종 | Q3: 공종구분 | R3: 공종레벨 | S3: 공종소계 | T3: 원가계산서 연결금액
E4: 단 가 | F4: 금 액 | G4: 단 가 | H4: 금 액 | I4: 단 가 | J4: 금 액 | K4: 단 가 | L4: 금 액
A5: 01 하남지구 자동화시스템 제조구매설치 | D5: 1 | E5: =F6 -> 212643000 | F5: =E5*D5 -> 212643000 | G5: =H11 -> 0 | H5: =G5*D5 -> 0 | I5: =J11 -> 0 | J5: =I5*D5 -> 0 | K5: =E5+G5+I5 -> 212643000 | L5: =F5+H5+J5 -> 212643000 | N5: 01 | R5: 1
A6: 010101 A. 관급자관급자재 | D6: 1 | E6: =F8+F9+F10 -> 212643000 | F6: =E6*D6 -> 212643000 | G6: =H8+H9+H10 -> 0 | H6: =G6*D6 -> 0 | I6: =J8+J9+J10 -> 0 | J6: =I6*D6 -> 0 | K6: =E6+G6+I6 -> 212643000 | L6: =F6+H6+J6 -> 212643000 | N6: 010101 | P6: 0101 | R6: 3
A7: 0101010101 1. 물관리자동화 업데이트 | D7: 1 | E7: =ROUNDDOWN((F8),-3) -> 3054000 | F7: =E7*D7 -> 3054000 | G7: =H8 -> 0 | H7: =G7*D7 -> 0 | I7: =J8 -> 0 | J7: =I7*D7 -> 0 | K7: =E7+G7+I7 -> 3054000 | L7: =F7+H7+J7 -> 3054000 | N7: 0101010101 | P7: 01010101 | R7: 5
A8: 010101010103 하남가압장 HMI | D8: 1 | E8: =공종별내역서!F27 -> 3054000 | F8: =E8*D8 -> 3054000 | G8: =공종별내역서!H27 -> 0 | H8: =G8*D8 -> 0 | I8: =공종별내역서!J27 -> 0 | J8: =I8*D8 -> 0 | K8: =E8+G8+I8 -> 3054000 | L8: =F8+H8+J8 -> 3054000 | N8: 010101010103 | P8: 0101010101 | R8: 6
A9: 0101010201 감시제어시스템 | D9: 1 | E9: =공종별내역서!F51 -> 19577000 | F9: =E9*D9 -> 19577000 | G9: =공종별내역서!H51 -> 0 | H9: =G9*D9 -> 0 | I9: =공종별내역서!J51 -> 0 | J9: =I9*D9 -> 0 | K9: =E9+G9+I9 -> 19577000 | L9: =F9+H9+J9 -> 19577000 | N9: 0101010201 | P9: 01010102 | R9: 5
A10: 01010105 하남가압장 계장제어장치 | D10: 1 | E10: =ROUNDDOWN((공종별내역서!F75),-3) -> 190012000 | F10: =E10*D10 -> 190012000 | G10: =공종별내역서!H75 -> 0 | H10: =G10*D10 -> 0 | I10: =공종별내역서!J75 -> 0 | J10: =I10*D10 -> 0 | K10: =E10+G10+I10 -> 190012000 | L10: =F10+H10+J10 -> 190012000 | N10: 01010105 | P10: 010101 | R10: 4
N11: 0102 | P11: 01 | R11: 2
N12: 010202 | P12: 0102 | R12: 3
N13: 01020201 | P13: 010202 | R13: 4
A24: [ 합 계 ] | F24: =F5 -> 212643000 | H24: =H5 -> 0 | J24: =J5 -> 0 | L24: =L5 -> 212643000

Sheet 공종별내역서
A1: [ 하남지구 자동화시스템 제조구매설치 ]
A2: 품 명 | B2: 규 격 | C2: 단위 | D2: 수량 | E2: 재 료 비 | G2: 노 무 비 | I2: 경 비 | K2: 합 계 | M2: 비 고 | N2: 품목코드 | O2: 변수 | P2: 설정 | Q2: 공종코드 | R2: 일위 | S2: 단산 | T2: 자재 | U2: 손료적용 | V2: 손료저장 | W2: 적용율 | X2: JUK1 | Y2: JUK2 | Z2: JUK3 | AA2: JUK4 | AB2: JUK5 | AC2: JUK6 | AD2: JUK7 | AE2: JUK8 | AF2: JUK9 | AG2: JUK10 | AH2: JUK11 | AI2: JUK12 | AJ2: JUK13 | AK2: JUK14 | AL2: JUK15 | AM2: JUK16 | AN2: JUK17 | AO2: JUK18 | AP2: JUK19 | AQ2: JUK20 | AR2: 자재구분 | AS2: 공종구분 | AT2: 공종레벨 | AU2: 공종+자재 | AV2: 고유번호
E3: 단 가 | F3: 금 액 | G3: 단 가 | H3: 금 액 | I3: 단 가 | J3: 금 액 | K3: 단 가 | L3: 금 액
A4: 010101010103 3). 하남가압장 HMI | Q4: 010101010103
A5: KRC-HMI 3D그래픽작업 | B5: 수원공:저수지, 양배수장 | C5: 화면 | D5: 2 | E5: =TRUNC(단가대비표!O75,0) -> 896000 | F5: =TRUNC(E5*D5, 0) -> 1792000 | G5: =TRUNC(단가대비표!P75,0) -> 0 | H5: =TRUNC(G5*D5, 0) -> 0 | I5: =TRUNC(단가대비표!V75,0) -> 0 | J5: =TRUNC(I5*D5, 0) -> 0 | K5: =TRUNC(E5+G5+I5, 0) -> 896000 | L5: =TRUNC(F5+H5+J5, 0) -> 1792000 | N5: 532C83D42168026B2C677BB8C4F1CB29AE08FF | Q5: 010101010103 | R5: F | S5: F | T5: T | X5: 1 | AU5: 010101010103532C83D42168026B2C677BB8C4F1CB29AE08FF | AV5: 20417
A6: KRC-HMI SOFTWARE FEE | B6: 트렌드화면 구성 | C6: 화면 | D6: 0.1 | E6: =TRUNC(단가대비표!O72,0) -> 895000 | F6: =TRUNC(E6*D6, 0) -> 89500 | G6: =TRUNC(단가대비표!P72,0) -> 0 | H6: =TRUNC(G6*D6, 0) -> 0 | I6: =TRUNC(단가대비표!V72,0) -> 0 | J6: =TRUNC(I6*D6, 0) -> 0 | K6: =TRUNC(E6+G6+I6, 0) -> 895000 | L6: =TRUNC(F6+H6+J6, 0) -> 89500 | N6: 532C83D42168026C2E6528B8186007A96313BD | Q6: 010101010103 | R6: F | S6: F | T6: T | X6: 1 | AU6: 010101010103532C83D42168026C2E6528B8186007A96313BD | AV6: 20418
A7: KRC-HMI SOFTWARE FEE | B7: 플랜트화면 구성 | C7: 화면 | D7: 1 | E7: =TRUNC(단가대비표!O73,0) -> 895000 | F7: =TRUNC(E7*D7, 0) -> 895000 | G7: =TRUNC(단가대비표!P73,0) -> 0 | H7: =TRUNC(G7*D7, 0) -> 0 | I7: =TRUNC(단가대비표!V73,0) -> 0 | J7: =TRUNC(I7*D7, 0) -> 0 | K7: =TRUNC(E7+G7+I7, 0) -> 895000 | L7: =TRUNC(F7+H7+J7, 0) -> 895000 | N7: 532C83D42168026B2C654E441CD84CE61E9F7C | Q7: 010101010103 | R7: F | S7: F | T7: T | X7: 1 | AU7: 010101010103532C83D42168026B2C654E441CD84CE61E9F7C | AV7: 20419
A8: [부가가치세] | B8: 합계의 10% | C8: 식 | D8: 1 | E8: =ROUNDDOWN(SUMIF(X5:X8, RIGHTB(N8, 1), L5:L8)*W8, 0) -> 277650 | F8: =TRUNC(E8*D8, 0) -> 277650 | G8: 0 | H8: =TRUNC(G8*D8, 0) -> 0 | I8: 0 | J8: =TRUNC(I8*D8, 0) -> 0 | K8: =TRUNC(E8+G8+I8, 0) -> 277650 | L8: =TRUNC(F8+H8+J8, 0) -> 277650 | N8: 52F14335236CBE512F69440062E6001 | Q8: 010101010103 | R8: F | S8: F | T8: F | U8: 3 | V8: 0 | W8: 0.1 | AU8: 01010101010352F14335236CBE512F69440062E6001 | AV8: 20433
A27: [ 합 계 ] | F27: =TRUNC(SUM(F5:F26),-3) -> 3054000 | H27: =SUM(H5:H26) -> 0 | J27: =SUM(J5:J26) -> 0 | L27: =TRUNC(SUM(L5:L26),-3) -> 3054000 | N27: TOTAL
A28: 0101010201 1. 감시제어시스템 | Q28: 0101010201
A29: LCD 모니터(LED Type) | B29: 화면: 68cm(27형) 해상도: 1,980*1,080(FHD)이상, | C29: 개 | D29: 4 | E29: =TRUNC(단가대비표!O94,0) -> 400000 | F29: =TRUNC(E29*D29, 0) -> 1600000 | G29: =TRUNC(단가대비표!P94,0) -> 0 | H29: =TRUNC(G29*D29, 0) -> 0 | I29: =TRUNC(단가대비표!V94,0) -> 0 | J29: =TRUNC(I29*D29, 0) -> 0 | K29: =TRUNC(E29+G29+I29, 0) -> 400000 | L29: =TRUNC(F29+H29+J29, 0) -> 1600000 | N29: 532C83D421692A072063252BAE36E963734767 | Q29: 0101010201 | R29: F | S29: F | T29: T | X29: 1 | AU29: 0101010201532C83D421692A072063252BAE36E963734767 | AV29: 20422
A30: 워크스테이션 컴퓨터(O.S포함) | B30: Xeon GOLD 옥타코어, SSD 1TB 이상 | C30: 개 | D30: 1 | E30: =TRUNC(단가대비표!O95,0) -> 9352000 | F30: =TRUNC(E30*D30, 0) -> 9352000 | G30: =TRUNC(단가대비표!P95,0) -> 0 | H30: =TRUNC(G30*D30, 0) -> 0 | I30: =TRUNC(단가대비표!V95,0) -> 0 | J30: =TRUNC(I30*D30, 0) -> 0 | K30: =TRUNC(E30+G30+I30, 0) -> 9352000 | L30: =TRUNC(F30+H30+J30, 0) -> 9352000 | N30: 532C83D421692A072063252BAE36E963734765 | Q30: 0101010201 | R30: F | S30: F | T30: T | X30: 1 | AU30: 0101010201532C83D421692A072063252BAE36E963734765 | AV30: 20423
A31: KRC-HMI SOFTWARE | B31: 무한 포인트 런타임 | C31: 개 | D31: 1 | E31: =TRUNC(단가대비표!O96,0) -> 5600000 | F31: =TRUNC(E31*D31, 0) -> 5600000 | G31: =TRUNC(단가대비표!P96,0) -> 0 | H31: =TRUNC(G31*D31, 0) -> 0 | I31: =TRUNC(단가대비표!V96,0) -> 0 | J31: =TRUNC(I31*D31, 0) -> 0 | K31: =TRUNC(E31+G31+I31, 0) -> 5600000 | L31: =TRUNC(F31+H31+J31, 0) -> 5600000 | N31: 532C83D421692A072063252BAE36E963734764 | Q31: 0101010201 | R31: F | S31: F | T31: T | X31: 1 | AU31: 0101010201532C83D421692A072063252BAE36E963734764 | AV31: 20424
A32: CCTV 감시용 TV | B32: 65인치 | C32: 개 | D32: 1 | E32: =TRUNC(단가대비표!O97,0) -> 1120000 | F32: =TRUNC(E32*D32, 0) -> 1120000 | G32: =TRUNC(단가대비표!P97,0) -> 0 | H32: =TRUNC(G32*D32, 0) -> 0 | I32: =TRUNC(단가대비표!V97,0) -> 0 | J32: =TRUNC(I32*D32, 0) -> 0 | K32: =TRUNC(E32+G32+I32, 0) -> 1120000 | L32: =TRUNC(F32+H32+J32, 0) -> 1120000 | N32: 532C83D421692A072063252BAE36E963734763 | Q32: 0101010201 | R32: F | S32: F | T32: T | AU32: 0101010201532C83D421692A072063252BAE36E963734763 | AV32: 20426
A33: CCTV 감시용 TV 거치대 | B33: 65인치, 천장형 | C33: 개 | D33: 1 | E33: =TRUNC(단가대비표!O98,0) -> 250000 | F33: =TRUNC(E33*D33, 0) -> 250000 | G33: =TRUNC(단가대비표!P98,0) -> 0 | H33: =TRUNC(G33*D33, 0) -> 0 | I33: =TRUNC(단가대비표!V98,0) -> 0 | J33: =TRUNC(I33*D33, 0) -> 0 | K33: =TRUNC(E33+G33+I33, 0) -> 250000 | L33: =TRUNC(F33+H33+J33, 0) -> 250000 | N33: 532C83D421692A072063252BAE36E963734762 | Q33: 0101010201 | R33: F | S33: F | T33: T | AU33: 0101010201532C83D421692A072063252BAE36E963734762 | AV33: 20427
A34: [부가가치세] | B34: 합계의 10% | C34: 식 | D34: 1 | E34: =ROUNDDOWN(SUMIF(X29:X34, RIGHTB(N34, 1), L29:L34)*W34, 0) -> 1655200 | F34: =TRUNC(E34*D34, 0) -> 1655200 | G34: 0 | H34: =TRUNC(G34*D34, 0) -> 0 | I34: 0 | J34: =TRUNC(I34*D34, 0) -> 0 | K34: =TRUNC(E34+G34+I34, 0) -> 1655200 | L34: =TRUNC(F34+H34+J34, 0) -> 1655200 | N34: 52F14335236CBE512F69440062E6001 | Q34: 0101010201 | R34: F | S34: F | T34: F | U34: 3 | V34: 0 | W34: 0.1 | AU34: 010101020152F14335236CBE512F69440062E6001 | AV34: 20425
A51: [ 합 계 ] | F51: =TRUNC(SUM(F29:F50),-3) -> 19577000 | H51: =SUM(H29:H50) -> 0 | J51: =SUM(J29:J50) -> 0 | L51: =TRUNC(SUM(L29:L50),-3) -> 19577000 | N51: TOTAL
A52: 01010105 [하남가압장 계장제어장치] | Q52: 01010105
A53: 하남가압장 계장제어장치 (제작율 적용) | B53: 옥내자립형(ST), 1,600(W)x2,350(H)x1,200(D) | C53: 면 | D53: 1 | E53: =TRUNC(일위대가목록!E6,0) -> 163113108 | F53: =TRUNC(E53*D53, 0) -> 163113108 | G53: =TRUNC(일위대가목록!F6,0) -> 0 | H53: =TRUNC(G53*D53, 0) -> 0 | I53: =TRUNC(일위대가목록!G6,0) -> 0 | J53: =TRUNC(I53*D53, 0) -> 0 | K53: =TRUNC(E53+G53+I53, 0) -> 163113108 | L53: =TRUNC(F53+H53+J53, 0) -> 163113108 | N53: 53A7C32B266E0626256525F023FF02 | Q53: 01010105 | R53: T | S53: F | T53: F | X53: 1 | AU53: 0101010553A7C32B266E0626256525F023FF02 | AV53: 20429
A54: 하남가압장 계장제어장치 설치비 | C54: 면 | D54: 1 | E54: =TRUNC(일위대가목록!E7,0) -> 6625518 | F54: =TRUNC(E54*D54, 0) -> 6625518 | G54: =TRUNC(일위대가목록!F7,0) -> 0 | H54: =TRUNC(G54*D54, 0) -> 0 | I54: =TRUNC(일위대가목록!G7,0) -> 0 | J54: =TRUNC(I54*D54, 0) -> 0 | K54: =TRUNC(E54+G54+I54, 0) -> 6625518 | L54: =TRUNC(F54+H54+J54, 0) -> 6625518 | N54: 53A7C32B266E0626256525F023FF03 | Q54: 01010105 | R54: T | S54: F | T54: F | X54: 1 | AU54: 0101010553A7C32B266E0626256525F023FF03 | AV54: 20430
A55: VPN | B55: 영상, 데이터용 | C55: 대 | D55: 1 | E55: =TRUNC(단가대비표!O34,0) -> 3000000 | F55: =TRUNC(E55*D55, 0) -> 3000000 | G55: =TRUNC(단가대비표!P34,0) -> 0 | H55: =TRUNC(G55*D55, 0) -> 0 | I55: =TRUNC(단가대비표!V34,0) -> 0 | J55: =TRUNC(I55*D55, 0) -> 0 | K55: =TRUNC(E55+G55+I55, 0) -> 3000000 | L55: =TRUNC(F55+H55+J55, 0) -> 3000000 | N55: 54BB23242069E4D729699D2A05D706119D7324 | Q55: 01010105 | R55: F | S55: F | T55: T | X55: 1 | AU55: 0101010554BB23242069E4D729699D2A05D706119D7324 | AV55: 20431
A56: [부가가치세] | B56: 합계의 10% | C56: 식 | D56: 1 | E56: =ROUNDDOWN(SUMIF(X53:X56, RIGHTB(N56, 1), L53:L56)*W56, 0) -> 17273862 | F56: =TRUNC(E56*D56, 0) -> 17273862 | G56: 0 | H56: =TRUNC(G56*D56, 0) -> 0 | I56: 0 | J56: =TRUNC(I56*D56, 0) -> 0 | K56: =TRUNC(E56+G56+I56, 0) -> 17273862 | L56: =TRUNC(F56+H56+J56, 0) -> 17273862 | N56: 52F14335236CBE512F69440062E6001 | Q56: 01010105 | R56: F | S56: F | T56: F | U56: 3 | V56: 0 | W56: 0.1 | AU56: 0101010552F14335236CBE512F69440062E6001 | AV56: 20432
A75: [ 합 계 ] | F75: =SUM(F53:F74) -> 190012488 | H75: =SUM(H53:H74) -> 0 | J75: =SUM(J53:J74) -> 0 | L75: =SUM(L53:L74) -> 190012488 | N75: TOTAL

Sheet 일위대가목록
A1: 일 위 대 가 목 록
A2: [ 하남지구 자동화시스템 제조구매설치 ]
A3: 코 드 | B3: 품 명 | C3: 규 격 | D3: 단위 | E3: 재 료 비 | F3: 노 무 비 | G3: 경 비 | H3: 합 계 | I3: 번 호 | J3: 비 고 | K3: 노임계수 | L3: 할증 | M3: 품셈개요 | N3: 장비일위
A4: 53A7C32B266E0626256525F023FF06 | B4: 수산양배수장 계장제어장치 (제작율 적용) | C4: 옥내자립형(ST), 800(W)x2,350(H)x2,000(D) | D4: 면 | E4: =일위대가!F15 -> 71821403 | F4: =일위대가!H15 -> 0 | G4: =일위대가!J15 -> 0 | H4: =E4+F4+G4 -> 71821403 | I4: 호표 1
A5: 53A7C32B266E0626256525F023FF07 | B5: 수산양배수장 계장제어장치 설치비 | D5: 면 | E5: =일위대가!F23 -> 2901546 | F5: =일위대가!H23 -> 0 | G5: =일위대가!J23 -> 0 | H5: =E5+F5+G5 -> 2901546 | I5: 호표 2
A6: 53A7C32B266E0626256525F023FF02 | B6: 하남가압장 계장제어장치 (제작율 적용) | C6: 옥내자립형(ST), 1,600(W)x2,350(H)x1,200(D) | D6: 면 | E6: =일위대가!F36 -> 163113108 | F6: =일위대가!H36 -> 0 | G6: =일위대가!J36 -> 0 | H6: =E6+F6+G6 -> 163113108 | I6: 호표 3
A7: 53A7C32B266E0626256525F023FF03 | B7: 하남가압장 계장제어장치 설치비 | D7: 면 | E7: =일위대가!F44 -> 6625518 | F7: =일위대가!H44 -> 0 | G7: =일위대가!J44 -> 0 | H7: =E7+F7+G7 -> 6625518 | I7: 호표 4
A8: 53A7C32B266E0626256525F023FBAF | B8: 원격제어반(밸브실 계장제어장치-Type A 1련 제어) (제작율 적용) | C8: 옥외자립형(STS), 800(W)x1,800(H)x600(D) | D8: 면 | E8: =일위대가!F57 -> 18873068 | F8: =일위대가!H57 -> 0 | G8: =일위대가!J57 -> 0 | H8: =E8+F8+G8 -> 18873068 | I8: 호표 5
A9: 53A7C32B266E0626256525F023FBAE | B9: 원격제어반(밸브실 계장제어장치-Type A 1련 제어) 설치비 | D9: 면 | E9: =일위대가!F65 -> 866180 | F9: =일위대가!H65 -> 0 | G9: =일위대가!J65 -> 0 | H9: =E9+F9+G9 -> 866180 | I9: 호표 6
A10: 53A7C32B266E0626256525F023F502 | B10: 원격제어반(밸브실 계장제어장치-Type D 4련 제어) (제작율 적용) | C10: 옥외자립형(STS), 800(W)x1,800(H)x600(D) | D10: 면 | E10: =일위대가!F78 -> 28594388 | F10: =일위대가!H78 -> 0 | G10: =일위대가!J78 -> 0 | H10: =E10+F10+G10 -> 28594388 | I10: 호표 7
A11: 53A7C32B266E0626256525F023F503 | B11: 원격제어반(밸브실 계장제어장치-Type D 4련 제어) 설치비 | D11: 면 | E11: =일위대가!F86 -> 1198328 | F11: =일위대가!H86 -> 0 | G11: =일위대가!J86 -> 0 | H11: =E11+F11+G11 -> 1198328 | I11: 호표 8
A12: 53A7C32B266E0626256525F023FA82 | B12: 원격제어반(밸브실 계장제어장치-Type B 2련 제어) (제작율 적용) | C12: 옥외자립형(STS), 800(W)x1,800(H)x600(D) | D12: 면 | E12: =일위대가!F99 -> 22559225 | F12: =일위대가!H99 -> 0 | G12: =일위대가!J99 -> 0 | H12: =E12+F12+G12 -> 22559225 | I12: 호표 9
A13: 53A7C32B266E0626256525F023FA83 | B13: 원격제어반(밸브실 계장제어장치-Type B 2련 제어) 설치비 | D13: 면 | E13: =일위대가!F107 -> 974806 | F13: =일위대가!H107 -> 0 | G13: =일위대가!J107 -> 0 | H13: =E13+F13+G13 -> 974806 | I13: 호표 10
A14: 53A7C32B266E0626256525F023FA86 | B14: 원격제어반(밸브실 계장제어장치-Type B 2련 제어(1련예비)) (제작율 적용) | C14: 옥외자립형(STS), 800(W)x1,800(H)x600(D) | D14: 면 | E14: =일위대가!F120 -> 21090778 | F14: =일위대가!H120 -> 0 | G14: =일위대가!J120 -> 0 | H14: =E14+F14+G14 -> 21090778 | I14: 호표 11
A15: 53A7C32B266E0626256525F023FA87 | B15: 원격제어반(밸브실 계장제어장치-Type B 2련 제어(1련예비)) 설치비 | D15: 면 | E15: =일위대가!F128 -> 974806 | F15: =일위대가!H128 -> 0 | G15: =일위대가!J128 -> 0 | H15: =E15+F15+G15 -> 974806 | I15: 호표 12
A16: 53A7C32B266E0626256525F023F506 | B16: 원격제어반(밸브실 계장제어장치-Type D 4련 제어(2련예비)) (제작율 적용) | C16: 옥외자립형(STS), 800(W)x1,800(H)x600(D) | D16: 면 | E16: =일위대가!F141 -> 26596617 | F16: =일위대가!H141 -> 0 | G16: =일위대가!J141 -> 0 | H16: =E16+F16+G16 -> 26596617 | I16: 호표 13
A17: 53A7C32B266E0626256525F023F507 | B17: 원격제어반(밸브실 계장제어장치-Type D 4련 제어(2련예비)) 설치비 | D17: 면 | E17: =일위대가!F149 -> 1198328 | F17: =일위대가!H149 -> 0 | G17: =일위대가!J149 -> 0 | H17: =E17+F17+G17 -> 1198328 | I17: 호표 14
A18: 53A7C32B266E0626256525F023F47A | B18: 원격제어반(밸브실 계장제어장치-Type E 6련 제어(2련예비)) (제작율 적용) | C18: 옥외자립형(STS), 1,200(W)x1,800(H)x600(D) | D18: 면 | E18: =일위대가!F162 -> 33760306 | F18: =일위대가!H162 -> 0 | G18: =일위대가!J162 -> 0 | H18: =E18+F18+G18 -> 33760306 | I18: 호표 15
A19: 53A7C32B266E0626256525F023F47B | B19: 원격제어반(밸브실 계장제어장치-Type E 6련 제어(2련예비)) 설치비 | D19: 면 | E19: =일위대가!F170 -> 1415578 | F19: =일위대가!H170 -> 0 | G19: =일위대가!J170 -> 0 | H19: =E19+F19+G19 -> 1415578 | I19: 호표 16
A20: 53A7C32B266E0626256525F023F47E | B20: 원격제어반(밸브실 계장제어장치-Type F 7련 제어(2련예비)) (제작율 적용) | C20: 옥외자립형(STS), 1,200(W)x1,800(H)x600(D) | D20: 면 | E20: =일위대가!F183 -> 36869576 | F20: =일위대가!H183 -> 0 | G20: =일위대가!J183 -> 0 | H20: =E20+F20+G20 -> 36869576 | I20: 호표 17
A21: 53A7C32B266E0626256525F023F47F | B21: 원격제어반(밸브실 계장제어장치-Type F 7련 제어(2련예비)) 설치비 | D21: 면 | E21: =일위대가!F191 -> 1524204 | F21: =일위대가!H191 -> 0 | G21: =일위대가!J191 -> 0 | H21: =E21+F21+G21 -> 1524204 | I21: 호표 18
A22: 53A7C32B266E0626256525F023FA8A | B22: 원격제어반(밸브실 계장제어장치-Type C 3련 제어(1련예비)) (제작율 적용) | C22: 옥외자립형(STS), 800(W)x1,800(H)x600(D) | D22: 면 | E22: =일위대가!F204 -> 24200046 | F22: =일위대가!H204 -> 0 | G22: =일위대가!J204 -> 0 | H22: =E22+F22+G22 -> 24200046 | I22: 호표 19
A23: 53A7C32B266E0626256525F023FA8B | B23: 원격제어반(밸브실 계장제어장치-Type C 3련 제어(1련예비)) 설치비 | D23: 면 | E23: =일위대가!F212 -> 1083431 | F23: =일위대가!H212 -> 0 | G23: =일위대가!J212 -> 0 | H23: =E23+F23+G23 -> 1083431 | I23: 호표 20
A24: 52BED3C4286BDE242162E8C1A3BD14 | B24: 0.6/1kv 트레이용 동편조차폐 제어케이블(F-CVV-SB) | C24: 5C*1.5㎟ | D24: M | E24: =일위대가!F219 -> 3988 | F24: =일위대가!H219 -> 15180 | G24: =일위대가!J219 -> 0 | H24: =E24+F24+G24 -> 19168 | I24: 호표 21
A25: 52BED3C4286BDE242162EB95011BAE | B25: 0.6/1kv 트레이용 동편조차폐 제어케이블(F-CVV-SB) | C25: 10C*1.5㎟ | D25: M | E25: =일위대가!F226 -> 6460 | F25: =일위대가!H226 -> 22509 | G25: =일위대가!J226 -> 0 | H25: =E25+F25+G25 -> 28969 | I25: 호표 22
A26: 52BED3C4286BDE242162E8C1A3BD15 | B26: 0.6/1kv 트레이용 동편조차폐 제어케이블(F-CVV-SB) | C26: 15C*1.5㎟ | D26: M | E26: =일위대가!F233 -> 8714 | F26: =일위대가!H233 -> 32455 | G26: =일위대가!J233 -> 0 | H26: =E26+F26+G26 -> 41169 | I26: 호표 23
A27: 52BED3C4286BDE242162EB95011BAF | B27: 0.6/1kv 트레이용 동편조차폐 제어케이블(F-CVV-SB) | C27: 30C*1.5㎟ | D27: M | E27: =일위대가!F240 -> 15212 | F27: =일위대가!H240 -> 51299 | G27: =일위대가!J240 -> 0 | H27: =E27+F27+G27 -> 66511 | I27: 호표 24
A28: 52BED3C4286CE517286FB6D6F7EB1B | B28: 통신 케이블 | C28: RS-485 (3P 24AWG) | D28: M | E28: =일위대가!F247 -> 14161 | F28: =일위대가!H247 -> 7852 | G28: =일위대가!J247 -> 0 | H28: =E28+F28+G28 -> 22013 | I28: 호표 25
A29: 52BED3C4286BDE242162EB95011BAC | B29: 0.6/1kv 트레이용 동편조차폐 제어케이블(F-CVV-SB) | C29: 20C*1.5㎟ | D29: M | E29: =일위대가!F254 -> 11042 | F29: =일위대가!H254 -> 45018 | G29: =일위대가!J254 -> 0 | H29: =E29+F29+G29 -> 56060 | I29: 호표 26
A30: 53A7C32B266E0626256525F023FF04 | B30: 수산양배수장 계장제어장치 옥내자립형 | C30: 전원부 | D30: 면 | E30: =일위대가!F288 -> 16719984 | F30: =일위대가!H288 -> 1280875 | G30: =일위대가!J288 -> 0 | H30: =E30+F30+G30 -> 18000859 | I30: 호표 27
A31: 53A7C32B266E0626256525F023FF05 | B31: 수산양배수장 계장제어장치 옥내자립형 | C31: 제어부 | D31: 면 | E31: =일위대가!F315 -> 32266236 | F31: =일위대가!H315 -> 4092419 | G31: =일위대가!J315 -> 0 | H31: =E31+F31+G31 -> 36358655 | I31: 호표 28
A32: 52BE030C23667D322A65645DEC182B | B32: 현장감시제어설비 설치 | C32: 계장제어장치반 설치 | D32: 면 | E32: =일위대가!F321 -> 5021 | F32: =일위대가!H321 -> 167386 | G32: =일위대가!J321 -> 0 | H32: =E32+F32+G32 -> 172407 | I32: 호표 29
A33: 52BE030C23667D322A65645DEC1BFF | B33: 현장감시제어설비 설치 | C33: Bay건립 및 카드 설치 | D33: 면 | E33: =일위대가!F328 -> 14182 | F33: =일위대가!H328 -> 472750 | G33: =일위대가!J328 -> 0 | H33: =E33+F33+G33 -> 486932 | I33: 호표 30
A34: 52BE030C23667D322A65645DEC1AD5 | B34: 현장감시제어설비 설치 | C34: 케이블 접속 | D34: 10점당 | E34: =일위대가!F334 -> 2636 | F34: =일위대가!H334 -> 87885 | G34: =일위대가!J334 -> 0 | H34: =E34+F34+G34 -> 90521 | I34: 호표 31
A35: 52BE030C23667D322A65645DEC1DA9 | B35: 현장감시제어설비 설치 | C35: 시험 | D35: 카드 | E35: =일위대가!F339 -> 182 | F35: =일위대가!H339 -> 6090 | G35: =일위대가!J339 -> 0 | H35: =E35+F35+G35 -> 6272 | I35: 호표 32
A36: 53A7C32B266E0626256525F023FF00 | B36: 하남가압장 계장제어장치 옥내자립형 | C36: 전원부 | D36: 면 | E36: =일위대가!F373 -> 32951984 | F36: =일위대가!H373 -> 1850558 | G36: =일위대가!J373 -> 0 | H36: =E36+F36+G36 -> 34802542 | I36: 호표 33
A37: 53A7C32B266E0626256525F023FF01 | B37: 하남가압장 계장제어장치 옥내자립형 | C37: 제어부 | D37: 면 | E37: =일위대가!F398 -> 69652577 | F37: =일위대가!H398 -> 15045762 | G37: =일위대가!J398 -> 0 | H37: =E37+F37+G37 -> 84698339 | I37: 호표 34
A38: 53A7C32B266E0626256525F023FBAD | B38: 원격제어반(밸브실 계장제어장치-Type A 1련 제어) 옥외자립형 | C38: 전원부 | D38: 면 | E38: =일위대가!F435 -> 6064762 | F38: =일위대가!H435 -> 697900 | G38: =일위대가!J435 -> 0 | H38: =E38+F38+G38 -> 6762662 | I38: 호표 35
A39: 53A7C32B266E0626256525F023FBAC | B39: 원격제어반(밸브실 계장제어장치-Type A 1련 제어) 옥외자립형 | C39: 제어부 | D39: 면 | E39: =일위대가!F459 -> 6972810 | F39: =일위대가!H459 -> 624493 | G39: =일위대가!J459 -> 0 | H39: =E39+F39+G39 -> 7597303 | I39: 호표 36
A40: 53A7C32B266E0626256525F023F500 | B40: 원격제어반(밸브실 계장제어장치-Type D 4련 제어) 옥외자립형 | C40: 전원부 | D40: 면 | E40: =일위대가!F496 -> 7896796 | F40: =일위대가!H496 -> 1354358 | G40: =일위대가!J496 -> 0 | H40: =E40+F40+G40 -> 9251154 | I40: 호표 37
...

Sheet 일위대가
A1: [ 하남지구 자동화시스템 제조구매설치 ]
A2: 품 명 | B2: 규 격 | C2: 단위 | D2: 수량 | E2: 재 료 비 | G2: 노 무 비 | I2: 경 비 | K2: 합 계 | M2: 비 고 | N2: 일위대가 | O2: 품목코드 | P2: 일위 | Q2: 단산 | R2: 자재 | S2: 손료적용 | T2: 손료저장 | U2: 적용율 | V2: JUK1 | W2: JUK2 | X2: JUK3 | Y2: JUK4 | Z2: JUK5 | AA2: JUK6 | AB2: JUK7 | AC2: JUK8 | AD2: JUK9 | AE2: JUK10 | AF2: JUK11 | AG2: JUK12 | AH2: JUK13 | AI2: JUK14 | AJ2: JUK15 | AK2: JUK16 | AL2: JUK17 | AM2: JUK18 | AN2: JUK19 | AO2: JUK20 | AP2: 할증적용 | AQ2: 할증저장 | AR2: 할증율 | AS2: HAL1 | AT2: HAL2 | AU2: HAL3 | AV2: 자재구분 | AW2: 일위대가+자재 | AX2: 장비일위 | AY2: 설정
E3: 단 가 | F3: 금 액 | G3: 단 가 | H3: 금 액 | I3: 단 가 | J3: 금 액 | K3: 단 가 | L3: 금 액
A4: 수산양배수장 계장제어장치 (제작율 적용) 옥내자립형(ST), 800(W)x2,350(H)x2,000(D) 면 ( 호표 1 ) | N4: 53A7C32B266E0626256525F023FF06
A5: 수산양배수장 계장제어장치 옥내자립형 | B5: 전원부 | C5: 면 | D5: 1 | E5: =일위대가목록!E30 -> 16719984 | F5: =TRUNC(E5*D5,1) -> 16719984 | G5: =일위대가목록!F30 -> 1280875 | H5: =TRUNC(G5*D5,1) -> 1280875 | I5: =일위대가목록!G30 -> 0 | J5: =TRUNC(I5*D5,1) -> 0 | K5: =TRUNC(E5+G5+I5,1) -> 18000859 | L5: =TRUNC(F5+H5+J5,1) -> 18000859 | M5: 금액제외 | O5: 53A7C32B266E0626256525F023FF04 | P5: T | Q5: F | R5: F | V5: 1 | X5: 3 | AW5: 53A7C32B266E0626256525F023FF0653A7C32B266E0626256525F023FF04 | AY5: -
A6: 수산양배수장 계장제어장치 옥내자립형 | B6: 제어부 | C6: 면 | D6: 1 | E6: =일위대가목록!E31 -> 32266236 | F6: =TRUNC(E6*D6,1) -> 32266236 | G6: =일위대가목록!F31 -> 4092419 | H6: =TRUNC(G6*D6,1) -> 4092419 | I6: =일위대가목록!G31 -> 0 | J6: =TRUNC(I6*D6,1) -> 0 | K6: =TRUNC(E6+G6+I6,1) -> 36358655 | L6: =TRUNC(F6+H6+J6,1) -> 36358655 | M6: 금액제외 | O6: 53A7C32B266E0626256525F023FF05 | P6: T | Q6: F | R6: F | V6: 1 | X6: 3 | AW6: 53A7C32B266E0626256525F023FF0653A7C32B266E0626256525F023FF05 | AY6: -
A7: 직접재료비 | B7: 산출재료비의 100% | C7: 식 | D7: 1 | E7: =TRUNC(SUMIF(V5:V14, RIGHTB(O7, 1), F5:F14)*U7, 2) -> 48986220 | F7: =TRUNC(E7*D7,1) -> 48986220 | G7: 0 | H7: =TRUNC(G7*D7,1) -> 0 | I7: 0 | J7: =TRUNC(I7*D7,1) -> 0 | K7: =TRUNC(E7+G7+I7,1) -> 48986220 | L7: =TRUNC(F7+H7+J7,1) -> 48986220 | M7: 금액제외 | O7: 52F14335236CBE512F69440062E6001 | P7: F | Q7: F | R7: F | S7: 0 | T7: 0 | U7: 1 | W7: 2 | Z7: 5 | AA7: 6 | AC7: 8 | AW7: 53A7C32B266E0626256525F023FF0652F14335236CBE512F69440062E6001 | AY7: -
A8: 간접재료비 | B8: 직접재료비의 1.03% | C8: 식 | D8: 1 | E8: =TRUNC(SUMIF(W5:W14, RIGHTB(O8, 1), F5:F14)*U8, 2) -> 504558.06 | F8: =TRUNC(E8*D8,1) -> 504558 | G8: 0 | H8: =TRUNC(G8*D8,1) -> 0 | I8: 0 | J8: =TRUNC(I8*D8,1) -> 0 | K8: =TRUNC(E8+G8+I8,1) -> 504558 | L8: =TRUNC(F8+H8+J8,1) -> 504558 | M8: 금액제외 | O8: 52F14335236CBE512F69440062E5002 | P8: F | Q8: F | R8: F | S8: 0 | T8: 0 | U8: 0.0103 | Z8: 5 | AA8: 6 | AC8: 8 | AW8: 53A7C32B266E0626256525F023FF0652F14335236CBE512F69440062E5002 | AY8: -
A9: 직접노무비 | B9: 산출노무비의 124.53% | C9: 식 | D9: 1 | E9: 0 | F9: =TRUNC(E9*D9,1) -> 0 | G9: =TRUNC(SUMIF(X5:X14, RIGHTB(O9, 1), H5:H14)*U9, 2) -> 6691363 | H9: =TRUNC(G9*D9,1) -> 6691363 | I9: 0 | J9: =TRUNC(I9*D9,1) -> 0 | K9: =TRUNC(E9+G9+I9,1) -> 6691363 | L9: =TRUNC(F9+H9+J9,1) -> 6691363 | M9: 금액제외 | O9: 52F14335236CBE512F69440062E4003 | P9: F | Q9: F | R9: F | S9: 1 | T9: 1 | U9: 1.2453 | Y9: 4 | AA9: 6 | AB9: 7 | AC9: 8 | AW9: 53A7C32B266E0626256525F023FF0652F14335236CBE512F69440062E4003 | AY9: -
A10: 간접노무비 | B10: 직접노무비의 34.93% | C10: 식 | D10: 1 | E10: 0 | F10: =TRUNC(E10*D10,1) -> 0 | G10: =TRUNC(SUMIF(Y5:Y14, RIGHTB(O10, 1), H5:H14)*U10, 2) -> 2337293.1 | H10: =TRUNC(G10*D10,1) -> 2337293 | I10: 0 | J10: =TRUNC(I10*D10,1) -> 0 | K10: =TRUNC(E10+G10+I10,1) -> 2337293 | L10: =TRUNC(F10+H10+J10,1) -> 2337293 | M10: 금액제외 | O10: 52F14335236CBE512F69440062E3004 | P10: F | Q10: F | R10: F | S10: 1 | T10: 1 | U10: 0.3493 | AA10: 6 | AB10: 7 | AC10: 8 | AW10: 53A7C32B266E0626256525F023FF0652F14335236CBE512F69440062E3004 | AY10: -
A11: 경 비 | B11: 재료비의 8.95% | C11: 식 | D11: 1 | E11: 0 | F11: =TRUNC(E11*D11,1) -> 0 | G11: 0 | H11: =TRUNC(G11*D11,1) -> 0 | I11: =TRUNC(SUMIF(Z5:Z14, RIGHTB(O11, 1), F5:F14)*U11, 2) -> 4429424.6 | J11: =TRUNC(I11*D11,1) -> 4429424.6 | K11: =TRUNC(E11+G11+I11,1) -> 4429424.6 | L11: =TRUNC(F11+H11+J11,1) -> 4429424.6 | M11: 금액제외 | O11: 52F14335236CBE512F69440062E2005 | P11: F | Q11: F | R11: F | S11: 0 | T11: 2 | U11: 0.0895 | AA11: 6 | AB11: 7 | AC11: 8 | AW11: 53A7C32B266E0626256525F023FF0652F14335236CBE512F69440062E2005 | AY11: -
A12: 일반관리비 | B12: (재+노+경)의 7% | C12: 식 | D12: 1 | E12: 0 | F12: =TRUNC(E12*D12,1) -> 0 | G12: 0 | H12: =TRUNC(G12*D12,1) -> 0 | I12: =TRUNC(SUMIF(AA5:AA14, RIGHTB(O12, 1), L5:L14)*U12, 2) -> 4406420.1 | J12: =TRUNC(I12*D12,1) -> 4406420.1 | K12: =TRUNC(E12+G12+I12,1) -> 4406420.1 | L12: =TRUNC(F12+H12+J12,1) -> 4406420.1 | M12: 금액제외 | O12: 52F14335236CBE512F69440062E1006 | P12: F | Q12: F | R12: F | S12: 3 | T12: 2 | U12: 0.07 | AB12: 7 | AC12: 8 | AW12: 53A7C32B266E0626256525F023FF0652F14335236CBE512F69440062E1006 | AY12: -
A13: 이 윤 | B13: (노+경+일)의 25% | C13: 식 | D13: 1 | E13: 0 | F13: =TRUNC(E13*D13,1) -> 0 | G13: 0 | H13: =TRUNC(G13*D13,1) -> 0 | I13: =TRUNC(SUMIF(AB5:AB14, RIGHTB(O13, 1), L5:L14)*U13, 2) -> 4466125.2 | J13: =TRUNC(I13*D13,1) -> 4466125.1 | K13: =TRUNC(E13+G13+I13,1) -> 4466125.1 | L13: =TRUNC(F13+H13+J13,1) -> 4466125.1 | M13: 금액제외 | O13: 52F14335236CBE512F69440062E0007 | P13: F | Q13: F | R13: F | S13: 3 | T13: 2 | U13: 0.25 | AC13: 8 | AW13: 53A7C32B266E0626256525F023FF0652F14335236CBE512F69440062E0007 | AY13: -
A14: 총 계 | B14: 합계의 100% | C14: 식 | D14: 1 | E14: =TRUNC(SUMIF(AC5:AC14, RIGHTB(O14, 1), L5:L14)*U14, 2) -> 71821404 | F14: =TRUNC(E14*D14,1) -> 71821404 | G14: 0 | H14: =TRUNC(G14*D14,1) -> 0 | I14: 0 | J14: =TRUNC(I14*D14,1) -> 0 | K14: =TRUNC(E14+G14+I14,1) -> 71821404 | L14: =TRUNC(F14+H14+J14,1) -> 71821404 | N14: 53A7C32B266E0626256525F023FF06 | O14: 52F14335236CBE512F69440062EF008 | P14: F | Q14: F | R14: F | S14: 3 | T14: 0 | U14: 1 | AW14: 53A7C32B266E0626256525F023FF0652F14335236CBE512F69440062EF008
A15: [ 합 계 ] | F15: =TRUNC(SUMIF(N5:N14, N4, F5:F14),0) -> 71821403 | H15: =TRUNC(SUMIF(N5:N14, N4, H5:H14),0) -> 0 | J15: =TRUNC(SUMIF(N5:N14, N4, J5:J14),0) -> 0 | L15: =F15+H15+J15 -> 71821403 | N15: TOTAL | O15: TOTAL
A17: 수산양배수장 계장제어장치 설치비 면 ( 호표 2 ) | N17: 53A7C32B266E0626256525F023FF07
A18: 현장감시제어설비 설치 | B18: 계장제어장치반 설치 | C18: 면 | D18: 1 | E18: =일위대가목록!E32 -> 5021 | F18: =TRUNC(E18*D18,1) -> 5021 | G18: =일위대가목록!F32 -> 167386 | H18: =TRUNC(G18*D18,1) -> 167386 | I18: =일위대가목록!G32 -> 0 | J18: =TRUNC(I18*D18,1) -> 0 | K18: =TRUNC(E18+G18+I18,1) -> 172407 | L18: =TRUNC(F18+H18+J18,1) -> 172407 | M18: 금액제외 | O18: 52BE030C23667D322A65645DEC182B | P18: T | Q18: F | R18: F | V18: 1 | AW18: 53A7C32B266E0626256525F023FF0752BE030C23667D322A65645DEC182B | AY18: -
A19: 현장감시제어설비 설치 | B19: Bay건립 및 카드 설치 | C19: 면 | D19: 1 | E19: =일위대가목록!E33 -> 14182 | F19: =TRUNC(E19*D19,1) -> 14182 | G19: =일위대가목록!F33 -> 472750 | H19: =TRUNC(G19*D19,1) -> 472750 | I19: =일위대가목록!G33 -> 0 | J19: =TRUNC(I19*D19,1) -> 0 | K19: =TRUNC(E19+G19+I19,1) -> 486932 | L19: =TRUNC(F19+H19+J19,1) -> 486932 | M19: 금액제외 | O19: 52BE030C23667D322A65645DEC1BFF | P19: T | Q19: F | R19: F | V19: 1 | AW19: 53A7C32B266E0626256525F023FF0752BE030C23667D322A65645DEC1BFF | AY19: -
A20: 현장감시제어설비 설치 | B20: 케이블 접속 | C20: 10점당 | D20: 23.8 | E20: =일위대가목록!E34 -> 2636 | F20: =TRUNC(E20*D20,1) -> 62736.8 | G20: =일위대가목록!F34 -> 87885 | H20: =TRUNC(G20*D20,1) -> 2091663 | I20: =일위대가목록!G34 -> 0 | J20: =TRUNC(I20*D20,1) -> 0 | K20: =TRUNC(E20+G20+I20,1) -> 90521 | L20: =TRUNC(F20+H20+J20,1) -> 2154399.8 | M20: 금액제외 | O20: 52BE030C23667D322A65645DEC1AD5 | P20: T | Q20: F | R20: F | V20: 1 | AW20: 53A7C32B266E0626256525F023FF0752BE030C23667D322A65645DEC1AD5 | AY20: -
A21: 현장감시제어설비 설치 | B21: 시험 | C21: 카드 | D21: 14 | E21: =일위대가목록!E35 -> 182 | F21: =TRUNC(E21*D21,1) -> 2548 | G21: =일위대가목록!F35 -> 6090 | H21: =TRUNC(G21*D21,1) -> 85260 | I21: =일위대가목록!G35 -> 0 | J21: =TRUNC(I21*D21,1) -> 0 | K21: =TRUNC(E21+G21+I21,1) -> 6272 | L21: =TRUNC(F21+H21+J21,1) -> 87808 | M21: 금액제외 | O21: 52BE030C23667D322A65645DEC1DA9 | P21: T | Q21: F | R21: F | V21: 1 | AW21: 53A7C32B266E0626256525F023FF0752BE030C23667D322A65645DEC1DA9 | AY21: -
A22: 총 계 | B22: 합계의 100% | C22: 식 | D22: 1 | E22: =TRUNC(SUMIF(V18:V22, RIGHTB(O22, 1), L18:L22)*U22, 2) -> 2901546.8 | F22: =TRUNC(E22*D22,1) -> 2901546.8 | G22: 0 | H22: =TRUNC(G22*D22,1) -> 0 | I22: 0 | J22: =TRUNC(I22*D22,1) -> 0 | K22: =TRUNC(E22+G22+I22,1) -> 2901546.8 | L22: =TRUNC(F22+H22+J22,1) -> 2901546.8 | N22: 53A7C32B266E0626256525F023FF07 | O22: 52F14335236CBE512F69440062E6001 | P22: F | Q22: F | R22: F | S22: 3 | T22: 0 | U22: 1 | AW22: 53A7C32B266E0626256525F023FF0752F14335236CBE512F69440062E6001
A23: [ 합 계 ] | F23: =TRUNC(SUMIF(N18:N22, N17, F18:F22),0) -> 2901546 | H23: =TRUNC(SUMIF(N18:N22, N17, H18:H22),0) -> 0 | J23: =TRUNC(SUMIF(N18:N22, N17, J18:J22),0) -> 0 | L23: =F23+H23+J23 -> 2901546 | N23: TOTAL | O23: TOTAL
A25: 하남가압장 계장제어장치 (제작율 적용) 옥내자립형(ST), 1,600(W)x2,350(H)x1,200(D) 면 ( 호표 3 ) | N25: 53A7C32B266E0626256525F023FF02
A26: 하남가압장 계장제어장치 옥내자립형 | B26: 전원부 | C26: 면 | D26: 1 | E26: =일위대가목록!E36 -> 32951984 | F26: =TRUNC(E26*D26,1) -> 32951984 | G26: =일위대가목록!F36 -> 1850558 | H26: =TRUNC(G26*D26,1) -> 1850558 | I26: =일위대가목록!G36 -> 0 | J26: =TRUNC(I26*D26,1) -> 0 | K26: =TRUNC(E26+G26+I26,1) -> 34802542 | L26: =TRUNC(F26+H26+J26,1) -> 34802542 | M26: 금액제외 | O26: 53A7C32B266E0626256525F023FF00 | P26: T | Q26: F | R26: F | V26: 1 | X26: 3 | AW26: 53A7C32B266E0626256525F023FF0253A7C32B266E0626256525F023FF00 | AY26: -
A27: 하남가압장 계장제어장치 옥내자립형 | B27: 제어부 | C27: 면 | D27: 1 | E27: =일위대가목록!E37 -> 69652577 | F27: =TRUNC(E27*D27,1) -> 69652577 | G27: =일위대가목록!F37 -> 15045762 | H27: =TRUNC(G27*D27,1) -> 15045762 | I27: =일위대가목록!G37 -> 0 | J27: =TRUNC(I27*D27,1) -> 0 | K27: =TRUNC(E27+G27+I27,1) -> 84698339 | L27: =TRUNC(F27+H27+J27,1) -> 84698339 | M27: 금액제외 | O27: 53A7C32B266E0626256525F023FF01 | P27: T | Q27: F | R27: F | V27: 1 | X27: 3 | AW27: 53A7C32B266E0626256525F023FF0253A7C32B266E0626256525F023FF01 | AY27: -
A28: 직접재료비 | B28: 산출재료비의 100% | C28: 식 | D28: 1 | E28: =TRUNC(SUMIF(V26:V35, RIGHTB(O28, 1), F26:F35)*U28, 2) -> 102604561 | F28: =TRUNC(E28*D28,1) -> 102604561 | G28: 0 | H28: =TRUNC(G28*D28,1) -> 0 | I28: 0 | J28: =TRUNC(I28*D28,1) -> 0 | K28: =TRUNC(E28+G28+I28,1) -> 102604561 | L28: =TRUNC(F28+H28+J28,1) -> 102604561 | M28: 금액제외 | O28: 52F14335236CBE512F69440062E6001 | P28: F | Q28: F | R28: F | S28: 0 | T28: 0 | U28: 1 | W28: 2 | Z28: 5 | AA28: 6 | AC28: 8 | AW28: 53A7C32B266E0626256525F023FF0252F14335236CBE512F69440062E6001 | AY28: -
A29: 간접재료비 | B29: 직접재료비의 1.03% | C29: 식 | D29: 1 | E29: =TRUNC(SUMIF(W26:W35, RIGHTB(O29, 1), F26:F35)*U29, 2) -> 1056827 | F29: =TRUNC(E29*D29,1) -> 1056826.9 | G29: 0 | H29: =TRUNC(G29*D29,1) -> 0 | I29: 0 | J29: =TRUNC(I29*D29,1) -> 0 | K29: =TRUNC(E29+G29+I29,1) -> 1056826.9 | L29: =TRUNC(F29+H29+J29,1) -> 1056826.9 | M29: 금액제외 | O29: 52F14335236CBE512F69440062E5002 | P29: F | Q29: F | R29: F | S29: 0 | T29: 0 | U29: 0.0103 | Z29: 5 | AA29: 6 | AC29: 8 | AW29: 53A7C32B266E0626256525F023FF0252F14335236CBE512F69440062E5002 | AY29: -
A30: 직접노무비 | B30: 산출노무비의 124.53% | C30: 식 | D30: 1 | E30: 0 | F30: =TRUNC(E30*D30,1) -> 0 | G30: =TRUNC(SUMIF(X26:X35, RIGHTB(O30, 1), H26:H35)*U30, 2) -> 21040987 | H30: =TRUNC(G30*D30,1) -> 21040987 | I30: 0 | J30: =TRUNC(I30*D30,1) -> 0 | K30: =TRUNC(E30+G30+I30,1) -> 21040987 | L30: =TRUNC(F30+H30+J30,1) -> 21040987 | M30: 금액제외 | O30: 52F14335236CBE512F69440062E4003 | P30: F | Q30: F | R30: F | S30: 1 | T30: 1 | U30: 1.2453 | Y30: 4 | AA30: 6 | AB30: 7 | AC30: 8 | AW30: 53A7C32B266E0626256525F023FF0252F14335236CBE512F69440062E4003 | AY30: -
A31: 간접노무비 | B31: 직접노무비의 34.93% | C31: 식 | D31: 1 | E31: 0 | F31: =TRUNC(E31*D31,1) -> 0 | G31: =TRUNC(SUMIF(Y26:Y35, RIGHTB(O31, 1), H26:H35)*U31, 2) -> 7349616.8 | H31: =TRUNC(G31*D31,1) -> 7349616.8 | I31: 0 | J31: =TRUNC(I31*D31,1) -> 0 | K31: =TRUNC(E31+G31+I31,1) -> 7349616.8 | L31: =TRUNC(F31+H31+J31,1) -> 7349616.8 | M31: 금액제외 | O31: 52F14335236CBE512F69440062E3004 | P31: F | Q31: F | R31: F | S31: 1 | T31: 1 | U31: 0.3493 | AA31: 6 | AB31: 7 | AC31: 8 | AW31: 53A7C32B266E0626256525F023FF0252F14335236CBE512F69440062E3004 | AY31: -
A32: 경 비 | B32: 재료비의 8.95% | C32: 식 | D32: 1 | E32: 0 | F32: =TRUNC(E32*D32,1) -> 0 | G32: 0 | H32: =TRUNC(G32*D32,1) -> 0 | I32: =TRUNC(SUMIF(Z26:Z35, RIGHTB(O32, 1), F26:F35)*U32, 2) -> 9277694.2 | J32: =TRUNC(I32*D32,1) -> 9277694.2 | K32: =TRUNC(E32+G32+I32,1) -> 9277694.2 | L32: =TRUNC(F32+H32+J32,1) -> 9277694.2 | M32: 금액제외 | O32: 52F14335236CBE512F69440062E2005 | P32: F | Q32: F | R32: F | S32: 0 | T32: 2 | U32: 0.0895 | AA32: 6 | AB32: 7 | AC32: 8 | AW32: 53A7C32B266E0626256525F023FF0252F14335236CBE512F69440062E2005 | AY32: -
A33: 일반관리비 | B33: (재+노+경)의 7% | C33: 식 | D33: 1 | E33: 0 | F33: =TRUNC(E33*D33,1) -> 0 | G33: 0 | H33: =TRUNC(G33*D33,1) -> 0 | I33: =TRUNC(SUMIF(AA26:AA35, RIGHTB(O33, 1), L26:L35)*U33, 2) -> 9893078 | J33: =TRUNC(I33*D33,1) -> 9893078 | K33: =TRUNC(E33+G33+I33,1) -> 9893078 | L33: =TRUNC(F33+H33+J33,1) -> 9893078 | M33: 금액제외 | O33: 52F14335236CBE512F69440062E1006 | P33: F | Q33: F | R33: F | S33: 3 | T33: 2 | U33: 0.07 | AB33: 7 | AC33: 8 | AW33: 53A7C32B266E0626256525F023FF0252F14335236CBE512F69440062E1006 | AY33: -
A34: 이 윤 | B34: (노+경+일)의 25% | C34: 식 | D34: 1 | E34: 0 | F34: =TRUNC(E34*D34,1) -> 0 | G34: 0 | H34: =TRUNC(G34*D34,1) -> 0 | I34: =TRUNC(SUMIF(AB26:AB35, RIGHTB(O34, 1), L26:L35)*U34, 2) -> 11890344 | J34: =TRUNC(I34*D34,1) -> 11890344 | K34: =TRUNC(E34+G34+I34,1) -> 11890344 | L34: =TRUNC(F34+H34+J34,1) -> 11890344 | M34: 금액제외 | O34: 52F14335236CBE512F69440062E0007 | P34: F | Q34: F | R34: F | S34: 3 | T34: 2 | U34: 0.25 | AC34: 8 | AW34: 53A7C32B266E0626256525F023FF0252F14335236CBE512F69440062E0007 | AY34: -
A35: 총 계 | B35: 합계의 100% | C35: 식 | D35: 1 | E35: =TRUNC(SUMIF(AC26:AC35, RIGHTB(O35, 1), L26:L35)*U35, 2) -> 1.6311311e+08 | F35: =TRUNC(E35*D35,1) -> 1.6311311e+08 | G35: 0 | H35: =TRUNC(G35*D35,1) -> 0 | I35: 0 | J35: =TRUNC(I35*D35,1) -> 0 | K35: =TRUNC(E35+G35+I35,1) -> 1.6311311e+08 | L35: =TRUNC(F35+H35+J35,1) -> 1.6311311e+08 | N35: 53A7C32B266E0626256525F023FF02 | O35: 52F14335236CBE512F69440062EF008 | P35: F | Q35: F | R35: F | S35: 3 | T35: 0 | U35: 1 | AW35: 53A7C32B266E0626256525F023FF0252F14335236CBE512F69440062EF008
A36: [ 합 계 ] | F36: =TRUNC(SUMIF(N26:N35, N25, F26:F35),0) -> 163113108 | H36: =TRUNC(SUMIF(N26:N35, N25, H26:H35),0) -> 0 | J36: =TRUNC(SUMIF(N26:N35, N25, J26:J35),0) -> 0 | L36: =F36+H36+J36 -> 163113108 | N36: TOTAL | O36: TOTAL
A38: 하남가압장 계장제어장치 설치비 면 ( 호표 4 ) | N38: 53A7C32B266E0626256525F023FF03
A39: 현장감시제어설비 설치 | B39: 계장제어장치반 설치 | C39: 면 | D39: 1 | E39: =일위대가목록!E32 -> 5021 | F39: =TRUNC(E39*D39,1) -> 5021 | G39: =일위대가목록!F32 -> 167386 | H39: =TRUNC(G39*D39,1) -> 167386 | I39: =일위대가목록!G32 -> 0 | J39: =TRUNC(I39*D39,1) -> 0 | K39: =TRUNC(E39+G39+I39,1) -> 172407 | L39: =TRUNC(F39+H39+J39,1) -> 172407 | M39: 금액제외 | O39: 52BE030C23667D322A65645DEC182B | P39: T | Q39: F | R39: F | V39: 1 | AW39: 53A7C32B266E0626256525F023FF0352BE030C23667D322A65645DEC182B | AY39: -
A40: 현장감시제어설비 설치 | B40: Bay건립 및 카드 설치 | C40: 면 | D40: 1 | E40: =일위대가목록!E33 -> 14182 | F40: =TRUNC(E40*D40,1) -> 14182 | G40: =일위대가목록!F33 -> 472750 | H40: =TRUNC(G40*D40,1) -> 472750 | I40: =일위대가목록!G33 -> 0 | J40: =TRUNC(I40*D40,1) -> 0 | K40: =TRUNC(E40+G40+I40,1) -> 486932 | L40: =TRUNC(F40+H40+J40,1) -> 486932 | M40: 금액제외 | O40: 52BE030C23667D322A65645DEC1BFF | P40: T | Q40: F | R40: F | V40: 1 | AW40: 53A7C32B266E0626256525F023FF0352BE030C23667D322A65645DEC1BFF | AY40: -
A41: 현장감시제어설비 설치 | B41: 케이블 접속 | C41: 10점당 | D41: 63.9 | E41: =일위대가목록!E34 -> 2636 | F41: =TRUNC(E41*D41,1) -> 168440.4 | G41: =일위대가목록!F34 -> 87885 | H41: =TRUNC(G41*D41,1) -> 5615851.5 | I41: =일위대가목록!G34 -> 0 | J41: =TRUNC(I41*D41,1) -> 0 | K41: =TRUNC(E41+G41+I41,1) -> 90521 | L41: =TRUNC(F41+H41+J41,1) -> 5784291.9 | M41: 금액제외 | O41: 52BE030C23667D322A65645DEC1AD5 | P41: T | Q41: F | R41: F | V41: 1 | AW41: 53A7C32B266E0626256525F023FF0352BE030C23667D322A65645DEC1AD5 | AY41: -
A42: 현장감시제어설비 설치 | B42: 시험 | C42: 카드 | D42: 29 | E42: =일위대가목록!E35 -> 182 | F42: =TRUNC(E42*D42,1) -> 5278 | G42: =일위대가목록!F35 -> 6090 | H42: =TRUNC(G42*D42,1) -> 176610 | I42: =일위대가목록!G35 -> 0 | J42: =TRUNC(I42*D42,1) -> 0 | K42: =TRUNC(E42+G42+I42,1) -> 6272 | L42: =TRUNC(F42+H42+J42,1) -> 181888 | M42: 금액제외 | O42: 52BE030C23667D322A65645DEC1DA9 | P42: T | Q42: F | R42: F | V42: 1 | AW42: 53A7C32B266E0626256525F023FF0352BE030C23667D322A65645DEC1DA9 | AY42: -
A43: 총 계 | B43: 합계의 100% | C43: 식 | D43: 1 | E43: =TRUNC(SUMIF(V39:V43, RIGHTB(O43, 1), L39:L43)*U43, 2) -> 6625518.9 | F43: =TRUNC(E43*D43,1) -> 6625518.9 | G43: 0 | H43: =TRUNC(G43*D43,1) -> 0 | I43: 0 | J43: =TRUNC(I43*D43,1) -> 0 | K43: =TRUNC(E43+G43+I43,1) -> 6625518.9 | L43: =TRUNC(F43+H43+J43,1) -> 6625518.9 | N43: 53A7C32B266E0626256525F023FF03 | O43: 52F14335236CBE512F69440062E6001 | P43: F | Q43: F | R43: F | S43: 3 | T43: 0 | U43: 1 | AW43: 53A7C32B266E0626256525F023FF0352F14335236CBE512F69440062E6001
...

Sheet 단가대비표
A1: 단 가 대 비 표
A2: [ 하남지구 자동화시스템 제조구매설치 ]
A3: 코 드 | B3: 품 명 | C3: 규격 | D3: 단위 | E3: 재 료 비 | P3: 노 무 비 | Q3: 경 비 | W3: 번 호 | X3: 비 고 | Y3: 품목구분 | Z3: 노임구분 | AA3: 소수점처리 | AB3: 자재구분
E4: 농어촌공사 2026 | F4: PAGE | G4: 거래가격 | H4: PAGE | I4: 유통물가 | J4: PAGE | K4: 물가자료 | L4: PAGE | M4: 조사가격 | N4: PAGE | O4: 적용단가 | Q4: 농어촌공사 | R4: 거래가격 | S4: 유통물가 | T4: 물가자료 | U4: 조사가격 | V4: 적용단가
A5: 54D7930A2B64FE812B67FFA6F4AC30D282767F | B5: 기기용 비닐절연전선 | C5: 450/700V KIV 1.5㎟(0.03kg) | D5: m | E5: 327 | F5: M060706 | G5: 0 | I5: 0 | K5: 0 | M5: 0 | O5: =SMALL(E5:M5,COUNTIF(E5:M5,0)+1) -> 327 | P5: 0 | Q5: 0 | R5: 0 | S5: 0 | T5: 0 | U5: 0 | V5: 0 | W5: 자재 1
A6: 54D7930A2B64FE812B67FFA6F4AC30D282767E | B6: 기기용 비닐절연전선 | C6: 450/700V KIV 2.5㎟(0.04kg) | D6: m | E6: 524 | F6: M060707 | G6: 414 | H6: 994 | I6: 436 | J6: 836 | K6: 390 | L6: 1099 | M6: 479 | N6: 1195 | O6: =E6 -> 524 | P6: 0 | Q6: 0 | R6: 0 | S6: 0 | T6: 0 | U6: 0 | V6: 0 | W6: 자재 2
A7: 54D7930A2B64FE812B67FFA6F4AC30D28D007C | B7: 접지용비닐절연전선(제조) | C7: F-GV, 50㎟ | D7: m | E7: 9307 | F7: M061327 | G7: 8069 | H7: 994 | I7: 7620 | J7: 833 | K7: 7910 | L7: 1099 | M7: 7532 | N7: 1193 | O7: =E7 -> 9307 | P7: 0 | Q7: 0 | R7: 0 | S7: 0 | T7: 0 | U7: 0 | V7: 0 | W7: 자재 3
A8: 54D7930A2B64FE82256CBB1B2258D1A35C2AD0 | B8: 제어케이블(통신) | C8: 0.6/1kV, TFR-CVV-SB, 5C*1.5㎟ | D8: m | E8: 3222 | F8: M061267 | G8: 2720 | H8: 995 | I8: 3041 | J8: 835 | K8: 2634 | L8: 1100 | M8: 3310 | N8: 1200 | O8: =E8 -> 3222 | P8: 0 | Q8: 0 | R8: 0 | S8: 0 | T8: 0 | U8: 0 | V8: 0 | W8: 자재 4
A9: 54D7930A2B64FE82256CBB1B2258D1A35C2DAD | B9: 제어케이블(통신) | C9: 0.6/1kV, TFR-CVV-SB, 10C*1.5㎟ | D9: m | E9: 5276 | F9: M061271 | G9: 4483 | H9: 995 | I9: 5023 | J9: 835 | K9: 4314 | L9: 1100 | M9: 5452 | N9: 1200 | O9: =E9 -> 5276 | P9: 0 | Q9: 0 | R9: 0 | S9: 0 | T9: 0 | U9: 0 | V9: 0 | W9: 자재 5
A10: 54D7930A2B64FE82256CBB1B2258D1A35C2DAE | B10: 제어케이블(통신) | C10: 0.6/1kV, TFR-CVV-SB, 15C*1.5㎟ | D10: m | E10: 7060 | F10: M061272 | G10: 0 | I10: 0 | K10: 0 | M10: 0 | O10: =E10 -> 7060 | P10: 0 | Q10: 0 | R10: 0 | S10: 0 | T10: 0 | U10: 0 | V10: 0 | W10: 자재 6
A11: 54D7930A2B64FE82256CBB1B2258D1A35C2DAF | B11: 제어케이블(통신) | C11: 0.6/1kV, TFR-CVV-SB, 30C*1.5㎟ | D11: m | E11: 12470 | F11: M061276 | G11: 0 | I11: 0 | K11: 0 | M11: 0 | O11: =E11 -> 12470 | P11: 0 | Q11: 0 | R11: 0 | S11: 0 | T11: 0 | U11: 0 | V11: 0 | W11: 자재 7
A12: 54D7930A2B64FE82256CBB1B2258D1A35C2DA8 | B12: 제어케이블(통신) | C12: 0.6/1kV, TFR-CVV-SB, 20C*1.5㎟ | D12: m | E12: 8839 | F12: M061274 | G12: 0 | I12: 0 | K12: 0 | M12: 0 | O12: =E12 -> 8839 | P12: 0 | Q12: 0 | R12: 0 | S12: 0 | T12: 0 | U12: 0 | V12: 0 | W12: 자재 8
A13: 54D7930A2B64FE82256CBC221417AA27685156 | B13: 통신케이블 | C13: RS-485(3P 24AWG) | D13: m | E13: 0 | G13: 12700 | H13: 1006 | I13: 0 | K13: 0 | M13: 0 | O13: =SMALL(E13:M13,COUNTIF(E13:M13,0)+1) -> 12700 | P13: 0 | Q13: 0 | R13: 0 | S13: 0 | T13: 0 | U13: 0 | V13: 0 | W13: 자재 9
A14: 54C5135B2162D71728601354F2CF9AB555B869 | B14: DOOR HANDLE (배전반용) | C14: W/KEY(L) | D14: 개 | E14: 5690 | F14: M079080 | G14: 0 | I14: 0 | K14: 0 | M14: 0 | O14: =SMALL(E14:M14,COUNTIF(E14:M14,0)+1) -> 5690 | P14: 0 | Q14: 0 | R14: 0 | S14: 0 | T14: 0 | U14: 0 | V14: 0 | W14: 자재 10
A15: 54C5135B2162D71728601354F2CF9AB555B868 | B15: DOOR HANDLE (배전반용) | C15: W/KEY(M) | D15: 개 | E15: 4170 | F15: M079081 | G15: 0 | I15: 0 | K15: 0 | M15: 0 | O15: =SMALL(E15:M15,COUNTIF(E15:M15,0)+1) -> 4170 | P15: 0 | Q15: 0 | R15: 0 | S15: 0 | T15: 0 | U15: 0 | V15: 0 | W15: 자재 11
A16: 54C5135B2162D71728601354F2CF9AB555B74A | B16: NAME PLATE | C16: 아크릴(L) | D16: 개 | E16: 5690 | F16: M079101 | G16: 0 | I16: 0 | K16: 0 | M16: 0 | O16: =SMALL(E16:M16,COUNTIF(E16:M16,0)+1) -> 5690 | P16: 0 | Q16: 0 | R16: 0 | S16: 0 | T16: 0 | U16: 0 | V16: 0 | W16: 자재 12
A17: 54C5135B2162D71728601354F2CF9AB555B74C | B17: NAME PLATE | C17: 아크릴(S) | D17: 개 | E17: 3000 | F17: M079100 | G17: 0 | I17: 0 | K17: 0 | M17: 0 | O17: =SMALL(E17:M17,COUNTIF(E17:M17,0)+1) -> 3000 | P17: 0 | Q17: 0 | R17: 0 | S17: 0 | T17: 0 | U17: 0 | V17: 0 | W17: 자재 13
A18: 54C5135B2162D712216EC9D5E77958C2F95085 | B18: 멀티탭 | C18: 멀티콘센트 5구 | D18: 개 | E18: 10500 | G18: 21200 | H18: 1101 | I18: 0 | K18: 14000 | L18: 1230 | M18: 0 | O18: =SMALL(E18:M18,COUNTIF(E18:M18,0)+1) -> 10500 | P18: 0 | Q18: 0 | R18: 0 | S18: 0 | T18: 0 | U18: 0 | V18: 0 | W18: 자재 14
A19: 54C5135B2162D712216FD548D20006EAEA9AB0 | B19: 단자대 | C19: 2P 30A | D19: 개 | E19: 0 | G19: 0 | I19: 340 | J19: 856 | K19: 0 | M19: 340 | N19: 1228 | O19: =SMALL(E19:M19,COUNTIF(E19:M19,0)+1) -> 340 | P19: 0 | Q19: 0 | R19: 0 | S19: 0 | T19: 0 | U19: 0 | V19: 0 | W19: 자재 15
A20: 54C5135B2162D712216FD548D20006EAEA9ABF | B20: 단자대 | C20: 4P 20A | D20: 개 | E20: 0 | G20: 1090 | I20: 1890 | J20: 856 | K20: 0 | M20: 0 | O20: =SMALL(E20:M20,COUNTIF(E20:M20,0)+1) -> 1090 | P20: 0 | Q20: 0 | R20: 0 | S20: 0 | T20: 0 | U20: 0 | V20: 0 | W20: 자재 16
A21: 54C5135B2162D712216FD548D20006EAEA9ABE | B21: 단자대 | C21: 4P 60A | D21: 개 | E21: 0 | G21: 3480 | I21: 3480 | J21: 856 | K21: 0 | M21: 0 | O21: =SMALL(E21:M21,COUNTIF(E21:M21,0)+1) -> 3480 | P21: 0 | Q21: 0 | R21: 0 | S21: 0 | T21: 0 | U21: 0 | V21: 0 | W21: 자재 17
A22: 54C5135B2162D712216FD548D20006EAEBB863 | B22: 단자대 | C22: 10P 30A | D22: 개 | E22: 2500 | F22: M079128 | G22: 0 | I22: 3630 | J22: 856 | K22: 0 | M22: 3630 | N22: 1228 | O22: =SMALL(E22:M22,COUNTIF(E22:M22,0)+1) -> 2500 | P22: 0 | Q22: 0 | R22: 0 | S22: 0 | T22: 0 | U22: 0 | V22: 0 | W22: 자재 18
A23: 54C5135B2162D712216FD548D20006EAEBBE8B | B23: 찬넬 | C23: 1M | D23: 개 | E23: 0 | G23: 2892 | I23: 2900 | J23: 856 | K23: 0 | M23: 2900 | N23: 1228 | O23: =SMALL(E23:M23,COUNTIF(E23:M23,0)+1) -> 2892 | P23: 0 | Q23: 0 | R23: 0 | S23: 0 | T23: 0 | U23: 0 | V23: 0 | W23: 자재 19
A24: 54C5135B2162D713226529378FB9812EE12E6D | B24: 리미트 스위치 | C24: 배전반용 | D24: 개 | E24: 4500 | F24: M079153 | G24: 7500 | H24: 1089 | I24: 0 | K24: 0 | M24: 7500 | N24: 1275 | O24: =SMALL(E24:M24,COUNTIF(E24:M24,0)+1) -> 4500 | P24: 0 | Q24: 0 | R24: 0 | S24: 0 | T24: 0 | U24: 0 | V24: 0 | W24: 자재 20
A25: 54C5135B2162D713226419E55811076C5EC9D2 | B25: 자동복귀형 셀렉터스위치 | C25: 수동_자동 | D25: 개 | E25: 13500 | G25: 0 | I25: 0 | K25: 3800 | L25: 1226 | M25: 3800 | N25: 1278 | O25: =E25 -> 13500 | P25: 0 | Q25: 0 | R25: 0 | S25: 0 | T25: 0 | U25: 0 | V25: 0 | W25: 자재 21
A26: 54C5135B2162D713226419E55811076C5EC834 | B26: 푸쉬버튼 스위치(LED) | C26: D25A110V/220V(조광형) | D26: 개 | E26: 3100 | F26: M080447 | G26: 0 | I26: 0 | K26: 0 | M26: 0 | O26: =SMALL(E26:M26,COUNTIF(E26:M26,0)+1) -> 3100 | P26: 0 | Q26: 0 | R26: 0 | S26: 0 | T26: 0 | U26: 0 | V26: 0 | W26: 자재 22
A27: 54C5135B2162D7132266C3A5DBDE31E52BACB7 | B27: 신호등(LED) | C27: D25, AC 110/220V | D27: 개 | E27: 2900 | F27: M080446 | G27: 5800 | H27: 1089 | I27: 5800 | J27: 910 | K27: 5900 | L27: 1226 | M27: 5900 | N27: 1278 | O27: =SMALL(E27:M27,COUNTIF(E27:M27,0)+1) -> 2900 | P27: 0 | Q27: 0 | R27: 0 | S27: 0 | T27: 0 | U27: 0 | V27: 0 | W27: 자재 23
A28: 54C5135B2162D7132266C3A5DBDE31E52BACB3 | B28: FAULT LAMP | C28: SQUARE 난연성 | D28: 개 | E28: 0 | G28: 6100 | I28: 7300 | J28: 910 | K28: 6600 | L28: 1226 | M28: 6600 | N28: 1278 | O28: =SMALL(E28:M28,COUNTIF(E28:M28,0)+1) -> 6100 | P28: 0 | Q28: 0 | R28: 0 | S28: 0 | T28: 0 | U28: 0 | V28: 0 | W28: 자재 24
A29: 54C5135B2162D7102560BFEA469ABC75CFCD25 | B29: 누전차단기(ELCB) | C29: 분전반형, 2P 30AF | D29: 개 | E29: 12000 | F29: M081270 | G29: 13900 | H29: 1065 | I29: 13900 | J29: 901 | K29: 13900 | L29: 1185 | M29: 13900 | N29: 1262 | O29: =SMALL(E29:M29,COUNTIF(E29:M29,0)+1) -> 12000 | P29: 0 | Q29: 0 | R29: 0 | S29: 0 | T29: 0 | U29: 0 | V29: 0 | W29: 자재 25
A30: 54C5135B2162D7102560BFEA469ABC75CFCD24 | B30: 누전차단기(ELCB) | C30: 표준형, 460V 3P 30AF | D30: 개 | E30: 56500 | F30: M081272 | G30: 0 | I30: 0 | K30: 0 | M30: 0 | O30: =SMALL(E30:M30,COUNTIF(E30:M30,0)+1) -> 56500 | P30: 0 | Q30: 0 | R30: 0 | S30: 0 | T30: 0 | U30: 0 | V30: 0 | W30: 자재 26
A31: 54C5135B2162D7102560BD39574BF04D261B51 | B31: 배선용차단기(MCCB) | C31: 표준형 460V 2P 30AF | D31: 개 | E31: 24000 | F31: M081210 | G31: 0 | I31: 0 | K31: 0 | M31: 0 | O31: =SMALL(E31:M31,COUNTIF(E31:M31,0)+1) -> 24000 | P31: 0 | Q31: 0 | R31: 0 | S31: 0 | T31: 0 | U31: 0 | V31: 0 | W31: 자재 27
A32: 54C5135B2162D7102560BD39574BF04D261B50 | B32: 배선용차단기(MCCB) | C32: 표준형 460V 2P 50AF | D32: 개 | E32: 36000 | F32: M081210 | G32: 40100 | H32: 1069 | I32: 40100 | J32: 895 | K32: 40100 | L32: 1178 | M32: 40100 | N32: 1263 | O32: =SMALL(E32:M32,COUNTIF(E32:M32,0)+1) -> 36000 | P32: 0 | Q32: 0 | R32: 0 | S32: 0 | T32: 0 | U32: 0 | V32: 0 | W32: 자재 28
A33: 54C5135B2162D7102560BD39574BF04D261B5F | B33: 배선용차단기(MCCB) | C33: 표준형 460V 4P 50AF | D33: 개 | E33: 55000 | F33: M081219 | G33: 0 | I33: 0 | K33: 0 | M33: 0 | O33: =SMALL(E33:M33,COUNTIF(E33:M33,0)+1) -> 55000 | P33: 0 | Q33: 0 | R33: 0 | S33: 0 | T33: 0 | U33: 0 | V33: 0 | W33: 자재 29
A34: 54BB23242069E4D729699D2A05D706119D7324 | B34: VPN | C34: 영상, 데이터용 | D34: 대 | E34: 3000000 | G34: 0 | I34: 0 | K34: 0 | M34: 0 | O34: =SMALL(E34:M34,COUNTIF(E34:M34,0)+1) -> 3000000 | P34: 0 | Q34: 0 | R34: 0 | S34: 0 | T34: 0 | U34: 0 | V34: 0 | W34: 자재 30
A35: 54BB23242069E4D729699D2A05D706119D7327 | B35: VPN(LTE) | C35: 데이터용 | D35: 대 | E35: 1800000 | G35: 0 | I35: 0 | K35: 0 | M35: 0 | O35: =SMALL(E35:M35,COUNTIF(E35:M35,0)+1) -> 1800000 | P35: 0 | Q35: 0 | R35: 0 | S35: 0 | T35: 0 | U35: 0 | V35: 0 | W35: 자재 31
A36: 54BB23242069E4D729699D2A05D706119D7323 | B36: 스위치 허브(제조) | C36: 8PORT | D36: 대 | E36: 0 | G36: 98000 | H36: 1379 | I36: 119600 | J36: 1219 | K36: 89000 | L36: 73(하) | M36: 80900 | N36: 1359 | O36: =SMALL(E36:M36,COUNTIF(E36:M36,0)+1) -> 80900 | P36: 0 | Q36: 0 | R36: 0 | S36: 0 | T36: 0 | U36: 0 | V36: 0 | W36: 자재 32
A37: 549873FA256B27B12D60FCA25D83FA81BC7ABD | B37: 판넬내진장치 | C37: 내진베어링(스프링),방진패드 | D37: SET | E37: 0 | G37: 880000 | H37: 1263 | I37: 850000 | J37: 769 | K37: 850000 | L37: 1079 | M37: 0 | O37: =SMALL(E37:M37,COUNTIF(E37:M37,0)+1) -> 850000 | P37: 0 | Q37: 0 | R37: 0 | S37: 0 | T37: 0 | U37: 0 | V37: 0 | W37: 자재 33
A38: 533EF3E6236AC2442B657C7C475E1F8BCBAFE9 | B38: 특별인부 | C38: 일반공사 직종 | D38: 인 | E38: 0 | G38: 0 | I38: 0 | K38: 0 | M38: 0 | O38: 0 | P38: 226122 | Q38: 0 | R38: 0 | S38: 0 | T38: 0 | U38: 0 | V38: 0 | W38: 노임 1 | Y38: B
A39: 533EF3E6236AC2442B657C7C475E1F8BCBA793 | B39: 통신설비공 | C39: 일반공사 직종 | D39: 인 | E39: 0 | G39: 0 | I39: 0 | K39: 0 | M39: 0 | O39: 0 | P39: 315528 | Q39: 0 | R39: 0 | S39: 0 | T39: 0 | U39: 0 | V39: 0 | W39: 노임 2 | Y39: B
A40: 533EF3E6236AC2442B657C7C475E1F8BCBA79D | B40: 통신케이블공 | C40: 일반공사 직종 | D40: 인 | E40: 0 | G40: 0 | I40: 0 | K40: 0 | M40: 0 | O40: 0 | P40: 436224 | Q40: 0 | R40: 0 | S40: 0 | T40: 0 | U40: 0 | V40: 0 | W40: 노임 3 | Y40: B
...

Sheet  공사설정 
A1: 이 Sheet는 수정하지 마십시요
A2: 공사구분 | B2: D
A3: 확정내역 | B3: 원내역
A4: 자재단가적용 | B4: 5
A5: 경비단가적용 | B5: 5
A6: 품목코드형식 | B6: XXXX-XXXX-XXXXXXXX
A7: 내역금액소수점처리 | B7: C | C7: 1
A8: 일위대가내역소수점처리 | B8: C | C8: 2
A9: 단가명 | B9: 농어촌공사 | C9: 거래가격 | D9: 유통물가 | E9: 물가자료 | F9: 조사가격 | G9: TTTTT
A10: 환율 | B10: 1095.1 | C10: 0 | D10: 0
A11: 시간당작업량 | B11: R | C11: 3
A12: 1회 사이클시간 | B12: R | C12: 3
A13: 시간당 작업사이클 | B13: R | C13: 2
A14: 일반변수 | B14: C | C14: 5
A15: 시간당 노임산출 계수 | B15: A | C15: 1/8*16/12*25/20 | D15: 1/8*16/12*25/20 | E15: 1/8*16/12*25/20 | F15: 1
A16: 재료비 할증 계수 | B16: 0 | C16: 0
A17: 노무비 할증 계수 | B17: 0 | C17: 0 | D17: 0 | E17: 0 | F17: 0 | G17: 0 | H17: 0 | I17: 0 | J17: 0 | K17: 0 | L17: 0 | M17: 0
A18: 경비 할증 계수 | B18: 0 | C18: 0
A19: 내역,일위대가 품명,규격,단위 따로적용
A20: 내역단가 소수점처리 | C20: 1
A21: 코드 | B21: 공종구분명 | C21: 원가비목코드
A22: 1 | B22: 작 업 부 산 물 | C22: A3
A23: 2 | B23: 운 반 비 | C23: C1
A24: 3 | B24: 관 급 자 재 비 | C24: DJ
A25: 4 | B25: 사 급 자 재 비 | C25: D3
A26: 5 | B26: 외 자 재
A27: 6 | B27: 재해예방기술지도 | C27: DL
A28: 7
A29: 8 | B29: ...
A30: 9 | B30: ...

Sheet Sheet1
