Workbook

Sheet 원가계산서
B1: 공 사 원 가 계 산 서
B2: 공사명 : 하남지구 농촌용수이용체계재편사업 하남가압장 자동화시스템 제조구매설치
B3: 비 목 | E3: 금 액 | F3: 구 성 비 | G3: 비 고
A4: A1 | B4: 순 공 사 원 가 | C4: 재 료 비 | D4: 직 접 재 료 비 | E4: =TRUNC(공종별집계표!F5, 0) -> 212643000
A5: A2 | D5: 간 접 재 료 비 | E5: 0
A6: A3 | D6: 작업설, 부산물(△) | E6: 0
A7: AS | D7: [ 소 계 ] | E7: =TRUNC(E4+E5-E6, 0) -> 212643000
A8: B1 | C8: 노 무 비 | D8: 직 접 노 무 비 | E8: =TRUNC(공종별집계표!H5, 0) -> 0
A9: B2 | D9: 간 접 노 무 비 | E9: =TRUNC(E8*0.165, 0) -> 0 | F9: 직접노무비 * 16.5%
A10: BS | D10: [ 소 계 ] | E10: =TRUNC(E8+E9, 0) -> 0
A11: C4 | C11: 경 비 | D11: 산 재 보 험 료 | E11: =TRUNC(E10*0.0356, 0) -> 0 | F11: 노무비 * 3.56%
A12: C5 | D12: 고 용 보 험 료 | E12: =TRUNC(E10*0.0101, 0) -> 0 | F12: 노무비 * 1.01%
A13: C6 | D13: 국민 건강 보험료 | E13: =TRUNC(E8*0.03595, 0) -> 0 | F13: 직접노무비 * 3.595%
A14: C7 | D14: 국민 연금 보험료 | E14: =TRUNC(E8*0.0475, 0) -> 0 | F14: 직접노무비 * 4.75%
A15: CB | D15: 노인장기요양보험료 | E15: =TRUNC(E13*0.1314, 0) -> 0 | F15: 건강보험료 * 13.14%
A16: CA | D16: 산업안전보건관리비 | E16: =TRUNC((E7+E8)*0.0207, 0) -> 4401710 | F16: (재료비+직노+관급자재비) * 2.07%
A17: CG | D17: 기 타 경 비 | E17: =TRUNC((E7+E10)*0.052, 0) -> 11057436 | F17: (재료비+노무비) * 5.2%
A18: CS | D18: [ 소 계 ] | E18: =TRUNC(E11+E12+E13+E14+E16+E15+E17, 0) -> 15459146
A19: S1 | B19: 계 | E19: =TRUNC(E7+E10+E18, 0) -> 228102146
A20: D1 | B20: 일 반 관 리 비 | E20: =TRUNC(E19*0.08, 0) -> 18248171 | F20: 계 * 8%
A21: D2 | B21: 이 윤 | E21: =TRUNC((E10+E18+E20)*0.15-133, 0) -> 5055964 | F21: (노무비+경비+일반관리비) * 15%
A22: D9 | B22: 공 급 가 액 | E22: =TRUNC(INT((E19+E20+E21)/10000)*10000, 0) -> 251400000
A23: DB | B23: 부 가 가 치 세 | E23: =TRUNC(E22*0.1, 0) -> 25140000 | F23: 공급가액 * 10%
A24: DH | B24: 도 급 액 | E24: =TRUNC(E22+E23, 0) -> 276540000
A25: DJ | B25: 관 급 자 재 비 | E25: =TRUNC(공종별집계표!#REF!, 0) -> #REF!
A26: S2 | B26: 총 공 사 비 | E26: =TRUNC(E24+E25, 0) -> #REF!

Sheet 공종별집계표
A1: 공 종 별 집 계 표
A2: [ 하남지구 자동화시스템 제조구매설치 ]
A3: 품 명 | B3: 규 격 | C3: 단위 | D3: 수량 | E3: 재 료 비 | G3: 노 무 비 | I3: 경 비 | K3: 합 계 | M3: 비 고 | N3: 공종코드 | O3: 변수 | P3: 상위공종 | Q3: 공종구분 | R3: 공종레벨 | S3: 공종소계 | T3: 원가계산서 연결금액
E4: 단 가 | F4: 금 액 | G4: 단 가 | H4: 금 액 | I4: 단 가 | J4: 금 액 | K4: 단 가 | L4: 금 액
A5: 01 하남지구 자동화시스템 제조구매설치 | D5: 1 | E5: =F6 -> 212643000 | F5: =E5*D5 -> 212643000 | G5: =H11 -> 0 | H5: =G5*D5 -> 0 | I5: =J11 -> 0 | J5: =I5*D5 -> 0 | K5: =E5+G5+I5 -> 212643000 | L5: =F5+H5+J5 -> 212643000 | N5: 01 | R5: 1
A6: 010101 A. 관급자관급자재 | D6: 1 | E6: =F8+F9+F10 -> 212643000 | F6: =E6*D6 -> 212643000 | G6: =H8+H9+H10 -> 0 | H6: =G6*D6 -> 0 | I6: =J8+J9+J10 -> 0 | J6: =I6*D6 -> 0 | K6: =E6+G6+I6 -> 212643000 | L6: =F6+H6+J6 -> 212643000 | N6: 010101 | P6: 0101 | R6: 3
A7: 0101010101 1. 물관리자동화 업데이트 | D7: 1 | E7: =ROUNDDOWN((F8),-3) -> 3054000 | F7: =E7*D7 -> 3054000 | G7: =H8 -> 0 | H7: =G7*D7 -> 0 | I7: =J8 -> 0 | J7: =I7*D7 -> 0 | K7: =E7+G7+I7 -> 3054000 | L7: =F7+H7+J7 -> 3054000 | N7: 0101010101 | P7: 01010101 | R7: 5
A8: 010101010103 하남가압장 HMI | D8: 1 | E8: =공종별내역서!F27 -> 3054000 | F8: =E8*D8 -> 3054000 | G8: =공종별내역서!H27 -> 0 | H8: =G8*D8 -> 0 | I8: =공종별내역서!J27 -> 0 | J8: =I8*D8 -> 0 | K8: =E8+G8+I8 -> 3054000 | L8: =F8+H8+J8 -> 3054000 | N8: 010101010103 | P8: 0101010101 | R8: 6
A9: 0101010201 감시제어시스템 | D9: 1 | E9: =공종별내역서!F51 -> 19577000 | F9: =E9*D9 -> 19577000 | G9: =공종별내역서!H51 -> 0 | H9: =G9*D9 -> 0 | I9: =공종별내역서!J51 -> 0 | J9: =I9*D9 -> 0 | K9: =E9+G9+I9 -> 19577000 | L9: =F9+H9+J9 -> 19577000 | N9: 0101010201 | P9: 01010102 | R9: 5
A10: 01010105 하남가압장 계장제어장치 | D10: 1 | E10: =ROUNDDOWN((공종별내역서!F75),-3) -> 190012000 | F10: =E10*D10 -> 190012000 | G10: =공종별내역서!H75 -> 0 | H10: =G10*D10 -> 0 | I10: =공종별내역서!J75 -> 0 | J10: =I10*D10 -> 0 | K10: =E10+G10+I10 -> 190012000 | L10: =F10+H10+J10 -> 190012000 | N10: 01010105 | P10: 010101 | R10: 4
N11: 0102 | P11: 01 | R11: 2
N12: 010202 | P12: 0102 | R12: 3
N13: 01020201 | P13: 010202 | R13: 4
A24: [ 합 계 ] | F24: =F5 -> 212643000 | H24: =H5 -> 0 | J24: =J5 -> 0 | L24: =L5 -> 212643000

Sheet 공종별내역서
A1: [ 하남지구 자동화시스템 제조구매설치 ]
A2: 품 명 | B2: 규 격 | C2: 단위 | D2: 수량 | E2: 재 료 비 | G2: 노 무 비 | I2: 경 비 | K2: 합 계 | M2: 비 고 | N2: 품목코드 | O2: 변수 | P2: 설정 | Q2: 공종코드 | R2: 일위 | S2: 단산 | T2: 자재 | U2: 손료적용 | V2: 손료저장 | W2: 적용율 | X2: JUK1 | Y2: JUK2 | Z2: JUK3 | AA2: JUK4 | AB2: JUK5 | AC2: JUK6 | AD2: JUK7 | AE2: JUK8 | AF2: JUK9 | AG2: JUK10 | AH2: JUK11 | AI2: JUK12 | AJ2: JUK13 | AK2: JUK14 | AL2: JUK15 | AM2: JUK16 | AN2: JUK17 | AO2: JUK18 | AP2: JUK19 | AQ2: JUK20 | AR2: 자재구분 | AS2: 공종구분 | AT2: 공종레벨 | AU2: 공종+자재 | AV2: 고유번호
E3: 단 가 | F3: 금 액 | G3: 단 가 | H3: 금 액 | I3: 단 가 | J3: 금 액 | K3: 단 가 | L3: 금 액
A4: 010101010103 3). 하남가압장 HMI | Q4: 010101010103
A5: KRC-HMI 3D그래픽작업 | B5: 수원공:저수지, 양배수장 | C5: 화면 | D5: 2 | E5: =TRUNC(단가대비표!O75,0) -> 896000 | F5: =TRUNC(E5*D5, 0) -> 1792000 | G5: =TRUNC(단가대비표!P75,0) -> 0 | H5: =TRUNC(G5*D5, 0) -> 0 | I5: =TRUNC(단가대비표!V75,0) -> 0 | J5: =TRUNC(I5*D5, 0) -> 0 | K5: =TRUNC(E5+G5+I5, 0) -> 896000 | L5: =TRUNC(F5+H5+J5, 0) -> 1792000 | N5: 532C83D42168026B2C677BB8C4F1CB29AE08FF | Q5: 010101010103 | R5: F | S5: F | T5: T | X5: 1 | AU5: 010101010103532C83D42168026B2C677BB8C4F1CB29AE08FF | AV5: 20417
A6: KRC-HMI SOFTWARE FEE | B6: 트렌드화면 구성 | C6: 화면 | D6: 0.1 | E6: =TRUNC(단가대비표!O72,0) -> 895000 | F6: =TRUNC(E6*D6, 0) -> 89500 | G6: =TRUNC(단가대비표!P72,0) -> 0 | H6: =TRUNC(G6*D6, 0) -> 0 | I6: =TRUNC(단가대비표!V72,0) -> 0 | J6: =TRUNC(I6*D6, 0) -> 0 | K6: =TRUNC(E6+G6+I6, 0) -> 895000 | L6: =TRUNC(F6+H6+J6, 0) -> 89500 | N6: 532C83D42168026C2E6528B8186007A96313BD | Q6: 010101010103 | R6: F | S6: F | T6: T | X6: 1 | AU6: 010101010103532C83D42168026C2E6528B8186007A96313BD | AV6: 20418
A7: KRC-HMI SOFTWARE FEE | B7: 플랜트화면 구성 | C7: 화면 | D7: 1 | E7: =TRUNC(단가대비표!O73,0) -> 895000 | F7: =TRUNC(E7*D7, 0) -> 895000 | G7: =TRUNC(단가대비표!P73,0) -> 0 | H7: =TRUNC(G7*D7, 0) -> 0 | I7: =TRUNC(단가대비표!V73,0) -> 0 | J7: =TRUNC(I7*D7, 0) -> 0 | K7: =TRUNC(E7+G7+I7, 0) -> 895000 | L7: =TRUNC(F7+H7+J7, 0) -> 895000 | N7: 532C83D42168026B2C654E441CD84CE61E9F7C | Q7: 010101010103 | R7: F | S7: F | T7: T | X7: 1 | AU7: 010101010103532C83D42168026B2C654E441CD84CE61E9F7C | AV7: 20419
A8: [부가가치세] | B8: 합계의 10% | C8: 식 | D8: 1 | E8: =ROUNDDOWN(SUMIF(X5:X8, RIGHTB(N8, 1), L5:L8)*W8, 0) -> 277650 | F8: =TRUNC(E8*D8, 0) -> 277650 | G8: 0 | H8: =TRUNC(G8*D8, 0) -> 0 | I8: 0 | J8: =TRUNC(I8*D8, 0) -> 0 | K8: =TRUNC(E8+G8+I8, 0) -> 277650 | L8: =TRUNC(F8+H8+J8, 0) -> 277650 | N8: 52F14335236CBE512F69440062E6001 | Q8: 010101010103 | R8: F | S8: F | T8: F | U8: 3 | V8: 0 | W8: 0.1 | AU8: 01010101010352F14335236CBE512F69440062E6001 | AV8: 20433
A27: [ 합 계 ] | F27: =TRUNC(SUM(F5:F26),-3) -> 3054000 | H27: =SUM(H5:H26) -> 0 | J27: =SUM(J5:J26) -> 0 | L27: =TRUNC(SUM(L5:L26),-3) -> 3054000 | N27: TOTAL
A28: 0101010201 1. 감시제어시스템 | Q28: 0101010201
A29: LCD 모니터(LED Type) | B29: 화면: 68cm(27형) 해상도: 1,980*1,080(FHD)이상, | C29: 개 | D29: 4 | E29: =TRUNC(단가대비표!O94,0) -> 400000 | F29: =TRUNC(E29*D29, 0) -> 1600000 | G29: =TRUNC(단가대비표!P94,0) -> 0 | H29: =TRUNC(G29*D29, 0) -> 0 | I29: =TRUNC(단가대비표!V94,0) -> 0 | J29: =TRUNC(I29*D29, 0) -> 0 | K29: =TRUNC(E29+G29+I29, 0) -> 400000 | L29: =TRUNC(F29+H29+J29, 0) -> 1600000 | N29: 532C83D421692A072063252BAE36E963734767 | Q29: 0101010201 | R29: F | S29: F | T29: T | X29: 1 | AU29: 0101010201532C83D421692A072063252BAE36E963734767 | AV29: 20422
A30: 워크스테이션 컴퓨터(O.S포함) | B30: Xeon GOLD 옥타코어, SSD 1TB 이상 | C30: 개 | D30: 1 | E30: =TRUNC(단가대비표!O95,0) -> 9352000 | F30: =TRUNC(E30*D30, 0) -> 9352000 | G30: =TRUNC(단가대비표!P95,0) -> 0 | H30: =TRUNC(G30*D30, 0) -> 0 | I30: =TRUNC(단가대비표!V95,0) -> 0 | J30: =TRUNC(I30*D30, 0) -> 0 | K30: =TRUNC(E30+G30+I30, 0) -> 9352000 | L30: =TRUNC(F30+H30+J30, 0) -> 9352000 | N30: 532C83D421692A072063252BAE36E963734765 | Q30: 0101010201 | R30: F | S30: F | T30: T | X30: 1 | AU30: 0101010201532C83D421692A072063252BAE36E963734765 | AV30: 20423
A31: KRC-HMI SOFTWARE | B31: 무한 포인트 런타임 | C31: 개 | D31: 1 | E31: =TRUNC(단가대비표!O96,0) -> 5600000 | F31: =TRUNC(E31*D31, 0) -> 5600000 | G31: =TRUNC(단가대비표!P96,0) -> 0 | H31: =TRUNC(G31*D31, 0) -> 0 | I31: =TRUNC(단가대비표!V96,0) -> 0 | J31: =TRUNC(I31*D31, 0) -> 0 | K31: =TRUNC(E31+G31+I31, 0) -> 5600000 | L31: =TRUNC(F31+H31+J31, 0) -> 5600000 | N31: 532C83D421692A072063252BAE36E963734764 | Q31: 0101010201 | R31: F | S31: F | T31: T | X31: 1 | AU31: 0101010201532C83D421692A072063252BAE36E963734764 | AV31: 20424
A32: CCTV 감시용 TV | B32: 65인치 | C32: 개 | D32: 1 | E32: =TRUNC(단가대비표!O97,0) -> 1120000 | F32: =TRUNC(E32*D32, 0) -> 1120000 | G32: =TRUNC(단가대비표!P97,0) -> 0 | H32: =TRUNC(G32*D32, 0) -> 0 | I32: =TRUNC(단가대비표!V97,0) -> 0 | J32: =TRUNC(I32*D32, 0) -> 0 | K32: =TRUNC(E32+G32+I32, 0) -> 1120000 | L32: =TRUNC(F32+H32+J32, 0) -> 1120000 | N32: 532C83D421692A072063252BAE36E963734763 | Q32: 0101010201 | R32: F | S32: F | T32: T | AU32: 0101010201532C83D421692A072063252BAE36E963734763 | AV32: 20426
A33: CCTV 감시용 TV 거치대 | B33: 65인치, 천장형 | C33: 개 | D33: 1 | E33: =TRUNC(단가대비표!O98,0) -> 250000 | F33: =TRUNC(E33*D33, 0) -> 250000 | G33: =TRUNC(단가대비표!P98,0) -> 0 | H33: =TRUNC(G33*D33, 0) -> 0 | I33: =TRUNC(단가대비표!V98,0) -> 0 | J33: =TRUNC(I33*D33, 0) -> 0 | K33: =TRUNC(E33+G33+I33, 0) -> 250000 | L33: =TRUNC(F33+H33+J33, 0) -> 250000 | N33: 532C83D421692A072063252BAE36E963734762 | Q33: 0101010201 | R33: F | S33: F | T33: T | AU33: 0101010201532C83D421692A072063252BAE36E963734762 | AV33: 20427
A34: [부가가치세] | B34: 합계의 10% | C34: 식 | D34: 1 | E34: =ROUNDDOWN(SUMIF(X29:X34, RIGHTB(N34, 1), L29:L34)*W34, 0) -> 1655200 | F34: =TRUNC(E34*D34, 0) -> 1655200 | G34: 0 | H34: =TRUNC(G34*D34, 0) -> 0 | I34: 0 | J34: =TRUNC(I34*D34, 0) -> 0 | K34: =TRUNC(E34+G34+I34, 0) -> 1655200 | L34: =TRUNC(F34+H34+J34, 0) -> 1655200 | N34: 52F14335236CBE512F69440062E6001 | Q34: 0101010201 | R34: F | S34: F | T34: F | U34: 3 | V34: 0 | W34: 0.1 | AU34: 010101020152F14335236CBE512F69440062E6001 | AV34: 20425
A51: [ 합 계 ] | F51: =TRUNC(SUM(F29:F50),-3) -> 19577000 | H51: =SUM(H29:H50) -> 0 | J51: =SUM(J29:J50) -> 0 | L51: =TRUNC(SUM(L29:L50),-3) -> 19577000 | N51: TOTAL
A52: 01010105 [하남가압장 계장제어장치] | Q52: 01010105
A53: 하남가압장 계장제어장치 (제작율 적용) | B53: 옥내자립형(ST), 1,600(W)x2,350(H)x1,200(D) | C53: 면 | D53: 1 | E53: =TRUNC(일위대가목록!E6,0) -> 163113108 | F53: =TRUNC(E53*D53, 0) -> 163113108 | G53: =TRUNC(일위대가목록!F6,0) -> 0 | H53: =TRUNC(G53*D53, 0) -> 0 | I53: =TRUNC(일위대가목록!G6,0) -> 0 | J53: =TRUNC(I53*D53, 0) -> 0 | K53: =TRUNC(E53+G53+I53, 0) -> 163113108 | L53: =TRUNC(F53+H53+J53, 0) -> 163113108 | N53: 53A7C32B266E0626256525F023FF02 | Q53: 01010105 | R53: T | S53: F | T53: F | X53: 1 | AU53: 0101010553A7C32B266E0626256525F023FF02 | AV53: 20429
A54: 하남가압장 계장제어장치 설치비 | C54: 면 | D54: 1 | E54: =TRUNC(일위대가목록!E7,0) -> 6625518 | F54: =TRUNC(E54*D54, 0) -> 6625518 | G54: =TRUNC(일위대가목록!F7,0) -> 0 | H54: =TRUNC(G54*D54, 0) -> 0 | I54: =TRUNC(일위대가목록!G7,0) -> 0 | J54: =TRUNC(I54*D54, 0) -> 0 | K54: =TRUNC(E54+G54+I54, 0) -> 6625518 | L54: =TRUNC(F54+H54+J54, 0) -> 6625518 | N54: 53A7C32B266E0626256525F023FF03 | Q54: 01010105 | R54: T | S54: F | T54: F | X54: 1 | AU54: 0101010553A7C32B266E0626256525F023FF03 | AV54: 20430
A55: VPN | B55: 영상, 데이터용 | C55: 대 | D55: 1 | E55: =TRUNC(단가대비표!O34,0) -> 3000000 | F55: =TRUNC(E55*D55, 0) -> 3000000 | G55: =TRUNC(단가대비표!P34,0) -> 0 | H55: =TRUNC(G55*D55, 0) -> 0 | I55: =TRUNC(단가대비표!V34,0) -> 0 | J55: =TRUNC(I55*D55, 0) -> 0 | K55: =TRUNC(E55+G55+I55, 0) -> 3000000 | L55: =TRUNC(F55+H55+J55, 0) -> 3000000 | N55: 54BB23242069E4D729699D2A05D706119D7324 | Q55: 01010105 | R55: F | S55: F | T55: T | X55: 1 | AU55: 0101010554BB23242069E4D729699D2A05D706119D7324 | AV55: 20431
A56: [부가가치세] | B56: 합계의 10% | C56: 식 | D56: 1 | E56: =ROUNDDOWN(SUMIF(X53:X56, RIGHTB(N56, 1), L53:L56)*W56, 0) -> 17273862 | F56: =TRUNC(E56*D56, 0) -> 17273862 | G56: 0 | H56: =TRUNC(G56*D56, 0) -> 0 | I56: 0 | J56: =TRUNC(I56*D56, 0) -> 0 | K56: =TRUNC(E56+G56+I56, 0) -> 17273862 | L56: =TRUNC(F56+H56+J56, 0) -> 17273862 | N56: 52F14335236CBE512F69440062E6001 | Q56: 01010105 | R56: F | S56: F | T56: F | U56: 3 | V56: 0 | W56: 0.1 | AU56: 0101010552F14335236CBE512F69440062E6001 | AV56: 20432
A75: [ 합 계 ] | F75: =SUM(F53:F74) -> 190012488 | H75: =SUM(H53:H74) -> 0 | J75: =SUM(J53:J74) -> 0 | L75: =SUM(L53:L74) -> 190012488 | N75: TOTAL

Sheet 일위대가목록
A1: 일 위 대 가 목 록
A2: [ 하남지구 자동화시스템 제조구매설치 ]
A3: 코 드 | B3: 품 명 | C3: 규 격 | D3: 단위 | E3: 재 료 비 | F3: 노 무 비 | G3: 경 비 | H3: 합 계 | I3: 번 호 | J3: 비 고 | K3: 노임계수 | L3: 할증 | M3: 품셈개요 | N3: 장비일위
A4: 53A7C32B266E0626256525F023FF06 | B4: 수산양배수장 계장제어장치 (제작율 적용) | C4: 옥내자립형(ST), 800(W)x2,350(H)x2,000(D) | D4: 면 | E4: =일위대가!F15 -> 71821403 | F4: =일위대가!H15 -> 0 | G4: =일위대가!J15 -> 0 | H4: =E4+F4+G4 -> 71821403 | I4: 호표 1
A5: 53A7C32B266E0626256525F023FF07 | B5: 수산양배수장 계장제어장치 설치비 | D5: 면 | E5: =일위대가!F23 -> 2901546 | F5: =일위대가!H23 -> 0 | G5: =일위대가!J23 -> 0 | H5: =E5+F5+G5 -> 2901546 | I5: 호표 2
A6: 53A7C32B266E0626256525F023FF02 | B6: 하남가압장 계장제어장치 (제작율 적용) | C6: 옥내자립형(ST), 1,600(W)x2,350(H)x1,200(D) | D6: 면 | E6: =일위대가!F36 -> 163113108 | F6: =일위대가!H36 -> 0 | G6: =일위대가!J36 -> 0 | H6: =E6+F6+G6 -> 163113108 | I6: 호표 3
A7: 53A7C32B266E0626256525F023FF03 | B7: 하남가압장 계장제어장치 설치비 | D7: 면 | E7: =일위대가!F44 -> 6625518 | F7: =일위대가!H44 -> 0 | G7: =일위대가!J44 -> 0 | H7: =E7+F7+G7 -> 6625518 | I7: 호표 4
A8: 53A7C32B266E0626256525F023FBAF | B8: 원격제어반(밸브실 계장제어장치-Type A 1련 제어) (제작율 적용) | C8: 옥외자립형(STS), 800(W)x1,800(H)x600(D) | D8: 면 | E8: =일위대가!F57 -> 18873068 | F8: =일위대가!H57 -> 0 | G8: =일위대가!J57 -> 0 | H8: =E8+F8+G8 -> 18873068 | I8: 호표 5
A9: 53A7C32B266E0626256525F023FBAE | B9: 원격제어반(밸브실 계장제어장치-Type A 1련 제어) 설치비 | D9: 면 | E9: =일위대가!F65 -> 866180 | F9: =일위대가!H65 -> 0 | G9: =일위대가!J65 -> 0 | H9: =E9+F9+G9 -> 866180 | I9: 호표 6
A10: 53A7C32B266E0626256525F023F502 | B10: 원격제어반(밸브실 계장제어장치-Type D 4련 제어) (제작율 적용) | C10: 옥외자립형(STS), 800(W)x1,800(H)x600(D) | D10: 면 | E10: =일위대가!F78 -> 28594388 | F10: =일위대가!H78 -> 0 | G10: =일위대가!J78 -> 0 | H10: =E10+F10+G10 -> 28594388 | I10: 호표 7
A11: 53A7C32B266E0626256525F023F503 | B11: 원격제어반(밸브실 계장제어장치-Type D 4련 제어) 설치비 | D11: 면 | E11: =일위대가!F86 -> 1198328 | F11: =일위대가!H86 -> 0 | G11: =일위대가!J86 -> 0 | H11: =E11+F11+G11 -> 1198328 | I11: 호표 8
A12: 53A7C32B266E0626256525F023FA82 | B12: 원격제어반(밸브실 계장제어장치-Type B 2련 제어) (제작율 적용) | C12: 옥외자립형(STS), 800(W)x1,800(H)x600(D) | D12: 면 | E12: =일위대가!F99 -> 22559225 | F12: =일위대가!H99 -> 0 | G12: =일위대가!J99 -> 0 | H12: =E12+F12+G12 -> 22559225 | I12: 호표 9
A13: 53A7C32B266E0626256525F023FA83 | B13: 원격제어반(밸브실 계장제어장치-Type B 2련 제어) 설치비 | D13: 면 | E13: =일위대가!F107 -> 974806 | F13: =일위대가!H107 -> 0 | G13: =일위대가!J107 -> 0 | H13: =E13+F13+G13 -> 974806 | I13: 호표 10
A14: 53A7C32B266E0626256525F023FA86 | B14: 원격제어반(밸브실 계장제어장치-Type B 2련 제어(1련예비)) (제작율 적용) | C14: 옥외자립형(STS), 800(W)x1,800(H)x600(D) | D14: 면 | E14: =일위대가!F120 -> 21090778 | F14: =일위대가!H120 -> 0 | G14: =일위대가!J120 -> 0 | H14: =E14+F14+G14 -> 21090778 | I14: 호표 11
A15: 53A7C32B266E0626256525F023FA87 | B15: 원격제어반(밸브실 계장제어장치-Type B 2련 제어(1련예비)) 설치비 | D15: 면 | E15: =일위대가!F128 -> 974806 | F15: =일위대가!H128 -> 0 | G15: =일위대가!J128 -> 0 | H15: =E15+F15+G15 -> 974806 | I15: 호표 12
A16: 53A7C32B266E0626256525F023F506 | B16: 원격제어반(밸브실 계장제어장치-Type D 4련 제어(2련예비)) (제작율 적용) | C16: 옥외자립형(STS), 800(W)x1,800(H)x600(D) | D16: 면 | E16: =일위대가!F141 -> 26596617 | F16: =일위대가!H141 -> 0 | G16: =일위대가!J141 -> 0 | H16: =E16+F16+G16 -> 26596617 | I16: 호표 13
A17: 53A7C32B266E0626256525F023F507 | B17: 원격제어반(밸브실 계장제어장치-Type D 4련 제어(2련예비)) 설치비 | D17: 면 | E17: =일위대가!F149 -> 1198328 | F17: =일위대가!H149 -> 0 | G17: =일위대가!J149 -> 0 | H17: =E17+F17+G17 -> 1198328 | I17: 호표 14
A18: 53A7C32B266E0626256525F023F47A | B18: 원격제어반(밸브실 계장제어장치-Type E 6련 제어(2련예비)) (제작율 적용) | C18: 옥외자립형(STS), 1,200(W)x1,800(H)x600(D) | D18: 면 | E18: =일위대가!F162 -> 33760306 | F18: =일위대가!H162 -> 0 | G18: =일위대가!J162 -> 0 | H18: =E18+F18+G18 -> 33760306 | I18: 호표 15
A19: 53A7C32B266E0626256525F023F47B | B19: 원격제어반(밸브실 계장제어장치-Type E 6련 제어(2련예비)) 설치비 | D19: 면 | E19: =일위대가!F170 -> 1415578 | F19: =일위대가!H170 -> 0 | G19: =일위대가!J170 -> 0 | H19: =E19+F19+G19 -> 1415578 | I19: 호표 16
A20: 53A7C32B266E0626256525F023F47E | B20: 원격제어반(밸브실 계장제어장치-Type F 7련 제어(2련예비)) (제작율 적용) | C20: 옥외자립형(STS), 1,200(W)x1,800(H)x600(D) | D20: 면 | E20: =일위대가!F183 -> 36869576 | F20: =일위대가!H183 -> 0 | G20: =일위대가!J183 -> 0 | H20: =E20+F20+G20 -> 36869576 | I20: 호표 17
A21: 53A7C32B266E0626256525F023F47F | B21: 원격제어반(밸브실 계장제어장치-Type F 7련 제어(2련예비)) 설치비 | D21: 면 | E21: =일위대가!F191 -> 1524204 | F21: =일위대가!H191 -> 0 | G21: =일위대가!J191 -> 0 | H21: =E21+F21+G21 -> 1524204 | I21: 호표 18
A22: 53A7C32B266E0626256525F023FA8A | B22: 원격제어반(밸브실 계장제어장치-Type C 3련 제어(1련예비)) (제작율 적용) | C22: 옥외자립형(STS), 800(W)x1,800(H)x600(D) | D22: 면 | E22: =일위대가!F204 -> 24200046 | F22: =일위대가!H204 -> 0 | G22: =일위대가!J204 -> 0 | H22: =E22+F22+G22 -> 24200046 | I22: 호표 19
A23: 53A7C32B266E0626256525F023FA8B | B23: 원격제어반(밸브실 계장제어장치-Type C 3련 제어(1련예비)) 설치비 | D23: 면 | E23: =일위대가!F212 -> 1083431 | F23: =일위대가!H212 -> 0 | G23: =일위대가!J212 -> 0 | H23: =E23+F23+G23 -> 1083431 | I23: 호표 20
A24: 52BED3C4286BDE242162E8C1A3BD14 | B24: 0.6/1kv 트레이용 동편조차폐 제어케이블(F-CVV-SB) | C24: 5C*1.5㎟ | D24: M | E24: =일위대가!F219 -> 3988 | F24: =일위대가!H219 -> 15180 | G24: =일위대가!J219 -> 0 | H24: =E24+F24+G24 -> 19168 | I24: 호표 21
A25: 52BED3C4286BDE242162EB95011BAE | B25: 0.6/1kv 트레이용 동편조차폐 제어케이블(F-CVV-SB) | C25: 10C*1.5㎟ | D25: M | E25: =일위대가!F226 -> 6460 | F25: =일위대가!H226 -> 22509 | G25: =일위대가!J226 -> 0 | H25: =E25+F25+G25 -> 28969 | I25: 호표 22
A26: 52BED3C4286BDE242162E8C1A3BD15 | B26: 0.6/1kv 트레이용 동편조차폐 제어케이블(F-CVV-SB) | C26: 15C*1.5㎟ | D26: M | E26: =일위대가!F233 -> 8714 | F26: =일위대가!H233 -> 32455 | G26: =일위대가!J233 -> 0 | H26: =E26+F26+G26 -> 41169 | I26: 호표 23
A27: 52BED3C4286BDE242162EB95011BAF | B27: 0.6/1kv 트레이용 동편조차폐 제어케이블(F-CVV-SB) | C27: 30C*1.5㎟ | D27: M | E27: =일위대가!F240 -> 15212 | F27: =일위대가!H240 -> 51299 | G27: =일위대가!J240 -> 0 | H27: =E27+F27+G27 -> 66511 | I27: 호표 24
A28: 52BED3C4286CE517286FB6D6F7EB1B | B28: 통신 케이블 | C28: RS-485 (3P 24AWG) | D28: M | E28: =일위대가!F247 -> 14161 | F28: =일위대가!H247 -> 7852 | G28: =일위대가!J247 -> 0 | H28: =E28+F28+G28 -> 22013 | I28: 호표 25
A29: 52BED3C4286BDE242162EB95011BAC | B29: 0.6/1kv 트레이용 동편조차폐 제어케이블(F-CVV-SB) | C29: 20C*1.5㎟ | D29: M | E29: =일위대가!F254 -> 11042 | F29: =일위대가!H254 -> 45018 | G29: =일위대가!J254 -> 0 | H29: =E29+F29+G29 -> 56060 | I29: 호표 26
A30: 53A7C32B266E0626256525F023FF04 | B30: 수산양배수장 계장제어장치 옥내자립형 | C30: 전원부 | D30: 면 | E30: =일위대가!F288 -> 16719984 | F30: =일위대가!H288 -> 1280875 | G30: =일위대가!J288 -> 0 | H30: =E30+F30+G30 -> 18000859 | I30: 호표 27
A31: 53A7C32B266E0626256525F023FF05 | B31: 수산양배수장 계장제어장치 옥내자립형 | C31: 제어부 | D31: 면 | E31: =일위대가!F315 -> 32266236 | F31: =일위대가!H315 -> 4092419 | G31: =일위대가!J315 -> 0 | H31: =E31+F31+G31 -> 36358655 | I31: 호표 28
A32: 52BE030C23667D322A65645DEC182B | B32: 현장감시제어설비 설치 | C32: 계장제어장치반 설치 | D32: 면 | E32: =일위대가!F321 -> 5021 | F32: =일위대가!H321 -> 167386 | G32: =일위대가!J321 -> 0 | H32: =E32+F32+G32 -> 172407 | I32: 호표 29
A33: 52BE030C23667D322A65645DEC1BFF | B33: 현장감시제어설비 설치 | C33: Bay건립 및 카드 설치 | D33: 면 | E33: =일위대가!F328 -> 14182 | F33: =일위대가!H328 -> 472750 | G33: =일위대가!J328 -> 0 | H33: =E33+F33+G33 -> 486932 | I33: 호표 30
A34: 52BE030C23667D322A65645DEC1AD5 | B34: 현장감시제어설비 설치 | C34: 케이블 접속 | D34: 10점당 | E34: =일위대가!F334 -> 2636 | F34: =일위대가!H334 -> 87885 | G34: =일위대가!J334 -> 0 | H34: =E34+F34+G34 -> 90521 | I34: 호표 31
A35: 52BE030C23667D322A65645DEC1DA9 | B35: 현장감시제어설비 설치 | C35: 시험 | D35: 카드 | E35: =일위대가!F339 -> 182 | F35: =일위대가!H339 -> 6090 | G35: =일위대가!J339 -> 0 | H35: =E35+F35+G35 -> 6272 | I35: 호표 32
A36: 53A7C32B266E0626256525F023FF00 | B36: 하남가압장 계장제어장치 옥내자립형 | C36: 전원부 | D36: 면 | E36: =일위대가!F373 -> 32951984 | F36: =일위대가!H373 -> 1850558 | G36: =일위대가!J373 -> 0 | H36: =E36+F36+G36 -> 34802542 | I36: 호표 33
A37: 53A7C32B266E0626256525F023FF01 | B37: 하남가압장 계장제어장치 옥내자립형 | C37: 제어부 | D37: 면 | E37: =일위대가!F398 -> 69652577 | F37: =일위대가!H398 -> 15045762 | G37: =일위대가!J398 -> 0 | H37: =E37+F37+G37 -> 84698339 | I37: 호표 34
A38: 53A7C32B266E0626256525F023FBAD | B38: 원격제어반(밸브실 계장제어장치-Type A 1련 제어) 옥외자립형 | C38: 전원부 | D38: 면 | E38: =일위대가!F435 -> 6064762 | F38: =일위대가!H435 -> 697900 | G38: =일위대가!J435 -> 0 | H38: =E38+F38+G38 -> 6762662 | I38: 호표 35
A39: 53A7C32B266E0626256525F023FBAC | B39: 원격제어반(밸브실 계장제어장치-Type A 1련 제어) 옥외자립형 | C39: 제어부 | D39: 면 | E39: =일위대가!F459 -> 6972810 | F39: =일위대가!H459 -> 624493 | G39: =일위대가!J459 -> 0 | H39: =E39+F39+G39 -> 7597303 | I39: 호표 36
A40: 53A7C32B266E0626256525F023F500 | B40: 원격제어반(밸브실 계장제어장치-Type D 4련 제어) 옥외자립형 | C40: 전원부 | D40: 면 | E40: =일위대가!F496 -> 7896796 | F40: =일위대가!H496 -> 1354358 | G40: =일위대가!J496 -> 0 | H40: =E40+F40+G40 -> 9251154 | I40: 호표 37
A41: 53A7C32B266E0626256525F023F501 | B41: 원격제어반(밸브실 계장제어장치-Type D 4련 제어) 옥외자립형 | C41: 제어부 | D41: 면 | E41: =일위대가!F521 -> 10415910 | F41: =일위대가!H521 -> 1430874 | G41: =일위대가!J521 -> 0 | H41: =E41+F41+G41 -> 11846784 | I41: 호표 38
A42: 53A7C32B266E0626256525F023FBA1 | B42: 원격제어반(밸브실 계장제어장치-Type B 2련 제어) 옥외자립형 | C42: 전원부 | D42: 면 | E42: =일위대가!F558 -> 7060440 | F42: =일위대가!H558 -> 916720 | G42: =일위대가!J558 -> 0 | H42: =E42+F42+G42 -> 7977160 | I42: 호표 39
A43: 53A7C32B266E0626256525F023FBA0 | B43: 원격제어반(밸브실 계장제어장치-Type B 2련 제어) 옥외자립형 | C43: 제어부 | D43: 면 | E43: =일위대가!F582 -> 8106510 | F43: =일위대가!H582 -> 890274 | G43: =일위대가!J582 -> 0 | H43: =E43+F43+G43 -> 8996784 | I43: 호표 40
A44: 53A7C32B266E0626256525F023FA80 | B44: 원격제어반(밸브실 계장제어장치-Type B 2련 제어(1련예비)) 옥외자립형 | C44: 전원부 | D44: 면 | E44: =일위대가!F619 -> 6675440 | F44: =일위대가!H619 -> 916720 | G44: =일위대가!J619 -> 0 | H44: =E44+F44+G44 -> 7592160 | I44: 호표 41
A45: 53A7C32B266E0626256525F023FA81 | B45: 원격제어반(밸브실 계장제어장치-Type B 2련 제어(1련예비)) 옥외자립형 | C45: 제어부 | D45: 면 | E45: =일위대가!F643 -> 7287510 | F45: =일위대가!H643 -> 890274 | G45: =일위대가!J643 -> 0 | H45: =E45+F45+G45 -> 8177784 | I45: 호표 42
A46: 53A7C32B266E0626256525F023F504 | B46: 원격제어반(밸브실 계장제어장치-Type D 4련 제어(2련예비)) 옥외자립형 | C46: 전원부 | D46: 면 | E46: =일위대가!F680 -> 7896796 | F46: =일위대가!H680 -> 1354358 | G46: =일위대가!J680 -> 0 | H46: =E46+F46+G46 -> 9251154 | I46: 호표 43
A47: 53A7C32B266E0626256525F023F505 | B47: 원격제어반(밸브실 계장제어장치-Type D 4련 제어(2련예비)) 옥외자립형 | C47: 제어부 | D47: 면 | E47: =일위대가!F705 -> 8777910 | F47: =일위대가!H705 -> 1430874 | G47: =일위대가!J705 -> 0 | H47: =E47+F47+G47 -> 10208784 | I47: 호표 44
A48: 53A7C32B266E0626256525F023F508 | B48: 원격제어반(밸브실 계장제어장치-Type E 6련 제어(2련예비)) 옥외자립형 | C48: 전원부 | D48: 면 | E48: =일위대가!F742 -> 9783152 | F48: =일위대가!H742 -> 1803906 | G48: =일위대가!J742 -> 0 | H48: =E48+F48+G48 -> 11587058 | I48: 호표 45
A49: 53A7C32B266E0626256525F023F509 | B49: 원격제어반(밸브실 계장제어장치-Type E 6련 제어(2련예비)) 옥외자립형 | C49: 제어부 | D49: 면 | E49: =일위대가!F766 -> 10957310 | F49: =일위대가!H766 -> 1962437 | G49: =일위대가!J766 -> 0 | H49: =E49+F49+G49 -> 12919747 | I49: 호표 46
A50: 53A7C32B266E0626256525F023F478 | B50: 원격제어반(밸브실 계장제어장치-Type F 7련 제어(2련예비)) 옥외자립형 | C50: 전원부 | D50: 면 | E50: =일위대가!F803 -> 10393830 | F50: =일위대가!H803 -> 2022726 | G50: =일위대가!J803 -> 0 | H50: =E50+F50+G50 -> 12416556 | I50: 호표 47
A51: 53A7C32B266E0626256525F023F479 | B51: 원격제어반(밸브실 계장제어장치-Type F 7련 제어(2련예비)) 옥외자립형 | C51: 제어부 | D51: 면 | E51: =일위대가!F827 -> 12003010 | F51: =일위대가!H827 -> 2228219 | G51: =일위대가!J827 -> 0 | H51: =E51+F51+G51 -> 14231229 | I51: 호표 48
A52: 53A7C32B266E0626256525F023FA84 | B52: 원격제어반(밸브실 계장제어장치-Type C 3련 제어(1련예비)) 옥외자립형 | C52: 전원부 | D52: 면 | E52: =일위대가!F864 -> 7286118 | F52: =일위대가!H864 -> 1135539 | G52: =일위대가!J864 -> 0 | H52: =E52+F52+G52 -> 8421657 | I52: 호표 49
A53: 53A7C32B266E0626256525F023FA85 | B53: 원격제어반(밸브실 계장제어장치-Type C 3련 제어(1련예비)) 옥외자립형 | C53: 제어부 | D53: 면 | E53: =일위대가!F888 -> 8333210 | F53: =일위대가!H888 -> 1156056 | G53: =일위대가!J888 -> 0 | H53: =E53+F53+G53 -> 9489266 | I53: 호표 50

Sheet 일위대가
A1: [ 하남지구 자동화시스템 제조구매설치 ]
A2: 품 명 | B2: 규 격 | C2: 단위 | D2: 수량 | E2: 재 료 비 | G2: 노 무 비 | I2: 경 비 | K2: 합 계 | M2: 비 고 | N2: 일위대가 | O2: 품목코드 | P2: 일위 | Q2: 단산 | R2: 자재 | S2: 손료적용 | T2: 손료저장 | U2: 적용율 | V2: JUK1 | W2: JUK2 | X2: JUK3 | Y2: JUK4 | Z2: JUK5 | AA2: JUK6 | AB2: JUK7 | AC2: JUK8 | AD2: JUK9 | AE2: JUK10 | AF2: JUK11 | AG2: JUK12 | AH2: JUK13 | AI2: JUK14 | AJ2: JUK15 | AK2: JUK16 | AL2: JUK17 | AM2: JUK18 | AN2: JUK19 | AO2: JUK20 | AP2: 할증적용 | AQ2: 할증저장 | AR2: 할증율 | AS2: HAL1 | AT2: HAL2 | AU2: HAL3 | AV2: 자재구분 | AW2: 일위대가+자재 | AX2: 장비일위 | AY2: 설정
E3: 단 가 | F3: 금 액 | G3: 단 가 | H3: 금 액 | I3: 단 가 | J3: 금 액 | K3: 단 가 | L3: 금 액
A4: 수산양배수장 계장제어장치 (제작율 적용) 옥내자립형(ST), 800(W)x2,350(H)x2,000(D) 면 ( 호표 1 ) | N4: 53A7C32B266E0626256525F023FF06
A5: 수산양배수장 계장제어장치 옥내자립형 | B5: 전원부 | C5: 면 | D5: 1 | E5: =일위대가목록!E30 -> 16719984 | F5: =TRUNC(E5*D5,1) -> 16719984 | G5: =일위대가목록!F30 -> 1280875 | H5: =TRUNC(G5*D5,1) -> 1280875 | I5: =일위대가목록!G30 -> 0 | J5: =TRUNC(I5*D5,1) -> 0 | K5: =TRUNC(E5+G5+I5,1) -> 18000859 | L5: =TRUNC(F5+H5+J5,1) -> 18000859 | M5: 금액제외 | O5: 53A7C32B266E0626256525F023FF04 | P5: T | Q5: F | R5: F | V5: 1 | X5: 3 | AW5: 53A7C32B266E0626256525F023FF0653A7C32B266E0626256525F023FF04 | AY5: -
A6: 수산양배수장 계장제어장치 옥내자립형 | B6: 제어부 | C6: 면 | D6: 1 | E6: =일위대가목록!E31 -> 32266236 | F6: =TRUNC(E6*D6,1) -> 32266236 | G6: =일위대가목록!F31 -> 4092419 | H6: =TRUNC(G6*D6,1) -> 4092419 | I6: =일위대가목록!G31 -> 0 | J6: =TRUNC(I6*D6,1) -> 0 | K6: =TRUNC(E6+G6+I6,1) -> 36358655 | L6: =TRUNC(F6+H6+J6,1) -> 36358655 | M6: 금액제외 | O6: 53A7C32B266E0626256525F023FF05 | P6: T | Q6: F | R6: F | V6: 1 | X6: 3 | AW6: 53A7C32B266E0626256525F023FF0653A7C32B266E0626256525F023FF05 | AY6: -
A7: 직접재료비 | B7: 산출재료비의 100% | C7: 식 | D7: 1 | E7: =TRUNC(SUMIF(V5:V14, RIGHTB(O7, 1), F5:F14)*U7, 2) -> 48986220 | F7: =TRUNC(E7*D7,1) -> 48986220 | G7: 0 | H7: =TRUNC(G7*D7,1) -> 0 | I7: 0 | J7: =TRUNC(I7*D7,1) -> 0 | K7: =TRUNC(E7+G7+I7,1) -> 48986220 | L7: =TRUNC(F7+H7+J7,1) -> 48986220 | M7: 금액제외 | O7: 52F14335236CBE512F69440062E6001 | P7: F | Q7: F | R7: F | S7: 0 | T7: 0 | U7: 1 | W7: 2 | Z7: 5 | AA7: 6 | AC7: 8 | AW7: 53A7C32B266E0626256525F023FF0652F14335236CBE512F69440062E6001 | AY7: -
A8: 간접재료비 | B8: 직접재료비의 1.03% | C8: 식 | D8: 1 | E8: =TRUNC(SUMIF(W5:W14, RIGHTB(O8, 1), F5:F14)*U8, 2) -> 504558.06 | F8: =TRUNC(E8*D8,1) -> 504558 | G8: 0 | H8: =TRUNC(G8*D8,1) -> 0 | I8: 0 | J8: =TRUNC(I8*D8,1) -> 0 | K8: =TRUNC(E8+G8+I8,1) -> 504558 | L8: =TRUNC(F8+H8+J8,1) -> 504558 | M8: 금액제외 | O8: 52F14335236CBE512F69440062E5002 | P8: F | Q8: F | R8: F | S8: 0 | T8: 0 | U8: 0.0103 | Z8: 5 | AA8: 6 | AC8: 8 | AW8: 53A7C32B266E0626256525F023FF0652F14335236CBE512F69440062E5002 | AY8: -
A9: 직접노무비 | B9: 산출노무비의 124.53% | C9: 식 | D9: 1 | E9: 0 | F9: =TRUNC(E9*D9,1) -> 0 | G9: =TRUNC(SUMIF(X5:X14, RIGHTB(O9, 1), H5:H14)*U9, 2) -> 6691363 | H9: =TRUNC(G9*D9,1) -> 6691363 | I9: 0 | J9: =TRUNC(I9*D9,1) -> 0 | K9: =TRUNC(E9+G9+I9,1) -> 6691363 | L9: =TRUNC(F9+H9+J9,1) -> 6691363 | M9: 금액제외 | O9: 52F14335236CBE512F69440062E4003 | P9: F | Q9: F | R9: F | S9: 1 | T9: 1 | U9: 1.2453 | Y9: 4 | AA9: 6 | AB9: 7 | AC9: 8 | AW9: 53A7C32B266E0626256525F023FF0652F14335236CBE512F69440062E4003 | AY9: -
A10: 간접노무비 | B10: 직접노무비의 34.93% | C10: 식 | D10: 1 | E10: 0 | F10: =TRUNC(E10*D10,1) -> 0 | G10: =TRUNC(SUMIF(Y5:Y14, RIGHTB(O10, 1), H5:H14)*U10, 2) -> 2337293.1 | H10: =TRUNC(G10*D10,1) -> 2337293 | I10: 0 | J10: =TRUNC(I10*D10,1) -> 0 | K10: =TRUNC(E10+G10+I10,1) -> 2337293 | L10: =TRUNC(F10+H10+J10,1) -> 2337293 | M10: 금액제외 | O10: 52F14335236CBE512F69440062E3004 | P10: F | Q10: F | R10: F | S10: 1 | T10: 1 | U10: 0.3493 | AA10: 6 | AB10: 7 | AC10: 8 | AW10: 53A7C32B266E0626256525F023FF0652F14335236CBE512F69440062E3004 | AY10: -
A11: 경 비 | B11: 재료비의 8.95% | C11: 식 | D11: 1 | E11: 0 | F11: =TRUNC(E11*D11,1) -> 0 | G11: 0 | H11: =TRUNC(G11*D11,1) -> 0 | I11: =TRUNC(SUMIF(Z5:Z14, RIGHTB(O11, 1), F5:F14)*U11, 2) -> 4429424.6 | J11: =TRUNC(I11*D11,1) -> 4429424.6 | K11: =TRUNC(E11+G11+I11,1) -> 4429424.6 | L11: =TRUNC(F11+H11+J11,1) -> 4429424.6 | M11: 금액제외 | O11: 52F14335236CBE512F69440062E2005 | P11: F | Q11: F | R11: F | S11: 0 | T11: 2 | U11: 0.0895 | AA11: 6 | AB11: 7 | AC11: 8 | AW11: 53A7C32B266E0626256525F023FF0652F14335236CBE512F69440062E2005 | AY11: -
A12: 일반관리비 | B12: (재+노+경)의 7% | C12: 식 | D12: 1 | E12: 0 | F12: =TRUNC(E12*D12,1) -> 0 | G12: 0 | H12: =TRUNC(G12*D12,1) -> 0 | I12: =TRUNC(SUMIF(AA5:AA14, RIGHTB(O12, 1), L5:L14)*U12, 2) -> 4406420.1 | J12: =TRUNC(I12*D12,1) -> 4406420.1 | K12: =TRUNC(E12+G12+I12,1) -> 4406420.1 | L12: =TRUNC(F12+H12+J12,1) -> 4406420.1 | M12: 금액제외 | O12: 52F14335236CBE512F69440062E1006 | P12: F | Q12: F | R12: F | S12: 3 | T12: 2 | U12: 0.07 | AB12: 7 | AC12: 8 | AW12: 53A7C32B266E0626256525F023FF0652F14335236CBE512F69440062E1006 | AY12: -
A13: 이 윤 | B13: (노+경+일)의 25% | C13: 식 | D13: 1 | E13: 0 | F13: =TRUNC(E13*D13,1) -> 0 | G13: 0 | H13: =TRUNC(G13*D13,1) -> 0 | I13: =TRUNC(SUMIF(AB5:AB14, RIGHTB(O13, 1), L5:L14)*U13, 2) -> 4466125.2 | J13: =TRUNC(I13*D13,1) -> 4466125.1 | K13: =TRUNC(E13+G13+I13,1) -> 4466125.1 | L13: =TRUNC(F13+H13+J13,1) -> 4466125.1 | M13: 금액제외 | O13: 52F14335236CBE512F69440062E0007 | P13: F | Q13: F | R13: F | S13: 3 | T13: 2 | U13: 0.25 | AC13: 8 | AW13: 53A7C32B266E0626256525F023FF0652F14335236CBE512F69440062E0007 | AY13: -
A14: 총 계 | B14: 합계의 100% | C14: 식 | D14: 1 | E14: =TRUNC(SUMIF(AC5:AC14, RIGHTB(O14, 1), L5:L14)*U14, 2) -> 71821404 | F14: =TRUNC(E14*D14,1) -> 71821404 | G14: 0 | H14: =TRUNC(G14*D14,1) -> 0 | I14: 0 | J14: =TRUNC(I14*D14,1) -> 0 | K14: =TRUNC(E14+G14+I14,1) -> 71821404 | L14: =TRUNC(F14+H14+J14,1) -> 71821404 | N14: 53A7C32B266E0626256525F023FF06 | O14: 52F14335236CBE512F69440062EF008 | P14: F | Q14: F | R14: F | S14: 3 | T14: 0 | U14: 1 | AW14: 53A7C32B266E0626256525F023FF0652F14335236CBE512F69440062EF008
A15: [ 합 계 ] | F15: =TRUNC(SUMIF(N5:N14, N4, F5:F14),0) -> 71821403 | H15: =TRUNC(SUMIF(N5:N14, N4, H5:H14),0) -> 0 | J15: =TRUNC(SUMIF(N5:N14, N4, J5:J14),0) -> 0 | L15: =F15+H15+J15 -> 71821403 | N15: TOTAL | O15: TOTAL
A17: 수산양배수장 계장제어장치 설치비 면 ( 호표 2 ) | N17: 53A7C32B266E0626256525F023FF07
A18: 현장감시제어설비 설치 | B18: 계장제어장치반 설치 | C18: 면 | D18: 1 | E18: =일위대가목록!E32 -> 5021 | F18: =TRUNC(E18*D18,1) -> 5021 | G18: =일위대가목록!F32 -> 167386 | H18: =TRUNC(G18*D18,1) -> 167386 | I18: =일위대가목록!G32 -> 0 | J18: =TRUNC(I18*D18,1) -> 0 | K18: =TRUNC(E18+G18+I18,1) -> 172407 | L18: =TRUNC(F18+H18+J18,1) -> 172407 | M18: 금액제외 | O18: 52BE030C23667D322A65645DEC182B | P18: T | Q18: F | R18: F | V18: 1 | AW18: 53A7C32B266E0626256525F023FF0752BE030C23667D322A65645DEC182B | AY18: -
A19: 현장감시제어설비 설치 | B19: Bay건립 및 카드 설치 | C19: 면 | D19: 1 | E19: =일위대가목록!E33 -> 14182 | F19: =TRUNC(E19*D19,1) -> 14182 | G19: =일위대가목록!F33 -> 472750 | H19: =TRUNC(G19*D19,1) -> 472750 | I19: =일위대가목록!G33 -> 0 | J19: =TRUNC(I19*D19,1) -> 0 | K19: =TRUNC(E19+G19+I19,1) -> 486932 | L19: =TRUNC(F19+H19+J19,1) -> 486932 | M19: 금액제외 | O19: 52BE030C23667D322A65645DEC1BFF | P19: T | Q19: F | R19: F | V19: 1 | AW19: 53A7C32B266E0626256525F023FF0752BE030C23667D322A65645DEC1BFF | AY19: -
A20: 현장감시제어설비 설치 | B20: 케이블 접속 | C20: 10점당 | D20: 23.8 | E20: =일위대가목록!E34 -> 2636 | F20: =TRUNC(E20*D20,1) -> 62736.8 | G20: =일위대가목록!F34 -> 87885 | H20: =TRUNC(G20*D20,1) -> 2091663 | I20: =일위대가목록!G34 -> 0 | J20: =TRUNC(I20*D20,1) -> 0 | K20: =TRUNC(E20+G20+I20,1) -> 90521 | L20: =TRUNC(F20+H20+J20,1) -> 2154399.8 | M20: 금액제외 | O20: 52BE030C23667D322A65645DEC1AD5 | P20: T | Q20: F | R20: F | V20: 1 | AW20: 53A7C32B266E0626256525F023FF0752BE030C23667D322A65645DEC1AD5 | AY20: -
A21: 현장감시제어설비 설치 | B21: 시험 | C21: 카드 | D21: 14 | E21: =일위대가목록!E35 -> 182 | F21: =TRUNC(E21*D21,1) -> 2548 | G21: =일위대가목록!F35 -> 6090 | H21: =TRUNC(G21*D21,1) -> 85260 | I21: =일위대가목록!G35 -> 0 | J21: =TRUNC(I21*D21,1) -> 0 | K21: =TRUNC(E21+G21+I21,1) -> 6272 | L21: =TRUNC(F21+H21+J21,1) -> 87808 | M21: 금액제외 | O21: 52BE030C23667D322A65645DEC1DA9 | P21: T | Q21: F | R21: F | V21: 1 | AW21: 53A7C32B266E0626256525F023FF0752BE030C23667D322A65645DEC1DA9 | AY21: -
A22: 총 계 | B22: 합계의 100% | C22: 식 | D22: 1 | E22: =TRUNC(SUMIF(V18:V22, RIGHTB(O22, 1), L18:L22)*U22, 2) -> 2901546.8 | F22: =TRUNC(E22*D22,1) -> 2901546.8 | G22: 0 | H22: =TRUNC(G22*D22,1) -> 0 | I22: 0 | J22: =TRUNC(I22*D22,1) -> 0 | K22: =TRUNC(E22+G22+I22,1) -> 2901546.8 | L22: =TRUNC(F22+H22+J22,1) -> 2901546.8 | N22: 53A7C32B266E0626256525F023FF07 | O22: 52F14335236CBE512F69440062E6001 | P22: F | Q22: F | R22: F | S22: 3 | T22: 0 | U22: 1 | AW22: 53A7C32B266E0626256525F023FF0752F14335236CBE512F69440062E6001
A23: [ 합 계 ] | F23: =TRUNC(SUMIF(N18:N22, N17, F18:F22),0) -> 2901546 | H23: =TRUNC(SUMIF(N18:N22, N17, H18:H22),0) -> 0 | J23: =TRUNC(SUMIF(N18:N22, N17, J18:J22),0) -> 0 | L23: =F23+H23+J23 -> 2901546 | N23: TOTAL | O23: TOTAL
A25: 하남가압장 계장제어장치 (제작율 적용) 옥내자립형(ST), 1,600(W)x2,350(H)x1,200(D) 면 ( 호표 3 ) | N25: 53A7C32B266E0626256525F023FF02
A26: 하남가압장 계장제어장치 옥내자립형 | B26: 전원부 | C26: 면 | D26: 1 | E26: =일위대가목록!E36 -> 32951984 | F26: =TRUNC(E26*D26,1) -> 32951984 | G26: =일위대가목록!F36 -> 1850558 | H26: =TRUNC(G26*D26,1) -> 1850558 | I26: =일위대가목록!G36 -> 0 | J26: =TRUNC(I26*D26,1) -> 0 | K26: =TRUNC(E26+G26+I26,1) -> 34802542 | L26: =TRUNC(F26+H26+J26,1) -> 34802542 | M26: 금액제외 | O26: 53A7C32B266E0626256525F023FF00 | P26: T | Q26: F | R26: F | V26: 1 | X26: 3 | AW26: 53A7C32B266E0626256525F023FF0253A7C32B266E0626256525F023FF00 | AY26: -
A27: 하남가압장 계장제어장치 옥내자립형 | B27: 제어부 | C27: 면 | D27: 1 | E27: =일위대가목록!E37 -> 69652577 | F27: =TRUNC(E27*D27,1) -> 69652577 | G27: =일위대가목록!F37 -> 15045762 | H27: =TRUNC(G27*D27,1) -> 15045762 | I27: =일위대가목록!G37 -> 0 | J27: =TRUNC(I27*D27,1) -> 0 | K27: =TRUNC(E27+G27+I27,1) -> 84698339 | L27: =TRUNC(F27+H27+J27,1) -> 84698339 | M27: 금액제외 | O27: 53A7C32B266E0626256525F023FF01 | P27: T | Q27: F | R27: F | V27: 1 | X27: 3 | AW27: 53A7C32B266E0626256525F023FF0253A7C32B266E0626256525F023FF01 | AY27: -
A28: 직접재료비 | B28: 산출재료비의 100% | C28: 식 | D28: 1 | E28: =TRUNC(SUMIF(V26:V35, RIGHTB(O28, 1), F26:F35)*U28, 2) -> 102604561 | F28: =TRUNC(E28*D28,1) -> 102604561 | G28: 0 | H28: =TRUNC(G28*D28,1) -> 0 | I28: 0 | J28: =TRUNC(I28*D28,1) -> 0 | K28: =TRUNC(E28+G28+I28,1) -> 102604561 | L28: =TRUNC(F28+H28+J28,1) -> 102604561 | M28: 금액제외 | O28: 52F14335236CBE512F69440062E6001 | P28: F | Q28: F | R28: F | S28: 0 | T28: 0 | U28: 1 | W28: 2 | Z28: 5 | AA28: 6 | AC28: 8 | AW28: 53A7C32B266E0626256525F023FF0252F14335236CBE512F69440062E6001 | AY28: -
A29: 간접재료비 | B29: 직접재료비의 1.03% | C29: 식 | D29: 1 | E29: =TRUNC(SUMIF(W26:W35, RIGHTB(O29, 1), F26:F35)*U29, 2) -> 1056827 | F29: =TRUNC(E29*D29,1) -> 1056826.9 | G29: 0 | H29: =TRUNC(G29*D29,1) -> 0 | I29: 0 | J29: =TRUNC(I29*D29,1) -> 0 | K29: =TRUNC(E29+G29+I29,1) -> 1056826.9 | L29: =TRUNC(F29+H29+J29,1) -> 1056826.9 | M29: 금액제외 | O29: 52F14335236CBE512F69440062E5002 | P29: F | Q29: F | R29: F | S29: 0 | T29: 0 | U29: 0.0103 | Z29: 5 | AA29: 6 | AC29: 8 | AW29: 53A7C32B266E0626256525F023FF0252F14335236CBE512F69440062E5002 | AY29: -
A30: 직접노무비 | B30: 산출노무비의 124.53% | C30: 식 | D30: 1 | E30: 0 | F30: =TRUNC(E30*D30,1) -> 0 | G30: =TRUNC(SUMIF(X26:X35, RIGHTB(O30, 1), H26:H35)*U30, 2) -> 21040987 | H30: =TRUNC(G30*D30,1) -> 21040987 | I30: 0 | J30: =TRUNC(I30*D30,1) -> 0 | K30: =TRUNC(E30+G30+I30,1) -> 21040987 | L30: =TRUNC(F30+H30+J30,1) -> 21040987 | M30: 금액제외 | O30: 52F14335236CBE512F69440062E4003 | P30: F | Q30: F | R30: F | S30: 1 | T30: 1 | U30: 1.2453 | Y30: 4 | AA30: 6 | AB30: 7 | AC30: 8 | AW30: 53A7C32B266E0626256525F023FF0252F14335236CBE512F69440062E4003 | AY30: -
A31: 간접노무비 | B31: 직접노무비의 34.93% | C31: 식 | D31: 1 | E31: 0 | F31: =TRUNC(E31*D31,1) -> 0 | G31: =TRUNC(SUMIF(Y26:Y35, RIGHTB(O31, 1), H26:H35)*U31, 2) -> 7349616.8 | H31: =TRUNC(G31*D31,1) -> 7349616.8 | I31: 0 | J31: =TRUNC(I31*D31,1) -> 0 | K31: =TRUNC(E31+G31+I31,1) -> 7349616.8 | L31: =TRUNC(F31+H31+J31,1) -> 7349616.8 | M31: 금액제외 | O31: 52F14335236CBE512F69440062E3004 | P31: F | Q31: F | R31: F | S31: 1 | T31: 1 | U31: 0.3493 | AA31: 6 | AB31: 7 | AC31: 8 | AW31: 53A7C32B266E0626256525F023FF0252F14335236CBE512F69440062E3004 | AY31: -
A32: 경 비 | B32: 재료비의 8.95% | C32: 식 | D32: 1 | E32: 0 | F32: =TRUNC(E32*D32,1) -> 0 | G32: 0 | H32: =TRUNC(G32*D32,1) -> 0 | I32: =TRUNC(SUMIF(Z26:Z35, RIGHTB(O32, 1), F26:F35)*U32, 2) -> 9277694.2 | J32: =TRUNC(I32*D32,1) -> 9277694.2 | K32: =TRUNC(E32+G32+I32,1) -> 9277694.2 | L32: =TRUNC(F32+H32+J32,1) -> 9277694.2 | M32: 금액제외 | O32: 52F14335236CBE512F69440062E2005 | P32: F | Q32: F | R32: F | S32: 0 | T32: 2 | U32: 0.0895 | AA32: 6 | AB32: 7 | AC32: 8 | AW32: 53A7C32B266E0626256525F023FF0252F14335236CBE512F69440062E2005 | AY32: -
A33: 일반관리비 | B33: (재+노+경)의 7% | C33: 식 | D33: 1 | E33: 0 | F33: =TRUNC(E33*D33,1) -> 0 | G33: 0 | H33: =TRUNC(G33*D33,1) -> 0 | I33: =TRUNC(SUMIF(AA26:AA35, RIGHTB(O33, 1), L26:L35)*U33, 2) -> 9893078 | J33: =TRUNC(I33*D33,1) -> 9893078 | K33: =TRUNC(E33+G33+I33,1) -> 9893078 | L33: =TRUNC(F33+H33+J33,1) -> 9893078 | M33: 금액제외 | O33: 52F14335236CBE512F69440062E1006 | P33: F | Q33: F | R33: F | S33: 3 | T33: 2 | U33: 0.07 | AB33: 7 | AC33: 8 | AW33: 53A7C32B266E0626256525F023FF0252F14335236CBE512F69440062E1006 | AY33: -
A34: 이 윤 | B34: (노+경+일)의 25% | C34: 식 | D34: 1 | E34: 0 | F34: =TRUNC(E34*D34,1) -> 0 | G34: 0 | H34: =TRUNC(G34*D34,1) -> 0 | I34: =TRUNC(SUMIF(AB26:AB35, RIGHTB(O34, 1), L26:L35)*U34, 2) -> 11890344 | J34: =TRUNC(I34*D34,1) -> 11890344 | K34: =TRUNC(E34+G34+I34,1) -> 11890344 | L34: =TRUNC(F34+H34+J34,1) -> 11890344 | M34: 금액제외 | O34: 52F14335236CBE512F69440062E0007 | P34: F | Q34: F | R34: F | S34: 3 | T34: 2 | U34: 0.25 | AC34: 8 | AW34: 53A7C32B266E0626256525F023FF0252F14335236CBE512F69440062E0007 | AY34: -
A35: 총 계 | B35: 합계의 100% | C35: 식 | D35: 1 | E35: =TRUNC(SUMIF(AC26:AC35, RIGHTB(O35, 1), L26:L35)*U35, 2) -> 1.6311311e+08 | F35: =TRUNC(E35*D35,1) -> 1.6311311e+08 | G35: 0 | H35: =TRUNC(G35*D35,1) -> 0 | I35: 0 | J35: =TRUNC(I35*D35,1) -> 0 | K35: =TRUNC(E35+G35+I35,1) -> 1.6311311e+08 | L35: =TRUNC(F35+H35+J35,1) -> 1.6311311e+08 | N35: 53A7C32B266E0626256525F023FF02 | O35: 52F14335236CBE512F69440062EF008 | P35: F | Q35: F | R35: F | S35: 3 | T35: 0 | U35: 1 | AW35: 53A7C32B266E0626256525F023FF0252F14335236CBE512F69440062EF008
A36: [ 합 계 ] | F36: =TRUNC(SUMIF(N26:N35, N25, F26:F35),0) -> 163113108 | H36: =TRUNC(SUMIF(N26:N35, N25, H26:H35),0) -> 0 | J36: =TRUNC(SUMIF(N26:N35, N25, J26:J35),0) -> 0 | L36: =F36+H36+J36 -> 163113108 | N36: TOTAL | O36: TOTAL
A38: 하남가압장 계장제어장치 설치비 면 ( 호표 4 ) | N38: 53A7C32B266E0626256525F023FF03
A39: 현장감시제어설비 설치 | B39: 계장제어장치반 설치 | C39: 면 | D39: 1 | E39: =일위대가목록!E32 -> 5021 | F39: =TRUNC(E39*D39,1) -> 5021 | G39: =일위대가목록!F32 -> 167386 | H39: =TRUNC(G39*D39,1) -> 167386 | I39: =일위대가목록!G32 -> 0 | J39: =TRUNC(I39*D39,1) -> 0 | K39: =TRUNC(E39+G39+I39,1) -> 172407 | L39: =TRUNC(F39+H39+J39,1) -> 172407 | M39: 금액제외 | O39: 52BE030C23667D322A65645DEC182B | P39: T | Q39: F | R39: F | V39: 1 | AW39: 53A7C32B266E0626256525F023FF0352BE030C23667D322A65645DEC182B | AY39: -
A40: 현장감시제어설비 설치 | B40: Bay건립 및 카드 설치 | C40: 면 | D40: 1 | E40: =일위대가목록!E33 -> 14182 | F40: =TRUNC(E40*D40,1) -> 14182 | G40: =일위대가목록!F33 -> 472750 | H40: =TRUNC(G40*D40,1) -> 472750 | I40: =일위대가목록!G33 -> 0 | J40: =TRUNC(I40*D40,1) -> 0 | K40: =TRUNC(E40+G40+I40,1) -> 486932 | L40: =TRUNC(F40+H40+J40,1) -> 486932 | M40: 금액제외 | O40: 52BE030C23667D322A65645DEC1BFF | P40: T | Q40: F | R40: F | V40: 1 | AW40: 53A7C32B266E0626256525F023FF0352BE030C23667D322A65645DEC1BFF | AY40: -
A41: 현장감시제어설비 설치 | B41: 케이블 접속 | C41: 10점당 | D41: 63.9 | E41: =일위대가목록!E34 -> 2636 | F41: =TRUNC(E41*D41,1) -> 168440.4 | G41: =일위대가목록!F34 -> 87885 | H41: =TRUNC(G41*D41,1) -> 5615851.5 | I41: =일위대가목록!G34 -> 0 | J41: =TRUNC(I41*D41,1) -> 0 | K41: =TRUNC(E41+G41+I41,1) -> 90521 | L41: =TRUNC(F41+H41+J41,1) -> 5784291.9 | M41: 금액제외 | O41: 52BE030C23667D322A65645DEC1AD5 | P41: T | Q41: F | R41: F | V41: 1 | AW41: 53A7C32B266E0626256525F023FF0352BE030C23667D322A65645DEC1AD5 | AY41: -
A42: 현장감시제어설비 설치 | B42: 시험 | C42: 카드 | D42: 29 | E42: =일위대가목록!E35 -> 182 | F42: =TRUNC(E42*D42,1) -> 5278 | G42: =일위대가목록!F35 -> 6090 | H42: =TRUNC(G42*D42,1) -> 176610 | I42: =일위대가목록!G35 -> 0 | J42: =TRUNC(I42*D42,1) -> 0 | K42: =TRUNC(E42+G42+I42,1) -> 6272 | L42: =TRUNC(F42+H42+J42,1) -> 181888 | M42: 금액제외 | O42: 52BE030C23667D322A65645DEC1DA9 | P42: T | Q42: F | R42: F | V42: 1 | AW42: 53A7C32B266E0626256525F023FF0352BE030C23667D322A65645DEC1DA9 | AY42: -
A43: 총 계 | B43: 합계의 100% | C43: 식 | D43: 1 | E43: =TRUNC(SUMIF(V39:V43, RIGHTB(O43, 1), L39:L43)*U43, 2) -> 6625518.9 | F43: =TRUNC(E43*D43,1) -> 6625518.9 | G43: 0 | H43: =TRUNC(G43*D43,1) -> 0 | I43: 0 | J43: =TRUNC(I43*D43,1) -> 0 | K43: =TRUNC(E43+G43+I43,1) -> 6625518.9 | L43: =TRUNC(F43+H43+J43,1) -> 6625518.9 | N43: 53A7C32B266E0626256525F023FF03 | O43: 52F14335236CBE512F69440062E6001 | P43: F | Q43: F | R43: F | S43: 3 | T43: 0 | U43: 1 | AW43: 53A7C32B266E0626256525F023FF0352F14335236CBE512F69440062E6001
A44: [ 합 계 ] | F44: =TRUNC(SUMIF(N39:N43, N38, F39:F43),0) -> 6625518 | H44: =TRUNC(SUMIF(N39:N43, N38, H39:H43),0) -> 0 | J44: =TRUNC(SUMIF(N39:N43, N38, J39:J43),0) -> 0 | L44: =F44+H44+J44 -> 6625518 | N44: TOTAL | O44: TOTAL
A46: 원격제어반(밸브실 계장제어장치-Type A 1련 제어) (제작율 적용) 옥외자립형(STS), 800(W)x1,800(H)x600(D) 면 ( 호표 5 ) | N46: 53A7C32B266E0626256525F023FBAF
A47: 원격제어반(밸브실 계장제어장치-Type A 1련 제어) 옥외자립형 | B47: 전원부 | C47: 면 | D47: 1 | E47: =일위대가목록!E38 -> 6064762 | F47: =TRUNC(E47*D47,1) -> 6064762 | G47: =일위대가목록!F38 -> 697900 | H47: =TRUNC(G47*D47,1) -> 697900 | I47: =일위대가목록!G38 -> 0 | J47: =TRUNC(I47*D47,1) -> 0 | K47: =TRUNC(E47+G47+I47,1) -> 6762662 | L47: =TRUNC(F47+H47+J47,1) -> 6762662 | M47: 금액제외 | O47: 53A7C32B266E0626256525F023FBAD | P47: T | Q47: F | R47: F | V47: 1 | X47: 3 | AW47: 53A7C32B266E0626256525F023FBAF53A7C32B266E0626256525F023FBAD | AY47: -
A48: 원격제어반(밸브실 계장제어장치-Type A 1련 제어) 옥외자립형 | B48: 제어부 | C48: 면 | D48: 1 | E48: =일위대가목록!E39 -> 6972810 | F48: =TRUNC(E48*D48,1) -> 6972810 | G48: =일위대가목록!F39 -> 624493 | H48: =TRUNC(G48*D48,1) -> 624493 | I48: =일위대가목록!G39 -> 0 | J48: =TRUNC(I48*D48,1) -> 0 | K48: =TRUNC(E48+G48+I48,1) -> 7597303 | L48: =TRUNC(F48+H48+J48,1) -> 7597303 | M48: 금액제외 | O48: 53A7C32B266E0626256525F023FBAC | P48: T | Q48: F | R48: F | V48: 1 | X48: 3 | AW48: 53A7C32B266E0626256525F023FBAF53A7C32B266E0626256525F023FBAC | AY48: -
A49: 직접재료비 | B49: 산출재료비의 100% | C49: 식 | D49: 1 | E49: =TRUNC(SUMIF(V47:V56, RIGHTB(O49, 1), F47:F56)*U49, 2) -> 13037572 | F49: =TRUNC(E49*D49,1) -> 13037572 | G49: 0 | H49: =TRUNC(G49*D49,1) -> 0 | I49: 0 | J49: =TRUNC(I49*D49,1) -> 0 | K49: =TRUNC(E49+G49+I49,1) -> 13037572 | L49: =TRUNC(F49+H49+J49,1) -> 13037572 | M49: 금액제외 | O49: 52F14335236CBE512F69440062E6001 | P49: F | Q49: F | R49: F | S49: 0 | T49: 0 | U49: 1 | W49: 2 | Z49: 5 | AA49: 6 | AC49: 8 | AW49: 53A7C32B266E0626256525F023FBAF52F14335236CBE512F69440062E6001 | AY49: -
A50: 간접재료비 | B50: 직접재료비의 1.03% | C50: 식 | D50: 1 | E50: =TRUNC(SUMIF(W47:W56, RIGHTB(O50, 1), F47:F56)*U50, 2) -> 134286.99 | F50: =TRUNC(E50*D50,1) -> 134286.9 | G50: 0 | H50: =TRUNC(G50*D50,1) -> 0 | I50: 0 | J50: =TRUNC(I50*D50,1) -> 0 | K50: =TRUNC(E50+G50+I50,1) -> 134286.9 | L50: =TRUNC(F50+H50+J50,1) -> 134286.9 | M50: 금액제외 | O50: 52F14335236CBE512F69440062E5002 | P50: F | Q50: F | R50: F | S50: 0 | T50: 0 | U50: 0.0103 | Z50: 5 | AA50: 6 | AC50: 8 | AW50: 53A7C32B266E0626256525F023FBAF52F14335236CBE512F69440062E5002 | AY50: -
A51: 직접노무비 | B51: 산출노무비의 124.53% | C51: 식 | D51: 1 | E51: 0 | F51: =TRUNC(E51*D51,1) -> 0 | G51: =TRUNC(SUMIF(X47:X56, RIGHTB(O51, 1), H47:H56)*U51, 2) -> 1646776 | H51: =TRUNC(G51*D51,1) -> 1646776 | I51: 0 | J51: =TRUNC(I51*D51,1) -> 0 | K51: =TRUNC(E51+G51+I51,1) -> 1646776 | L51: =TRUNC(F51+H51+J51,1) -> 1646776 | M51: 금액제외 | O51: 52F14335236CBE512F69440062E4003 | P51: F | Q51: F | R51: F | S51: 1 | T51: 1 | U51: 1.2453 | Y51: 4 | AA51: 6 | AB51: 7 | AC51: 8 | AW51: 53A7C32B266E0626256525F023FBAF52F14335236CBE512F69440062E4003 | AY51: -
A52: 간접노무비 | B52: 직접노무비의 34.93% | C52: 식 | D52: 1 | E52: 0 | F52: =TRUNC(E52*D52,1) -> 0 | G52: =TRUNC(SUMIF(Y47:Y56, RIGHTB(O52, 1), H47:H56)*U52, 2) -> 575218.85 | H52: =TRUNC(G52*D52,1) -> 575218.8 | I52: 0 | J52: =TRUNC(I52*D52,1) -> 0 | K52: =TRUNC(E52+G52+I52,1) -> 575218.8 | L52: =TRUNC(F52+H52+J52,1) -> 575218.8 | M52: 금액제외 | O52: 52F14335236CBE512F69440062E3004 | P52: F | Q52: F | R52: F | S52: 1 | T52: 1 | U52: 0.3493 | AA52: 6 | AB52: 7 | AC52: 8 | AW52: 53A7C32B266E0626256525F023FBAF52F14335236CBE512F69440062E3004 | AY52: -
A53: 경 비 | B53: 재료비의 8.95% | C53: 식 | D53: 1 | E53: 0 | F53: =TRUNC(E53*D53,1) -> 0 | G53: 0 | H53: =TRUNC(G53*D53,1) -> 0 | I53: =TRUNC(SUMIF(Z47:Z56, RIGHTB(O53, 1), F47:F56)*U53, 2) -> 1178881.4 | J53: =TRUNC(I53*D53,1) -> 1178881.3 | K53: =TRUNC(E53+G53+I53,1) -> 1178881.3 | L53: =TRUNC(F53+H53+J53,1) -> 1178881.3 | M53: 금액제외 | O53: 52F14335236CBE512F69440062E2005 | P53: F | Q53: F | R53: F | S53: 0 | T53: 2 | U53: 0.0895 | AA53: 6 | AB53: 7 | AC53: 8 | AW53: 53A7C32B266E0626256525F023FBAF52F14335236CBE512F69440062E2005 | AY53: -
A54: 일반관리비 | B54: (재+노+경)의 7% | C54: 식 | D54: 1 | E54: 0 | F54: =TRUNC(E54*D54,1) -> 0 | G54: 0 | H54: =TRUNC(G54*D54,1) -> 0 | I54: =TRUNC(SUMIF(AA47:AA56, RIGHTB(O54, 1), L47:L56)*U54, 2) -> 1160091.4 | J54: =TRUNC(I54*D54,1) -> 1160091.4 | K54: =TRUNC(E54+G54+I54,1) -> 1160091.4 | L54: =TRUNC(F54+H54+J54,1) -> 1160091.4 | M54: 금액제외 | O54: 52F14335236CBE512F69440062E1006 | P54: F | Q54: F | R54: F | S54: 3 | T54: 2 | U54: 0.07 | AB54: 7 | AC54: 8 | AW54: 53A7C32B266E0626256525F023FBAF52F14335236CBE512F69440062E1006 | AY54: -
A55: 이 윤 | B55: (노+경+일)의 25% | C55: 식 | D55: 1 | E55: 0 | F55: =TRUNC(E55*D55,1) -> 0 | G55: 0 | H55: =TRUNC(G55*D55,1) -> 0 | I55: =TRUNC(SUMIF(AB47:AB56, RIGHTB(O55, 1), L47:L56)*U55, 2) -> 1140241.9 | J55: =TRUNC(I55*D55,1) -> 1140241.8 | K55: =TRUNC(E55+G55+I55,1) -> 1140241.8 | L55: =TRUNC(F55+H55+J55,1) -> 1140241.8 | M55: 금액제외 | O55: 52F14335236CBE512F69440062E0007 | P55: F | Q55: F | R55: F | S55: 3 | T55: 2 | U55: 0.25 | AC55: 8 | AW55: 53A7C32B266E0626256525F023FBAF52F14335236CBE512F69440062E0007 | AY55: -
A56: 총 계 | B56: 합계의 100% | C56: 식 | D56: 1 | E56: =TRUNC(SUMIF(AC47:AC56, RIGHTB(O56, 1), L47:L56)*U56, 2) -> 18873068 | F56: =TRUNC(E56*D56,1) -> 18873068 | G56: 0 | H56: =TRUNC(G56*D56,1) -> 0 | I56: 0 | J56: =TRUNC(I56*D56,1) -> 0 | K56: =TRUNC(E56+G56+I56,1) -> 18873068 | L56: =TRUNC(F56+H56+J56,1) -> 18873068 | N56: 53A7C32B266E0626256525F023FBAF | O56: 52F14335236CBE512F69440062EF008 | P56: F | Q56: F | R56: F | S56: 3 | T56: 0 | U56: 1 | AW56: 53A7C32B266E0626256525F023FBAF52F14335236CBE512F69440062EF008
A57: [ 합 계 ] | F57: =TRUNC(SUMIF(N47:N56, N46, F47:F56),0) -> 18873068 | H57: =TRUNC(SUMIF(N47:N56, N46, H47:H56),0) -> 0 | J57: =TRUNC(SUMIF(N47:N56, N46, J47:J56),0) -> 0 | L57: =F57+H57+J57 -> 18873068 | N57: TOTAL | O57: TOTAL
A59: 원격제어반(밸브실 계장제어장치-Type A 1련 제어) 설치비 면 ( 호표 6 ) | N59: 53A7C32B266E0626256525F023FBAE
A60: 현장감시제어설비 설치 | B60: 계장제어장치반 설치 | C60: 면 | D60: 1 | E60: =일위대가목록!E32 -> 5021 | F60: =TRUNC(E60*D60,1) -> 5021 | G60: =일위대가목록!F32 -> 167386 | H60: =TRUNC(G60*D60,1) -> 167386 | I60: =일위대가목록!G32 -> 0 | J60: =TRUNC(I60*D60,1) -> 0 | K60: =TRUNC(E60+G60+I60,1) -> 172407 | L60: =TRUNC(F60+H60+J60,1) -> 172407 | M60: 금액제외 | O60: 52BE030C23667D322A65645DEC182B | P60: T | Q60: F | R60: F | V60: 1 | AW60: 53A7C32B266E0626256525F023FBAE52BE030C23667D322A65645DEC182B | AY60: -
A61: 현장감시제어설비 설치 | B61: Bay건립 및 카드 설치 | C61: 면 | D61: 1 | E61: =일위대가목록!E33 -> 14182 | F61: =TRUNC(E61*D61,1) -> 14182 | G61: =일위대가목록!F33 -> 472750 | H61: =TRUNC(G61*D61,1) -> 472750 | I61: =일위대가목록!G33 -> 0 | J61: =TRUNC(I61*D61,1) -> 0 | K61: =TRUNC(E61+G61+I61,1) -> 486932 | L61: =TRUNC(F61+H61+J61,1) -> 486932 | M61: 금액제외 | O61: 52BE030C23667D322A65645DEC1BFF | P61: T | Q61: F | R61: F | V61: 1 | AW61: 53A7C32B266E0626256525F023FBAE52BE030C23667D322A65645DEC1BFF | AY61: -
A62: 현장감시제어설비 설치 | B62: 케이블 접속 | C62: 10점당 | D62: 1.8 | E62: =일위대가목록!E34 -> 2636 | F62: =TRUNC(E62*D62,1) -> 4744.8 | G62: =일위대가목록!F34 -> 87885 | H62: =TRUNC(G62*D62,1) -> 158193 | I62: =일위대가목록!G34 -> 0 | J62: =TRUNC(I62*D62,1) -> 0 | K62: =TRUNC(E62+G62+I62,1) -> 90521 | L62: =TRUNC(F62+H62+J62,1) -> 162937.8 | M62: 금액제외 | O62: 52BE030C23667D322A65645DEC1AD5 | P62: T | Q62: F | R62: F | V62: 1 | AW62: 53A7C32B266E0626256525F023FBAE52BE030C23667D322A65645DEC1AD5 | AY62: -
A63: 현장감시제어설비 설치 | B63: 시험 | C63: 카드 | D63: 7 | E63: =일위대가목록!E35 -> 182 | F63: =TRUNC(E63*D63,1) -> 1274 | G63: =일위대가목록!F35 -> 6090 | H63: =TRUNC(G63*D63,1) -> 42630 | I63: =일위대가목록!G35 -> 0 | J63: =TRUNC(I63*D63,1) -> 0 | K63: =TRUNC(E63+G63+I63,1) -> 6272 | L63: =TRUNC(F63+H63+J63,1) -> 43904 | M63: 금액제외 | O63: 52BE030C23667D322A65645DEC1DA9 | P63: T | Q63: F | R63: F | V63: 1 | AW63: 53A7C32B266E0626256525F023FBAE52BE030C23667D322A65645DEC1DA9 | AY63: -
A64: 총 계 | B64: 합계의 100% | C64: 식 | D64: 1 | E64: =TRUNC(SUMIF(V60:V64, RIGHTB(O64, 1), L60:L64)*U64, 2) -> 866180.8 | F64: =TRUNC(E64*D64,1) -> 866180.8 | G64: 0 | H64: =TRUNC(G64*D64,1) -> 0 | I64: 0 | J64: =TRUNC(I64*D64,1) -> 0 | K64: =TRUNC(E64+G64+I64,1) -> 866180.8 | L64: =TRUNC(F64+H64+J64,1) -> 866180.8 | N64: 53A7C32B266E0626256525F023FBAE | O64: 52F14335236CBE512F69440062E6001 | P64: F | Q64: F | R64: F | S64: 3 | T64: 0 | U64: 1 | AW64: 53A7C32B266E0626256525F023FBAE52F14335236CBE512F69440062E6001
A65: [ 합 계 ] | F65: =TRUNC(SUMIF(N60:N64, N59, F60:F64),0) -> 866180 | H65: =TRUNC(SUMIF(N60:N64, N59, H60:H64),0) -> 0 | J65: =TRUNC(SUMIF(N60:N64, N59, J60:J64),0) -> 0 | L65: =F65+H65+J65 -> 866180 | N65: TOTAL | O65: TOTAL
A67: 원격제어반(밸브실 계장제어장치-Type D 4련 제어) (제작율 적용) 옥외자립형(STS), 800(W)x1,800(H)x600(D) 면 ( 호표 7 ) | N67: 53A7C32B266E0626256525F023F502
A68: 원격제어반(밸브실 계장제어장치-Type D 4련 제어) 옥외자립형 | B68: 전원부 | C68: 면 | D68: 1 | E68: =일위대가목록!E40 -> 7896796 | F68: =TRUNC(E68*D68,1) -> 7896796 | G68: =일위대가목록!F40 -> 1354358 | H68: =TRUNC(G68*D68,1) -> 1354358 | I68: =일위대가목록!G40 -> 0 | J68: =TRUNC(I68*D68,1) -> 0 | K68: =TRUNC(E68+G68+I68,1) -> 9251154 | L68: =TRUNC(F68+H68+J68,1) -> 9251154 | M68: 금액제외 | O68: 53A7C32B266E0626256525F023F500 | P68: T | Q68: F | R68: F | V68: 1 | X68: 3 | AW68: 53A7C32B266E0626256525F023F50253A7C32B266E0626256525F023F500 | AY68: -
A69: 원격제어반(밸브실 계장제어장치-Type D 4련 제어) 옥외자립형 | B69: 제어부 | C69: 면 | D69: 1 | E69: =일위대가목록!E41 -> 10415910 | F69: =TRUNC(E69*D69,1) -> 10415910 | G69: =일위대가목록!F41 -> 1430874 | H69: =TRUNC(G69*D69,1) -> 1430874 | I69: =일위대가목록!G41 -> 0 | J69: =TRUNC(I69*D69,1) -> 0 | K69: =TRUNC(E69+G69+I69,1) -> 11846784 | L69: =TRUNC(F69+H69+J69,1) -> 11846784 | M69: 금액제외 | O69: 53A7C32B266E0626256525F023F501 | P69: T | Q69: F | R69: F | V69: 1 | X69: 3 | AW69: 53A7C32B266E0626256525F023F50253A7C32B266E0626256525F023F501 | AY69: -
A70: 직접재료비 | B70: 산출재료비의 100% | C70: 식 | D70: 1 | E70: =TRUNC(SUMIF(V68:V77, RIGHTB(O70, 1), F68:F77)*U70, 2) -> 18312706 | F70: =TRUNC(E70*D70,1) -> 18312706 | G70: 0 | H70: =TRUNC(G70*D70,1) -> 0 | I70: 0 | J70: =TRUNC(I70*D70,1) -> 0 | K70: =TRUNC(E70+G70+I70,1) -> 18312706 | L70: =TRUNC(F70+H70+J70,1) -> 18312706 | M70: 금액제외 | O70: 52F14335236CBE512F69440062E6001 | P70: F | Q70: F | R70: F | S70: 0 | T70: 0 | U70: 1 | W70: 2 | Z70: 5 | AA70: 6 | AC70: 8 | AW70: 53A7C32B266E0626256525F023F50252F14335236CBE512F69440062E6001 | AY70: -
A71: 간접재료비 | B71: 직접재료비의 1.03% | C71: 식 | D71: 1 | E71: =TRUNC(SUMIF(W68:W77, RIGHTB(O71, 1), F68:F77)*U71, 2) -> 188620.87 | F71: =TRUNC(E71*D71,1) -> 188620.8 | G71: 0 | H71: =TRUNC(G71*D71,1) -> 0 | I71: 0 | J71: =TRUNC(I71*D71,1) -> 0 | K71: =TRUNC(E71+G71+I71,1) -> 188620.8 | L71: =TRUNC(F71+H71+J71,1) -> 188620.8 | M71: 금액제외 | O71: 52F14335236CBE512F69440062E5002 | P71: F | Q71: F | R71: F | S71: 0 | T71: 0 | U71: 0.0103 | Z71: 5 | AA71: 6 | AC71: 8 | AW71: 53A7C32B266E0626256525F023F50252F14335236CBE512F69440062E5002 | AY71: -
A72: 직접노무비 | B72: 산출노무비의 124.53% | C72: 식 | D72: 1 | E72: 0 | F72: =TRUNC(E72*D72,1) -> 0 | G72: =TRUNC(SUMIF(X68:X77, RIGHTB(O72, 1), H68:H77)*U72, 2) -> 3468449.4 | H72: =TRUNC(G72*D72,1) -> 3468449.4 | I72: 0 | J72: =TRUNC(I72*D72,1) -> 0 | K72: =TRUNC(E72+G72+I72,1) -> 3468449.4 | L72: =TRUNC(F72+H72+J72,1) -> 3468449.4 | M72: 금액제외 | O72: 52F14335236CBE512F69440062E4003 | P72: F | Q72: F | R72: F | S72: 1 | T72: 1 | U72: 1.2453 | Y72: 4 | AA72: 6 | AB72: 7 | AC72: 8 | AW72: 53A7C32B266E0626256525F023F50252F14335236CBE512F69440062E4003 | AY72: -
A73: 간접노무비 | B73: 직접노무비의 34.93% | C73: 식 | D73: 1 | E73: 0 | F73: =TRUNC(E73*D73,1) -> 0 | G73: =TRUNC(SUMIF(Y68:Y77, RIGHTB(O73, 1), H68:H77)*U73, 2) -> 1211529.4 | H73: =TRUNC(G73*D73,1) -> 1211529.3 | I73: 0 | J73: =TRUNC(I73*D73,1) -> 0 | K73: =TRUNC(E73+G73+I73,1) -> 1211529.3 | L73: =TRUNC(F73+H73+J73,1) -> 1211529.3 | M73: 금액제외 | O73: 52F14335236CBE512F69440062E3004 | P73: F | Q73: F | R73: F | S73: 1 | T73: 1 | U73: 0.3493 | AA73: 6 | AB73: 7 | AC73: 8 | AW73: 53A7C32B266E0626256525F023F50252F14335236CBE512F69440062E3004 | AY73: -
A74: 경 비 | B74: 재료비의 8.95% | C74: 식 | D74: 1 | E74: 0 | F74: =TRUNC(E74*D74,1) -> 0 | G74: 0 | H74: =TRUNC(G74*D74,1) -> 0 | I74: =TRUNC(SUMIF(Z68:Z77, RIGHTB(O74, 1), F68:F77)*U74, 2) -> 1655868.7 | J74: =TRUNC(I74*D74,1) -> 1655868.7 | K74: =TRUNC(E74+G74+I74,1) -> 1655868.7 | L74: =TRUNC(F74+H74+J74,1) -> 1655868.7 | M74: 금액제외 | O74: 52F14335236CBE512F69440062E2005 | P74: F | Q74: F | R74: F | S74: 0 | T74: 2 | U74: 0.0895 | AA74: 6 | AB74: 7 | AC74: 8 | AW74: 53A7C32B266E0626256525F023F50252F14335236CBE512F69440062E2005 | AY74: -
A75: 일반관리비 | B75: (재+노+경)의 7% | C75: 식 | D75: 1 | E75: 0 | F75: =TRUNC(E75*D75,1) -> 0 | G75: 0 | H75: =TRUNC(G75*D75,1) -> 0 | I75: =TRUNC(SUMIF(AA68:AA77, RIGHTB(O75, 1), L68:L77)*U75, 2) -> 1738602.2 | J75: =TRUNC(I75*D75,1) -> 1738602.1 | K75: =TRUNC(E75+G75+I75,1) -> 1738602.1 | L75: =TRUNC(F75+H75+J75,1) -> 1738602.1 | M75: 금액제외 | O75: 52F14335236CBE512F69440062E1006 | P75: F | Q75: F | R75: F | S75: 3 | T75: 2 | U75: 0.07 | AB75: 7 | AC75: 8 | AW75: 53A7C32B266E0626256525F023F50252F14335236CBE512F69440062E1006 | AY75: -
A76: 이 윤 | B76: (노+경+일)의 25% | C76: 식 | D76: 1 | E76: 0 | F76: =TRUNC(E76*D76,1) -> 0 | G76: 0 | H76: =TRUNC(G76*D76,1) -> 0 | I76: =TRUNC(SUMIF(AB68:AB77, RIGHTB(O76, 1), L68:L77)*U76, 2) -> 2018612.4 | J76: =TRUNC(I76*D76,1) -> 2018612.3 | K76: =TRUNC(E76+G76+I76,1) -> 2018612.3 | L76: =TRUNC(F76+H76+J76,1) -> 2018612.3 | M76: 금액제외 | O76: 52F14335236CBE512F69440062E0007 | P76: F | Q76: F | R76: F | S76: 3 | T76: 2 | U76: 0.25 | AC76: 8 | AW76: 53A7C32B266E0626256525F023F50252F14335236CBE512F69440062E0007 | AY76: -
A77: 총 계 | B77: 합계의 100% | C77: 식 | D77: 1 | E77: =TRUNC(SUMIF(AC68:AC77, RIGHTB(O77, 1), L68:L77)*U77, 2) -> 28594389 | F77: =TRUNC(E77*D77,1) -> 28594389 | G77: 0 | H77: =TRUNC(G77*D77,1) -> 0 | I77: 0 | J77: =TRUNC(I77*D77,1) -> 0 | K77: =TRUNC(E77+G77+I77,1) -> 28594389 | L77: =TRUNC(F77+H77+J77,1) -> 28594389 | N77: 53A7C32B266E0626256525F023F502 | O77: 52F14335236CBE512F69440062EF008 | P77: F | Q77: F | R77: F | S77: 3 | T77: 0 | U77: 1 | AW77: 53A7C32B266E0626256525F023F50252F14335236CBE512F69440062EF008
A78: [ 합 계 ] | F78: =TRUNC(SUMIF(N68:N77, N67, F68:F77),0) -> 28594388 | H78: =TRUNC(SUMIF(N68:N77, N67, H68:H77),0) -> 0 | J78: =TRUNC(SUMIF(N68:N77, N67, J68:J77),0) -> 0 | L78: =F78+H78+J78 -> 28594388 | N78: TOTAL | O78: TOTAL
A80: 원격제어반(밸브실 계장제어장치-Type D 4련 제어) 설치비 면 ( 호표 8 ) | N80: 53A7C32B266E0626256525F023F503
A81: 현장감시제어설비 설치 | B81: 계장제어장치반 설치 | C81: 면 | D81: 1 | E81: =일위대가목록!E32 -> 5021 | F81: =TRUNC(E81*D81,1) -> 5021 | G81: =일위대가목록!F32 -> 167386 | H81: =TRUNC(G81*D81,1) -> 167386 | I81: =일위대가목록!G32 -> 0 | J81: =TRUNC(I81*D81,1) -> 0 | K81: =TRUNC(E81+G81+I81,1) -> 172407 | L81: =TRUNC(F81+H81+J81,1) -> 172407 | M81: 금액제외 | O81: 52BE030C23667D322A65645DEC182B | P81: T | Q81: F | R81: F | V81: 1 | AW81: 53A7C32B266E0626256525F023F50352BE030C23667D322A65645DEC182B | AY81: -
A82: 현장감시제어설비 설치 | B82: Bay건립 및 카드 설치 | C82: 면 | D82: 1 | E82: =일위대가목록!E33 -> 14182 | F82: =TRUNC(E82*D82,1) -> 14182 | G82: =일위대가목록!F33 -> 472750 | H82: =TRUNC(G82*D82,1) -> 472750 | I82: =일위대가목록!G33 -> 0 | J82: =TRUNC(I82*D82,1) -> 0 | K82: =TRUNC(E82+G82+I82,1) -> 486932 | L82: =TRUNC(F82+H82+J82,1) -> 486932 | M82: 금액제외 | O82: 52BE030C23667D322A65645DEC1BFF | P82: T | Q82: F | R82: F | V82: 1 | AW82: 53A7C32B266E0626256525F023F50352BE030C23667D322A65645DEC1BFF | AY82: -
A83: 현장감시제어설비 설치 | B83: 케이블 접속 | C83: 10점당 | D83: 5.4 | E83: =일위대가목록!E34 -> 2636 | F83: =TRUNC(E83*D83,1) -> 14234.4 | G83: =일위대가목록!F34 -> 87885 | H83: =TRUNC(G83*D83,1) -> 474579 | I83: =일위대가목록!G34 -> 0 | J83: =TRUNC(I83*D83,1) -> 0 | K83: =TRUNC(E83+G83+I83,1) -> 90521 | L83: =TRUNC(F83+H83+J83,1) -> 488813.4 | M83: 금액제외 | O83: 52BE030C23667D322A65645DEC1AD5 | P83: T | Q83: F | R83: F | V83: 1 | AW83: 53A7C32B266E0626256525F023F50352BE030C23667D322A65645DEC1AD5 | AY83: -
A84: 현장감시제어설비 설치 | B84: 시험 | C84: 카드 | D84: 8 | E84: =일위대가목록!E35 -> 182 | F84: =TRUNC(E84*D84,1) -> 1456 | G84: =일위대가목록!F35 -> 6090 | H84: =TRUNC(G84*D84,1) -> 48720 | I84: =일위대가목록!G35 -> 0 | J84: =TRUNC(I84*D84,1) -> 0 | K84: =TRUNC(E84+G84+I84,1) -> 6272 | L84: =TRUNC(F84+H84+J84,1) -> 50176 | M84: 금액제외 | O84: 52BE030C23667D322A65645DEC1DA9 | P84: T | Q84: F | R84: F | V84: 1 | AW84: 53A7C32B266E0626256525F023F50352BE030C23667D322A65645DEC1DA9 | AY84: -
A85: 총 계 | B85: 합계의 100% | C85: 식 | D85: 1 | E85: =TRUNC(SUMIF(V81:V85, RIGHTB(O85, 1), L81:L85)*U85, 2) -> 1198328.4 | F85: =TRUNC(E85*D85,1) -> 1198328.4 | G85: 0 | H85: =TRUNC(G85*D85,1) -> 0 | I85: 0 | J85: =TRUNC(I85*D85,1) -> 0 | K85: =TRUNC(E85+G85+I85,1) -> 1198328.4 | L85: =TRUNC(F85+H85+J85,1) -> 1198328.4 | N85: 53A7C32B266E0626256525F023F503 | O85: 52F14335236CBE512F69440062E6001 | P85: F | Q85: F | R85: F | S85: 3 | T85: 0 | U85: 1 | AW85: 53A7C32B266E0626256525F023F50352F14335236CBE512F69440062E6001
A86: [ 합 계 ] | F86: =TRUNC(SUMIF(N81:N85, N80, F81:F85),0) -> 1198328 | H86: =TRUNC(SUMIF(N81:N85, N80, H81:H85),0) -> 0 | J86: =TRUNC(SUMIF(N81:N85, N80, J81:J85),0) -> 0 | L86: =F86+H86+J86 -> 1198328 | N86: TOTAL | O86: TOTAL
A88: 원격제어반(밸브실 계장제어장치-Type B 2련 제어) (제작율 적용) 옥외자립형(STS), 800(W)x1,800(H)x600(D) 면 ( 호표 9 ) | N88: 53A7C32B266E0626256525F023FA82
A89: 원격제어반(밸브실 계장제어장치-Type B 2련 제어) 옥외자립형 | B89: 전원부 | C89: 면 | D89: 1 | E89: =일위대가목록!E42 -> 7060440 | F89: =TRUNC(E89*D89,1) -> 7060440 | G89: =일위대가목록!F42 -> 916720 | H89: =TRUNC(G89*D89,1) -> 916720 | I89: =일위대가목록!G42 -> 0 | J89: =TRUNC(I89*D89,1) -> 0 | K89: =TRUNC(E89+G89+I89,1) -> 7977160 | L89: =TRUNC(F89+H89+J89,1) -> 7977160 | M89: 금액제외 | O89: 53A7C32B266E0626256525F023FBA1 | P89: T | Q89: F | R89: F | V89: 1 | X89: 3 | AW89: 53A7C32B266E0626256525F023FA8253A7C32B266E0626256525F023FBA1 | AY89: -
A90: 원격제어반(밸브실 계장제어장치-Type B 2련 제어) 옥외자립형 | B90: 제어부 | C90: 면 | D90: 1 | E90: =일위대가목록!E43 -> 8106510 | F90: =TRUNC(E90*D90,1) -> 8106510 | G90: =일위대가목록!F43 -> 890274 | H90: =TRUNC(G90*D90,1) -> 890274 | I90: =일위대가목록!G43 -> 0 | J90: =TRUNC(I90*D90,1) -> 0 | K90: =TRUNC(E90+G90+I90,1) -> 8996784 | L90: =TRUNC(F90+H90+J90,1) -> 8996784 | M90: 금액제외 | O90: 53A7C32B266E0626256525F023FBA0 | P90: T | Q90: F | R90: F | V90: 1 | X90: 3 | AW90: 53A7C32B266E0626256525F023FA8253A7C32B266E0626256525F023FBA0 | AY90: -
A91: 직접재료비 | B91: 산출재료비의 100% | C91: 식 | D91: 1 | E91: =TRUNC(SUMIF(V89:V98, RIGHTB(O91, 1), F89:F98)*U91, 2) -> 15166950 | F91: =TRUNC(E91*D91,1) -> 15166950 | G91: 0 | H91: =TRUNC(G91*D91,1) -> 0 | I91: 0 | J91: =TRUNC(I91*D91,1) -> 0 | K91: =TRUNC(E91+G91+I91,1) -> 15166950 | L91: =TRUNC(F91+H91+J91,1) -> 15166950 | M91: 금액제외 | O91: 52F14335236CBE512F69440062E6001 | P91: F | Q91: F | R91: F | S91: 0 | T91: 0 | U91: 1 | W91: 2 | Z91: 5 | AA91: 6 | AC91: 8 | AW91: 53A7C32B266E0626256525F023FA8252F14335236CBE512F69440062E6001 | AY91: -
A92: 간접재료비 | B92: 직접재료비의 1.03% | C92: 식 | D92: 1 | E92: =TRUNC(SUMIF(W89:W98, RIGHTB(O92, 1), F89:F98)*U92, 2) -> 156219.58 | F92: =TRUNC(E92*D92,1) -> 156219.5 | G92: 0 | H92: =TRUNC(G92*D92,1) -> 0 | I92: 0 | J92: =TRUNC(I92*D92,1) -> 0 | K92: =TRUNC(E92+G92+I92,1) -> 156219.5 | L92: =TRUNC(F92+H92+J92,1) -> 156219.5 | M92: 금액제외 | O92: 52F14335236CBE512F69440062E5002 | P92: F | Q92: F | R92: F | S92: 0 | T92: 0 | U92: 0.0103 | Z92: 5 | AA92: 6 | AC92: 8 | AW92: 53A7C32B266E0626256525F023FA8252F14335236CBE512F69440062E5002 | AY92: -
A93: 직접노무비 | B93: 산출노무비의 124.53% | C93: 식 | D93: 1 | E93: 0 | F93: =TRUNC(E93*D93,1) -> 0 | G93: =TRUNC(SUMIF(X89:X98, RIGHTB(O93, 1), H89:H98)*U93, 2) -> 2250249.6 | H93: =TRUNC(G93*D93,1) -> 2250249.6 | I93: 0 | J93: =TRUNC(I93*D93,1) -> 0 | K93: =TRUNC(E93+G93+I93,1) -> 2250249.6 | L93: =TRUNC(F93+H93+J93,1) -> 2250249.6 | M93: 금액제외 | O93: 52F14335236CBE512F69440062E4003 | P93: F | Q93: F | R93: F | S93: 1 | T93: 1 | U93: 1.2453 | Y93: 4 | AA93: 6 | AB93: 7 | AC93: 8 | AW93: 53A7C32B266E0626256525F023FA8252F14335236CBE512F69440062E4003 | AY93: -
A94: 간접노무비 | B94: 직접노무비의 34.93% | C94: 식 | D94: 1 | E94: 0 | F94: =TRUNC(E94*D94,1) -> 0 | G94: =TRUNC(SUMIF(Y89:Y98, RIGHTB(O94, 1), H89:H98)*U94, 2) -> 786012.18 | H94: =TRUNC(G94*D94,1) -> 786012.1 | I94: 0 | J94: =TRUNC(I94*D94,1) -> 0 | K94: =TRUNC(E94+G94+I94,1) -> 786012.1 | L94: =TRUNC(F94+H94+J94,1) -> 786012.1 | M94: 금액제외 | O94: 52F14335236CBE512F69440062E3004 | P94: F | Q94: F | R94: F | S94: 1 | T94: 1 | U94: 0.3493 | AA94: 6 | AB94: 7 | AC94: 8 | AW94: 53A7C32B266E0626256525F023FA8252F14335236CBE512F69440062E3004 | AY94: -
A95: 경 비 | B95: 재료비의 8.95% | C95: 식 | D95: 1 | E95: 0 | F95: =TRUNC(E95*D95,1) -> 0 | G95: 0 | H95: =TRUNC(G95*D95,1) -> 0 | I95: =TRUNC(SUMIF(Z89:Z98, RIGHTB(O95, 1), F89:F98)*U95, 2) -> 1371423.7 | J95: =TRUNC(I95*D95,1) -> 1371423.6 | K95: =TRUNC(E95+G95+I95,1) -> 1371423.6 | L95: =TRUNC(F95+H95+J95,1) -> 1371423.6 | M95: 금액제외 | O95: 52F14335236CBE512F69440062E2005 | P95: F | Q95: F | R95: F | S95: 0 | T95: 2 | U95: 0.0895 | AA95: 6 | AB95: 7 | AC95: 8 | AW95: 53A7C32B266E0626256525F023FA8252F14335236CBE512F69440062E2005 | AY95: -
A96: 일반관리비 | B96: (재+노+경)의 7% | C96: 식 | D96: 1 | E96: 0 | F96: =TRUNC(E96*D96,1) -> 0 | G96: 0 | H96: =TRUNC(G96*D96,1) -> 0 | I96: =TRUNC(SUMIF(AA89:AA98, RIGHTB(O96, 1), L89:L98)*U96, 2) -> 1381159.8 | J96: =TRUNC(I96*D96,1) -> 1381159.8 | K96: =TRUNC(E96+G96+I96,1) -> 1381159.8 | L96: =TRUNC(F96+H96+J96,1) -> 1381159.8 | M96: 금액제외 | O96: 52F14335236CBE512F69440062E1006 | P96: F | Q96: F | R96: F | S96: 3 | T96: 2 | U96: 0.07 | AB96: 7 | AC96: 8 | AW96: 53A7C32B266E0626256525F023FA8252F14335236CBE512F69440062E1006 | AY96: -
A97: 이 윤 | B97: (노+경+일)의 25% | C97: 식 | D97: 1 | E97: 0 | F97: =TRUNC(E97*D97,1) -> 0 | G97: 0 | H97: =TRUNC(G97*D97,1) -> 0 | I97: =TRUNC(SUMIF(AB89:AB98, RIGHTB(O97, 1), L89:L98)*U97, 2) -> 1447211.3 | J97: =TRUNC(I97*D97,1) -> 1447211.2 | K97: =TRUNC(E97+G97+I97,1) -> 1447211.2 | L97: =TRUNC(F97+H97+J97,1) -> 1447211.2 | M97: 금액제외 | O97: 52F14335236CBE512F69440062E0007 | P97: F | Q97: F | R97: F | S97: 3 | T97: 2 | U97: 0.25 | AC97: 8 | AW97: 53A7C32B266E0626256525F023FA8252F14335236CBE512F69440062E0007 | AY97: -
A98: 총 계 | B98: 합계의 100% | C98: 식 | D98: 1 | E98: =TRUNC(SUMIF(AC89:AC98, RIGHTB(O98, 1), L89:L98)*U98, 2) -> 22559226 | F98: =TRUNC(E98*D98,1) -> 22559226 | G98: 0 | H98: =TRUNC(G98*D98,1) -> 0 | I98: 0 | J98: =TRUNC(I98*D98,1) -> 0 | K98: =TRUNC(E98+G98+I98,1) -> 22559226 | L98: =TRUNC(F98+H98+J98,1) -> 22559226 | N98: 53A7C32B266E0626256525F023FA82 | O98: 52F14335236CBE512F69440062EF008 | P98: F | Q98: F | R98: F | S98: 3 | T98: 0 | U98: 1 | AW98: 53A7C32B266E0626256525F023FA8252F14335236CBE512F69440062EF008
A99: [ 합 계 ] | F99: =TRUNC(SUMIF(N89:N98, N88, F89:F98),0) -> 22559225 | H99: =TRUNC(SUMIF(N89:N98, N88, H89:H98),0) -> 0 | J99: =TRUNC(SUMIF(N89:N98, N88, J89:J98),0) -> 0 | L99: =F99+H99+J99 -> 22559225 | N99: TOTAL | O99: TOTAL
A101: 원격제어반(밸브실 계장제어장치-Type B 2련 제어) 설치비 면 ( 호표 10 ) | N101: 53A7C32B266E0626256525F023FA83
A102: 현장감시제어설비 설치 | B102: 계장제어장치반 설치 | C102: 면 | D102: 1 | E102: =일위대가목록!E32 -> 5021 | F102: =TRUNC(E102*D102,1) -> 5021 | G102: =일위대가목록!F32 -> 167386 | H102: =TRUNC(G102*D102,1) -> 167386 | I102: =일위대가목록!G32 -> 0 | J102: =TRUNC(I102*D102,1) -> 0 | K102: =TRUNC(E102+G102+I102,1) -> 172407 | L102: =TRUNC(F102+H102+J102,1) -> 172407 | M102: 금액제외 | O102: 52BE030C23667D322A65645DEC182B | P102: T | Q102: F | R102: F | V102: 1 | AW102: 53A7C32B266E0626256525F023FA8352BE030C23667D322A65645DEC182B | AY102: -
A103: 현장감시제어설비 설치 | B103: Bay건립 및 카드 설치 | C103: 면 | D103: 1 | E103: =일위대가목록!E33 -> 14182 | F103: =TRUNC(E103*D103,1) -> 14182 | G103: =일위대가목록!F33 -> 472750 | H103: =TRUNC(G103*D103,1) -> 472750 | I103: =일위대가목록!G33 -> 0 | J103: =TRUNC(I103*D103,1) -> 0 | K103: =TRUNC(E103+G103+I103,1) -> 486932 | L103: =TRUNC(F103+H103+J103,1) -> 486932 | M103: 금액제외 | O103: 52BE030C23667D322A65645DEC1BFF | P103: T | Q103: F | R103: F | V103: 1 | AW103: 53A7C32B266E0626256525F023FA8352BE030C23667D322A65645DEC1BFF | AY103: -
A104: 현장감시제어설비 설치 | B104: 케이블 접속 | C104: 10점당 | D104: 3 | E104: =일위대가목록!E34 -> 2636 | F104: =TRUNC(E104*D104,1) -> 7908 | G104: =일위대가목록!F34 -> 87885 | H104: =TRUNC(G104*D104,1) -> 263655 | I104: =일위대가목록!G34 -> 0 | J104: =TRUNC(I104*D104,1) -> 0 | K104: =TRUNC(E104+G104+I104,1) -> 90521 | L104: =TRUNC(F104+H104+J104,1) -> 271563 | M104: 금액제외 | O104: 52BE030C23667D322A65645DEC1AD5 | P104: T | Q104: F | R104: F | V104: 1 | AW104: 53A7C32B266E0626256525F023FA8352BE030C23667D322A65645DEC1AD5 | AY104: -
A105: 현장감시제어설비 설치 | B105: 시험 | C105: 카드 | D105: 7 | E105: =일위대가목록!E35 -> 182 | F105: =TRUNC(E105*D105,1) -> 1274 | G105: =일위대가목록!F35 -> 6090 | H105: =TRUNC(G105*D105,1) -> 42630 | I105: =일위대가목록!G35 -> 0 | J105: =TRUNC(I105*D105,1) -> 0 | K105: =TRUNC(E105+G105+I105,1) -> 6272 | L105: =TRUNC(F105+H105+J105,1) -> 43904 | M105: 금액제외 | O105: 52BE030C23667D322A65645DEC1DA9 | P105: T | Q105: F | R105: F | V105: 1 | AW105: 53A7C32B266E0626256525F023FA8352BE030C23667D322A65645DEC1DA9 | AY105: -
A106: 총 계 | B106: 합계의 100% | C106: 식 | D106: 1 | E106: =TRUNC(SUMIF(V102:V106, RIGHTB(O106, 1), L102:L106)*U106, 2) -> 974806 | F106: =TRUNC(E106*D106,1) -> 974806 | G106: 0 | H106: =TRUNC(G106*D106,1) -> 0 | I106: 0 | J106: =TRUNC(I106*D106,1) -> 0 | K106: =TRUNC(E106+G106+I106,1) -> 974806 | L106: =TRUNC(F106+H106+J106,1) -> 974806 | N106: 53A7C32B266E0626256525F023FA83 | O106: 52F14335236CBE512F69440062E6001 | P106: F | Q106: F | R106: F | S106: 3 | T106: 0 | U106: 1 | AW106: 53A7C32B266E0626256525F023FA8352F14335236CBE512F69440062E6001
A107: [ 합 계 ] | F107: =TRUNC(SUMIF(N102:N106, N101, F102:F106),0) -> 974806 | H107: =TRUNC(SUMIF(N102:N106, N101, H102:H106),0) -> 0 | J107: =TRUNC(SUMIF(N102:N106, N101, J102:J106),0) -> 0 | L107: =F107+H107+J107 -> 974806 | N107: TOTAL | O107: TOTAL
A109: 원격제어반(밸브실 계장제어장치-Type B 2련 제어(1련예비)) (제작율 적용) 옥외자립형(STS), 800(W)x1,800(H)x600(D) 면 ( 호표 11 ) | N109: 53A7C32B266E0626256525F023FA86
A110: 원격제어반(밸브실 계장제어장치-Type B 2련 제어(1련예비)) 옥외자립형 | B110: 전원부 | C110: 면 | D110: 1 | E110: =일위대가목록!E44 -> 6675440 | F110: =TRUNC(E110*D110,1) -> 6675440 | G110: =일위대가목록!F44 -> 916720 | H110: =TRUNC(G110*D110,1) -> 916720 | I110: =일위대가목록!G44 -> 0 | J110: =TRUNC(I110*D110,1) -> 0 | K110: =TRUNC(E110+G110+I110,1) -> 7592160 | L110: =TRUNC(F110+H110+J110,1) -> 7592160 | M110: 금액제외 | O110: 53A7C32B266E0626256525F023FA80 | P110: T | Q110: F | R110: F | V110: 1 | X110: 3 | AW110: 53A7C32B266E0626256525F023FA8653A7C32B266E0626256525F023FA80 | AY110: -
...

Sheet 단가대비표
A1: 단 가 대 비 표
A2: [ 하남지구 자동화시스템 제조구매설치 ]
A3: 코 드 | B3: 품 명 | C3: 규격 | D3: 단위 | E3: 재 료 비 | P3: 노 무 비 | Q3: 경 비 | W3: 번 호 | X3: 비 고 | Y3: 품목구분 | Z3: 노임구분 | AA3: 소수점처리 | AB3: 자재구분
E4: 농어촌공사 2026 | F4: PAGE | G4: 거래가격 | H4: PAGE | I4: 유통물가 | J4: PAGE | K4: 물가자료 | L4: PAGE | M4: 조사가격 | N4: PAGE | O4: 적용단가 | Q4: 농어촌공사 | R4: 거래가격 | S4: 유통물가 | T4: 물가자료 | U4: 조사가격 | V4: 적용단가
A5: 54D7930A2B64FE812B67FFA6F4AC30D282767F | B5: 기기용 비닐절연전선 | C5: 450/700V KIV 1.5㎟(0.03kg) | D5: m | E5: 327 | F5: M060706 | G5: 0 | I5: 0 | K5: 0 | M5: 0 | O5: =SMALL(E5:M5,COUNTIF(E5:M5,0)+1) -> 327 | P5: 0 | Q5: 0 | R5: 0 | S5: 0 | T5: 0 | U5: 0 | V5: 0 | W5: 자재 1
A6: 54D7930A2B64FE812B67FFA6F4AC30D282767E | B6: 기기용 비닐절연전선 | C6: 450/700V KIV 2.5㎟(0.04kg) | D6: m | E6: 524 | F6: M060707 | G6: 414 | H6: 994 | I6: 436 | J6: 836 | K6: 390 | L6: 1099 | M6: 479 | N6: 1195 | O6: =E6 -> 524 | P6: 0 | Q6: 0 | R6: 0 | S6: 0 | T6: 0 | U6: 0 | V6: 0 | W6: 자재 2
A7: 54D7930A2B64FE812B67FFA6F4AC30D28D007C | B7: 접지용비닐절연전선(제조) | C7: F-GV, 50㎟ | D7: m | E7: 9307 | F7: M061327 | G7: 8069 | H7: 994 | I7: 7620 | J7: 833 | K7: 7910 | L7: 1099 | M7: 7532 | N7: 1193 | O7: =E7 -> 9307 | P7: 0 | Q7: 0 | R7: 0 | S7: 0 | T7: 0 | U7: 0 | V7: 0 | W7: 자재 3
A8: 54D7930A2B64FE82256CBB1B2258D1A35C2AD0 | B8: 제어케이블(통신) | C8: 0.6/1kV, TFR-CVV-SB, 5C*1.5㎟ | D8: m | E8: 3222 | F8: M061267 | G8: 2720 | H8: 995 | I8: 3041 | J8: 835 | K8: 2634 | L8: 1100 | M8: 3310 | N8: 1200 | O8: =E8 -> 3222 | P8: 0 | Q8: 0 | R8: 0 | S8: 0 | T8: 0 | U8: 0 | V8: 0 | W8: 자재 4
A9: 54D7930A2B64FE82256CBB1B2258D1A35C2DAD | B9: 제어케이블(통신) | C9: 0.6/1kV, TFR-CVV-SB, 10C*1.5㎟ | D9: m | E9: 5276 | F9: M061271 | G9: 4483 | H9: 995 | I9: 5023 | J9: 835 | K9: 4314 | L9: 1100 | M9: 5452 | N9: 1200 | O9: =E9 -> 5276 | P9: 0 | Q9: 0 | R9: 0 | S9: 0 | T9: 0 | U9: 0 | V9: 0 | W9: 자재 5
A10: 54D7930A2B64FE82256CBB1B2258D1A35C2DAE | B10: 제어케이블(통신) | C10: 0.6/1kV, TFR-CVV-SB, 15C*1.5㎟ | D10: m | E10: 7060 | F10: M061272 | G10: 0 | I10: 0 | K10: 0 | M10: 0 | O10: =E10 -> 7060 | P10: 0 | Q10: 0 | R10: 0 | S10: 0 | T10: 0 | U10: 0 | V10: 0 | W10: 자재 6
A11: 54D7930A2B64FE82256CBB1B2258D1A35C2DAF | B11: 제어케이블(통신) | C11: 0.6/1kV, TFR-CVV-SB, 30C*1.5㎟ | D11: m | E11: 12470 | F11: M061276 | G11: 0 | I11: 0 | K11: 0 | M11: 0 | O11: =E11 -> 12470 | P11: 0 | Q11: 0 | R11: 0 | S11: 0 | T11: 0 | U11: 0 | V11: 0 | W11: 자재 7
A12: 54D7930A2B64FE82256CBB1B2258D1A35C2DA8 | B12: 제어케이블(통신) | C12: 0.6/1kV, TFR-CVV-SB, 20C*1.5㎟ | D12: m | E12: 8839 | F12: M061274 | G12: 0 | I12: 0 | K12: 0 | M12: 0 | O12: =E12 -> 8839 | P12: 0 | Q12: 0 | R12: 0 | S12: 0 | T12: 0 | U12: 0 | V12: 0 | W12: 자재 8
A13: 54D7930A2B64FE82256CBC221417AA27685156 | B13: 통신케이블 | C13: RS-485(3P 24AWG) | D13: m | E13: 0 | G13: 12700 | H13: 1006 | I13: 0 | K13: 0 | M13: 0 | O13: =SMALL(E13:M13,COUNTIF(E13:M13,0)+1) -> 12700 | P13: 0 | Q13: 0 | R13: 0 | S13: 0 | T13: 0 | U13: 0 | V13: 0 | W13: 자재 9
A14: 54C5135B2162D71728601354F2CF9AB555B869 | B14: DOOR HANDLE (배전반용) | C14: W/KEY(L) | D14: 개 | E14: 5690 | F14: M079080 | G14: 0 | I14: 0 | K14: 0 | M14: 0 | O14: =SMALL(E14:M14,COUNTIF(E14:M14,0)+1) -> 5690 | P14: 0 | Q14: 0 | R14: 0 | S14: 0 | T14: 0 | U14: 0 | V14: 0 | W14: 자재 10
A15: 54C5135B2162D71728601354F2CF9AB555B868 | B15: DOOR HANDLE (배전반용) | C15: W/KEY(M) | D15: 개 | E15: 4170 | F15: M079081 | G15: 0 | I15: 0 | K15: 0 | M15: 0 | O15: =SMALL(E15:M15,COUNTIF(E15:M15,0)+1) -> 4170 | P15: 0 | Q15: 0 | R15: 0 | S15: 0 | T15: 0 | U15: 0 | V15: 0 | W15: 자재 11
A16: 54C5135B2162D71728601354F2CF9AB555B74A | B16: NAME PLATE | C16: 아크릴(L) | D16: 개 | E16: 5690 | F16: M079101 | G16: 0 | I16: 0 | K16: 0 | M16: 0 | O16: =SMALL(E16:M16,COUNTIF(E16:M16,0)+1) -> 5690 | P16: 0 | Q16: 0 | R16: 0 | S16: 0 | T16: 0 | U16: 0 | V16: 0 | W16: 자재 12
A17: 54C5135B2162D71728601354F2CF9AB555B74C | B17: NAME PLATE | C17: 아크릴(S) | D17: 개 | E17: 3000 | F17: M079100 | G17: 0 | I17: 0 | K17: 0 | M17: 0 | O17: =SMALL(E17:M17,COUNTIF(E17:M17,0)+1) -> 3000 | P17: 0 | Q17: 0 | R17: 0 | S17: 0 | T17: 0 | U17: 0 | V17: 0 | W17: 자재 13
A18: 54C5135B2162D712216EC9D5E77958C2F95085 | B18: 멀티탭 | C18: 멀티콘센트 5구 | D18: 개 | E18: 10500 | G18: 21200 | H18: 1101 | I18: 0 | K18: 14000 | L18: 1230 | M18: 0 | O18: =SMALL(E18:M18,COUNTIF(E18:M18,0)+1) -> 10500 | P18: 0 | Q18: 0 | R18: 0 | S18: 0 | T18: 0 | U18: 0 | V18: 0 | W18: 자재 14
A19: 54C5135B2162D712216FD548D20006EAEA9AB0 | B19: 단자대 | C19: 2P 30A | D19: 개 | E19: 0 | G19: 0 | I19: 340 | J19: 856 | K19: 0 | M19: 340 | N19: 1228 | O19: =SMALL(E19:M19,COUNTIF(E19:M19,0)+1) -> 340 | P19: 0 | Q19: 0 | R19: 0 | S19: 0 | T19: 0 | U19: 0 | V19: 0 | W19: 자재 15
A20: 54C5135B2162D712216FD548D20006EAEA9ABF | B20: 단자대 | C20: 4P 20A | D20: 개 | E20: 0 | G20: 1090 | I20: 1890 | J20: 856 | K20: 0 | M20: 0 | O20: =SMALL(E20:M20,COUNTIF(E20:M20,0)+1) -> 1090 | P20: 0 | Q20: 0 | R20: 0 | S20: 0 | T20: 0 | U20: 0 | V20: 0 | W20: 자재 16
A21: 54C5135B2162D712216FD548D20006EAEA9ABE | B21: 단자대 | C21: 4P 60A | D21: 개 | E21: 0 | G21: 3480 | I21: 3480 | J21: 856 | K21: 0 | M21: 0 | O21: =SMALL(E21:M21,COUNTIF(E21:M21,0)+1) -> 3480 | P21: 0 | Q21: 0 | R21: 0 | S21: 0 | T21: 0 | U21: 0 | V21: 0 | W21: 자재 17
A22: 54C5135B2162D712216FD548D20006EAEBB863 | B22: 단자대 | C22: 10P 30A | D22: 개 | E22: 2500 | F22: M079128 | G22: 0 | I22: 3630 | J22: 856 | K22: 0 | M22: 3630 | N22: 1228 | O22: =SMALL(E22:M22,COUNTIF(E22:M22,0)+1) -> 2500 | P22: 0 | Q22: 0 | R22: 0 | S22: 0 | T22: 0 | U22: 0 | V22: 0 | W22: 자재 18
A23: 54C5135B2162D712216FD548D20006EAEBBE8B | B23: 찬넬 | C23: 1M | D23: 개 | E23: 0 | G23: 2892 | I23: 2900 | J23: 856 | K23: 0 | M23: 2900 | N23: 1228 | O23: =SMALL(E23:M23,COUNTIF(E23:M23,0)+1) -> 2892 | P23: 0 | Q23: 0 | R23: 0 | S23: 0 | T23: 0 | U23: 0 | V23: 0 | W23: 자재 19
A24: 54C5135B2162D713226529378FB9812EE12E6D | B24: 리미트 스위치 | C24: 배전반용 | D24: 개 | E24: 4500 | F24: M079153 | G24: 7500 | H24: 1089 | I24: 0 | K24: 0 | M24: 7500 | N24: 1275 | O24: =SMALL(E24:M24,COUNTIF(E24:M24,0)+1) -> 4500 | P24: 0 | Q24: 0 | R24: 0 | S24: 0 | T24: 0 | U24: 0 | V24: 0 | W24: 자재 20
A25: 54C5135B2162D713226419E55811076C5EC9D2 | B25: 자동복귀형 셀렉터스위치 | C25: 수동_자동 | D25: 개 | E25: 13500 | G25: 0 | I25: 0 | K25: 3800 | L25: 1226 | M25: 3800 | N25: 1278 | O25: =E25 -> 13500 | P25: 0 | Q25: 0 | R25: 0 | S25: 0 | T25: 0 | U25: 0 | V25: 0 | W25: 자재 21
A26: 54C5135B2162D713226419E55811076C5EC834 | B26: 푸쉬버튼 스위치(LED) | C26: D25A110V/220V(조광형) | D26: 개 | E26: 3100 | F26: M080447 | G26: 0 | I26: 0 | K26: 0 | M26: 0 | O26: =SMALL(E26:M26,COUNTIF(E26:M26,0)+1) -> 3100 | P26: 0 | Q26: 0 | R26: 0 | S26: 0 | T26: 0 | U26: 0 | V26: 0 | W26: 자재 22
A27: 54C5135B2162D7132266C3A5DBDE31E52BACB7 | B27: 신호등(LED) | C27: D25, AC 110/220V | D27: 개 | E27: 2900 | F27: M080446 | G27: 5800 | H27: 1089 | I27: 5800 | J27: 910 | K27: 5900 | L27: 1226 | M27: 5900 | N27: 1278 | O27: =SMALL(E27:M27,COUNTIF(E27:M27,0)+1) -> 2900 | P27: 0 | Q27: 0 | R27: 0 | S27: 0 | T27: 0 | U27: 0 | V27: 0 | W27: 자재 23
A28: 54C5135B2162D7132266C3A5DBDE31E52BACB3 | B28: FAULT LAMP | C28: SQUARE 난연성 | D28: 개 | E28: 0 | G28: 6100 | I28: 7300 | J28: 910 | K28: 6600 | L28: 1226 | M28: 6600 | N28: 1278 | O28: =SMALL(E28:M28,COUNTIF(E28:M28,0)+1) -> 6100 | P28: 0 | Q28: 0 | R28: 0 | S28: 0 | T28: 0 | U28: 0 | V28: 0 | W28: 자재 24
A29: 54C5135B2162D7102560BFEA469ABC75CFCD25 | B29: 누전차단기(ELCB) | C29: 분전반형, 2P 30AF | D29: 개 | E29: 12000 | F29: M081270 | G29: 13900 | H29: 1065 | I29: 13900 | J29: 901 | K29: 13900 | L29: 1185 | M29: 13900 | N29: 1262 | O29: =SMALL(E29:M29,COUNTIF(E29:M29,0)+1) -> 12000 | P29: 0 | Q29: 0 | R29: 0 | S29: 0 | T29: 0 | U29: 0 | V29: 0 | W29: 자재 25
A30: 54C5135B2162D7102560BFEA469ABC75CFCD24 | B30: 누전차단기(ELCB) | C30: 표준형, 460V 3P 30AF | D30: 개 | E30: 56500 | F30: M081272 | G30: 0 | I30: 0 | K30: 0 | M30: 0 | O30: =SMALL(E30:M30,COUNTIF(E30:M30,0)+1) -> 56500 | P30: 0 | Q30: 0 | R30: 0 | S30: 0 | T30: 0 | U30: 0 | V30: 0 | W30: 자재 26
A31: 54C5135B2162D7102560BD39574BF04D261B51 | B31: 배선용차단기(MCCB) | C31: 표준형 460V 2P 30AF | D31: 개 | E31: 24000 | F31: M081210 | G31: 0 | I31: 0 | K31: 0 | M31: 0 | O31: =SMALL(E31:M31,COUNTIF(E31:M31,0)+1) -> 24000 | P31: 0 | Q31: 0 | R31: 0 | S31: 0 | T31: 0 | U31: 0 | V31: 0 | W31: 자재 27
A32: 54C5135B2162D7102560BD39574BF04D261B50 | B32: 배선용차단기(MCCB) | C32: 표준형 460V 2P 50AF | D32: 개 | E32: 36000 | F32: M081210 | G32: 40100 | H32: 1069 | I32: 40100 | J32: 895 | K32: 40100 | L32: 1178 | M32: 40100 | N32: 1263 | O32: =SMALL(E32:M32,COUNTIF(E32:M32,0)+1) -> 36000 | P32: 0 | Q32: 0 | R32: 0 | S32: 0 | T32: 0 | U32: 0 | V32: 0 | W32: 자재 28
A33: 54C5135B2162D7102560BD39574BF04D261B5F | B33: 배선용차단기(MCCB) | C33: 표준형 460V 4P 50AF | D33: 개 | E33: 55000 | F33: M081219 | G33: 0 | I33: 0 | K33: 0 | M33: 0 | O33: =SMALL(E33:M33,COUNTIF(E33:M33,0)+1) -> 55000 | P33: 0 | Q33: 0 | R33: 0 | S33: 0 | T33: 0 | U33: 0 | V33: 0 | W33: 자재 29
A34: 54BB23242069E4D729699D2A05D706119D7324 | B34: VPN | C34: 영상, 데이터용 | D34: 대 | E34: 3000000 | G34: 0 | I34: 0 | K34: 0 | M34: 0 | O34: =SMALL(E34:M34,COUNTIF(E34:M34,0)+1) -> 3000000 | P34: 0 | Q34: 0 | R34: 0 | S34: 0 | T34: 0 | U34: 0 | V34: 0 | W34: 자재 30
A35: 54BB23242069E4D729699D2A05D706119D7327 | B35: VPN(LTE) | C35: 데이터용 | D35: 대 | E35: 1800000 | G35: 0 | I35: 0 | K35: 0 | M35: 0 | O35: =SMALL(E35:M35,COUNTIF(E35:M35,0)+1) -> 1800000 | P35: 0 | Q35: 0 | R35: 0 | S35: 0 | T35: 0 | U35: 0 | V35: 0 | W35: 자재 31
A36: 54BB23242069E4D729699D2A05D706119D7323 | B36: 스위치 허브(제조) | C36: 8PORT | D36: 대 | E36: 0 | G36: 98000 | H36: 1379 | I36: 119600 | J36: 1219 | K36: 89000 | L36: 73(하) | M36: 80900 | N36: 1359 | O36: =SMALL(E36:M36,COUNTIF(E36:M36,0)+1) -> 80900 | P36: 0 | Q36: 0 | R36: 0 | S36: 0 | T36: 0 | U36: 0 | V36: 0 | W36: 자재 32
A37: 549873FA256B27B12D60FCA25D83FA81BC7ABD | B37: 판넬내진장치 | C37: 내진베어링(스프링),방진패드 | D37: SET | E37: 0 | G37: 880000 | H37: 1263 | I37: 850000 | J37: 769 | K37: 850000 | L37: 1079 | M37: 0 | O37: =SMALL(E37:M37,COUNTIF(E37:M37,0)+1) -> 850000 | P37: 0 | Q37: 0 | R37: 0 | S37: 0 | T37: 0 | U37: 0 | V37: 0 | W37: 자재 33
A38: 533EF3E6236AC2442B657C7C475E1F8BCBAFE9 | B38: 특별인부 | C38: 일반공사 직종 | D38: 인 | E38: 0 | G38: 0 | I38: 0 | K38: 0 | M38: 0 | O38: 0 | P38: 226122 | Q38: 0 | R38: 0 | S38: 0 | T38: 0 | U38: 0 | V38: 0 | W38: 노임 1 | Y38: B
A39: 533EF3E6236AC2442B657C7C475E1F8BCBA793 | B39: 통신설비공 | C39: 일반공사 직종 | D39: 인 | E39: 0 | G39: 0 | I39: 0 | K39: 0 | M39: 0 | O39: 0 | P39: 315528 | Q39: 0 | R39: 0 | S39: 0 | T39: 0 | U39: 0 | V39: 0 | W39: 노임 2 | Y39: B
A40: 533EF3E6236AC2442B657C7C475E1F8BCBA79D | B40: 통신케이블공 | C40: 일반공사 직종 | D40: 인 | E40: 0 | G40: 0 | I40: 0 | K40: 0 | M40: 0 | O40: 0 | P40: 436224 | Q40: 0 | R40: 0 | S40: 0 | T40: 0 | U40: 0 | V40: 0 | W40: 노임 3 | Y40: B
A41: 533EF3E6236AC2442B657881DC479ADA07EE2B | B41: 통신관련산업기사 | C41: 기타 직종 | D41: 인 | E41: 0 | G41: 0 | I41: 0 | K41: 0 | M41: 0 | O41: 0 | P41: 304509 | Q41: 0 | R41: 0 | S41: 0 | T41: 0 | U41: 0 | V41: 0 | W41: 노임 4 | Y41: B
A42: 533EF3E6236AC2462662319BA56CD344755C13 | B42: 컴퓨터운용사 | C42: 제조부문 | D42: 인 | E42: 0 | G42: 0 | I42: 0 | K42: 0 | M42: 0 | O42: 0 | P42: 144458 | Q42: 0 | R42: 0 | S42: 0 | T42: 0 | U42: 0 | V42: 0 | W42: 노임 5 | X42: 중소기업중앙회 | Y42: B
A43: 533EF3E6236AC2462662319BA56CD344755947 | B43: 전기기계조립원 | C43: 제조부문 | D43: 인 | E43: 0 | G43: 0 | I43: 0 | K43: 0 | M43: 0 | O43: 0 | P43: 122522 | Q43: 0 | R43: 0 | S43: 0 | T43: 0 | U43: 0 | V43: 0 | W43: 노임 6 | X43: 중소기업중앙회 | Y43: B
A44: 533EF3E6236AC2462662319BA56CD344755B0E | B44: 전선원 | C44: 제조부문 | D44: 인 | E44: 0 | G44: 0 | I44: 0 | K44: 0 | M44: 0 | O44: 0 | P44: 99248 | Q44: 0 | R44: 0 | S44: 0 | T44: 0 | U44: 0 | V44: 0 | W44: 노임 7 | X44: 중소기업중앙회 | Y44: B
A45: 533EF3E6236AC2462662319BA56CD344755B0F | B45: 단순노무종사원 | C45: 제조부문 | D45: 인 | E45: 0 | G45: 0 | I45: 0 | K45: 0 | M45: 0 | O45: 0 | P45: 90694 | Q45: 0 | R45: 0 | S45: 0 | T45: 0 | U45: 0 | V45: 0 | W45: 노임 8 | X45: 중소기업중앙회 | Y45: B
A46: 532C83DA2A65E9E02D628BB8153305EC62BA16 | B46: NOISE FILTER | D46: 개 | E46: 59400 | F46: M061200 | G46: 0 | I46: 0 | K46: 0 | M46: 0 | O46: =SMALL(E46:M46,COUNTIF(E46:M46,0)+1) -> 59400 | P46: 0 | Q46: 0 | R46: 0 | S46: 0 | T46: 0 | U46: 0 | V46: 0 | W46: 자재 34
A47: 532C83DA2A65E9E32A654AFDB3F970604E99FF | B47: 서지보호기(카운터)3상4선 | C47: 전원용 Class2, In 20kA이상, Imax 40kA이상,누설전류 검출 | D47: SET | E47: 1850000 | F47: M061231 | G47: 0 | I47: 0 | K47: 0 | M47: 0 | O47: =SMALL(E47:M47,COUNTIF(E47:M47,0)+1) -> 1850000 | P47: 0 | Q47: 0 | R47: 0 | S47: 0 | T47: 0 | U47: 0 | V47: 0 | W47: 자재 35
A48: 532C83DA2A65E9E32A628F87B7A3754F293BF6 | B48: 서지보호기(카운터)1상2선 | C48: 전원용 Class2, In 40kA이상, Imax 80kA이상,누설전류검출 | D48: SET | E48: 1450000 | F48: M061234 | G48: 0 | I48: 0 | K48: 0 | M48: 0 | O48: =SMALL(E48:M48,COUNTIF(E48:M48,0)+1) -> 1450000 | P48: 0 | Q48: 0 | R48: 0 | S48: 0 | T48: 0 | U48: 0 | V48: 0 | W48: 자재 36
A49: 532C83DA2A65E9E32A628F87B7A3754F293BF7 | B49: 서지보호기(카운터)1상2선 | C49: 전원용 Class2, In 20kA이상, Imax 40kA이상,누설전류 | D49: SET | E49: 1100000 | F49: M061233 | G49: 0 | I49: 0 | K49: 0 | M49: 0 | O49: =SMALL(E49:M49,COUNTIF(E49:M49,0)+1) -> 1100000 | P49: 0 | Q49: 0 | R49: 0 | S49: 0 | T49: 0 | U49: 0 | V49: 0 | W49: 자재 37
A50: 532C83DA2A65E9E32A6EA018A80CA7B3F16BD0 | B50: 서지보호기(카운터) | C50: 신호용 5V/24V, 4~20mA, 20kA이상 | D50: 개 | E50: 385000 | F50: M061238 | G50: 0 | I50: 0 | K50: 90000 | L50: 물가정보1297 | M50: 0 | O50: =E50 -> 385000 | P50: 0 | Q50: 0 | R50: 0 | S50: 0 | T50: 0 | U50: 0 | V50: 0 | W50: 자재 38
A51: 532C83DA2A65E9E32A6F4782B953975FB1AFB4 | B51: 서지보호기(카운터) | C51: 통신(이더넷용) 20kA이상 | D51: 개 | E51: 385000 | F51: M061239 | G51: 0 | I51: 0 | K51: 110000 | L51: 물가정보1297 | M51: 0 | O51: =E51 -> 385000 | P51: 0 | Q51: 0 | R51: 0 | S51: 0 | T51: 0 | U51: 0 | V51: 0 | W51: 자재 39
A52: 532C83DA2A65E9E4246DD4686F8D558DED7972 | B52: 서지보호기(카운터) | C52: CCTV용(통신,영상) 20kA이상 | D52: 개 | E52: 285000 | F52: M061238 | G52: 0 | I52: 0 | K52: 110000 | L52: 물가정보1297 | M52: 0 | O52: =E52 -> 285000 | P52: 0 | Q52: 0 | R52: 0 | S52: 0 | T52: 0 | U52: 0 | V52: 0 | W52: 자재 40
A53: 532C83DB246251A92C64B027BF79B4D39CFAC9 | B53: 큐비클 외함(자립형) | C53: ST 1.6(W)x1.2(D)x2.35(H) | D53: 면 | E53: 3917500 | F53: M079020 | G53: 0 | I53: 0 | K53: 0 | M53: 0 | O53: =SMALL(E53:M53,COUNTIF(E53:M53,0)+1) -> 3917500 | P53: 0 | Q53: 0 | R53: 0 | S53: 0 | T53: 0 | U53: 0 | V53: 0 | W53: 자재 41
A54: 532C83DB246251A92C64B027BF79B4D39CFAC8 | B54: 큐비클 외함(자립형) | C54: ST 0.8(W)x2.0(D)x2.35(H) | D54: 면 | E54: 2720500 | F54: M079020 | G54: 0 | I54: 0 | K54: 0 | M54: 0 | O54: =SMALL(E54:M54,COUNTIF(E54:M54,0)+1) -> 2720500 | P54: 0 | Q54: 0 | R54: 0 | S54: 0 | T54: 0 | U54: 0 | V54: 0 | W54: 자재 42
A55: 532C83DB246251A92C64B027BF79B4D39CFBE6 | B55: 큐비클 외함(자립형) | C55: STS 0.8(W)x0.6(D)x1.8(H) | D55: 면 | E55: 1274000 | F55: M079061 | G55: 0 | I55: 0 | K55: 0 | M55: 0 | O55: =SMALL(E55:M55,COUNTIF(E55:M55,0)+1) -> 1274000 | P55: 0 | Q55: 0 | R55: 0 | S55: 0 | T55: 0 | U55: 0 | V55: 0 | W55: 자재 43
A56: 532C83DB246251A92C64B027BF79B4D39CFBE4 | B56: 큐비클 외함(자립형) | C56: STS 1.2(W)x0.6(D)x1.8(H) | D56: 면 | E56: 1911000 | G56: 0 | I56: 0 | K56: 0 | M56: 0 | O56: =SMALL(E56:M56,COUNTIF(E56:M56,0)+1) -> 1911000 | P56: 0 | Q56: 0 | R56: 0 | S56: 0 | T56: 0 | U56: 0 | V56: 0 | W56: 자재 44
A57: 532C83DB246251A32B6F5F1F2B6300F3696662 | B57: DOOR STOPPER | C57: STS | D57: 개 | E57: 10000 | F57: M079085 | G57: 0 | I57: 0 | K57: 0 | M57: 0 | O57: =SMALL(E57:M57,COUNTIF(E57:M57,0)+1) -> 10000 | P57: 0 | Q57: 0 | R57: 0 | S57: 0 | T57: 0 | U57: 0 | V57: 0 | W57: 자재 45
A58: 532C83DB24625085286E4570A506FEA6BBE783 | B58: FAN | C58: AC 220V 150mm | D58: 개 | E58: 30000 | F58: M079103 | G58: 0 | I58: 0 | K58: 0 | M58: 0 | O58: =SMALL(E58:M58,COUNTIF(E58:M58,0)+1) -> 30000 | P58: 0 | Q58: 0 | R58: 0 | S58: 0 | T58: 0 | U58: 0 | V58: 0 | W58: 자재 46
A59: 532C83DB246250852869C4DC668D8D07AB9B4A | B59: SPACE HEATER | C59: AC 220V 100W | D59: 개 | E59: 13970 | F59: M079104 | G59: 0 | I59: 0 | K59: 0 | M59: 0 | O59: =SMALL(E59:M59,COUNTIF(E59:M59,0)+1) -> 13970 | P59: 0 | Q59: 0 | R59: 0 | S59: 0 | T59: 0 | U59: 0 | V59: 0 | W59: 자재 47
A60: 532C83DB2462508528683D4B3EB2B53FCDE66E | B60: THERMOSTAT | C60: AC 220V 0~250℃ | D60: 개 | E60: 15970 | F60: M079105 | G60: 0 | I60: 0 | K60: 0 | M60: 0 | O60: =SMALL(E60:M60,COUNTIF(E60:M60,0)+1) -> 15970 | P60: 0 | Q60: 0 | R60: 0 | S60: 0 | T60: 0 | U60: 0 | V60: 0 | W60: 자재 48
A61: 532C83DB24625085286BF1315ED4064EA31E51 | B61: 전등 (배전반용) | C61: 삼파장 전구형, AC 220V 20W | D61: 개 | E61: 4100 | F61: M079106 | G61: 0 | I61: 0 | K61: 0 | M61: 0 | O61: =SMALL(E61:M61,COUNTIF(E61:M61,0)+1) -> 4100 | P61: 0 | Q61: 0 | R61: 0 | S61: 0 | T61: 0 | U61: 0 | V61: 0 | W61: 자재 49
A62: 532C83DB246250872B6C4191A71FC3957671E8 | B62: PVC DUCT | C62: 40 x 60 x 2m, W/COVER | D62: 개 | E62: 4680 | F62: M079127 | G62: 0 | I62: 0 | K62: 0 | M62: 0 | O62: =SMALL(E62:M62,COUNTIF(E62:M62,0)+1) -> 4680 | P62: 0 | Q62: 0 | R62: 0 | S62: 0 | T62: 0 | U62: 0 | V62: 0 | W62: 자재 50
A63: 532C83DB246250812163BDD59C957DF39B62CC | B63: 신호분배기 | C63: 1채널 입력, 2채널 출력:4~20mA | D63: 개 | E63: 220000 | F63: M079141 | G63: 0 | I63: 0 | K63: 0 | M63: 0 | O63: =SMALL(E63:M63,COUNTIF(E63:M63,0)+1) -> 220000 | P63: 0 | Q63: 0 | R63: 0 | S63: 0 | T63: 0 | U63: 0 | V63: 0 | W63: 자재 51
A64: 532C83DB246250812160E9765D2A913DA7F3D1 | B64: 디지털표시기 | C64: 입력:4~20mA, 4 Digit, 출력단자 | D64: 개 | E64: 150000 | F64: M079142 | G64: 0 | I64: 0 | K64: 0 | M64: 0 | O64: =SMALL(E64:M64,COUNTIF(E64:M64,0)+1) -> 150000 | P64: 0 | Q64: 0 | R64: 0 | S64: 0 | T64: 0 | U64: 0 | V64: 0 | W64: 자재 52
A65: 532C83DB246250812160E9765D2A913DA7F3D0 | B65: 전자식과전류계전기(EOCR-단자형) | C65: 디지털표시부부착 | D65: 개 | E65: 125000 | F65: M080281 | G65: 0 | I65: 0 | K65: 0 | M65: 0 | O65: =SMALL(E65:M65,COUNTIF(E65:M65,0)+1) -> 125000 | P65: 0 | Q65: 0 | R65: 0 | S65: 0 | T65: 0 | U65: 0 | V65: 0 | W65: 자재 53
A66: 532C83D4216CE5352E6242CDF1102164908EE9 | B66: 보조릴레이 | C66: 2A,2B(AC용) | D66: 개 | E66: 13700 | F66: M080500 | G66: 0 | I66: 0 | K66: 0 | M66: 0 | O66: =SMALL(E66:M66,COUNTIF(E66:M66,0)+1) -> 13700 | P66: 0 | Q66: 0 | R66: 0 | S66: 0 | T66: 0 | U66: 0 | V66: 0 | W66: 자재 54
A67: 532C83D4216CE5352E6369D75BC0FC23509F99 | B67: 보조릴레이 | C67: 4A,4B(AC용) | D67: 개 | E67: 19560 | F67: M080501 | G67: 0 | I67: 0 | K67: 0 | M67: 0 | O67: =SMALL(E67:M67,COUNTIF(E67:M67,0)+1) -> 19560 | P67: 0 | Q67: 0 | R67: 0 | S67: 0 | T67: 0 | U67: 0 | V67: 0 | W67: 자재 55
A68: 532C83D42168026C2E6401AE4FEFE63BE84833 | B68: KRC-HMI SOFTWARE FEE | C68: 표준화면 구성 | D68: 화면 | E68: 536000 | F68: M084738 | G68: 0 | I68: 0 | K68: 0 | M68: 0 | O68: =SMALL(E68:M68,COUNTIF(E68:M68,0)+1) -> 536000 | P68: 0 | Q68: 0 | R68: 0 | S68: 0 | T68: 0 | U68: 0 | V68: 0 | W68: 자재 56
... A76: 532C83D421680D7823696CFE30FDA9CC0666A3 | B76: POWER SUPPLY | C76: DC 24V 10A | D76: 개 | E76: 550000 | F76: M084821 | G76: 0 | I76: 0 | K76: 0 | M76: 0 | O76: =SMALL(E76:M76,COUNTIF(E76:M76,0)+1) -> 550000 | P76: 0 | Q76: 0 | R76: 0 | S76: 0 | T76: 0 | U76: 0 | V76: 0 | W76: 자재 64
A77: 532C83D421680D732B671265C43313EDD89933 | B77: PLC SOFTWARE FEE | C77: DIGITAL INPUT/OUTPUT | D77: 점 | E77: 63000 | F77: M084890 | G77: 0 | I77: 0 | K77: 55000 | L77: 1205 | M77: 55000 | N77: 1285 | O77: =E77 -> 63000 | P77: 0 | Q77: 0 | R77: 0 | S77: 0 | T77: 0 | U77: 0 | V77: 0 | W77: 자재 65
A78: 532C83D421680D732B660B730DE1D54752D507 | B78: PLC SOFTWARE FEE | C78: ANALOG INPUT/OUTPUT | D78: 점 | E78: 126000 | F78: M084891 | G78: 0 | I78: 0 | K78: 110000 | L78: 1205 | M78: 110000 | N78: 1285 | O78: =E78 -> 126000 | P78: 0 | Q78: 0 | R78: 0 | S78: 0 | T78: 0 | U78: 0 | V78: 0 | W78: 자재 66
A79: 532C83D421680D732B660B730DE1D5464BE3B0 | B79: PLC SOFTWARE FEE | C79: 통신(RS-232/485/이더넷) | D79: 점 | E79: 379000 | F79: M084892 | G79: 0 | I79: 0 | K79: 330000 | L79: 1205 | M79: 330000 | N79: 1285 | O79: =E79 -> 379000 | P79: 0 | Q79: 0 | R79: 0 | S79: 0 | T79: 0 | U79: 0 | V79: 0 | W79: 자재 67
A80: 532C83D421680C532D6C1797DDE81511D35146 | B80: 전원 모듈(PLC) | C80: DC 5V/24V, 3.5A 이상 | D80: 개 | E80: 188000 | F80: M084900 | G80: 0 | I80: 0 | K80: 176000 | L80: 1204 | M80: 176000 | N80: 1284 | O80: =E80 -> 188000 | P80: 0 | Q80: 0 | R80: 0 | S80: 0 | T80: 0 | U80: 0 | V80: 0 | W80: 자재 68
A81: 532C83D421680C532D6D3EA08076F736210E47 | B81: CPU 모듈(PLC) | C81: 84ns/Step 이하, 3,000점 이상 | D81: 개 | E81: 989000 | F81: M084901 | G81: 0 | I81: 0 | K81: 896000 | L81: 1204 | M81: 896000 | N81: 1284 | O81: =E81 -> 989000 | P81: 0 | Q81: 0 | R81: 0 | S81: 0 | T81: 0 | U81: 0 | V81: 0 | W81: 자재 69
A82: 532C83D421680C532D6FEB34E13F31D1D6CDCE | B82: 통신 모듈(PLC) | C82: ETHERNET, TCP/IP | D82: 개 | E82: 1064000 | F82: M084903 | G82: 0 | I82: 0 | K82: 854000 | L82: 1204 | M82: 854000 | N82: 1284 | O82: =E82 -> 1064000 | P82: 0 | Q82: 0 | R82: 0 | S82: 0 | T82: 0 | U82: 0 | V82: 0 | W82: 자재 70
A83: 532C83D421680C532D68BC663FEC671205CCC8 | B83: 통신 모듈(PLC) | C83: RS-232C, RS-422 | D83: 개 | E83: 423000 | F83: M084904 | G83: 0 | I83: 0 | K83: 381000 | L83: 1204 | M83: 381000 | N83: 1284 | O83: =E83 -> 423000 | P83: 0 | Q83: 0 | R83: 0 | S83: 0 | T83: 0 | U83: 0 | V83: 0 | W83: 자재 71
A84: 532C83D421680C532D68BC663FEC671205CCC9 | B84: 디지털 입력 모듈 (PLC) | C84: 16P | D84: 개 | E84: 135000 | F84: M084905 | G84: 0 | I84: 0 | K84: 0 | M84: 0 | O84: =E84 -> 135000 | P84: 0 | Q84: 0 | R84: 0 | S84: 0 | T84: 0 | U84: 0 | V84: 0 | W84: 자재 72
A85: 532C83D421680C532D6A6AC287E6E325A2D350 | B85: 디지털 입력 모듈 (PLC) | C85: 32P | D85: 개 | E85: 223000 | F85: M084906 | G85: 0 | I85: 0 | K85: 205000 | L85: 1204 | M85: 205000 | N85: 1284 | O85: =E85 -> 223000 | P85: 0 | Q85: 0 | R85: 0 | S85: 0 | T85: 0 | U85: 0 | V85: 0 | W85: 자재 73
A86: 532C83D421680C532D6B702C267F7C74A1AE1E | B86: 디지털 출력 모듈 (PLC) | C86: 16P, 릴레이 출력 | D86: 개 | E86: 162000 | F86: M084907 | G86: 0 | I86: 0 | K86: 150000 | L86: 1204 | M86: 150000 | N86: 1284 | O86: =E86 -> 162000 | P86: 0 | Q86: 0 | R86: 0 | S86: 0 | T86: 0 | U86: 0 | V86: 0 | W86: 자재 74
A87: 532C83D421680C532D64C1FDD5FCBE80488CF6 | B87: 디지털 출력 모듈 (PLC) | C87: 32P, 릴레이 출력 | D87: 개 | E87: 255000 | F87: M084908 | G87: 0 | I87: 0 | K87: 0 | M87: 0 | O87: =SMALL(E87:M87,COUNTIF(E87:M87,0)+1) -> 255000 | P87: 0 | Q87: 0 | R87: 0 | S87: 0 | T87: 0 | U87: 0 | V87: 0 | W87: 자재 75
A88: 532C83D421680C522366F5AC31E38C7C76D83F | B88: 아날로그 입력 모듈 (PLC) | C88: 8P | D88: 개 | E88: 865000 | F88: M084910 | G88: 0 | I88: 0 | K88: 794000 | L88: 1204 | M88: 794000 | N88: 1284 | O88: =E88 -> 865000 | P88: 0 | Q88: 0 | R88: 0 | S88: 0 | T88: 0 | U88: 0 | V88: 0 | W88: 자재 76
A89: 532C83D421680C522366F5AC31E38C7C76D83E | B89: 아날로그 입력 모듈 (PLC) | C89: 16P | D89: 개 | E89: 1298000 | F89: M084911 | G89: 0 | I89: 0 | K89: 0 | M89: 0 | O89: =SMALL(E89:M89,COUNTIF(E89:M89,0)+1) -> 1298000 | P89: 0 | Q89: 0 | R89: 0 | S89: 0 | T89: 0 | U89: 0 | V89: 0 | W89: 자재 77
A90: 532C83D421680C522366F5AC31E38C7D1D4317 | B90: DUMMY MODULE (PLC) | C90: 전원 Slot 방진 | D90: 개 | E90: 0 | G90: 10000 | I90: 0 | K90: 0 | M90: 0 | O90: =SMALL(E90:M90,COUNTIF(E90:M90,0)+1) -> 10000 | P90: 0 | Q90: 0 | R90: 0 | S90: 0 | T90: 0 | U90: 0 | V90: 0 | W90: 자재 78
A91: 532C83D421680C522365EEBB001B07CE9342DB | B91: 기본, 증설 베이스(PLC) | C91: 12모듈 장착용 | D91: 개 | E91: 322000 | F91: M084913 | G91: 0 | I91: 0 | K91: 344000 | L91: 1204 | M91: 344000 | N91: 1284 | O91: =E91 -> 322000 | P91: 0 | Q91: 0 | R91: 0 | S91: 0 | T91: 0 | U91: 0 | V91: 0 | W91: 자재 79
A92: 532C83D421692A07206C0BB2825E93825C89B5 | B92: 자동소화장치(설치비포함) | C92: HFC227ea 0.6kg(방호체적 1.6㎥) | D92: SET | E92: 1460000 | F92: M085177 | G92: 0 | I92: 0 | K92: 0 | M92: 0 | O92: =SMALL(E92:M92,COUNTIF(E92:M92,0)+1) -> 1460000 | P92: 0 | Q92: 0 | R92: 0 | S92: 0 | T92: 0 | U92: 0 | V92: 0 | W92: 자재 80
A93: 532C83D421692A072063252BAE36E963734640 | B93: 자동소화장치(설치비포함) | C93: HFC227ea 2kg(방호체적 3.6㎥) | D93: SET | E93: 1680000 | F93: M085178 | G93: 1680000 | H93: 1188 | I93: 0 | K93: 1680000 | L93: 985 | M93: 2000000 | N93: 1408 | O93: =SMALL(E93:M93,COUNTIF(E93:M93,0)+1) -> 1680000 | P93: 0 | Q93: 0 | R93: 0 | S93: 0 | T93: 0 | U93: 0 | V93: 0 | W93: 자재 81
A94: 532C83D421692A072063252BAE36E963734767 | B94: LCD 모니터(LED Type) | C94: 화면: 68cm(27형) 해상도: 1,980*1,080(FHD)이상, | D94: 개 | E94: 400000 | F94: M084762 | G94: 0 | I94: 0 | K94: 0 | M94: 0 | O94: =SMALL(E94:M94,COUNTIF(E94:M94,0)+1) -> 400000 | P94: 0 | Q94: 0 | R94: 0 | S94: 0 | T94: 0 | U94: 0 | V94: 0 | W94: 자재 82
A95: 532C83D421692A072063252BAE36E963734765 | B95: 워크스테이션 컴퓨터(O.S포함) | C95: Xeon GOLD 옥타코어, SSD 1TB 이상 | D95: 개 | E95: 9352000 | F95: M084705 | G95: 0 | I95: 0 | K95: 0 | M95: 0 | O95: =SMALL(E95:M95,COUNTIF(E95:M95,0)+1) -> 9352000 | P95: 0 | Q95: 0 | R95: 0 | S95: 0 | T95: 0 | U95: 0 | V95: 0 | W95: 자재 83
A96: 532C83D421692A072063252BAE36E963734764 | B96: KRC-HMI SOFTWARE | C96: 무한 포인트 런타임 | D96: 개 | E96: 5600000 | F96: M084737 | G96: 0 | I96: 0 | K96: 0 | M96: 0 | O96: =SMALL(E96:M96,COUNTIF(E96:M96,0)+1) -> 5600000 | P96: 0 | Q96: 0 | R96: 0 | S96: 0 | T96: 0 | U96: 0 | V96: 0 | W96: 자재 84
A97: 532C83D421692A072063252BAE36E963734763 | B97: CCTV 감시용 TV | C97: 65인치 | D97: 개 | E97: 0 | G97: 0 | I97: 0 | K97: 0 | M97: 1120000 | O97: =SMALL(E97:M97,COUNTIF(E97:M97,0)+1) -> 1120000 | P97: 0 | Q97: 0 | R97: 0 | S97: 0 | T97: 0 | U97: 0 | V97: 0 | W97: 자재 85
A98: 532C83D421692A072063252BAE36E963734762 | B98: CCTV 감시용 TV 거치대 | C98: 65인치, 천장형 | D98: 개 | E98: 0 | G98: 0 | I98: 0 | K98: 0 | M98: 250000 | O98: =SMALL(E98:M98,COUNTIF(E98:M98,0)+1) -> 250000 | P98: 0 | Q98: 0 | R98: 0 | S98: 0 | T98: 0 | U98: 0 | V98: 0 | W98: 자재 86

Sheet  공사설정 
A1: 이 Sheet는 수정하지 마십시요
A2: 공사구분 | B2: D
A3: 확정내역 | B3: 원내역
A4: 자재단가적용 | B4: 5
A5: 경비단가적용 | B5: 5
A6: 품목코드형식 | B6: XXXX-XXXX-XXXXXXXX
A7: 내역금액소수점처리 | B7: C | C7: 1
A8: 일위대가내역소수점처리 | B8: C | C8: 2
A9: 단가명 | B9: 농어촌공사 | C9: 거래가격 | D9: 유통물가 | E9: 물가자료 | F9: 조사가격 | G9: TTTTT
A10: 환율 | B10: 1095.1 | C10: 0 | D10: 0
A11: 시간당작업량 | B11: R | C11: 3
A12: 1회 사이클시간 | B12: R | C12: 3
A13: 시간당 작업사이클 | B13: R | C13: 2
A14: 일반변수 | B14: C | C14: 5
A15: 시간당 노임산출 계수 | B15: A | C15: 1/8*16/12*25/20 | D15: 1/8*16/12*25/20 | E15: 1/8*16/12*25/20 | F15: 1
A16: 재료비 할증 계수 | B16: 0 | C16: 0
A17: 노무비 할증 계수 | B17: 0 | C17: 0 | D17: 0 | E17: 0 | F17: 0 | G17: 0 | H17: 0 | I17: 0 | J17: 0 | K17: 0 | L17: 0 | M17: 0
A18: 경비 할증 계수 | B18: 0 | C18: 0
A19: 내역,일위대가 품명,규격,단위 따로적용
A20: 내역단가 소수점처리 | C20: 1
A21: 코드 | B21: 공종구분명 | C21: 원가비목코드
A22: 1 | B22: 작 업 부 산 물 | C22: A3
A23: 2 | B23: 운 반 비 | C23: C1
A24: 3 | B24: 관 급 자 재 비 | C24: DJ
A25: 4 | B25: 사 급 자 재 비 | C25: D3
A26: 5 | B26: 외 자 재
A27: 6 | B27: 재해예방기술지도 | C27: DL
A28: 7
A29: 8 | B29: ...
A30: 9 | B30: ...

Sheet Sheet1
