Workbook
Name _15A: #REF!
Name _B22: [1]일위대가!$1400:$1413=[1]일위대가!$A$1400
Name _Fir1: #REF!
Name _Fir2: #REF!
Name _K02: [1]일위대가!$732:$745=[1]일위대가!$A$732
Name _ll15: #REF!
Name _O03: [1]일위대가!$1516:$1529=[1]일위대가!$A$1516
Name AA: #REF!,#REF!
Name accum: #REF!
Name ADD: #REF!
Name AFC설비: #REF!
Name CCTV설비: #REF!
Name CODE: #REF!
Name CV14_2C: [2]단가!#REF!
Name CV14_4C: [2]단가!#REF!
Name CV5.5_2: [2]단가!#REF!
Name CV5.5_4C: [2]단가!#REF!
Name CV8_2C: [2]단가!#REF!
Name CV8_4C: [2]단가!#REF!
Name DANGA: '[3]Y-WORK'!$D$19:$D$19,'[3]Y-WORK'!$F$19:$BD$19
Name DANGA_: '[4]Y-WORK'!$D$19:$D$19,'[4]Y-WORK'!$F$19:$BD$19
Name E25M: [5]전기일위대가!#REF!
Name E25P: [5]전기일위대가!#REF!
Name E31E: [5]전기일위대가!#REF!
Name E31M: [5]전기일위대가!#REF!
Name E31P: [5]전기일위대가!#REF!
Name E32E: [5]전기일위대가!#REF!
Name E32M: [5]전기일위대가!#REF!
Name E32P: [5]전기일위대가!#REF!
Name E33E: [5]전기일위대가!#REF!
Name E33M: [5]전기일위대가!#REF!
Name E33P: [5]전기일위대가!#REF!
Name E34E: [5]전기일위대가!#REF!
Name E34M: [5]전기일위대가!#REF!
Name E34P: [5]전기일위대가!#REF!
Name E36M: [5]전기일위대가!#REF!
Name E36P: [5]전기일위대가!#REF!
Name E37M: [5]전기일위대가!#REF!
Name E37P: [5]전기일위대가!#REF!
Name E38M: [5]전기일위대가!#REF!
Name E38P: [5]전기일위대가!#REF!
Name E39M: [5]전기일위대가!#REF!
Name E39P: [5]전기일위대가!#REF!
Name E40M: [5]전기일위대가!#REF!
Name E40P: [5]전기일위대가!#REF!
Name E41M: [5]전기일위대가!#REF!
Name E41P: [5]전기일위대가!#REF!
Name E42M: [5]전기일위대가!#REF!
Name E42P: [5]전기일위대가!#REF!
Name E48M: [5]전기일위대가!#REF!
Name E48P: [5]전기일위대가!#REF!
Name E52M: [5]전기일위대가!#REF!
Name E52P: [5]전기일위대가!#REF!
Name E53M: [5]전기일위대가!#REF!
Name E53P: [5]전기일위대가!#REF!
Name E54M: [5]전기일위대가!#REF!
Name E54P: [5]전기일위대가!#REF!
Name E55M: [5]전기일위대가!#REF!
Name E55P: [5]전기일위대가!#REF!
Name E56M: [5]전기일위대가!#REF!

Sheet 갑지
A3: 공 내 역 서
B5: 공사명 : [ 수2처리장 이차침전지 공동구 조명기구 설치공사 ]
B6: 구 분 | E6: 금 액 | G6: 비고
B7: 총 공 사 비 | E7: ="금"&NUMBERSTRING(F7,1)&"원" -> 금영원 | F7: =원가계산서!D32 -> 0
B8: 도 급 비 | C8: 공 급 가 액 | E8: ="금"&NUMBERSTRING(F8,1)&"원" -> 금영원 | F8: =원가계산서!D28 -> 0
C9: 부 가 가 치 세 | E9: ="금"&NUMBERSTRING(F9,1)&"원" -> 금영원 | F9: =원가계산서!D29 -> 0
C10: 계 | E10: ="금"&NUMBERSTRING(F10,1)&"원" -> 금영원 | F10: =원가계산서!D30 -> 0
B12: o. 공사개요 : 4~6계열 이차침전지 공동구 조명기구 설치 및 전기공사 1식

Sheet 원가계산서
A1: 원가계산서
A2: =갑지!B5 -> 공사명 : [ 수2처리장 이차침전지 공동구 조명기구 설치공사 ]
A3: 구 분 비 목 | D3: 금액(원) | E3: 구성비(%) | F3: 적 용 요 율 | G3: 비 고
A4: 순 공 사 원 가 | B4: 재 료 비 | C4: 직접재료비
C5: 간접재료비
C6: 작업부산물(△)
C7: 소 계
B8: 노 무 비 | C8: 직접노무비
C9: 간접노무비 | F9: 17.5
C10: 소 계
B11: 제 경 비 | C11: 기계경비
C12: 산재보험료 | F12: 3.56
C13: 고용보험료 | F13: 1.01
C14: 건강보험료 | F14: 3.545 | H14: 공사기간 1개월 미만
C15: 노인장기요양보험료 | F15: 12.95 | H15: 공사기간 1개월 미만
C16: 연금보험료 | F16: 4.5 | H16: 공사기간 1개월 미만
C17: 퇴직공제부금비 | F17: 2.3 | H17: 추정금액 1억 미만
C18: 산업안전보건관리비 | F18: 2.07 | H18: 추정금액 2천만원 미만
C19: 기타경비 | F19: 5
C20: 환경보전비 | F20: 0.5
C21: 건설하도급대금지급 보증서발급수수료 | F21: =0.081 -> 0.081
C22: 소 계
A23: 계
A24: 일반관리비 | F24: 8
A25: 이윤 | F25: 15
A26: 고용개선지원비 (PS단가)
A27: 고재처리비
A28: 공급가액
A29: 부가가치세
A30: 도급금액
A31: 관급자재
A32: 총공사비

Sheet 총괄내역서
A1: 품 명 | B1: 규 격 | C1: 단위 | D1: 수량 | E1: 재 료 비 | G1: 노 무 비 | I1: 경 비 | K1: 합 계 | L1: 비 고
E2: 단 가 | F2: 금 액 | G2: 단 가 | H2: 금 액 | I2: 단 가 | J2: 금 액
A3: =갑지!B5 -> 공사명 : [ 수2처리장 이차침전지 공동구 조명기구 설치공사 ]
A4: =공종별내역서!A4 -> 재료비 | C4: 식 | D4: 1
A5: =공종별내역서!A18 -> 공사비 | C5: 식 | D5: 1
A6: 합계

Sheet 공종별내역서
A1: 품 명 | B1: 규 격 | C1: 단위 | D1: 수량 | E1: 재 료 비 | G1: 노 무 비 | I1: 경 비 | K1: 합 계 | L1: 비 고
E2: 단 가 | F2: 금 액 | G2: 단 가 | H2: 금 액 | I2: 단 가 | J2: 금 액
A3: =갑지!B5 -> 공사명 : [ 수2처리장 이차침전지 공동구 조명기구 설치공사 ]
A4: 재료비
A5: 경질비닐전선관 | B5: HI 22 mm | C5: M | D5: 138
A6: 1종금속제가요전선관 | B6: 22 mm 일반-방수 | C6: M | D6: 24
A7: 폴리에틸렌 난연케이블 | B7: 0.6/1kv F-CV 3C×2.5㎟ | C7: M | D7: 804
A8: 누전차단기(54c) | B8: 극수:4P 정격전류:15~50 차단전류(460V):18kA | C8: EA | D8: 3
A9: 풀박스 | B9: 200×200×150 | C9: 개 | D9: 3
A10: 강재전선관용 부품 | B10: 새들 (KS) 22c | C10: EA | D10: 48
A11: LED투광등 | B11: LED G3 방수 투광등 150W | C11: 개 | D11: 24
A16: 소계
A18: 공사비
A19: 경질비닐전선관 | B19: HI 22 mm | C19: M | D19: 138 | L19: 제1호표
A20: 1종금속제가요전선관 | B20: 22 mm 일반-방수 | C20: M | D20: 24 | L20: 제2호표
A21: 폴리에틸렌 난연케이블 | B21: 0.6/1kv F-CV 3C×2.5㎟ | C21: M | D21: 804 | L21: 제3호표
A22: 누전차단기(54c) | B22: 극수:4P 정격전류:15~50 차단전류(460V):18kA | C22: EA | D22: 3 | L22: 제4호표
A23: 풀박스 | B23: 200×200×150 | C23: 개 | D23: 3 | L23: 제5호표
A24: 강재전선관용 부품 | B24: 새들 (KS) 22c | C24: EA | D24: 48 | L24: 제6호표
A25: LED투광등 | B25: LED G3 방수 투광등 150W | C25: 개 | D25: 24 | L25: 제7호표
A29: 소계
A30: 합계

Sheet 단가산출서
A1: 단가산출서
A3: 품명 | B3: 규격 | C3: 단위 | D3: 시설단가(조달) | F3: 물가정보(25.11) | H3: 거래가격(25.11) | J3: 견적 A | K3: 견적 B | L3: 적용단가(원)
D5: page | E5: 단가(원) | F5: page | G5: 단가(원) | H5: page | I5: 단가(원) | J5: 단가(원) | K5: 단가(원)
A6: 경질비닐전선관 | B6: HI 22 mm | C6: M
A7: 1종금속제가요전선관 | B7: 22 mm 일반-방수 | C7: M
A8: 폴리에틸렌 난연케이블 | B8: 0.6/1kv F-CV 3C×2.5㎟ | C8: M
A9: 누전차단기(54c) | B9: 극수:3P 정격전류:15~50 차단전류(460V):18kA | C9: EA
A10: 풀박스 | B10: 200×200×150 | C10: 개
A11: 강재전선관용 부품 | B11: 새들 (KS) 22c | C11: EA
A12: LED투광등 | B12: LED G3 방수 투광등 150W | C12: 개

Sheet 물량산출서
A1: 품 명 | B1: 규 격 | C1: 적 산 | F1: 단 중 (㎏/m,개,㎡) | G1: 산출량 (㎏) | H1: 할 증 | J1: 단위 | K1: 합 계
C2: 계 산 | D2: 수 량 | E2: 단위 | H2: % | I2: 량
A3: =갑지!B5 -> 공사명 : [ 수2처리장 이차침전지 공동구 조명기구 설치공사 ]
A4: 01 전기공사
A5: 경질비닐전선관 | B5: HI 22 mm | C5: 4,5,6계열 전력케이블 배관 : 46*3 = 138M | D5: 138 | E5: M | J5: M | K5: =D5 -> 138
A6: 1종금속제가요전선관 | B6: 22 mm 일반-방수 | C6: 4,5,6계열 전력케이블 배관 : 7+9+8 = 24M | D6: 24 | E6: M | J6: M | K6: =D6 -> 24
A7: 폴리에틸렌 난연케이블 | B7: 0.6/1kv F-CV 3C×2.5㎟ | C7: 전기실-4,5,6계열 : (2+46+200+10+10)*3 = 804M | D7: 804 | E7: M | J7: M | K7: =D7 -> 804
A8: 누전차단기(54c) | B8: 극수:4P 정격전류:15~50 차단전류(460V):18kA | C8: 4,5,6계열 누전차단기 : 1*3 = 3개 | D8: 3 | E8: 개 | J8: 개 | K8: =D8 -> 3
A9: 풀박스 | B9: 200×200×150 | C9: 4,5,6계열 차단기함 : 1*3 = 3개 | D9: 3 | E9: 개 | J9: 개 | K9: =D9 -> 3
A10: 강재전선관용 부품 | B10: 새들 (KS) 22c | C10: 4,5,6계열 배관고정용 새들 : 16*3 = 48개 | D10: 48 | E10: 개 | J10: 개 | K10: =D10 -> 48
A11: LED투광등 | B11: LED G3 방수 투광등 150W | C11: 4,5,6계열 투광등 : (7+9+8) = 24개 | D11: 24 | E11: 개 | J11: 개 | K11: 24
