Workbook

Sheet 갑지
A3: 과장 | C3: 담당 | E3: 검산자 | G3: 설계자 | I3: 2026년 7월 설계

Sheet 원가계산서
A1: 공 사 원 가 계 산 서
A2: 공사명 : 자연생명과학2호관 임시이전에 따른 지역교육문화복합관 전기공사
A3: 구 분 비 목 | D3: 구 성 비 | E3: 금 액 | F3: 비 고
A5: 순 공 사 원 가 | B5: 재료비 | C5: 직 접 재 료 비 | E5: =ROUNDDOWN(집계표!E20-집계표!AU20, 0) -> 0 | G5: A1 | H5: 0 | I5: =E5 -> 0
C6: 간 접 재 료 비 | E6: =ROUNDDOWN(E5*H6, 0) -> 0 | G6: A2 | H6: 0 | I6: =E6 -> 0
C7: 작업설.부산물 등(△) | E7: =집계표!S20 -> 0 | G7: A3 | H7: 0 | I7: =E7 -> 0
C8: 소 계 | E8: =SUM(E5:E6)-ABS(E7) -> 0 | G8: A | H8: 0 | I8: =E8 -> 0
B9: 노무비 | C9: 직 접 노 무 비 | E9: =ROUNDDOWN(집계표!G20, 0) -> 0 | G9: B1 | H9: 0 | I9: =E9 -> 0
C10: 간 접 노 무 비 | D10: ="직.노*"&H10*100&"%" -> 직.노*17.5% | E10: =ROUNDDOWN(E9*H10, 0) -> 0 | G10: B2 | H10: 0.175 | I10: =E10 -> 0
C11: 소 계 | E11: =SUM(E9:E10) -> 0 | G11: B | H11: 0 | I11: =E11 -> 0
B12: 경 비 | C12: 기 계 경 비 | E12: =집계표!I20 -> 0 | G12: C4 | H12: 0 | I12: =E12 -> 0
C13: 산 재 보 험 료 | D13: ="(노)*"&H13*100&"%" -> (노)*3.56% | E13: =ROUNDDOWN((E11)*H13, 0) -> 0 | G13: C10 | H13: 0.0356 | I13: =E13 -> 0
C14: 고 용 보 험 료 | D14: ="(노)*"&H14*100&"%" -> (노)*1.01% | E14: =ROUNDDOWN((E11)*H14, 0) -> 0 | G14: C11 | H14: 0.0101 | I14: =E14 -> 0
C15: 건 강 보 험 료 | E15: =ROUNDDOWN((E9)*H15, 0) -> 0 | G15: C12 | H15: 0 | I15: =E15 -> 0
C16: 연 금 보 험 료 | E16: =ROUNDDOWN((E9)*H16, 0) -> 0 | G16: C13 | H16: 0 | I16: =E16 -> 0
C17: 노인 장기 요양보험료 | E17: =ROUNDDOWN((E15)*H17, 0) -> 0 | G17: C14 | H17: 0 | I17: =E17 -> 0
C18: 퇴 직 공 제 부 금 비 | E18: =ROUNDDOWN((E9)*H18, 0) -> 0 | G18: C15 | H18: 0 | I18: =E18 -> 0
C19: 산업 안전 보건관리비 | D19: ="(재+직.노+(관급-0)/1.1)*"&H19*100&"%"&" > (재+직.노)*2.28%*1.2" -> (재+직.노+(관급-0)/1.1)*2.28% > (재+직.노)*2.28%*1.2 | E19: =ROUNDDOWN((E8+E9)*H19*1.2, 0) -> 0 | G19: C16 | H19: 0.0228 | I19: =E19 -> 0
C20: 석 면 분 담 금 | D20: 노*0.006
C21: 임 금 채 권 부 담 금 | D21: 노*0.09
C22: 기 타 경 비 | D22: ="(재+노)*"&H22*100&"%" -> (재+노)*0%
C23: 환 경 보 전 비 | E23: =ROUNDDOWN((E8+E9+E12)*H23, 0) -> 0 | G23: C25 | H23: 0 | I23: =E23 -> 0
C24: 건설하도급보증수수료 | E24: =ROUNDDOWN((E8+E9+E12)*H24, 0) -> 0 | G24: C30 | H24: 0 | I24: =E24 -> 0
C25: 공사 이행 보증수수료 | E25: =ROUNDDOWN((E8+E9+E12)*H25*(1/12), 0) -> 0 | G25: C31 | H25: 0 | I25: =E25 -> 0
C26: 건설기계대여보증수수료 | E26: =ROUNDDOWN((E8+E9+E12)*H26, 0) -> 0 | G26: C32 | H26: 0 | I26: =E26 -> 0
C27: 안 전 관 리 비 | E27: =집계표!AD20 -> 0 | G27: C17 | H27: 0 | I27: =E27 -> 0
C28: 품 질 관 리 비 | E28: =집계표!AE20 -> 0 | G28: C18 | H28: 0 | I28: =E28 -> 0
C29: 소 계 | E29: =SUM(E12:E28) -> 0 | G29: C | H29: 0 | I29: =E29 -> 0
B30: 계 | E30: =E8+E11+E29 -> 0 | G30: X | H30: 0 | I30: =E30 -> 0
A31: 일 반 관 리 비 | D31: ="(재+노+경)*"&H31*100&"%" -> (재+노+경)*8% | E31: =ROUNDDOWN((E8+E11+E29)*H31, 0) -> 0 | G31: D | H31: 0.08 | I31: =E31 -> 0
A32: 이 윤 | D32: ="(노+경+일)*"&H32*100&"%" -> (노+경+일)*15% | G32: E | H32: 0.15 | I32: =(I11+I29+I31)*H32+-1 -> -1
A33: 총 원 가 | G33: F | H33: 0 | I33: =SUM(I30:I32)+-1 -> -2
A34: 부 가 가 치 세 | D34: ="(총원가)*"&H34*100&"%" -> (총원가)*10% | G34: H | H34: 0.1 | I34: =ROUNDDOWN((I33)*H34, 0)+1 -> 1 | J34: 1
A35: 손해 배상 공제금 | D35: (공급가액) * 0.26477% | I35: 144785
A36: 도 급 금 액 | G36: Y | H36: 0 | I36: =I33+I34+I35 -> 144784
A37: 관 급 자 재 대 | E37: =ROUNDDOWN(집계표!AA20, 0) -> 0 | G37: J | H37: 0 | I37: =E37 -> 0
A38: 사 급 자 재 대 | E38: =집계표!Z20 -> 0 | G38: K | H38: 0 | I38: =E38 -> 0
A39: 폐 기 물 처 리 비 | E39: =집계표!W20 -> 0 | G39: L | H39: 0 | I39: =E39 -> 0
A40: 총 공 사 금 액 | E40: =ROUNDDOWN(E36+E37+E38+E39, 0) -> 0 | H40: 0 | I40: =I36+I37+I38+I39 -> 144784

Sheet 집계표
A1: 공 사 집 계 표
A2: 공사명 : 자연생명과학2호관 임시이전에 따른 지역교육문화복합관 전기공사
A3: 품 명 | B3: 단위 | C3: 수량 | D3: 재 료 비 | F3: 노 무 비 | H3: 경 비 | J3: 합 계 | L3: 비고
D4: 단 가 | E4: 금 액 | F4: 단 가 | G4: 금 액 | H4: 단 가 | I4: 금 액 | J4: 단 가 | K4: 금 액 | M4: 손료요율 | N4: 손료구분 | O4: 적용구분 | P4: 합계구분 | Q4: 기계경비 | R4: 운반비 | S4: 작업부산물 | T4: 관급 | U4: 외주비 | V4: 장비비 | W4: 폐기물처리비 | X4: 가설비 | Y4: 잡비제외분 | Z4: 사급자재대 | AA4: 관급자재대 | AB4: 사용자항목1 | AC4: 사용자항목2 | AD4: 안전관리비 | AE4: 품질관리비 | AF4: 사용자항목5 | AG4: 사용자항목6 | AH4: 사용자항목7 | AI4: 사용자항목8 | AJ4: 사용자항목9 | AK4: 사용자항목10 | AL4: 사용자항목11 | AM4: 사용자항목12 | AN4: 사용자항목13 | AO4: 사용자항목14 | AP4: 사용자항목15 | AQ4: 사용자항목16 | AR4: 사용자항목17 | AS4: 사용자항목18 | AT4: 사용자항목19 | AU4: 간접재료비 | AV4: 품목구분 | AW4: 조달코드 | AX4: 구분
A5: 01. 지하1층 | B5: 식 | C5: 1 | D5: =내역서!F20 -> 0 | E5: =C5*D5 -> 0 | F5: =내역서!H20 -> 0 | G5: =C5*F5 -> 0 | H5: =내역서!J20 -> 0 | I5: =C5*H5 -> 0 | J5: =D5+F5+H5 -> 0 | K5: =E5+G5+I5 -> 0 | P5: 1 | Q5: =C5*내역서!R20 -> 0 | R5: =C5*내역서!S20 -> 0 | S5: =C5*내역서!T20 -> 0 | T5: =C5*내역서!U20 -> 0 | U5: =C5*내역서!V20 -> 0 | V5: =C5*내역서!W20 -> 0 | W5: =C5*내역서!X20 -> 0 | X5: =C5*내역서!Y20 -> 0 | Y5: =C5*내역서!Z20 -> 0 | Z5: =C5*내역서!AA20 -> 0 | AA5: =C5*내역서!AB20 -> 0 | AB5: =C5*내역서!AC20 -> 0 | AC5: =C5*내역서!AD20 -> 0 | AD5: =C5*내역서!AE20 -> 0 | AE5: =C5*내역서!AF20 -> 0 | AF5: =C5*내역서!AG20 -> 0 | AG5: =C5*내역서!AH20 -> 0 | AH5: =C5*내역서!AI20 -> 0 | AI5: =C5*내역서!AJ20 -> 0 | AJ5: =C5*내역서!AK20 -> 0 | AK5: =C5*내역서!AL20 -> 0 | AL5: =C5*내역서!AM20 -> 0 | AM5: =C5*내역서!AN20 -> 0 | AN5: =C5*내역서!AO20 -> 0 | AO5: =C5*내역서!AP20 -> 0 | AP5: =C5*내역서!AQ20 -> 0 | AQ5: =C5*내역서!AR20 -> 0 | AR5: =C5*내역서!AS20 -> 0 | AS5: =C5*내역서!AT20 -> 0 | AT5: =C5*내역서!AU20 -> 0 | AU5: =C5*내역서!AV20 -> 0
A6: 02. 3층 301호 | B6: 식 | C6: 1 | D6: =내역서!F36 -> 0 | E6: =C6*D6 -> 0 | F6: =내역서!H36 -> 0 | G6: =C6*F6 -> 0 | H6: =내역서!J36 -> 0 | I6: =C6*H6 -> 0 | J6: =D6+F6+H6 -> 0 | K6: =E6+G6+I6 -> 0 | P6: 1 | Q6: =C6*내역서!R36 -> 0 | R6: =C6*내역서!S36 -> 0 | S6: =C6*내역서!T36 -> 0 | T6: =C6*내역서!U36 -> 0 | U6: =C6*내역서!V36 -> 0 | V6: =C6*내역서!W36 -> 0 | W6: =C6*내역서!X36 -> 0 | X6: =C6*내역서!Y36 -> 0 | Y6: =C6*내역서!Z36 -> 0 | Z6: =C6*내역서!AA36 -> 0 | AA6: =C6*내역서!AB36 -> 0 | AB6: =C6*내역서!AC36 -> 0 | AC6: =C6*내역서!AD36 -> 0 | AD6: =C6*내역서!AE36 -> 0 | AE6: =C6*내역서!AF36 -> 0 | AF6: =C6*내역서!AG36 -> 0 | AG6: =C6*내역서!AH36 -> 0 | AH6: =C6*내역서!AI36 -> 0 | AI6: =C6*내역서!AJ36 -> 0 | AJ6: =C6*내역서!AK36 -> 0 | AK6: =C6*내역서!AL36 -> 0 | AL6: =C6*내역서!AM36 -> 0 | AM6: =C6*내역서!AN36 -> 0 | AN6: =C6*내역서!AO36 -> 0 | AO6: =C6*내역서!AP36 -> 0 | AP6: =C6*내역서!AQ36 -> 0 | AQ6: =C6*내역서!AR36 -> 0 | AR6: =C6*내역서!AS36 -> 0 | AS6: =C6*내역서!AT36 -> 0 | AT6: =C6*내역서!AU36 -> 0 | AU6: =C6*내역서!AV36 -> 0
A7: 03. 4층 EPS실 | B7: 식 | C7: 1 | D7: =내역서!F52 -> 0 | E7: =C7*D7 -> 0 | F7: =내역서!H52 -> 0 | G7: =C7*F7 -> 0 | H7: =내역서!J52 -> 0 | I7: =C7*H7 -> 0 | J7: =D7+F7+H7 -> 0 | K7: =E7+G7+I7 -> 0 | P7: 1 | Q7: =C7*내역서!R52 -> 0 | R7: =C7*내역서!S52 -> 0 | S7: =C7*내역서!T52 -> 0 | T7: =C7*내역서!U52 -> 0 | U7: =C7*내역서!V52 -> 0 | V7: =C7*내역서!W52 -> 0 | W7: =C7*내역서!X52 -> 0 | X7: =C7*내역서!Y52 -> 0 | Y7: =C7*내역서!Z52 -> 0 | Z7: =C7*내역서!AA52 -> 0 | AA7: =C7*내역서!AB52 -> 0 | AB7: =C7*내역서!AC52 -> 0 | AC7: =C7*내역서!AD52 -> 0 | AD7: =C7*내역서!AE52 -> 0 | AE7: =C7*내역서!AF52 -> 0 | AF7: =C7*내역서!AG52 -> 0 | AG7: =C7*내역서!AH52 -> 0 | AH7: =C7*내역서!AI52 -> 0 | AI7: =C7*내역서!AJ52 -> 0 | AJ7: =C7*내역서!AK52 -> 0 | AK7: =C7*내역서!AL52 -> 0 | AL7: =C7*내역서!AM52 -> 0 | AM7: =C7*내역서!AN52 -> 0 | AN7: =C7*내역서!AO52 -> 0 | AO7: =C7*내역서!AP52 -> 0 | AP7: =C7*내역서!AQ52 -> 0 | AQ7: =C7*내역서!AR52 -> 0 | AR7: =C7*내역서!AS52 -> 0 | AS7: =C7*내역서!AT52 -> 0 | AT7: =C7*내역서!AU52 -> 0 | AU7: =C7*내역서!AV52 -> 0
A8: 04. 408호 | B8: 식 | C8: 1 | D8: =내역서!F68 -> 0 | E8: =C8*D8 -> 0 | F8: =내역서!H68 -> 0 | G8: =C8*F8 -> 0 | H8: =내역서!J68 -> 0 | I8: =C8*H8 -> 0 | J8: =D8+F8+H8 -> 0 | K8: =E8+G8+I8 -> 0 | P8: 1 | Q8: =C8*내역서!R68 -> 0 | R8: =C8*내역서!S68 -> 0 | S8: =C8*내역서!T68 -> 0 | T8: =C8*내역서!U68 -> 0 | U8: =C8*내역서!V68 -> 0 | V8: =C8*내역서!W68 -> 0 | W8: =C8*내역서!X68 -> 0 | X8: =C8*내역서!Y68 -> 0 | Y8: =C8*내역서!Z68 -> 0 | Z8: =C8*내역서!AA68 -> 0 | AA8: =C8*내역서!AB68 -> 0 | AB8: =C8*내역서!AC68 -> 0 | AC8: =C8*내역서!AD68 -> 0 | AD8: =C8*내역서!AE68 -> 0 | AE8: =C8*내역서!AF68 -> 0 | AF8: =C8*내역서!AG68 -> 0 | AG8: =C8*내역서!AH68 -> 0 | AH8: =C8*내역서!AI68 -> 0 | AI8: =C8*내역서!AJ68 -> 0 | AJ8: =C8*내역서!AK68 -> 0 | AK8: =C8*내역서!AL68 -> 0 | AL8: =C8*내역서!AM68 -> 0 | AM8: =C8*내역서!AN68 -> 0 | AN8: =C8*내역서!AO68 -> 0 | AO8: =C8*내역서!AP68 -> 0 | AP8: =C8*내역서!AQ68 -> 0 | AQ8: =C8*내역서!AR68 -> 0 | AR8: =C8*내역서!AS68 -> 0 | AS8: =C8*내역서!AT68 -> 0 | AT8: =C8*내역서!AU68 -> 0 | AU8: =C8*내역서!AV68 -> 0
A9: 05. 409호 | B9: 식 | C9: 1 | D9: =내역서!F84 -> 0 | E9: =C9*D9 -> 0 | F9: =내역서!H84 -> 0 | G9: =C9*F9 -> 0 | H9: =내역서!J84 -> 0 | I9: =C9*H9 -> 0 | J9: =D9+F9+H9 -> 0 | K9: =E9+G9+I9 -> 0 | P9: 1 | Q9: =C9*내역서!R84 -> 0 | R9: =C9*내역서!S84 -> 0 | S9: =C9*내역서!T84 -> 0 | T9: =C9*내역서!U84 -> 0 | U9: =C9*내역서!V84 -> 0 | V9: =C9*내역서!W84 -> 0 | W9: =C9*내역서!X84 -> 0 | X9: =C9*내역서!Y84 -> 0 | Y9: =C9*내역서!Z84 -> 0 | Z9: =C9*내역서!AA84 -> 0 | AA9: =C9*내역서!AB84 -> 0 | AB9: =C9*내역서!AC84 -> 0 | AC9: =C9*내역서!AD84 -> 0 | AD9: =C9*내역서!AE84 -> 0 | AE9: =C9*내역서!AF84 -> 0 | AF9: =C9*내역서!AG84 -> 0 | AG9: =C9*내역서!AH84 -> 0 | AH9: =C9*내역서!AI84 -> 0 | AI9: =C9*내역서!AJ84 -> 0 | AJ9: =C9*내역서!AK84 -> 0 | AK9: =C9*내역서!AL84 -> 0 | AL9: =C9*내역서!AM84 -> 0 | AM9: =C9*내역서!AN84 -> 0 | AN9: =C9*내역서!AO84 -> 0 | AO9: =C9*내역서!AP84 -> 0 | AP9: =C9*내역서!AQ84 -> 0 | AQ9: =C9*내역서!AR84 -> 0 | AR9: =C9*내역서!AS84 -> 0 | AS9: =C9*내역서!AT84 -> 0 | AT9: =C9*내역서!AU84 -> 0 | AU9: =C9*내역서!AV84 -> 0
A10: 06. 416호 | B10: 식 | C10: 1 | D10: =내역서!F100 -> 0 | E10: =C10*D10 -> 0 | F10: =내역서!H100 -> 0 | G10: =C10*F10 -> 0 | H10: =내역서!J100 -> 0 | I10: =C10*H10 -> 0 | J10: =D10+F10+H10 -> 0 | K10: =E10+G10+I10 -> 0 | P10: 1 | Q10: =C10*내역서!R100 -> 0 | R10: =C10*내역서!S100 -> 0 | S10: =C10*내역서!T100 -> 0 | T10: =C10*내역서!U100 -> 0 | U10: =C10*내역서!V100 -> 0 | V10: =C10*내역서!W100 -> 0 | W10: =C10*내역서!X100 -> 0 | X10: =C10*내역서!Y100 -> 0 | Y10: =C10*내역서!Z100 -> 0 | Z10: =C10*내역서!AA100 -> 0 | AA10: =C10*내역서!AB100 -> 0 | AB10: =C10*내역서!AC100 -> 0 | AC10: =C10*내역서!AD100 -> 0 | AD10: =C10*내역서!AE100 -> 0 | AE10: =C10*내역서!AF100 -> 0 | AF10: =C10*내역서!AG100 -> 0 | AG10: =C10*내역서!AH100 -> 0 | AH10: =C10*내역서!AI100 -> 0 | AI10: =C10*내역서!AJ100 -> 0 | AJ10: =C10*내역서!AK100 -> 0 | AK10: =C10*내역서!AL100 -> 0 | AL10: =C10*내역서!AM100 -> 0 | AM10: =C10*내역서!AN100 -> 0 | AN10: =C10*내역서!AO100 -> 0 | AO10: =C10*내역서!AP100 -> 0 | AP10: =C10*내역서!AQ100 -> 0 | AQ10: =C10*내역서!AR100 -> 0 | AR10: =C10*내역서!AS100 -> 0 | AS10: =C10*내역서!AT100 -> 0 | AT10: =C10*내역서!AU100 -> 0 | AU10: =C10*내역서!AV100 -> 0
A11: 07. 417호 | B11: 식 | C11: 1 | D11: =내역서!F116 -> 0 | E11: =C11*D11 -> 0 | F11: =내역서!H116 -> 0 | G11: =C11*F11 -> 0 | H11: =내역서!J116 -> 0 | I11: =C11*H11 -> 0 | J11: =D11+F11+H11 -> 0 | K11: =E11+G11+I11 -> 0 | P11: 1 | Q11: =C11*내역서!R116 -> 0 | R11: =C11*내역서!S116 -> 0 | S11: =C11*내역서!T116 -> 0 | T11: =C11*내역서!U116 -> 0 | U11: =C11*내역서!V116 -> 0 | V11: =C11*내역서!W116 -> 0 | W11: =C11*내역서!X116 -> 0 | X11: =C11*내역서!Y116 -> 0 | Y11: =C11*내역서!Z116 -> 0 | Z11: =C11*내역서!AA116 -> 0 | AA11: =C11*내역서!AB116 -> 0 | AB11: =C11*내역서!AC116 -> 0 | AC11: =C11*내역서!AD116 -> 0 | AD11: =C11*내역서!AE116 -> 0 | AE11: =C11*내역서!AF116 -> 0 | AF11: =C11*내역서!AG116 -> 0 | AG11: =C11*내역서!AH116 -> 0 | AH11: =C11*내역서!AI116 -> 0 | AI11: =C11*내역서!AJ116 -> 0 | AJ11: =C11*내역서!AK116 -> 0 | AK11: =C11*내역서!AL116 -> 0 | AL11: =C11*내역서!AM116 -> 0 | AM11: =C11*내역서!AN116 -> 0 | AN11: =C11*내역서!AO116 -> 0 | AO11: =C11*내역서!AP116 -> 0 | AP11: =C11*내역서!AQ116 -> 0 | AQ11: =C11*내역서!AR116 -> 0 | AR11: =C11*내역서!AS116 -> 0 | AS11: =C11*내역서!AT116 -> 0 | AT11: =C11*내역서!AU116 -> 0 | AU11: =C11*내역서!AV116 -> 0
A12: 08. 곤충병리독성실험실 | B12: 식 | C12: 1 | D12: =내역서!F132 -> 0 | E12: =C12*D12 -> 0 | F12: =내역서!H132 -> 0 | G12: =C12*F12 -> 0 | H12: =내역서!J132 -> 0 | I12: =C12*H12 -> 0 | J12: =D12+F12+H12 -> 0 | K12: =E12+G12+I12 -> 0
A13: 09. 관급자재 | B13: 식 | C13: 1 | D13: =내역서!F148 -> 0 | E13: =C13*D13 -> 0 | F13: =내역서!H148 -> 0 | G13: =C13*F13 -> 0 | H13: =내역서!J148 -> 0 | I13: =C13*H13 -> 0 | J13: =D13+F13+H13 -> 0 | K13: =E13+G13+I13 -> 0
A20: 합 계 | E20: =SUMIF(P5:P13, "1", E5:E13) -> 0 | G20: =SUMIF(P5:P13, "1", G5:G13) -> 0 | I20: =SUMIF(P5:P13, "1", I5:I13) -> 0 | K20: =E20+G20+I20 -> 0 | Q20: =SUM(Q5:Q13) -> 0 | R20: =SUM(R5:R13) -> 0 | S20: =SUM(S5:S13) -> 0 | T20: =SUM(T5:T13) -> 0 | U20: =SUM(U5:U13) -> 0 | V20: =SUM(V5:V13) -> 0 | W20: =SUM(W5:W13) -> 0 | X20: =SUM(X5:X13) -> 0 | ... AX20: =SUM(AX5:AX13) -> 0

Sheet 내역서
A1: 공 사 내 역 서
A2: 공사명 : 자연생명과학2호관 임시이전에 따른 지역교육문화복합관 전기공사
A3: 품 명 | B3: 규 격 | C3: 단위 | D3: 수 량 | E3: 재 료 비 | G3: 노 무 비 | I3: 경 비 | K3: 합 계 | M3: 비고
E4: 단 가 | F4: 금 액 | G4: 단 가 | H4: 금 액 | I4: 단 가 | J4: 금 액 | K4: 단 가 | L4: 금 액 | N4: 손료요율 | O4: 손료구분 | P4: 적용구분 | Q4: 합계구분 | R4: 기계경비 | S4: 운반비 | T4: 작업부산물 | U4: 관급 | V4: 외주비 | W4: 장비비 | X4: 폐기물처리비 | Y4: 가설비 | Z4: 잡비제외분 | AA4: 사급자재대 | AB4: 관급자재대 | AC4: 사용자항목1 | AD4: 사용자항목2 | AE4: 안전관리비 | AF4: 품질관리비 | AG4: 사용자항목5 | AH4: 사용자항목6 | AI4: 사용자항목7 | AJ4: 사용자항목8 | AK4: 사용자항목9 | AL4: 사용자항목10 | AM4: 사용자항목11 | AN4: 사용자항목12 | AO4: 사용자항목13 | AP4: 사용자항목14 | AQ4: 사용자항목15 | AR4: 사용자항목16 | AS4: 사용자항목17 | AT4: 사용자항목18 | AU4: 사용자항목19 | AV4: 간접재료비 | AW4: 품목구분 | AX4: 조달코드 | AY4: 구분
A5: 01. 지하1층
A6: 600V폴리에틸렌케이블 | B6: 600V폴리에틸렌케이블, 0.6/1kV, F-CV, 4C×95㎟ | C6: m | D6: =공량산출서!F8 -> 36.75
A7: 접지용비닐절연전선 | B7: 접지용비닐절연전선, F-GV, 95㎟ | C7: m | D7: =공량산출서!F10 -> 38.5
A8: 소모품비 | B8: ="배관배선의 " & N8*100 & "%" -> 배관배선의 0% | C8: 식 | D8: 1
A9: 분전함 [설치] | B9: 분전함, Steel문짝, 매입형, 550×700 | C9: 개 | D9: [7]
A10: 저압케이블전공 | B10: 일반공사 직종 | C10: 인 | D10: =공량산출서!G19 -> 0
A11: 내선전공 | B11: 일반공사 직종 | C11: 인 | D11: =공량산출서!H19 -> 0
A12: 공구손료 | B12: ="노무비의 " & N12*100 & "%" -> 노무비의 0% | C12: 식 | D12: 1
A20: 합 계 | F20: =ROUNDDOWN(SUMIF(Q6:Q19, "1", F6:F19), 0) -> 0 | H20: =ROUNDDOWN(SUMIF(Q6:Q19, "1", H6:H19), 0) -> 0 | J20: =ROUNDDOWN(SUMIF(Q6:Q19, "1", J6:J19), 0) -> 0 | L20: =F20+H20+J20 -> 0 | R20: =ROUNDDOWN(SUM(R6:R12), 0) -> 0 | S20: =ROUNDDOWN(SUM(S6:S12), 0) -> 0 | T20: =ROUNDDOWN(SUM(T6:T12), 0) -> 0 | U20: =ROUNDDOWN(SUM(U6:U12), 0) -> 0 | V20: =ROUNDDOWN(SUM(V6:V12), 0) -> 0 | W20: =ROUNDDOWN(SUM(W6:W12), 0) -> 0 | X20: =ROUNDDOWN(SUM(X6:X12), 0) -> 0 | Y20: =ROUNDDOWN(SUM(Y6:Y12), 0) -> 0 | ... AY20: =ROUNDDOWN(SUM(AY6:AY12), 0) -> 0
A21: 02. 3층 301호
A22: 600V폴리에틸렌케이블 | B22: 600V폴리에틸렌케이블, 0.6/1kV, F-CV, 4C×35㎟ | C22: m | D22: =공량산출서!F22 -> 52.5
A23: 접지용비닐절연전선 | B23: 접지용비닐절연전선, F-GV, 35㎟ | C23: m | D23: =공량산출서!F24 -> 55
A24: 600V폴리에틸렌케이블 | B24: 600V폴리에틸렌케이블, 0.6/1kV, F-CV, 3C×4㎟ | C24: m | D24: =공량산출서!F26 -> 682.5
A25: 소모품비 | B25: ="배관배선의 " & N25*100 & "%" -> 배관배선의 0% | C25: 식 | D25: 1
A26: 콘센트 | B26: 콘센트, 2구, 15A, 250V, 둥근형-노출형, 접지 | C26: 개 | D26: =공량산출서!F28 -> 60
A27: 저압케이블전공 | B27: 일반공사 직종 | C27: 인 | D27: =공량산출서!G33 -> 0
A28: 내선전공 | B28: 일반공사 직종 | C28: 인 | D28: =공량산출서!H33 -> 0
A29: 공구손료 | B29: ="노무비의 " & N29*100 & "%" -> 노무비의 0% | C29: 식 | D29: 1
A36: 합 계 | F36: =ROUNDDOWN(SUMIF(Q22:Q35, "1", F22:F35), 0) -> 0 | H36: =ROUNDDOWN(SUMIF(Q22:Q35, "1", H22:H35), 0) -> 0 | J36: =ROUNDDOWN(SUMIF(Q22:Q35, "1", J22:J35), 0) -> 0 | L36: =F36+H36+J36 -> 0 | R36: =ROUNDDOWN(SUM(R22:R29), 0) -> 0 | S36: =ROUNDDOWN(SUM(S22:S29), 0) -> 0 | T36: =ROUNDDOWN(SUM(T22:T29), 0) -> 0 | U36: =ROUNDDOWN(SUM(U22:U29), 0) -> 0 | V36: =ROUNDDOWN(SUM(V22:V29), 0) -> 0 | W36: =ROUNDDOWN(SUM(W22:W29), 0) -> 0 | X36: =ROUNDDOWN(SUM(X22:X29), 0) -> 0 | Y36: =ROUNDDOWN(SUM(Y22:Y29), 0) -> 0 | ... AY36: =ROUNDDOWN(SUM(AY22:AY29), 0) -> 0
A37: 03. 4층 EPS실
A38: 600V폴리에틸렌케이블 | B38: 600V폴리에틸렌케이블, 0.6/1kV, F-CV, 4C×35㎟ | C38: m | D38: =공량산출서!F36 -> 15.75 | E38: =ROUNDDOWN(단가대비표!O7, 0) -> 31254
A39: 접지용비닐절연전선 | B39: 접지용비닐절연전선, F-GV, 35㎟ | C39: m | D39: =공량산출서!F38 -> 16.5 | E39: =ROUNDDOWN(단가대비표!O13, 0) -> 6432
A40: 600V폴리에틸렌케이블 | B40: 600V폴리에틸렌케이블, 0.6/1kV, F-CV, 4C×10㎟ | C40: m | D40: =공량산출서!F40 -> 63 | E40: =ROUNDDOWN(단가대비표!O6, 0) -> 9566
A41: 접지용비닐절연전선 | B41: 접지용비닐절연전선, F-GV, 10㎟ | C41: m | D41: =공량산출서!F42 -> 66 | E41: =ROUNDDOWN(단가대비표!O12, 0) -> 2226
A42: 600V폴리에틸렌케이블 | B42: 600V폴리에틸렌케이블, 0.6/1kV, F-CV, 4C×6㎟ | C42: m | D42: =공량산출서!F44 -> 63 | E42: =ROUNDDOWN(단가대비표!O8, 0) -> 6028
A43: 접지용비닐절연전선 | B43: 접지용비닐절연전선, F-GV, 6㎟ | C43: m | D43: =공량산출서!F46 -> 66 | E43: =ROUNDDOWN(단가대비표!O14, 0) -> 1500
A44: 소모품비 | B44: ="배관배선의 " & N44*100 & "%" -> 배관배선의 0% | C44: 식 | D44: 1 | E44: =SUMIF(O38:O47, "04", F38:F47) -> 0
A45: 저압케이블전공 | B45: 일반공사 직종 | C45: 인 | D45: =공량산출서!G61 -> 0 | E45: 0
A46: 내선전공 | B46: 일반공사 직종 | C46: 인 | D46: =공량산출서!H61 -> 0 | E46: 0
A47: 공구손료 | B47: ="노무비의 " & N47*100 & "%" -> 노무비의 0% | C47: 식 | D47: 1
A52: 합 계 | F52: =ROUNDDOWN(SUMIF(Q38:Q51, "1", F38:F51), 0) -> 0 | H52: =ROUNDDOWN(SUMIF(Q38:Q51, "1", H38:H51), 0) -> 0 | J52: =ROUNDDOWN(SUMIF(Q38:Q51, "1", J38:J51), 0) -> 0 | L52: =F52+H52+J52 -> 0 | R52: =ROUNDDOWN(SUM(R38:R47), 0) -> 0 | S52: =ROUNDDOWN(SUM(S38:S47), 0) -> 0 | T52: =ROUNDDOWN(SUM(T38:T47), 0) -> 0 | U52: =ROUNDDOWN(SUM(U38:U47), 0) -> 0 | V52: =ROUNDDOWN(SUM(V38:V47), 0) -> 0 | W52: =ROUNDDOWN(SUM(W38:W47), 0) -> 0 | X52: =ROUNDDOWN(SUM(X38:X47), 0) -> 0 | Y52: =ROUNDDOWN(SUM(Y38:Y47), 0) -> 0 | ... AY52: =ROUNDDOWN(SUM(AY38:AY47), 0) -> 0
A53: 04. 408호
A54: 콘센트 | B54: 콘센트, 2구, 15A, 250V, 둥근형-노출형, 접지 | C54: 개 | D54: =공량산출서!F64 -> 10 | E54: =ROUNDDOWN(단가대비표!O16, 0) -> 1485
A55: 콘센트 | B55: 콘센트, 3P, 30A, 250V, 노출형 | C55: 개 | D55: =공량산출서!F66 -> 2 | E55: =ROUNDDOWN(단가대비표!O18, 0) -> 3427
A56: 600V폴리에틸렌케이블 | B56: 600V폴리에틸렌케이블, 0.6/1kV, F-CV, 3C×4㎟ | C56: m | D56: =공량산출서!F68 -> 294 | E56: =ROUNDDOWN(단가대비표!O5, 0) -> 3368
A57: 소모품비 | B57: ="배관배선의 " & N57*100 & "%" -> 배관배선의 0% | C57: 식 | D57: 1 | E57: =SUMIF(O54:O60, "04", F54:F60) -> 0
A58: 저압케이블전공 | B58: 일반공사 직종 | C58: 인 | D58: =공량산출서!G75 -> 0 | E58: 0
A59: 내선전공 | B59: 일반공사 직종 | C59: 인 | D59: =공량산출서!H75 -> 0 | E59: 0
A60: 공구손료 | B60: ="노무비의 " & N60*100 & "%" -> 노무비의 0% | C60: 식 | D60: 1
A68: 합 계 | F68: =ROUNDDOWN(SUMIF(Q54:Q67, "1", F54:F67), 0) -> 0 | H68: =ROUNDDOWN(SUMIF(Q54:Q67, "1", H54:H67), 0) -> 0 | J68: =ROUNDDOWN(SUMIF(Q54:Q67, "1", J54:J67), 0) -> 0 | L68: =F68+H68+J68 -> 0 | R68: =ROUNDDOWN(SUM(R54:R60), 0) -> 0 | S68: =ROUNDDOWN(SUM(S54:S60), 0) -> 0 | T68: =ROUNDDOWN(SUM(T54:T60), 0) -> 0 | U68: =ROUNDDOWN(SUM(U54:U60), 0) -> 0 | V68: =ROUNDDOWN(SUM(V54:V60), 0) -> 0 | W68: =ROUNDDOWN(SUM(W54:W60), 0) -> 0 | X68: =ROUNDDOWN(SUM(X54:X60), 0) -> 0 | Y68: =ROUNDDOWN(SUM(Y54:Y60), 0) -> 0 | ... AY68: =ROUNDDOWN(SUM(AY54:AY60), 0) -> 0
A69: 05. 409호
A70: 콘센트 | B70: 콘센트, 2구, 15A, 250V, 둥근형-노출형, 접지 | C70: 개 | D70: =공량산출서!F78 -> 5 | E70: =ROUNDDOWN(단가대비표!O16, 0) -> 1485
A71: 600V폴리에틸렌케이블 | B71: 600V폴리에틸렌케이블, 0.6/1kV, F-CV, 3C×4㎟ | C71: m | D71: =공량산출서!F80 -> 189 | E71: =ROUNDDOWN(단가대비표!O5, 0) -> 3368
A72: 소모품비 | B72: ="배관배선의 " & N72*100 & "%" -> 배관배선의 0% | C72: 식 | D72: 1 | E72: =SUMIF(O70:O75, "04", F70:F75) -> 0
A73: 저압케이블전공 | B73: 일반공사 직종 | C73: 인 | D73: =공량산출서!G89 -> 0 | E73: 0
A74: 내선전공 | B74: 일반공사 직종 | C74: 인 | D74: =공량산출서!H89 -> 0 | E74: 0
A75: 공구손료 | B75: ="노무비의 " & N75*100 & "%" -> 노무비의 0% | C75: 식 | D75: 1
A84: 합 계 | F84: =ROUNDDOWN(SUMIF(Q70:Q83, "1", F70:F83), 0) -> 0 | H84: =ROUNDDOWN(SUMIF(Q70:Q83, "1", H70:H83), 0) -> 0 | J84: =ROUNDDOWN(SUMIF(Q70:Q83, "1", J70:J83), 0) -> 0 | L84: =F84+H84+J84 -> 0 | R84: =ROUNDDOWN(SUM(R70:R75), 0) -> 0 | S84: =ROUNDDOWN(SUM(S70:S75), 0) -> 0 | T84: =ROUNDDOWN(SUM(T70:T75), 0) -> 0 | U84: =ROUNDDOWN(SUM(U70:U75), 0) -> 0 | V84: =ROUNDDOWN(SUM(V70:V75), 0) -> 0 | W84: =ROUNDDOWN(SUM(W70:W75), 0) -> 0 | X84: =ROUNDDOWN(SUM(X70:X75), 0) -> 0 | Y84: =ROUNDDOWN(SUM(Y70:Y75), 0) -> 0 | ... AY84: =ROUNDDOWN(SUM(AY70:AY75), 0) -> 0
A85: 06. 416호
A86: 누전차단기 | B86: 누전차단기, 분전반형, GR, 2P20AF | C86: 개 | D86: =공량산출서!F92 -> 4 | E86: =ROUNDDOWN(단가대비표!O10, 0) -> 16000
A87: 콘센트 | B87: 콘센트, 2구, 15A, 250V, 둥근형-노출형, 접지 | C87: 개 | D87: =공량산출서!F94 -> 35 | E87: =ROUNDDOWN(단가대비표!O16, 0) -> 1485
A88: 600V폴리에틸렌케이블 | B88: 600V폴리에틸렌케이블, 0.6/1kV, F-CV, 3C×4㎟ | C88: m | D88: =공량산출서!F96 -> 252 | E88: =ROUNDDOWN(단가대비표!O5, 0) -> 3368
A89: 소모품비 | B89: ="배관배선의 " & N89*100 & "%" -> 배관배선의 0% | C89: 식 | D89: 1 | E89: =SUMIF(O86:O93, "04", F86:F93) -> 0
A90: 콘센트 | B90: 콘센트, 3P, 20A, 250V, 노출형 | C90: 개 | D90: =공량산출서!F98 -> 2 | E90: =ROUNDDOWN(단가대비표!O17, 0) -> 2233
A91: 내선전공 | B91: 일반공사 직종 | C91: 인 | D91: =공량산출서!G103 -> 0 | E91: 0
A92: 저압케이블전공 | B92: 일반공사 직종 | C92: 인 | D92: =공량산출서!H103 -> 0 | E92: 0
A93: 공구손료 | B93: ="노무비의 " & N93*100 & "%" -> 노무비의 0% | C93: 식 | D93: 1
A100: 합 계 | F100: =ROUNDDOWN(SUMIF(Q86:Q99, "1", F86:F99), 0) -> 0 | H100: =ROUNDDOWN(SUMIF(Q86:Q99, "1", H86:H99), 0) -> 0 | J100: =ROUNDDOWN(SUMIF(Q86:Q99, "1", J86:J99), 0) -> 0 | L100: =F100+H100+J100 -> 0 | R100: =ROUNDDOWN(SUM(R86:R93), 0) -> 0 | S100: =ROUNDDOWN(SUM(S86:S93), 0) -> 0 | T100: =ROUNDDOWN(SUM(T86:T93), 0) -> 0 | U100: =ROUNDDOWN(SUM(U86:U93), 0) -> 0 | V100: =ROUNDDOWN(SUM(V86:V93), 0) -> 0 | W100: =ROUNDDOWN(SUM(W86:W93), 0) -> 0 | X100: =ROUNDDOWN(SUM(X86:X93), 0) -> 0 | Y100: =ROUNDDOWN(SUM(Y86:Y93), 0) -> 0 | ... AY100: =ROUNDDOWN(SUM(AY86:AY93), 0) -> 0
A101: 07. 417호
A102: 콘센트 | B102: 콘센트, 2구, 15A, 250V, 둥근형-노출형, 접지 | C102: 개 | D102: =공량산출서!F106 -> 10 | E102: =ROUNDDOWN(단가대비표!O16, 0) -> 1485
A103: 600V폴리에틸렌케이블 | B103: 600V폴리에틸렌케이블, 0.6/1kV, F-CV, 3C×4㎟ | C103: m | D103: =공량산출서!F108 -> 252 | E103: =ROUNDDOWN(단가대비표!O5, 0) -> 3368
A104: 소모품비 | B104: ="배관배선의 " & N104*100 & "%" -> 배관배선의 0% | C104: 식 | D104: 1 | E104: =SUMIF(O102:O107, "04", F102:F107) -> 0
A105: 저압케이블전공 | B105: 일반공사 직종 | C105: 인 | D105: =공량산출서!G117 -> 0 | E105: 0
A106: 내선전공 | B106: 일반공사 직종 | C106: 인 | D106: =공량산출서!H117 -> 0 | E106: 0
A107: 공구손료 | B107: ="노무비의 " & N107*100 & "%" -> 노무비의 0% | C107: 식 | D107: 1
A116: 합 계 | F116: =ROUNDDOWN(SUMIF(Q102:Q115, "1", F102:F115), 0) -> 0 | H116: =ROUNDDOWN(SUMIF(Q102:Q115, "1", H102:H115), 0) -> 0 | J116: =ROUNDDOWN(SUMIF(Q102:Q115, "1", J102:J115), 0) -> 0 | L116: =F116+H116+J116 -> 0 | R116: =ROUNDDOWN(SUM(R102:R107), 0) -> 0 | S116: =ROUNDDOWN(SUM(S102:S107), 0) -> 0 | T116: =ROUNDDOWN(SUM(T102:T107), 0) -> 0 | U116: =ROUNDDOWN(SUM(U102:U107), 0) -> 0 | V116: =ROUNDDOWN(SUM(V102:V107), 0) -> 0 | W116: =ROUNDDOWN(SUM(W102:W107), 0) -> 0 | X116: =ROUNDDOWN(SUM(X102:X107), 0) -> 0 | Y116: =ROUNDDOWN(SUM(Y102:Y107), 0) -> 0 | ... AY116: =ROUNDDOWN(SUM(AY102:AY107), 0) -> 0
A117: 08. 곤충병리독성실험실
A118: 콘센트 | B118: 콘센트, 2구, 15A, 250V, 둥근형-노출형, 접지 | C118: 개 | D118: =공량산출서!F120 -> 30 | E118: =ROUNDDOWN(단가대비표!O16, 0) -> 1485
A119: 600V폴리에틸렌케이블 | B119: 600V폴리에틸렌케이블, 0.6/1kV, F-CV, 4C×6㎟ | C119: m | D119: =공량산출서!F122 -> 21 | E119: =ROUNDDOWN(단가대비표!O8, 0) -> 6028
A120: 접지용비닐절연전선 | B120: 접지용비닐절연전선, F-GV, 6㎟ | C120: m | D120: =공량산출서!F124 -> 22 | E120: =ROUNDDOWN(단가대비표!O14, 0) -> 1500
A121: 600V폴리에틸렌케이블 | B121: 600V폴리에틸렌케이블, 0.6/1kV, F-CV, 3C×4㎟ | C121: m | D121: =공량산출서!F126 -> 262.5 | E121: =ROUNDDOWN(단가대비표!O5, 0) -> 3368
A122: 소모품비 | B122: ="배관배선의 " & N122*100 & "%" -> 배관배선의 0% | C122: 식 | D122: 1 | E122: =SUMIF(O118:O125, "04", F118:F125) -> 0
A123: 저압케이블전공 | B123: 일반공사 직종 | C123: 인 | D123: =공량산출서!G131 -> 0 | E123: 0
A124: 내선전공 | B124: 일반공사 직종 | C124: 인 | D124: =공량산출서!H131 -> 0 | E124: 0
A125: 공구손료 | B125: ="노무비의 " & N125*100 & "%" -> 노무비의 0% | C125: 식 | D125: 1
A132: 합 계 | F132: =ROUNDDOWN(SUMIF(Q118:Q131, "1", F118:F131), 0) -> 0 | H132: =ROUNDDOWN(SUMIF(Q118:Q131, "1", H118:H131), 0) -> 0 | J132: =ROUNDDOWN(SUMIF(Q118:Q131, "1", J118:J131), 0) -> 0 | L132: =F132+H132+J132 -> 0 | R132: =ROUNDDOWN(SUM(R118:R125), 0) -> 0 | S132: =ROUNDDOWN(SUM(S118:S125), 0) -> 0 | T132: =ROUNDDOWN(SUM(T118:T125), 0) -> 0 | U132: =ROUNDDOWN(SUM(U118:U125), 0) -> 0 | V132: =ROUNDDOWN(SUM(V118:V125), 0) -> 0 | W132: =ROUNDDOWN(SUM(W118:W125), 0) -> 0 | X132: =ROUNDDOWN(SUM(X118:X125), 0) -> 0 | Y132: =ROUNDDOWN(SUM(Y118:Y125), 0) -> 0 | ... AY132: =ROUNDDOWN(SUM(AY118:AY125), 0) -> 0
A133: 09. 관급자재
A134: 3층 EPS실 분전함 | B134: 600 X 800 X 150 | C134: EA | D134: 1 | E134: 1650000
A135: 3층 301호 분전함 | B135: 600 X 1200 X 150 | C135: EA | D135: 1 | E135: 3960000
A136: 3층 병리독성실 분전함 | B136: 500 X 600 X 150 | C136: EA | D136: 1 | E136: 1320000
A137: 4층 EPS실 분전함 | B137: 700 X 800 X 150 | C137: EA | D137: 1 | E137: 1760000
A138: 4층 408호 분전함 | B138: 500 X 700 X 150 | C138: EA | D138: 1 | E138: 1540000
A139: 4층 409호 분전함 | B139: 500 X 500 X 150 | C139: EA | D139: 1 | E139: 880000
A140: 4층 417호 분전함 | B140: 500 X 600 X 150 | C140: EA | D140: 1 | E140: 1100000
A148: 합 계 | F148: =ROUNDDOWN(SUMIF(Q134:Q147, "1", F134:F147), 0) -> 0 | H148: =ROUNDDOWN(SUMIF(Q134:Q147, "1", H134:H147), 0) -> 0 | J148: =ROUNDDOWN(SUMIF(Q134:Q147, "1", J134:J147), 0) -> 0 | L148: =F148+H148+J148 -> 0 | R148: =ROUNDDOWN(SUM(R134:R140), 0) -> 0 | S148: =ROUNDDOWN(SUM(S134:S140), 0) -> 0 | T148: =ROUNDDOWN(SUM(T134:T140), 0) -> 0 | U148: =ROUNDDOWN(SUM(U134:U140), 0) -> 0 | V148: =ROUNDDOWN(SUM(V134:V140), 0) -> 0 | W148: =ROUNDDOWN(SUM(W134:W140), 0) -> 0 | X148: =ROUNDDOWN(SUM(X134:X140), 0) -> 0 | Y148: =ROUNDDOWN(SUM(Y134:Y140), 0) -> 0 | ... AY148: =ROUNDDOWN(SUM(AY134:AY140), 0) -> 0

Sheet 공량산출서
A1: 공 량 산 출 서
A2: 공사명 : 자연생명과학2호관 임시이전에 따른 지역교육문화복합관 전기공사
A3: 품 명 | B3: 규 격 | C3: 단위 | D3: 수 량 | E3: 적용% | F3: 적 용 자재수량 | G3: 공 량 | N3: 비고
D4: 자재원수량 | E4: 자재
D5: 품셈목록 | E5: 인부
A6: 01. 지하1층 | G6: 저압케이블전공 | H6: 내선전공
G7: 304156 | H7: 273676 | I7: 0 | J7: 0 | K7: 0 | L7: 0 | M7: 0
A8: 600V폴리에틸렌케이블 | B8: 600V폴리에틸렌케이블, 0.6/1kV, F-CV, 4C×95㎟ | C8: m | D8: 35 | E8: 1.05 | F8: =ROUND(D8*E8, 3) -> 36.75
D9: 전기5-11 | E9: 0.9 | R9: 1
A10: 접지용비닐절연전선 | B10: 접지용비닐절연전선, F-GV, 95㎟ | C10: m | D10: 35 | E10: 1.1 | F10: =ROUND(D10*E10, 3) -> 38.5
D11: 전기3-38 | E11: 1 | R11: 1
A12: 분전함 [설치] | B12: 분전함, Steel문짝, 매입형, 550×700 | C12: 개 | D12: 7 | E12: 0 | F12: 0
D13: 전기5-4 | E13: 0.8 | R13: 1
A18: 합 계 | G18: =SUMIF(R6:R17, "1", G6:G17) -> 0 | H18: =SUMIF(R6:R17, "1", H6:H17) -> 0
G19: =ROUND(G18*100/100, 3) -> 0 | H19: =ROUND(H18*100/100, 3) -> 0
A20: 02. 3층 301호 | G20: 저압케이블전공 | H20: 내선전공
G21: 304156 | H21: 273676 | I21: 0 | J21: 0 | K21: 0 | L21: 0 | M21: 0
A22: 600V폴리에틸렌케이블 | B22: 600V폴리에틸렌케이블, 0.6/1kV, F-CV, 4C×35㎟ | C22: m | D22: 50 | E22: 1.05 | F22: =ROUND(D22*E22, 3) -> 52.5
D23: 전기5-11 | E23: 0.9 | R23: 1
A24: 접지용비닐절연전선 | B24: 접지용비닐절연전선, F-GV, 35㎟ | C24: m | D24: 50 | E24: 1.1 | F24: =ROUND(D24*E24, 3) -> 55
D25: 전기3-38 | E25: 1 | R25: 1
A26: 600V폴리에틸렌케이블 | B26: 600V폴리에틸렌케이블, 0.6/1kV, F-CV, 3C×4㎟ | C26: m | D26: 650 | E26: 1.05 | F26: =ROUND(D26*E26, 3) -> 682.5
D27: 전기5-13 | E27: 0.9 | R27: 1
A28: 콘센트 | B28: 콘센트, 2구, 15A, 250V, 둥근형-노출형, 접지 | C28: 개 | D28: 60 | E28: 1 | F28: =ROUND(D28*E28, 3) -> 60
D29: 전기5-23.가 | E29: 1 | R29: 1
A32: 합 계 | G32: =SUMIF(R20:R31, "1", G20:G31) -> 0 | H32: =SUMIF(R20:R31, "1", H20:H31) -> 0
G33: =ROUND(G32*100/100, 3) -> 0 | H33: =ROUND(H32*100/100, 3) -> 0
A34: 03. 4층 EPS실 | G34: 저압케이블전공 | H34: 내선전공
G35: 304156 | H35: 273676 | I35: 0 | J35: 0 | K35: 0 | L35: 0 | M35: 0
A36: 600V폴리에틸렌케이블 | B36: 600V폴리에틸렌케이블, 0.6/1kV, F-CV, 4C×35㎟ | C36: m | D36: 15 | E36: 1.05 | F36: =ROUND(D36*E36, 3) -> 15.75
D37: 전기5-11 | E37: 0.9 | R37: 1
A38: 접지용비닐절연전선 | B38: 접지용비닐절연전선, F-GV, 35㎟ | C38: m | D38: 15 | E38: 1.1 | F38: =ROUND(D38*E38, 3) -> 16.5
D39: 전기3-38 | E39: 1 | R39: 1
A40: 600V폴리에틸렌케이블 | B40: 600V폴리에틸렌케이블, 0.6/1kV, F-CV, 4C×10㎟ | C40: m | D40: 60 | E40: 1.05 | F40: =ROUND(D40*E40, 3) -> 63
D41: 전기5-13 | E41: 0.9 | R41: 1
A42: 접지용비닐절연전선 | B42: 접지용비닐절연전선, F-GV, 10㎟ | C42: m | D42: 60 | E42: 1.1 | F42: =ROUND(D42*E42, 3) -> 66
D43: 전기3-38 | E43: 1 | R43: 1
A44: 600V폴리에틸렌케이블 | B44: 600V폴리에틸렌케이블, 0.6/1kV, F-CV, 4C×6㎟ | C44: m | D44: 60 | E44: 1.05 | F44: =ROUND(D44*E44, 3) -> 63
D45: 전기5-13 | E45: 0.9 | R45: 1
A46: 접지용비닐절연전선 | B46: 접지용비닐절연전선, F-GV, 6㎟ | C46: m | D46: 60 | E46: 1.1 | F46: =ROUND(D46*E46, 3) -> 66
D47: 전기3-38 | E47: 1 | R47: 1
A60: 합 계 | G60: =SUMIF(R34:R59, "1", G34:G59) -> 0 | H60: =SUMIF(R34:R59, "1", H34:H59) -> 0
G61: =ROUND(G60*100/100, 3) -> 0 | H61: =ROUND(H60*100/100, 3) -> 0
A62: 04. 408호 | G62: 저압케이블전공 | H62: 내선전공
G63: 304156 | H63: 273676 | I63: 0 | J63: 0 | K63: 0 | L63: 0 | M63: 0
A64: 콘센트 | B64: 콘센트, 2구, 15A, 250V, 둥근형-노출형, 접지 | C64: 개 | D64: 10 | E64: 1 | F64: =ROUND(D64*E64, 3) -> 10
D65: 전기5-23.가 | E65: 1 | R65: 1
A66: 콘센트 | B66: 콘센트, 3P, 30A, 250V, 노출형 | C66: 개 | D66: 2 | E66: 1 | F66: =ROUND(D66*E66, 3) -> 2
D67: 전기5-23.가 | E67: 1 | R67: 1
A68: 600V폴리에틸렌케이블 | B68: 600V폴리에틸렌케이블, 0.6/1kV, F-CV, 3C×4㎟ | C68: m | D68: 280 | E68: 1.05 | F68: =ROUND(D68*E68, 3) -> 294
D69: 전기5-13 | E69: 0.9 | R69: 1
A74: 합 계 | G74: =SUMIF(R62:R73, "1", G62:G73) -> 0 | H74: =SUMIF(R62:R73, "1", H62:H73) -> 0
G75: =ROUND(G74*100/100, 3) -> 0 | H75: =ROUND(H74*100/100, 3) -> 0
A76: 05. 409호 | G76: 저압케이블전공 | H76: 내선전공
G77: 304156 | H77: 273676 | I77: 0 | J77: 0 | K77: 0 | L77: 0 | M77: 0
A78: 콘센트 | B78: 콘센트, 2구, 15A, 250V, 둥근형-노출형, 접지 | C78: 개 | D78: 5 | E78: 1 | F78: =ROUND(D78*E78, 3) -> 5
D79: 전기5-23.가 | E79: 1 | R79: 1
A80: 600V폴리에틸렌케이블 | B80: 600V폴리에틸렌케이블, 0.6/1kV, F-CV, 3C×4㎟ | C80: m | D80: 180 | E80: 1.05 | F80: =ROUND(D80*E80, 3) -> 189
D81: 전기5-13 | E81: 0.9 | R81: 1
A88: 합 계 | G88: =SUMIF(R76:R87, "1", G76:G87) -> 0 | H88: =SUMIF(R76:R87, "1", H76:H87) -> 0
G89: =ROUND(G88*100/100, 3) -> 0 | H89: =ROUND(H88*100/100, 3) -> 0
A90: 06. 416호 | G90: 내선전공 | H90: 저압케이블전공
G91: 273676 | H91: 304156 | I91: 0 | J91: 0 | K91: 0 | L91: 0 | M91: 0
A92: 누전차단기 | B92: 누전차단기, 분전반형, GR, 2P20AF | C92: 개 | D92: 4 | E92: 1 | F92: =ROUND(D92*E92, 3) -> 4
D93: 전기5-19 | E93: 1 | R93: 1
A94: 콘센트 | B94: 콘센트, 2구, 15A, 250V, 둥근형-노출형, 접지 | C94: 개 | D94: 35 | E94: 1 | F94: =ROUND(D94*E94, 3) -> 35
D95: 전기5-23.가 | E95: 1 | R95: 1
A96: 600V폴리에틸렌케이블 | B96: 600V폴리에틸렌케이블, 0.6/1kV, F-CV, 3C×4㎟ | C96: m | D96: 240 | E96: 1.05 | F96: =ROUND(D96*E96, 3) -> 252
D97: 전기5-13 | E97: 0.9 | R97: 1
A98: 콘센트 | B98: 콘센트, 3P, 20A, 250V, 노출형 | C98: 개 | D98: 2 | E98: 1 | F98: =ROUND(D98*E98, 3) -> 2
D99: 전기5-23.가 | E99: 1 | R99: 1
A102: 합 계 | G102: =SUMIF(R90:R101, "1", G90:G101) -> 0 | H102: =SUMIF(R90:R101, "1", H90:H101) -> 0
G103: =ROUND(G102*100/100, 3) -> 0 | H103: =ROUND(H102*100/100, 3) -> 0
A104: 07. 417호 | G104: 저압케이블전공 | H104: 내선전공
G105: 304156 | H105: 273676 | I105: 0 | J105: 0 | K105: 0 | L105: 0 | M105: 0
A106: 콘센트 | B106: 콘센트, 2구, 15A, 250V, 둥근형-노출형, 접지 | C106: 개 | D106: 10 | E106: 1 | F106: =ROUND(D106*E106, 3) -> 10
D107: 전기5-23.가 | E107: 1 | R107: 1
A108: 600V폴리에틸렌케이블 | B108: 600V폴리에틸렌케이블, 0.6/1kV, F-CV, 3C×4㎟ | C108: m | D108: 240 | E108: 1.05 | F108: =ROUND(D108*E108, 3) -> 252
D109: 전기5-13 | E109: 0.9 | R109: 1
A116: 합 계 | G116: =SUMIF(R104:R115, "1", G104:G115) -> 0 | H116: =SUMIF(R104:R115, "1", H104:H115) -> 0
G117: =ROUND(G116*100/100, 3) -> 0 | H117: =ROUND(H116*100/100, 3) -> 0
A118: 08. 곤충병리독성실험실 | G118: 저압케이블전공 | H118: 내선전공
G119: 304156 | H119: 273676 | I119: 0 | J119: 0 | K119: 0 | L119: 0 | M119: 0
A120: 콘센트 | B120: 콘센트, 2구, 15A, 250V, 둥근형-노출형, 접지 | C120: 개 | D120: 30 | E120: 1 | F120: =ROUND(D120*E120, 3) -> 30
D121: 전기5-23.가 | E121: 1 | R121: 1
A122: 600V폴리에틸렌케이블 | B122: 600V폴리에틸렌케이블, 0.6/1kV, F-CV, 4C×6㎟ | C122: m | D122: 20 | E122: 1.05 | F122: =ROUND(D122*E122, 3) -> 21
D123: 전기5-13 | E123: 0.9 | R123: 1
A124: 접지용비닐절연전선 | B124: 접지용비닐절연전선, F-GV, 6㎟ | C124: m | D124: 20 | E124: 1.1 | F124: =ROUND(D124*E124, 3) -> 22
D125: 전기3-38 | E125: 1 | R125: 1
A126: 600V폴리에틸렌케이블 | B126: 600V폴리에틸렌케이블, 0.6/1kV, F-CV, 3C×4㎟ | C126: m | D126: 250 | E126: 1.05 | F126: =ROUND(D126*E126, 3) -> 262.5
D127: 전기5-13 | E127: 0.9 | R127: 1
A130: 합 계 | G130: =SUMIF(R118:R129, "1", G118:G129) -> 0 | H130: =SUMIF(R118:R129, "1", H118:H129) -> 0
G131: =ROUND(G130*100/100, 3) -> 0 | H131: =ROUND(H130*100/100, 3) -> 0

Sheet 단가대비표
A1: 단 가 대 비 표
A2: 공사명 : 자연생명과학2호관 임시이전에 따른 지역교육문화복합관 전기공사
A3: 품 명 | B3: 규 격 | C3: 단위 | D3: 물가자료 | F3: 물가정보 | H3: 가격정보 | I3: 거래가격 | K3: 유통물가 | M3: 상반기 | N3: 조사단가 | O3: 적용단가 | P3: 비 고
D4: 단가 | E4: Page | F4: 단가 | G4: Page | H4: 단가 | I4: 단가 | J4: Page | K4: 단가 | L4: Page | M4: 단가 | N4: 단가 | Q4: 구분
A5: 600V폴리에틸렌케이블 | B5: 600V폴리에틸렌케이블, 0.6/1kV, F-CV, 3C×4㎟ | C5: m | D5: 4788 | E5: 1075 | F5: 3742 | G5: 1168 | H5: 3368 | I5: 4419 | J5: 993 | K5: 3836 | L5: 834 | O5: =MIN(D5,F5,H5,I5,K5,M5,N5) -> 3368
A6: 600V폴리에틸렌케이블 | B6: 600V폴리에틸렌케이블, 0.6/1kV, F-CV, 4C×10㎟ | C6: m | D6: 13605 | E6: 1075 | F6: 10556 | G6: 1168 | H6: 9566 | I6: 12465 | J6: 993 | K6: 10891 | L6: 834 | O6: =MIN(D6,F6,H6,I6,K6,M6,N6) -> 9566
A7: 600V폴리에틸렌케이블 | B7: 600V폴리에틸렌케이블, 0.6/1kV, F-CV, 4C×35㎟ | C7: m | D7: 42623 | E7: 1075 | F7: 35001 | G7: 1168 | H7: 31254 | I7: 38741 | J7: 993 | K7: 36906 | L7: 834 | O7: =MIN(D7,F7,H7,I7,K7,M7,N7) -> 31254
A8: 600V폴리에틸렌케이블 | B8: 600V폴리에틸렌케이블, 0.6/1kV, F-CV, 4C×6㎟ | C8: m | D8: 8442 | E8: 1075 | F8: 6651 | G8: 1168 | H8: 6028 | I8: 7853 | J8: 993 | K8: 6863 | L8: 834 | O8: =MIN(D8,F8,H8,I8,K8,M8,N8) -> 6028
A9: 600V폴리에틸렌케이블 | B9: 600V폴리에틸렌케이블, 0.6/1kV, F-CV, 4C×95㎟ | C9: m | D9: 111116 | E9: 1075 | F9: 94109 | G9: 1168 | H9: 76456 | I9: 93781 | J9: 993 | K9: 98168 | L9: 834 | O9: =MIN(D9,F9,H9,I9,K9,M9,N9) -> 76456
A10: 누전차단기 | B10: 누전차단기, 분전반형, GR, 2P20AF | C10: 개 | D10: 16600 | E10: 1161 | F10: 16600 | G10: 1236 | K10: 16000 | L10: 901 | O10: =MIN(D10,F10,H10,I10,K10,M10,N10) -> 16000 | P10: (A)15,20,30
A11: 분전함 | B11: 분전함, Steel문짝, 매입형, 550×700 | C11: 개 | I11: 84000 | J11: 1081 | O11: =MIN(D11,F11,H11,I11,K11,M11,N11) -> 84000
A12: 접지용비닐절연전선 | B12: 접지용비닐절연전선, F-GV, 10㎟ | C12: m | D12: 3685 | E12: 1075 | F12: 3060 | G12: 1165 | H12: 2226 | I12: 3347 | J12: 994 | K12: 3060 | L12: 833 | O12: =MIN(D12,F12,H12,I12,K12,M12,N12) -> 2226
A13: 접지용비닐절연전선 | B13: 접지용비닐절연전선, F-GV, 35㎟ | C13: m | D13: 10919 | E13: 1075 | F13: 9063 | G13: 1165 | H13: 6432 | I13: 10160 | J13: 994 | K13: 9090 | L13: 833 | O13: =MIN(D13,F13,H13,I13,K13,M13,N13) -> 6432
A14: 접지용비닐절연전선 | B14: 접지용비닐절연전선, F-GV, 6㎟ | C14: m | D14: 2428 | E14: 1075 | F14: 1816 | G14: 1165 | H14: 1500 | I14: 2126 | J14: 994 | K14: 1818 | L14: 833 | O14: =MIN(D14,F14,H14,I14,K14,M14,N14) -> 1500
A15: 접지용비닐절연전선 | B15: 접지용비닐절연전선, F-GV, 95㎟ | C15: m | D15: 28508 | E15: 1075 | F15: 23355 | G15: 1165 | H15: 17053 | I15: 26110 | J15: 994 | K15: 23451 | L15: 833 | O15: =MIN(D15,F15,H15,I15,K15,M15,N15) -> 17053
A16: 콘센트 | B16: 콘센트, 2구, 15A, 250V, 둥근형-노출형, 접지 | C16: 개 | D16: 3160 | E16: 1205 | H16: 1485 | O16: =MIN(D16,F16,H16,I16,K16,M16,N16) -> 1485
A17: 콘센트 | B17: 콘센트, 3P, 20A, 250V, 노출형 | C17: 개 | I17: 2233 | J17: 1100(2409) | O17: =MIN(D17,F17,H17,I17,K17,M17,N17) -> 2233
A18: 콘센트 | B18: 콘센트, 3P, 30A, 250V, 노출형 | C18: 개 | H18: 3427 | I18: 3693 | J18: 1100(2409) | O18: =MIN(D18,F18,H18,I18,K18,M18,N18) -> 3427
A19: 내선전공 | B19: 일반공사 직종 | C19: 인 | M19: 273676 | O19: =M19 -> 273676
A20: 저압케이블전공 | B20: 일반공사 직종 | C20: 인 | M20: 304156 | O20: =M20 -> 304156

Sheet Sheet1
