Workbook
Name _: #N/A
Name __BVS1: #REF!
Name __BVS2: #REF!
Name __HSH1: #REF!
Name __HSH2: #REF!
Name __JS1: #REF!
Name __JS2: #REF!
Name __LS1: #REF!
Name __LS2: #REF!
Name __LS3: #REF!
Name __LS4: #REF!
Name __NP1: #REF!
Name __NP2: #REF!
Name __NS1: #REF!
Name __NS2: #REF!
Name __NS3: #REF!
Name __NS4: #REF!
Name __NSH1: #REF!
Name __NSH2: #REF!
Name __p1: #REF!
Name __pa1: #REF!
Name __pa2: #REF!
Name __PE1: #REF!
Name __PE10: #REF!
Name __PE11: #REF!
Name __PE12: #REF!
Name __PE13: #REF!
Name __PE14: #REF!
Name __PE15: #REF!
Name __PE16: #REF!
Name __PE17: #REF!
Name __PE18: #REF!
Name __PE19: #REF!
Name __PE2: #REF!
Name __PE20: #REF!
Name __PE21: #REF!
Name __PE22: #REF!
Name __PE23: #REF!
Name __PE24: #REF!
Name __PE25: #REF!
Name __PE26: #REF!
Name __PE27: #REF!
Name __PE28: #REF!
Name __PE29: #REF!
Name __PE3: #REF!
Name __PE30: #REF!
Name __PE31: #REF!
Name __PE32: #REF!
Name __PE33: #REF!
Name __PE34: #REF!
Name __PE35: #REF!
Name __PE36: #REF!
Name __PE37: #REF!
Name __PE38: #REF!
Name __PE39: #REF!
Name __PE4: #REF!
Name __PE40: #REF!
Name __PE41: #REF!
Name __PE42: #REF!
Name __PE43: #REF!

Sheet 표지
B2: 2026년도
B4: 측량 용역비 산출내역
B5: -괸돌지구 다목적농촌용수개발사업 -
C7: 금액 : | D7: ="금" &NUMBERSTRING(F7*1000,1)&"원" -> 금일천일백일십만원 | F7: ='측량비 산출내역'!E30/1000 -> 11100
B9: 2026. 08.
B11: 한국농어촌공사 강원지역본부

Sheet 용역일수 산출내역
A3: ▣ 용역일수 산출내역
A5: 지구명 | B5: 총사업비 (백만원) | C5: 주요공종 | D5: 용 역 일 수 | I5: 비고
D6: 총 | E6: 외업일수(A) | G6: 내업일수(B)
D7: (A)+(B) | E7: 기본(a) | F7: 추가(b) | G7: 기본(c) | H7: 추가(d)
A8: 괸돌지구 | B8: 39073 | C8: 저수지 1개소, 평야부 관수로 1식 등 | D8: =E8+F8+G9+H8 -> 17 | E8: 3 | F8: =ROUND(E8*0.2,0) -> 1 | G8: ="10일+("&(E8+F8)&"×0.50)" -> 10일+(4×0.50) | H8: =ROUND(G9*0.1,0) -> 1
G9: =ROUND(10+(E8+F8)*0.5,0) -> 12
A10: 비고 | F10: (a)×20% | H10: (c)×10%
A11: ※ 용역일수 산출기준 [조사설계 용역관리지침(개정2025.01.04.) 별표4]

Sheet 측량비 산출내역
A1: 괸돌지구 다목적농촌용수개발사업 세부설계 측량비 산출내역
A2: 구 분 | B2: 단위 | C2: 수량 | D2: 단가(원) | E2: 금 액 | F2: 비 고
A4: 1. 직접인건비 | E4: =SUM(E5:E9) -> 2958340.3
A5: □ 고급기술자 | B5: 인 | C5: ='조사업무량(측량)'!M167 -> 0.2 | D5: =측량기술자임금!D14 -> 289265 | E5: =INT(C5*D5) -> 57853 | F5: 26년 측량기술자 임금
A6: □ 중급기술자 | B6: 인 | C6: ='조사업무량(측량)'!N167 -> 2.5 | D6: =측량기술자임금!D15 -> 251596 | E6: =INT(C6*D6) -> 628990 | F6: "
A7: □ 초급기술자 | B7: 인 | C7: ='조사업무량(측량)'!O167 -> 2.35 | D7: =측량기술자임금!D16 -> 215609 | E7: =INT(C7*D7) -> 506681 | F7: "
A8: □ 초급기능사 | B8: 인 | C8: ='조사업무량(측량)'!P167 -> 3.14 | D8: =측량기술자임금!D19 -> 200786 | E8: =INT(C8*D8) -> 630468 | F8: "
A9: □ 측 부 | B9: 인 | C9: ='조사업무량(측량)'!R167 -> 8.1 | D9: =측량기술자임금!D32 -> 140043 | E9: =C9*D9 -> 1134348.3 | F9: "
A10: 2. 직접경비 | E10: =E11+E13+E14+E20 -> 2559577
A11: □ 노 임 | E11: =E12 -> 529969
A12: -인 부 | B12: 인 | C12: ='조사업무량(측량)'!Q167 -> 3.08 | D12: ='조사측량용단가(2026상)'!H6 -> 172068 | E12: =INT(C12*D12) -> 529969 | F12: 26년 조사측량용단가 적용
A13: □ 여 비 | B13: 일 | C13: =ROUNDUP(SUM(C5:C9),0) -> 17 | D13: 95000 | E13: =C13*D13 -> 1615000 | F13: (공무원여비규정, 별표2)
A14: □ 재료비 | E14: =SUM(E15:E19) -> 185520
A15: -석항 | B15: 개 | C15: =ROUNDUP('조사업무량(측량)'!S167,0) -> 2 | D15: ='조사측량용단가(2026상)'!H11 -> 91200 | E15: =INT(C15*D15) -> 182400 | F15: 26년 조사측량용단가 적용
A16: -항목(A항) | B16: 개 | C16: =ROUNDUP('조사업무량(측량)'!T167,0) -> 0 | D16: ='조사측량용단가(2026상)'!H12 -> 15460 | E16: =INT(C16*D16) -> 0 | F16: "
A17: -항목(B항) | B17: 개 | C17: =ROUNDUP('조사업무량(측량)'!U167,0) -> 0 | D17: ='조사측량용단가(2026상)'!H13 -> 810 | E17: =INT(C17*D17) -> 0 | F17: "
A18: -항목(C항) | B18: 개 | C18: =ROUNDUP('조사업무량(측량)'!V167,0) -> 13 | D18: ='조사측량용단가(2026상)'!H14 -> 240 | E18: =INT(C18*D18) -> 3120 | F18: "
A19: -측량선[22.4kw,측량용] | B19: 일 | D19: ='조사측량용단가(2026상)'!H16 -> 530300 | E19: =INT(C19*D19) -> 0 | F19: "
A20: □ 임차료 | B20: 일 | C20: =ROUNDUP(C13/4,0) -> 5 | D20: =1007990/20/1.1 -> 45817.727 | E20: =INT(C20*D20) -> 229088 | F20: 공사계약단가적용(중형 전기차)
A21: 3. 제경비 | E21: =E22 -> 3254174
A22: - 직접인건비 × 110% | B22: 식 | C22: 1.1 | D22: =E4 -> 2958340.3 | E22: =INT(C22*D22) -> 3254174
A23: 4. 기술료 | E23: =E24 -> 1242502
A24: - (직접인건비+제경비)×20% | B24: 식 | C24: 0.2 | D24: =E4+E21 -> 6212514.3 | E24: =INT(C24*D24) -> 1242502
A25: 합계(1항~4항) | E25: =ROUNDDOWN(((E4+E10+E21+E23)),-3) -> 10014000
A26: 손해배상보험료 | E26: =INT((E25)*0.00855/1000)*1000 -> 85000 | F26: 엔지니어링 손해배상공제 요율
A27: 부 가 세(VAT) | E27: =ROUNDDOWN(((E25)*0.1),-3) -> 1001000
A28: 소계 | E28: =E25+E26+E27 -> 11100000
A29: 안전보건관리비 | E29: 0 | F29: 산업안전보건법 | G29: 도급사업일경우 일반건설공사(갑) 적용, 원가계산 미작성으로 인하여 '용역 총금액 * 0.7 * 2.93%' 적용
A30: 합 계 | E30: =ROUNDDOWN(E25+E26+E27+E29,-3) -> 11100000 | F30: 측량대가의 기준
A31: * 품의할증 : 표준품셈 1-16 품의할증 준용
A32: * 직접경비 : 운반비, 기기상각비 및 정비비 등은 실정에 따라 별도로 계상한다.

Sheet 조사업무량(측량)
A2: 괸돌지구 다목적농촌용수개발사업 세부설계 측량용역 조사업무량 산정내역
X3: 수혜면적 : | Y3: 281.1 | Z3: ha
A4: 구분 | B4: 단위 | C4: 업무량 | D4: 1 일 작 업 기 준 | L4: 소 요 량 | W4: 차 량 | X4: 비 고 (할증은 별도 계상)
D5: 작업량 | E5: 기술자 | F5: 인부 | G5: 측부 | H5: 항목 | L5: 기술자 | Q5: 인부 | R5: 측부 | S5: 항목
H6: 석 | I6: A | J6: B | K6: C | L6: 특급 | M6: 고급 | N6: 중급 | O6: 초급 | P6: 초급 기능사 | S6: 석 | T6: A | U6: B | V6: C
A7: ■ 수준측량
A8: ㅇ 수준측량 | B8: km | Y8: 기본,세부 | Z8: p.17
A9: - 답사선점 | B9: km | C9: =수준점!F7 -> 3 | D9: 2 | E9: ='기술자분류(측량)'!I4 -> 0.1 | F9: ='기술자분류(측량)'!J4 -> 0 | G9: ='기술자분류(측량)'!K4 -> 0 | M9: =ROUNDDOWN('기술자분류(측량)'!N4/$D$9*$C$9,2) -> 0 | N9: =ROUNDDOWN('기술자분류(측량)'!O4/$D$9*$C$9,2) -> 0.15 | O9: =ROUNDDOWN('기술자분류(측량)'!P4/$D$9*$C$9,2) -> 0 | P9: =ROUNDDOWN('기술자분류(측량)'!Q4/$D$9*$C$9,2) -> 0 | Q9: =ROUNDDOWN('기술자분류(측량)'!R4/$D$9*$C$9,2) -> 0 | R9: =ROUNDDOWN('기술자분류(측량)'!S4/$D$9*$C$9,2) -> 0
A10: - 관측 | B10: km | C10: =C9 -> 3 | D10: 2 | E10: ='기술자분류(측량)'!I5 -> 0.9 | F10: ='기술자분류(측량)'!J5 -> 1 | G10: ='기술자분류(측량)'!K5 -> 2 | M10: =ROUNDDOWN('기술자분류(측량)'!N5/$D$10*$C$10,2) -> 0.1 | N10: =ROUNDDOWN('기술자분류(측량)'!O5/$D$10*$C$10,2) -> 0.42 | O10: =ROUNDDOWN('기술자분류(측량)'!P5/$D$10*$C$10,2) -> 0.42 | P10: =ROUNDDOWN('기술자분류(측량)'!Q5/$D$10*$C$10,2) -> 0.4 | Q10: =ROUNDDOWN('기술자분류(측량)'!R5/$D$10*$C$10,2) -> 1.5 | R10: =ROUNDDOWN('기술자분류(측량)'!S5/$D$10*$C$10,2) -> 3
A11: ■ 기준점측량
A12: ㅇ 1급 기준점측량 | B12: 점 | D12: 1 | Y12: 기본,세부 | Z12: p.18
A13: - 답사선점 | B13: 점 | D13: 1 | E13: ='기술자분류(측량)'!I7 -> 0.5 | F13: ='기술자분류(측량)'!J7 -> 0 | G13: ='기술자분류(측량)'!K7 -> 0.5 | M13: =ROUNDDOWN('기술자분류(측량)'!N7/$D$13*$C$13,2) -> 0 | N13: =ROUNDDOWN('기술자분류(측량)'!O7/$D$13*$C$13,2) -> 0 | O13: =ROUNDDOWN('기술자분류(측량)'!P7/$D$13*$C$13,2) -> 0 | P13: =ROUNDDOWN('기술자분류(측량)'!Q7/$D$13*$C$13,2) -> 0 | Q13: =ROUNDDOWN('기술자분류(측량)'!R7/$D$13*$C$13,2) -> 0 | R13: =ROUNDDOWN('기술자분류(측량)'!S7/$D$13*$C$13,2) -> 0
A14: - 조표 | B14: 점 | D14: 1 | E14: ='기술자분류(측량)'!I8 -> 0.3 | F14: ='기술자분류(측량)'!J8 -> 0.7 | G14: ='기술자분류(측량)'!K8 -> 0.5 | M14: =ROUNDDOWN('기술자분류(측량)'!N8/$D$14*$C$14,2) -> 0 | N14: =ROUNDDOWN('기술자분류(측량)'!O8/$D$14*$C$14,2) -> 0 | O14: =ROUNDDOWN('기술자분류(측량)'!P8/$D$14*$C$14,2) -> 0 | P14: =ROUNDDOWN('기술자분류(측량)'!Q8/$D$14*$C$14,2) -> 0 | Q14: =ROUNDDOWN('기술자분류(측량)'!R8/$D$14*$C$14,2) -> 0 | R14: =ROUNDDOWN('기술자분류(측량)'!S8/$D$14*$C$14,2) -> 0 | Z14: GPS(62.5%)
A15: - 관측 | B15: 점 | D15: 1 | E15: ='기술자분류(측량)'!I9 -> 1.4 | F15: ='기술자분류(측량)'!J9 -> 0 | G15: ='기술자분류(측량)'!K9 -> 2 | M15: =ROUNDDOWN('기술자분류(측량)'!N9/$D$15*$C$15,2) -> 0 | N15: =ROUNDDOWN('기술자분류(측량)'!O9/$D$15*$C$15,2) -> 0 | O15: =ROUNDDOWN('기술자분류(측량)'!P9/$D$15*$C$15,2) -> 0 | P15: =ROUNDDOWN('기술자분류(측량)'!Q9/$D$15*$C$15,2) -> 0 | Q15: =ROUNDDOWN('기술자분류(측량)'!R9/$D$15*$C$15,2) -> 0 | R15: =ROUNDDOWN('기술자분류(측량)'!S9/$D$15*$C$15,2) -> 0 | Z15: GPS(62.5%)
A16: ㅇ 2급 기준점측량 | B16: 점 | D16: 1 | Y16: 기본,세부 | Z16: p.18
A17: - 답사선점 | B17: 점 | D17: 1 | E17: ='기술자분류(측량)'!I11 -> 0.4 | F17: ='기술자분류(측량)'!J11 -> 0 | G17: ='기술자분류(측량)'!K11 -> 0.4 | M17: =ROUNDDOWN('기술자분류(측량)'!N11/$D$17*$C$17,2) -> 0 | N17: =ROUNDDOWN('기술자분류(측량)'!O11/$D$17*$C$17,2) -> 0 | O17: =ROUNDDOWN('기술자분류(측량)'!P11/$D$17*$C$17,2) -> 0 | P17: =ROUNDDOWN('기술자분류(측량)'!Q11/$D$17*$C$17,2) -> 0 | Q17: =ROUNDDOWN('기술자분류(측량)'!R11/$D$17*$C$17,2) -> 0 | R17: =ROUNDDOWN('기술자분류(측량)'!S11/$D$17*$C$17,2) -> 0
A18: - 조표 | B18: 점 | D18: 1 | E18: ='기술자분류(측량)'!I12 -> 0.2 | F18: ='기술자분류(측량)'!J12 -> 0.5 | G18: ='기술자분류(측량)'!K12 -> 0.4 | M18: =ROUNDDOWN('기술자분류(측량)'!N12/$D$18*$C$18,2) -> 0 | N18: =ROUNDDOWN('기술자분류(측량)'!O12/$D$18*$C$18,2) -> 0 | O18: =ROUNDDOWN('기술자분류(측량)'!P12/$D$18*$C$18,2) -> 0 | P18: =ROUNDDOWN('기술자분류(측량)'!Q12/$D$18*$C$18,2) -> 0 | Q18: =ROUNDDOWN('기술자분류(측량)'!R12/$D$18*$C$18,2) -> 0 | R18: =ROUNDDOWN('기술자분류(측량)'!S12/$D$18*$C$18,2) -> 0 | Z18: GPS(62.5%)
A19: - 관측 | B19: 점 | D19: 1 | E19: ='기술자분류(측량)'!I13 -> 1.2 | F19: ='기술자분류(측량)'!J13 -> 0 | G19: ='기술자분류(측량)'!K13 -> 1.7 | M19: =ROUNDDOWN('기술자분류(측량)'!N13/$D$19*$C$19,2) -> 0 | N19: =ROUNDDOWN('기술자분류(측량)'!O13/$D$19*$C$19,2) -> 0 | O19: =ROUNDDOWN('기술자분류(측량)'!P13/$D$19*$C$19,2) -> 0 | P19: =ROUNDDOWN('기술자분류(측량)'!Q13/$D$19*$C$19,2) -> 0 | Q19: =ROUNDDOWN('기술자분류(측량)'!R13/$D$19*$C$19,2) -> 0 | R19: =ROUNDDOWN('기술자분류(측량)'!S13/$D$19*$C$19,2) -> 0 | Z19: GPS(62.5%)
A20: ㅇ 3급 기준점측량 | B20: 점 | D20: 1 | Y20: 기본,세부 | Z20: p.18
A21: - 답사선점 | B21: 점 | D21: 1 | E21: ='기술자분류(측량)'!I15 -> 0.1 | F21: ='기술자분류(측량)'!J15 -> 0 | G21: ='기술자분류(측량)'!K15 -> 0.1 | M21: =ROUNDDOWN('기술자분류(측량)'!N15/$D$21*$C$21,2) -> 0 | N21: =ROUNDDOWN('기술자분류(측량)'!O15/$D$21*$C$21,2) -> 0 | O21: =ROUNDDOWN('기술자분류(측량)'!P15/$D$21*$C$21,2) -> 0 | P21: =ROUNDDOWN('기술자분류(측량)'!Q15/$D$21*$C$21,2) -> 0 | Q21: =ROUNDDOWN('기술자분류(측량)'!R15/$D$21*$C$21,2) -> 0 | R21: =ROUNDDOWN('기술자분류(측량)'!S15/$D$21*$C$21,2) -> 0
A22: - 조표 | B22: 점 | D22: 1 | E22: ='기술자분류(측량)'!I16 -> 0.1 | F22: ='기술자분류(측량)'!J16 -> 0.1 | G22: ='기술자분류(측량)'!K16 -> 0.1 | M22: =ROUNDDOWN('기술자분류(측량)'!N16/$D$22*$C$22,2) -> 0 | N22: =ROUNDDOWN('기술자분류(측량)'!O16/$D$22*$C$22,2) -> 0 | O22: =ROUNDDOWN('기술자분류(측량)'!P16/$D$22*$C$22,2) -> 0 | P22: =ROUNDDOWN('기술자분류(측량)'!Q16/$D$22*$C$22,2) -> 0 | Q22: =ROUNDDOWN('기술자분류(측량)'!R16/$D$22*$C$22,2) -> 0 | R22: =ROUNDDOWN('기술자분류(측량)'!S16/$D$22*$C$22,2) -> 0 | Z22: GPS(62.5%)
A23: - 관측 | B23: 점 | D23: 1 | E23: ='기술자분류(측량)'!I17 -> 0.7 | F23: ='기술자분류(측량)'!J17 -> 0 | G23: ='기술자분류(측량)'!K17 -> 1.1 | M23: =ROUNDDOWN('기술자분류(측량)'!N17/$D$23*$C$23,2) -> 0 | N23: =ROUNDDOWN('기술자분류(측량)'!O17/$D$23*$C$23,2) -> 0 | O23: =ROUNDDOWN('기술자분류(측량)'!P17/$D$23*$C$23,2) -> 0 | P23: =ROUNDDOWN('기술자분류(측량)'!Q17/$D$23*$C$23,2) -> 0 | Q23: =ROUNDDOWN('기술자분류(측량)'!R17/$D$23*$C$23,2) -> 0 | R23: =ROUNDDOWN('기술자분류(측량)'!S17/$D$23*$C$23,2) -> 0 | Z23: GPS(62.5%)
A24: ㅇ 4급 기준점측량 | B24: 점 | D24: 1 | E24: ='기술자분류(측량)'!I19 -> 0.2 | F24: ='기술자분류(측량)'!J19 -> 0.1 | G24: ='기술자분류(측량)'!K19 -> 0.2 | M24: =ROUNDDOWN('기술자분류(측량)'!N19/$D$24*$C$24,2) -> 0 | N24: =ROUNDDOWN('기술자분류(측량)'!O19/$D$24*$C$24,2) -> 0 | O24: =ROUNDDOWN('기술자분류(측량)'!P19/$D$24*$C$24,2) -> 0 | P24: =ROUNDDOWN('기술자분류(측량)'!Q19/$D$24*$C$24,2) -> 0 | Q24: =ROUNDDOWN('기술자분류(측량)'!R19/$D$24*$C$24,2) -> 0 | R24: =ROUNDDOWN('기술자분류(측량)'!S19/$D$24*$C$24,2) -> 0 | Y24: 기본,세부 | Z24: p.18
A25: ■ 지형측량
A26: ㅇ 지형현황측량(S=1/500∼600) | B26: ha | D26: 2 | E26: ='기술자분류(측량)'!I23 -> 3 | F26: ='기술자분류(측량)'!J23 -> 1 | G26: ='기술자분류(측량)'!K23 -> 2 | K26: 5 | M26: =ROUNDDOWN('기술자분류(측량)'!N23/$D$26*$C$26,2) -> 0 | N26: =ROUNDDOWN('기술자분류(측량)'!O23/$D$26*$C$26,2) -> 0 | O26: =ROUNDDOWN('기술자분류(측량)'!P23/$D$26*$C$26,2) -> 0 | P26: =ROUNDDOWN('기술자분류(측량)'!Q23/$D$26*$C$26,2) -> 0 | Q26: =ROUNDDOWN('기술자분류(측량)'!R23/$D$26*$C$26,2) -> 0 | R26: =ROUNDDOWN('기술자분류(측량)'!S23/$D$26*$C$26,2) -> 0 | V26: =K26/D26*C26 -> 0 | Y26: 세부 | Z26: p.20
A27: ㅇ 지형현황측량(S=1/1,200) | B27: ha | C27: =(30*30*13+3485*10)/10000*1.1 -> 5.1205 | D27: 8 | E27: ='기술자분류(측량)'!I26 -> 3 | F27: ='기술자분류(측량)'!J26 -> 1 | G27: ='기술자분류(측량)'!K26 -> 2 | K27: 20 | M27: =ROUNDDOWN('기술자분류(측량)'!N26/$D$27*$C$27,2) -> 0 | N27: =ROUNDDOWN('기술자분류(측량)'!O26/$D$27*$C$27,2) -> 0.66 | O27: =ROUNDDOWN('기술자분류(측량)'!P26/$D$27*$C$27,2) -> 0.66 | P27: =ROUNDDOWN('기술자분류(측량)'!Q26/$D$27*$C$27,2) -> 0.58 | Q27: =ROUNDDOWN('기술자분류(측량)'!R26/$D$27*$C$27,2) -> 0.64 | R27: =ROUNDDOWN('기술자분류(측량)'!S26/$D$27*$C$27,2) -> 1.28 | V27: =K27/D27*C27 -> 12.80125 | X27: 유수지 내용적, 개간, 개답, 경지정리(전) | Y27: 기본,세부 | Z27: p.21
A28: ㅇ 지형현황측량(S=1/1,200) | B28: ha | C28: 0 | D28: 10 | E28: ='기술자분류(측량)'!I26 -> 3 | F28: ='기술자분류(측량)'!J26 -> 1 | G28: ='기술자분류(측량)'!K26 -> 2 | K28: 20 | M28: =ROUNDDOWN('기술자분류(측량)'!N26/$D$28*$C$28,2) -> 0 | N28: =ROUNDDOWN('기술자분류(측량)'!O26/$D$28*$C$28,2) -> 0 | O28: =ROUNDDOWN('기술자분류(측량)'!P26/$D$28*$C$28,2) -> 0 | P28: =ROUNDDOWN('기술자분류(측량)'!Q26/$D$28*$C$28,2) -> 0 | Q28: =ROUNDDOWN('기술자분류(측량)'!R26/$D$28*$C$28,2) -> 0 | R28: =ROUNDDOWN('기술자분류(측량)'!S26/$D$28*$C$28,2) -> 0 | V28: =K28/D28*C28 -> 0 | X28: 경지정리(답), 간석지(내부개답) | Y28: 기본,세부 | Z28: p.21
A29: ㅇ 구역내 고저측량(답) | B29: ha | D29: 30 | E29: ='기술자분류(측량)'!I30 -> 2 | F29: ='기술자분류(측량)'!J30 -> 0 | G29: ='기술자분류(측량)'!K30 -> 2 | N29: =ROUNDDOWN('기술자분류(측량)'!O30/$D$29*$C$29,2) -> 0 | O29: =ROUNDDOWN('기술자분류(측량)'!P30/$D$29*$C$29,2) -> 0 | P29: =ROUNDDOWN('기술자분류(측량)'!Q30/$D$29*$C$29,2) -> 0 | Q29: =ROUNDDOWN('기술자분류(측량)'!R30/$D$29*$C$29,2) -> 0 | R29: =ROUNDDOWN('기술자분류(측량)'!S30/$D$29*$C$29,2) -> 0 | Y29: 기본,세부 | Z29: p.22
A30: ㅇ 구역내 고저측량(전,임야) | B30: ha | D30: 20 | E30: ='기술자분류(측량)'!I31 -> 3 | F30: ='기술자분류(측량)'!J31 -> 1 | G30: ='기술자분류(측량)'!K31 -> 2 | N30: =ROUNDDOWN('기술자분류(측량)'!O31/$D$30*$C$30,2) -> 0 | O30: =ROUNDDOWN('기술자분류(측량)'!P31/$D$30*$C$30,2) -> 0 | P30: =ROUNDDOWN('기술자분류(측량)'!Q31/$D$30*$C$30,2) -> 0 | Q30: =ROUNDDOWN('기술자분류(측량)'!R31/$D$30*$C$30,2) -> 0 | R30: =ROUNDDOWN('기술자분류(측량)'!S31/$D$30*$C$30,2) -> 0 | Y30: 세부 | Z30: p.22
A31: ㅇ 구역내 고저측량(기경지정리 답) | B31: ha | C31: 0 | D31: 50 | E31: ='기술자분류(측량)'!I32 -> 2 | F31: ='기술자분류(측량)'!J32 -> 0 | G31: ='기술자분류(측량)'!K32 -> 2 | N31: =ROUNDDOWN('기술자분류(측량)'!O32/$D$31*$C$31,2) -> 0 | O31: =ROUNDDOWN('기술자분류(측량)'!P32/$D$31*$C$31,2) -> 0 | P31: =ROUNDDOWN('기술자분류(측량)'!Q32/$D$31*$C$31,2) -> 0 | Q31: =ROUNDDOWN('기술자분류(측량)'!R32/$D$31*$C$31,2) -> 0 | R31: =ROUNDDOWN('기술자분류(측량)'!S32/$D$31*$C$31,2) -> 0 | Y31: 기본,세부 | Z31: p.22
A32: ㅇ 지형현황측량(토탈, 지오디메터 등) | B32: ha | D32: 1 | E32: ='기술자분류(측량)'!I35*0.9 -> 1.62 | F32: ='기술자분류(측량)'!J35*0.9 -> 0.9 | G32: ='기술자분류(측량)'!K35*0.9 -> 1.8 | N32: =ROUNDDOWN('기술자분류(측량)'!O35/$D$32*$C$32,2)*0.9*1.2 -> 0 | O32: =ROUNDDOWN('기술자분류(측량)'!P35/$D$32*$C$32,2)*0.9*1.2 -> 0 | P32: =ROUNDDOWN('기술자분류(측량)'!Q35/$D$32*$C$32,2)*0.9*1.2 -> 0 | Q32: =ROUNDDOWN('기술자분류(측량)'!R35/$D$32*$C$32,2)*0.9*1.2 -> 0 | R32: =ROUNDDOWN('기술자분류(측량)'!S35/$D$32*$C$32,2)*0.9*1.2 -> 0 | X32: 평지 | Y32: 기본,세부 | Z32: p.23, GPS(90%)
A33: ㅇ 지형현황측량(토탈, 지오디메터 등) | B33: ha | D33: 1 | E33: ='기술자분류(측량)'!I36 -> 2.1 | F33: ='기술자분류(측량)'!J36 -> 1.2 | G33: ='기술자분류(측량)'!K36 -> 2.4 | N33: =ROUNDDOWN('기술자분류(측량)'!O36/$D$33*$C$33,2)*0.9*1.2 -> 0 | O33: =ROUNDDOWN('기술자분류(측량)'!P36/$D$33*$C$33,2)*0.9*1.2 -> 0 | P33: =ROUNDDOWN('기술자분류(측량)'!Q36/$D$33*$C$33,2)*0.9*1.2 -> 0 | Q33: =ROUNDDOWN('기술자분류(측량)'!R36/$D$33*$C$33,2)*0.9*1.2 -> 0 | R33: =ROUNDDOWN('기술자분류(측량)'!S36/$D$33*$C$33,2)*0.9*1.2 -> 0 | X33: 구릉지 및 산지 | Y33: 세부 | Z33: p.23, GPS(90%)
A34: ㅇ 지형현황측량(토탈, 지오디메터 등) | B34: ha | D34: 1 | E34: ='기술자분류(측량)'!I37 -> 3.6 | F34: ='기술자분류(측량)'!J37 -> 1 | G34: ='기술자분류(측량)'!K37 -> 4 | N34: =ROUNDDOWN('기술자분류(측량)'!O37/$D$34*$C$34,2) -> 0 | O34: =ROUNDDOWN('기술자분류(측량)'!P37/$D$34*$C$34,2) -> 0 | P34: =ROUNDDOWN('기술자분류(측량)'!Q37/$D$34*$C$34,2) -> 0 | Q34: =ROUNDDOWN('기술자분류(측량)'!R37/$D$34*$C$34,2) -> 0 | R34: =ROUNDDOWN('기술자분류(측량)'!S37/$D$34*$C$34,2) -> 0 | X34: 시가지 | Y34: 세부 | Z34: p.23, GPS(90%)
A35: ㅇ 저수지 내용적 측량 | B35: ha | D35: 1 | E35: ='기술자분류(측량)'!I40 -> 1.1 | F35: ='기술자분류(측량)'!J40 -> 0.6 | G35: ='기술자분류(측량)'!K40 -> 0.6 | K35: 1 | N35: =ROUNDDOWN('기술자분류(측량)'!O40/$D$35*$C$35,2) -> 0 | O35: =ROUNDDOWN('기술자분류(측량)'!P40/$D$35*$C$35,2) -> 0 | P35: =ROUNDDOWN('기술자분류(측량)'!Q40/$D$35*$C$35,2) -> 0 | Q35: =ROUNDDOWN('기술자분류(측량)'!R40/$D$35*$C$35,2) -> 0 | R35: =ROUNDDOWN('기술자분류(측량)'!S40/$D$35*$C$35,2) -> 0 | V35: =K35/D35*C35 -> 0 | Y35: 기본,세부 | Z35: p.24, GPS(90%)
A36: ■ 노선측량
A37: ㅇ 용‧배수로 등(농경지,구릉지)노선측량 | B37: km | Y37: 기본 | Z37: p.25
A38: - 노선선정 | B38: km | D38: 3 | E38: ='기술자분류(측량)'!I42 -> 1 | F38: ='기술자분류(측량)'!J42 -> 0 | G38: ='기술자분류(측량)'!K42 -> 0 | M38: =ROUNDDOWN('기술자분류(측량)'!N42/$D$38*$C$38,2) -> 0 | N38: =ROUNDDOWN('기술자분류(측량)'!O42/$D$38*$C$38,2) -> 0 | O38: =ROUNDDOWN('기술자분류(측량)'!P42/$D$38*$C$38,2) -> 0 | P38: =ROUNDDOWN('기술자분류(측량)'!Q42/$D$38*$C$38,2) -> 0 | Q38: =ROUNDDOWN('기술자분류(측량)'!R42/$D$38*$C$38,2) -> 0 | R38: =ROUNDDOWN('기술자분류(측량)'!S42/$D$38*$C$38,2) -> 0
A39: - 노선선점 | B39: km | D39: 3 | E39: ='기술자분류(측량)'!I43 -> 1 | F39: ='기술자분류(측량)'!J43 -> 1 | G39: ='기술자분류(측량)'!K43 -> 1 | J39: 30 | M39: =ROUNDDOWN('기술자분류(측량)'!N43/$D$39*$C$39,2) -> 0 | N39: =ROUNDDOWN('기술자분류(측량)'!O43/$D$39*$C$39,2) -> 0 | O39: =ROUNDDOWN('기술자분류(측량)'!P43/$D$39*$C$39,2) -> 0 | P39: =ROUNDDOWN('기술자분류(측량)'!Q43/$D$39*$C$39,2) -> 0 | Q39: =ROUNDDOWN('기술자분류(측량)'!R43/$D$39*$C$39,2) -> 0 | R39: =ROUNDDOWN('기술자분류(측량)'!S43/$D$39*$C$39,2) -> 0 | U39: =J39/D39*C39 -> 0
A40: ㅇ 용‧배수로 등(농경지,구릉지)노선측량 | B40: km | D40: 3 | Y40: 세부 | Z40: p.25
A41: - 노선선정 | B41: km | D41: 3 | E41: ='기술자분류(측량)'!I42 -> 1 | F41: ='기술자분류(측량)'!J42 -> 0 | G41: ='기술자분류(측량)'!K42 -> 0 | M41: =ROUNDDOWN('기술자분류(측량)'!N42/$D$41*$C$41,2) -> 0 | N41: =ROUNDDOWN('기술자분류(측량)'!O42/$D$41*$C$41,2) -> 0 | O41: =ROUNDDOWN('기술자분류(측량)'!P42/$D$41*$C$41,2) -> 0 | P41: =ROUNDDOWN('기술자분류(측량)'!Q42/$D$41*$C$41,2) -> 0 | Q41: =ROUNDDOWN('기술자분류(측량)'!R42/$D$41*$C$41,2) -> 0 | R41: =ROUNDDOWN('기술자분류(측량)'!S42/$D$41*$C$41,2) -> 0
...

Sheet 기술자분류(측량)
A2: [표준품셈] | I2: [조사비적산기준] | M2: [조사비적산기준의 기술자 품을 표준품셈 기술자별 품 비율에 따라 세분화]
A3: 수준측량 | B3: 구분 | C3: 특급 | D3: 고급 | E3: 중급 | F3: 초급 | G3: 초급기능사 | I3: 기술자 | J3: 인부 | K3: 측부 | M3: 특급 | N3: 고급 | O3: 중급 | P3: 초급 | Q3: 초급기능사 | R3: 인부 | S3: 측부 | T3: 비고(표준품셈)
B4: 답사선점 | E4: 1 | I4: 0.1 | N4: =D4/SUM($D$4:$G$4)*$I$4 -> 0 | O4: =E4/SUM($D$4:$G$4)*$I$4 -> 0.1 | P4: =F4/SUM($D$4:$G$4)*$I$4 -> 0 | Q4: =G4/SUM($D$4:$G$4)*$I$4 -> 0 | T4: 9-2-4 수준측량
B5: 관측 | D5: 2 | E5: 8 | F5: 8 | G5: 8 | I5: 0.9 | J5: 1 | K5: 2 | N5: =ROUND(D5/SUM($D$5:$G$5)*$I$5,2) -> 0.07 | O5: =ROUND(E5/SUM($D$5:$G$5)*$I$5,2) -> 0.28 | P5: =ROUND(F5/SUM($D$5:$G$5)*$I$5,2) -> 0.28 | Q5: =I5-SUM(N5:P5) -> 0.27 | R5: 1 | S5: 2
A6: 1급기준점측량 | B6: 구분 | C6: 특급 | D6: 고급 | E6: 중급 | F6: 초급 | G6: 초급기능사 | I6: 기술자 | J6: 인부 | K6: 측부 | M6: 특급 | N6: 고급 | O6: 중급 | P6: 초급 | Q6: 초급기능사 | R6: 인부 | S6: 측부
B7: 답사선점 | D7: 5 | E7: 5 | F7: 5 | G7: 5 | I7: 0.5 | K7: 0.5 | N7: =ROUND(D7/SUM($D$7:$G$7)*$I$7,2) -> 0.13 | O7: =ROUND(E7/SUM($D$7:$G$7)*$I$7,2) -> 0.13 | P7: =ROUND(F7/SUM($D$7:$G$7)*$I$7,2) -> 0.13 | Q7: =I7-SUM(N7:P7) -> 0.11 | S7: 0.5 | T7: 18-3-1 1급기준점측량
B8: 조표 | D8: 0 | E8: 5 | F8: 5 | G8: 5 | I8: 0.3 | J8: 0.7 | K8: 0.5 | N8: =ROUND(D8/SUM($D$8:$G$8)*$I$8,2) -> 0 | O8: =ROUND(E8/SUM($D$8:$G$8)*$I$8,2) -> 0.1 | P8: =ROUND(F8/SUM($D$8:$G$8)*$I$8,2) -> 0.1 | Q8: =I8-SUM(N8:P8) -> 0.1 | R8: 0.7 | S8: 0.5
B9: 관측 | D9: 9 | E9: 15 | F9: 12 | G9: 24 | I9: 1.4 | K9: 2 | N9: =ROUND(D9/SUM($D$9:$G$9)*$I$9,2) -> 0.21 | O9: =ROUND(E9/SUM($D$9:$G$9)*$I$9,2) -> 0.35 | P9: =ROUND(F9/SUM($D$9:$G$9)*$I$9,2) -> 0.28 | Q9: =I9-SUM(N9:P9) -> 0.56 | S9: 2
A10: 2급기준점측량 | B10: 구분 | C10: 특급 | D10: 고급 | E10: 중급 | F10: 초급 | G10: 초급기능사 | I10: 기술자 | J10: 인부 | K10: 측부 | M10: 특급 | N10: 고급 | O10: 중급 | P10: 초급 | Q10: 초급기능사 | R10: 인부 | S10: 측부
B11: 답사선점 | D11: 4 | E11: 4 | F11: 4 | G11: 4 | I11: 0.4 | K11: 0.4 | N11: =ROUND(D11/SUM($D$11:$G$11)*$I$11,2) -> 0.1 | O11: =ROUND(E11/SUM($D$11:$G$11)*$I$11,2) -> 0.1 | P11: =ROUND(F11/SUM($D$11:$G$11)*$I$11,2) -> 0.1 | Q11: =I11-SUM(N11:P11) -> 0.1 | S11: 0.4 | T11: 18-3-2 2급기준점측량
B12: 조표 | E12: 4 | F12: 4 | G12: 4 | I12: 0.2 | J12: 0.5 | K12: 0.4 | N12: =ROUND(D12/SUM($D$12:$G$12)*$I$12,2) -> 0 | O12: =ROUND(E12/SUM($D$12:$G$12)*$I$12,2) -> 0.07 | P12: =ROUND(F12/SUM($D$12:$G$12)*$I$12,2) -> 0.07 | Q12: =I12-SUM(N12:P12) -> 0.06 | R12: 0.5 | S12: 0.4
B13: 관측 | D13: 8 | E13: 10 | F13: 10 | G13: 20 | I13: 1.2 | K13: 1.7 | N13: =ROUND(D13/SUM($D$13:$G$13)*$I$13,2) -> 0.2 | O13: =ROUND(E13/SUM($D$13:$G$13)*$I$13,2) -> 0.25 | P13: =ROUND(F13/SUM($D$13:$G$13)*$I$13,2) -> 0.25 | Q13: =I13-SUM(N13:P13) -> 0.5 | S13: 1.7
A14: 3급기준점측량 | B14: 구분 | C14: 특급 | D14: 고급 | E14: 중급 | F14: 초급 | G14: 초급기능사 | I14: 기술자 | J14: 인부 | K14: 측부 | M14: 특급 | N14: 고급 | O14: 중급 | P14: 초급 | Q14: 초급기능사 | R14: 인부 | S14: 측부
B15: 답사선점 | D15: 1.5 | E15: 2 | F15: 2 | G15: 2 | I15: 0.1 | K15: 0.1 | N15: =ROUND(D15/SUM($D$15:$G$15)*$I$15,2) -> 0.02 | O15: =ROUND(E15/SUM($D$15:$G$15)*$I$15,2) -> 0.03 | P15: =ROUND(F15/SUM($D$15:$G$15)*$I$15,2) -> 0.03 | Q15: =I15-SUM(N15:P15) -> 0.02 | S15: 0.1 | T15: 18-3-3 3급기준점측량
B16: 조표 | D16: 0 | E16: 2 | F16: 2 | G16: 2 | I16: 0.1 | J16: 0.1 | K16: 0.1 | N16: =ROUND(D16/SUM($D$16:$G$16)*$I$16,2) -> 0 | O16: =ROUND(E16/SUM($D$16:$G$16)*$I$16,2) -> 0.03 | P16: =ROUND(F16/SUM($D$16:$G$16)*$I$16,2) -> 0.03 | Q16: =I16-SUM(N16:P16) -> 0.04 | R16: 0.1 | S16: 0.1
B17: 관측 | D17: 14 | E17: 14 | F17: 14 | G17: 28 | I17: 0.7 | K17: 1.1 | N17: =ROUND(D17/SUM($D$17:$G$17)*$I$17,2) -> 0.14 | O17: =ROUND(E17/SUM($D$17:$G$17)*$I$17,2) -> 0.14 | P17: =ROUND(F17/SUM($D$17:$G$17)*$I$17,2) -> 0.14 | Q17: =I17-SUM(N17:P17) -> 0.28 | S17: 1.1
A18: 4급기준점측량 | B18: 구분 | C18: 특급 | D18: 고급 | E18: 중급 | F18: 초급 | G18: 초급기능사 | I18: 기술자 | J18: 인부 | K18: 측부 | M18: 특급 | N18: 고급 | O18: 중급 | P18: 초급 | Q18: 초급기능사 | R18: 인부 | S18: 측부
B19: 답사선점 | D19: 1.5 | E19: 3 | F19: 3 | I19: 0.2 | J19: 0.1 | K19: 0.2 | N19: =ROUND(SUM(D19:D21)/SUM($D$19:$G$21)*$I$19,2) -> 0.04 | O19: =ROUND(SUM(E19:E21)/SUM($D$19:$G$21)*$I$19,2) -> 0.04 | P19: =ROUND(SUM(F19:F21)/SUM($D$19:$G$21)*$I$19,2) -> 0.04 | Q19: =I19-SUM(N19:P21) -> 0.08 | R19: 0.1 | S19: 0.2 | T19: 18-3-4 4급기준점측량
B20: 조표
B21: 관측 | D21: 20 | E21: 20 | F21: 20 | G21: 40
A22: 지형측량 S=1/500~600 | B22: 구분 | C22: 특급 | D22: 고급 | E22: 중급 | F22: 초급 | G22: 초급기능사 | I22: 기술자 | J22: 인부 | K22: 측부 | M22: 특급 | N22: 고급 | O22: 중급 | P22: 초급 | Q22: 초급기능사 | R22: 인부 | S22: 측부
B23: 기준점설치 | E23: 1 | F23: 1 | I23: 3 | J23: 1 | K23: 2 | N23: =ROUND(SUM(D23:D24)/SUM($D$23:$G$24)*$I$23,2) -> 0 | O23: =ROUND(SUM(E23:E24)/SUM($D$23:$G$24)*$I$23,2) -> 1.04 | P23: =ROUND(SUM(F23:F24)/SUM($D$23:$G$24)*$I$23,2) -> 1.04 | Q23: =I23-SUM(N23:P24) -> 0.92 | R23: 1 | S23: 2 | T23: 18-8 지형현황
B24: 세부측량 | E24: 7 | F24: 7 | G24: 7
A25: 지형측량 S=1/1,200 | B25: 구분 | C25: 특급 | D25: 고급 | E25: 중급 | F25: 초급 | G25: 초급기능사 | I25: 기술자 | J25: 인부 | K25: 측부 | M25: 특급 | N25: 고급 | O25: 중급 | P25: 초급 | Q25: 초급기능사 | R25: 인부 | S25: 측부
B26: 기준점설치 | E26: 1 | F26: 1 | I26: 3 | J26: 1 | K26: 2 | N26: =ROUND(SUM(D26:D27)/SUM($D$23:$G$24)*$I$23,2) -> 0 | O26: =ROUND(SUM(E26:E27)/SUM($D$23:$G$24)*$I$23,2) -> 1.04 | P26: =ROUND(SUM(F26:F27)/SUM($D$23:$G$24)*$I$23,2) -> 1.04 | Q26: =I26-SUM(N26:P27) -> 0.92 | R26: 1 | S26: 2 | T26: 18-8 지형현황
B27: 세부측량 | E27: 7 | F27: 7 | G27: 7
A28: 구역내 고저측량 (농업용수, 배수개선용) | B28: 구분 | C28: 특급 | D28: 고급 | E28: 중급 | F28: 초급 | G28: 초급기능사 | I28: 기술자 | J28: 인부 | K28: 측부 | M28: 특급 | N28: 고급 | O28: 중급 | P28: 초급 | Q28: 초급기능사 | R28: 인부 | S28: 측부
B29: 기준점설치 | E29: 1 | F29: 1 | T29: 9-3-1 지형현황
B30: 답 | E30: 7 | F30: 7 | G30: 7 | I30: 2 | K30: 2 | O30: =ROUND(SUM(E29:E30)/SUM($E$29:$G$30)*$I$30,2) -> 0.7 | P30: =ROUND(SUM(F29:F30)/SUM($E$29:$G$30)*$I$30,2) -> 0.7 | Q30: =I30-SUM(N30:P30) -> 0.6 | S30: 2
B31: 전,임야 | E31: 7 | F31: 7 | G31: 7 | I31: 3 | J31: 1 | K31: 2 | O31: =ROUND(SUM(E29:E30)/SUM($E$29:$G$30)*$I$31,2) -> 1.04 | P31: =ROUND(SUM(F29:F30)/SUM($E$29:$G$30)*$I$31,2) -> 1.04 | Q31: =I31-SUM(N31:P31) -> 0.92 | R31: 1 | S31: 2
B32: 기경지정리 답 | E32: 7 | F32: 7 | G32: 7 | I32: 2 | K32: 2 | O32: 0.7 | P32: 0.7 | Q32: =I32-SUM(N32:P32) -> 0.6 | S32: 2
A33: 지형현황측량 (토탈스테이션, 지오디메이터 등 사용시) | B33: 구분 | C33: 특급 | D33: 고급 | E33: 중급 | F33: 초급 | G33: 초급기능사 | I33: 기술자 | J33: 인부 | K33: 측부 | M33: 특급 | N33: 고급 | O33: 중급 | P33: 초급 | Q33: 초급기능사 | R33: 인부 | S33: 측부
B34: 기준점설치 | E34: 1 | F34: 1 | T34: 9-3-1 지형현황
B35: 평지 | E35: 7 | F35: 7 | G35: 7 | I35: 1.8 | J35: 1 | K35: 2 | O35: =ROUND(SUM(E34:E35)/SUM($E$34:$G$35)*$I$35,2) -> 0.63 | P35: =ROUND(SUM(F34:F35)/SUM($E$34:$G$35)*$I$35,2) -> 0.63 | Q35: =I35-SUM(N35:P35) -> 0.54 | R35: 1 | S35: 2
B36: 구릉지 및 산지 | E36: 7 | F36: 7 | G36: 7 | I36: 2.1 | J36: 1.2 | K36: 2.4 | O36: =ROUND(SUM(E34:E35)/SUM($E$34:$G$35)*$I$36,2) -> 0.73 | P36: =ROUND(SUM(F34:F35)/SUM($E$34:$G$35)*$I$36,2) -> 0.73 | Q36: =I36-SUM(N36:P36) -> 0.64 | R36: 1.2 | S36: 2.4
B37: 시가지 | E37: 7 | F37: 7 | G37: 7 | I37: 3.6 | J37: 1 | K37: 4 | O37: =ROUND(SUM(E34:E35)/SUM($E$34:$G$35)*$I$37,2) -> 1.25 | P37: =ROUND(SUM(F34:F35)/SUM($E$34:$G$35)*$I$37,2) -> 1.25 | Q37: =I37-SUM(N37:P37) -> 1.1 | R37: 1 | S37: 4
A38: 저수지 내용적 측량 | B38: 구분 | C38: 특급 | D38: 고급 | E38: 중급 | F38: 초급 | G38: 초급기능사 | I38: 기술자 | J38: 인부 | K38: 측부 | M38: 특급 | N38: 고급 | O38: 중급 | P38: 초급 | Q38: 초급기능사 | R38: 인부 | S38: 측부
B39: 기준점설치 | E39: 1 | F39: 1 | T39: 18-8 지형현황
B40: 저수지 내용적측량 | E40: 7 | F40: 7 | G40: 7 | I40: 1.1 | J40: 0.6 | K40: 0.6 | O40: =ROUND(SUM(E39:E40)/SUM($E$39:$G$40)*$I$40,2) -> 0.38 | P40: =ROUND(SUM(F39:F40)/SUM($E$39:$G$40)*$I$40,2) -> 0.38 | Q40: =I40-SUM(N40:P40) -> 0.34 | R40: 0.6 | S40: 0.6
A41: 용배수로 등 (농경지,구릉지) 노선측량 | B41: 구분 | C41: 특급 | D41: 고급 | E41: 중급 | F41: 초급 | G41: 초급기능사 | I41: 기술자 | J41: 인부 | K41: 측부 | M41: 특급 | N41: 고급 | O41: 중급 | P41: 초급 | Q41: 초급기능사 | R41: 인부 | S41: 측부
...

Sheet 수준점
A1: 괸돌지구 다목적농촌용수개발사업 기준점 거리
A4: ○ 점 번 호 : | F4: U봉평02
A5: ○ 소 재 지 : | F5: 강원특별자치도 홍천군 내면 자운리 산42-8
A7: ○ 거 리 : | F7: 3 | M7: km
B177: 국토정보플랫폼 국토정보맵 참조

Sheet 조사측량용단가(2026상)
A2: 2026년도 상반기 조사·측량용 단가
A4: 구 분 | B4: 종 별 | F4: 단위 | G4: 단 가 | K4: 비고
G5: 2025.9월 | H5: 2026.1월 | I5: 증감 | J5: 증감율(%)
A6: 1.노임 | B6: 보통인부 | F6: 인 | G6: 171037 | H6: 172068 | I6: 1031 | J6: 0.60279355
B7: 측 부 | F7: 인 | G7: 146654 | H7: 151706 | I7: 5052 | J7: 3.444843
B8: 특별인부 | F8: 인 | G8: 224490 | H8: 226122 | I8: 1632 | J8: 0.72698116
B9: 보 링 공 | F9: 인 | G9: 226520 | H9: 232562 | I9: 6042 | J9: 2.6673141
A10: 2. 항목 | B10: 삼각점(석항1,드라이몰탈2대포함) | F10: 개 | G10: 91200 | H10: 91200 | I10: 0 | J10: 0
B11: 수준점(석항1,드라이몰탈2대포함) | F11: 개 | G11: 91200 | H11: 91200 | I11: 0 | J11: 0
B12: 목항(A항: 0.12×0.12×1.0, 보조재포함) | F12: 개 | G12: 15460 | H12: 15460 | I12: 0 | J12: 0
B13: 목항(B항:1.5"×1.5"×1.5') | F13: 개 | G13: 810 | H13: 810 | I13: 0 | J13: 0
B14: 목항(C항:1.0"×1.0"×1.0') | F14: 개 | G14: 240 | H14: 240 | I14: 0 | J14: 0
A15: 3. 선박 | B15: 측량선[7.5kw,측량용] | F15: 일 | G15: 461400 | H15: 465300 | I15: 3900 | J15: 0.84525358
B16: 측량선[22.4kw,측량용] | F16: 일 | G16: 522800 | H16: 530300 | I16: 7500 | J16: 1.434583
B17: 측량선[44.8kw,측량용] | F17: 일 | G17: 628900 | H17: 642200 | I17: 13300 | J17: 2.1148036
B18: 측량선[44.8kw,13hr,조류속측량용] | F18: 일 | G18: 986300 | H18: 996300 | I18: 10000 | J18: 1.0138903
B19: 측량선[44.8kw,25hr,조류속측량용] | F19: 일 | G19: 1664500 | H19: 1678800 | I19: 14300 | J19: 0.85911685
A20: 4.운반차 | B20: 용달차(2ton, 편도 10km 기준) | F20: 회 | G20: 46200 | H20: 46500 | I20: 300 | J20: 0.64935065
B21: 용달차(2ton, 편도 20km기준 ) | F21: 회 | G21: 65000 | H21: 65300 | I21: 300 | J21: 0.46153846
B22: 용달차(2ton, 4시간/일 임대 ) | F22: 일 | G22: 63400 | H22: 63700 | I22: 300 | J22: 0.47318612
B23: 용달차(2ton, 1일 임대 ) | F23: 일 | G23: 126900 | H23: 127500 | I23: 600 | J23: 0.47281324
B24: 경운기(1ton, 운전원포함) | F24: 일 | G24: 192300 | H24: 195000 | I24: 2700 | J24: 1.4040562
A25: 5. 수굴 | B25: 인력 : 심도 ( 0 - 1 m ) | F25: 공 | G25: 58100 | H25: 58500 | I25: 400 | J25: 0.68846816
B26: 인력 : 심도 ( 0 - 2 m ) | F26: 공 | G26: 277000 | H26: 278700 | I26: 1700 | J26: 0.61371841
B27: 인력 : 심도 ( 0 - 3 m ) | F27: 공 | G27: 755900 | H27: 760500 | I27: 4600 | J27: 0.6085461
A28: 6. 유류대 | B28: 유류대(LPG) | F28: 일 | G28: 11510 | H28: 11400 | I28: -110 | J28: -0.9556907
A29: 운전사 | B29: 유류대(경유) | F29: 일 | G29: 12250 | H29: 13030 | I29: 780 | J29: 6.3673469
B30: 유류대(휘발유) | F30: 일 | G30: 13280 | H30: 13820 | I30: 540 | J30: 4.0662651
B31: 운전사 | F31: 일 | G31: 240680 | H31: 238930 | I31: -1750 | J31: -0.72710653
A32: 1. 차량비는 친환경차량, 내연기관차량, 택시로 구분하여 현장의 사용여건을 고려하여 적용
A33: - 친환경차량: 부서별 직접 계약체결(총무계약-4000(2025. 10. 21.)호.)
A34: - 내연기관 차량(승합차 포함) 및 택시는 계상시점의 현장이 속해있는 광역시·도 또는 지자체의 렌터카 견적단가 적용
A35: ※ 견적단가 적용시 2개 이상 업체의 견적을 비교하여 계상
A36: 2. 렌터카 사용시 유류대는 별도 계상, 구분6의 일당 유류대는 VAT포함된 단가임
A37: ※ 운전사 필요시 별도 계상하고, 운전사 비용은 대한건설협회에서 발표하는 시중노임단가에 의함
A38: 3. 운반차 금액은 '25년 품셈 미정립분야 적용요령(9.3 구역화물의 운임)을 준용
A39: 4. 그밖에 필요한 단가는 관련 근거, 거래실례가격, 견적가격 등을 참고하여 적정 단가를 반영하기 바람
A40: 5. 구분2의 재료비(석항, 목항)는 부가세 제외 단가임, 외주 조사·측량용역시 그대로 사용
A41: 5. 구분2의 재료비(석항, 목항)는 부가세 제외 단가임, 외주 조사·측량용역시 그대로 사용

Sheet 측량기술자임금
A2: 참조) 공간정보산업협회 회원지원팀(2025.12.22.)
A4: 2025년도 측량기술자 임금 공표
A6: 본 협회에서 실시한 2025년도 측량업체 임금실태조사(국가승인통계
A7: 제377001호) 결과를 통계법 제27조에 따라 다음과 같이 공표합니다.
A9: □ 2025년도 측량기술자 임금 □
A11: 구분 | C11: 직종 | D11: 단가(원)
A12: 기술계 | C12: 기 술 사 | D12: 442679
C13: 특 급 | D13: 326774
C14: 고 급 | D14: 289265
C15: 중 급 | D15: 251596
C16: 초 급 | D16: 215609
A17: 기 능 계 | B17: 측량 | C17: 고 급 | D17: 259647
C18: 중 급 | D18: 235899
C19: 초 급 | D19: 200786
B20: 지도제작 | C20: 고 급 | D20: 268435
C21: 중 급 | D21: 242957
C22: 초 급 | D22: 198089
B23: 도화 | C23: 고 급 | D23: 300967
C24: 중 급 | D24: 236885
C25: 초 급 | D25: 229483
B26: 항공사진 | C26: 고 급 | D26: 299990
C27: 중 급 | D27: 270554
C28: 초 급 | D28: 237664
A29: 기타 | C29: 사업용조종사 | D29: 313877
C30: 항법사 | D30: 303861
C31: 항공정비사 | D31: 288757
A32: 측부 | D32: 140043
A34: ※ 참고사항
A35: 1. 적용일 : 2026년 1월 1일부터
A36: 2. 본 노임단가는 1일 기준이며, 상여금 및 퇴직적립금이 포함된 단가임.
A37: 3. 측량기술자 월평균 근무일수는 20.3일로 함
A39: 2025. 12.

Sheet 엔지니어링 임금실태조사결과(2025)
