Workbook

Sheet 〓 목 차 〓
D1: =IF('〓 INITIAL 〓'!C4,"※※ 기본정보의 일부가 삭제되어 Stmate로 변환할 수 없습니다 ※※","")
B2: 목 차 | D2: ※ 본 엑셀자료는 【STmate w26.07】버전 이상에서 STmate 자료로 다시 등록할 수 있습니다.
D3: 단, 임의로 수정한 내용(Sheet삭제, 산근내용변경, 기타계산식변경..)은 반영되지 않을 수 있습니다.
B4: 1. ※※안내※※ | D4: =HYPERLINK("#'※※안내※※'!A1","※※안내※※ →") -> ※※안내※※ →
B5: 2. 공사원가계산서 | D5: =HYPERLINK("#"&공사원가계산서!G2&"!A1","공사원가계산서 →") -> 공사원가계산서 →
B6: 3. 총괄내역서 | D6: =HYPERLINK("#"&총괄내역서!H2&"!A1","총괄내역서 →") -> 총괄내역서 →
B7: 4. 설계내역서 | D7: =HYPERLINK("#"&설계내역서!O2&"!A1","설계내역서 →") -> 설계내역서 →
B8: 5. 일위대가목록표 | D8: =HYPERLINK("#"&일위대가목록표!J2&"!A1","일위대가목록표 →") -> 일위대가목록표 →
B9: 6. 일위대가표 | D9: =HYPERLINK("#"&일위대가표!N2&"!A1","일위대가표 →") -> 일위대가표 →
B10: 7. 단가산출근거목록표 | D10: =HYPERLINK("#"&단가산출근거목록표!J2&"!A1","단가산출근거목록표 →") -> 단가산출근거목록표 →
B11: 8. 단가산출근거 | D11: =HYPERLINK("#"&단가산출근거!G2&"!A1","단가산출근거 →") -> 단가산출근거 →
B12: 9. 환율및기초자료 | D12: =HYPERLINK("#"&환율및기초자료!I2&"!A1","환율및기초자료 →") -> 환율및기초자료 →
B13: 10. 중기목록표 | D13: =HYPERLINK("#"&중기목록표!J2&"!A1","중기목록표 →") -> 중기목록표 →
B14: 11. 중기사용료 | D14: =HYPERLINK("#"&중기사용료!N2&"!A1","중기사용료 →") -> 중기사용료 →
B15: 12. 재료비목록표 | D15: =HYPERLINK("#"&재료비목록표!G2&"!A1","재료비목록표 →") -> 재료비목록표 →
B16: 13. 노무비목록표 | D16: =HYPERLINK("#"&노무비목록표!G2&"!A1","노무비목록표 →") -> 노무비목록표 →
B17: 14. 경비목록표 | D17: =HYPERLINK("#"&경비목록표!G2&"!A1","경비목록표 →") -> 경비목록표 →
B18: 15. 일식견적목록표 | D18: =HYPERLINK("#"&일식견적목록표!J2&"!A1","일식견적목록표 →") -> 일식견적목록표 →
B19: 16. 자재단가대비표 | D19: =HYPERLINK("#"&자재단가대비표!R2&"!A1","자재단가대비표 →") -> 자재단가대비표 →

Sheet ※※안내※※
A2: =HYPERLINK("#'〓 목 차 〓'!B2","목차 →") -> 목차 → | B2: === 엑셀파일에 작성에 대한 안내문(반드시 읽어보세요) ===
B4: 엑셀파일 수정후 계산식 반영이 안될경우 :【 Ctrl+Alt(+Shift)+F9 】
B6: ◈ 엑셀파일내의 산식은 기초단가, 복합단가, 내역서 및 총괄내역서까지 연결됩니다.
B7: (모든산식은 단가만을 불러오며, 명칭, 규격, 단위, 비고.. 등은 TEXT로 입력됩니다)
B8: ◈ 각 Sheet우측에는 해당 항목을 찾아가는 위치이동(→) 링크가 있으며, 클릭하면 이동됩니다.
B9: (Alt + ← 키를 이용하여 찾아갔던 항목을 되돌아 올 수 있습니다.)
B10: ◈ 자재단가 대비표의 적용단가는 수식이 적용되지 않았으나, 우측에 최소단가 수식을 입력하였습니다.
B11: ◈ 일위대가표 및 중기사용료 및 총괄내역서의 양식은 일반양식을 적용합니다.
B12: =HYPERLINK("#"&단가산출근거!G2&"!Y3","◈ 단가산출근거의 수량부분은 산출근거 우측 연두색 부분에서 수정합니다. →") -> ◈ 단가산출근거의 수량부분은 산출근거 우측 연두색 부분에서 수정합니다. →
B13: ◈ [목차] 및 [안내] Sheet의 이름을 변경하지 마시고, Sheet이름을 변경할때 공백문자 및 특수문자를 사용하지 마십시요.
B15: ※※※ 아래의 내용(안내 및 오류)을 확인/검토 하세요 ※※※
B16: =HYPERLINK("#"&총괄내역서!H2&"!I"&ROW(총괄내역서!I21)," → ") -> → | C16: 【총괄내역서】21번째줄의 I열 이윤보정액은 총공사비 금액이 다를경우 임의조정(±α) 하십시요.

Sheet 공사원가계산서
A1: 공 사 원 가 계 산 서 | G1: STmate | H1: STmate
A2: 공사명 : 2026년도 무인화시설물 유지보수(기계) 연간단가공사(1권역) 2차 | F2: 공사기간: 2026년00월 ~ 2026년00월 | G2: =MID(CELL("filename",$A$1),FIND("]",CELL("filename",$A$1))+1,LEN(CELL("filename",$A$1))) -> 공사원가계산서
A3: 구 분 | D3: 금 액 | E3: 구 성 비 | F3: 비 고
A4: 비 목 | H4: =HYPERLINK("#'〓 목 차 〓'!B2","목차 →") -> 목차 →
A5: 순 공 사 원 가 | B5: 재 료 비 | C5: 직 접 재 료 비 | D5: =총괄내역서!F4-D6+D7 -> 9620799 | E5: =D5/D31*100 -> 17.492362 | H5: =HYPERLINK("#"&총괄내역서!H2&"!F"&ROW(총괄내역서!F4),"총괄표 →") -> 총괄표 →
C6: 간 접 재 료 비 | D6: 0 | E6: =D6/D31*100 -> 0
C7: 작업설,부산물등(△) | D7: 0 | E7: =D7/D31*100 -> 0
C8: 소 계 | D8: =+D5+D6-D7 -> 9620799 | E8: =D8/D31*100 -> 17.492362
B9: 노 무 비 | C9: 직 접 노 무 비 | D9: =총괄내역서!E4 -> 20883787 | E9: =D9/D31*100 -> 37.970522 | H9: =HYPERLINK("#"&총괄내역서!H2&"!E"&ROW(총괄내역서!E4),"총괄표 →") -> 총괄표 →
C10: 간 접 노 무 비 | D10: =총괄내역서!D5 -> 3988803 | E10: =D10/D31*100 -> 7.2523691 | F10: =총괄내역서!E5 -> 직접노무비 x 19.1% | H10: =HYPERLINK("#"&총괄내역서!H2&"!D"&ROW(총괄내역서!D5),"총괄표 →") -> 총괄표 →
C11: 소 계 | D11: =+D9+D10 -> 24872590 | E11: =D11/D31*100 -> 45.222891
B12: 경 비 | C12: 산 출 경 비 | D12: =총괄내역서!G4 -> 279558 | E12: =D12/D31*100 -> 0.50828727 | H12: =HYPERLINK("#"&총괄내역서!H2&"!G"&ROW(총괄내역서!G4),"총괄표 →") -> 총괄표 →
C13: 산 재 보 험 료 | D13: =총괄내역서!D6 -> 885464 | E13: =D13/D31*100 -> 1.6099345 | F13: =총괄내역서!E6 -> (직접노무비+간접노무비) x 3.56% | H13: =HYPERLINK("#"&총괄내역서!H2&"!D"&ROW(총괄내역서!D6),"총괄표 →") -> 총괄표 →
C14: 고 용 보 험 료 | D14: =총괄내역서!D7 -> 251213 | E14: =D14/D31*100 -> 0.45675091 | F14: =총괄내역서!E7 -> (직접노무비+간접노무비) x 1.01% | H14: =HYPERLINK("#"&총괄내역서!H2&"!D"&ROW(총괄내역서!D7),"총괄표 →") -> 총괄표 →
C15: 건 강 보 험 료 | D15: =총괄내역서!D8 -> 750772 | E15: =D15/D31*100 -> 1.36504 | F15: =총괄내역서!E8 -> 직접노무비 x 3.595% | H15: =HYPERLINK("#"&총괄내역서!H2&"!D"&ROW(총괄내역서!D8),"총괄표 →") -> 총괄표 →
C16: 노인장기요양보험료 | D16: =총괄내역서!D9 -> 98651 | E16: =D16/D31*100 -> 0.17936545 | F16: =총괄내역서!E9 -> 건강보험료 x 13.14% | H16: =HYPERLINK("#"&총괄내역서!H2&"!D"&ROW(총괄내역서!D9),"총괄표 →") -> 총괄표 →
C17: 연 금 보 험 료 | D17: =총괄내역서!D10 -> 991979 | E17: =D17/D31*100 -> 1.8035982 | F17: =총괄내역서!E10 -> 직접노무비 x 4.75% | H17: =HYPERLINK("#"&총괄내역서!H2&"!D"&ROW(총괄내역서!D10),"총괄표 →") -> 총괄표 →
C18: 퇴 직 공 제 부 금 비 | D18: =총괄내역서!D11 -> 480327 | E18: =D18/D31*100 -> 0.87332182 | F18: =총괄내역서!E11 -> 직접노무비 x 2.3% | H18: =HYPERLINK("#"&총괄내역서!H2&"!D"&ROW(총괄내역서!D11),"총괄표 →") -> 총괄표 →
C19: 산업안전보건관리비 | D19: =총괄내역서!D12 -> 960894 | E19: =D19/D31*100 -> 1.74708 | F19: =총괄내역서!E12 -> (직노+직재+간재) x 3.15% = 960,894 | H19: =HYPERLINK("#"&총괄내역서!H2&"!D"&ROW(총괄내역서!D12),"총괄표 →") -> 총괄표 →
C20: 기 타 경 비 | D20: =총괄내역서!D13 -> 1897136 | E20: =D20/D31*100 -> 3.4493382 | F20: =총괄내역서!E13 -> (직접노무비+간접노무비+재료비) x 5.5% | H20: =HYPERLINK("#"&총괄내역서!H2&"!D"&ROW(총괄내역서!D13),"총괄표 →") -> 총괄표 →
C21: 환 경 보 전 비 | D21: =총괄내역서!D14 -> 153920 | E21: =D21/D31*100 -> 0.27985455 | F21: =총괄내역서!E14 -> (재료비 + 직접노무비 + 산출경비) x 0.5% | H21: =HYPERLINK("#"&총괄내역서!H2&"!D"&ROW(총괄내역서!D14),"총괄표 →") -> 총괄표 →
C22: 건설기계대여금지급보증서수수료 | D22: =총괄내역서!D15 -> 156999 | E22: =D22/D31*100 -> 0.28545273 | F22: =총괄내역서!E15 -> (재료비 + 직접노무비 + 산출경비) x 0.51% | H22: =HYPERLINK("#"&총괄내역서!H2&"!D"&ROW(총괄내역서!D15),"총괄표 →") -> 총괄표 →
C23: 석면피해구제분담금 | D23: =총괄내역서!D16 -> 1492 | E23: =D23/D31*100 -> 0.0027127273 | F23: =총괄내역서!E16 -> (직접노무비+간접노무비) x 0.006% | H23: =HYPERLINK("#"&총괄내역서!H2&"!D"&ROW(총괄내역서!D16),"총괄표 →") -> 총괄표 →
C24: 임 금 채 권 부 담 금 | D24: =총괄내역서!D17 -> 22385 | E24: =D24/D31*100 -> 0.0407 | F24: =총괄내역서!E17 -> (직접노무비+간접노무비) x 0.09% | H24: =HYPERLINK("#"&총괄내역서!H2&"!D"&ROW(총괄내역서!D17),"총괄표 →") -> 총괄표 →
C25: 소 계 | D25: =+D12+D13+D14+D15+D16+D17+D18+D19+D20+D21+D22+D23+D24 -> 6930790 | E25: =D25/D31*100 -> 12.601436
A26: 일 반 관 리 비 | D26: =총괄내역서!D19 -> 3313934 | E26: =D26/D31*100 -> 6.0253345 | F26: ="순공사원가 x "&ROUND(총괄내역서!M19,5)&"%" -> 순공사원가 x 8% | H26: =HYPERLINK("#"&총괄내역서!H2&"!D"&ROW(총괄내역서!D19),"총괄표 →") -> 총괄표 →
A27: 이 윤 | D27: =총괄내역서!D21 -> 5261887 | E27: =D27/D31*100 -> 9.5670673 | F27: ="(노무비+경비+일반관리비) x "&ROUND(총괄내역서!M21,5)&"%" -> (노무비+경비+일반관리비) x 14.98374% | H27: =HYPERLINK("#"&총괄내역서!H2&"!D"&ROW(총괄내역서!D21),"총괄표 →") -> 총괄표 →
A28: 총 원 가 | D28: =총괄내역서!D22 -> 50000000 | E28: =D28/D31*100 -> 90.909091 | H28: =HYPERLINK("#"&총괄내역서!H2&"!D"&ROW(총괄내역서!D22),"총괄표 →") -> 총괄표 →
A29: 부 가 가 치 세 | D29: =총괄내역서!D23 -> 5000000 | E29: =D29/D31*100 -> 9.0909091 | F29: ="총 원 가 x "&ROUND(총괄내역서!M23,5)&"%" -> 총 원 가 x 10% | H29: =HYPERLINK("#"&총괄내역서!H2&"!D"&ROW(총괄내역서!D23),"총괄표 →") -> 총괄표 →
A30: 도 급 공 사 비 | D30: =총괄내역서!D24 -> 55000000 | E30: =D30/D31*100 -> 100 | H30: =HYPERLINK("#"&총괄내역서!H2&"!D"&ROW(총괄내역서!D24),"총괄표 →") -> 총괄표 →
A31: 총 공 사 비 | D31: =D30 -> 55000000 | E31: 100

Sheet 총괄내역서
A1: 총 괄 내 역 서 | H1: STmate | Q1: STmate
A2: 공사명 : 2026년도 무인화시설물 유지보수(기계) 연간단가공사(1권역) | H2: =MID(CELL("filename",$A$1),FIND("]",CELL("filename",$A$1))+1,LEN(CELL("filename",$A$1))) -> 총괄내역서
A3: 공 종 | B3: 명 칭 | C3: 규 격 | D3: 합 계 | E3: 노 무 비 | F3: 재 료 비 | G3: 경 비 | H3: _x0007_`JTYP|0_x0005_`ACTL|F_x0005_` | I3: 수정은 아래의 연두색 부분에 | Q3: =HYPERLINK("#'〓 목 차 〓'!B2","목차 →") -> 목차 →
A4: 가. | B4: 순공사비계 | D4: =설계내역서!G1025 -> 30784144 | E4: =설계내역서!I1025 -> 20883787 | F4: =설계내역서!K1025 -> 9620799 | G4: =설계내역서!M1025 -> 279558 | Q4: =HYPERLINK("#"&설계내역서!O2&"!A"&ROW(설계내역서!A1025),"내역 →") -> 내역 →
B5: 1. 간접노무비 | D5: =ROUNDDOWN(E4*M5/100,0) -> 3988803 | E5: ="직접노무비 x "&ROUND(M5,5)&"%" -> 직접노무비 x 19.1% | H5: _x0007_`DTP|201_x0005_`QTY1|1_x0005_`BDC|_x0005_`SRE|LA_x0005_` | I5: 0 | M5: 19.1 | N5: 0 | O5: 0 | P5: 0
B6: 2. 산재보험료 | D6: =ROUNDDOWN(((E4+D5))*M6/100,0) -> 885464 | E6: ="(직접노무비+간접노무비) x "&ROUND(M6,5)&"%" -> (직접노무비+간접노무비) x 3.56% | H6: _x0007_`DTP|301_x0005_`QTY1|1_x0005_`BDC|_x0005_`SRE|SA_x0005_` | I6: 0 | M6: 3.56 | N6: 0 | O6: 0 | P6: 0
B7: 3. 고용보험료 | D7: =ROUNDDOWN(((E4+D5))*M7/100,0) -> 251213 | E7: ="(직접노무비+간접노무비) x "&ROUND(M7,5)&"%" -> (직접노무비+간접노무비) x 1.01% | H7: _x0007_`DTP|302_x0005_`QTY1|1_x0005_`BDC|_x0005_`SRE|SA_x0005_` | I7: 0 | M7: 1.01 | N7: 0 | O7: 0 | P7: 0
B8: 4. 건강보험료 | D8: =ROUNDDOWN((E4)*M8/100,0) -> 750772 | E8: ="직접노무비 x "&ROUND(M8,5)&"%" -> 직접노무비 x 3.595% | H8: _x0007_`DTP|303_x0005_`QTY1|1_x0005_`BDC|_x0005_`SRE|SA_x0005_` | I8: 0 | J8: =E4 -> 20883787 | M8: 3.595 | N8: 0 | O8: 0 | P8: 0
B9: 5. 노인장기요양보험료 | D9: =ROUNDDOWN(D8*M9/100,0) -> 98651 | E9: ="건강보험료 x "&ROUND(M9,5)&"%" -> 건강보험료 x 13.14% | H9: _x0007_`DTP|310_x0005_`QTY1|1_x0005_`BDC|_x0005_`SRE|SA_x0005_` | I9: 0 | J9: =D8 -> 750772 | M9: 13.14 | N9: 0 | O9: 0 | P9: 0
B10: 6. 연금보험료 | D10: =ROUNDDOWN((E4)*M10/100,0) -> 991979 | E10: ="직접노무비 x "&ROUND(M10,5)&"%" -> 직접노무비 x 4.75% | H10: _x0007_`DTP|304_x0005_`QTY1|1_x0005_`BDC|_x0005_`SRE|SA_x0005_` | I10: 0 | J10: =E4 -> 20883787 | M10: 4.75 | N10: 0 | O10: 0 | P10: 0
B11: 7. 퇴직공제부금비 | D11: =ROUNDDOWN((E4)*M11/100,0) -> 480327 | E11: ="직접노무비 x "&ROUND(M11,5)&"%" -> 직접노무비 x 2.3% | H11: _x0007_`DTP|305_x0005_`QTY1|1_x0005_`BDC|_x0005_`SRE|SA_x0005_` | I11: 0 | J11: =E4 -> 20883787 | M11: 2.3 | N11: 0 | O11: 0 | P11: 0
B12: 8. 산업안전보건관리비 | D12: =ROUNDDOWN(((E4+(F4)))*M12/100,0) -> 960894 | E12: ="(직노+직재+간재) x "&ROUND(M12,5)&"% = "&TEXT(D12,"#,0")&"" -> (직노+직재+간재) x 3.15% = 960,894 | H12: _x0007_`DTP|306_x0005_`QTY1|1_x0005_`BDC|_x0005_`SRE|SA_x0005_` | I12: 0 | J12: =((E4+(F4))) -> 30504586 | M12: 3.15 | N12: 0 | O12: 0 | P12: 0
B13: 9. 기타경비 | D13: =ROUNDDOWN(((((E4+D5)+(F4))))*M13/100,0) -> 1897136 | E13: ="(직접노무비+간접노무비+재료비) x "&ROUND(M13,5)&"%" -> (직접노무비+간접노무비+재료비) x 5.5% | H13: _x0007_`DTP|321_x0005_`QTY1|1_x0005_`BDC|_x0005_`SRE|SA_x0005_` | I13: 0 | M13: 5.5 | N13: 0 | O13: 0 | P13: 0
B14: 10. 환경보전비 | D14: =ROUNDDOWN((D4)*M14/100,0) -> 153920 | E14: ="(재료비 + 직접노무비 + 산출경비) x "&ROUND(M14,5)&"%" -> (재료비 + 직접노무비 + 산출경비) x 0.5% | H14: _x0007_`DTP|309_x0005_`QTY1|1_x0005_`BDC|_x0005_`SRE|SA_x0005_` | I14: 0 | M14: 0.5 | N14: 0 | O14: 0 | P14: 0
B15: 11. 건설기계대여금지급보증서수수료 | D15: =ROUNDDOWN((D4)*M15/100,0) -> 156999 | E15: ="(재료비 + 직접노무비 + 산출경비) x "&ROUND(M15,5)&"%" -> (재료비 + 직접노무비 + 산출경비) x 0.51% | H15: _x0007_`DTP|311_x0005_`QTY1|1_x0005_`BDC|_x0005_`SRE|SA_x0005_` | I15: 0 | M15: 0.51 | N15: 0 | O15: 0 | P15: 0
B16: 12. 석면피해구제분담금 | D16: =ROUNDDOWN(((E4+D5))*M16/100,0) -> 1492 | E16: ="(직접노무비+간접노무비) x "&ROUND(M16,5)&"%" -> (직접노무비+간접노무비) x 0.006% | H16: _x0007_`DTP|322_x0005_`QTY1|1_x0005_`BDC|_x0005_`SRE|SA_x0005_` | I16: 0 | M16: 0.006 | N16: 0 | O16: 0 | P16: 0
B17: 13. 임금채권부담금 | D17: =ROUNDDOWN(((E4+D5))*M17/100,0) -> 22385 | E17: ="(직접노무비+간접노무비) x "&ROUND(M17,5)&"%" -> (직접노무비+간접노무비) x 0.09% | H17: _x0007_`DTP|323_x0005_`QTY1|1_x0005_`BDC|_x0005_`SRE|SA_x0005_` | I17: 0 | M17: 0.09 | N17: 0 | O17: 0 | P17: 0
A18: 나. | B18: 소 계 | D18: =(D4+D5+D6+D7+D8+D9+D10+D11+D12+D13+D14+D15+D16+D17) -> 41424179 | H18: _x0007_`DTP|400_x0005_`QTY1|1_x0005_`BDC|_x0005_`SRE|TA-F_x0005_` | I18: 0 | M18: 0 | N18: 0 | O18: 0 | P18: 0
B19: 14. 일반관리비 | D19: =ROUNDDOWN(((D18)+0)*M19/100,0) -> 3313934 | E19: ="(나.소 계) x "&ROUND(M19,5)&"%" -> (나.소 계) x 8% | H19: _x0007_`DTP|401_x0005_`QTY1|1_x0005_`BDC|_x0005_`SRE|TA_x0005_` | I19: 0 | M19: 8 | N19: 0 | O19: 0 | P19: 0
A20: 다. | B20: 소 계 | D20: =(D18+D19) -> 44738113 | H20: _x0007_`DTP|410_x0005_`QTY1|1_x0005_`BDC|_x0005_`SRE|TA-F_x0005_` | I20: 0 | J20: =D20 -> 44738113 | L20: =D20 -> 44738113 | M20: 0 | N20: 0 | O20: 0 | P20: 0
B21: 15. 이 윤 | D21: =ROUNDDOWN(((D20)-(F4))*M21/100,0)-I21-K21 -> 5261887 | E21: ="(다.소계 - 재료비) x "&ROUND(M21,5)&"% = "&TEXT(J21,"#,##0") -> (다.소계 - 재료비) x 14.98374% = 5,261,887 | H21: _x0007_`DTP|402_x0005_`QTY1|1_x0005_`BDC|_x0005_`SRE|TA_x0005_` | I21: 0 | J21: =ROUNDDOWN(((J20)-(F4))*M21/100,0) -> 5261887 | L21: =ROUNDDOWN(((L20)-(F4))*M21/100,0)-I21 -> 5261887 | M21: 14.98374 | N21: 0 | O21: 0 | P21: 0
A22: 라. | B22: 공급가액 | D22: =(D20+D21) -> 50000000 | H22: _x0007_`DTP|500_x0005_`QTY1|1_x0005_`BDC|_x0005_`SRE|TA-F_x0005_` | I22: 0 | J22: =(J20+J21) -> 50000000 | L22: =(L20+L21) -> 50000000 | M22: 0 | N22: 0 | O22: 0 | P22: 0
B23: 16. 부가가치세 | D23: =ROUNDDOWN((D22)*M23/100,0)+I23 -> 5000000 | E23: ="공급가액 x "&ROUND(M23,5)&"%" -> 공급가액 x 10% | H23: _x0007_`DTP|502_x0005_`QTY1|1_x0005_`BDC|_x0005_`SRE|TA_x0005_` | I23: 0 | J23: =ROUNDDOWN((J22)*M23/100,0)+I23 -> 5000000 | L23: =ROUNDDOWN((L22)*M23/100,0)+I23 -> 5000000 | M23: 10 | N23: 0 | O23: 0 | P23: 0
A24: 마. | B24: 도급공사비 | D24: =(D22+D23) -> 55000000 | H24: _x0007_`DTP|600_x0005_`QTY1|1_x0005_`BDC|_x0005_`SRE|TA-F_x0005_` | I24: 0 | J24: =(J22+J23) -> 55000000 | L24: =(L22+L23) -> 55000000 | M24: 0 | N24: 0 | O24: 0 | P24: 0

Sheet 설계내역서
A1: 설 계 내 역 서 | O1: STmate | AC1: STmate
A2: 공사명 : 2026년도 무인화시설물 유지보수(기계) 연간단가공사(1권역) | O2: =MID(CELL("filename",$A$1),FIND("]",CELL("filename",$A$1))+1,LEN(CELL("filename",$A$1))) -> 설계내역서
A3: 공 종 | B3: 명 칭 | C3: 규 격 | D3: 수 량 | E3: 단위 | F3: 합 계 | H3: 노 무 비 | J3: 재 료 비 | L3: 경 비 | N3: 비 고
F4: 단 가 | G4: 금 액 | H4: 단 가 | I4: 금 액 | J4: 단 가 | K4: 금 액 | L4: 단 가 | M4: 금 액 | AC4: =HYPERLINK("#'〓 목 차 〓'!B2","목차 →") -> 목차 →
B5: 무인화시설물 유지보수 연간단가 | F5: 0 | G5: =SUMIF(Q6:Q993,P5,G6:G993) -> 30784144 | H5: 0 | I5: =SUMIF(Q6:Q993,P5,I6:I993) -> 20883787 | J5: 0 | K5: =SUMIF(Q6:Q993,P5,K6:K993) -> 9620799 | L5: 0 | M5: =SUMIF(Q6:Q993,P5,M6:M993) -> 279558 | O5: ="_x0007_`COD|E3_x0005_`QTY1|1_x0005_`EXI|0_x0005_`ITT|0_x0005_`END|"&ROW(M994)&"_x0005_`" -> _x0007_`COD|E3_x0005_`QTY1|1_x0005_`EXI|0_x0005_`ITT|0_x0005_`END|994_x0005_` | P5: E3_1 | Q5: E10_1
A6: 1. □ | B6: 시설물 유지보수 | F6: 0 | G6: =SUMIF(Q7:Q663,P6,G7:G663) -> 25418144 | H6: 0 | I6: =SUMIF(Q7:Q663,P6,I7:I663) -> 20883787 | J6: 0 | K6: =SUMIF(Q7:Q663,P6,K7:K663) -> 4254799 | L6: 0 | M6: =SUMIF(Q7:Q663,P6,M7:M663) -> 279558 | O6: ="_x0007_`COD|E2_x0005_`QTY1|1_x0005_`EXI|0_x0005_`ITT|0_x0005_`END|"&ROW(M664)&"_x0005_`" -> _x0007_`COD|E2_x0005_`QTY1|1_x0005_`EXI|0_x0005_`ITT|0_x0005_`END|664_x0005_` | P6: E2_1 | Q6: E3_1
B7: 라인가압펌프(일체형스텐레스) | C7: 2HP(25-200m)0.01-0.188㎥/min | D7: 0 | E7: 대 | F7: =J7+H7+L7 -> 8365273 | G7: =K7+I7+M7 -> 0 | H7: =일위대가목록표!F4 -> 354635 | I7: =ROUNDDOWN(H7*D7,0) -> 0 | J7: =일위대가목록표!G4 -> 8000000 | K7: =ROUNDDOWN(J7*D7,0) -> 0 | L7: =일위대가목록표!H4 -> 10638 | M7: =ROUNDDOWN(L7*D7,0) -> 0 | N7: 대가 1호표 | O7: _x0007_`COD|B04896_x0005_`QTY1|1_x0005_`EXI|0_x0005_`IPR|0_x0005_`BLA|F_x0005_` | P7: B04896_1 | Q7: E2_1 | AC7: =HYPERLINK("#"&일위대가목록표!J2&"!A"&ROW(일위대가목록표!A4),"대가1 →") -> 대가1 →
B8: 라인가압펌프(일체형스텐레스) | C8: 3HP(25~200m)0.01~0.25㎥/min | D8: 0 | E8: 대 | F8: =J8+H8+L8 -> 9920901 | G8: =K8+I8+M8 -> 0 | H8: =일위대가목록표!F5 -> 408643 | I8: =ROUNDDOWN(H8*D8,0) -> 0 | J8: =일위대가목록표!G5 -> 9500000 | K8: =ROUNDDOWN(J8*D8,0) -> 0 | L8: =일위대가목록표!H5 -> 12258 | M8: =ROUNDDOWN(L8*D8,0) -> 0 | N8: 대가 2호표 | O8: _x0007_`COD|B04897_x0005_`QTY1|1_x0005_`EXI|0_x0005_`IPR|0_x0005_`BLA|F_x0005_` | P8: B04897_1 | Q8: E2_1 | AC8: =HYPERLINK("#"&일위대가목록표!J2&"!A"&ROW(일위대가목록표!A5),"대가2 →") -> 대가2 →
B9: 라인가압펌프(일체형스텐레스) | C9: 5HP(25~200m)0.01~0.25㎥/min | D9: 0 | E9: 대 | F9: =J9+H9+L9 -> 11483348 | G9: =K9+I9+M9 -> 0 | H9: =일위대가목록표!F6 -> 469271 | I9: =ROUNDDOWN(H9*D9,0) -> 0 | J9: =일위대가목록표!G6 -> 11000000 | K9: =ROUNDDOWN(J9*D9,0) -> 0 | L9: =일위대가목록표!H6 -> 14077 | M9: =ROUNDDOWN(L9*D9,0) -> 0 | N9: 대가 3호표 | O9: _x0007_`COD|B04898_x0005_`QTY1|1_x0005_`EXI|0_x0005_`IPR|0_x0005_`BLA|F_x0005_` | P9: B04898_1 | Q9: E2_1 | AC9: =HYPERLINK("#"&일위대가목록표!J2&"!A"&ROW(일위대가목록표!A6),"대가3 →") -> 대가3 →
B10: 라인가압펌프(일체형스텐레스) | C10: 7.5HP(25~200m)0.09~0.25㎥/min | D10: 0 | E10: 대 | F10: =J10+H10+L10 -> 13082367 | G10: =K10+I10+M10 -> 0 | H10: =일위대가목록표!F7 -> 565406 | I10: =ROUNDDOWN(H10*D10,0) -> 0 | J10: =일위대가목록표!G7 -> 12500000 | K10: =ROUNDDOWN(J10*D10,0) -> 0 | L10: =일위대가목록표!H7 -> 16961 | M10: =ROUNDDOWN(L10*D10,0) -> 0 | N10: 대가 4호표 | O10: _x0007_`COD|B04899_x0005_`QTY1|1_x0005_`EXI|0_x0005_`IPR|0_x0005_`BLA|F_x0005_` | P10: B04899_1 | Q10: E2_1 | AC10: =HYPERLINK("#"&일위대가목록표!J2&"!A"&ROW(일위대가목록표!A7),"대가4 →") -> 대가4 →
B11: 라인가압펌프(일체형스텐레스) | C11: 10HP(25~200m)0.05~1.35㎥/min | D11: 0 | E11: 대 | F11: =J11+H11+L11 -> 14734777 | G11: =K11+I11+M11 -> 0 | H11: =일위대가목록표!F8 -> 713377 | I11: =ROUNDDOWN(H11*D11,0) -> 0 | J11: =일위대가목록표!G8 -> 14000000 | K11: =ROUNDDOWN(J11*D11,0) -> 0 | L11: =일위대가목록표!H8 -> 21400 | M11: =ROUNDDOWN(L11*D11,0) -> 0 | N11: 대가 5호표 | O11: _x0007_`COD|B04900_x0005_`QTY1|1_x0005_`EXI|0_x0005_`IPR|0_x0005_`BLA|F_x0005_` | P11: B04900_1 | Q11: E2_1 | AC11: =HYPERLINK("#"&일위대가목록표!J2&"!A"&ROW(일위대가목록표!A8),"대가5 →") -> 대가5 →
B12: 라인가압펌프(일체형스텐레스) | C12: 15HP(25~200m)0.25~1.25㎥/min | D12: 0 | E12: 대 | F12: =J12+H12+L12 -> 16923410 | G12: =K12+I12+M12 -> 0 | H12: =일위대가목록표!F9 -> 896515 | I12: =ROUNDDOWN(H12*D12,0) -> 0 | J12: =일위대가목록표!G9 -> 16000000 | K12: =ROUNDDOWN(J12*D12,0) -> 0 | L12: =일위대가목록표!H9 -> 26895 | M12: =ROUNDDOWN(L12*D12,0) -> 0 | N12: 대가 6호표 | O12: _x0007_`COD|B04901_x0005_`QTY1|1_x0005_`EXI|0_x0005_`IPR|0_x0005_`BLA|F_x0005_` | P12: B04901_1 | Q12: E2_1 | AC12: =HYPERLINK("#"&일위대가목록표!J2&"!A"&ROW(일위대가목록표!A9),"대가6 →") -> 대가6 →
B13: 라인가압펌프(일체형스텐레스) | C13: 20HP(25~200m)0.25~1.25㎥/min | D13: 0 | E13: 대 | F13: =J13+H13+L13 -> 19480333 | G13: =K13+I13+M13 -> 0 | H13: =일위대가목록표!F10 -> 951780 | I13: =ROUNDDOWN(H13*D13,0) -> 0 | J13: =일위대가목록표!G10 -> 18500000 | K13: =ROUNDDOWN(J13*D13,0) -> 0 | L13: =일위대가목록표!H10 -> 28553 | M13: =ROUNDDOWN(L13*D13,0) -> 0 | N13: 대가 7호표 | O13: _x0007_`COD|B04902_x0005_`QTY1|1_x0005_`EXI|0_x0005_`IPR|0_x0005_`BLA|F_x0005_` | P13: B04902_1 | Q13: E2_1 | AC13: =HYPERLINK("#"&일위대가목록표!J2&"!A"&ROW(일위대가목록표!A10),"대가7 →") -> 대가7 →
B14: 라인가압펌프(일체형스텐레스) | C14: 30HP(25~200m)0.25~1.35㎥/min | D14: 0 | E14: 대 | F14: =J14+H14+L14 -> 22760750 | G14: =K14+I14+M14 -> 0 | H14: =일위대가목록표!F11 -> 1537622 | I14: =ROUNDDOWN(H14*D14,0) -> 0 | J14: =일위대가목록표!G11 -> 21177000 | K14: =ROUNDDOWN(J14*D14,0) -> 0 | L14: =일위대가목록표!H11 -> 46128 | M14: =ROUNDDOWN(L14*D14,0) -> 0 | N14: 대가 8호표 | O14: _x0007_`COD|B04903_x0005_`QTY1|1_x0005_`EXI|0_x0005_`IPR|0_x0005_`BLA|F_x0005_` | P14: B04903_1 | Q14: E2_1 | AC14: =HYPERLINK("#"&일위대가목록표!J2&"!A"&ROW(일위대가목록표!A11),"대가8 →") -> 대가8 →
B15: 라인가압펌프(일체형스텐레스) | C15: 40HP(25~200m)0.25~3.5㎥/min | D15: 0 | E15: 대 | F15: =J15+H15+L15 -> 28044858 | G15: =K15+I15+M15 -> 0 | H15: =일위대가목록표!F12 -> 1985300 | I15: =ROUNDDOWN(H15*D15,0) -> 0 | J15: =일위대가목록표!G12 -> 26000000 | K15: =ROUNDDOWN(J15*D15,0) -> 0 | L15: =일위대가목록표!H12 -> 59558 | M15: =ROUNDDOWN(L15*D15,0) -> 0 | N15: 대가 9호표 | O15: _x0007_`COD|B04904_x0005_`QTY1|1_x0005_`EXI|0_x0005_`IPR|0_x0005_`BLA|F_x0005_` | P15: B04904_1 | Q15: E2_1 | AC15: =HYPERLINK("#"&일위대가목록표!J2&"!A"&ROW(일위대가목록표!A12),"대가9 →") -> 대가9 →
B16: 라인가압펌프(일체형스텐레스) | C16: 50HP(25~200m)0.3~3.5㎥/min | D16: 0 | E16: 대 | F16: =J16+H16+L16 -> 35289807 | G16: =K16+I16+M16 -> 0 | H16: =일위대가목록표!F13 -> 3193989 | I16: =ROUNDDOWN(H16*D16,0) -> 0 | J16: =일위대가목록표!G13 -> 32000000 | K16: =ROUNDDOWN(J16*D16,0) -> 0 | L16: =일위대가목록표!H13 -> 95818 | M16: =ROUNDDOWN(L16*D16,0) -> 0 | N16: 대가 10호표 | O16: _x0007_`COD|B04905_x0005_`QTY1|1_x0005_`EXI|0_x0005_`IPR|0_x0005_`BLA|F_x0005_` | P16: B04905_1 | Q16: E2_1 | AC16: =HYPERLINK("#"&일위대가목록표!J2&"!A"&ROW(일위대가목록표!A13),"대가10 →") -> 대가10 →
B17: 라인가압펌프(일체형스텐레스) | C17: 60HP(25~200m)2.0~3.5㎥/min | D17: 0 | E17: 대 | F17: =J17+H17+L17 -> 42289807 | G17: =K17+I17+M17 -> 0 | H17: =일위대가목록표!F14 -> 3193989 | I17: =ROUNDDOWN(H17*D17,0) -> 0 | J17: =일위대가목록표!G14 -> 39000000 | K17: =ROUNDDOWN(J17*D17,0) -> 0 | L17: =일위대가목록표!H14 -> 95818 | M17: =ROUNDDOWN(L17*D17,0) -> 0 | N17: 대가 11호표 | O17: _x0007_`COD|B04906_x0005_`QTY1|1_x0005_`EXI|0_x0005_`IPR|0_x0005_`BLA|F_x0005_` | P17: B04906_1 | Q17: E2_1 | AC17: =HYPERLINK("#"&일위대가목록표!J2&"!A"&ROW(일위대가목록표!A14),"대가11 →") -> 대가11 →
B18: 라인가압펌프(일체형스텐레스) | C18: 150HP(25~200m)1.0~7.2㎥/min | D18: 0 | E18: 대 | F18: =J18+H18+L18 -> 103530109 | G18: =K18+I18+M18 -> 0 | H18: =일위대가목록표!F15 -> 3912728 | I18: =ROUNDDOWN(H18*D18,0) -> 0 | J18: =일위대가목록표!G15 -> 99500000 | K18: =ROUNDDOWN(J18*D18,0) -> 0 | L18: =일위대가목록표!H15 -> 117381 | M18: =ROUNDDOWN(L18*D18,0) -> 0 | N18: 대가 12호표 | O18: _x0007_`COD|B04907_x0005_`QTY1|1_x0005_`EXI|0_x0005_`IPR|0_x0005_`BLA|F_x0005_` | P18: B04907_1 | Q18: E2_1 | AC18: =HYPERLINK("#"&일위대가목록표!J2&"!A"&ROW(일위대가목록표!A15),"대가12 →") -> 대가12 →
B19: 라인가압펌프(일체형스텐레스) 철거 및 설치 | C19: 2HP(25-200m)0.01-0.188㎥/min | D19: 1 | E19: 대 | F19: =J19+H19+L19 -> 365273 | G19: =K19+I19+M19 -> 365273 | H19: =일위대가목록표!F16 -> 354635 | I19: =ROUNDDOWN(H19*D19,0) -> 354635 | J19: =일위대가목록표!G16 -> 0 | K19: =ROUNDDOWN(J19*D19,0) -> 0 | L19: =일위대가목록표!H16 -> 10638 | M19: =ROUNDDOWN(L19*D19,0) -> 10638 | N19: 대가 13호표 | O19: _x0007_`COD|B05105_x0005_`QTY1|1_x0005_`EXI|0_x0005_`IPR|0_x0005_`BLA|F_x0005_` | P19: B05105_1 | Q19: E2_1 | AC19: =HYPERLINK("#"&일위대가목록표!J2&"!A"&ROW(일위대가목록표!A16),"대가13 →") -> 대가13 →
B20: 라인가압펌프(일체형스텐레스) 철거 및 설치 | C20: 3HP(25~200m)0.01~0.25㎥/min | D20: 0 | E20: 대 | F20: =J20+H20+L20 -> 420901 | G20: =K20+I20+M20 -> 0 | H20: =일위대가목록표!F17 -> 408643 | I20: =ROUNDDOWN(H20*D20,0) -> 0 | J20: =일위대가목록표!G17 -> 0 | K20: =ROUNDDOWN(J20*D20,0) -> 0 | L20: =일위대가목록표!H17 -> 12258 | M20: =ROUNDDOWN(L20*D20,0) -> 0 | N20: 대가 14호표 | O20: _x0007_`COD|B05106_x0005_`QTY1|1_x0005_`EXI|0_x0005_`IPR|0_x0005_`BLA|F_x0005_` | P20: B05106_1 | Q20: E2_1 | AC20: =HYPERLINK("#"&일위대가목록표!J2&"!A"&ROW(일위대가목록표!A17),"대가14 →") -> 대가14 →
B21: 라인가압펌프(일체형스텐레스) 철거 및 설치 | C21: 5HP(25~200m)0.01~0.25㎥/min | D21: 0 | E21: 대 | F21: =J21+H21+L21 -> 483348 | G21: =K21+I21+M21 -> 0 | H21: =일위대가목록표!F18 -> 469271 | I21: =ROUNDDOWN(H21*D21,0) -> 0 | J21: =일위대가목록표!G18 -> 0 | K21: =ROUNDDOWN(J21*D21,0) -> 0 | L21: =일위대가목록표!H18 -> 14077 | M21: =ROUNDDOWN(L21*D21,0) -> 0 | N21: 대가 15호표 | O21: _x0007_`COD|B05107_x0005_`QTY1|1_x0005_`EXI|0_x0005_`IPR|0_x0005_`BLA|F_x0005_` | P21: B05107_1 | Q21: E2_1 | AC21: =HYPERLINK("#"&일위대가목록표!J2&"!A"&ROW(일위대가목록표!A18),"대가15 →") -> 대가15 →
B22: 라인가압펌프(일체형스텐레스) 철거 및 설치 | C22: 7.5HP(25~200m)0.09~0.25㎥/min | D22: 0 | E22: 대 | F22: =J22+H22+L22 -> 582367 | G22: =K22+I22+M22 -> 0 | H22: =일위대가목록표!F19 -> 565406 | I22: =ROUNDDOWN(H22*D22,0) -> 0 | J22: =일위대가목록표!G19 -> 0 | K22: =ROUNDDOWN(J22*D22,0) -> 0 | L22: =일위대가목록표!H19 -> 16961 | M22: =ROUNDDOWN(L22*D22,0) -> 0 | N22: 대가 16호표 | O22: _x0007_`COD|B05108_x0005_`QTY1|1_x0005_`EXI|0_x0005_`IPR|0_x0005_`BLA|F_x0005_` | P22: B05108_1 | Q22: E2_1 | AC22: =HYPERLINK("#"&일위대가목록표!J2&"!A"&ROW(일위대가목록표!A19),"대가16 →") -> 대가16 →
B23: 라인가압펌프(일체형스텐레스) 철거 및 설치 | C23: 10HP(25~200m)0.05~1.35㎥/min | D23: 0 | E23: 대 | F23: =J23+H23+L23 -> 734777 | G23: =K23+I23+M23 -> 0 | H23: =일위대가목록표!F20 -> 713377 | I23: =ROUNDDOWN(H23*D23,0) -> 0 | J23: =일위대가목록표!G20 -> 0 | K23: =ROUNDDOWN(J23*D23,0) -> 0 | L23: =일위대가목록표!H20 -> 21400 | M23: =ROUNDDOWN(L23*D23,0) -> 0 | N23: 대가 17호표 | O23: _x0007_`COD|B05109_x0005_`QTY1|1_x0005_`EXI|0_x0005_`IPR|0_x0005_`BLA|F_x0005_` | P23: B05109_1 | Q23: E2_1 | AC23: =HYPERLINK("#"&일위대가목록표!J2&"!A"&ROW(일위대가목록표!A20),"대가17 →") -> 대가17 →
B24: 라인가압펌프(일체형스텐레스) 철거 및 설치 | C24: 15HP(25~200m)0.25~1.25㎥/min | D24: 0 | E24: 대 | F24: =J24+H24+L24 -> 923410 | G24: =K24+I24+M24 -> 0 | H24: =일위대가목록표!F21 -> 896515 | I24: =ROUNDDOWN(H24*D24,0) -> 0 | J24: =일위대가목록표!G21 -> 0 | K24: =ROUNDDOWN(J24*D24,0) -> 0 | L24: =일위대가목록표!H21 -> 26895 | M24: =ROUNDDOWN(L24*D24,0) -> 0 | N24: 대가 18호표 | O24: _x0007_`COD|B05110_x0005_`QTY1|1_x0005_`EXI|0_x0005_`IPR|0_x0005_`BLA|F_x0005_` | P24: B05110_1 | Q24: E2_1 | AC24: =HYPERLINK("#"&일위대가목록표!J2&"!A"&ROW(일위대가목록표!A21),"대가18 →") -> 대가18 →
B25: 라인가압펌프(일체형스텐레스) 철거 및 설치 | C25: 20HP(25~200m)0.25~1.25㎥/min | D25: 0 | E25: 대 | F25: =J25+H25+L25 -> 980333 | G25: =K25+I25+M25 -> 0 | H25: =일위대가목록표!F22 -> 951780 | I25: =ROUNDDOWN(H25*D25,0) -> 0 | J25: =일위대가목록표!G22 -> 0 | K25: =ROUNDDOWN(J25*D25,0) -> 0 | L25: =일위대가목록표!H22 -> 28553 | M25: =ROUNDDOWN(L25*D25,0) -> 0 | N25: 대가 19호표 | O25: _x0007_`COD|B05111_x0005_`QTY1|1_x0005_`EXI|0_x0005_`IPR|0_x0005_`BLA|F_x0005_` | P25: B05111_1 | Q25: E2_1 | AC25: =HYPERLINK("#"&일위대가목록표!J2&"!A"&ROW(일위대가목록표!A22),"대가19 →") -> 대가19 →
B26: 라인가압펌프(일체형스텐레스) 철거 및 설치 | C26: 30HP(25~200m)0.25~1.35㎥/min | D26: 0 | E26: 대 | F26: =J26+H26+L26 -> 1583750 | G26: =K26+I26+M26 -> 0 | H26: =일위대가목록표!F23 -> 1537622 | I26: =ROUNDDOWN(H26*D26,0) -> 0 | J26: =일위대가목록표!G23 -> 0 | K26: =ROUNDDOWN(J26*D26,0) -> 0 | L26: =일위대가목록표!H23 -> 46128 | M26: =ROUNDDOWN(L26*D26,0) -> 0 | N26: 대가 20호표 | O26: _x0007_`COD|B05112_x0005_`QTY1|1_x0005_`EXI|0_x0005_`IPR|0_x0005_`BLA|F_x0005_` | P26: B05112_1 | Q26: E2_1 | AC26: =HYPERLINK("#"&일위대가목록표!J2&"!A"&ROW(일위대가목록표!A23),"대가20 →") -> 대가20 →
B27: 라인가압펌프(일체형스텐레스) 철거 및 설치 | C27: 40HP(25~200m)0.25~3.5㎥/min | D27: 0 | E27: 대 | F27: =J27+H27+L27 -> 2044858 | G27: =K27+I27+M27 -> 0 | H27: =일위대가목록표!F24 -> 1985300 | I27: =ROUNDDOWN(H27*D27,0) -> 0 | J27: =일위대가목록표!G24 -> 0 | K27: =ROUNDDOWN(J27*D27,0) -> 0 | L27: =일위대가목록표!H24 -> 59558 | M27: =ROUNDDOWN(L27*D27,0) -> 0 | N27: 대가 21호표 | O27: _x0007_`COD|B05113_x0005_`QTY1|1_x0005_`EXI|0_x0005_`IPR|0_x0005_`BLA|F_x0005_` | P27: B05113_1 | Q27: E2_1 | AC27: =HYPERLINK("#"&일위대가목록표!J2&"!A"&ROW(일위대가목록표!A24),"대가21 →") -> 대가21 →
B28: 라인가압펌프(일체형스텐레스) 철거 및 설치 | C28: 50HP(25~200m)0.3~3.5㎥/min | D28: 0 | E28: 대 | F28: =J28+H28+L28 -> 3289807 | G28: =K28+I28+M28 -> 0 | H28: =일위대가목록표!F25 -> 3193989 | I28: =ROUNDDOWN(H28*D28,0) -> 0 | J28: =일위대가목록표!G25 -> 0 | K28: =ROUNDDOWN(J28*D28,0) -> 0 | L28: =일위대가목록표!H25 -> 95818 | M28: =ROUNDDOWN(L28*D28,0) -> 0 | N28: 대가 22호표 | O28: _x0007_`COD|B05114_x0005_`QTY1|1_x0005_`EXI|0_x0005_`IPR|0_x0005_`BLA|F_x0005_` | P28: B05114_1 | Q28: E2_1 | AC28: =HYPERLINK("#"&일위대가목록표!J2&"!A"&ROW(일위대가목록표!A25),"대가22 →") -> 대가22 →
B29: 라인가압펌프(일체형스텐레스) 철거 및 설치 | C29: 60HP(25~200m)2.0~3.5㎥/min | D29: 0 | E29: 대 | F29: =J29+H29+L29 -> 3289807 | G29: =K29+I29+M29 -> 0 | H29: =일위대가목록표!F26 -> 3193989 | I29: =ROUNDDOWN(H29*D29,0) -> 0 | J29: =일위대가목록표!G26 -> 0 | K29: =ROUNDDOWN(J29*D29,0) -> 0 | L29: =일위대가목록표!H26 -> 95818 | M29: =ROUNDDOWN(L29*D29,0) -> 0 | N29: 대가 23호표 | O29: _x0007_`COD|B05115_x0005_`QTY1|1_x0005_`EXI|0_x0005_`IPR|0_x0005_`BLA|F_x0005_` | P29: B05115_1 | Q29: E2_1 | AC29: =HYPERLINK("#"&일위대가목록표!J2&"!A"&ROW(일위대가목록표!A26),"대가23 →") -> 대가23 →
B30: 라인가압펌프(일체형스텐레스) 철거 및 설치 | C30: 150HP(25~200m)1.0~7.2㎥/min | D30: 0 | E30: 대 | F30: =J30+H30+L30 -> 4030109 | G30: =K30+I30+M30 -> 0 | H30: =일위대가목록표!F27 -> 3912728 | I30: =ROUNDDOWN(H30*D30,0) -> 0 | J30: =일위대가목록표!G27 -> 0 | K30: =ROUNDDOWN(J30*D30,0) -> 0 | L30: =일위대가목록표!H27 -> 117381 | M30: =ROUNDDOWN(L30*D30,0) -> 0 | N30: 대가 24호표 | O30: _x0007_`COD|B05116_x0005_`QTY1|1_x0005_`EXI|0_x0005_`IPR|0_x0005_`BLA|F_x0005_` | P30: B05116_1 | Q30: E2_1 | AC30: =HYPERLINK("#"&일위대가목록표!J2&"!A"&ROW(일위대가목록표!A27),"대가24 →") -> 대가24 →
B31: 라인가압펌프(일체형스텐레스) 설치 | C31: 2HP(25-200m)0.01-0.188㎥/min | D31: 0 | E31: 대 | F31: =J31+H31+L31 -> 260910 | G31: =K31+I31+M31 -> 0 | H31: =일위대가목록표!F28 -> 253311 | I31: =ROUNDDOWN(H31*D31,0) -> 0 | J31: =일위대가목록표!G28 -> 0 | K31: =ROUNDDOWN(J31*D31,0) -> 0 | L31: =일위대가목록표!H28 -> 7599 | M31: =ROUNDDOWN(L31*D31,0) -> 0 | N31: 대가 25호표 | O31: _x0007_`COD|B05129_x0005_`QTY1|1_x0005_`EXI|0_x0005_`IPR|0_x0005_`BLA|F_x0005_` | P31: B05129_1 | Q31: E2_1 | AC31: =HYPERLINK("#"&일위대가목록표!J2&"!A"&ROW(일위대가목록표!A28),"대가25 →") -> 대가25 →
B32: 라인가압펌프(일체형스텐레스) 설치 | C32: 3HP(25~200m)0.01~0.25㎥/min | D32: 1 | E32: 대 | F32: =J32+H32+L32 -> 300644 | G32: =K32+I32+M32 -> 300644 | H32: =일위대가목록표!F29 -> 291888 | I32: =ROUNDDOWN(H32*D32,0) -> 291888 | J32: =일위대가목록표!G29 -> 0 | K32: =ROUNDDOWN(J32*D32,0) -> 0 | L32: =일위대가목록표!H29 -> 8756 | M32: =ROUNDDOWN(L32*D32,0) -> 8756 | N32: 대가 26호표 | O32: _x0007_`COD|B05130_x0005_`QTY1|1_x0005_`EXI|0_x0005_`IPR|0_x0005_`BLA|F_x0005_` | P32: B05130_1 | Q32: E2_1 | AC32: =HYPERLINK("#"&일위대가목록표!J2&"!A"&ROW(일위대가목록표!A29),"대가26 →") -> 대가26 →
B33: 라인가압펌프(일체형스텐레스) 설치 | C33: 5HP(25~200m)0.01~0.25㎥/min | D33: 1 | E33: 대 | F33: =J33+H33+L33 -> 483348 | G33: =K33+I33+M33 -> 483348 | H33: =일위대가목록표!F30 -> 469271 | I33: =ROUNDDOWN(H33*D33,0) -> 469271 | J33: =일위대가목록표!G30 -> 0 | K33: =ROUNDDOWN(J33*D33,0) -> 0 | L33: =일위대가목록표!H30 -> 14077 | M33: =ROUNDDOWN(L33*D33,0) -> 14077 | N33: 대가 27호표 | O33: _x0007_`COD|B05131_x0005_`QTY1|1_x0005_`EXI|0_x0005_`IPR|0_x0005_`BLA|F_x0005_` | P33: B05131_1 | Q33: E2_1 | AC33: =HYPERLINK("#"&일위대가목록표!J2&"!A"&ROW(일위대가목록표!A30),"대가27 →") -> 대가27 →
B34: 라인가압펌프(일체형스텐레스) 설치 | C34: 10HP(25~200m)0.05~1.35㎥/min | D34: 0 | E34: 대 | F34: =J34+H34+L34 -> 734777 | G34: =K34+I34+M34 -> 0 | H34: =일위대가목록표!F31 -> 713377 | I34: =ROUNDDOWN(H34*D34,0) -> 0 | J34: =일위대가목록표!G31 -> 0 | K34: =ROUNDDOWN(J34*D34,0) -> 0 | L34: =일위대가목록표!H31 -> 21400 | M34: =ROUNDDOWN(L34*D34,0) -> 0 | N34: 대가 28호표 | O34: _x0007_`COD|B05133_x0005_`QTY1|1_x0005_`EXI|0_x0005_`IPR|0_x0005_`BLA|F_x0005_` | P34: B05133_1 | Q34: E2_1 | AC34: =HYPERLINK("#"&일위대가목록표!J2&"!A"&ROW(일위대가목록표!A31),"대가28 →") -> 대가28 →
B35: 라인가압펌프(일체형스텐레스) 설치 | C35: 15HP(25~200m)0.25~1.25㎥/min | D35: 0 | E35: 대 | F35: =J35+H35+L35 -> 923410 | G35: =K35+I35+M35 -> 0 | H35: =일위대가목록표!F32 -> 896515 | I35: =ROUNDDOWN(H35*D35,0) -> 0 | J35: =일위대가목록표!G32 -> 0 | K35: =ROUNDDOWN(J35*D35,0) -> 0 | L35: =일위대가목록표!H32 -> 26895 | M35: =ROUNDDOWN(L35*D35,0) -> 0 | N35: 대가 29호표 | O35: _x0007_`COD|B05134_x0005_`QTY1|1_x0005_`EXI|0_x0005_`IPR|0_x0005_`BLA|F_x0005_` | P35: B05134_1 | Q35: E2_1 | AC35: =HYPERLINK("#"&일위대가목록표!J2&"!A"&ROW(일위대가목록표!A32),"대가29 →") -> 대가29 →
B36: 라인가압펌프(일체형스텐레스) 설치 | C36: 20HP(25~200m)0.25~1.25㎥/min | D36: 0 | E36: 대 | F36: =J36+H36+L36 -> 980333 | G36: =K36+I36+M36 -> 0 | H36: =일위대가목록표!F33 -> 951780 | I36: =ROUNDDOWN(H36*D36,0) -> 0 | J36: =일위대가목록표!G33 -> 0 | K36: =ROUNDDOWN(J36*D36,0) -> 0 | L36: =일위대가목록표!H33 -> 28553 | M36: =ROUNDDOWN(L36*D36,0) -> 0 | N36: 대가 30호표 | O36: _x0007_`COD|B05135_x0005_`QTY1|1_x0005_`EXI|0_x0005_`IPR|0_x0005_`BLA|F_x0005_` | P36: B05135_1 | Q36: E2_1 | AC36: =HYPERLINK("#"&일위대가목록표!J2&"!A"&ROW(일위대가목록표!A33),"대가30 →") -> 대가30 →
B37: 라인가압펌프(일체형스텐레스) 설치 | C37: 30HP(25~200m)0.25~1.35㎥/min | D37: 0 | E37: 대 | F37: =J37+H37+L37 -> 1583750 | G37: =K37+I37+M37 -> 0 | H37: =일위대가목록표!F34 -> 1537622 | I37: =ROUNDDOWN(H37*D37,0) -> 0 | J37: =일위대가목록표!G34 -> 0 | K37: =ROUNDDOWN(J37*D37,0) -> 0 | L37: =일위대가목록표!H34 -> 46128 | M37: =ROUNDDOWN(L37*D37,0) -> 0 | N37: 대가 31호표 | O37: _x0007_`COD|B05136_x0005_`QTY1|1_x0005_`EXI|0_x0005_`IPR|0_x0005_`BLA|F_x0005_` | P37: B05136_1 | Q37: E2_1 | AC37: =HYPERLINK("#"&일위대가목록표!J2&"!A"&ROW(일위대가목록표!A34),"대가31 →") -> 대가31 →
B38: 라인가압펌프(일체형스텐레스) 설치 | C38: 40HP(25~200m)0.25~3.5㎥/min | D38: 0 | E38: 대 | F38: =J38+H38+L38 -> 2044858 | G38: =K38+I38+M38 -> 0 | H38: =일위대가목록표!F35 -> 1985300 | I38: =ROUNDDOWN(H38*D38,0) -> 0 | J38: =일위대가목록표!G35 -> 0 | K38: =ROUNDDOWN(J38*D38,0) -> 0 | L38: =일위대가목록표!H35 -> 59558 | M38: =ROUNDDOWN(L38*D38,0) -> 0 | N38: 대가 32호표 | O38: _x0007_`COD|B05137_x0005_`QTY1|1_x0005_`EXI|0_x0005_`IPR|0_x0005_`BLA|F_x0005_` | P38: B05137_1 | Q38: E2_1 | AC38: =HYPERLINK("#"&일위대가목록표!J2&"!A"&ROW(일위대가목록표!A35),"대가32 →") -> 대가32 →
B39: 라인가압펌프(일체형스텐레스) 설치 | C39: 50HP(25~200m)0.3~3.5㎥/min | D39: 0 | E39: 대 | F39: =J39+H39+L39 -> 3289807 | G39: =K39+I39+M39 -> 0 | H39: =일위대가목록표!F36 -> 3193989 | I39: =ROUNDDOWN(H39*D39,0) -> 0 | J39: =일위대가목록표!G36 -> 0 | K39: =ROUNDDOWN(J39*D39,0) -> 0 | L39: =일위대가목록표!H36 -> 95818 | M39: =ROUNDDOWN(L39*D39,0) -> 0 | N39: 대가 33호표 | O39: _x0007_`COD|B05138_x0005_`QTY1|1_x0005_`EXI|0_x0005_`IPR|0_x0005_`BLA|F_x0005_` | P39: B05138_1 | Q39: E2_1 | AC39: =HYPERLINK("#"&일위대가목록표!J2&"!A"&ROW(일위대가목록표!A36),"대가33 →") -> 대가33 →
B40: 라인가압펌프(일체형스텐레스) 설치 | C40: 60HP(25~200m)2.0~3.5㎥/min | D40: 0 | E40: 대 | F40: =J40+H40+L40 -> 3289807 | G40: =K40+I40+M40 -> 0 | H40: =일위대가목록표!F37 -> 3193989 | I40: =ROUNDDOWN(H40*D40,0) -> 0 | J40: =일위대가목록표!G37 -> 0 | K40: =ROUNDDOWN(J40*D40,0) -> 0 | L40: =일위대가목록표!H37 -> 95818 | M40: =ROUNDDOWN(L40*D40,0) -> 0 | N40: 대가 34호표 | O40: _x0007_`COD|B05139_x0005_`QTY1|1_x0005_`EXI|0_x0005_`IPR|0_x0005_`BLA|F_x0005_` | P40: B05139_1 | Q40: E2_1 | AC40: =HYPERLINK("#"&일위대가목록표!J2&"!A"&ROW(일위대가목록표!A37),"대가34 →") -> 대가34 →
B41: 라인가압펌프(일체형스텐레스) 설치 | C41: 150HP(25~200m)1.0~7.2㎥/min | D41: 0 | E41: 대 | F41: =J41+H41+L41 -> 4030109 | G41: =K41+I41+M41 -> 0 | H41: =일위대가목록표!F38 -> 3912728 | I41: =ROUNDDOWN(H41*D41,0) -> 0 | J41: =일위대가목록표!G38 -> 0 | K41: =ROUNDDOWN(J41*D41,0) -> 0 | L41: =일위대가목록표!H38 -> 117381 | M41: =ROUNDDOWN(L41*D41,0) -> 0 | N41: 대가 35호표 | O41: _x0007_`COD|B05140_x0005_`QTY1|1_x0005_`EXI|0_x0005_`IPR|0_x0005_`BLA|F_x0005_` | P41: B05140_1 | Q41: E2_1 | AC41: =HYPERLINK("#"&일위대가목록표!J2&"!A"&ROW(일위대가목록표!A38),"대가35 →") -> 대가35 →
B42: 라인가압펌프(일체형스텐레스) 철거 | C42: 2HP(25-200m)0.01-0.188㎥/min | D42: 1 | E42: 대 | F42: =J42+H42+L42 -> 104363 | G42: =K42+I42+M42 -> 104363 | H42: =일위대가목록표!F39 -> 101324 | I42: =ROUNDDOWN(H42*D42,0) -> 101324 | J42: =일위대가목록표!G39 -> 0 | K42: =ROUNDDOWN(J42*D42,0) -> 0 | L42: =일위대가목록표!H39 -> 3039 | M42: =ROUNDDOWN(L42*D42,0) -> 3039 | N42: 대가 36호표 | O42: _x0007_`COD|B05141_x0005_`QTY1|1_x0005_`EXI|0_x0005_`IPR|0_x0005_`BLA|F_x0005_` | P42: B05141_1 | Q42: E2_1 | AC42: =HYPERLINK("#"&일위대가목록표!J2&"!A"&ROW(일위대가목록표!A39),"대가36 →") -> 대가36 →
B43: 라인가압펌프(일체형스텐레스) 철거 | C43: 3HP(25~200m)0.01~0.25㎥/min | D43: 1 | E43: 대 | F43: =J43+H43+L43 -> 120257 | G43: =K43+I43+M43 -> 120257 | H43: =일위대가목록표!F40 -> 116755 | I43: =ROUNDDOWN(H43*D43,0) -> 116755 | J43: =일위대가목록표!G40 -> 0 | K43: =ROUNDDOWN(J43*D43,0) -> 0 | L43: =일위대가목록표!H40 -> 3502 | M43: =ROUNDDOWN(L43*D43,0) -> 3502 | N43: 대가 37호표 | O43: _x0007_`COD|B05142_x0005_`QTY1|1_x0005_`EXI|0_x0005_`IPR|0_x0005_`BLA|F_x0005_` | P43: B05142_1 | Q43: E2_1 | AC43: =HYPERLINK("#"&일위대가목록표!J2&"!A"&ROW(일위대가목록표!A40),"대가37 →") -> 대가37 →
B44: 라인가압펌프(일체형스텐레스) 철거 | C44: 5HP(25~200m)0.01~0.25㎥/min | D44: 1 | E44: 대 | F44: =J44+H44+L44 -> 138099 | G44: =K44+I44+M44 -> 138099 | H44: =일위대가목록표!F41 -> 134077 | I44: =ROUNDDOWN(H44*D44,0) -> 134077 | J44: =일위대가목록표!G41 -> 0 | K44: =ROUNDDOWN(J44*D44,0) -> 0 | L44: =일위대가목록표!H41 -> 4022 | M44: =ROUNDDOWN(L44*D44,0) -> 4022 | N44: 대가 38호표 | O44: _x0007_`COD|B05143_x0005_`QTY1|1_x0005_`EXI|0_x0005_`IPR|0_x0005_`BLA|F_x0005_` | P44: B05143_1 | Q44: E2_1 | AC44: =HYPERLINK("#"&일위대가목록표!J2&"!A"&ROW(일위대가목록표!A41),"대가38 →") -> 대가38 →
B45: 라인가압펌프(일체형스텐레스) 철거 | C45: 7.5HP(25~200m)0.09~0.25㎥/min | D45: 0 | E45: 대 | F45: =J45+H45+L45 -> 166390 | G45: =K45+I45+M45 -> 0 | H45: =일위대가목록표!F42 -> 161544 | I45: =ROUNDDOWN(H45*D45,0) -> 0 | J45: =일위대가목록표!G42 -> 0 | K45: =ROUNDDOWN(J45*D45,0) -> 0 | L45: =일위대가목록표!H42 -> 4846 | M45: =ROUNDDOWN(L45*D45,0) -> 0 | N45: 대가 39호표 | O45: _x0007_`COD|B05144_x0005_`QTY1|1_x0005_`EXI|0_x0005_`IPR|0_x0005_`BLA|F_x0005_` | P45: B05144_1 | Q45: E2_1 | AC45: =HYPERLINK("#"&일위대가목록표!J2&"!A"&ROW(일위대가목록표!A42),"대가39 →") -> 대가39 →
B46: 라인가압펌프(일체형스텐레스) 철거 | C46: 10HP(25~200m)0.05~1.35㎥/min | D46: 0 | E46: 대 | F46: =J46+H46+L46 -> 209936 | G46: =K46+I46+M46 -> 0 | H46: =일위대가목록표!F43 -> 203822 | I46: =ROUNDDOWN(H46*D46,0) -> 0 | J46: =일위대가목록표!G43 -> 0 | K46: =ROUNDDOWN(J46*D46,0) -> 0 | L46: =일위대가목록표!H43 -> 6114 | M46: =ROUNDDOWN(L46*D46,0) -> 0 | N46: 대가 40호표 | O46: _x0007_`COD|B05145_x0005_`QTY1|1_x0005_`EXI|0_x0005_`IPR|0_x0005_`BLA|F_x0005_` | P46: B05145_1 | Q46: E2_1 | AC46: =HYPERLINK("#"&일위대가목록표!J2&"!A"&ROW(일위대가목록표!A43),"대가40 →") -> 대가40 →
B47: 라인가압펌프(일체형스텐레스) 철거 | C47: 15HP(25~200m)0.25~1.25㎥/min | D47: 0 | E47: 대 | F47: =J47+H47+L47 -> 263831 | G47: =K47+I47+M47 -> 0 | H47: =일위대가목록표!F44 -> 256147 | I47: =ROUNDDOWN(H47*D47,0) -> 0 | J47: =일위대가목록표!G44 -> 0 | K47: =ROUNDDOWN(J47*D47,0) -> 0 | L47: =일위대가목록표!H44 -> 7684 | M47: =ROUNDDOWN(L47*D47,0) -> 0 | N47: 대가 41호표 | O47: _x0007_`COD|B05146_x0005_`QTY1|1_x0005_`EXI|0_x0005_`IPR|0_x0005_`BLA|F_x0005_` | P47: B05146_1 | Q47: E2_1 | AC47: =HYPERLINK("#"&일위대가목록표!J2&"!A"&ROW(일위대가목록표!A44),"대가41 →") -> 대가41 →
B48: 라인가압펌프(일체형스텐레스) 철거 | C48: 20HP(25~200m)0.25~1.25㎥/min | D48: 0 | E48: 대 | F48: =J48+H48+L48 -> 280095 | G48: =K48+I48+M48 -> 0 | H48: =일위대가목록표!F45 -> 271937 | I48: =ROUNDDOWN(H48*D48,0) -> 0 | J48: =일위대가목록표!G45 -> 0 | K48: =ROUNDDOWN(J48*D48,0) -> 0 | L48: =일위대가목록표!H45 -> 8158 | M48: =ROUNDDOWN(L48*D48,0) -> 0 | N48: 대가 42호표 | O48: _x0007_`COD|B05147_x0005_`QTY1|1_x0005_`EXI|0_x0005_`IPR|0_x0005_`BLA|F_x0005_` | P48: B05147_1 | Q48: E2_1 | AC48: =HYPERLINK("#"&일위대가목록표!J2&"!A"&ROW(일위대가목록표!A45),"대가42 →") -> 대가42 →
B49: 라인가압펌프(일체형스텐레스) 철거 | C49: 30HP(25~200m)0.25~1.35㎥/min | D49: 0 | E49: 대 | F49: =J49+H49+L49 -> 452499 | G49: =K49+I49+M49 -> 0 | H49: =일위대가목록표!F46 -> 439320 | I49: =ROUNDDOWN(H49*D49,0) -> 0 | J49: =일위대가목록표!G46 -> 0 | K49: =ROUNDDOWN(J49*D49,0) -> 0 | L49: =일위대가목록표!H46 -> 13179 | M49: =ROUNDDOWN(L49*D49,0) -> 0 | N49: 대가 43호표 | O49: _x0007_`COD|B05148_x0005_`QTY1|1_x0005_`EXI|0_x0005_`IPR|0_x0005_`BLA|F_x0005_` | P49: B05148_1 | Q49: E2_1 | AC49: =HYPERLINK("#"&일위대가목록표!J2&"!A"&ROW(일위대가목록표!A46),"대가43 →") -> 대가43 →
B50: 라인가압펌프(일체형스텐레스) 철거 | C50: 40HP(25~200m)0.25~3.5㎥/min | D50: 0 | E50: 대 | F50: =J50+H50+L50 -> 584244 | G50: =K50+I50+M50 -> 0 | H50: =일위대가목록표!F47 -> 567228 | I50: =ROUNDDOWN(H50*D50,0) -> 0 | J50: =일위대가목록표!G47 -> 0 | K50: =ROUNDDOWN(J50*D50,0) -> 0 | L50: =일위대가목록표!H47 -> 17016 | M50: =ROUNDDOWN(L50*D50,0) -> 0 | N50: 대가 44호표 | O50: _x0007_`COD|B05149_x0005_`QTY1|1_x0005_`EXI|0_x0005_`IPR|0_x0005_`BLA|F_x0005_` | P50: B05149_1 | Q50: E2_1 | AC50: =HYPERLINK("#"&일위대가목록표!J2&"!A"&ROW(일위대가목록표!A47),"대가44 →") -> 대가44 →
B51: 라인가압펌프(일체형스텐레스) 철거 | C51: 50HP(25~200m)0.3~3.5㎥/min | D51: 0 | E51: 대 | F51: =J51+H51+L51 -> 939944 | G51: =K51+I51+M51 -> 0 | H51: =일위대가목록표!F48 -> 912568 | I51: =ROUNDDOWN(H51*D51,0) -> 0 | J51: =일위대가목록표!G48 -> 0 | K51: =ROUNDDOWN(J51*D51,0) -> 0 | L51: =일위대가목록표!H48 -> 27376 | M51: =ROUNDDOWN(L51*D51,0) -> 0 | N51: 대가 45호표 | O51: _x0007_`COD|B05150_x0005_`QTY1|1_x0005_`EXI|0_x0005_`IPR|0_x0005_`BLA|F_x0005_` | P51: B05150_1 | Q51: E2_1 | AC51: =HYPERLINK("#"&일위대가목록표!J2&"!A"&ROW(일위대가목록표!A48),"대가45 →") -> 대가45 →
B52: 라인가압펌프(일체형스텐레스) 철거 | C52: 60HP(25~200m)2.0~3.5㎥/min | D52: 0 | E52: 대 | F52: =J52+H52+L52 -> 939944 | G52: =K52+I52+M52 -> 0 | H52: =일위대가목록표!F49 -> 912568 | I52: =ROUNDDOWN(H52*D52,0) -> 0 | J52: =일위대가목록표!G49 -> 0 | K52: =ROUNDDOWN(J52*D52,0) -> 0 | L52: =일위대가목록표!H49 -> 27376 | M52: =ROUNDDOWN(L52*D52,0) -> 0 | N52: 대가 46호표 | O52: _x0007_`COD|B05151_x0005_`QTY1|1_x0005_`EXI|0_x0005_`IPR|0_x0005_`BLA|F_x0005_` | P52: B05151_1 | Q52: E2_1 | AC52: =HYPERLINK("#"&일위대가목록표!J2&"!A"&ROW(일위대가목록표!A49),"대가46 →") -> 대가46 →
B53: 라인가압펌프(일체형스텐레스) 철거 | C53: 150HP(25~200m)1.0~7.2㎥/min | D53: 0 | E53: 대 | F53: =J53+H53+L53 -> 1151459 | G53: =K53+I53+M53 -> 0 | H53: =일위대가목록표!F50 -> 1117922 | I53: =ROUNDDOWN(H53*D53,0) -> 0 | J53: =일위대가목록표!G50 -> 0 | K53: =ROUNDDOWN(J53*D53,0) -> 0 | L53: =일위대가목록표!H50 -> 33537 | M53: =ROUNDDOWN(L53*D53,0) -> 0 | N53: 대가 47호표 | O53: _x0007_`COD|B05152_x0005_`QTY1|1_x0005_`EXI|0_x0005_`IPR|0_x0005_`BLA|F_x0005_` | P53: B05152_1 | Q53: E2_1 | AC53: =HYPERLINK("#"&일위대가목록표!J2&"!A"&ROW(일위대가목록표!A50),"대가47 →") -> 대가47 →
B54: 라인가압펌프(일체형스텐레스)내부기기 | C54: 2HP(25-200m)0.01-0.188㎥/min | D54: 0 | E54: 대 | F54: =J54+H54+L54 -> 2265273 | G54: =K54+I54+M54 -> 0 | H54: =일위대가목록표!F51 -> 354635 | I54: =ROUNDDOWN(H54*D54,0) -> 0 | J54: =일위대가목록표!G51 -> 1900000 | K54: =ROUNDDOWN(J54*D54,0) -> 0 | L54: =일위대가목록표!H51 -> 10638 | M54: =ROUNDDOWN(L54*D54,0) -> 0 | N54: 대가 48호표 | O54: _x0007_`COD|B04908_x0005_`QTY1|1_x0005_`EXI|0_x0005_`IPR|0_x0005_`BLA|F_x0005_` | P54: B04908_1 | Q54: E2_1 | AC54: =HYPERLINK("#"&일위대가목록표!J2&"!A"&ROW(일위대가목록표!A51),"대가48 →") -> 대가48 →
B55: 라인가압펌프(일체형스텐레스)내부기기 | C55: 3HP(25~200m)0.01~0.25㎥/min | D55: 0 | E55: 대 | F55: =J55+H55+L55 -> 3220901 | G55: =K55+I55+M55 -> 0 | H55: =일위대가목록표!F52 -> 408643 | I55: =ROUNDDOWN(H55*D55,0) -> 0 | J55: =일위대가목록표!G52 -> 2800000 | K55: =ROUNDDOWN(J55*D55,0) -> 0 | L55: =일위대가목록표!H52 -> 12258 | M55: =ROUNDDOWN(L55*D55,0) -> 0 | N55: 대가 49호표 | O55: _x0007_`COD|B04909_x0005_`QTY1|1_x0005_`EXI|0_x0005_`IPR|0_x0005_`BLA|F_x0005_` | P55: B04909_1 | Q55: E2_1 | AC55: =HYPERLINK("#"&일위대가목록표!J2&"!A"&ROW(일위대가목록표!A52),"대가49 →") -> 대가49 →
B56: 라인가압펌프(일체형스텐레스)내부기기 | C56: 5HP(25~200m)0.01~0.25㎥/min | D56: 0 | E56: 대 | F56: =J56+H56+L56 -> 5183348 | G56: =K56+I56+M56 -> 0 | H56: =일위대가목록표!F53 -> 469271 | I56: =ROUNDDOWN(H56*D56,0) -> 0 | J56: =일위대가목록표!G53 -> 4700000 | K56: =ROUNDDOWN(J56*D56,0) -> 0 | L56: =일위대가목록표!H53 -> 14077 | M56: =ROUNDDOWN(L56*D56,0) -> 0 | N56: 대가 50호표 | O56: _x0007_`COD|B04910_x0005_`QTY1|1_x0005_`EXI|0_x0005_`IPR|0_x0005_`BLA|F_x0005_` | P56: B04910_1 | Q56: E2_1 | AC56: =HYPERLINK("#"&일위대가목록표!J2&"!A"&ROW(일위대가목록표!A53),"대가50 →") -> 대가50 →
B57: 라인가압펌프(일체형스텐레스)내부기기 | C57: 7.5HP(25~200m)0.09~0.25㎥/min | D57: 0 | E57: 대 | F57: =J57+H57+L57 -> 7282367 | G57: =K57+I57+M57 -> 0 | H57: =일위대가목록표!F54 -> 565406 | I57: =ROUNDDOWN(H57*D57,0) -> 0 | J57: =일위대가목록표!G54 -> 6700000 | K57: =ROUNDDOWN(J57*D57,0) -> 0 | L57: =일위대가목록표!H54 -> 16961 | M57: =ROUNDDOWN(L57*D57,0) -> 0 | N57: 대가 51호표 | O57: _x0007_`COD|B04911_x0005_`QTY1|1_x0005_`EXI|0_x0005_`IPR|0_x0005_`BLA|F_x0005_` | P57: B04911_1 | Q57: E2_1 | AC57: =HYPERLINK("#"&일위대가목록표!J2&"!A"&ROW(일위대가목록표!A54),"대가51 →") -> 대가51 →
B58: 라인가압펌프(일체형스텐레스)내부기기 | C58: 10HP(25~200m)0.05~1.35㎥/min | D58: 0 | E58: 대 | F58: =J58+H58+L58 -> 8234777 | G58: =K58+I58+M58 -> 0 | H58: =일위대가목록표!F55 -> 713377 | I58: =ROUNDDOWN(H58*D58,0) -> 0 | J58: =일위대가목록표!G55 -> 7500000 | K58: =ROUNDDOWN(J58*D58,0) -> 0 | L58: =일위대가목록표!H55 -> 21400 | M58: =ROUNDDOWN(L58*D58,0) -> 0 | N58: 대가 52호표 | O58: _x0007_`COD|B04912_x0005_`QTY1|1_x0005_`EXI|0_x0005_`IPR|0_x0005_`BLA|F_x0005_` | P58: B04912_1 | Q58: E2_1 | AC58: =HYPERLINK("#"&일위대가목록표!J2&"!A"&ROW(일위대가목록표!A55),"대가52 →") -> 대가52 →
B59: 라인가압펌프(일체형스텐레스)내부기기 | C59: 15HP(25~200m)0.25~1.25㎥/min | D59: 0 | E59: 대 | F59: =J59+H59+L59 -> 10523410 | G59: =K59+I59+M59 -> 0 | H59: =일위대가목록표!F56 -> 896515 | I59: =ROUNDDOWN(H59*D59,0) -> 0 | J59: =일위대가목록표!G56 -> 9600000 | K59: =ROUNDDOWN(J59*D59,0) -> 0 | L59: =일위대가목록표!H56 -> 26895 | M59: =ROUNDDOWN(L59*D59,0) -> 0 | N59: 대가 53호표 | O59: _x0007_`COD|B04913_x0005_`QTY1|1_x0005_`EXI|0_x0005_`IPR|0_x0005_`BLA|F_x0005_` | P59: B04913_1 | Q59: E2_1 | AC59: =HYPERLINK("#"&일위대가목록표!J2&"!A"&ROW(일위대가목록표!A56),"대가53 →") -> 대가53 →
B60: 라인가압펌프(일체형스텐레스)내부기기 | C60: 20HP(25~200m)0.25~1.25㎥/min | D60: 0 | E60: 대 | F60: =J60+H60+L60 -> 12980333 | G60: =K60+I60+M60 -> 0 | H60: =일위대가목록표!F57 -> 951780 | I60: =ROUNDDOWN(H60*D60,0) -> 0 | J60: =일위대가목록표!G57 -> 12000000 | K60: =ROUNDDOWN(J60*D60,0) -> 0 | L60: =일위대가목록표!H57 -> 28553 | M60: =ROUNDDOWN(L60*D60,0) -> 0 | N60: 대가 54호표 | O60: _x0007_`COD|B04914_x0005_`QTY1|1_x0005_`EXI|0_x0005_`IPR|0_x0005_`BLA|F_x0005_` | P60: B04914_1 | Q60: E2_1 | AC60: =HYPERLINK("#"&일위대가목록표!J2&"!A"&ROW(일위대가목록표!A57),"대가54 →") -> 대가54 →
B61: 라인가압펌프(일체형스텐레스)내부기기 | C61: 30HP(25~200m)0.25~1.35㎥/min | D61: 0 | E61: 대 | F61: =J61+H61+L61 -> 15083750 | G61: =K61+I61+M61 -> 0 | H61: =일위대가목록표!F58 -> 1537622 | I61: =ROUNDDOWN(H61*D61,0) -> 0 | J61: =일위대가목록표!G58 -> 13500000 | K61: =ROUNDDOWN(J61*D61,0) -> 0 | L61: =일위대가목록표!H58 -> 46128 | M61: =ROUNDDOWN(L61*D61,0) -> 0 | N61: 대가 55호표 | O61: _x0007_`COD|B04915_x0005_`QTY1|1_x0005_`EXI|0_x0005_`IPR|0_x0005_`BLA|F_x0005_` | P61: B04915_1 | Q61: E2_1 | AC61: =HYPERLINK("#"&일위대가목록표!J2&"!A"&ROW(일위대가목록표!A58),"대가55 →") -> 대가55 →
B62: 라인가압펌프(일체형스텐레스)내부기기 | C62: 40HP(25~200m)0.25~3.5㎥/min | D62: 0 | E62: 대 | F62: =J62+H62+L62 -> 17044858 | G62: =K62+I62+M62 -> 0 | H62: =일위대가목록표!F59 -> 1985300 | I62: =ROUNDDOWN(H62*D62,0) -> 0 | J62: =일위대가목록표!G59 -> 15000000 | K62: =ROUNDDOWN(J62*D62,0) -> 0 | L62: =일위대가목록표!H59 -> 59558 | M62: =ROUNDDOWN(L62*D62,0) -> 0 | N62: 대가 56호표 | O62: _x0007_`COD|B04916_x0005_`QTY1|1_x0005_`EXI|0_x0005_`IPR|0_x0005_`BLA|F_x0005_` | P62: B04916_1 | Q62: E2_1 | AC62: =HYPERLINK("#"&일위대가목록표!J2&"!A"&ROW(일위대가목록표!A59),"대가56 →") -> 대가56 →
B63: 라인가압펌프(일체형스텐레스)내부기기 | C63: 50HP(25~200m)0.3~3.5㎥/min | D63: 0 | E63: 대 | F63: =J63+H63+L63 -> 20289807 | G63: =K63+I63+M63 -> 0 | H63: =일위대가목록표!F60 -> 3193989 | I63: =ROUNDDOWN(H63*D63,0) -> 0 | J63: =일위대가목록표!G60 -> 17000000 | K63: =ROUNDDOWN(J63*D63,0) -> 0 | L63: =일위대가목록표!H60 -> 95818 | M63: =ROUNDDOWN(L63*D63,0) -> 0 | N63: 대가 57호표 | O63: _x0007_`COD|B04917_x0005_`QTY1|1_x0005_`EXI|0_x0005_`IPR|0_x0005_`BLA|F_x0005_` | P63: B04917_1 | Q63: E2_1 | AC63: =HYPERLINK("#"&일위대가목록표!J2&"!A"&ROW(일위대가목록표!A60),"대가57 →") -> 대가57 →
B64: 라인가압펌프(일체형스텐레스)내부기기 | C64: 60HP(25~200m)2.0~3.5㎥/min | D64: 0 | E64: 대 | F64: =J64+H64+L64 -> 20989807 | G64: =K64+I64+M64 -> 0 | H64: =일위대가목록표!F61 -> 3193989 | I64: =ROUNDDOWN(H64*D64,0) -> 0 | J64: =일위대가목록표!G61 -> 17700000 | K64: =ROUNDDOWN(J64*D64,0) -> 0 | L64: =일위대가목록표!H61 -> 95818 | M64: =ROUNDDOWN(L64*D64,0) -> 0 | N64: 대가 58호표 | O64: _x0007_`COD|B04918_x0005_`QTY1|1_x0005_`EXI|0_x0005_`IPR|0_x0005_`BLA|F_x0005_` | P64: B04918_1 | Q64: E2_1 | AC64: =HYPERLINK("#"&일위대가목록표!J2&"!A"&ROW(일위대가목록표!A61),"대가58 →") -> 대가58 →
B65: 라인가압펌프(일체형스텐레스)내부기기 | C65: 150HP(25~200m)1.0~7.2㎥/min | D65: 0 | E65: 대 | F65: =J65+H65+L65 -> 66030109 | G65: =K65+I65+M65 -> 0 | H65: =일위대가목록표!F62 -> 3912728 | I65: =ROUNDDOWN(H65*D65,0) -> 0 | J65: =일위대가목록표!G62 -> 62000000 | K65: =ROUNDDOWN(J65*D65,0) -> 0 | L65: =일위대가목록표!H62 -> 117381 | M65: =ROUNDDOWN(L65*D65,0) -> 0 | N65: 대가 59호표 | O65: _x0007_`COD|B04919_x0005_`QTY1|1_x0005_`EXI|0_x0005_`IPR|0_x0005_`BLA|F_x0005_` | P65: B04919_1 | Q65: E2_1 | AC65: =HYPERLINK("#"&일위대가목록표!J2&"!A"&ROW(일위대가목록표!A62),"대가59 →") -> 대가59 →
B66: 라인가압펌프(일체형스텐레스)내부기기 철거 및 설치 | C66: 2HP(25-200m)0.01-0.188㎥/min | D66: 0 | E66: 대 | F66: =J66+H66+L66 -> 365273 | G66: =K66+I66+M66 -> 0 | H66: =일위대가목록표!F63 -> 354635 | I66: =ROUNDDOWN(H66*D66,0) -> 0 | J66: =일위대가목록표!G63 -> 0 | K66: =ROUNDDOWN(J66*D66,0) -> 0 | L66: =일위대가목록표!H63 -> 10638 | M66: =ROUNDDOWN(L66*D66,0) -> 0 | N66: 대가 60호표 | O66: _x0007_`COD|B05117_x0005_`QTY1|1_x0005_`EXI|0_x0005_`IPR|0_x0005_`BLA|F_x0005_` | P66: B05117_1 | Q66: E2_1 | AC66: =HYPERLINK("#"&일위대가목록표!J2&"!A"&ROW(일위대가목록표!A63),"대가60 →") -> 대가60 →
B67: 라인가압펌프(일체형스텐레스)내부기기 철거 및 설치 | C67: 3HP(25~200m)0.01~0.25㎥/min | D67: 1 | E67: 대 | F67: =J67+H67+L67 -> 420901 | G67: =K67+I67+M67 -> 420901 | H67: =일위대가목록표!F64 -> 408643 | I67: =ROUNDDOWN(H67*D67,0) -> 408643 | J67: =일위대가목록표!G64 -> 0 | K67: =ROUNDDOWN(J67*D67,0) -> 0 | L67: =일위대가목록표!H64 -> 12258 | M67: =ROUNDDOWN(L67*D67,0) -> 12258 | N67: 대가 61호표 | O67: _x0007_`COD|B05118_x0005_`QTY1|1_x0005_`EXI|0_x0005_`IPR|0_x0005_`BLA|F_x0005_` | P67: B05118_1 | Q67: E2_1 | AC67: =HYPERLINK("#"&일위대가목록표!J2&"!A"&ROW(일위대가목록표!A64),"대가61 →") -> 대가61 →
B68: 라인가압펌프(일체형스텐레스)내부기기 철거 및 설치 | C68: 5HP(25~200m)0.01~0.25㎥/min | D68: 1 | E68: 대 | F68: =J68+H68+L68 -> 483348 | G68: =K68+I68+M68 -> 483348 | H68: =일위대가목록표!F65 -> 469271 | I68: =ROUNDDOWN(H68*D68,0) -> 469271 | J68: =일위대가목록표!G65 -> 0 | K68: =ROUNDDOWN(J68*D68,0) -> 0 | L68: =일위대가목록표!H65 -> 14077 | M68: =ROUNDDOWN(L68*D68,0) -> 14077 | N68: 대가 62호표 | O68: _x0007_`COD|B05119_x0005_`QTY1|1_x0005_`EXI|0_x0005_`IPR|0_x0005_`BLA|F_x0005_` | P68: B05119_1 | Q68: E2_1 | AC68: =HYPERLINK("#"&일위대가목록표!J2&"!A"&ROW(일위대가목록표!A65),"대가62 →") -> 대가62 →
B69: 라인가압펌프(일체형스텐레스)내부기기 철거 및 설치 | C69: 7.5HP(25~200m)0.09~0.25㎥/min | D69: 1 | E69: 대 | F69: =J69+H69+L69 -> 582367 | G69: =K69+I69+M69 -> 582367 | H69: =일위대가목록표!F66 -> 565406 | I69: =ROUNDDOWN(H69*D69,0) -> 565406 | J69: =일위대가목록표!G66 -> 0 | K69: =ROUNDDOWN(J69*D69,0) -> 0 | L69: =일위대가목록표!H66 -> 16961 | M69: =ROUNDDOWN(L69*D69,0) -> 16961 | N69: 대가 63호표 | O69: _x0007_`COD|B05120_x0005_`QTY1|1_x0005_`EXI|0_x0005_`IPR|0_x0005_`BLA|F_x0005_` | P69: B05120_1 | Q69: E2_1 | AC69: =HYPERLINK("#"&일위대가목록표!J2&"!A"&ROW(일위대가목록표!A66),"대가63 →") -> 대가63 →
B70: 라인가압펌프(일체형스텐레스)내부기기 철거 및 설치 | C70: 10HP(25~200m)0.05~1.35㎥/min | D70: 0 | E70: 대 | F70: =J70+H70+L70 -> 734777 | G70: =K70+I70+M70 -> 0 | H70: =일위대가목록표!F67 -> 713377 | I70: =ROUNDDOWN(H70*D70,0) -> 0 | J70: =일위대가목록표!G67 -> 0 | K70: =ROUNDDOWN(J70*D70,0) -> 0 | L70: =일위대가목록표!H67 -> 21400 | M70: =ROUNDDOWN(L70*D70,0) -> 0 | N70: 대가 64호표 | O70: _x0007_`COD|B05121_x0005_`QTY1|1_x0005_`EXI|0_x0005_`IPR|0_x0005_`BLA|F_x0005_` | P70: B05121_1 | Q70: E2_1 | AC70: =HYPERLINK("#"&일위대가목록표!J2&"!A"&ROW(일위대가목록표!A67),"대가64 →") -> 대가64 →
B71: 라인가압펌프(일체형스텐레스)내부기기 철거 및 설치 | C71: 15HP(25~200m)0.25~1.25㎥/min | D71: 0 | E71: 대 | F71: =J71+H71+L71 -> 923410 | G71: =K71+I71+M71 -> 0 | H71: =일위대가목록표!F68 -> 896515 | I71: =ROUNDDOWN(H71*D71,0) -> 0 | J71: =일위대가목록표!G68 -> 0 | K71: =ROUNDDOWN(J71*D71,0) -> 0 | L71: =일위대가목록표!H68 -> 26895 | M71: =ROUNDDOWN(L71*D71,0) -> 0 | N71: 대가 65호표 | O71: _x0007_`COD|B05122_x0005_`QTY1|1_x0005_`EXI|0_x0005_`IPR|0_x0005_`BLA|F_x0005_` | P71: B05122_1 | Q71: E2_1 | AC71: =HYPERLINK("#"&일위대가목록표!J2&"!A"&ROW(일위대가목록표!A68),"대가65 →") -> 대가65 →
B72: 라인가압펌프(일체형스텐레스)내부기기 철거 및 설치 | C72: 20HP(25~200m)0.25~1.25㎥/min | D72: 0 | E72: 대 | F72: =J72+H72+L72 -> 980333 | G72: =K72+I72+M72 -> 0 | H72: =일위대가목록표!F69 -> 951780 | I72: =ROUNDDOWN(H72*D72,0) -> 0 | J72: =일위대가목록표!G69 -> 0 | K72: =ROUNDDOWN(J72*D72,0) -> 0 | L72: =일위대가목록표!H69 -> 28553 | M72: =ROUNDDOWN(L72*D72,0) -> 0 | N72: 대가 66호표 | O72: _x0007_`COD|B05123_x0005_`QTY1|1_x0005_`EXI|0_x0005_`IPR|0_x0005_`BLA|F_x0005_` | P72: B05123_1 | Q72: E2_1 | AC72: =HYPERLINK("#"&일위대가목록표!J2&"!A"&ROW(일위대가목록표!A69),"대가66 →") -> 대가66 →
B73: 라인가압펌프(일체형스텐레스)내부기기 철거 및 설치 | C73: 30HP(25~200m)0.25~1.35㎥/min | D73: 0 | E73: 대 | F73: =J73+H73+L73 -> 1583750 | G73: =K73+I73+M73 -> 0 | H73: =일위대가목록표!F70 -> 1537622 | I73: =ROUNDDOWN(H73*D73,0) -> 0 | J73: =일위대가목록표!G70 -> 0 | K73: =ROUNDDOWN(J73*D73,0) -> 0 | L73: =일위대가목록표!H70 -> 46128 | M73: =ROUNDDOWN(L73*D73,0) -> 0 | N73: 대가 67호표 | O73: _x0007_`COD|B05124_x0005_`QTY1|1_x0005_`EXI|0_x0005_`IPR|0_x0005_`BLA|F_x0005_` | P73: B05124_1 | Q73: E2_1 | AC73: =HYPERLINK("#"&일위대가목록표!J2&"!A"&ROW(일위대가목록표!A70),"대가67 →") -> 대가67 →
B74: 라인가압펌프(일체형스텐레스)내부기기 철거 및 설치 | C74: 40HP(25~200m)0.25~3.5㎥/min | D74: 0 | E74: 대 | F74: =J74+H74+L74 -> 2044858 | G74: =K74+I74+M74 -> 0 | H74: =일위대가목록표!F71 -> 1985300 | I74: =ROUNDDOWN(H74*D74,0) -> 0 | J74: =일위대가목록표!G71 -> 0 | K74: =ROUNDDOWN(J74*D74,0) -> 0 | L74: =일위대가목록표!H71 -> 59558 | M74: =ROUNDDOWN(L74*D74,0) -> 0 | N74: 대가 68호표 | O74: _x0007_`COD|B05125_x0005_`QTY1|1_x0005_`EXI|0_x0005_`IPR|0_x0005_`BLA|F_x0005_` | P74: B05125_1 | Q74: E2_1 | AC74: =HYPERLINK("#"&일위대가목록표!J2&"!A"&ROW(일위대가목록표!A71),"대가68 →") -> 대가68 →
B75: 라인가압펌프(일체형스텐레스)내부기기 철거 및 설치 | C75: 50HP(25~200m)0.3~3.5㎥/min | D75: 0 | E75: 대 | F75: =J75+H75+L75 -> 3289807 | G75: =K75+I75+M75 -> 0 | H75: =일위대가목록표!F72 -> 3193989 | I75: =ROUNDDOWN(H75*D75,0) -> 0 | J75: =일위대가목록표!G72 -> 0 | K75: =ROUNDDOWN(J75*D75,0) -> 0 | L75: =일위대가목록표!H72 -> 95818 | M75: =ROUNDDOWN(L75*D75,0) -> 0 | N75: 대가 69호표 | O75: _x0007_`COD|B05126_x0005_`QTY1|1_x0005_`EXI|0_x0005_`IPR|0_x0005_`BLA|F_x0005_` | P75: B05126_1 | Q75: E2_1 | AC75: =HYPERLINK("#"&일위대가목록표!J2&"!A"&ROW(일위대가목록표!A72),"대가69 →") -> 대가69 →
B76: 라인가압펌프(일체형스텐레스)내부기기 철거 및 설치 | C76: 60HP(25~200m)2.0~3.5㎥/min | D76: 0 | E76: 대 | F76: =J76+H76+L76 -> 3289807 | G76: =K76+I76+M76 -> 0 | H76: =일위대가목록표!F73 -> 3193989 | I76: =ROUNDDOWN(H76*D76,0) -> 0 | J76: =일위대가목록표!G73 -> 0 | K76: =ROUNDDOWN(J76*D76,0) -> 0 | L76: =일위대가목록표!H73 -> 95818 | M76: =ROUNDDOWN(L76*D76,0) -> 0 | N76: 대가 70호표 | O76: _x0007_`COD|B05127_x0005_`QTY1|1_x0005_`EXI|0_x0005_`IPR|0_x0005_`BLA|F_x0005_` | P76: B05127_1 | Q76: E2_1 | AC76: =HYPERLINK("#"&일위대가목록표!J2&"!A"&ROW(일위대가목록표!A73),"대가70 →") -> 대가70 →
B77: 라인가압펌프(일체형스텐레스)내부기기 철거 및 설치 | C77: 150HP(25~200m)1.0~7.2㎥/min | D77: 0 | E77: 대 | F77: =J77+H77+L77 -> 4030109 | G77: =K77+I77+M77 -> 0 | H77: =일위대가목록표!F74 -> 3912728 | I77: =ROUNDDOWN(H77*D77,0) -> 0 | J77: =일위대가목록표!G74 -> 0 | K77: =ROUNDDOWN(J77*D77,0) -> 0 | L77: =일위대가목록표!H74 -> 117381 | M77: =ROUNDDOWN(L77*D77,0) -> 0 | N77: 대가 71호표 | O77: _x0007_`COD|B05128_x0005_`QTY1|1_x0005_`EXI|0_x0005_`IPR|0_x0005_`BLA|F_x0005_` | P77: B05128_1 | Q77: E2_1 | AC77: =HYPERLINK("#"&일위대가목록표!J2&"!A"&ROW(일위대가목록표!A74),"대가71 →") -> 대가71 →
B78: 라인가압펌프(일체형스텐레스)내부기기 설치 | C78: 2HP(25-200m)0.01-0.188㎥/min | D78: 0 | E78: 대 | F78: =J78+H78+L78 -> 260910 | G78: =K78+I78+M78 -> 0 | H78: =일위대가목록표!F75 -> 253311 | I78: =ROUNDDOWN(H78*D78,0) -> 0 | J78: =일위대가목록표!G75 -> 0 | K78: =ROUNDDOWN(J78*D78,0) -> 0 | L78: =일위대가목록표!H75 -> 7599 | M78: =ROUNDDOWN(L78*D78,0) -> 0 | N78: 대가 72호표 | O78: _x0007_`COD|B05153_x0005_`QTY1|1_x0005_`EXI|0_x0005_`IPR|0_x0005_`BLA|F_x0005_` | P78: B05153_1 | Q78: E2_1 | AC78: =HYPERLINK("#"&일위대가목록표!J2&"!A"&ROW(일위대가목록표!A75),"대가72 →") -> 대가72 →
B79: 라인가압펌프(일체형스텐레스)내부기기 설치 | C79: 3HP(25~200m)0.01~0.25㎥/min | D79: 1 | E79: 대 | F79: =J79+H79+L79 -> 300644 | G79: =K79+I79+M79 -> 300644 | H79: =일위대가목록표!F76 -> 291888 | I79: =ROUNDDOWN(H79*D79,0) -> 291888 | J79: =일위대가목록표!G76 -> 0 | K79: =ROUNDDOWN(J79*D79,0) -> 0 | L79: =일위대가목록표!H76 -> 8756 | M79: =ROUNDDOWN(L79*D79,0) -> 8756 | N79: 대가 73호표 | O79: _x0007_`COD|B05154_x0005_`QTY1|1_x0005_`EXI|0_x0005_`IPR|0_x0005_`BLA|F_x0005_` | P79: B05154_1 | Q79: E2_1 | AC79: =HYPERLINK("#"&일위대가목록표!J2&"!A"&ROW(일위대가목록표!A76),"대가73 →") -> 대가73 →
B80: 라인가압펌프(일체형스텐레스)내부기기 설치 | C80: 5HP(25~200m)0.01~0.25㎥/min | D80: 0 | E80: 대 | F80: =J80+H80+L80 -> 345249 | G80: =K80+I80+M80 -> 0 | H80: =일위대가목록표!F77 -> 335194 | I80: =ROUNDDOWN(H80*D80,0) -> 0 | J80: =일위대가목록표!G77 -> 0 | K80: =ROUNDDOWN(J80*D80,0) -> 0 | L80: =일위대가목록표!H77 -> 10055 | M80: =ROUNDDOWN(L80*D80,0) -> 0 | N80: 대가 74호표 | O80: _x0007_`COD|B05155_x0005_`QTY1|1_x0005_`EXI|0_x0005_`IPR|0_x0005_`BLA|F_x0005_` | P80: B05155_1 | Q80: E2_1 | AC80: =HYPERLINK("#"&일위대가목록표!J2&"!A"&ROW(일위대가목록표!A77),"대가74 →") -> 대가74 →
B81: 라인가압펌프(일체형스텐레스)내부기기 설치 | C81: 7.5HP(25~200m)0.09~0.25㎥/min | D81: 0 | E81: 대 | F81: =J81+H81+L81 -> 415977 | G81: =K81+I81+M81 -> 0 | H81: =일위대가목록표!F78 -> 403862 | I81: =ROUNDDOWN(H81*D81,0) -> 0 | J81: =일위대가목록표!G78 -> 0 | K81: =ROUNDDOWN(J81*D81,0) -> 0 | L81: =일위대가목록표!H78 -> 12115 | M81: =ROUNDDOWN(L81*D81,0) -> 0 | N81: 대가 75호표 | O81: _x0007_`COD|B05156_x0005_`QTY1|1_x0005_`EXI|0_x0005_`IPR|0_x0005_`BLA|F_x0005_` | P81: B05156_1 | Q81: E2_1 | AC81: =HYPERLINK("#"&일위대가목록표!J2&"!A"&ROW(일위대가목록표!A78),"대가75 →") -> 대가75 →
B82: 라인가압펌프(일체형스텐레스)내부기기 설치 | C82: 10HP(25~200m)0.05~1.35㎥/min | D82: 0 | E82: 대 | F82: =J82+H82+L82 -> 524841 | G82: =K82+I82+M82 -> 0 | H82: =일위대가목록표!F79 -> 509555 | I82: =ROUNDDOWN(H82*D82,0) -> 0 | J82: =일위대가목록표!G79 -> 0 | K82: =ROUNDDOWN(J82*D82,0) -> 0 | L82: =일위대가목록표!H79 -> 15286 | M82: =ROUNDDOWN(L82*D82,0) -> 0 | N82: 대가 76호표 | O82: _x0007_`COD|B05157_x0005_`QTY1|1_x0005_`EXI|0_x0005_`IPR|0_x0005_`BLA|F_x0005_` | P82: B05157_1 | Q82: E2_1 | AC82: =HYPERLINK("#"&일위대가목록표!J2&"!A"&ROW(일위대가목록표!A79),"대가76 →") -> 대가76 →
B83: 라인가압펌프(일체형스텐레스)내부기기 설치 | C83: 15HP(25~200m)0.25~1.25㎥/min | D83: 0 | E83: 대 | F83: =J83+H83+L83 -> 659579 | G83: =K83+I83+M83 -> 0 | H83: =일위대가목록표!F80 -> 640368 | I83: =ROUNDDOWN(H83*D83,0) -> 0 | J83: =일위대가목록표!G80 -> 0 | K83: =ROUNDDOWN(J83*D83,0) -> 0 | L83: =일위대가목록표!H80 -> 19211 | M83: =ROUNDDOWN(L83*D83,0) -> 0 | N83: 대가 77호표 | O83: _x0007_`COD|B05158_x0005_`QTY1|1_x0005_`EXI|0_x0005_`IPR|0_x0005_`BLA|F_x0005_` | P83: B05158_1 | Q83: E2_1 | AC83: =HYPERLINK("#"&일위대가목록표!J2&"!A"&ROW(일위대가목록표!A80),"대가77 →") -> 대가77 →
B84: 라인가압펌프(일체형스텐레스)내부기기 설치 | C84: 20HP(25~200m)0.25~1.25㎥/min | D84: 0 | E84: 대 | F84: =J84+H84+L84 -> 700238 | G84: =K84+I84+M84 -> 0 | H84: =일위대가목록표!F81 -> 679843 | I84: =ROUNDDOWN(H84*D84,0) -> 0 | J84: =일위대가목록표!G81 -> 0 | K84: =ROUNDDOWN(J84*D84,0) -> 0 | L84: =일위대가목록표!H81 -> 20395 | M84: =ROUNDDOWN(L84*D84,0) -> 0 | N84: 대가 78호표 | O84: _x0007_`COD|B05159_x0005_`QTY1|1_x0005_`EXI|0_x0005_`IPR|0_x0005_`BLA|F_x0005_` | P84: B05159_1 | Q84: E2_1 | AC84: =HYPERLINK("#"&일위대가목록표!J2&"!A"&ROW(일위대가목록표!A81),"대가78 →") -> 대가78 →
B85: 라인가압펌프(일체형스텐레스)내부기기 설치 | C85: 30HP(25~200m)0.25~1.35㎥/min | D85: 0 | E85: 대 | F85: =J85+H85+L85 -> 1131251 | G85: =K85+I85+M85 -> 0 | H85: =일위대가목록표!F82 -> 1098302 | I85: =ROUNDDOWN(H85*D85,0) -> 0 | J85: =일위대가목록표!G82 -> 0 | K85: =ROUNDDOWN(J85*D85,0) -> 0 | L85: =일위대가목록표!H82 -> 32949 | M85: =ROUNDDOWN(L85*D85,0) -> 0 | N85: 대가 79호표 | O85: _x0007_`COD|B05160_x0005_`QTY1|1_x0005_`EXI|0_x0005_`IPR|0_x0005_`BLA|F_x0005_` | P85: B05160_1 | Q85: E2_1 | AC85: =HYPERLINK("#"&일위대가목록표!J2&"!A"&ROW(일위대가목록표!A82),"대가79 →") -> 대가79 →
B86: 라인가압펌프(일체형스텐레스)내부기기 설치 | C86: 40HP(25~200m)0.25~3.5㎥/min | D86: 0 | E86: 대 | F86: =J86+H86+L86 -> 1460614 | G86: =K86+I86+M86 -> 0 | H86: =일위대가목록표!F83 -> 1418072 | I86: =ROUNDDOWN(H86*D86,0) -> 0 | J86: =일위대가목록표!G83 -> 0 | K86: =ROUNDDOWN(J86*D86,0) -> 0 | L86: =일위대가목록표!H83 -> 42542 | M86: =ROUNDDOWN(L86*D86,0) -> 0 | N86: 대가 80호표 | O86: _x0007_`COD|B05161_x0005_`QTY1|1_x0005_`EXI|0_x0005_`IPR|0_x0005_`BLA|F_x0005_` | P86: B05161_1 | Q86: E2_1 | AC86: =HYPERLINK("#"&일위대가목록표!J2&"!A"&ROW(일위대가목록표!A83),"대가80 →") -> 대가80 →
B87: 라인가압펌프(일체형스텐레스)내부기기 설치 | C87: 50HP(25~200m)0.3~3.5㎥/min | D87: 0 | E87: 대 | F87: =J87+H87+L87 -> 2349863 | G87: =K87+I87+M87 -> 0 | H87: =일위대가목록표!F84 -> 2281421 | I87: =ROUNDDOWN(H87*D87,0) -> 0 | J87: =일위대가목록표!G84 -> 0 | K87: =ROUNDDOWN(J87*D87,0) -> 0 | L87: =일위대가목록표!H84 -> 68442 | M87: =ROUNDDOWN(L87*D87,0) -> 0 | N87: 대가 81호표 | O87: _x0007_`COD|B05162_x0005_`QTY1|1_x0005_`EXI|0_x0005_`IPR|0_x0005_`BLA|F_x0005_` | P87: B05162_1 | Q87: E2_1 | AC87: =HYPERLINK("#"&일위대가목록표!J2&"!A"&ROW(일위대가목록표!A84),"대가81 →") -> 대가81 →
B88: 라인가압펌프(일체형스텐레스)내부기기 설치 | C88: 60HP(25~200m)2.0~3.5㎥/min | D88: 0 | E88: 대 | F88: =J88+H88+L88 -> 2349863 | G88: =K88+I88+M88 -> 0 | H88: =일위대가목록표!F85 -> 2281421 | I88: =ROUNDDOWN(H88*D88,0) -> 0 | J88: =일위대가목록표!G85 -> 0 | K88: =ROUNDDOWN(J88*D88,0) -> 0 | L88: =일위대가목록표!H85 -> 68442 | M88: =ROUNDDOWN(L88*D88,0) -> 0 | N88: 대가 82호표 | O88: _x0007_`COD|B05163_x0005_`QTY1|1_x0005_`EXI|0_x0005_`IPR|0_x0005_`BLA|F_x0005_` | P88: B05163_1 | Q88: E2_1 | AC88: =HYPERLINK("#"&일위대가목록표!J2&"!A"&ROW(일위대가목록표!A85),"대가82 →") -> 대가82 →
B89: 라인가압펌프(일체형스텐레스)내부기기 설치 | C89: 150HP(25~200m)1.0~7.2㎥/min | D89: 0 | E89: 대 | F89: =J89+H89+L89 -> 2878650 | G89: =K89+I89+M89 -> 0 | H89: =일위대가목록표!F86 -> 2794806 | I89: =ROUNDDOWN(H89*D89,0) -> 0 | J89: =일위대가목록표!G86 -> 0 | K89: =ROUNDDOWN(J89*D89,0) -> 0 | L89: =일위대가목록표!H86 -> 83844 | M89: =ROUNDDOWN(L89*D89,0) -> 0 | N89: 대가 83호표 | O89: _x0007_`COD|B05164_x0005_`QTY1|1_x0005_`EXI|0_x0005_`IPR|0_x0005_`BLA|F_x0005_` | P89: B05164_1 | Q89: E2_1 | AC89: =HYPERLINK("#"&일위대가목록표!J2&"!A"&ROW(일위대가목록표!A86),"대가83 →") -> 대가83 →
B90: 라인가압펌프(일체형스텐레스)내부기기 철거 | C90: 2HP(25-200m)0.01-0.188㎥/min | D90: 0 | E90: 대 | F90: =J90+H90+L90 -> 104363 | G90: =K90+I90+M90 -> 0 | H90: =일위대가목록표!F87 -> 101324 | I90: =ROUNDDOWN(H90*D90,0) -> 0 | J90: =일위대가목록표!G87 -> 0 | K90: =ROUNDDOWN(J90*D90,0) -> 0 | L90: =일위대가목록표!H87 -> 3039 | M90: =ROUNDDOWN(L90*D90,0) -> 0 | N90: 대가 84호표 | O90: _x0007_`COD|B05165_x0005_`QTY1|1_x0005_`EXI|0_x0005_`IPR|0_x0005_`BLA|F_x0005_` | P90: B05165_1 | Q90: E2_1 | AC90: =HYPERLINK("#"&일위대가목록표!J2&"!A"&ROW(일위대가목록표!A87),"대가84 →") -> 대가84 →
B91: 라인가압펌프(일체형스텐레스)내부기기 철거 | C91: 3HP(25~200m)0.01~0.25㎥/min | D91: 0 | E91: 대 | F91: =J91+H91+L91 -> 120257 | G91: =K91+I91+M91 -> 0 | H91: =일위대가목록표!F88 -> 116755 | I91: =ROUNDDOWN(H91*D91,0) -> 0 | J91: =일위대가목록표!G88 -> 0 | K91: =ROUNDDOWN(J91*D91,0) -> 0 | L91: =일위대가목록표!H88 -> 3502 | M91: =ROUNDDOWN(L91*D91,0) -> 0 | N91: 대가 85호표 | O91: _x0007_`COD|B05166_x0005_`QTY1|1_x0005_`EXI|0_x0005_`IPR|0_x0005_`BLA|F_x0005_` | P91: B05166_1 | Q91: E2_1 | AC91: =HYPERLINK("#"&일위대가목록표!J2&"!A"&ROW(일위대가목록표!A88),"대가85 →") -> 대가85 →
B92: 라인가압펌프(일체형스텐레스)내부기기 철거 | C92: 5HP(25~200m)0.01~0.25㎥/min | D92: 0 | E92: 대 | F92: =J92+H92+L92 -> 138099 | G92: =K92+I92+M92 -> 0 | H92: =일위대가목록표!F89 -> 134077 | I92: =ROUNDDOWN(H92*D92,0) -> 0 | J92: =일위대가목록표!G89 -> 0 | K92: =ROUNDDOWN(J92*D92,0) -> 0 | L92: =일위대가목록표!H89 -> 4022 | M92: =ROUNDDOWN(L92*D92,0) -> 0 | N92: 대가 86호표 | O92: _x0007_`COD|B05167_x0005_`QTY1|1_x0005_`EXI|0_x0005_`IPR|0_x0005_`BLA|F_x0005_` | P92: B05167_1 | Q92: E2_1 | AC92: =HYPERLINK("#"&일위대가목록표!J2&"!A"&ROW(일위대가목록표!A89),"대가86 →") -> 대가86 →
B93: 라인가압펌프(일체형스텐레스)내부기기 철거 | C93: 7.5HP(25~200m)0.09~0.25㎥/min | D93: 0 | E93: 대 | F93: =J93+H93+L93 -> 166390 | G93: =K93+I93+M93 -> 0 | H93: =일위대가목록표!F90 -> 161544 | I93: =ROUNDDOWN(H93*D93,0) -> 0 | J93: =일위대가목록표!G90 -> 0 | K93: =ROUNDDOWN(J93*D93,0) -> 0 | L93: =일위대가목록표!H90 -> 4846 | M93: =ROUNDDOWN(L93*D93,0) -> 0 | N93: 대가 87호표 | O93: _x0007_`COD|B05168_x0005_`QTY1|1_x0005_`EXI|0_x0005_`IPR|0_x0005_`BLA|F_x0005_` | P93: B05168_1 | Q93: E2_1 | AC93: =HYPERLINK("#"&일위대가목록표!J2&"!A"&ROW(일위대가목록표!A90),"대가87 →") -> 대가87 →
B94: 라인가압펌프(일체형스텐레스)내부기기 철거 | C94: 10HP(25~200m)0.05~1.35㎥/min | D94: 0 | E94: 대 | F94: =J94+H94+L94 -> 209936 | G94: =K94+I94+M94 -> 0 | H94: =일위대가목록표!F91 -> 203822 | I94: =ROUNDDOWN(H94*D94,0) -> 0 | J94: =일위대가목록표!G91 -> 0 | K94: =ROUNDDOWN(J94*D94,0) -> 0 | L94: =일위대가목록표!H91 -> 6114 | M94: =ROUNDDOWN(L94*D94,0) -> 0 | N94: 대가 88호표 | O94: _x0007_`COD|B05169_x0005_`QTY1|1_x0005_`EXI|0_x0005_`IPR|0_x0005_`BLA|F_x0005_` | P94: B05169_1 | Q94: E2_1 | AC94: =HYPERLINK("#"&일위대가목록표!J2&"!A"&ROW(일위대가목록표!A91),"대가88 →") -> 대가88 →
B95: 라인가압펌프(일체형스텐레스)내부기기 철거 | C95: 15HP(25~200m)0.25~1.25㎥/min | D95: 0 | E95: 대 | F95: =J95+H95+L95 -> 263831 | G95: =K95+I95+M95 -> 0 | H95: =일위대가목록표!F92 -> 256147 | I95: =ROUNDDOWN(H95*D95,0) -> 0 | J95: =일위대가목록표!G92 -> 0 | K95: =ROUNDDOWN(J95*D95,0) -> 0 | L95: =일위대가목록표!H92 -> 7684 | M95: =ROUNDDOWN(L95*D95,0) -> 0 | N95: 대가 89호표 | O95: _x0007_`COD|B05170_x0005_`QTY1|1_x0005_`EXI|0_x0005_`IPR|0_x0005_`BLA|F_x0005_` | P95: B05170_1 | Q95: E2_1 | AC95: =HYPERLINK("#"&일위대가목록표!J2&"!A"&ROW(일위대가목록표!A92),"대가89 →") -> 대가89 →
B96: 라인가압펌프(일체형스텐레스)내부기기 철거 | C96: 20HP(25~200m)0.25~1.25㎥/min | D96: 0 | E96: 대 | F96: =J96+H96+L96 -> 280095 | G96: =K96+I96+M96 -> 0 | H96: =일위대가목록표!F93 -> 271937 | I96: =ROUNDDOWN(H96*D96,0) -> 0 | J96: =일위대가목록표!G93 -> 0 | K96: =ROUNDDOWN(J96*D96,0) -> 0 | L96: =일위대가목록표!H93 -> 8158 | M96: =ROUNDDOWN(L96*D96,0) -> 0 | N96: 대가 90호표 | O96: _x0007_`COD|B05171_x0005_`QTY1|1_x0005_`EXI|0_x0005_`IPR|0_x0005_`BLA|F_x0005_` | P96: B05171_1 | Q96: E2_1 | AC96: =HYPERLINK("#"&일위대가목록표!J2&"!A"&ROW(일위대가목록표!A93),"대가90 →") -> 대가90 →
B97: 라인가압펌프(일체형스텐레스)내부기기 철거 | C97: 30HP(25~200m)0.25~1.35㎥/min | D97: 0 | E97: 대 | F97: =J97+H97+L97 -> 452499 | G97: =K97+I97+M97 -> 0 | H97: =일위대가목록표!F94 -> 439320 | I97: =ROUNDDOWN(H97*D97,0) -> 0 | J97: =일위대가목록표!G94 -> 0 | K97: =ROUNDDOWN(J97*D97,0) -> 0 | L97: =일위대가목록표!H94 -> 13179 | M97: =ROUNDDOWN(L97*D97,0) -> 0 | N97: 대가 91호표 | O97: _x0007_`COD|B05172_x0005_`QTY1|1_x0005_`EXI|0_x0005_`IPR|0_x0005_`BLA|F_x0005_` | P97: B05172_1 | Q97: E2_1 | AC97: =HYPERLINK("#"&일위대가목록표!J2&"!A"&ROW(일위대가목록표!A94),"대가91 →") -> 대가91 →
B98: 라인가압펌프(일체형스텐레스)내부기기 철거 | C98: 40HP(25~200m)0.25~3.5㎥/min | D98: 0 | E98: 대 | F98: =J98+H98+L98 -> 584244 | G98: =K98+I98+M98 -> 0 | H98: =일위대가목록표!F95 -> 567228 | I98: =ROUNDDOWN(H98*D98,0) -> 0 | J98: =일위대가목록표!G95 -> 0 | K98: =ROUNDDOWN(J98*D98,0) -> 0 | L98: =일위대가목록표!H95 -> 17016 | M98: =ROUNDDOWN(L98*D98,0) -> 0 | N98: 대가 92호표 | O98: _x0007_`COD|B05173_x0005_`QTY1|1_x0005_`EXI|0_x0005_`IPR|0_x0005_`BLA|F_x0005_` | P98: B05173_1 | Q98: E2_1 | AC98: =HYPERLINK("#"&일위대가목록표!J2&"!A"&ROW(일위대가목록표!A95),"대가92 →") -> 대가92 →
B99: 라인가압펌프(일체형스텐레스)내부기기 철거 | C99: 50HP(25~200m)0.3~3.5㎥/min | D99: 0 | E99: 대 | F99: =J99+H99+L99 -> 939944 | G99: =K99+I99+M99 -> 0 | H99: =일위대가목록표!F96 -> 912568 | I99: =ROUNDDOWN(H99*D99,0) -> 0 | J99: =일위대가목록표!G96 -> 0 | K99: =ROUNDDOWN(J99*D99,0) -> 0 | L99: =일위대가목록표!H96 -> 27376 | M99: =ROUNDDOWN(L99*D99,0) -> 0 | N99: 대가 93호표 | O99: _x0007_`COD|B05174_x0005_`QTY1|1_x0005_`EXI|0_x0005_`IPR|0_x0005_`BLA|F_x0005_` | P99: B05174_1 | Q99: E2_1 | AC99: =HYPERLINK("#"&일위대가목록표!J2&"!A"&ROW(일위대가목록표!A96),"대가93 →") -> 대가93 →
B100: 라인가압펌프(일체형스텐레스)내부기기 철거 | C100: 60HP(25~200m)2.0~3.5㎥/min | D100: 0 | E100: 대 | F100: =J100+H100+L100 -> 939944 | G100: =K100+I100+M100 -> 0 | H100: =일위대가목록표!F97 -> 912568 | I100: =ROUNDDOWN(H100*D100,0) -> 0 | J100: =일위대가목록표!G97 -> 0 | K100: =ROUNDDOWN(J100*D100,0) -> 0 | L100: =일위대가목록표!H97 -> 27376 | M100: =ROUNDDOWN(L100*D100,0) -> 0 | N100: 대가 94호표 | O100: _x0007_`COD|B05175_x0005_`QTY1|1_x0005_`EXI|0_x0005_`IPR|0_x0005_`BLA|F_x0005_` | P100: B05175_1 | Q100: E2_1 | AC100: =HYPERLINK("#"&일위대가목록표!J2&"!A"&ROW(일위대가목록표!A97),"대가94 →") -> 대가94 →
...

Sheet 일위대가목록표
A1: 일위대가 목록표 | J1: STmate | K1: STmate
A2: 공사명 : 2026년도 무인화시설물 유지보수(기계) 연간단가공사(1권역) | J2: =MID(CELL("filename",$A$1),FIND("]",CELL("filename",$A$1))+1,LEN(CELL("filename",$A$1))) -> 일위대가목록표
A3: 호표 | B3: 명 칭 | C3: 규 격 | D3: 단위 | E3: 합 계 | F3: 노 무 비 | G3: 재 료 비 | H3: 경 비 | I3: 비 고 | K3: =HYPERLINK("#'〓 목 차 〓'!B2","목차 →") -> 목차 →
A4: 제 1호표 | B4: 라인가압펌프(일체형스텐레스) | C4: 2HP(25-200m)0.01-0.188㎥/min | D4: 대 | E4: =일위대가표!F9 -> 8365273 | F4: =일위대가표!H9 -> 354635 | G4: =일위대가표!J9 -> 8000000 | H4: =일위대가표!L9 -> 10638 | I4: 제 1호표 | J4: ="_x0007_`COD|B04896_x0005_`QTY1|1_x0005_`BQC|_x0005_`EQC|_x0005_`JDC|_x0005_`WQC|_x0005_`EDT|_x0005_`ADJ|F_x0005_`DET|"&ROW(일위대가표!A6)&"_x0005_`" -> _x0007_`COD|B04896_x0005_`QTY1|1_x0005_`BQC|_x0005_`EQC|_x0005_`JDC|_x0005_`WQC|_x0005_`EDT|_x0005_`ADJ|F_x0005_`DET|6_x0005_` | K4: =HYPERLINK("#"&일위대가표!N2&"!A"&ROW(일위대가표!A6),"대가1 →") -> 대가1 →
A5: 제 2호표 | B5: 라인가압펌프(일체형스텐레스) | C5: 3HP(25~200m)0.01~0.25㎥/min | D5: 대 | E5: =일위대가표!F14 -> 9920901 | F5: =일위대가표!H14 -> 408643 | G5: =일위대가표!J14 -> 9500000 | H5: =일위대가표!L14 -> 12258 | I5: 제 2호표 | J5: ="_x0007_`COD|B04897_x0005_`QTY1|1_x0005_`BQC|_x0005_`EQC|_x0005_`JDC|_x0005_`WQC|_x0005_`EDT|_x0005_`ADJ|F_x0005_`DET|"&ROW(일위대가표!A11)&"_x0005_`" -> _x0007_`COD|B04897_x0005_`QTY1|1_x0005_`BQC|_x0005_`EQC|_x0005_`JDC|_x0005_`WQC|_x0005_`EDT|_x0005_`ADJ|F_x0005_`DET|11_x0005_` | K5: =HYPERLINK("#"&일위대가표!N2&"!A"&ROW(일위대가표!A11),"대가2 →") -> 대가2 →
A6: 제 3호표 | B6: 라인가압펌프(일체형스텐레스) | C6: 5HP(25~200m)0.01~0.25㎥/min | D6: 대 | E6: =일위대가표!F19 -> 11483348 | F6: =일위대가표!H19 -> 469271 | G6: =일위대가표!J19 -> 11000000 | H6: =일위대가표!L19 -> 14077 | I6: 제 3호표 | J6: ="_x0007_`COD|B04898_x0005_`QTY1|1_x0005_`BQC|_x0005_`EQC|_x0005_`JDC|_x0005_`WQC|_x0005_`EDT|_x0005_`ADJ|F_x0005_`DET|"&ROW(일위대가표!A16)&"_x0005_`" -> _x0007_`COD|B04898_x0005_`QTY1|1_x0005_`BQC|_x0005_`EQC|_x0005_`JDC|_x0005_`WQC|_x0005_`EDT|_x0005_`ADJ|F_x0005_`DET|16_x0005_` | K6: =HYPERLINK("#"&일위대가표!N2&"!A"&ROW(일위대가표!A16),"대가3 →") -> 대가3 →
A7: 제 4호표 | B7: 라인가압펌프(일체형스텐레스) | C7: 7.5HP(25~200m)0.09~0.25㎥/min | D7: 대 | E7: =일위대가표!F24 -> 13082367 | F7: =일위대가표!H24 -> 565406 | G7: =일위대가표!J24 -> 12500000 | H7: =일위대가표!L24 -> 16961 | I7: 제 4호표 | J7: ="_x0007_`COD|B04899_x0005_`QTY1|1_x0005_`BQC|_x0005_`EQC|_x0005_`JDC|_x0005_`WQC|_x0005_`EDT|_x0005_`ADJ|F_x0005_`DET|"&ROW(일위대가표!A21)&"_x0005_`" -> _x0007_`COD|B04899_x0005_`QTY1|1_x0005_`BQC|_x0005_`EQC|_x0005_`JDC|_x0005_`WQC|_x0005_`EDT|_x0005_`ADJ|F_x0005_`DET|21_x0005_` | K7: =HYPERLINK("#"&일위대가표!N2&"!A"&ROW(일위대가표!A21),"대가4 →") -> 대가4 →
A8: 제 5호표 | B8: 라인가압펌프(일체형스텐레스) | C8: 10HP(25~200m)0.05~1.35㎥/min | D8: 대 | E8: =일위대가표!F29 -> 14734777 | F8: =일위대가표!H29 -> 713377 | G8: =일위대가표!J29 -> 14000000 | H8: =일위대가표!L29 -> 21400 | I8: 제 5호표 | J8: ="_x0007_`COD|B04900_x0005_`QTY1|1_x0005_`BQC|_x0005_`EQC|_x0005_`JDC|_x0005_`WQC|_x0005_`EDT|_x0005_`ADJ|F_x0005_`DET|"&ROW(일위대가표!A26)&"_x0005_`" -> _x0007_`COD|B04900_x0005_`QTY1|1_x0005_`BQC|_x0005_`EQC|_x0005_`JDC|_x0005_`WQC|_x0005_`EDT|_x0005_`ADJ|F_x0005_`DET|26_x0005_` | K8: =HYPERLINK("#"&일위대가표!N2&"!A"&ROW(일위대가표!A26),"대가5 →") -> 대가5 →
A9: 제 6호표 | B9: 라인가압펌프(일체형스텐레스) | C9: 15HP(25~200m)0.25~1.25㎥/min | D9: 대 | E9: =일위대가표!F34 -> 16923410 | F9: =일위대가표!H34 -> 896515 | G9: =일위대가표!J34 -> 16000000 | H9: =일위대가표!L34 -> 26895 | I9: 제 6호표 | J9: ="_x0007_`COD|B04901_x0005_`QTY1|1_x0005_`BQC|_x0005_`EQC|_x0005_`JDC|_x0005_`WQC|_x0005_`EDT|_x0005_`ADJ|F_x0005_`DET|"&ROW(일위대가표!A31)&"_x0005_`" -> _x0007_`COD|B04901_x0005_`QTY1|1_x0005_`BQC|_x0005_`EQC|_x0005_`JDC|_x0005_`WQC|_x0005_`EDT|_x0005_`ADJ|F_x0005_`DET|31_x0005_` | K9: =HYPERLINK("#"&일위대가표!N2&"!A"&ROW(일위대가표!A31),"대가6 →") -> 대가6 →
A10: 제 7호표 | B10: 라인가압펌프(일체형스텐레스) | C10: 20HP(25~200m)0.25~1.25㎥/min | D10: 대 | E10: =일위대가표!F39 -> 19480333 | F10: =일위대가표!H39 -> 951780 | G10: =일위대가표!J39 -> 18500000 | H10: =일위대가표!L39 -> 28553 | I10: 제 7호표 | J10: ="_x0007_`COD|B04902_x0005_`QTY1|1_x0005_`BQC|_x0005_`EQC|_x0005_`JDC|_x0005_`WQC|_x0005_`EDT|_x0005_`ADJ|F_x0005_`DET|"&ROW(일위대가표!A36)&"_x0005_`" -> _x0007_`COD|B04902_x0005_`QTY1|1_x0005_`BQC|_x0005_`EQC|_x0005_`JDC|_x0005_`WQC|_x0005_`EDT|_x0005_`ADJ|F_x0005_`DET|36_x0005_` | K10: =HYPERLINK("#"&일위대가표!N2&"!A"&ROW(일위대가표!A36),"대가7 →") -> 대가7 →
A11: 제 8호표 | B11: 라인가압펌프(일체형스텐레스) | C11: 30HP(25~200m)0.25~1.35㎥/min | D11: 대 | E11: =일위대가표!F44 -> 22760750 | F11: =일위대가표!H44 -> 1537622 | G11: =일위대가표!J44 -> 21177000 | H11: =일위대가표!L44 -> 46128 | I11: 제 8호표 | J11: ="_x0007_`COD|B04903_x0005_`QTY1|1_x0005_`BQC|_x0005_`EQC|_x0005_`JDC|_x0005_`WQC|_x0005_`EDT|_x0005_`ADJ|F_x0005_`DET|"&ROW(일위대가표!A41)&"_x0005_`" -> _x0007_`COD|B04903_x0005_`QTY1|1_x0005_`BQC|_x0005_`EQC|_x0005_`JDC|_x0005_`WQC|_x0005_`EDT|_x0005_`ADJ|F_x0005_`DET|41_x0005_` | K11: =HYPERLINK("#"&일위대가표!N2&"!A"&ROW(일위대가표!A41),"대가8 →") -> 대가8 →
A12: 제 9호표 | B12: 라인가압펌프(일체형스텐레스) | C12: 40HP(25~200m)0.25~3.5㎥/min | D12: 대 | E12: =일위대가표!F49 -> 28044858 | F12: =일위대가표!H49 -> 1985300 | G12: =일위대가표!J49 -> 26000000 | H12: =일위대가표!L49 -> 59558 | I12: 제 9호표 | J12: ="_x0007_`COD|B04904_x0005_`QTY1|1_x0005_`BQC|_x0005_`EQC|_x0005_`JDC|_x0005_`WQC|_x0005_`EDT|_x0005_`ADJ|F_x0005_`DET|"&ROW(일위대가표!A46)&"_x0005_`" -> _x0007_`COD|B04904_x0005_`QTY1|1_x0005_`BQC|_x0005_`EQC|_x0005_`JDC|_x0005_`WQC|_x0005_`EDT|_x0005_`ADJ|F_x0005_`DET|46_x0005_` | K12: =HYPERLINK("#"&일위대가표!N2&"!A"&ROW(일위대가표!A46),"대가9 →") -> 대가9 →
A13: 제 10호표 | B13: 라인가압펌프(일체형스텐레스) | C13: 50HP(25~200m)0.3~3.5㎥/min | D13: 대 | E13: =일위대가표!F54 -> 35289807 | F13: =일위대가표!H54 -> 3193989 | G13: =일위대가표!J54 -> 32000000 | H13: =일위대가표!L54 -> 95818 | I13: 제 10호표 | J13: ="_x0007_`COD|B04905_x0005_`QTY1|1_x0005_`BQC|_x0005_`EQC|_x0005_`JDC|_x0005_`WQC|_x0005_`EDT|_x0005_`ADJ|F_x0005_`DET|"&ROW(일위대가표!A51)&"_x0005_`" -> _x0007_`COD|B04905_x0005_`QTY1|1_x0005_`BQC|_x0005_`EQC|_x0005_`JDC|_x0005_`WQC|_x0005_`EDT|_x0005_`ADJ|F_x0005_`DET|51_x0005_` | K13: =HYPERLINK("#"&일위대가표!N2&"!A"&ROW(일위대가표!A51),"대가10 →") -> 대가10 →
A14: 제 11호표 | B14: 라인가압펌프(일체형스텐레스) | C14: 60HP(25~200m)2.0~3.5㎥/min | D14: 대 | E14: =일위대가표!F59 -> 42289807 | F14: =일위대가표!H59 -> 3193989 | G14: =일위대가표!J59 -> 39000000 | H14: =일위대가표!L59 -> 95818 | I14: 제 11호표 | J14: ="_x0007_`COD|B04906_x0005_`QTY1|1_x0005_`BQC|_x0005_`EQC|_x0005_`JDC|_x0005_`WQC|_x0005_`EDT|_x0005_`ADJ|F_x0005_`DET|"&ROW(일위대가표!A56)&"_x0005_`" -> _x0007_`COD|B04906_x0005_`QTY1|1_x0005_`BQC|_x0005_`EQC|_x0005_`JDC|_x0005_`WQC|_x0005_`EDT|_x0005_`ADJ|F_x0005_`DET|56_x0005_` | K14: =HYPERLINK("#"&일위대가표!N2&"!A"&ROW(일위대가표!A56),"대가11 →") -> 대가11 →
A15: 제 12호표 | B15: 라인가압펌프(일체형스텐레스) | C15: 150HP(25~200m)1.0~7.2㎥/min | D15: 대 | E15: =일위대가표!F64 -> 103530109 | F15: =일위대가표!H64 -> 3912728 | G15: =일위대가표!J64 -> 99500000 | H15: =일위대가표!L64 -> 117381 | I15: 제 12호표 | J15: ="_x0007_`COD|B04907_x0005_`QTY1|1_x0005_`BQC|_x0005_`EQC|_x0005_`JDC|_x0005_`WQC|_x0005_`EDT|_x0005_`ADJ|F_x0005_`DET|"&ROW(일위대가표!A61)&"_x0005_`" -> _x0007_`COD|B04907_x0005_`QTY1|1_x0005_`BQC|_x0005_`EQC|_x0005_`JDC|_x0005_`WQC|_x0005_`EDT|_x0005_`ADJ|F_x0005_`DET|61_x0005_` | K15: =HYPERLINK("#"&일위대가표!N2&"!A"&ROW(일위대가표!A61),"대가12 →") -> 대가12 →
A16: 제 13호표 | B16: 라인가압펌프(일체형스텐레스) 철거 및 설치 | C16: 2HP(25-200m)0.01-0.188㎥/min | D16: 대 | E16: =일위대가표!F68 -> 365273 | F16: =일위대가표!H68 -> 354635 | G16: =일위대가표!J68 -> 0 | H16: =일위대가표!L68 -> 10638 | I16: 제 13호표 | J16: ="_x0007_`COD|B05105_x0005_`QTY1|1_x0005_`BQC|_x0005_`EQC|_x0005_`JDC|_x0005_`WQC|_x0005_`EDT|_x0005_`ADJ|F_x0005_`DET|"&ROW(일위대가표!A66)&"_x0005_`" -> _x0007_`COD|B05105_x0005_`QTY1|1_x0005_`BQC|_x0005_`EQC|_x0005_`JDC|_x0005_`WQC|_x0005_`EDT|_x0005_`ADJ|F_x0005_`DET|66_x0005_` | K16: =HYPERLINK("#"&일위대가표!N2&"!A"&ROW(일위대가표!A66),"대가13 →") -> 대가13 →
A17: 제 14호표 | B17: 라인가압펌프(일체형스텐레스) 철거 및 설치 | C17: 3HP(25~200m)0.01~0.25㎥/min | D17: 대 | E17: =일위대가표!F72 -> 420901 | F17: =일위대가표!H72 -> 408643 | G17: =일위대가표!J72 -> 0 | H17: =일위대가표!L72 -> 12258 | I17: 제 14호표 | J17: ="_x0007_`COD|B05106_x0005_`QTY1|1_x0005_`BQC|_x0005_`EQC|_x0005_`JDC|_x0005_`WQC|_x0005_`EDT|_x0005_`ADJ|F_x0005_`DET|"&ROW(일위대가표!A70)&"_x0005_`" -> _x0007_`COD|B05106_x0005_`QTY1|1_x0005_`BQC|_x0005_`EQC|_x0005_`JDC|_x0005_`WQC|_x0005_`EDT|_x0005_`ADJ|F_x0005_`DET|70_x0005_` | K17: =HYPERLINK("#"&일위대가표!N2&"!A"&ROW(일위대가표!A70),"대가14 →") -> 대가14 →
A18: 제 15호표 | B18: 라인가압펌프(일체형스텐레스) 철거 및 설치 | C18: 5HP(25~200m)0.01~0.25㎥/min | D18: 대 | E18: =일위대가표!F76 -> 483348 | F18: =일위대가표!H76 -> 469271 | G18: =일위대가표!J76 -> 0 | H18: =일위대가표!L76 -> 14077 | I18: 제 15호표 | J18: ="_x0007_`COD|B05107_x0005_`QTY1|1_x0005_`BQC|_x0005_`EQC|_x0005_`JDC|_x0005_`WQC|_x0005_`EDT|_x0005_`ADJ|F_x0005_`DET|"&ROW(일위대가표!A74)&"_x0005_`" -> _x0007_`COD|B05107_x0005_`QTY1|1_x0005_`BQC|_x0005_`EQC|_x0005_`JDC|_x0005_`WQC|_x0005_`EDT|_x0005_`ADJ|F_x0005_`DET|74_x0005_` | K18: =HYPERLINK("#"&일위대가표!N2&"!A"&ROW(일위대가표!A74),"대가15 →") -> 대가15 →
A19: 제 16호표 | B19: 라인가압펌프(일체형스텐레스) 철거 및 설치 | C19: 7.5HP(25~200m)0.09~0.25㎥/min | D19: 대 | E19: =일위대가표!F80 -> 582367 | F19: =일위대가표!H80 -> 565406 | G19: =일위대가표!J80 -> 0 | H19: =일위대가표!L80 -> 16961 | I19: 제 16호표 | J19: ="_x0007_`COD|B05108_x0005_`QTY1|1_x0005_`BQC|_x0005_`EQC|_x0005_`JDC|_x0005_`WQC|_x0005_`EDT|_x0005_`ADJ|F_x0005_`DET|"&ROW(일위대가표!A78)&"_x0005_`" -> _x0007_`COD|B05108_x0005_`QTY1|1_x0005_`BQC|_x0005_`EQC|_x0005_`JDC|_x0005_`WQC|_x0005_`EDT|_x0005_`ADJ|F_x0005_`DET|78_x0005_` | K19: =HYPERLINK("#"&일위대가표!N2&"!A"&ROW(일위대가표!A78),"대가16 →") -> 대가16 →
A20: 제 17호표 | B20: 라인가압펌프(일체형스텐레스) 철거 및 설치 | C20: 10HP(25~200m)0.05~1.35㎥/min | D20: 대 | E20: =일위대가표!F84 -> 734777 | F20: =일위대가표!H84 -> 713377 | G20: =일위대가표!J84 -> 0 | H20: =일위대가표!L84 -> 21400 | I20: 제 17호표 | J20: ="_x0007_`COD|B05109_x0005_`QTY1|1_x0005_`BQC|_x0005_`EQC|_x0005_`JDC|_x0005_`WQC|_x0005_`EDT|_x0005_`ADJ|F_x0005_`DET|"&ROW(일위대가표!A82)&"_x0005_`" -> _x0007_`COD|B05109_x0005_`QTY1|1_x0005_`BQC|_x0005_`EQC|_x0005_`JDC|_x0005_`WQC|_x0005_`EDT|_x0005_`ADJ|F_x0005_`DET|82_x0005_` | K20: =HYPERLINK("#"&일위대가표!N2&"!A"&ROW(일위대가표!A82),"대가17 →") -> 대가17 →
A21: 제 18호표 | B21: 라인가압펌프(일체형스텐레스) 철거 및 설치 | C21: 15HP(25~200m)0.25~1.25㎥/min | D21: 대 | E21: =일위대가표!F88 -> 923410 | F21: =일위대가표!H88 -> 896515 | G21: =일위대가표!J88 -> 0 | H21: =일위대가표!L88 -> 26895 | I21: 제 18호표 | J21: ="_x0007_`COD|B05110_x0005_`QTY1|1_x0005_`BQC|_x0005_`EQC|_x0005_`JDC|_x0005_`WQC|_x0005_`EDT|_x0005_`ADJ|F_x0005_`DET|"&ROW(일위대가표!A86)&"_x0005_`" -> _x0007_`COD|B05110_x0005_`QTY1|1_x0005_`BQC|_x0005_`EQC|_x0005_`JDC|_x0005_`WQC|_x0005_`EDT|_x0005_`ADJ|F_x0005_`DET|86_x0005_` | K21: =HYPERLINK("#"&일위대가표!N2&"!A"&ROW(일위대가표!A86),"대가18 →") -> 대가18 →
A22: 제 19호표 | B22: 라인가압펌프(일체형스텐레스) 철거 및 설치 | C22: 20HP(25~200m)0.25~1.25㎥/min | D22: 대 | E22: =일위대가표!F92 -> 980333 | F22: =일위대가표!H92 -> 951780 | G22: =일위대가표!J92 -> 0 | H22: =일위대가표!L92 -> 28553 | I22: 제 19호표 | J22: ="_x0007_`COD|B05111_x0005_`QTY1|1_x0005_`BQC|_x0005_`EQC|_x0005_`JDC|_x0005_`WQC|_x0005_`EDT|_x0005_`ADJ|F_x0005_`DET|"&ROW(일위대가표!A90)&"_x0005_`" -> _x0007_`COD|B05111_x0005_`QTY1|1_x0005_`BQC|_x0005_`EQC|_x0005_`JDC|_x0005_`WQC|_x0005_`EDT|_x0005_`ADJ|F_x0005_`DET|90_x0005_` | K22: =HYPERLINK("#"&일위대가표!N2&"!A"&ROW(일위대가표!A90),"대가19 →") -> 대가19 →
A23: 제 20호표 | B23: 라인가압펌프(일체형스텐레스) 철거 및 설치 | C23: 30HP(25~200m)0.25~1.35㎥/min | D23: 대 | E23: =일위대가표!F96 -> 1583750 | F23: =일위대가표!H96 -> 1537622 | G23: =일위대가표!J96 -> 0 | H23: =일위대가표!L96 -> 46128 | I23: 제 20호표 | J23: ="_x0007_`COD|B05112_x0005_`QTY1|1_x0005_`BQC|_x0005_`EQC|_x0005_`JDC|_x0005_`WQC|_x0005_`EDT|_x0005_`ADJ|F_x0005_`DET|"&ROW(일위대가표!A94)&"_x0005_`" -> _x0007_`COD|B05112_x0005_`QTY1|1_x0005_`BQC|_x0005_`EQC|_x0005_`JDC|_x0005_`WQC|_x0005_`EDT|_x0005_`ADJ|F_x0005_`DET|94_x0005_` | K23: =HYPERLINK("#"&일위대가표!N2&"!A"&ROW(일위대가표!A94),"대가20 →") -> 대가20 →
A24: 제 21호표 | B24: 라인가압펌프(일체형스텐레스) 철거 및 설치 | C24: 40HP(25~200m)0.25~3.5㎥/min | D24: 대 | E24: =일위대가표!F100 -> 2044858 | F24: =일위대가표!H100 -> 1985300 | G24: =일위대가표!J100 -> 0 | H24: =일위대가표!L100 -> 59558 | I24: 제 21호표 | J24: ="_x0007_`COD|B05113_x0005_`QTY1|1_x0005_`BQC|_x0005_`EQC|_x0005_`JDC|_x0005_`WQC|_x0005_`EDT|_x0005_`ADJ|F_x0005_`DET|"&ROW(일위대가표!A98)&"_x0005_`" -> _x0007_`COD|B05113_x0005_`QTY1|1_x0005_`BQC|_x0005_`EQC|_x0005_`JDC|_x0005_`WQC|_x0005_`EDT|_x0005_`ADJ|F_x0005_`DET|98_x0005_` | K24: =HYPERLINK("#"&일위대가표!N2&"!A"&ROW(일위대가표!A98),"대가21 →") -> 대가21 →
A25: 제 22호표 | B25: 라인가압펌프(일체형스텐레스) 철거 및 설치 | C25: 50HP(25~200m)0.3~3.5㎥/min | D25: 대 | E25: =일위대가표!F104 -> 3289807 | F25: =일위대가표!H104 -> 3193989 | G25: =일위대가표!J104 -> 0 | H25: =일위대가표!L104 -> 95818 | I25: 제 22호표 | J25: ="_x0007_`COD|B05114_x0005_`QTY1|1_x0005_`BQC|_x0005_`EQC|_x0005_`JDC|_x0005_`WQC|_x0005_`EDT|_x0005_`ADJ|F_x0005_`DET|"&ROW(일위대가표!A102)&"_x0005_`" -> _x0007_`COD|B05114_x0005_`QTY1|1_x0005_`BQC|_x0005_`EQC|_x0005_`JDC|_x0005_`WQC|_x0005_`EDT|_x0005_`ADJ|F_x0005_`DET|102_x0005_` | K25: =HYPERLINK("#"&일위대가표!N2&"!A"&ROW(일위대가표!A102),"대가22 →") -> 대가22 →
A26: 제 23호표 | B26: 라인가압펌프(일체형스텐레스) 철거 및 설치 | C26: 60HP(25~200m)2.0~3.5㎥/min | D26: 대 | E26: =일위대가표!F108 -> 3289807 | F26: =일위대가표!H108 -> 3193989 | G26: =일위대가표!J108 -> 0 | H26: =일위대가표!L108 -> 95818 | I26: 제 23호표 | J26: ="_x0007_`COD|B05115_x0005_`QTY1|1_x0005_`BQC|_x0005_`EQC|_x0005_`JDC|_x0005_`WQC|_x0005_`EDT|_x0005_`ADJ|F_x0005_`DET|"&ROW(일위대가표!A106)&"_x0005_`" -> _x0007_`COD|B05115_x0005_`QTY1|1_x0005_`BQC|_x0005_`EQC|_x0005_`JDC|_x0005_`WQC|_x0005_`EDT|_x0005_`ADJ|F_x0005_`DET|106_x0005_` | K26: =HYPERLINK("#"&일위대가표!N2&"!A"&ROW(일위대가표!A106),"대가23 →") -> 대가23 →
A27: 제 24호표 | B27: 라인가압펌프(일체형스텐레스) 철거 및 설치 | C27: 150HP(25~200m)1.0~7.2㎥/min | D27: 대 | E27: =일위대가표!F112 -> 4030109 | F27: =일위대가표!H112 -> 3912728 | G27: =일위대가표!J112 -> 0 | H27: =일위대가표!L112 -> 117381 | I27: 제 24호표 | J27: ="_x0007_`COD|B05116_x0005_`QTY1|1_x0005_`BQC|_x0005_`EQC|_x0005_`JDC|_x0005_`WQC|_x0005_`EDT|_x0005_`ADJ|F_x0005_`DET|"&ROW(일위대가표!A110)&"_x0005_`" -> _x0007_`COD|B05116_x0005_`QTY1|1_x0005_`BQC|_x0005_`EQC|_x0005_`JDC|_x0005_`WQC|_x0005_`EDT|_x0005_`ADJ|F_x0005_`DET|110_x0005_` | K27: =HYPERLINK("#"&일위대가표!N2&"!A"&ROW(일위대가표!A110),"대가24 →") -> 대가24 →
A28: 제 25호표 | B28: 라인가압펌프(일체형스텐레스) 설치 | C28: 2HP(25-200m)0.01-0.188㎥/min | D28: 대 | E28: =일위대가표!F117 -> 260910 | F28: =일위대가표!H117 -> 253311 | G28: =일위대가표!J117 -> 0 | H28: =일위대가표!L117 -> 7599 | I28: 제 25호표 | J28: ="_x0007_`COD|B05129_x0005_`QTY1|1_x0005_`BQC|_x0005_`EQC|_x0005_`JDC|_x0005_`WQC|_x0005_`EDT|_x0005_`ADJ|F_x0005_`DET|"&ROW(일위대가표!A114)&"_x0005_`" -> _x0007_`COD|B05129_x0005_`QTY1|1_x0005_`BQC|_x0005_`EQC|_x0005_`JDC|_x0005_`WQC|_x0005_`EDT|_x0005_`ADJ|F_x0005_`DET|114_x0005_` | K28: =HYPERLINK("#"&일위대가표!N2&"!A"&ROW(일위대가표!A114),"대가25 →") -> 대가25 →
A29: 제 26호표 | B29: 라인가압펌프(일체형스텐레스) 설치 | C29: 3HP(25~200m)0.01~0.25㎥/min | D29: 대 | E29: =일위대가표!F122 -> 300644 | F29: =일위대가표!H122 -> 291888 | G29: =일위대가표!J122 -> 0 | H29: =일위대가표!L122 -> 8756 | I29: 제 26호표 | J29: ="_x0007_`COD|B05130_x0005_`QTY1|1_x0005_`BQC|_x0005_`EQC|_x0005_`JDC|_x0005_`WQC|_x0005_`EDT|_x0005_`ADJ|F_x0005_`DET|"&ROW(일위대가표!A119)&"_x0005_`" -> _x0007_`COD|B05130_x0005_`QTY1|1_x0005_`BQC|_x0005_`EQC|_x0005_`JDC|_x0005_`WQC|_x0005_`EDT|_x0005_`ADJ|F_x0005_`DET|119_x0005_` | K29: =HYPERLINK("#"&일위대가표!N2&"!A"&ROW(일위대가표!A119),"대가26 →") -> 대가26 →
A30: 제 27호표 | B30: 라인가압펌프(일체형스텐레스) 설치 | C30: 5HP(25~200m)0.01~0.25㎥/min | D30: 대 | E30: =일위대가표!F126 -> 483348 | F30: =일위대가표!H126 -> 469271 | G30: =일위대가표!J126 -> 0 | H30: =일위대가표!L126 -> 14077 | I30: 제 27호표 | J30: ="_x0007_`COD|B05131_x0005_`QTY1|1_x0005_`BQC|_x0005_`EQC|_x0005_`JDC|_x0005_`WQC|_x0005_`EDT|_x0005_`ADJ|F_x0005_`DET|"&ROW(일위대가표!A124)&"_x0005_`" -> _x0007_`COD|B05131_x0005_`QTY1|1_x0005_`BQC|_x0005_`EQC|_x0005_`JDC|_x0005_`WQC|_x0005_`EDT|_x0005_`ADJ|F_x0005_`DET|124_x0005_` | K30: =HYPERLINK("#"&일위대가표!N2&"!A"&ROW(일위대가표!A124),"대가27 →") -> 대가27 →
A31: 제 28호표 | B31: 라인가압펌프(일체형스텐레스) 설치 | C31: 10HP(25~200m)0.05~1.35㎥/min | D31: 대 | E31: =일위대가표!F130 -> 734777 | F31: =일위대가표!H130 -> 713377 | G31: =일위대가표!J130 -> 0 | H31: =일위대가표!L130 -> 21400 | I31: 제 28호표 | J31: ="_x0007_`COD|B05133_x0005_`QTY1|1_x0005_`BQC|_x0005_`EQC|_x0005_`JDC|_x0005_`WQC|_x0005_`EDT|_x0005_`ADJ|F_x0005_`DET|"&ROW(일위대가표!A128)&"_x0005_`" -> _x0007_`COD|B05133_x0005_`QTY1|1_x0005_`BQC|_x0005_`EQC|_x0005_`JDC|_x0005_`WQC|_x0005_`EDT|_x0005_`ADJ|F_x0005_`DET|128_x0005_` | K31: =HYPERLINK("#"&일위대가표!N2&"!A"&ROW(일위대가표!A128),"대가28 →") -> 대가28 →
A32: 제 29호표 | B32: 라인가압펌프(일체형스텐레스) 설치 | C32: 15HP(25~200m)0.25~1.25㎥/min | D32: 대 | E32: =일위대가표!F134 -> 923410 | F32: =일위대가표!H134 -> 896515 | G32: =일위대가표!J134 -> 0 | H32: =일위대가표!L134 -> 26895 | I32: 제 29호표 | J32: ="_x0007_`COD|B05134_x0005_`QTY1|1_x0005_`BQC|_x0005_`EQC|_x0005_`JDC|_x0005_`WQC|_x0005_`EDT|_x0005_`ADJ|F_x0005_`DET|"&ROW(일위대가표!A132)&"_x0005_`" -> _x0007_`COD|B05134_x0005_`QTY1|1_x0005_`BQC|_x0005_`EQC|_x0005_`JDC|_x0005_`WQC|_x0005_`EDT|_x0005_`ADJ|F_x0005_`DET|132_x0005_` | K32: =HYPERLINK("#"&일위대가표!N2&"!A"&ROW(일위대가표!A132),"대가29 →") -> 대가29 →
A33: 제 30호표 | B33: 라인가압펌프(일체형스텐레스) 설치 | C33: 20HP(25~200m)0.25~1.25㎥/min | D33: 대 | E33: =일위대가표!F138 -> 980333 | F33: =일위대가표!H138 -> 951780 | G33: =일위대가표!J138 -> 0 | H33: =일위대가표!L138 -> 28553 | I33: 제 30호표 | J33: ="_x0007_`COD|B05135_x0005_`QTY1|1_x0005_`BQC|_x0005_`EQC|_x0005_`JDC|_x0005_`WQC|_x0005_`EDT|_x0005_`ADJ|F_x0005_`DET|"&ROW(일위대가표!A136)&"_x0005_`" -> _x0007_`COD|B05135_x0005_`QTY1|1_x0005_`BQC|_x0005_`EQC|_x0005_`JDC|_x0005_`WQC|_x0005_`EDT|_x0005_`ADJ|F_x0005_`DET|136_x0005_` | K33: =HYPERLINK("#"&일위대가표!N2&"!A"&ROW(일위대가표!A136),"대가30 →") -> 대가30 →
A34: 제 31호표 | B34: 라인가압펌프(일체형스텐레스) 설치 | C34: 30HP(25~200m)0.25~1.35㎥/min | D34: 대 | E34: =일위대가표!F142 -> 1583750 | F34: =일위대가표!H142 -> 1537622 | G34: =일위대가표!J142 -> 0 | H34: =일위대가표!L142 -> 46128 | I34: 제 31호표 | J34: ="_x0007_`COD|B05136_x0005_`QTY1|1_x0005_`BQC|_x0005_`EQC|_x0005_`JDC|_x0005_`WQC|_x0005_`EDT|_x0005_`ADJ|F_x0005_`DET|"&ROW(일위대가표!A140)&"_x0005_`" -> _x0007_`COD|B05136_x0005_`QTY1|1_x0005_`BQC|_x0005_`EQC|_x0005_`JDC|_x0005_`WQC|_x0005_`EDT|_x0005_`ADJ|F_x0005_`DET|140_x0005_` | K34: =HYPERLINK("#"&일위대가표!N2&"!A"&ROW(일위대가표!A140),"대가31 →") -> 대가31 →
A35: 제 32호표 | B35: 라인가압펌프(일체형스텐레스) 설치 | C35: 40HP(25~200m)0.25~3.5㎥/min | D35: 대 | E35: =일위대가표!F146 -> 2044858 | F35: =일위대가표!H146 -> 1985300 | G35: =일위대가표!J146 -> 0 | H35: =일위대가표!L146 -> 59558 | I35: 제 32호표 | J35: ="_x0007_`COD|B05137_x0005_`QTY1|1_x0005_`BQC|_x0005_`EQC|_x0005_`JDC|_x0005_`WQC|_x0005_`EDT|_x0005_`ADJ|F_x0005_`DET|"&ROW(일위대가표!A144)&"_x0005_`" -> _x0007_`COD|B05137_x0005_`QTY1|1_x0005_`BQC|_x0005_`EQC|_x0005_`JDC|_x0005_`WQC|_x0005_`EDT|_x0005_`ADJ|F_x0005_`DET|144_x0005_` | K35: =HYPERLINK("#"&일위대가표!N2&"!A"&ROW(일위대가표!A144),"대가32 →") -> 대가32 →
A36: 제 33호표 | B36: 라인가압펌프(일체형스텐레스) 설치 | C36: 50HP(25~200m)0.3~3.5㎥/min | D36: 대 | E36: =일위대가표!F150 -> 3289807 | F36: =일위대가표!H150 -> 3193989 | G36: =일위대가표!J150 -> 0 | H36: =일위대가표!L150 -> 95818 | I36: 제 33호표 | J36: ="_x0007_`COD|B05138_x0005_`QTY1|1_x0005_`BQC|_x0005_`EQC|_x0005_`JDC|_x0005_`WQC|_x0005_`EDT|_x0005_`ADJ|F_x0005_`DET|"&ROW(일위대가표!A148)&"_x0005_`" -> _x0007_`COD|B05138_x0005_`QTY1|1_x0005_`BQC|_x0005_`EQC|_x0005_`JDC|_x0005_`WQC|_x0005_`EDT|_x0005_`ADJ|F_x0005_`DET|148_x0005_` | K36: =HYPERLINK("#"&일위대가표!N2&"!A"&ROW(일위대가표!A148),"대가33 →") -> 대가33 →
A37: 제 34호표 | B37: 라인가압펌프(일체형스텐레스) 설치 | C37: 60HP(25~200m)2.0~3.5㎥/min | D37: 대 | E37: =일위대가표!F154 -> 3289807 | F37: =일위대가표!H154 -> 3193989 | G37: =일위대가표!J154 -> 0 | H37: =일위대가표!L154 -> 95818 | I37: 제 34호표 | J37: ="_x0007_`COD|B05139_x0005_`QTY1|1_x0005_`BQC|_x0005_`EQC|_x0005_`JDC|_x0005_`WQC|_x0005_`EDT|_x0005_`ADJ|F_x0005_`DET|"&ROW(일위대가표!A152)&"_x0005_`" -> _x0007_`COD|B05139_x0005_`QTY1|1_x0005_`BQC|_x0005_`EQC|_x0005_`JDC|_x0005_`WQC|_x0005_`EDT|_x0005_`ADJ|F_x0005_`DET|152_x0005_` | K37: =HYPERLINK("#"&일위대가표!N2&"!A"&ROW(일위대가표!A152),"대가34 →") -> 대가34 →
A38: 제 35호표 | B38: 라인가압펌프(일체형스텐레스) 설치 | C38: 150HP(25~200m)1.0~7.2㎥/min | D38: 대 | E38: =일위대가표!F158 -> 4030109 | F38: =일위대가표!H158 -> 3912728 | G38: =일위대가표!J158 -> 0 | H38: =일위대가표!L158 -> 117381 | I38: 제 35호표 | J38: ="_x0007_`COD|B05140_x0005_`QTY1|1_x0005_`BQC|_x0005_`EQC|_x0005_`JDC|_x0005_`WQC|_x0005_`EDT|_x0005_`ADJ|F_x0005_`DET|"&ROW(일위대가표!A156)&"_x0005_`" -> _x0007_`COD|B05140_x0005_`QTY1|1_x0005_`BQC|_x0005_`EQC|_x0005_`JDC|_x0005_`WQC|_x0005_`EDT|_x0005_`ADJ|F_x0005_`DET|156_x0005_` | K38: =HYPERLINK("#"&일위대가표!N2&"!A"&ROW(일위대가표!A156),"대가35 →") -> 대가35 →
A39: 제 36호표 | B39: 라인가압펌프(일체형스텐레스) 철거 | C39: 2HP(25-200m)0.01-0.188㎥/min | D39: 대 | E39: =일위대가표!F162 -> 104363 | F39: =일위대가표!H162 -> 101324 | G39: =일위대가표!J162 -> 0 | H39: =일위대가표!L162 -> 3039 | I39: 제 36호표 | J39: ="_x0007_`COD|B05141_x0005_`QTY1|1_x0005_`BQC|_x0005_`EQC|_x0005_`JDC|_x0005_`WQC|_x0005_`EDT|_x0005_`ADJ|F_x0005_`DET|"&ROW(일위대가표!A160)&"_x0005_`" -> _x0007_`COD|B05141_x0005_`QTY1|1_x0005_`BQC|_x0005_`EQC|_x0005_`JDC|_x0005_`WQC|_x0005_`EDT|_x0005_`ADJ|F_x0005_`DET|160_x0005_` | K39: =HYPERLINK("#"&일위대가표!N2&"!A"&ROW(일위대가표!A160),"대가36 →") -> 대가36 →
A40: 제 37호표 | B40: 라인가압펌프(일체형스텐레스) 철거 | C40: 3HP(25~200m)0.01~0.25㎥/min | D40: 대 | E40: =일위대가표!F166 -> 120257 | F40: =일위대가표!H166 -> 116755 | G40: =일위대가표!J166 -> 0 | H40: =일위대가표!L166 -> 3502 | I40: 제 37호표 | J40: ="_x0007_`COD|B05142_x0005_`QTY1|1_x0005_`BQC|_x0005_`EQC|_x0005_`JDC|_x0005_`WQC|_x0005_`EDT|_x0005_`ADJ|F_x0005_`DET|"&ROW(일위대가표!A164)&"_x0005_`" -> _x0007_`COD|B05142_x0005_`QTY1|1_x0005_`BQC|_x0005_`EQC|_x0005_`JDC|_x0005_`WQC|_x0005_`EDT|_x0005_`ADJ|F_x0005_`DET|164_x0005_` | K40: =HYPERLINK("#"&일위대가표!N2&"!A"&ROW(일위대가표!A164),"대가37 →") -> 대가37 →
A41: 제 38호표 | B41: 라인가압펌프(일체형스텐레스) 철거 | C41: 5HP(25~200m)0.01~0.25㎥/min | D41: 대 | E41: =일위대가표!F170 -> 138099 | F41: =일위대가표!H170 -> 134077 | G41: =일위대가표!J170 -> 0 | H41: =일위대가표!L170 -> 4022 | I41: 제 38호표 | J41: ="_x0007_`COD|B05143_x0005_`QTY1|1_x0005_`BQC|_x0005_`EQC|_x0005_`JDC|_x0005_`WQC|_x0005_`EDT|_x0005_`ADJ|F_x0005_`DET|"&ROW(일위대가표!A168)&"_x0005_`" -> _x0007_`COD|B05143_x0005_`QTY1|1_x0005_`BQC|_x0005_`EQC|_x0005_`JDC|_x0005_`WQC|_x0005_`EDT|_x0005_`ADJ|F_x0005_`DET|168_x0005_` | K41: =HYPERLINK("#"&일위대가표!N2&"!A"&ROW(일위대가표!A168),"대가38 →") -> 대가38 →
A42: 제 39호표 | B42: 라인가압펌프(일체형스텐레스) 철거 | C42: 7.5HP(25~200m)0.09~0.25㎥/min | D42: 대 | E42: =일위대가표!F174 -> 166390 | F42: =일위대가표!H174 -> 161544 | G42: =일위대가표!J174 -> 0 | H42: =일위대가표!L174 -> 4846 | I42: 제 39호표 | J42: ="_x0007_`COD|B05144_x0005_`QTY1|1_x0005_`BQC|_x0005_`EQC|_x0005_`JDC|_x0005_`WQC|_x0005_`EDT|_x0005_`ADJ|F_x0005_`DET|"&ROW(일위대가표!A172)&"_x0005_`" -> _x0007_`COD|B05144_x0005_`QTY1|1_x0005_`BQC|_x0005_`EQC|_x0005_`JDC|_x0005_`WQC|_x0005_`EDT|_x0005_`ADJ|F_x0005_`DET|172_x0005_` | K42: =HYPERLINK("#"&일위대가표!N2&"!A"&ROW(일위대가표!A172),"대가39 →") -> 대가39 →
A43: 제 40호표 | B43: 라인가압펌프(일체형스텐레스) 철거 | C43: 10HP(25~200m)0.05~1.35㎥/min | D43: 대 | E43: =일위대가표!F178 -> 209936 | F43: =일위대가표!H178 -> 203822 | G43: =일위대가표!J178 -> 0 | H43: =일위대가표!L178 -> 6114 | I43: 제 40호표 | J43: ="_x0007_`COD|B05145_x0005_`QTY1|1_x0005_`BQC|_x0005_`EQC|_x0005_`JDC|_x0005_`WQC|_x0005_`EDT|_x0005_`ADJ|F_x0005_`DET|"&ROW(일위대가표!A176)&"_x0005_`" -> _x0007_`COD|B05145_x0005_`QTY1|1_x0005_`BQC|_x0005_`EQC|_x0005_`JDC|_x0005_`WQC|_x0005_`EDT|_x0005_`ADJ|F_x0005_`DET|176_x0005_` | K43: =HYPERLINK("#"&일위대가표!N2&"!A"&ROW(일위대가표!A176),"대가40 →") -> 대가40 →
A44: 제 41호표 | B44: 라인가압펌프(일체형스텐레스) 철거 | C44: 15HP(25~200m)0.25~1.25㎥/min | D44: 대 | E44: =일위대가표!F182 -> 263831 | F44: =일위대가표!H182 -> 256147 | G44: =일위대가표!J182 -> 0 | H44: =일위대가표!L182 -> 7684 | I44: 제 41호표 | J44: ="_x0007_`COD|B05146_x0005_`QTY1|1_x0005_`BQC|_x0005_`EQC|_x0005_`JDC|_x0005_`WQC|_x0005_`EDT|_x0005_`ADJ|F_x0005_`DET|"&ROW(일위대가표!A180)&"_x0005_`" -> _x0007_`COD|B05146_x0005_`QTY1|1_x0005_`BQC|_x0005_`EQC|_x0005_`JDC|_x0005_`WQC|_x0005_`EDT|_x0005_`ADJ|F_x0005_`DET|180_x0005_` | K44: =HYPERLINK("#"&일위대가표!N2&"!A"&ROW(일위대가표!A180),"대가41 →") -> 대가41 →
A45: 제 42호표 | B45: 라인가압펌프(일체형스텐레스) 철거 | C45: 20HP(25~200m)0.25~1.25㎥/min | D45: 대 | E45: =일위대가표!F186 -> 280095 | F45: =일위대가표!H186 -> 271937 | G45: =일위대가표!J186 -> 0 | H45: =일위대가표!L186 -> 8158 | I45: 제 42호표 | J45: ="_x0007_`COD|B05147_x0005_`QTY1|1_x0005_`BQC|_x0005_`EQC|_x0005_`JDC|_x0005_`WQC|_x0005_`EDT|_x0005_`ADJ|F_x0005_`DET|"&ROW(일위대가표!A184)&"_x0005_`" -> _x0007_`COD|B05147_x0005_`QTY1|1_x0005_`BQC|_x0005_`EQC|_x0005_`JDC|_x0005_`WQC|_x0005_`EDT|_x0005_`ADJ|F_x0005_`DET|184_x0005_` | K45: =HYPERLINK("#"&일위대가표!N2&"!A"&ROW(일위대가표!A184),"대가42 →") -> 대가42 →
A46: 제 43호표 | B46: 라인가압펌프(일체형스텐레스) 철거 | C46: 30HP(25~200m)0.25~1.35㎥/min | D46: 대 | E46: =일위대가표!F190 -> 452499 | F46: =일위대가표!H190 -> 439320 | G46: =일위대가표!J190 -> 0 | H46: =일위대가표!L190 -> 13179 | I46: 제 43호표 | J46: ="_x0007_`COD|B05148_x0005_`QTY1|1_x0005_`BQC|_x0005_`EQC|_x0005_`JDC|_x0005_`WQC|_x0005_`EDT|_x0005_`ADJ|F_x0005_`DET|"&ROW(일위대가표!A188)&"_x0005_`" -> _x0007_`COD|B05148_x0005_`QTY1|1_x0005_`BQC|_x0005_`EQC|_x0005_`JDC|_x0005_`WQC|_x0005_`EDT|_x0005_`ADJ|F_x0005_`DET|188_x0005_` | K46: =HYPERLINK("#"&일위대가표!N2&"!A"&ROW(일위대가표!A188),"대가43 →") -> 대가43 →
A47: 제 44호표 | B47: 라인가압펌프(일체형스텐레스) 철거 | C47: 40HP(25~200m)0.25~3.5㎥/min | D47: 대 | E47: =일위대가표!F194 -> 584244 | F47: =일위대가표!H194 -> 567228 | G47: =일위대가표!J194 -> 0 | H47: =일위대가표!L194 -> 17016 | I47: 제 44호표 | J47: ="_x0007_`COD|B05149_x0005_`QTY1|1_x0005_`BQC|_x0005_`EQC|_x0005_`JDC|_x0005_`WQC|_x0005_`EDT|_x0005_`ADJ|F_x0005_`DET|"&ROW(일위대가표!A192)&"_x0005_`" -> _x0007_`COD|B05149_x0005_`QTY1|1_x0005_`BQC|_x0005_`EQC|_x0005_`JDC|_x0005_`WQC|_x0005_`EDT|_x0005_`ADJ|F_x0005_`DET|192_x0005_` | K47: =HYPERLINK("#"&일위대가표!N2&"!A"&ROW(일위대가표!A192),"대가44 →") -> 대가44 →
A48: 제 45호표 | B48: 라인가압펌프(일체형스텐레스) 철거 | C48: 50HP(25~200m)0.3~3.5㎥/min | D48: 대 | E48: =일위대가표!F198 -> 939944 | F48: =일위대가표!H198 -> 912568 | G48: =일위대가표!J198 -> 0 | H48: =일위대가표!L198 -> 27376 | I48: 제 45호표 | J48: ="_x0007_`COD|B05150_x0005_`QTY1|1_x0005_`BQC|_x0005_`EQC|_x0005_`JDC|_x0005_`WQC|_x0005_`EDT|_x0005_`ADJ|F_x0005_`DET|"&ROW(일위대가표!A196)&"_x0005_`" -> _x0007_`COD|B05150_x0005_`QTY1|1_x0005_`BQC|_x0005_`EQC|_x0005_`JDC|_x0005_`WQC|_x0005_`EDT|_x0005_`ADJ|F_x0005_`DET|196_x0005_` | K48: =HYPERLINK("#"&일위대가표!N2&"!A"&ROW(일위대가표!A196),"대가45 →") -> 대가45 →
A49: 제 46호표 | B49: 라인가압펌프(일체형스텐레스) 철거 | C49: 60HP(25~200m)2.0~3.5㎥/min | D49: 대 | E49: =일위대가표!F202 -> 939944 | F49: =일위대가표!H202 -> 912568 | G49: =일위대가표!J202 -> 0 | H49: =일위대가표!L202 -> 27376 | I49: 제 46호표 | J49: ="_x0007_`COD|B05151_x0005_`QTY1|1_x0005_`BQC|_x0005_`EQC|_x0005_`JDC|_x0005_`WQC|_x0005_`EDT|_x0005_`ADJ|F_x0005_`DET|"&ROW(일위대가표!A200)&"_x0005_`" -> _x0007_`COD|B05151_x0005_`QTY1|1_x0005_`BQC|_x0005_`EQC|_x0005_`JDC|_x0005_`WQC|_x0005_`EDT|_x0005_`ADJ|F_x0005_`DET|200_x0005_` | K49: =HYPERLINK("#"&일위대가표!N2&"!A"&ROW(일위대가표!A200),"대가46 →") -> 대가46 →
A50: 제 47호표 | B50: 라인가압펌프(일체형스텐레스) 철거 | C50: 150HP(25~200m)1.0~7.2㎥/min | D50: 대 | E50: =일위대가표!F206 -> 1151459 | F50: =일위대가표!H206 -> 1117922 | G50: =일위대가표!J206 -> 0 | H50: =일위대가표!L206 -> 33537 | I50: 제 47호표 | J50: ="_x0007_`COD|B05152_x0005_`QTY1|1_x0005_`BQC|_x0005_`EQC|_x0005_`JDC|_x0005_`WQC|_x0005_`EDT|_x0005_`ADJ|F_x0005_`DET|"&ROW(일위대가표!A204)&"_x0005_`" -> _x0007_`COD|B05152_x0005_`QTY1|1_x0005_`BQC|_x0005_`EQC|_x0005_`JDC|_x0005_`WQC|_x0005_`EDT|_x0005_`ADJ|F_x0005_`DET|204_x0005_` | K50: =HYPERLINK("#"&일위대가표!N2&"!A"&ROW(일위대가표!A204),"대가47 →") -> 대가47 →
A51: 제 48호표 | B51: 라인가압펌프(일체형스텐레스)내부기기 | C51: 2HP(25-200m)0.01-0.188㎥/min | D51: 대 | E51: =일위대가표!F211 -> 2265273 | F51: =일위대가표!H211 -> 354635 | G51: =일위대가표!J211 -> 1900000 | H51: =일위대가표!L211 -> 10638 | I51: 제 48호표 | J51: ="_x0007_`COD|B04908_x0005_`QTY1|1_x0005_`BQC|_x0005_`EQC|_x0005_`JDC|_x0005_`WQC|_x0005_`EDT|_x0005_`ADJ|F_x0005_`DET|"&ROW(일위대가표!A208)&"_x0005_`" -> _x0007_`COD|B04908_x0005_`QTY1|1_x0005_`BQC|_x0005_`EQC|_x0005_`JDC|_x0005_`WQC|_x0005_`EDT|_x0005_`ADJ|F_x0005_`DET|208_x0005_` | K51: =HYPERLINK("#"&일위대가표!N2&"!A"&ROW(일위대가표!A208),"대가48 →") -> 대가48 →
A52: 제 49호표 | B52: 라인가압펌프(일체형스텐레스)내부기기 | C52: 3HP(25~200m)0.01~0.25㎥/min | D52: 대 | E52: =일위대가표!F216 -> 3220901 | F52: =일위대가표!H216 -> 408643 | G52: =일위대가표!J216 -> 2800000 | H52: =일위대가표!L216 -> 12258 | I52: 제 49호표 | J52: ="_x0007_`COD|B04909_x0005_`QTY1|1_x0005_`BQC|_x0005_`EQC|_x0005_`JDC|_x0005_`WQC|_x0005_`EDT|_x0005_`ADJ|F_x0005_`DET|"&ROW(일위대가표!A213)&"_x0005_`" -> _x0007_`COD|B04909_x0005_`QTY1|1_x0005_`BQC|_x0005_`EQC|_x0005_`JDC|_x0005_`WQC|_x0005_`EDT|_x0005_`ADJ|F_x0005_`DET|213_x0005_` | K52: =HYPERLINK("#"&일위대가표!N2&"!A"&ROW(일위대가표!A213),"대가49 →") -> 대가49 →
A53: 제 50호표 | B53: 라인가압펌프(일체형스텐레스)내부기기 | C53: 5HP(25~200m)0.01~0.25㎥/min | D53: 대 | E53: =일위대가표!F221 -> 5183348 | F53: =일위대가표!H221 -> 469271 | G53: =일위대가표!J221 -> 4700000 | H53: =일위대가표!L221 -> 14077 | I53: 제 50호표 | J53: ="_x0007_`COD|B04910_x0005_`QTY1|1_x0005_`BQC|_x0005_`EQC|_x0005_`JDC|_x0005_`WQC|_x0005_`EDT|_x0005_`ADJ|F_x0005_`DET|"&ROW(일위대가표!A218)&"_x0005_`" -> _x0007_`COD|B04910_x0005_`QTY1|1_x0005_`BQC|_x0005_`EQC|_x0005_`JDC|_x0005_`WQC|_x0005_`EDT|_x0005_`ADJ|F_x0005_`DET|218_x0005_` | K53: =HYPERLINK("#"&일위대가표!N2&"!A"&ROW(일위대가표!A218),"대가50 →") -> 대가50 →
A54: 제 51호표 | B54: 라인가압펌프(일체형스텐레스)내부기기 | C54: 7.5HP(25~200m)0.09~0.25㎥/min | D54: 대 | E54: =일위대가표!F226 -> 7282367 | F54: =일위대가표!H226 -> 565406 | G54: =일위대가표!J226 -> 6700000 | H54: =일위대가표!L226 -> 16961 | I54: 제 51호표 | J54: ="_x0007_`COD|B04911_x0005_`QTY1|1_x0005_`BQC|_x0005_`EQC|_x0005_`JDC|_x0005_`WQC|_x0005_`EDT|_x0005_`ADJ|F_x0005_`DET|"&ROW(일위대가표!A223)&"_x0005_`" -> _x0007_`COD|B04911_x0005_`QTY1|1_x0005_`BQC|_x0005_`EQC|_x0005_`JDC|_x0005_`WQC|_x0005_`EDT|_x0005_`ADJ|F_x0005_`DET|223_x0005_` | K54: =HYPERLINK("#"&일위대가표!N2&"!A"&ROW(일위대가표!A223),"대가51 →") -> 대가51 →
A55: 제 52호표 | B55: 라인가압펌프(일체형스텐레스)내부기기 | C55: 10HP(25~200m)0.05~1.35㎥/min | D55: 대 | E55: =일위대가표!F231 -> 8234777 | F55: =일위대가표!H231 -> 713377 | G55: =일위대가표!J231 -> 7500000 | H55: =일위대가표!L231 -> 21400 | I55: 제 52호표 | J55: ="_x0007_`COD|B04912_x0005_`QTY1|1_x0005_`BQC|_x0005_`EQC|_x0005_`JDC|_x0005_`WQC|_x0005_`EDT|_x0005_`ADJ|F_x0005_`DET|"&ROW(일위대가표!A228)&"_x0005_`" -> _x0007_`COD|B04912_x0005_`QTY1|1_x0005_`BQC|_x0005_`EQC|_x0005_`JDC|_x0005_`WQC|_x0005_`EDT|_x0005_`ADJ|F_x0005_`DET|228_x0005_` | K55: =HYPERLINK("#"&일위대가표!N2&"!A"&ROW(일위대가표!A228),"대가52 →") -> 대가52 →
A56: 제 53호표 | B56: 라인가압펌프(일체형스텐레스)내부기기 | C56: 15HP(25~200m)0.25~1.25㎥/min | D56: 대 | E56: =일위대가표!F236 -> 10523410 | F56: =일위대가표!H236 -> 896515 | G56: =일위대가표!J236 -> 9600000 | H56: =일위대가표!L236 -> 26895 | I56: 제 53호표 | J56: ="_x0007_`COD|B04913_x0005_`QTY1|1_x0005_`BQC|_x0005_`EQC|_x0005_`JDC|_x0005_`WQC|_x0005_`EDT|_x0005_`ADJ|F_x0005_`DET|"&ROW(일위대가표!A233)&"_x0005_`" -> _x0007_`COD|B04913_x0005_`QTY1|1_x0005_`BQC|_x0005_`EQC|_x0005_`JDC|_x0005_`WQC|_x0005_`EDT|_x0005_`ADJ|F_x0005_`DET|233_x0005_` | K56: =HYPERLINK("#"&일위대가표!N2&"!A"&ROW(일위대가표!A233),"대가53 →") -> 대가53 →
A57: 제 54호표 | B57: 라인가압펌프(일체형스텐레스)내부기기 | C57: 20HP(25~200m)0.25~1.25㎥/min | D57: 대 | E57: =일위대가표!F241 -> 12980333 | F57: =일위대가표!H241 -> 951780 | G57: =일위대가표!J241 -> 12000000 | H57: =일위대가표!L241 -> 28553 | I57: 제 54호표 | J57: ="_x0007_`COD|B04914_x0005_`QTY1|1_x0005_`BQC|_x0005_`EQC|_x0005_`JDC|_x0005_`WQC|_x0005_`EDT|_x0005_`ADJ|F_x0005_`DET|"&ROW(일위대가표!A238)&"_x0005_`" -> _x0007_`COD|B04914_x0005_`QTY1|1_x0005_`BQC|_x0005_`EQC|_x0005_`JDC|_x0005_`WQC|_x0005_`EDT|_x0005_`ADJ|F_x0005_`DET|238_x0005_` | K57: =HYPERLINK("#"&일위대가표!N2&"!A"&ROW(일위대가표!A238),"대가54 →") -> 대가54 →
A58: 제 55호표 | B58: 라인가압펌프(일체형스텐레스)내부기기 | C58: 30HP(25~200m)0.25~1.35㎥/min | D58: 대 | E58: =일위대가표!F246 -> 15083750 | F58: =일위대가표!H246 -> 1537622 | G58: =일위대가표!J246 -> 13500000 | H58: =일위대가표!L246 -> 46128 | I58: 제 55호표 | J58: ="_x0007_`COD|B04915_x0005_`QTY1|1_x0005_`BQC|_x0005_`EQC|_x0005_`JDC|_x0005_`WQC|_x0005_`EDT|_x0005_`ADJ|F_x0005_`DET|"&ROW(일위대가표!A243)&"_x0005_`" -> _x0007_`COD|B04915_x0005_`QTY1|1_x0005_`BQC|_x0005_`EQC|_x0005_`JDC|_x0005_`WQC|_x0005_`EDT|_x0005_`ADJ|F_x0005_`DET|243_x0005_` | K58: =HYPERLINK("#"&일위대가표!N2&"!A"&ROW(일위대가표!A243),"대가55 →") -> 대가55 →
A59: 제 56호표 | B59: 라인가압펌프(일체형스텐레스)내부기기 | C59: 40HP(25~200m)0.25~3.5㎥/min | D59: 대 | E59: =일위대가표!F251 -> 17044858 | F59: =일위대가표!H251 -> 1985300 | G59: =일위대가표!J251 -> 15000000 | H59: =일위대가표!L251 -> 59558 | I59: 제 56호표 | J59: ="_x0007_`COD|B04916_x0005_`QTY1|1_x0005_`BQC|_x0005_`EQC|_x0005_`JDC|_x0005_`WQC|_x0005_`EDT|_x0005_`ADJ|F_x0005_`DET|"&ROW(일위대가표!A248)&"_x0005_`" -> _x0007_`COD|B04916_x0005_`QTY1|1_x0005_`BQC|_x0005_`EQC|_x0005_`JDC|_x0005_`WQC|_x0005_`EDT|_x0005_`ADJ|F_x0005_`DET|248_x0005_` | K59: =HYPERLINK("#"&일위대가표!N2&"!A"&ROW(일위대가표!A248),"대가56 →") -> 대가56 →
A60: 제 57호표 | B60: 라인가압펌프(일체형스텐레스)내부기기 | C60: 50HP(25~200m)0.3~3.5㎥/min | D60: 대 | E60: =일위대가표!F256 -> 20289807 | F60: =일위대가표!H256 -> 3193989 | G60: =일위대가표!J256 -> 17000000 | H60: =일위대가표!L256 -> 95818 | I60: 제 57호표 | J60: ="_x0007_`COD|B04917_x0005_`QTY1|1_x0005_`BQC|_x0005_`EQC|_x0005_`JDC|_x0005_`WQC|_x0005_`EDT|_x0005_`ADJ|F_x0005_`DET|"&ROW(일위대가표!A253)&"_x0005_`" -> _x0007_`COD|B04917_x0005_`QTY1|1_x0005_`BQC|_x0005_`EQC|_x0005_`JDC|_x0005_`WQC|_x0005_`EDT|_x0005_`ADJ|F_x0005_`DET|253_x0005_` | K60: =HYPERLINK("#"&일위대가표!N2&"!A"&ROW(일위대가표!A253),"대가57 →") -> 대가57 →
A61: 제 58호표 | B61: 라인가압펌프(일체형스텐레스)내부기기 | C61: 60HP(25~200m)2.0~3.5㎥/min | D61: 대 | E61: =일위대가표!F261 -> 20989807 | F61: =일위대가표!H261 -> 3193989 | G61: =일위대가표!J261 -> 17700000 | H61: =일위대가표!L261 -> 95818 | I61: 제 58호표 | J61: ="_x0007_`COD|B04918_x0005_`QTY1|1_x0005_`BQC|_x0005_`EQC|_x0005_`JDC|_x0005_`WQC|_x0005_`EDT|_x0005_`ADJ|F_x0005_`DET|"&ROW(일위대가표!A258)&"_x0005_`" -> _x0007_`COD|B04918_x0005_`QTY1|1_x0005_`BQC|_x0005_`EQC|_x0005_`JDC|_x0005_`WQC|_x0005_`EDT|_x0005_`ADJ|F_x0005_`DET|258_x0005_` | K61: =HYPERLINK("#"&일위대가표!N2&"!A"&ROW(일위대가표!A258),"대가58 →") -> 대가58 →
A62: 제 59호표 | B62: 라인가압펌프(일체형스텐레스)내부기기 | C62: 150HP(25~200m)1.0~7.2㎥/min | D62: 대 | E62: =일위대가표!F266 -> 66030109 | F62: =일위대가표!H266 -> 3912728 | G62: =일위대가표!J266 -> 62000000 | H62: =일위대가표!L266 -> 117381 | I62: 제 59호표 | J62: ="_x0007_`COD|B04919_x0005_`QTY1|1_x0005_`BQC|_x0005_`EQC|_x0005_`JDC|_x0005_`WQC|_x0005_`EDT|_x0005_`ADJ|F_x0005_`DET|"&ROW(일위대가표!A263)&"_x0005_`" -> _x0007_`COD|B04919_x0005_`QTY1|1_x0005_`BQC|_x0005_`EQC|_x0005_`JDC|_x0005_`WQC|_x0005_`EDT|_x0005_`ADJ|F_x0005_`DET|263_x0005_` | K62: =HYPERLINK("#"&일위대가표!N2&"!A"&ROW(일위대가표!A263),"대가59 →") -> 대가59 →
A63: 제 60호표 | B63: 라인가압펌프(일체형스텐레스)내부기기 철거 및 설치 | C63: 2HP(25-200m)0.01-0.188㎥/min | D63: 대 | E63: =일위대가표!F270 -> 365273 | F63: =일위대가표!H270 -> 354635 | G63: =일위대가표!J270 -> 0 | H63: =일위대가표!L270 -> 10638 | I63: 제 60호표 | J63: ="_x0007_`COD|B05117_x0005_`QTY1|1_x0005_`BQC|_x0005_`EQC|_x0005_`JDC|_x0005_`WQC|_x0005_`EDT|_x0005_`ADJ|F_x0005_`DET|"&ROW(일위대가표!A268)&"_x0005_`" -> _x0007_`COD|B05117_x0005_`QTY1|1_x0005_`BQC|_x0005_`EQC|_x0005_`JDC|_x0005_`WQC|_x0005_`EDT|_x0005_`ADJ|F_x0005_`DET|268_x0005_` | K63: =HYPERLINK("#"&일위대가표!N2&"!A"&ROW(일위대가표!A268),"대가60 →") -> 대가60 →
A64: 제 61호표 | B64: 라인가압펌프(일체형스텐레스)내부기기 철거 및 설치 | C64: 3HP(25~200m)0.01~0.25㎥/min | D64: 대 | E64: =일위대가표!F274 -> 420901 | F64: =일위대가표!H274 -> 408643 | G64: =일위대가표!J274 -> 0 | H64: =일위대가표!L274 -> 12258 | I64: 제 61호표 | J64: ="_x0007_`COD|B05118_x0005_`QTY1|1_x0005_`BQC|_x0005_`EQC|_x0005_`JDC|_x0005_`WQC|_x0005_`EDT|_x0005_`ADJ|F_x0005_`DET|"&ROW(일위대가표!A272)&"_x0005_`" -> _x0007_`COD|B05118_x0005_`QTY1|1_x0005_`BQC|_x0005_`EQC|_x0005_`JDC|_x0005_`WQC|_x0005_`EDT|_x0005_`ADJ|F_x0005_`DET|272_x0005_` | K64: =HYPERLINK("#"&일위대가표!N2&"!A"&ROW(일위대가표!A272),"대가61 →") -> 대가61 →
A65: 제 62호표 | B65: 라인가압펌프(일체형스텐레스)내부기기 철거 및 설치 | C65: 5HP(25~200m)0.01~0.25㎥/min | D65: 대 | E65: =일위대가표!F278 -> 483348 | F65: =일위대가표!H278 -> 469271 | G65: =일위대가표!J278 -> 0 | H65: =일위대가표!L278 -> 14077 | I65: 제 62호표 | J65: ="_x0007_`COD|B05119_x0005_`QTY1|1_x0005_`BQC|_x0005_`EQC|_x0005_`JDC|_x0005_`WQC|_x0005_`EDT|_x0005_`ADJ|F_x0005_`DET|"&ROW(일위대가표!A276)&"_x0005_`" -> _x0007_`COD|B05119_x0005_`QTY1|1_x0005_`BQC|_x0005_`EQC|_x0005_`JDC|_x0005_`WQC|_x0005_`EDT|_x0005_`ADJ|F_x0005_`DET|276_x0005_` | K65: =HYPERLINK("#"&일위대가표!N2&"!A"&ROW(일위대가표!A276),"대가62 →") -> 대가62 →
A66: 제 63호표 | B66: 라인가압펌프(일체형스텐레스)내부기기 철거 및 설치 | C66: 7.5HP(25~200m)0.09~0.25㎥/min | D66: 대 | E66: =일위대가표!F282 -> 582367 | F66: =일위대가표!H282 -> 565406 | G66: =일위대가표!J282 -> 0 | H66: =일위대가표!L282 -> 16961 | I66: 제 63호표 | J66: ="_x0007_`COD|B05120_x0005_`QTY1|1_x0005_`BQC|_x0005_`EQC|_x0005_`JDC|_x0005_`WQC|_x0005_`EDT|_x0005_`ADJ|F_x0005_`DET|"&ROW(일위대가표!A280)&"_x0005_`" -> _x0007_`COD|B05120_x0005_`QTY1|1_x0005_`BQC|_x0005_`EQC|_x0005_`JDC|_x0005_`WQC|_x0005_`EDT|_x0005_`ADJ|F_x0005_`DET|280_x0005_` | K66: =HYPERLINK("#"&일위대가표!N2&"!A"&ROW(일위대가표!A280),"대가63 →") -> 대가63 →
A67: 제 64호표 | B67: 라인가압펌프(일체형스텐레스)내부기기 철거 및 설치 | C67: 10HP(25~200m)0.05~1.35㎥/min | D67: 대 | E67: =일위대가표!F286 -> 734777 | F67: =일위대가표!H286 -> 713377 | G67: =일위대가표!J286 -> 0 | H67: =일위대가표!L286 -> 21400 | I67: 제 64호표 | J67: ="_x0007_`COD|B05121_x0005_`QTY1|1_x0005_`BQC|_x0005_`EQC|_x0005_`JDC|_x0005_`WQC|_x0005_`EDT|_x0005_`ADJ|F_x0005_`DET|"&ROW(일위대가표!A284)&"_x0005_`" -> _x0007_`COD|B05121_x0005_`QTY1|1_x0005_`BQC|_x0005_`EQC|_x0005_`JDC|_x0005_`WQC|_x0005_`EDT|_x0005_`ADJ|F_x0005_`DET|284_x0005_` | K67: =HYPERLINK("#"&일위대가표!N2&"!A"&ROW(일위대가표!A284),"대가64 →") -> 대가64 →
A68: 제 65호표 | B68: 라인가압펌프(일체형스텐레스)내부기기 철거 및 설치 | C68: 15HP(25~200m)0.25~1.25㎥/min | D68: 대 | E68: =일위대가표!F290 -> 923410 | F68: =일위대가표!H290 -> 896515 | G68: =일위대가표!J290 -> 0 | H68: =일위대가표!L290 -> 26895 | I68: 제 65호표 | J68: ="_x0007_`COD|B05122_x0005_`QTY1|1_x0005_`BQC|_x0005_`EQC|_x0005_`JDC|_x0005_`WQC|_x0005_`EDT|_x0005_`ADJ|F_x0005_`DET|"&ROW(일위대가표!A288)&"_x0005_`" -> _x0007_`COD|B05122_x0005_`QTY1|1_x0005_`BQC|_x0005_`EQC|_x0005_`JDC|_x0005_`WQC|_x0005_`EDT|_x0005_`ADJ|F_x0005_`DET|288_x0005_` | K68: =HYPERLINK("#"&일위대가표!N2&"!A"&ROW(일위대가표!A288),"대가65 →") -> 대가65 →
A69: 제 66호표 | B69: 라인가압펌프(일체형스텐레스)내부기기 철거 및 설치 | C69: 20HP(25~200m)0.25~1.25㎥/min | D69: 대 | E69: =일위대가표!F294 -> 980333 | F69: =일위대가표!H294 -> 951780 | G69: =일위대가표!J294 -> 0 | H69: =일위대가표!L294 -> 28553 | I69: 제 66호표 | J69: ="_x0007_`COD|B05123_x0005_`QTY1|1_x0005_`BQC|_x0005_`EQC|_x0005_`JDC|_x0005_`WQC|_x0005_`EDT|_x0005_`ADJ|F_x0005_`DET|"&ROW(일위대가표!A292)&"_x0005_`" -> _x0007_`COD|B05123_x0005_`QTY1|1_x0005_`BQC|_x0005_`EQC|_x0005_`JDC|_x0005_`WQC|_x0005_`EDT|_x0005_`ADJ|F_x0005_`DET|292_x0005_` | K69: =HYPERLINK("#"&일위대가표!N2&"!A"&ROW(일위대가표!A292),"대가66 →") -> 대가66 →
A70: 제 67호표 | B70: 라인가압펌프(일체형스텐레스)내부기기 철거 및 설치 | C70: 30HP(25~200m)0.25~1.35㎥/min | D70: 대 | E70: =일위대가표!F298 -> 1583750 | F70: =일위대가표!H298 -> 1537622 | G70: =일위대가표!J298 -> 0 | H70: =일위대가표!L298 -> 46128 | I70: 제 67호표 | J70: ="_x0007_`COD|B05124_x0005_`QTY1|1_x0005_`BQC|_x0005_`EQC|_x0005_`JDC|_x0005_`WQC|_x0005_`EDT|_x0005_`ADJ|F_x0005_`DET|"&ROW(일위대가표!A296)&"_x0005_`" -> _x0007_`COD|B05124_x0005_`QTY1|1_x0005_`BQC|_x0005_`EQC|_x0005_`JDC|_x0005_`WQC|_x0005_`EDT|_x0005_`ADJ|F_x0005_`DET|296_x0005_` | K70: =HYPERLINK("#"&일위대가표!N2&"!A"&ROW(일위대가표!A296),"대가67 →") -> 대가67 →
A71: 제 68호표 | B71: 라인가압펌프(일체형스텐레스)내부기기 철거 및 설치 | C71: 40HP(25~200m)0.25~3.5㎥/min | D71: 대 | E71: =일위대가표!F302 -> 2044858 | F71: =일위대가표!H302 -> 1985300 | G71: =일위대가표!J302 -> 0 | H71: =일위대가표!L302 -> 59558 | I71: 제 68호표 | J71: ="_x0007_`COD|B05125_x0005_`QTY1|1_x0005_`BQC|_x0005_`EQC|_x0005_`JDC|_x0005_`WQC|_x0005_`EDT|_x0005_`ADJ|F_x0005_`DET|"&ROW(일위대가표!A300)&"_x0005_`" -> _x0007_`COD|B05125_x0005_`QTY1|1_x0005_`BQC|_x0005_`EQC|_x0005_`JDC|_x0005_`WQC|_x0005_`EDT|_x0005_`ADJ|F_x0005_`DET|300_x0005_` | K71: =HYPERLINK("#"&일위대가표!N2&"!A"&ROW(일위대가표!A300),"대가68 →") -> 대가68 →
A72: 제 69호표 | B72: 라인가압펌프(일체형스텐레스)내부기기 철거 및 설치 | C72: 50HP(25~200m)0.3~3.5㎥/min | D72: 대 | E72: =일위대가표!F306 -> 3289807 | F72: =일위대가표!H306 -> 3193989 | G72: =일위대가표!J306 -> 0 | H72: =일위대가표!L306 -> 95818 | I72: 제 69호표 | J72: ="_x0007_`COD|B05126_x0005_`QTY1|1_x0005_`BQC|_x0005_`EQC|_x0005_`JDC|_x0005_`WQC|_x0005_`EDT|_x0005_`ADJ|F_x0005_`DET|"&ROW(일위대가표!A304)&"_x0005_`" -> _x0007_`COD|B05126_x0005_`QTY1|1_x0005_`BQC|_x0005_`EQC|_x0005_`JDC|_x0005_`WQC|_x0005_`EDT|_x0005_`ADJ|F_x0005_`DET|304_x0005_` | K72: =HYPERLINK("#"&일위대가표!N2&"!A"&ROW(일위대가표!A304),"대가69 →") -> 대가69 →
A73: 제 70호표 | B73: 라인가압펌프(일체형스텐레스)내부기기 철거 및 설치 | C73: 60HP(25~200m)2.0~3.5㎥/min | D73: 대 | E73: =일위대가표!F310 -> 3289807 | F73: =일위대가표!H310 -> 3193989 | G73: =일위대가표!J310 -> 0 | H73: =일위대가표!L310 -> 95818 | I73: 제 70호표 | J73: ="_x0007_`COD|B05127_x0005_`QTY1|1_x0005_`BQC|_x0005_`EQC|_x0005_`JDC|_x0005_`WQC|_x0005_`EDT|_x0005_`ADJ|F_x0005_`DET|"&ROW(일위대가표!A308)&"_x0005_`" -> _x0007_`COD|B05127_x0005_`QTY1|1_x0005_`BQC|_x0005_`EQC|_x0005_`JDC|_x0005_`WQC|_x0005_`EDT|_x0005_`ADJ|F_x0005_`DET|308_x0005_` | K73: =HYPERLINK("#"&일위대가표!N2&"!A"&ROW(일위대가표!A308),"대가70 →") -> 대가70 →
A74: 제 71호표 | B74: 라인가압펌프(일체형스텐레스)내부기기 철거 및 설치 | C74: 150HP(25~200m)1.0~7.2㎥/min | D74: 대 | E74: =일위대가표!F314 -> 4030109 | F74: =일위대가표!H314 -> 3912728 | G74: =일위대가표!J314 -> 0 | H74: =일위대가표!L314 -> 117381 | I74: 제 71호표 | J74: ="_x0007_`COD|B05128_x0005_`QTY1|1_x0005_`BQC|_x0005_`EQC|_x0005_`JDC|_x0005_`WQC|_x0005_`EDT|_x0005_`ADJ|F_x0005_`DET|"&ROW(일위대가표!A312)&"_x0005_`" -> _x0007_`COD|B05128_x0005_`QTY1|1_x0005_`BQC|_x0005_`EQC|_x0005_`JDC|_x0005_`WQC|_x0005_`EDT|_x0005_`ADJ|F_x0005_`DET|312_x0005_` | K74: =HYPERLINK("#"&일위대가표!N2&"!A"&ROW(일위대가표!A312),"대가71 →") -> 대가71 →
A75: 제 72호표 | B75: 라인가압펌프(일체형스텐레스)내부기기 설치 | C75: 2HP(25-200m)0.01-0.188㎥/min | D75: 대 | E75: =일위대가표!F318 -> 260910 | F75: =일위대가표!H318 -> 253311 | G75: =일위대가표!J318 -> 0 | H75: =일위대가표!L318 -> 7599 | I75: 제 72호표 | J75: ="_x0007_`COD|B05153_x0005_`QTY1|1_x0005_`BQC|_x0005_`EQC|_x0005_`JDC|_x0005_`WQC|_x0005_`EDT|_x0005_`ADJ|F_x0005_`DET|"&ROW(일위대가표!A316)&"_x0005_`" -> _x0007_`COD|B05153_x0005_`QTY1|1_x0005_`BQC|_x0005_`EQC|_x0005_`JDC|_x0005_`WQC|_x0005_`EDT|_x0005_`ADJ|F_x0005_`DET|316_x0005_` | K75: =HYPERLINK("#"&일위대가표!N2&"!A"&ROW(일위대가표!A316),"대가72 →") -> 대가72 →
A76: 제 73호표 | B76: 라인가압펌프(일체형스텐레스)내부기기 설치 | C76: 3HP(25~200m)0.01~0.25㎥/min | D76: 대 | E76: =일위대가표!F322 -> 300644 | F76: =일위대가표!H322 -> 291888 | G76: =일위대가표!J322 -> 0 | H76: =일위대가표!L322 -> 8756 | I76: 제 73호표 | J76: ="_x0007_`COD|B05154_x0005_`QTY1|1_x0005_`BQC|_x0005_`EQC|_x0005_`JDC|_x0005_`WQC|_x0005_`EDT|_x0005_`ADJ|F_x0005_`DET|"&ROW(일위대가표!A320)&"_x0005_`" -> _x0007_`COD|B05154_x0005_`QTY1|1_x0005_`BQC|_x0005_`EQC|_x0005_`JDC|_x0005_`WQC|_x0005_`EDT|_x0005_`ADJ|F_x0005_`DET|320_x0005_` | K76: =HYPERLINK("#"&일위대가표!N2&"!A"&ROW(일위대가표!A320),"대가73 →") -> 대가73 →
A77: 제 74호표 | B77: 라인가압펌프(일체형스텐레스)내부기기 설치 | C77: 5HP(25~200m)0.01~0.25㎥/min | D77: 대 | E77: =일위대가표!F326 -> 345249 | F77: =일위대가표!H326 -> 335194 | G77: =일위대가표!J326 -> 0 | H77: =일위대가표!L326 -> 10055 | I77: 제 74호표 | J77: ="_x0007_`COD|B05155_x0005_`QTY1|1_x0005_`BQC|_x0005_`EQC|_x0005_`JDC|_x0005_`WQC|_x0005_`EDT|_x0005_`ADJ|F_x0005_`DET|"&ROW(일위대가표!A324)&"_x0005_`" -> _x0007_`COD|B05155_x0005_`QTY1|1_x0005_`BQC|_x0005_`EQC|_x0005_`JDC|_x0005_`WQC|_x0005_`EDT|_x0005_`ADJ|F_x0005_`DET|324_x0005_` | K77: =HYPERLINK("#"&일위대가표!N2&"!A"&ROW(일위대가표!A324),"대가74 →") -> 대가74 →
A78: 제 75호표 | B78: 라인가압펌프(일체형스텐레스)내부기기 설치 | C78: 7.5HP(25~200m)0.09~0.25㎥/min | D78: 대 | E78: =일위대가표!F330 -> 415977 | F78: =일위대가표!H330 -> 403862 | G78: =일위대가표!J330 -> 0 | H78: =일위대가표!L330 -> 12115 | I78: 제 75호표 | J78: ="_x0007_`COD|B05156_x0005_`QTY1|1_x0005_`BQC|_x0005_`EQC|_x0005_`JDC|_x0005_`WQC|_x0005_`EDT|_x0005_`ADJ|F_x0005_`DET|"&ROW(일위대가표!A328)&"_x0005_`" -> _x0007_`COD|B05156_x0005_`QTY1|1_x0005_`BQC|_x0005_`EQC|_x0005_`JDC|_x0005_`WQC|_x0005_`EDT|_x0005_`ADJ|F_x0005_`DET|328_x0005_` | K78: =HYPERLINK("#"&일위대가표!N2&"!A"&ROW(일위대가표!A328),"대가75 →") -> 대가75 →
A79: 제 76호표 | B79: 라인가압펌프(일체형스텐레스)내부기기 설치 | C79: 10HP(25~200m)0.05~1.35㎥/min | D79: 대 | E79: =일위대가표!F334 -> 524841 | F79: =일위대가표!H334 -> 509555 | G79: =일위대가표!J334 -> 0 | H79: =일위대가표!L334 -> 15286 | I79: 제 76호표 | J79: ="_x0007_`COD|B05157_x0005_`QTY1|1_x0005_`BQC|_x0005_`EQC|_x0005_`JDC|_x0005_`WQC|_x0005_`EDT|_x0005_`ADJ|F_x0005_`DET|"&ROW(일위대가표!A332)&"_x0005_`" -> _x0007_`COD|B05157_x0005_`QTY1|1_x0005_`BQC|_x0005_`EQC|_x0005_`JDC|_x0005_`WQC|_x0005_`EDT|_x0005_`ADJ|F_x0005_`DET|332_x0005_` | K79: =HYPERLINK("#"&일위대가표!N2&"!A"&ROW(일위대가표!A332),"대가76 →") -> 대가76 →
A80: 제 77호표 | B80: 라인가압펌프(일체형스텐레스)내부기기 설치 | C80: 15HP(25~200m)0.25~1.25㎥/min | D80: 대 | E80: =일위대가표!F338 -> 659579 | F80: =일위대가표!H338 -> 640368 | G80: =일위대가표!J338 -> 0 | H80: =일위대가표!L338 -> 19211 | I80: 제 77호표 | J80: ="_x0007_`COD|B05158_x0005_`QTY1|1_x0005_`BQC|_x0005_`EQC|_x0005_`JDC|_x0005_`WQC|_x0005_`EDT|_x0005_`ADJ|F_x0005_`DET|"&ROW(일위대가표!A336)&"_x0005_`" -> _x0007_`COD|B05158_x0005_`QTY1|1_x0005_`BQC|_x0005_`EQC|_x0005_`JDC|_x0005_`WQC|_x0005_`EDT|_x0005_`ADJ|F_x0005_`DET|336_x0005_` | K80: =HYPERLINK("#"&일위대가표!N2&"!A"&ROW(일위대가표!A336),"대가77 →") -> 대가77 →
A81: 제 78호표 | B81: 라인가압펌프(일체형스텐레스)내부기기 설치 | C81: 20HP(25~200m)0.25~1.25㎥/min | D81: 대 | E81: =일위대가표!F342 -> 700238 | F81: =일위대가표!H342 -> 679843 | G81: =일위대가표!J342 -> 0 | H81: =일위대가표!L342 -> 20395 | I81: 제 78호표 | J81: ="_x0007_`COD|B05159_x0005_`QTY1|1_x0005_`BQC|_x0005_`EQC|_x0005_`JDC|_x0005_`WQC|_x0005_`EDT|_x0005_`ADJ|F_x0005_`DET|"&ROW(일위대가표!A340)&"_x0005_`" -> _x0007_`COD|B05159_x0005_`QTY1|1_x0005_`BQC|_x0005_`EQC|_x0005_`JDC|_x0005_`WQC|_x0005_`EDT|_x0005_`ADJ|F_x0005_`DET|340_x0005_` | K81: =HYPERLINK("#"&일위대가표!N2&"!A"&ROW(일위대가표!A340),"대가78 →") -> 대가78 →
A82: 제 79호표 | B82: 라인가압펌프(일체형스텐레스)내부기기 설치 | C82: 30HP(25~200m)0.25~1.35㎥/min | D82: 대 | E82: =일위대가표!F346 -> 1131251 | F82: =일위대가표!H346 -> 1098302 | G82: =일위대가표!J346 -> 0 | H82: =일위대가표!L346 -> 32949 | I82: 제 79호표 | J82: ="_x0007_`COD|B05160_x0005_`QTY1|1_x0005_`BQC|_x0005_`EQC|_x0005_`JDC|_x0005_`WQC|_x0005_`EDT|_x0005_`ADJ|F_x0005_`DET|"&ROW(일위대가표!A344)&"_x0005_`" -> _x0007_`COD|B05160_x0005_`QTY1|1_x0005_`BQC|_x0005_`EQC|_x0005_`JDC|_x0005_`WQC|_x0005_`EDT|_x0005_`ADJ|F_x0005_`DET|344_x0005_` | K82: =HYPERLINK("#"&일위대가표!N2&"!A"&ROW(일위대가표!A344),"대가79 →") -> 대가79 →
A83: 제 80호표 | B83: 라인가압펌프(일체형스텐레스)내부기기 설치 | C83: 40HP(25~200m)0.25~3.5㎥/min | D83: 대 | E83: =일위대가표!F350 -> 1460614 | F83: =일위대가표!H350 -> 1418072 | G83: =일위대가표!J350 -> 0 | H83: =일위대가표!L350 -> 42542 | I83: 제 80호표 | J83: ="_x0007_`COD|B05161_x0005_`QTY1|1_x0005_`BQC|_x0005_`EQC|_x0005_`JDC|_x0005_`WQC|_x0005_`EDT|_x0005_`ADJ|F_x0005_`DET|"&ROW(일위대가표!A348)&"_x0005_`" -> _x0007_`COD|B05161_x0005_`QTY1|1_x0005_`BQC|_x0005_`EQC|_x0005_`JDC|_x0005_`WQC|_x0005_`EDT|_x0005_`ADJ|F_x0005_`DET|348_x0005_` | K83: =HYPERLINK("#"&일위대가표!N2&"!A"&ROW(일위대가표!A348),"대가80 →") -> 대가80 →
A84: 제 81호표 | B84: 라인가압펌프(일체형스텐레스)내부기기 설치 | C84: 50HP(25~200m)0.3~3.5㎥/min | D84: 대 | E84: =일위대가표!F354 -> 2349863 | F84: =일위대가표!H354 -> 2281421 | G84: =일위대가표!J354 -> 0 | H84: =일위대가표!L354 -> 68442 | I84: 제 81호표 | J84: ="_x0007_`COD|B05162_x0005_`QTY1|1_x0005_`BQC|_x0005_`EQC|_x0005_`JDC|_x0005_`WQC|_x0005_`EDT|_x0005_`ADJ|F_x0005_`DET|"&ROW(일위대가표!A352)&"_x0005_`" -> _x0007_`COD|B05162_x0005_`QTY1|1_x0005_`BQC|_x0005_`EQC|_x0005_`JDC|_x0005_`WQC|_x0005_`EDT|_x0005_`ADJ|F_x0005_`DET|352_x0005_` | K84: =HYPERLINK("#"&일위대가표!N2&"!A"&ROW(일위대가표!A352),"대가81 →") -> 대가81 →
A85: 제 82호표 | B85: 라인가압펌프(일체형스텐레스)내부기기 설치 | C85: 60HP(25~200m)2.0~3.5㎥/min | D85: 대 | E85: =일위대가표!F358 -> 2349863 | F85: =일위대가표!H358 -> 2281421 | G85: =일위대가표!J358 -> 0 | H85: =일위대가표!L358 -> 68442 | I85: 제 82호표 | J85: ="_x0007_`COD|B05163_x0005_`QTY1|1_x0005_`BQC|_x0005_`EQC|_x0005_`JDC|_x0005_`WQC|_x0005_`EDT|_x0005_`ADJ|F_x0005_`DET|"&ROW(일위대가표!A356)&"_x0005_`" -> _x0007_`COD|B05163_x0005_`QTY1|1_x0005_`BQC|_x0005_`EQC|_x0005_`JDC|_x0005_`WQC|_x0005_`EDT|_x0005_`ADJ|F_x0005_`DET|356_x0005_` | K85: =HYPERLINK("#"&일위대가표!N2&"!A"&ROW(일위대가표!A356),"대가82 →") -> 대가82 →
A86: 제 83호표 | B86: 라인가압펌프(일체형스텐레스)내부기기 설치 | C86: 150HP(25~200m)1.0~7.2㎥/min | D86: 대 | E86: =일위대가표!F362 -> 2878650 | F86: =일위대가표!H362 -> 2794806 | G86: =일위대가표!J362 -> 0 | H86: =일위대가표!L362 -> 83844 | I86: 제 83호표 | J86: ="_x0007_`COD|B05164_x0005_`QTY1|1_x0005_`BQC|_x0005_`EQC|_x0005_`JDC|_x0005_`WQC|_x0005_`EDT|_x0005_`ADJ|F_x0005_`DET|"&ROW(일위대가표!A360)&"_x0005_`" -> _x0007_`COD|B05164_x0005_`QTY1|1_x0005_`BQC|_x0005_`EQC|_x0005_`JDC|_x0005_`WQC|_x0005_`EDT|_x0005_`ADJ|F_x0005_`DET|360_x0005_` | K86: =HYPERLINK("#"&일위대가표!N2&"!A"&ROW(일위대가표!A360),"대가83 →") -> 대가83 →
A87: 제 84호표 | B87: 라인가압펌프(일체형스텐레스)내부기기 철거 | C87: 2HP(25-200m)0.01-0.188㎥/min | D87: 대 | E87: =일위대가표!F366 -> 104363 | F87: =일위대가표!H366 -> 101324 | G87: =일위대가표!J366 -> 0 | H87: =일위대가표!L366 -> 3039 | I87: 제 84호표 | J87: ="_x0007_`COD|B05165_x0005_`QTY1|1_x0005_`BQC|_x0005_`EQC|_x0005_`JDC|_x0005_`WQC|_x0005_`EDT|_x0005_`ADJ|F_x0005_`DET|"&ROW(일위대가표!A364)&"_x0005_`" -> _x0007_`COD|B05165_x0005_`QTY1|1_x0005_`BQC|_x0005_`EQC|_x0005_`JDC|_x0005_`WQC|_x0005_`EDT|_x0005_`ADJ|F_x0005_`DET|364_x0005_` | K87: =HYPERLINK("#"&일위대가표!N2&"!A"&ROW(일위대가표!A364),"대가84 →") -> 대가84 →
A88: 제 85호표 | B88: 라인가압펌프(일체형스텐레스)내부기기 철거 | C88: 3HP(25~200m)0.01~0.25㎥/min | D88: 대 | E88: =일위대가표!F370 -> 120257 | F88: =일위대가표!H370 -> 116755 | G88: =일위대가표!J370 -> 0 | H88: =일위대가표!L370 -> 3502 | I88: 제 85호표 | J88: ="_x0007_`COD|B05166_x0005_`QTY1|1_x0005_`BQC|_x0005_`EQC|_x0005_`JDC|_x0005_`WQC|_x0005_`EDT|_x0005_`ADJ|F_x0005_`DET|"&ROW(일위대가표!A368)&"_x0005_`" -> _x0007_`COD|B05166_x0005_`QTY1|1_x0005_`BQC|_x0005_`EQC|_x0005_`JDC|_x0005_`WQC|_x0005_`EDT|_x0005_`ADJ|F_x0005_`DET|368_x0005_` | K88: =HYPERLINK("#"&일위대가표!N2&"!A"&ROW(일위대가표!A368),"대가85 →") -> 대가85 →
A89: 제 86호표 | B89: 라인가압펌프(일체형스텐레스)내부기기 철거 | C89: 5HP(25~200m)0.01~0.25㎥/min | D89: 대 | E89: =일위대가표!F374 -> 138099 | F89: =일위대가표!H374 -> 134077 | G89: =일위대가표!J374 -> 0 | H89: =일위대가표!L374 -> 4022 | I89: 제 86호표 | J89: ="_x0007_`COD|B05167_x0005_`QTY1|1_x0005_`BQC|_x0005_`EQC|_x0005_`JDC|_x0005_`WQC|_x0005_`EDT|_x0005_`ADJ|F_x0005_`DET|"&ROW(일위대가표!A372)&"_x0005_`" -> _x0007_`COD|B05167_x0005_`QTY1|1_x0005_`BQC|_x0005_`EQC|_x0005_`JDC|_x0005_`WQC|_x0005_`EDT|_x0005_`ADJ|F_x0005_`DET|372_x0005_` | K89: =HYPERLINK("#"&일위대가표!N2&"!A"&ROW(일위대가표!A372),"대가86 →") -> 대가86 →
A90: 제 87호표 | B90: 라인가압펌프(일체형스텐레스)내부기기 철거 | C90: 7.5HP(25~200m)0.09~0.25㎥/min | D90: 대 | E90: =일위대가표!F378 -> 166390 | F90: =일위대가표!H378 -> 161544 | G90: =일위대가표!J378 -> 0 | H90: =일위대가표!L378 -> 4846 | I90: 제 87호표 | J90: ="_x0007_`COD|B05168_x0005_`QTY1|1_x0005_`BQC|_x0005_`EQC|_x0005_`JDC|_x0005_`WQC|_x0005_`EDT|_x0005_`ADJ|F_x0005_`DET|"&ROW(일위대가표!A376)&"_x0005_`" -> _x0007_`COD|B05168_x0005_`QTY1|1_x0005_`BQC|_x0005_`EQC|_x0005_`JDC|_x0005_`WQC|_x0005_`EDT|_x0005_`ADJ|F_x0005_`DET|376_x0005_` | K90: =HYPERLINK("#"&일위대가표!N2&"!A"&ROW(일위대가표!A376),"대가87 →") -> 대가87 →
A91: 제 88호표 | B91: 라인가압펌프(일체형스텐레스)내부기기 철거 | C91: 10HP(25~200m)0.05~1.35㎥/min | D91: 대 | E91: =일위대가표!F382 -> 209936 | F91: =일위대가표!H382 -> 203822 | G91: =일위대가표!J382 -> 0 | H91: =일위대가표!L382 -> 6114 | I91: 제 88호표 | J91: ="_x0007_`COD|B05169_x0005_`QTY1|1_x0005_`BQC|_x0005_`EQC|_x0005_`JDC|_x0005_`WQC|_x0005_`EDT|_x0005_`ADJ|F_x0005_`DET|"&ROW(일위대가표!A380)&"_x0005_`" -> _x0007_`COD|B05169_x0005_`QTY1|1_x0005_`BQC|_x0005_`EQC|_x0005_`JDC|_x0005_`WQC|_x0005_`EDT|_x0005_`ADJ|F_x0005_`DET|380_x0005_` | K91: =HYPERLINK("#"&일위대가표!N2&"!A"&ROW(일위대가표!A380),"대가88 →") -> 대가88 →
A92: 제 89호표 | B92: 라인가압펌프(일체형스텐레스)내부기기 철거 | C92: 15HP(25~200m)0.25~1.25㎥/min | D92: 대 | E92: =일위대가표!F386 -> 263831 | F92: =일위대가표!H386 -> 256147 | G92: =일위대가표!J386 -> 0 | H92: =일위대가표!L386 -> 7684 | I92: 제 89호표 | J92: ="_x0007_`COD|B05170_x0005_`QTY1|1_x0005_`BQC|_x0005_`EQC|_x0005_`JDC|_x0005_`WQC|_x0005_`EDT|_x0005_`ADJ|F_x0005_`DET|"&ROW(일위대가표!A384)&"_x0005_`" -> _x0007_`COD|B05170_x0005_`QTY1|1_x0005_`BQC|_x0005_`EQC|_x0005_`JDC|_x0005_`WQC|_x0005_`EDT|_x0005_`ADJ|F_x0005_`DET|384_x0005_` | K92: =HYPERLINK("#"&일위대가표!N2&"!A"&ROW(일위대가표!A384),"대가89 →") -> 대가89 →
A93: 제 90호표 | B93: 라인가압펌프(일체형스텐레스)내부기기 철거 | C93: 20HP(25~200m)0.25~1.25㎥/min | D93: 대 | E93: =일위대가표!F390 -> 280095 | F93: =일위대가표!H390 -> 271937 | G93: =일위대가표!J390 -> 0 | H93: =일위대가표!L390 -> 8158 | I93: 제 90호표 | J93: ="_x0007_`COD|B05171_x0005_`QTY1|1_x0005_`BQC|_x0005_`EQC|_x0005_`JDC|_x0005_`WQC|_x0005_`EDT|_x0005_`ADJ|F_x0005_`DET|"&ROW(일위대가표!A388)&"_x0005_`" -> _x0007_`COD|B05171_x0005_`QTY1|1_x0005_`BQC|_x0005_`EQC|_x0005_`JDC|_x0005_`WQC|_x0005_`EDT|_x0005_`ADJ|F_x0005_`DET|388_x0005_` | K93: =HYPERLINK("#"&일위대가표!N2&"!A"&ROW(일위대가표!A388),"대가90 →") -> 대가90 →
A94: 제 91호표 | B94: 라인가압펌프(일체형스텐레스)내부기기 철거 | C94: 30HP(25~200m)0.25~1.35㎥/min | D94: 대 | E94: =일위대가표!F394 -> 452499 | F94: =일위대가표!H394 -> 439320 | G94: =일위대가표!J394 -> 0 | H94: =일위대가표!L394 -> 13179 | I94: 제 91호표 | J94: ="_x0007_`COD|B05172_x0005_`QTY1|1_x0005_`BQC|_x0005_`EQC|_x0005_`JDC|_x0005_`WQC|_x0005_`EDT|_x0005_`ADJ|F_x0005_`DET|"&ROW(일위대가표!A392)&"_x0005_`" -> _x0007_`COD|B05172_x0005_`QTY1|1_x0005_`BQC|_x0005_`EQC|_x0005_`JDC|_x0005_`WQC|_x0005_`EDT|_x0005_`ADJ|F_x0005_`DET|392_x0005_` | K94: =HYPERLINK("#"&일위대가표!N2&"!A"&ROW(일위대가표!A392),"대가91 →") -> 대가91 →
A95: 제 92호표 | B95: 라인가압펌프(일체형스텐레스)내부기기 철거 | C95: 40HP(25~200m)0.25~3.5㎥/min | D95: 대 | E95: =일위대가표!F398 -> 584244 | F95: =일위대가표!H398 -> 567228 | G95: =일위대가표!J398 -> 0 | H95: =일위대가표!L398 -> 17016 | I95: 제 92호표 | J95: ="_x0007_`COD|B05173_x0005_`QTY1|1_x0005_`BQC|_x0005_`EQC|_x0005_`JDC|_x0005_`WQC|_x0005_`EDT|_x0005_`ADJ|F_x0005_`DET|"&ROW(일위대가표!A396)&"_x0005_`" -> _x0007_`COD|B05173_x0005_`QTY1|1_x0005_`BQC|_x0005_`EQC|_x0005_`JDC|_x0005_`WQC|_x0005_`EDT|_x0005_`ADJ|F_x0005_`DET|396_x0005_` | K95: =HYPERLINK("#"&일위대가표!N2&"!A"&ROW(일위대가표!A396),"대가92 →") -> 대가92 →
A96: 제 93호표 | B96: 라인가압펌프(일체형스텐레스)내부기기 철거 | C96: 50HP(25~200m)0.3~3.5㎥/min | D96: 대 | E96: =일위대가표!F402 -> 939944 | F96: =일위대가표!H402 -> 912568 | G96: =일위대가표!J402 -> 0 | H96: =일위대가표!L402 -> 27376 | I96: 제 93호표 | J96: ="_x0007_`COD|B05174_x0005_`QTY1|1_x0005_`BQC|_x0005_`EQC|_x0005_`JDC|_x0005_`WQC|_x0005_`EDT|_x0005_`ADJ|F_x0005_`DET|"&ROW(일위대가표!A400)&"_x0005_`" -> _x0007_`COD|B05174_x0005_`QTY1|1_x0005_`BQC|_x0005_`EQC|_x0005_`JDC|_x0005_`WQC|_x0005_`EDT|_x0005_`ADJ|F_x0005_`DET|400_x0005_` | K96: =HYPERLINK("#"&일위대가표!N2&"!A"&ROW(일위대가표!A400),"대가93 →") -> 대가93 →
A97: 제 94호표 | B97: 라인가압펌프(일체형스텐레스)내부기기 철거 | C97: 60HP(25~200m)2.0~3.5㎥/min | D97: 대 | E97: =일위대가표!F406 -> 939944 | F97: =일위대가표!H406 -> 912568 | G97: =일위대가표!J406 -> 0 | H97: =일위대가표!L406 -> 27376 | I97: 제 94호표 | J97: ="_x0007_`COD|B05175_x0005_`QTY1|1_x0005_`BQC|_x0005_`EQC|_x0005_`JDC|_x0005_`WQC|_x0005_`EDT|_x0005_`ADJ|F_x0005_`DET|"&ROW(일위대가표!A404)&"_x0005_`" -> _x0007_`COD|B05175_x0005_`QTY1|1_x0005_`BQC|_x0005_`EQC|_x0005_`JDC|_x0005_`WQC|_x0005_`EDT|_x0005_`ADJ|F_x0005_`DET|404_x0005_` | K97: =HYPERLINK("#"&일위대가표!N2&"!A"&ROW(일위대가표!A404),"대가94 →") -> 대가94 →
A98: 제 95호표 | B98: 라인가압펌프(일체형스텐레스)내부기기 철거 | C98: 150HP(25~200m)1.0~7.2㎥/min | D98: 대 | E98: =일위대가표!F410 -> 1151459 | F98: =일위대가표!H410 -> 1117922 | G98: =일위대가표!J410 -> 0 | H98: =일위대가표!L410 -> 33537 | I98: 제 95호표 | J98: ="_x0007_`COD|B05176_x0005_`QTY1|1_x0005_`BQC|_x0005_`EQC|_x0005_`JDC|_x0005_`WQC|_x0005_`EDT|_x0005_`ADJ|F_x0005_`DET|"&ROW(일위대가표!A408)&"_x0005_`" -> _x0007_`COD|B05176_x0005_`QTY1|1_x0005_`BQC|_x0005_`EQC|_x0005_`JDC|_x0005_`WQC|_x0005_`EDT|_x0005_`ADJ|F_x0005_`DET|408_x0005_` | K98: =HYPERLINK("#"&일위대가표!N2&"!A"&ROW(일위대가표!A408),"대가95 →") -> 대가95 →
A99: 제 96호표 | B99: 수중모터 | C99: 2HP(380V)4" | D99: 대 | E99: =일위대가표!F415 -> 1761713 | F99: =일위대가표!H415 -> 207713 | G99: =일위대가표!J415 -> 1554000 | H99: =일위대가표!L415 -> 0 | I99: 제 96호표 | J99: ="_x0007_`COD|B04920_x0005_`QTY1|1_x0005_`BQC|_x0005_`EQC|_x0005_`JDC|_x0005_`WQC|_x0005_`EDT|_x0005_`ADJ|F_x0005_`DET|"&ROW(일위대가표!A412)&"_x0005_`" -> _x0007_`COD|B04920_x0005_`QTY1|1_x0005_`BQC|_x0005_`EQC|_x0005_`JDC|_x0005_`WQC|_x0005_`EDT|_x0005_`ADJ|F_x0005_`DET|412_x0005_` | K99: =HYPERLINK("#"&일위대가표!N2&"!A"&ROW(일위대가표!A412),"대가96 →") -> 대가96 →
A100: 제 97호표 | B100: 수중모터 | C100: 3HP(380V)4" | D100: 대 | E100: =일위대가표!F420 -> 2825713 | F100: =일위대가표!H420 -> 207713 | G100: =일위대가표!J420 -> 2618000 | H100: =일위대가표!L420 -> 0 | I100: 제 97호표 | J100: ="_x0007_`COD|B04922_x0005_`QTY1|1_x0005_`BQC|_x0005_`EQC|_x0005_`JDC|_x0005_`WQC|_x0005_`EDT|_x0005_`ADJ|F_x0005_`DET|"&ROW(일위대가표!A417)&"_x0005_`" -> _x0007_`COD|B04922_x0005_`QTY1|1_x0005_`BQC|_x0005_`EQC|_x0005_`JDC|_x0005_`WQC|_x0005_`EDT|_x0005_`ADJ|F_x0005_`DET|417_x0005_` | K100: =HYPERLINK("#"&일위대가표!N2&"!A"&ROW(일위대가표!A417),"대가97 →") -> 대가97 →
...

Sheet 일위대가표
A1: 일 위 대 가 표 | N1: STmate | Z1: STmate
A2: 공사명 : 2026년도 무인화시설물 유지보수(기계) 연간단가공사(1권역) | N2: =MID(CELL("filename",$A$1),FIND("]",CELL("filename",$A$1))+1,LEN(CELL("filename",$A$1))) -> 일위대가표
A3: 명 칭 | B3: 규 격 | C3: 수 량 | D3: 단위 | E3: 합 계 | G3: 노 무 비 | I3: 재 료 비 | K3: 경 비 | M3: 비 고
E4: 단 가 | F4: 금 액 | G4: 단 가 | H4: 금 액 | I4: 단 가 | J4: 금 액 | K4: 단 가 | L4: 금 액 | Z4: =HYPERLINK("#'〓 목 차 〓'!B2","목차 →") -> 목차 →
A6: 제 1 호표 라인가압펌프(일체형스텐레스) 2HP(25-200m)0.01-0.188㎥/min / 대 | M6: 대가1 | N6: =HYPERLINK("#N"&ROW(N8),"_x0005_`BDCOD|B04896_x0007_`POSS|"&ROW(N7)&"_x0007_`POSE|"&ROW(N8)&"_x0007_`") -> _x0005_`BDCOD|B04896_x0007_`POSS|7_x0007_`POSE|8_x0007_` | O6: B04896
A7: 펌프류 철거 및 설치 | B7: 1.5KW 이하 - 철거40% | C7: 1 | D7: 대 | E7: =I7+G7+K7 -> 365273 | F7: =J7+H7+L7 -> 365273 | G7: =일위대가목록표!F658 -> 354635 | H7: =IF(C7=0,0,ROUNDDOWN(G7*C7,1)) -> 354635 | I7: =일위대가목록표!G658 -> 0 | J7: =IF(C7=0,0,ROUNDDOWN(I7*C7,1)) -> 0 | K7: =일위대가목록표!H658 -> 10638 | L7: =IF(C7=0,0,ROUNDDOWN(K7*C7,1)) -> 10638 | M7: 대가 655호표 | N7: _x0007_`COD|B04777_x0005_`EXI|0_x0005_`DVD|F_x0005_`BMK| _x0005_`IPR|0_x0005_`BLA|F_x0005_` | O7: B04777_1 | P7: T7_1 | Z7: =HYPERLINK("#"&일위대가목록표!J2&"!A"&ROW(일위대가목록표!A658),"대가655 →") -> 대가655 →
A8: 라인가압펌프(일체형스텐레스) | B8: 2HP(25~200m)0.01~0.188㎥/min | C8: 1 | D8: 대 | E8: =I8+G8+K8 -> 8000000 | F8: =J8+H8+L8 -> 8000000 | G8: 0 | H8: =IF(C8=0,0,ROUNDDOWN(G8*C8,1)) -> 0 | I8: =재료비목록표!E43 -> 8000000 | J8: =IF(C8=0,0,ROUNDDOWN(I8*C8,1)) -> 8000000 | K8: 0 | L8: =IF(C8=0,0,ROUNDDOWN(K8*C8,1)) -> 0 | M8: 자재40 | N8: _x0007_`COD|M06651_x0005_`EXI|0_x0005_`DVD|F_x0005_`BMK| _x0005_`IPR|0_x0005_`KWN|0_x0005_`BLA|F_x0005_` | O8: M06651_1 | P8: T7_1 | Z8: =HYPERLINK("#"&재료비목록표!G2&"!A"&ROW(재료비목록표!A43),"자재40 →") -> 자재40 →
A9: 합 계 | F9: =J9+H9+L9 -> 8365273 | H9: =ROUNDDOWN(SUMIF(P7:P8,O9,H7:H8),0) -> 354635 | J9: =ROUNDDOWN(SUMIF(P7:P8,O9,J7:J8),0) -> 8000000 | L9: =ROUNDDOWN(SUMIF(P7:P8,O9,L7:L8),0) -> 10638 | O9: T7_1
A11: 제 2 호표 라인가압펌프(일체형스텐레스) 3HP(25~200m)0.01~0.25㎥/min / 대 | M11: 대가2 | N11: =HYPERLINK("#N"&ROW(N13),"_x0005_`BDCOD|B04897_x0007_`POSS|"&ROW(N12)&"_x0007_`POSE|"&ROW(N13)&"_x0007_`") -> _x0005_`BDCOD|B04897_x0007_`POSS|12_x0007_`POSE|13_x0007_` | O11: B04897
A12: 펌프류 철거 및 설치 | B12: 2.2KW 이하 - 철거40% | C12: 1 | D12: 대 | E12: =I12+G12+K12 -> 420901 | F12: =J12+H12+L12 -> 420901 | G12: =일위대가목록표!F661 -> 408643 | H12: =IF(C12=0,0,ROUNDDOWN(G12*C12,1)) -> 408643 | I12: =일위대가목록표!G661 -> 0 | J12: =IF(C12=0,0,ROUNDDOWN(I12*C12,1)) -> 0 | K12: =일위대가목록표!H661 -> 12258 | L12: =IF(C12=0,0,ROUNDDOWN(K12*C12,1)) -> 12258 | M12: 대가 658호표 | N12: _x0007_`COD|B04778_x0005_`EXI|0_x0005_`DVD|F_x0005_`BMK| _x0005_`IPR|0_x0005_`BLA|F_x0005_` | O12: B04778_1 | P12: T7_1 | Z12: =HYPERLINK("#"&일위대가목록표!J2&"!A"&ROW(일위대가목록표!A661),"대가658 →") -> 대가658 →
A13: 라인가압펌프(일체형스텐레스) | B13: 3HP(25~200m)0.01~0.25㎥/min | C13: 1 | D13: 대 | E13: =I13+G13+K13 -> 9500000 | F13: =J13+H13+L13 -> 9500000 | G13: 0 | H13: =IF(C13=0,0,ROUNDDOWN(G13*C13,1)) -> 0 | I13: =재료비목록표!E45 -> 9500000 | J13: =IF(C13=0,0,ROUNDDOWN(I13*C13,1)) -> 9500000 | K13: 0 | L13: =IF(C13=0,0,ROUNDDOWN(K13*C13,1)) -> 0 | M13: 자재42 | N13: _x0007_`COD|M06652_x0005_`EXI|0_x0005_`DVD|F_x0005_`BMK| _x0005_`IPR|0_x0005_`KWN|0_x0005_`BLA|F_x0005_` | O13: M06652_1 | P13: T7_1 | Z13: =HYPERLINK("#"&재료비목록표!G2&"!A"&ROW(재료비목록표!A45),"자재42 →") -> 자재42 →
A14: 합 계 | F14: =J14+H14+L14 -> 9920901 | H14: =ROUNDDOWN(SUMIF(P12:P13,O14,H12:H13),0) -> 408643 | J14: =ROUNDDOWN(SUMIF(P12:P13,O14,J12:J13),0) -> 9500000 | L14: =ROUNDDOWN(SUMIF(P12:P13,O14,L12:L13),0) -> 12258 | O14: T7_1
A16: 제 3 호표 라인가압펌프(일체형스텐레스) 5HP(25~200m)0.01~0.25㎥/min / 대 | M16: 대가3 | N16: =HYPERLINK("#N"&ROW(N18),"_x0005_`BDCOD|B04898_x0007_`POSS|"&ROW(N17)&"_x0007_`POSE|"&ROW(N18)&"_x0007_`") -> _x0005_`BDCOD|B04898_x0007_`POSS|17_x0007_`POSE|18_x0007_` | O16: B04898
A17: 펌프류 철거 및 설치 | B17: 3.7KW 이하 - 철거40% | C17: 1 | D17: 대 | E17: =I17+G17+K17 -> 483348 | F17: =J17+H17+L17 -> 483348 | G17: =일위대가목록표!F664 -> 469271 | H17: =IF(C17=0,0,ROUNDDOWN(G17*C17,1)) -> 469271 | I17: =일위대가목록표!G664 -> 0 | J17: =IF(C17=0,0,ROUNDDOWN(I17*C17,1)) -> 0 | K17: =일위대가목록표!H664 -> 14077 | L17: =IF(C17=0,0,ROUNDDOWN(K17*C17,1)) -> 14077 | M17: 대가 661호표 | N17: _x0007_`COD|B04779_x0005_`EXI|0_x0005_`DVD|F_x0005_`BMK| _x0005_`IPR|0_x0005_`BLA|F_x0005_` | O17: B04779_1 | P17: T7_1 | Z17: =HYPERLINK("#"&일위대가목록표!J2&"!A"&ROW(일위대가목록표!A664),"대가661 →") -> 대가661 →
A18: 라인가압펌프(일체형스텐레스) | B18: 5HP(25~200m)0.05~0.25㎥/min | C18: 1 | D18: 대 | E18: =I18+G18+K18 -> 11000000 | F18: =J18+H18+L18 -> 11000000 | G18: 0 | H18: =IF(C18=0,0,ROUNDDOWN(G18*C18,1)) -> 0 | I18: =재료비목록표!E48 -> 11000000 | J18: =IF(C18=0,0,ROUNDDOWN(I18*C18,1)) -> 11000000 | K18: 0 | L18: =IF(C18=0,0,ROUNDDOWN(K18*C18,1)) -> 0 | M18: 자재45 | N18: _x0007_`COD|M06653_x0005_`EXI|0_x0005_`DVD|F_x0005_`BMK| _x0005_`IPR|0_x0005_`KWN|0_x0005_`BLA|F_x0005_` | O18: M06653_1 | P18: T7_1 | Z18: =HYPERLINK("#"&재료비목록표!G2&"!A"&ROW(재료비목록표!A48),"자재45 →") -> 자재45 →
A19: 합 계 | F19: =J19+H19+L19 -> 11483348 | H19: =ROUNDDOWN(SUMIF(P17:P18,O19,H17:H18),0) -> 469271 | J19: =ROUNDDOWN(SUMIF(P17:P18,O19,J17:J18),0) -> 11000000 | L19: =ROUNDDOWN(SUMIF(P17:P18,O19,L17:L18),0) -> 14077 | O19: T7_1
A21: 제 4 호표 라인가압펌프(일체형스텐레스) 7.5HP(25~200m)0.09~0.25㎥/min / 대 | M21: 대가4 | N21: =HYPERLINK("#N"&ROW(N23),"_x0005_`BDCOD|B04899_x0007_`POSS|"&ROW(N22)&"_x0007_`POSE|"&ROW(N23)&"_x0007_`") -> _x0005_`BDCOD|B04899_x0007_`POSS|22_x0007_`POSE|23_x0007_` | O21: B04899
A22: 펌프류 철거 및 설치 | B22: 5.5KW 이하 - 철거40% | C22: 1 | D22: 대 | E22: =I22+G22+K22 -> 582367 | F22: =J22+H22+L22 -> 582367 | G22: =일위대가목록표!F667 -> 565406 | H22: =IF(C22=0,0,ROUNDDOWN(G22*C22,1)) -> 565406 | I22: =일위대가목록표!G667 -> 0 | J22: =IF(C22=0,0,ROUNDDOWN(I22*C22,1)) -> 0 | K22: =일위대가목록표!H667 -> 16961 | L22: =IF(C22=0,0,ROUNDDOWN(K22*C22,1)) -> 16961 | M22: 대가 664호표 | N22: _x0007_`COD|B04780_x0005_`EXI|0_x0005_`DVD|F_x0005_`BMK| _x0005_`IPR|0_x0005_`BLA|F_x0005_` | O22: B04780_1 | P22: T7_1 | Z22: =HYPERLINK("#"&일위대가목록표!J2&"!A"&ROW(일위대가목록표!A667),"대가664 →") -> 대가664 →
A23: 라인가압펌프(일체형스텐레스) | B23: 7.5HP(15~120m)0.05~0.4㎥/min | C23: 1 | D23: 대 | E23: =I23+G23+K23 -> 12500000 | F23: =J23+H23+L23 -> 12500000 | G23: 0 | H23: =IF(C23=0,0,ROUNDDOWN(G23*C23,1)) -> 0 | I23: =재료비목록표!E50 -> 12500000 | J23: =IF(C23=0,0,ROUNDDOWN(I23*C23,1)) -> 12500000 | K23: 0 | L23: =IF(C23=0,0,ROUNDDOWN(K23*C23,1)) -> 0 | M23: 자재47 | N23: _x0007_`COD|M06654_x0005_`EXI|0_x0005_`DVD|F_x0005_`BMK| _x0005_`IPR|0_x0005_`KWN|0_x0005_`BLA|F_x0005_` | O23: M06654_1 | P23: T7_1 | Z23: =HYPERLINK("#"&재료비목록표!G2&"!A"&ROW(재료비목록표!A50),"자재47 →") -> 자재47 →
A24: 합 계 | F24: =J24+H24+L24 -> 13082367 | H24: =ROUNDDOWN(SUMIF(P22:P23,O24,H22:H23),0) -> 565406 | J24: =ROUNDDOWN(SUMIF(P22:P23,O24,J22:J23),0) -> 12500000 | L24: =ROUNDDOWN(SUMIF(P22:P23,O24,L22:L23),0) -> 16961 | O24: T7_1
A26: 제 5 호표 라인가압펌프(일체형스텐레스) 10HP(25~200m)0.05~1.35㎥/min / 대 | M26: 대가5 | N26: =HYPERLINK("#N"&ROW(N28),"_x0005_`BDCOD|B04900_x0007_`POSS|"&ROW(N27)&"_x0007_`POSE|"&ROW(N28)&"_x0007_`") -> _x0005_`BDCOD|B04900_x0007_`POSS|27_x0007_`POSE|28_x0007_` | O26: B04900
A27: 펌프류 철거 및 설치 | B27: 7.5KW 이하 - 철거40% | C27: 1 | D27: 대 | E27: =I27+G27+K27 -> 734777 | F27: =J27+H27+L27 -> 734777 | G27: =일위대가목록표!F670 -> 713377 | H27: =IF(C27=0,0,ROUNDDOWN(G27*C27,1)) -> 713377 | I27: =일위대가목록표!G670 -> 0 | J27: =IF(C27=0,0,ROUNDDOWN(I27*C27,1)) -> 0 | K27: =일위대가목록표!H670 -> 21400 | L27: =IF(C27=0,0,ROUNDDOWN(K27*C27,1)) -> 21400 | M27: 대가 667호표 | N27: _x0007_`COD|B04781_x0005_`EXI|0_x0005_`DVD|F_x0005_`BMK| _x0005_`IPR|0_x0005_`BLA|F_x0005_` | O27: B04781_1 | P27: T7_1 | Z27: =HYPERLINK("#"&일위대가목록표!J2&"!A"&ROW(일위대가목록표!A670),"대가667 →") -> 대가667 →
A28: 라인가압펌프(일체형스텐레스) | B28: 10HP(20~200m)0.05~1.35㎥/min | C28: 1 | D28: 대 | E28: =I28+G28+K28 -> 14000000 | F28: =J28+H28+L28 -> 14000000 | G28: 0 | H28: =IF(C28=0,0,ROUNDDOWN(G28*C28,1)) -> 0 | I28: =재료비목록표!E38 -> 14000000 | J28: =IF(C28=0,0,ROUNDDOWN(I28*C28,1)) -> 14000000 | K28: 0 | L28: =IF(C28=0,0,ROUNDDOWN(K28*C28,1)) -> 0 | M28: 자재35 | N28: _x0007_`COD|M06655_x0005_`EXI|0_x0005_`DVD|F_x0005_`BMK| _x0005_`IPR|0_x0005_`KWN|0_x0005_`BLA|F_x0005_` | O28: M06655_1 | P28: T7_1 | Z28: =HYPERLINK("#"&재료비목록표!G2&"!A"&ROW(재료비목록표!A38),"자재35 →") -> 자재35 →
A29: 합 계 | F29: =J29+H29+L29 -> 14734777 | H29: =ROUNDDOWN(SUMIF(P27:P28,O29,H27:H28),0) -> 713377 | J29: =ROUNDDOWN(SUMIF(P27:P28,O29,J27:J28),0) -> 14000000 | L29: =ROUNDDOWN(SUMIF(P27:P28,O29,L27:L28),0) -> 21400 | O29: T7_1
A31: 제 6 호표 라인가압펌프(일체형스텐레스) 15HP(25~200m)0.25~1.25㎥/min / 대 | M31: 대가6 | N31: =HYPERLINK("#N"&ROW(N33),"_x0005_`BDCOD|B04901_x0007_`POSS|"&ROW(N32)&"_x0007_`POSE|"&ROW(N33)&"_x0007_`") -> _x0005_`BDCOD|B04901_x0007_`POSS|32_x0007_`POSE|33_x0007_` | O31: B04901
A32: 펌프류 철거 및 설치 | B32: 11KW 이하 - 철거40% | C32: 1 | D32: 대 | E32: =I32+G32+K32 -> 923410 | F32: =J32+H32+L32 -> 923410 | G32: =일위대가목록표!F673 -> 896515 | H32: =IF(C32=0,0,ROUNDDOWN(G32*C32,1)) -> 896515 | I32: =일위대가목록표!G673 -> 0 | J32: =IF(C32=0,0,ROUNDDOWN(I32*C32,1)) -> 0 | K32: =일위대가목록표!H673 -> 26895 | L32: =IF(C32=0,0,ROUNDDOWN(K32*C32,1)) -> 26895 | M32: 대가 670호표 | N32: _x0007_`COD|B04782_x0005_`EXI|0_x0005_`DVD|F_x0005_`BMK| _x0005_`IPR|0_x0005_`BLA|F_x0005_` | O32: B04782_1 | P32: T7_1 | Z32: =HYPERLINK("#"&일위대가목록표!J2&"!A"&ROW(일위대가목록표!A673),"대가670 →") -> 대가670 →
A33: 라인가압펌프(일체형스텐레스) | B33: 15HP(25~200m)0.05~1.35㎥/min | C33: 1 | D33: 대 | E33: =I33+G33+K33 -> 16000000 | F33: =J33+H33+L33 -> 16000000 | G33: 0 | H33: =IF(C33=0,0,ROUNDDOWN(G33*C33,1)) -> 0 | I33: =재료비목록표!E40 -> 16000000 | J33: =IF(C33=0,0,ROUNDDOWN(I33*C33,1)) -> 16000000 | K33: 0 | L33: =IF(C33=0,0,ROUNDDOWN(K33*C33,1)) -> 0 | M33: 자재37 | N33: _x0007_`COD|M06656_x0005_`EXI|0_x0005_`DVD|F_x0005_`BMK| _x0005_`IPR|0_x0005_`KWN|0_x0005_`BLA|F_x0005_` | O33: M06656_1 | P33: T7_1 | Z33: =HYPERLINK("#"&재료비목록표!G2&"!A"&ROW(재료비목록표!A40),"자재37 →") -> 자재37 →
A34: 합 계 | F34: =J34+H34+L34 -> 16923410 | H34: =ROUNDDOWN(SUMIF(P32:P33,O34,H32:H33),0) -> 896515 | J34: =ROUNDDOWN(SUMIF(P32:P33,O34,J32:J33),0) -> 16000000 | L34: =ROUNDDOWN(SUMIF(P32:P33,O34,L32:L33),0) -> 26895 | O34: T7_1
A36: 제 7 호표 라인가압펌프(일체형스텐레스) 20HP(25~200m)0.25~1.25㎥/min / 대 | M36: 대가7 | N36: =HYPERLINK("#N"&ROW(N38),"_x0005_`BDCOD|B04902_x0007_`POSS|"&ROW(N37)&"_x0007_`POSE|"&ROW(N38)&"_x0007_`") -> _x0005_`BDCOD|B04902_x0007_`POSS|37_x0007_`POSE|38_x0007_` | O36: B04902
A37: 펌프류 철거 및 설치 | B37: 15KW 이하 - 철거40% | C37: 1 | D37: 대 | E37: =I37+G37+K37 -> 980333 | F37: =J37+H37+L37 -> 980333 | G37: =일위대가목록표!F676 -> 951780 | H37: =IF(C37=0,0,ROUNDDOWN(G37*C37,1)) -> 951780 | I37: =일위대가목록표!G676 -> 0 | J37: =IF(C37=0,0,ROUNDDOWN(I37*C37,1)) -> 0 | K37: =일위대가목록표!H676 -> 28553 | L37: =IF(C37=0,0,ROUNDDOWN(K37*C37,1)) -> 28553 | M37: 대가 673호표 | N37: _x0007_`COD|B04783_x0005_`EXI|0_x0005_`DVD|F_x0005_`BMK| _x0005_`IPR|0_x0005_`BLA|F_x0005_` | O37: B04783_1 | P37: T7_1 | Z37: =HYPERLINK("#"&일위대가목록표!J2&"!A"&ROW(일위대가목록표!A676),"대가673 →") -> 대가673 →
A38: 라인가압펌프(일체형스텐레스) | B38: 20HP(20~260m)0.05~1.35㎥/min | C38: 1 | D38: 대 | E38: =I38+G38+K38 -> 18500000 | F38: =J38+H38+L38 -> 18500000 | G38: 0 | H38: =IF(C38=0,0,ROUNDDOWN(G38*C38,1)) -> 0 | I38: =재료비목록표!E41 -> 18500000 | J38: =IF(C38=0,0,ROUNDDOWN(I38*C38,1)) -> 18500000 | K38: 0 | L38: =IF(C38=0,0,ROUNDDOWN(K38*C38,1)) -> 0 | M38: 자재38 | N38: _x0007_`COD|M06657_x0005_`EXI|0_x0005_`DVD|F_x0005_`BMK| _x0005_`IPR|0_x0005_`KWN|0_x0005_`BLA|F_x0005_` | O38: M06657_1 | P38: T7_1 | Z38: =HYPERLINK("#"&재료비목록표!G2&"!A"&ROW(재료비목록표!A41),"자재38 →") -> 자재38 →
A39: 합 계 | F39: =J39+H39+L39 -> 19480333 | H39: =ROUNDDOWN(SUMIF(P37:P38,O39,H37:H38),0) -> 951780 | J39: =ROUNDDOWN(SUMIF(P37:P38,O39,J37:J38),0) -> 18500000 | L39: =ROUNDDOWN(SUMIF(P37:P38,O39,L37:L38),0) -> 28553 | O39: T7_1
A41: 제 8 호표 라인가압펌프(일체형스텐레스) 30HP(25~200m)0.25~1.35㎥/min / 대 | M41: 대가8 | N41: =HYPERLINK("#N"&ROW(N43),"_x0005_`BDCOD|B04903_x0007_`POSS|"&ROW(N42)&"_x0007_`POSE|"&ROW(N43)&"_x0007_`") -> _x0005_`BDCOD|B04903_x0007_`POSS|42_x0007_`POSE|43_x0007_` | O41: B04903
A42: 펌프류 철거 및 설치 | B42: 22KW 이하 - 철거40% | C42: 1 | D42: 대 | E42: =I42+G42+K42 -> 1583750 | F42: =J42+H42+L42 -> 1583750 | G42: =일위대가목록표!F679 -> 1537622 | H42: =IF(C42=0,0,ROUNDDOWN(G42*C42,1)) -> 1537622 | I42: =일위대가목록표!G679 -> 0 | J42: =IF(C42=0,0,ROUNDDOWN(I42*C42,1)) -> 0 | K42: =일위대가목록표!H679 -> 46128 | L42: =IF(C42=0,0,ROUNDDOWN(K42*C42,1)) -> 46128 | M42: 대가 676호표 | N42: _x0007_`COD|B04784_x0005_`EXI|0_x0005_`DVD|F_x0005_`BMK| _x0005_`IPR|0_x0005_`BLA|F_x0005_` | O42: B04784_1 | P42: T7_1 | Z42: =HYPERLINK("#"&일위대가목록표!J2&"!A"&ROW(일위대가목록표!A679),"대가676 →") -> 대가676 →
A43: 라인가압펌프(일체형스텐레스) | B43: 30HP(25~200m)0.05~1.35㎥/min | C43: 1 | D43: 대 | E43: =I43+G43+K43 -> 21177000 | F43: =J43+H43+L43 -> 21177000 | G43: 0 | H43: =IF(C43=0,0,ROUNDDOWN(G43*C43,1)) -> 0 | I43: =재료비목록표!E44 -> 21177000 | J43: =IF(C43=0,0,ROUNDDOWN(I43*C43,1)) -> 21177000 | K43: 0 | L43: =IF(C43=0,0,ROUNDDOWN(K43*C43,1)) -> 0 | M43: 자재41 | N43: _x0007_`COD|M06659_x0005_`EXI|0_x0005_`DVD|F_x0005_`BMK| _x0005_`IPR|0_x0005_`KWN|0_x0005_`BLA|F_x0005_` | O43: M06659_1 | P43: T7_1 | Z43: =HYPERLINK("#"&재료비목록표!G2&"!A"&ROW(재료비목록표!A44),"자재41 →") -> 자재41 →
A44: 합 계 | F44: =J44+H44+L44 -> 22760750 | H44: =ROUNDDOWN(SUMIF(P42:P43,O44,H42:H43),0) -> 1537622 | J44: =ROUNDDOWN(SUMIF(P42:P43,O44,J42:J43),0) -> 21177000 | L44: =ROUNDDOWN(SUMIF(P42:P43,O44,L42:L43),0) -> 46128 | O44: T7_1
A46: 제 9 호표 라인가압펌프(일체형스텐레스) 40HP(25~200m)0.25~3.5㎥/min / 대 | M46: 대가9 | N46: =HYPERLINK("#N"&ROW(N48),"_x0005_`BDCOD|B04904_x0007_`POSS|"&ROW(N47)&"_x0007_`POSE|"&ROW(N48)&"_x0007_`") -> _x0005_`BDCOD|B04904_x0007_`POSS|47_x0007_`POSE|48_x0007_` | O46: B04904
A47: 펌프류 철거 및 설치 | B47: 37KW 이하 - 철거40% | C47: 1 | D47: 대 | E47: =I47+G47+K47 -> 2044858 | F47: =J47+H47+L47 -> 2044858 | G47: =일위대가목록표!F682 -> 1985300 | H47: =IF(C47=0,0,ROUNDDOWN(G47*C47,1)) -> 1985300 | I47: =일위대가목록표!G682 -> 0 | J47: =IF(C47=0,0,ROUNDDOWN(I47*C47,1)) -> 0 | K47: =일위대가목록표!H682 -> 59558 | L47: =IF(C47=0,0,ROUNDDOWN(K47*C47,1)) -> 59558 | M47: 대가 679호표 | N47: _x0007_`COD|B04785_x0005_`EXI|0_x0005_`DVD|F_x0005_`BMK| _x0005_`IPR|0_x0005_`BLA|F_x0005_` | O47: B04785_1 | P47: T7_1 | Z47: =HYPERLINK("#"&일위대가목록표!J2&"!A"&ROW(일위대가목록표!A682),"대가679 →") -> 대가679 →
A48: 라인가압펌프(일체형스텐레스) | B48: 40HP(25~200m)0.05~0.25㎥/min | C48: 1 | D48: 대 | E48: =I48+G48+K48 -> 26000000 | F48: =J48+H48+L48 -> 26000000 | G48: 0 | H48: =IF(C48=0,0,ROUNDDOWN(G48*C48,1)) -> 0 | I48: =재료비목록표!E46 -> 26000000 | J48: =IF(C48=0,0,ROUNDDOWN(I48*C48,1)) -> 26000000 | K48: 0 | L48: =IF(C48=0,0,ROUNDDOWN(K48*C48,1)) -> 0 | M48: 자재43 | N48: _x0007_`COD|M06660_x0005_`EXI|0_x0005_`DVD|F_x0005_`BMK| _x0005_`IPR|0_x0005_`KWN|0_x0005_`BLA|F_x0005_` | O48: M06660_1 | P48: T7_1 | Z48: =HYPERLINK("#"&재료비목록표!G2&"!A"&ROW(재료비목록표!A46),"자재43 →") -> 자재43 →
A49: 합 계 | F49: =J49+H49+L49 -> 28044858 | H49: =ROUNDDOWN(SUMIF(P47:P48,O49,H47:H48),0) -> 1985300 | J49: =ROUNDDOWN(SUMIF(P47:P48,O49,J47:J48),0) -> 26000000 | L49: =ROUNDDOWN(SUMIF(P47:P48,O49,L47:L48),0) -> 59558 | O49: T7_1
A51: 제 10 호표 라인가압펌프(일체형스텐레스) 50HP(25~200m)0.3~3.5㎥/min / 대 | M51: 대가10 | N51: =HYPERLINK("#N"&ROW(N53),"_x0005_`BDCOD|B04905_x0007_`POSS|"&ROW(N52)&"_x0007_`POSE|"&ROW(N53)&"_x0007_`") -> _x0005_`BDCOD|B04905_x0007_`POSS|52_x0007_`POSE|53_x0007_` | O51: B04905
A52: 펌프류 철거 및 설치 | B52: 55KW 이하 - 철거40% | C52: 1 | D52: 대 | E52: =I52+G52+K52 -> 3289807 | F52: =J52+H52+L52 -> 3289807 | G52: =일위대가목록표!F685 -> 3193989 | H52: =IF(C52=0,0,ROUNDDOWN(G52*C52,1)) -> 3193989 | I52: =일위대가목록표!G685 -> 0 | J52: =IF(C52=0,0,ROUNDDOWN(I52*C52,1)) -> 0 | K52: =일위대가목록표!H685 -> 95818 | L52: =IF(C52=0,0,ROUNDDOWN(K52*C52,1)) -> 95818 | M52: 대가 682호표 | N52: _x0007_`COD|B04786_x0005_`EXI|0_x0005_`DVD|F_x0005_`BMK| _x0005_`IPR|0_x0005_`BLA|F_x0005_` | O52: B04786_1 | P52: T7_1 | Z52: =HYPERLINK("#"&일위대가목록표!J2&"!A"&ROW(일위대가목록표!A685),"대가682 →") -> 대가682 →
A53: 라인가압펌프(일체형스텐레스) | B53: 50HP(25~200m)0.05~0.25㎥/min | C53: 1 | D53: 대 | E53: =I53+G53+K53 -> 32000000 | F53: =J53+H53+L53 -> 32000000 | G53: 0 | H53: =IF(C53=0,0,ROUNDDOWN(G53*C53,1)) -> 0 | I53: =재료비목록표!E47 -> 32000000 | J53: =IF(C53=0,0,ROUNDDOWN(I53*C53,1)) -> 32000000 | K53: 0 | L53: =IF(C53=0,0,ROUNDDOWN(K53*C53,1)) -> 0 | M53: 자재44 | N53: _x0007_`COD|M06661_x0005_`EXI|0_x0005_`DVD|F_x0005_`BMK| _x0005_`IPR|0_x0005_`KWN|0_x0005_`BLA|F_x0005_` | O53: M06661_1 | P53: T7_1 | Z53: =HYPERLINK("#"&재료비목록표!G2&"!A"&ROW(재료비목록표!A47),"자재44 →") -> 자재44 →
A54: 합 계 | F54: =J54+H54+L54 -> 35289807 | H54: =ROUNDDOWN(SUMIF(P52:P53,O54,H52:H53),0) -> 3193989 | J54: =ROUNDDOWN(SUMIF(P52:P53,O54,J52:J53),0) -> 32000000 | L54: =ROUNDDOWN(SUMIF(P52:P53,O54,L52:L53),0) -> 95818 | O54: T7_1
A56: 제 11 호표 라인가압펌프(일체형스텐레스) 60HP(25~200m)2.0~3.5㎥/min / 대 | M56: 대가11 | N56: =HYPERLINK("#N"&ROW(N58),"_x0005_`BDCOD|B04906_x0007_`POSS|"&ROW(N57)&"_x0007_`POSE|"&ROW(N58)&"_x0007_`") -> _x0005_`BDCOD|B04906_x0007_`POSS|57_x0007_`POSE|58_x0007_` | O56: B04906
A57: 펌프류 철거 및 설치 | B57: 55KW 이하 - 철거40% | C57: 1 | D57: 대 | E57: =I57+G57+K57 -> 3289807 | F57: =J57+H57+L57 -> 3289807 | G57: =일위대가목록표!F685 -> 3193989 | H57: =IF(C57=0,0,ROUNDDOWN(G57*C57,1)) -> 3193989 | I57: =일위대가목록표!G685 -> 0 | J57: =IF(C57=0,0,ROUNDDOWN(I57*C57,1)) -> 0 | K57: =일위대가목록표!H685 -> 95818 | L57: =IF(C57=0,0,ROUNDDOWN(K57*C57,1)) -> 95818 | M57: 대가 682호표 | N57: _x0007_`COD|B04786_x0005_`EXI|0_x0005_`DVD|F_x0005_`BMK| _x0005_`IPR|0_x0005_`BLA|F_x0005_` | O57: B04786_1 | P57: T7_1 | Z57: =HYPERLINK("#"&일위대가목록표!J2&"!A"&ROW(일위대가목록표!A685),"대가682 →") -> 대가682 →
A58: 라인가압펌프(일체형스텐레스) | B58: 60HP(25~200m)0.3~0.25㎥/min | C58: 1 | D58: 대 | E58: =I58+G58+K58 -> 39000000 | F58: =J58+H58+L58 -> 39000000 | G58: 0 | H58: =IF(C58=0,0,ROUNDDOWN(G58*C58,1)) -> 0 | I58: =재료비목록표!E49 -> 39000000 | J58: =IF(C58=0,0,ROUNDDOWN(I58*C58,1)) -> 39000000 | K58: 0 | L58: =IF(C58=0,0,ROUNDDOWN(K58*C58,1)) -> 0 | M58: 자재46 | N58: _x0007_`COD|M06662_x0005_`EXI|0_x0005_`DVD|F_x0005_`BMK| _x0005_`IPR|0_x0005_`KWN|0_x0005_`BLA|F_x0005_` | O58: M06662_1 | P58: T7_1 | Z58: =HYPERLINK("#"&재료비목록표!G2&"!A"&ROW(재료비목록표!A49),"자재46 →") -> 자재46 →
A59: 합 계 | F59: =J59+H59+L59 -> 42289807 | H59: =ROUNDDOWN(SUMIF(P57:P58,O59,H57:H58),0) -> 3193989 | J59: =ROUNDDOWN(SUMIF(P57:P58,O59,J57:J58),0) -> 39000000 | L59: =ROUNDDOWN(SUMIF(P57:P58,O59,L57:L58),0) -> 95818 | O59: T7_1
A61: 제 12 호표 라인가압펌프(일체형스텐레스) 150HP(25~200m)1.0~7.2㎥/min / 대 | M61: 대가12 | N61: =HYPERLINK("#N"&ROW(N63),"_x0005_`BDCOD|B04907_x0007_`POSS|"&ROW(N62)&"_x0007_`POSE|"&ROW(N63)&"_x0007_`") -> _x0005_`BDCOD|B04907_x0007_`POSS|62_x0007_`POSE|63_x0007_` | O61: B04907
A62: 펌프류 철거 및 설치 | B62: 75KW 이하 - 철거40% | C62: 1 | D62: 대 | E62: =I62+G62+K62 -> 4030109 | F62: =J62+H62+L62 -> 4030109 | G62: =일위대가목록표!F688 -> 3912728 | H62: =IF(C62=0,0,ROUNDDOWN(G62*C62,1)) -> 3912728 | I62: =일위대가목록표!G688 -> 0 | J62: =IF(C62=0,0,ROUNDDOWN(I62*C62,1)) -> 0 | K62: =일위대가목록표!H688 -> 117381 | L62: =IF(C62=0,0,ROUNDDOWN(K62*C62,1)) -> 117381 | M62: 대가 685호표 | N62: _x0007_`COD|B04787_x0005_`EXI|0_x0005_`DVD|F_x0005_`BMK| _x0005_`IPR|0_x0005_`BLA|F_x0005_` | O62: B04787_1 | P62: T7_1 | Z62: =HYPERLINK("#"&일위대가목록표!J2&"!A"&ROW(일위대가목록표!A688),"대가685 →") -> 대가685 →
A63: 라인가압펌프(일체형스텐레스) | B63: 150HP(25~200m)1.0~7.2㎥/min | C63: 1 | D63: 대 | E63: =I63+G63+K63 -> 99500000 | F63: =J63+H63+L63 -> 99500000 | G63: 0 | H63: =IF(C63=0,0,ROUNDDOWN(G63*C63,1)) -> 0 | I63: =재료비목록표!E39 -> 99500000 | J63: =IF(C63=0,0,ROUNDDOWN(I63*C63,1)) -> 99500000 | K63: 0 | L63: =IF(C63=0,0,ROUNDDOWN(K63*C63,1)) -> 0 | M63: 자재36 | N63: _x0007_`COD|M06663_x0005_`EXI|0_x0005_`DVD|F_x0005_`BMK| _x0005_`IPR|0_x0005_`KWN|0_x0005_`BLA|F_x0005_` | O63: M06663_1 | P63: T7_1 | Z63: =HYPERLINK("#"&재료비목록표!G2&"!A"&ROW(재료비목록표!A39),"자재36 →") -> 자재36 →
A64: 합 계 | F64: =J64+H64+L64 -> 103530109 | H64: =ROUNDDOWN(SUMIF(P62:P63,O64,H62:H63),0) -> 3912728 | J64: =ROUNDDOWN(SUMIF(P62:P63,O64,J62:J63),0) -> 99500000 | L64: =ROUNDDOWN(SUMIF(P62:P63,O64,L62:L63),0) -> 117381 | O64: T7_1
A66: 제 13 호표 라인가압펌프(일체형스텐레스) 철거 및 설치 2HP(25-200m)0.01-0.188㎥/min / 대 | M66: 대가13 | N66: =HYPERLINK("#N"&ROW(N67),"_x0005_`BDCOD|B05105_x0007_`POSS|"&ROW(N67)&"_x0007_`POSE|"&ROW(N67)&"_x0007_`") -> _x0005_`BDCOD|B05105_x0007_`POSS|67_x0007_`POSE|67_x0007_` | O66: B05105
A67: 펌프류 철거 및 설치 | B67: 1.5KW 이하 - 철거40% | C67: 1 | D67: 대 | E67: =I67+G67+K67 -> 365273 | F67: =J67+H67+L67 -> 365273 | G67: =일위대가목록표!F658 -> 354635 | H67: =IF(C67=0,0,ROUNDDOWN(G67*C67,1)) -> 354635 | I67: =일위대가목록표!G658 -> 0 | J67: =IF(C67=0,0,ROUNDDOWN(I67*C67,1)) -> 0 | K67: =일위대가목록표!H658 -> 10638 | L67: =IF(C67=0,0,ROUNDDOWN(K67*C67,1)) -> 10638 | M67: 대가 655호표 | N67: _x0007_`COD|B04777_x0005_`EXI|0_x0005_`DVD|F_x0005_`BMK| _x0005_`IPR|0_x0005_`BLA|F_x0005_` | O67: B04777_1 | P67: T7_1 | Z67: =HYPERLINK("#"&일위대가목록표!J2&"!A"&ROW(일위대가목록표!A658),"대가655 →") -> 대가655 →
A68: 합 계 | F68: =J68+H68+L68 -> 365273 | H68: =ROUNDDOWN(SUMIF(P67:P67,O68,H67:H67),0) -> 354635 | J68: =ROUNDDOWN(SUMIF(P67:P67,O68,J67:J67),0) -> 0 | L68: =ROUNDDOWN(SUMIF(P67:P67,O68,L67:L67),0) -> 10638 | O68: T7_1
A70: 제 14 호표 라인가압펌프(일체형스텐레스) 철거 및 설치 3HP(25~200m)0.01~0.25㎥/min / 대 | M70: 대가14 | N70: =HYPERLINK("#N"&ROW(N71),"_x0005_`BDCOD|B05106_x0007_`POSS|"&ROW(N71)&"_x0007_`POSE|"&ROW(N71)&"_x0007_`") -> _x0005_`BDCOD|B05106_x0007_`POSS|71_x0007_`POSE|71_x0007_` | O70: B05106
A71: 펌프류 철거 및 설치 | B71: 2.2KW 이하 - 철거40% | C71: 1 | D71: 대 | E71: =I71+G71+K71 -> 420901 | F71: =J71+H71+L71 -> 420901 | G71: =일위대가목록표!F661 -> 408643 | H71: =IF(C71=0,0,ROUNDDOWN(G71*C71,1)) -> 408643 | I71: =일위대가목록표!G661 -> 0 | J71: =IF(C71=0,0,ROUNDDOWN(I71*C71,1)) -> 0 | K71: =일위대가목록표!H661 -> 12258 | L71: =IF(C71=0,0,ROUNDDOWN(K71*C71,1)) -> 12258 | M71: 대가 658호표 | N71: _x0007_`COD|B04778_x0005_`EXI|0_x0005_`DVD|F_x0005_`BMK| _x0005_`IPR|0_x0005_`BLA|F_x0005_` | O71: B04778_1 | P71: T7_1 | Z71: =HYPERLINK("#"&일위대가목록표!J2&"!A"&ROW(일위대가목록표!A661),"대가658 →") -> 대가658 →
A72: 합 계 | F72: =J72+H72+L72 -> 420901 | H72: =ROUNDDOWN(SUMIF(P71:P71,O72,H71:H71),0) -> 408643 | J72: =ROUNDDOWN(SUMIF(P71:P71,O72,J71:J71),0) -> 0 | L72: =ROUNDDOWN(SUMIF(P71:P71,O72,L71:L71),0) -> 12258 | O72: T7_1
A74: 제 15 호표 라인가압펌프(일체형스텐레스) 철거 및 설치 5HP(25~200m)0.01~0.25㎥/min / 대 | M74: 대가15 | N74: =HYPERLINK("#N"&ROW(N75),"_x0005_`BDCOD|B05107_x0007_`POSS|"&ROW(N75)&"_x0007_`POSE|"&ROW(N75)&"_x0007_`") -> _x0005_`BDCOD|B05107_x0007_`POSS|75_x0007_`POSE|75_x0007_` | O74: B05107
A75: 펌프류 철거 및 설치 | B75: 3.7KW 이하 - 철거40% | C75: 1 | D75: 대 | E75: =I75+G75+K75 -> 483348 | F75: =J75+H75+L75 -> 483348 | G75: =일위대가목록표!F664 -> 469271 | H75: =IF(C75=0,0,ROUNDDOWN(G75*C75,1)) -> 469271 | I75: =일위대가목록표!G664 -> 0 | J75: =IF(C75=0,0,ROUNDDOWN(I75*C75,1)) -> 0 | K75: =일위대가목록표!H664 -> 14077 | L75: =IF(C75=0,0,ROUNDDOWN(K75*C75,1)) -> 14077 | M75: 대가 661호표 | N75: _x0007_`COD|B04779_x0005_`EXI|0_x0005_`DVD|F_x0005_`BMK| _x0005_`IPR|0_x0005_`BLA|F_x0005_` | O75: B04779_1 | P75: T7_1 | Z75: =HYPERLINK("#"&일위대가목록표!J2&"!A"&ROW(일위대가목록표!A664),"대가661 →") -> 대가661 →
A76: 합 계 | F76: =J76+H76+L76 -> 483348 | H76: =ROUNDDOWN(SUMIF(P75:P75,O76,H75:H75),0) -> 469271 | J76: =ROUNDDOWN(SUMIF(P75:P75,O76,J75:J75),0) -> 0 | L76: =ROUNDDOWN(SUMIF(P75:P75,O76,L75:L75),0) -> 14077 | O76: T7_1
A78: 제 16 호표 라인가압펌프(일체형스텐레스) 철거 및 설치 7.5HP(25~200m)0.09~0.25㎥/min / 대 | M78: 대가16 | N78: =HYPERLINK("#N"&ROW(N79),"_x0005_`BDCOD|B05108_x0007_`POSS|"&ROW(N79)&"_x0007_`POSE|"&ROW(N79)&"_x0007_`") -> _x0005_`BDCOD|B05108_x0007_`POSS|79_x0007_`POSE|79_x0007_` | O78: B05108
A79: 펌프류 철거 및 설치 | B79: 5.5KW 이하 - 철거40% | C79: 1 | D79: 대 | E79: =I79+G79+K79 -> 582367 | F79: =J79+H79+L79 -> 582367 | G79: =일위대가목록표!F667 -> 565406 | H79: =IF(C79=0,0,ROUNDDOWN(G79*C79,1)) -> 565406 | I79: =일위대가목록표!G667 -> 0 | J79: =IF(C79=0,0,ROUNDDOWN(I79*C79,1)) -> 0 | K79: =일위대가목록표!H667 -> 16961 | L79: =IF(C79=0,0,ROUNDDOWN(K79*C79,1)) -> 16961 | M79: 대가 664호표 | N79: _x0007_`COD|B04780_x0005_`EXI|0_x0005_`DVD|F_x0005_`BMK| _x0005_`IPR|0_x0005_`BLA|F_x0005_` | O79: B04780_1 | P79: T7_1 | Z79: =HYPERLINK("#"&일위대가목록표!J2&"!A"&ROW(일위대가목록표!A667),"대가664 →") -> 대가664 →
A80: 합 계 | F80: =J80+H80+L80 -> 582367 | H80: =ROUNDDOWN(SUMIF(P79:P79,O80,H79:H79),0) -> 565406 | J80: =ROUNDDOWN(SUMIF(P79:P79,O80,J79:J79),0) -> 0 | L80: =ROUNDDOWN(SUMIF(P79:P79,O80,L79:L79),0) -> 16961 | O80: T7_1
A82: 제 17 호표 라인가압펌프(일체형스텐레스) 철거 및 설치 10HP(25~200m)0.05~1.35㎥/min / 대 | M82: 대가17 | N82: =HYPERLINK("#N"&ROW(N83),"_x0005_`BDCOD|B05109_x0007_`POSS|"&ROW(N83)&"_x0007_`POSE|"&ROW(N83)&"_x0007_`") -> _x0005_`BDCOD|B05109_x0007_`POSS|83_x0007_`POSE|83_x0007_` | O82: B05109
A83: 펌프류 철거 및 설치 | B83: 7.5KW 이하 - 철거40% | C83: 1 | D83: 대 | E83: =I83+G83+K83 -> 734777 | F83: =J83+H83+L83 -> 734777 | G83: =일위대가목록표!F670 -> 713377 | H83: =IF(C83=0,0,ROUNDDOWN(G83*C83,1)) -> 713377 | I83: =일위대가목록표!G670 -> 0 | J83: =IF(C83=0,0,ROUNDDOWN(I83*C83,1)) -> 0 | K83: =일위대가목록표!H670 -> 21400 | L83: =IF(C83=0,0,ROUNDDOWN(K83*C83,1)) -> 21400 | M83: 대가 667호표 | N83: _x0007_`COD|B04781_x0005_`EXI|0_x0005_`DVD|F_x0005_`BMK| _x0005_`IPR|0_x0005_`BLA|F_x0005_` | O83: B04781_1 | P83: T7_1 | Z83: =HYPERLINK("#"&일위대가목록표!J2&"!A"&ROW(일위대가목록표!A670),"대가667 →") -> 대가667 →
A84: 합 계 | F84: =J84+H84+L84 -> 734777 | H84: =ROUNDDOWN(SUMIF(P83:P83,O84,H83:H83),0) -> 713377 | J84: =ROUNDDOWN(SUMIF(P83:P83,O84,J83:J83),0) -> 0 | L84: =ROUNDDOWN(SUMIF(P83:P83,O84,L83:L83),0) -> 21400 | O84: T7_1
A86: 제 18 호표 라인가압펌프(일체형스텐레스) 철거 및 설치 15HP(25~200m)0.25~1.25㎥/min / 대 | M86: 대가18 | N86: =HYPERLINK("#N"&ROW(N87),"_x0005_`BDCOD|B05110_x0007_`POSS|"&ROW(N87)&"_x0007_`POSE|"&ROW(N87)&"_x0007_`") -> _x0005_`BDCOD|B05110_x0007_`POSS|87_x0007_`POSE|87_x0007_` | O86: B05110
A87: 펌프류 철거 및 설치 | B87: 11KW 이하 - 철거40% | C87: 1 | D87: 대 | E87: =I87+G87+K87 -> 923410 | F87: =J87+H87+L87 -> 923410 | G87: =일위대가목록표!F673 -> 896515 | H87: =IF(C87=0,0,ROUNDDOWN(G87*C87,1)) -> 896515 | I87: =일위대가목록표!G673 -> 0 | J87: =IF(C87=0,0,ROUNDDOWN(I87*C87,1)) -> 0 | K87: =일위대가목록표!H673 -> 26895 | L87: =IF(C87=0,0,ROUNDDOWN(K87*C87,1)) -> 26895 | M87: 대가 670호표 | N87: _x0007_`COD|B04782_x0005_`EXI|0_x0005_`DVD|F_x0005_`BMK| _x0005_`IPR|0_x0005_`BLA|F_x0005_` | O87: B04782_1 | P87: T7_1 | Z87: =HYPERLINK("#"&일위대가목록표!J2&"!A"&ROW(일위대가목록표!A673),"대가670 →") -> 대가670 →
A88: 합 계 | F88: =J88+H88+L88 -> 923410 | H88: =ROUNDDOWN(SUMIF(P87:P87,O88,H87:H87),0) -> 896515 | J88: =ROUNDDOWN(SUMIF(P87:P87,O88,J87:J87),0) -> 0 | L88: =ROUNDDOWN(SUMIF(P87:P87,O88,L87:L87),0) -> 26895 | O88: T7_1
A90: 제 19 호표 라인가압펌프(일체형스텐레스) 철거 및 설치 20HP(25~200m)0.25~1.25㎥/min / 대 | M90: 대가19 | N90: =HYPERLINK("#N"&ROW(N91),"_x0005_`BDCOD|B05111_x0007_`POSS|"&ROW(N91)&"_x0007_`POSE|"&ROW(N91)&"_x0007_`") -> _x0005_`BDCOD|B05111_x0007_`POSS|91_x0007_`POSE|91_x0007_` | O90: B05111
A91: 펌프류 철거 및 설치 | B91: 15KW 이하 - 철거40% | C91: 1 | D91: 대 | E91: =I91+G91+K91 -> 980333 | F91: =J91+H91+L91 -> 980333 | G91: =일위대가목록표!F676 -> 951780 | H91: =IF(C91=0,0,ROUNDDOWN(G91*C91,1)) -> 951780 | I91: =일위대가목록표!G676 -> 0 | J91: =IF(C91=0,0,ROUNDDOWN(I91*C91,1)) -> 0 | K91: =일위대가목록표!H676 -> 28553 | L91: =IF(C91=0,0,ROUNDDOWN(K91*C91,1)) -> 28553 | M91: 대가 673호표 | N91: _x0007_`COD|B04783_x0005_`EXI|0_x0005_`DVD|F_x0005_`BMK| _x0005_`IPR|0_x0005_`BLA|F_x0005_` | O91: B04783_1 | P91: T7_1 | Z91: =HYPERLINK("#"&일위대가목록표!J2&"!A"&ROW(일위대가목록표!A676),"대가673 →") -> 대가673 →
A92: 합 계 | F92: =J92+H92+L92 -> 980333 | H92: =ROUNDDOWN(SUMIF(P91:P91,O92,H91:H91),0) -> 951780 | J92: =ROUNDDOWN(SUMIF(P91:P91,O92,J91:J91),0) -> 0 | L92: =ROUNDDOWN(SUMIF(P91:P91,O92,L91:L91),0) -> 28553 | O92: T7_1
A94: 제 20 호표 라인가압펌프(일체형스텐레스) 철거 및 설치 30HP(25~200m)0.25~1.35㎥/min / 대 | M94: 대가20 | N94: =HYPERLINK("#N"&ROW(N95),"_x0005_`BDCOD|B05112_x0007_`POSS|"&ROW(N95)&"_x0007_`POSE|"&ROW(N95)&"_x0007_`") -> _x0005_`BDCOD|B05112_x0007_`POSS|95_x0007_`POSE|95_x0007_` | O94: B05112
A95: 펌프류 철거 및 설치 | B95: 22KW 이하 - 철거40% | C95: 1 | D95: 대 | E95: =I95+G95+K95 -> 1583750 | F95: =J95+H95+L95 -> 1583750 | G95: =일위대가목록표!F679 -> 1537622 | H95: =IF(C95=0,0,ROUNDDOWN(G95*C95,1)) -> 1537622 | I95: =일위대가목록표!G679 -> 0 | J95: =IF(C95=0,0,ROUNDDOWN(I95*C95,1)) -> 0 | K95: =일위대가목록표!H679 -> 46128 | L95: =IF(C95=0,0,ROUNDDOWN(K95*C95,1)) -> 46128 | M95: 대가 676호표 | N95: _x0007_`COD|B04784_x0005_`EXI|0_x0005_`DVD|F_x0005_`BMK| _x0005_`IPR|0_x0005_`BLA|F_x0005_` | O95: B04784_1 | P95: T7_1 | Z95: =HYPERLINK("#"&일위대가목록표!J2&"!A"&ROW(일위대가목록표!A679),"대가676 →") -> 대가676 →
A96: 합 계 | F96: =J96+H96+L96 -> 1583750 | H96: =ROUNDDOWN(SUMIF(P95:P95,O96,H95:H95),0) -> 1537622 | J96: =ROUNDDOWN(SUMIF(P95:P95,O96,J95:J95),0) -> 0 | L96: =ROUNDDOWN(SUMIF(P95:P95,O96,L95:L95),0) -> 46128 | O96: T7_1
A98: 제 21 호표 라인가압펌프(일체형스텐레스) 철거 및 설치 40HP(25~200m)0.25~3.5㎥/min / 대 | M98: 대가21 | N98: =HYPERLINK("#N"&ROW(N99),"_x0005_`BDCOD|B05113_x0007_`POSS|"&ROW(N99)&"_x0007_`POSE|"&ROW(N99)&"_x0007_`") -> _x0005_`BDCOD|B05113_x0007_`POSS|99_x0007_`POSE|99_x0007_` | O98: B05113
A99: 펌프류 철거 및 설치 | B99: 37KW 이하 - 철거40% | C99: 1 | D99: 대 | E99: =I99+G99+K99 -> 2044858 | F99: =J99+H99+L99 -> 2044858 | G99: =일위대가목록표!F682 -> 1985300 | H99: =IF(C99=0,0,ROUNDDOWN(G99*C99,1)) -> 1985300 | I99: =일위대가목록표!G682 -> 0 | J99: =IF(C99=0,0,ROUNDDOWN(I99*C99,1)) -> 0 | K99: =일위대가목록표!H682 -> 59558 | L99: =IF(C99=0,0,ROUNDDOWN(K99*C99,1)) -> 59558 | M99: 대가 679호표 | N99: _x0007_`COD|B04785_x0005_`EXI|0_x0005_`DVD|F_x0005_`BMK| _x0005_`IPR|0_x0005_`BLA|F_x0005_` | O99: B04785_1 | P99: T7_1 | Z99: =HYPERLINK("#"&일위대가목록표!J2&"!A"&ROW(일위대가목록표!A682),"대가679 →") -> 대가679 →
A100: 합 계 | F100: =J100+H100+L100 -> 2044858 | H100: =ROUNDDOWN(SUMIF(P99:P99,O100,H99:H99),0) -> 1985300 | J100: =ROUNDDOWN(SUMIF(P99:P99,O100,J99:J99),0) -> 0 | L100: =ROUNDDOWN(SUMIF(P99:P99,O100,L99:L99),0) -> 59558 | O100: T7_1
A102: 제 22 호표 라인가압펌프(일체형스텐레스) 철거 및 설치 50HP(25~200m)0.3~3.5㎥/min / 대 | M102: 대가22 | N102: =HYPERLINK("#N"&ROW(N103),"_x0005_`BDCOD|B05114_x0007_`POSS|"&ROW(N103)&"_x0007_`POSE|"&ROW(N103)&"_x0007_`") -> _x0005_`BDCOD|B05114_x0007_`POSS|103_x0007_`POSE|103_x0007_` | O102: B05114
A103: 펌프류 철거 및 설치 | B103: 55KW 이하 - 철거40% | C103: 1 | D103: 대 | E103: =I103+G103+K103 -> 3289807 | F103: =J103+H103+L103 -> 3289807 | G103: =일위대가목록표!F685 -> 3193989 | H103: =IF(C103=0,0,ROUNDDOWN(G103*C103,1)) -> 3193989 | I103: =일위대가목록표!G685 -> 0 | J103: =IF(C103=0,0,ROUNDDOWN(I103*C103,1)) -> 0 | K103: =일위대가목록표!H685 -> 95818 | L103: =IF(C103=0,0,ROUNDDOWN(K103*C103,1)) -> 95818 | M103: 대가 682호표 | N103: _x0007_`COD|B04786_x0005_`EXI|0_x0005_`DVD|F_x0005_`BMK| _x0005_`IPR|0_x0005_`BLA|F_x0005_` | O103: B04786_1 | P103: T7_1 | Z103: =HYPERLINK("#"&일위대가목록표!J2&"!A"&ROW(일위대가목록표!A685),"대가682 →") -> 대가682 →
A104: 합 계 | F104: =J104+H104+L104 -> 3289807 | H104: =ROUNDDOWN(SUMIF(P103:P103,O104,H103:H103),0) -> 3193989 | J104: =ROUNDDOWN(SUMIF(P103:P103,O104,J103:J103),0) -> 0 | L104: =ROUNDDOWN(SUMIF(P103:P103,O104,L103:L103),0) -> 95818 | O104: T7_1
A106: 제 23 호표 라인가압펌프(일체형스텐레스) 철거 및 설치 60HP(25~200m)2.0~3.5㎥/min / 대 | M106: 대가23 | N106: =HYPERLINK("#N"&ROW(N107),"_x0005_`BDCOD|B05115_x0007_`POSS|"&ROW(N107)&"_x0007_`POSE|"&ROW(N107)&"_x0007_`") -> _x0005_`BDCOD|B05115_x0007_`POSS|107_x0007_`POSE|107_x0007_` | O106: B05115
A107: 펌프류 철거 및 설치 | B107: 55KW 이하 - 철거40% | C107: 1 | D107: 대 | E107: =I107+G107+K107 -> 3289807 | F107: =J107+H107+L107 -> 3289807 | G107: =일위대가목록표!F685 -> 3193989 | H107: =IF(C107=0,0,ROUNDDOWN(G107*C107,1)) -> 3193989 | I107: =일위대가목록표!G685 -> 0 | J107: =IF(C107=0,0,ROUNDDOWN(I107*C107,1)) -> 0 | K107: =일위대가목록표!H685 -> 95818 | L107: =IF(C107=0,0,ROUNDDOWN(K107*C107,1)) -> 95818 | M107: 대가 682호표 | N107: _x0007_`COD|B04786_x0005_`EXI|0_x0005_`DVD|F_x0005_`BMK| _x0005_`IPR|0_x0005_`BLA|F_x0005_` | O107: B04786_1 | P107: T7_1 | Z107: =HYPERLINK("#"&일위대가목록표!J2&"!A"&ROW(일위대가목록표!A685),"대가682 →") -> 대가682 →
A108: 합 계 | F108: =J108+H108+L108 -> 3289807 | H108: =ROUNDDOWN(SUMIF(P107:P107,O108,H107:H107),0) -> 3193989 | J108: =ROUNDDOWN(SUMIF(P107:P107,O108,J107:J107),0) -> 0 | L108: =ROUNDDOWN(SUMIF(P107:P107,O108,L107:L107),0) -> 95818 | O108: T7_1
A110: 제 24 호표 라인가압펌프(일체형스텐레스) 철거 및 설치 150HP(25~200m)1.0~7.2㎥/min / 대 | M110: 대가24 | N110: =HYPERLINK("#N"&ROW(N111),"_x0005_`BDCOD|B05116_x0007_`POSS|"&ROW(N111)&"_x0007_`POSE|"&ROW(N111)&"_x0007_`") -> _x0005_`BDCOD|B05116_x0007_`POSS|111_x0007_`POSE|111_x0007_` | O110: B05116
A111: 펌프류 철거 및 설치 | B111: 75KW 이하 - 철거40% | C111: 1 | D111: 대 | E111: =I111+G111+K111 -> 4030109 | F111: =J111+H111+L111 -> 4030109 | G111: =일위대가목록표!F688 -> 3912728 | H111: =IF(C111=0,0,ROUNDDOWN(G111*C111,1)) -> 3912728 | I111: =일위대가목록표!G688 -> 0 | J111: =IF(C111=0,0,ROUNDDOWN(I111*C111,1)) -> 0 | K111: =일위대가목록표!H688 -> 117381 | L111: =IF(C111=0,0,ROUNDDOWN(K111*C111,1)) -> 117381 | M111: 대가 685호표 | N111: _x0007_`COD|B04787_x0005_`EXI|0_x0005_`DVD|F_x0005_`BMK| _x0005_`IPR|0_x0005_`BLA|F_x0005_` | O111: B04787_1 | P111: T7_1 | Z111: =HYPERLINK("#"&일위대가목록표!J2&"!A"&ROW(일위대가목록표!A688),"대가685 →") -> 대가685 →
A112: 합 계 | F112: =J112+H112+L112 -> 4030109 | H112: =ROUNDDOWN(SUMIF(P111:P111,O112,H111:H111),0) -> 3912728 | J112: =ROUNDDOWN(SUMIF(P111:P111,O112,J111:J111),0) -> 0 | L112: =ROUNDDOWN(SUMIF(P111:P111,O112,L111:L111),0) -> 117381 | O112: T7_1
A114: 제 25 호표 라인가압펌프(일체형스텐레스) 설치 2HP(25-200m)0.01-0.188㎥/min / 대 | M114: 대가25 | N114: =HYPERLINK("#N"&ROW(N116),"_x0005_`BDCOD|B05129_x0007_`POSS|"&ROW(N115)&"_x0007_`POSE|"&ROW(N116)&"_x0007_`") -> _x0005_`BDCOD|B05129_x0007_`POSS|115_x0007_`POSE|116_x0007_` | O114: B05129
B115: 적산정보 774P | C115: 0 | E115: 0 | F115: 0 | H115: 0 | J115: 0 | L115: 0 | N115: _x0007_`COD|_x0005_`EXI|1_x0005_` | O115: _1 | P115: _1
A116: 펌프류 설치 | B116: 1.5KW 이하 | C116: 1 | D116: 대 | E116: =I116+G116+K116 -> 260910 | F116: =J116+H116+L116 -> 260910 | G116: =일위대가목록표!F660 -> 253311 | H116: =IF(C116=0,0,ROUNDDOWN(G116*C116,1)) -> 253311 | I116: =일위대가목록표!G660 -> 0 | J116: =IF(C116=0,0,ROUNDDOWN(I116*C116,1)) -> 0 | K116: =일위대가목록표!H660 -> 7599 | L116: =IF(C116=0,0,ROUNDDOWN(K116*C116,1)) -> 7599 | M116: 대가 657호표 | N116: _x0007_`COD|B04753_x0005_`EXI|0_x0005_`DVD|F_x0005_`BMK| _x0005_`IPR|0_x0005_`BLA|F_x0005_` | O116: B04753_1 | P116: T7_1 | Z116: =HYPERLINK("#"&일위대가목록표!J2&"!A"&ROW(일위대가목록표!A660),"대가657 →") -> 대가657 →
A117: 합 계 | F117: =J117+H117+L117 -> 260910 | H117: =ROUNDDOWN(SUMIF(P115:P116,O117,H115:H116),0) -> 253311 | J117: =ROUNDDOWN(SUMIF(P115:P116,O117,J115:J116),0) -> 0 | L117: =ROUNDDOWN(SUMIF(P115:P116,O117,L115:L116),0) -> 7599 | O117: T7_1
A119: 제 26 호표 라인가압펌프(일체형스텐레스) 설치 3HP(25~200m)0.01~0.25㎥/min / 대 | M119: 대가26 | N119: =HYPERLINK("#N"&ROW(N121),"_x0005_`BDCOD|B05130_x0007_`POSS|"&ROW(N120)&"_x0007_`POSE|"&ROW(N121)&"_x0007_`") -> _x0005_`BDCOD|B05130_x0007_`POSS|120_x0007_`POSE|121_x0007_` | O119: B05130
B120: 적산정보 774P | C120: 0 | E120: 0 | F120: 0 | H120: 0 | J120: 0 | L120: 0 | N120: _x0007_`COD|_x0005_`EXI|1_x0005_` | O120: _1 | P120: _1
A121: 펌프류 설치 | B121: 2.2KW 이하 | C121: 1 | D121: 대 | E121: =I121+G121+K121 -> 300644 | F121: =J121+H121+L121 -> 300644 | G121: =일위대가목록표!F663 -> 291888 | H121: =IF(C121=0,0,ROUNDDOWN(G121*C121,1)) -> 291888 | I121: =일위대가목록표!G663 -> 0 | J121: =IF(C121=0,0,ROUNDDOWN(I121*C121,1)) -> 0 | K121: =일위대가목록표!H663 -> 8756 | L121: =IF(C121=0,0,ROUNDDOWN(K121*C121,1)) -> 8756 | M121: 대가 660호표 | N121: _x0007_`COD|B04754_x0005_`EXI|0_x0005_`DVD|F_x0005_`BMK| _x0005_`IPR|0_x0005_`BLA|F_x0005_` | O121: B04754_1 | P121: T7_1 | Z121: =HYPERLINK("#"&일위대가목록표!J2&"!A"&ROW(일위대가목록표!A663),"대가660 →") -> 대가660 →
A122: 합 계 | F122: =J122+H122+L122 -> 300644 | H122: =ROUNDDOWN(SUMIF(P120:P121,O122,H120:H121),0) -> 291888 | J122: =ROUNDDOWN(SUMIF(P120:P121,O122,J120:J121),0) -> 0 | L122: =ROUNDDOWN(SUMIF(P120:P121,O122,L120:L121),0) -> 8756 | O122: T7_1
A124: 제 27 호표 라인가압펌프(일체형스텐레스) 설치 5HP(25~200m)0.01~0.25㎥/min / 대 | M124: 대가27 | N124: =HYPERLINK("#N"&ROW(N125),"_x0005_`BDCOD|B05131_x0007_`POSS|"&ROW(N125)&"_x0007_`POSE|"&ROW(N125)&"_x0007_`") -> _x0005_`BDCOD|B05131_x0007_`POSS|125_x0007_`POSE|125_x0007_` | O124: B05131
A125: 펌프류 철거 및 설치 | B125: 3.7KW 이하 - 철거40% | C125: 1 | D125: 대 | E125: =I125+G125+K125 -> 483348 | F125: =J125+H125+L125 -> 483348 | G125: =일위대가목록표!F664 -> 469271 | H125: =IF(C125=0,0,ROUNDDOWN(G125*C125,1)) -> 469271 | I125: =일위대가목록표!G664 -> 0 | J125: =IF(C125=0,0,ROUNDDOWN(I125*C125,1)) -> 0 | K125: =일위대가목록표!H664 -> 14077 | L125: =IF(C125=0,0,ROUNDDOWN(K125*C125,1)) -> 14077 | M125: 대가 661호표 | N125: _x0007_`COD|B04779_x0005_`EXI|0_x0005_`DVD|F_x0005_`BMK| _x0005_`IPR|0_x0005_`BLA|F_x0005_` | O125: B04779_1 | P125: T7_1 | Z125: =HYPERLINK("#"&일위대가목록표!J2&"!A"&ROW(일위대가목록표!A664),"대가661 →") -> 대가661 →
A126: 합 계 | F126: =J126+H126+L126 -> 483348 | H126: =ROUNDDOWN(SUMIF(P125:P125,O126,H125:H125),0) -> 469271 | J126: =ROUNDDOWN(SUMIF(P125:P125,O126,J125:J125),0) -> 0 | L126: =ROUNDDOWN(SUMIF(P125:P125,O126,L125:L125),0) -> 14077 | O126: T7_1
A128: 제 28 호표 라인가압펌프(일체형스텐레스) 설치 10HP(25~200m)0.05~1.35㎥/min / 대 | M128: 대가28 | N128: =HYPERLINK("#N"&ROW(N129),"_x0005_`BDCOD|B05133_x0007_`POSS|"&ROW(N129)&"_x0007_`POSE|"&ROW(N129)&"_x0007_`") -> _x0005_`BDCOD|B05133_x0007_`POSS|129_x0007_`POSE|129_x0007_` | O128: B05133
...

Sheet 단가산출근거목록표
A1: 단가산출근거 목록표 | J1: STmate | K1: STmate
A2: 공사명 : 2026년도 무인화시설물 유지보수(기계) 연간단가공사(1권역) | J2: =MID(CELL("filename",$A$1),FIND("]",CELL("filename",$A$1))+1,LEN(CELL("filename",$A$1))) -> 단가산출근거목록표
A3: 호표 | B3: 명 칭 | C3: 규 격 | D3: 단위 | E3: 합 계 | F3: 노 무 비 | G3: 재 료 비 | H3: 경 비 | I3: 비 고 | K3: =HYPERLINK("#'〓 목 차 〓'!B2","목차 →") -> 목차 →
A4: 제 1호표 | B4: 맨홀준설 및 세정(흡입식, 처리비제외, 화성) | D4: ㎥ | E4: =단가산출근거!C154 -> 178008 | F4: =단가산출근거!D154 -> 75948 | G4: =단가산출근거!E154 -> 48933 | H4: =단가산출근거!F154 -> 53127 | I4: 제 1호표 | J4: ="_x0007_`COD|D03653_x0005_`QTY1|1_x0005_`BQC|_x0005_`EQC|_x0005_`JDC|_x0005_`WQC|_x0005_`EDT|_x0005_`ADJ|F_x0005_`DET|"&ROW(단가산출근거!A5)&"_x0005_`" -> _x0007_`COD|D03653_x0005_`QTY1|1_x0005_`BQC|_x0005_`EQC|_x0005_`JDC|_x0005_`WQC|_x0005_`EDT|_x0005_`ADJ|F_x0005_`DET|5_x0005_` | K4: =HYPERLINK("#"&단가산출근거!G2&"!A"&ROW(단가산출근거!A5),"산근1 →") -> 산근1 →
A5: 제 2호표 | B5: 스테인레스 강관 용접배관 | C5: D50㎜ | D5: m | E5: =단가산출근거!C204 -> 24042 | F5: =단가산출근거!D204 -> 23571 | G5: =단가산출근거!E204 -> 0 | H5: =단가산출근거!F204 -> 471 | I5: 제 2호표 | J5: ="_x0007_`COD|D04188_x0005_`QTY1|1_x0005_`BQC|_x0005_`EQC|_x0005_`JDC|_x0005_`WQC|_x0005_`EDT|_x0005_`ADJ|F_x0005_`DET|"&ROW(단가산출근거!A155)&"_x0005_`" -> _x0007_`COD|D04188_x0005_`QTY1|1_x0005_`BQC|_x0005_`EQC|_x0005_`JDC|_x0005_`WQC|_x0005_`EDT|_x0005_`ADJ|F_x0005_`DET|155_x0005_` | K5: =HYPERLINK("#"&단가산출근거!G2&"!A"&ROW(단가산출근거!A155),"산근2 →") -> 산근2 →
A6: 제 3호표 | B6: 스테인레스 강관 용접배관 | C6: D80㎜ | D6: m | E6: =단가산출근거!C254 -> 33660 | F6: =단가산출근거!D254 -> 33000 | G6: =단가산출근거!E254 -> 0 | H6: =단가산출근거!F254 -> 660 | I6: 제 3호표 | J6: ="_x0007_`COD|D00119_x0005_`QTY1|1_x0005_`BQC|_x0005_`EQC|_x0005_`JDC|_x0005_`WQC|_x0005_`EDT|_x0005_`ADJ|F_x0005_`DET|"&ROW(단가산출근거!A205)&"_x0005_`" -> _x0007_`COD|D00119_x0005_`QTY1|1_x0005_`BQC|_x0005_`EQC|_x0005_`JDC|_x0005_`WQC|_x0005_`EDT|_x0005_`ADJ|F_x0005_`DET|205_x0005_` | K6: =HYPERLINK("#"&단가산출근거!G2&"!A"&ROW(단가산출근거!A205),"산근3 →") -> 산근3 →
A7: 제 4호표 | B7: 스테인레스 강관 용접배관 | C7: D100㎜ | D7: m | E7: =단가산출근거!C304 -> 46749 | F7: =단가산출근거!D304 -> 45833 | G7: =단가산출근거!E304 -> 0 | H7: =단가산출근거!F304 -> 916 | I7: 제 4호표 | J7: ="_x0007_`COD|D03271_x0005_`QTY1|1_x0005_`BQC|_x0005_`EQC|_x0005_`JDC|_x0005_`WQC|_x0005_`EDT|_x0005_`ADJ|F_x0005_`DET|"&ROW(단가산출근거!A255)&"_x0005_`" -> _x0007_`COD|D03271_x0005_`QTY1|1_x0005_`BQC|_x0005_`EQC|_x0005_`JDC|_x0005_`WQC|_x0005_`EDT|_x0005_`ADJ|F_x0005_`DET|255_x0005_` | K7: =HYPERLINK("#"&단가산출근거!G2&"!A"&ROW(단가산출근거!A255),"산근4 →") -> 산근4 →
A8: 제 5호표 | B8: 스테인레스 강관 용접배관 | C8: D150㎜ | D8: m | E8: =단가산출근거!C354 -> 70125 | F8: =단가산출근거!D354 -> 68750 | G8: =단가산출근거!E354 -> 0 | H8: =단가산출근거!F354 -> 1375 | I8: 제 5호표 | J8: ="_x0007_`COD|D00118_x0005_`QTY1|1_x0005_`BQC|_x0005_`EQC|_x0005_`JDC|_x0005_`WQC|_x0005_`EDT|_x0005_`ADJ|F_x0005_`DET|"&ROW(단가산출근거!A305)&"_x0005_`" -> _x0007_`COD|D00118_x0005_`QTY1|1_x0005_`BQC|_x0005_`EQC|_x0005_`JDC|_x0005_`WQC|_x0005_`EDT|_x0005_`ADJ|F_x0005_`DET|305_x0005_` | K8: =HYPERLINK("#"&단가산출근거!G2&"!A"&ROW(단가산출근거!A305),"산근5 →") -> 산근5 →
A9: 제 6호표 | B9: 스테인레스 강관 용접배관 | C9: D200㎜ | D9: m | E9: =단가산출근거!C404 -> 97209 | F9: =단가산출근거!D404 -> 95303 | G9: =단가산출근거!E404 -> 0 | H9: =단가산출근거!F404 -> 1906 | I9: 제 6호표 | J9: ="_x0007_`COD|D01585_x0005_`QTY1|1_x0005_`BQC|_x0005_`EQC|_x0005_`JDC|_x0005_`WQC|_x0005_`EDT|_x0005_`ADJ|F_x0005_`DET|"&ROW(단가산출근거!A355)&"_x0005_`" -> _x0007_`COD|D01585_x0005_`QTY1|1_x0005_`BQC|_x0005_`EQC|_x0005_`JDC|_x0005_`WQC|_x0005_`EDT|_x0005_`ADJ|F_x0005_`DET|355_x0005_` | K9: =HYPERLINK("#"&단가산출근거!G2&"!A"&ROW(단가산출근거!A355),"산근6 →") -> 산근6 →
A10: 제 7호표 | B10: 스테인레스 강관 용접배관 | C10: D250㎜ | D10: m | E10: =단가산출근거!C454 -> 133662 | F10: =단가산출근거!D454 -> 131042 | G10: =단가산출근거!E454 -> 0 | H10: =단가산출근거!F454 -> 2620 | I10: 제 7호표 | J10: ="_x0007_`COD|D04200_x0005_`QTY1|1_x0005_`BQC|_x0005_`EQC|_x0005_`JDC|_x0005_`WQC|_x0005_`EDT|_x0005_`ADJ|F_x0005_`DET|"&ROW(단가산출근거!A405)&"_x0005_`" -> _x0007_`COD|D04200_x0005_`QTY1|1_x0005_`BQC|_x0005_`EQC|_x0005_`JDC|_x0005_`WQC|_x0005_`EDT|_x0005_`ADJ|F_x0005_`DET|405_x0005_` | K10: =HYPERLINK("#"&단가산출근거!G2&"!A"&ROW(단가산출근거!A405),"산근7 →") -> 산근7 →
A11: 제 8호표 | B11: 합판거푸집 | C11: (6회) | D11: ㎡ | E11: =단가산출근거!C504 -> 48340 | F11: =단가산출근거!D504 -> 34461 | G11: =단가산출근거!E504 -> 13535 | H11: =단가산출근거!F504 -> 344 | I11: 제 8호표 | J11: ="_x0007_`COD|D00362_x0005_`QTY1|1_x0005_`BQC|_x0005_`EQC|도로_x0005_`JDC|_x0005_`WQC|_x0005_`EDT|_x0005_`ADJ|F_x0005_`DET|"&ROW(단가산출근거!A455)&"_x0005_`" -> _x0007_`COD|D00362_x0005_`QTY1|1_x0005_`BQC|_x0005_`EQC|도로_x0005_`JDC|_x0005_`WQC|_x0005_`EDT|_x0005_`ADJ|F_x0005_`DET|455_x0005_` | K11: =HYPERLINK("#"&단가산출근거!G2&"!A"&ROW(단가산출근거!A455),"산근8 →") -> 산근8 →
A12: 제 9호표 | B12: 터파기(인력, 보통토사) | C12: (굴착 인력100%) | D12: ㎥ | E12: =단가산출근거!C554 -> 62811 | F12: =단가산출근거!D554 -> 62811 | G12: =단가산출근거!E554 -> 0 | H12: =단가산출근거!F554 -> 0 | I12: 제 9호표 | J12: ="_x0007_`COD|D04119_x0005_`QTY1|1_x0005_`BQC|_x0005_`EQC|_x0005_`JDC|_x0005_`WQC|_x0005_`EDT|_x0005_`ADJ|F_x0005_`DET|"&ROW(단가산출근거!A505)&"_x0005_`" -> _x0007_`COD|D04119_x0005_`QTY1|1_x0005_`BQC|_x0005_`EQC|_x0005_`JDC|_x0005_`WQC|_x0005_`EDT|_x0005_`ADJ|F_x0005_`DET|505_x0005_` | K12: =HYPERLINK("#"&단가산출근거!G2&"!A"&ROW(단가산출근거!A505),"산근9 →") -> 산근9 →
A13: 제 10호표 | B13: 되메우기 | C13: (인력100%) | D13: ㎥ | E13: =단가산출근거!C604 -> 17206 | F13: =단가산출근거!D604 -> 17206 | G13: =단가산출근거!E604 -> 0 | H13: =단가산출근거!F604 -> 0 | I13: 제 10호표 | J13: ="_x0007_`COD|D03632_x0005_`QTY1|1_x0005_`BQC|_x0005_`EQC|_x0005_`JDC|_x0005_`WQC|_x0005_`EDT|_x0005_`ADJ|F_x0005_`DET|"&ROW(단가산출근거!A555)&"_x0005_`" -> _x0007_`COD|D03632_x0005_`QTY1|1_x0005_`BQC|_x0005_`EQC|_x0005_`JDC|_x0005_`WQC|_x0005_`EDT|_x0005_`ADJ|F_x0005_`DET|555_x0005_` | K13: =HYPERLINK("#"&단가산출근거!G2&"!A"&ROW(단가산출근거!A555),"산근10 →") -> 산근10 →
A14: 제 11호표 | B14: 터파기(인력, 경질토사) | C14: (굴착 인력100%) | D14: ㎥ | E14: =단가산출근거!C654 -> 83748 | F14: =단가산출근거!D654 -> 83748 | G14: =단가산출근거!E654 -> 0 | H14: =단가산출근거!F654 -> 0 | I14: 제 11호표 | J14: ="_x0007_`COD|D04120_x0005_`QTY1|1_x0005_`BQC|_x0005_`EQC|_x0005_`JDC|_x0005_`WQC|_x0005_`EDT|_x0005_`ADJ|F_x0005_`DET|"&ROW(단가산출근거!A605)&"_x0005_`" -> _x0007_`COD|D04120_x0005_`QTY1|1_x0005_`BQC|_x0005_`EQC|_x0005_`JDC|_x0005_`WQC|_x0005_`EDT|_x0005_`ADJ|F_x0005_`DET|605_x0005_` | K14: =HYPERLINK("#"&단가산출근거!G2&"!A"&ROW(단가산출근거!A605),"산근11 →") -> 산근11 →
A15: 제 12호표 | B15: 제초 | C15: 일반잔디구역 | D15: ㎡ | E15: =단가산출근거!C704 -> 776 | F15: =단가산출근거!D704 -> 776 | G15: =단가산출근거!E704 -> 0 | H15: =단가산출근거!F704 -> 0 | I15: 제 12호표 | J15: ="_x0007_`COD|D03779_x0005_`QTY1|1_x0005_`BQC|_x0005_`EQC|_x0005_`JDC|_x0005_`WQC|_x0005_`EDT|_x0005_`ADJ|F_x0005_`DET|"&ROW(단가산출근거!A655)&"_x0005_`" -> _x0007_`COD|D03779_x0005_`QTY1|1_x0005_`BQC|_x0005_`EQC|_x0005_`JDC|_x0005_`WQC|_x0005_`EDT|_x0005_`ADJ|F_x0005_`DET|655_x0005_` | K15: =HYPERLINK("#"&단가산출근거!G2&"!A"&ROW(단가산출근거!A655),"산근12 →") -> 산근12 →
A16: 제 13호표 | B16: 제초 | C16: 지장물지역 | D16: ㎡ | E16: =단가산출근거!C754 -> 1086 | F16: =단가산출근거!D754 -> 1086 | G16: =단가산출근거!E754 -> 0 | H16: =단가산출근거!F754 -> 0 | I16: 제 13호표 | J16: ="_x0007_`COD|D03780_x0005_`QTY1|1_x0005_`BQC|_x0005_`EQC|_x0005_`JDC|_x0005_`WQC|_x0005_`EDT|_x0005_`ADJ|F_x0005_`DET|"&ROW(단가산출근거!A705)&"_x0005_`" -> _x0007_`COD|D03780_x0005_`QTY1|1_x0005_`BQC|_x0005_`EQC|_x0005_`JDC|_x0005_`WQC|_x0005_`EDT|_x0005_`ADJ|F_x0005_`DET|705_x0005_` | K16: =HYPERLINK("#"&단가산출근거!G2&"!A"&ROW(단가산출근거!A705),"산근13 →") -> 산근13 →

Sheet 단가산출근거
A1: 단 가 산 출 근 거 | G1: STmate | Y1: STmate
A2: 공사명 : 2026년도 무인화시설물 유지보수(기계) 연간단가공사(1권역) | G2: =MID(CELL("filename",$A$1),FIND("]",CELL("filename",$A$1))+1,LEN(CELL("filename",$A$1))) -> 단가산출근거
A3: 공 종 | B3: 산 출 내 역 | C3: 합 계 | D3: 노 무 비 | E3: 재 료 비 | F3: 경 비 | Z3: 수량부분 값 수정은 아래의 연두색 부분에
H4: QTY | I4: T | J4: L | K4: M | L4: S | Y4: =HYPERLINK("#'〓 목 차 〓'!B2","목차 →") -> 목차 →
A5: 제 1호표 | B5: 제 1호표 | C5: =C154 -> 178008 | D5: =D154 -> 75948 | E5: =E154 -> 48933 | F5: =F154 -> 53127 | G5: =HYPERLINK("#G"&ROW(G112),"_x0005_`BDCOD|D03653_x0007_`POSS|"&ROW(G7)&"_x0007_`POSE|"&ROW(G112)&"_x0007_`") -> _x0005_`BDCOD|D03653_x0007_`POSS|7_x0007_`POSE|112_x0007_`
B6: 맨홀준설 및 세정(흡입식, 처리비제외, 화성) / ㎥ | M6: D03653
G7: _x0007_
B8: ※ 토목품셈 16-4-2 | G8: _x0007_ '※ 토목품셈 16-4-2 '
G9: _x0007_
B10: 1.하수관준설(흡입식) | G10: _x0007_ '1.하수관준설(흡입식)'
G11: _x0007_
B12: =" E = "&Z12&", f = "&AD12&", q = "&AH12&"" -> E = 0.9, f = 1, q = 7.64 | G12: _x0007_ E = 0.9, f = 1, q = 7.64 | Z12: 0.9 | AA12: = | AB12: =Z12 -> 0.9 | AC12: , | AD12: 1 | AE12: = | AF12: =AD12 -> 1 | AG12: , | AH12: 7.64 | AI12: = | AJ12: =AH12 -> 7.64
G13: _x0007_
B14: =" t1 = "&Z14&" (준비시간) , t4 = "&AD14&" (준설토적하시간) " -> t1 = 20 (준비시간) , t4 = 0 (준설토적하시간) | G14: _x0007_ t1 = 20 '(준비시간)' , t4 = 0 '(준설토적하시간)' | Z14: 20 | AA14: = | AB14: =Z14 -> 20 | AC14: , | AD14: 0 | AE14: = | AF14: =AD14 -> 0
G15: _x0007_
B16: =" t2 = "&Z16&"*q = "&AD16&" (세정/흡입시간 12min/㎥×q) " -> t2 = 12*q = 91.680 (세정/흡입시간 12min/㎥×q) | G16: _x0007_ t2 = 12*q = ' (세정/흡입시간 12min/㎥×q) ' | Z16: 12 | AA16: * | AB16: =AJ12 -> 7.64 | AC16: = | AD16: =TEXT(ROUND(Z16*AJ12,3),"#,0.000") -> 91.680
G17: _x0007_
B18: =" t3 = "&Z18&" (준설토운반시간) " -> t3 = 0 (준설토운반시간) | G18: _x0007_ t3 = 0 '(준설토운반시간)' | Z18: 0 | AA18: = | AB18: =Z18 -> 0
G19: _x0007_
B20: =" Cm = t1+t2+t3+t4 = "&AH20&"" -> Cm = t1+t2+t3+t4 = 111.680 | G20: _x0007_ Cm = t1+t2+t3+t4 = | Z20: =AB14 -> 20 | AA20: + | AB20: =AD16 -> 91.680 | AC20: + | AD20: =AB18 -> 0 | AE20: + | AF20: =AF14 -> 0 | AG20: = | AH20: =TEXT(ROUND(AB14+AD16+AB18+AF14,3),"#,0.000") -> 111.680
G21: _x0007_
B22: =" To = (Cm-t1)/Cm = "&AG22&"" -> To = (Cm-t1)/Cm = 0.821 | G22: _x0007_ To = (Cm-t1)/Cm = | Z22: ( | AA22: =AH20 -> 111.680 | AB22: - | AC22: =AB14 -> 20 | AD22: )/ | AE22: =AH20 -> 111.680 | AF22: = | AG22: =TEXT(ROUND((AH20-AB14)/AH20,3),"#,0.000") -> 0.821
G23: _x0007_
B24: =" Q1 = "&Z24&"*q*f*E/Cm = "&AJ24&" ㎥/Hr " -> Q1 = 60*q*f*E/Cm = 3.694 ㎥/Hr | G24: _x0007_ Q1 = 60*q*f*E/Cm = '㎥/Hr' | Z24: 60 | AA24: * | AB24: =AJ12 -> 7.64 | AC24: * | AD24: =AF12 -> 1 | AE24: * | AF24: =AB12 -> 0.9 | AG24: / | AH24: =AH20 -> 111.680 | AI24: = | AJ24: =TEXT(ROUND(Z24*AJ12*AF12*AB12/AH20,3),"#,0.000") -> 3.694
G25: _x0007_
A26: 중기3L | B26: =" 노 무 비 : "&TEXT(I26,"#,##0"&IF(I26<>INT(I26),".###",""))&" / Q1 = "&TEXT(C26,"#,##0.0")&"" -> 노 무 비 : 59,020 / Q1 = 15,977.2 | C26: =E26+D26+F26 -> 15977.2 | D26: =IF(H26=0,0,ROUNDDOWN(J26*H26,1)) -> 15977.2 | E26: =IF(H26=0,0,ROUNDDOWN(K26*H26,1)) -> 0 | F26: =IF(H26=0,0,ROUNDDOWN(L26*H26,1)) -> 0 | G26: _x0007_ '노 무 비 : '&X00114L& / Q1 = | H26: =ROUNDUP(AC26,14-LEN(ABS(INT(AC26)))) -> 0.27070926 | I26: =K26+J26+L26 -> 59020 | J26: =중기목록표!F6 -> 59020 | M26: X00114_1 | N26: T1_1 | X26: =중기목록표!B6&" / "&중기목록표!C6 -> 진공흡입 준설차 / 25톤(7.64㎥적) | Y26: =HYPERLINK("#"&중기목록표!J2&"!A"&ROW(중기목록표!A6),"중기3 →") -> 중기3 → | Z26: 1/ | AA26: =AJ24 -> 3.694 | AB26: = | AC26: =1/AJ24 -> 0.27070926
G27: _x0007_
A28: 중기3M | B28: =" 재 료 비 : "&TEXT(I28,"#,##0"&IF(I28<>INT(I28),".###",""))&" / Q1 * To= "&TEXT(C28,"#,##0.0")&"" -> 재 료 비 : 70,208 / Q1 * To= 15,603.8 | C28: =E28+D28+F28 -> 15603.8 | D28: =IF(H28=0,0,ROUNDDOWN(J28*H28,1)) -> 0 | E28: =IF(H28=0,0,ROUNDDOWN(K28*H28,1)) -> 15603.8 | F28: =IF(H28=0,0,ROUNDDOWN(L28*H28,1)) -> 0 | G28: _x0007_ '재 료 비 : '&X00114M& / Q1 * To= | H28: =ROUNDUP(AE28,14-LEN(ABS(INT(AE28)))) -> 0.2222523 | I28: =K28+J28+L28 -> 70208 | K28: =중기목록표!G6 -> 70208 | M28: X00114_1 | N28: T1_1 | X28: =중기목록표!B6&" / "&중기목록표!C6 -> 진공흡입 준설차 / 25톤(7.64㎥적) | Y28: =HYPERLINK("#"&중기목록표!J2&"!A"&ROW(중기목록표!A6),"중기3 →") -> 중기3 → | Z28: 1/ | AA28: =AJ24 -> 3.694 | AB28: * | AC28: =AG22 -> 0.821 | AD28: = | AE28: =1/AJ24*AG22 -> 0.2222523
G29: _x0007_
A30: 중기3S | B30: =" 경 비 : "&TEXT(I30,"#,##0"&IF(I30<>INT(I30),".###",""))&" / Q1 = "&TEXT(C30,"#,##0.0")&"" -> 경 비 : 73,035 / Q1 = 19,771.2 | C30: =E30+D30+F30 -> 19771.2 | D30: =IF(H30=0,0,ROUNDDOWN(J30*H30,1)) -> 0 | E30: =IF(H30=0,0,ROUNDDOWN(K30*H30,1)) -> 0 | F30: =IF(H30=0,0,ROUNDDOWN(L30*H30,1)) -> 19771.2 | G30: _x0007_ '경 비 : '&X00114S& / Q1 = | H30: =ROUNDUP(AC30,14-LEN(ABS(INT(AC30)))) -> 0.27070926 | I30: =K30+J30+L30 -> 73035 | L30: =중기목록표!H6 -> 73035 | M30: X00114_1 | N30: T1_1 | X30: =중기목록표!B6&" / "&중기목록표!C6 -> 진공흡입 준설차 / 25톤(7.64㎥적) | Y30: =HYPERLINK("#"&중기목록표!J2&"!A"&ROW(중기목록표!A6),"중기3 →") -> 중기3 → | Z30: 1/ | AA30: =AJ24 -> 3.694 | AB30: = | AC30: =1/AJ24 -> 0.27070926
G31: _x0007_
B32: 소계 | C32: =E32+D32+F32 -> 51352.2 | D32: =SUMIF(N7:N31,M32,D7:D31) -> 15977.2 | E32: =SUMIF(N7:N31,M32,E7:E31) -> 15603.8 | F32: =SUMIF(N7:N31,M32,F7:F31) -> 19771.2 | G32: _x0007_ (=) | M32: T1_1 | N32: T2_1
G33: _x0007_
B34: 2.준설토운반(처인구청~화성시 송산면:66km) | G34: _x0007_ '2.준설토운반(처인구청~화성시 송산면:66km)'
G35: _x0007_
B36: =" E = "&Z36&", f = "&AD36&", q = "&AH36&", L = "&AL36&" km ," -> E = 0.9, f = 1, q = 7.64, L = 66 km , | G36: _x0007_ E = 0.9, f = 1, q = 7.64, L = 66 'km' , | Z36: 0.9 | AA36: = | AB36: =Z36 -> 0.9 | AC36: , | AD36: 1 | AE36: = | AF36: =AD36 -> 1 | AG36: , | AH36: 7.64 | AI36: = | AJ36: =AH36 -> 7.64 | AK36: , | AL36: 66 | AM36: = | AN36: =AL36 -> 66 | AO36: ,
G37: _x0007_
B38: =" t1 = "&Z38&" (준비시간) , t2 = "&AD38&" (세정/흡입시간) " -> t1 = 0 (준비시간) , t2 = 0 (세정/흡입시간) | G38: _x0007_ t1 = 0 '(준비시간)' , t2 = 0 '(세정/흡입시간)' | Z38: 0 | AA38: = | AB38: =Z38 -> 0 | AC38: , | AD38: 0 | AE38: = | AF38: =AD38 -> 0
G39: _x0007_
B40: =" t3 = (L/"&AC40&"*"&AE40&"+"&AG40&"/"&AI40&"*"&AK40&")*"&AM40&" = "&AO40&"" -> t3 = (L/50*2+0.1/10*2)*60 = 159.600 | G40: _x0007_ t3 = (L/50*2+0.1/10*2)*60 = | Z40: ( | AA40: =AN36 -> 66 | AB40: / | AC40: 50 | AD40: * | AE40: 2 | AF40: + | AG40: 0.1 | AH40: / | AI40: 10 | AJ40: * | AK40: 2 | AL40: )* | AM40: 60 | AN40: = | AO40: =TEXT(ROUND((AN36/AC40*AE40+AG40/AI40*AK40)*AM40,3),"#,0.000") -> 159.600
G41: _x0007_
B42: =" t4 = "&Z42&" (준설토적하시간) " -> t4 = 18 (준설토적하시간) | G42: _x0007_ t4 = 18 '(준설토적하시간)' | Z42: 18 | AA42: = | AB42: =Z42 -> 18
G43: _x0007_
B44: =" Cm = t1+t2+t3+t4 = "&AH44&"" -> Cm = t1+t2+t3+t4 = 177.600 | G44: _x0007_ Cm = t1+t2+t3+t4 = | Z44: =AB38 -> 0 | AA44: + | AB44: =AF38 -> 0 | AC44: + | AD44: =AO40 -> 159.600 | AE44: + | AF44: =AB42 -> 18 | AG44: = | AH44: =TEXT(ROUND(AB38+AF38+AO40+AB42,3),"#,0.000") -> 177.600
G45: _x0007_
B46: =" Q2 = "&Z46&"*q*f*E/Cm = "&AJ46&" ㎥/Hr " -> Q2 = 60*q*f*E/Cm = 2.323 ㎥/Hr | G46: _x0007_ Q2 = 60*q*f*E/Cm = '㎥/Hr' | Z46: 60 | AA46: * | AB46: =AJ36 -> 7.64 | AC46: * | AD46: =AF36 -> 1 | AE46: * | AF46: =AB36 -> 0.9 | AG46: / | AH46: =AH44 -> 177.600 | AI46: = | AJ46: =TEXT(ROUND(Z46*AJ36*AF36*AB36/AH44,3),"#,0.000") -> 2.323
G47: _x0007_
G48: _x0007_
A49: 중기3L | B49: =" 노 무 비 : "&TEXT(I49,"#,##0"&IF(I49<>INT(I49),".###",""))&" / Q2 = "&TEXT(C49,"#,##0.0")&"" -> 노 무 비 : 59,020 / Q2 = 25,406.8 | C49: =E49+D49+F49 -> 25406.8 | D49: =IF(H49=0,0,ROUNDDOWN(J49*H49,1)) -> 25406.8 | E49: =IF(H49=0,0,ROUNDDOWN(K49*H49,1)) -> 0 | F49: =IF(H49=0,0,ROUNDDOWN(L49*H49,1)) -> 0 | G49: _x0007_ '노 무 비 : '&X00114L& / Q2 = | H49: =ROUNDUP(AC49,14-LEN(ABS(INT(AC49)))) -> 0.43047783 | I49: =K49+J49+L49 -> 59020 | J49: =중기목록표!F6 -> 59020 | M49: X00114_1 | N49: T1_1 | X49: =중기목록표!B6&" / "&중기목록표!C6 -> 진공흡입 준설차 / 25톤(7.64㎥적) | Y49: =HYPERLINK("#"&중기목록표!J2&"!A"&ROW(중기목록표!A6),"중기3 →") -> 중기3 → | Z49: 1/ | AA49: =AJ46 -> 2.323 | AB49: = | AC49: =1/AJ46 -> 0.43047783
G50: _x0007_
A51: 중기3M | B51: =" 재 료 비 : "&TEXT(I51,"#,##0"&IF(I51<>INT(I51),".###",""))&" / Q2 = "&TEXT(C51,"#,##0.0")&"" -> 재 료 비 : 70,208 / Q2 = 30,222.9 | C51: =E51+D51+F51 -> 30222.9 | D51: =IF(H51=0,0,ROUNDDOWN(J51*H51,1)) -> 0 | E51: =IF(H51=0,0,ROUNDDOWN(K51*H51,1)) -> 30222.9 | F51: =IF(H51=0,0,ROUNDDOWN(L51*H51,1)) -> 0 | G51: _x0007_ '재 료 비 : '&X00114M& / Q2 = | H51: =ROUNDUP(AC51,14-LEN(ABS(INT(AC51)))) -> 0.43047783 | I51: =K51+J51+L51 -> 70208 | K51: =중기목록표!G6 -> 70208 | M51: X00114_1 | N51: T1_1 | X51: =중기목록표!B6&" / "&중기목록표!C6 -> 진공흡입 준설차 / 25톤(7.64㎥적) | Y51: =HYPERLINK("#"&중기목록표!J2&"!A"&ROW(중기목록표!A6),"중기3 →") -> 중기3 → | Z51: 1/ | AA51: =AJ46 -> 2.323 | AB51: = | AC51: =1/AJ46 -> 0.43047783
G52: _x0007_
A53: 중기3S | B53: =" 경 비 : "&TEXT(I53,"#,##0"&IF(I53<>INT(I53),".###",""))&" / Q2 = "&TEXT(C53,"#,##0.0")&"" -> 경 비 : 73,035 / Q2 = 31,439.9 | C53: =E53+D53+F53 -> 31439.9 | D53: =IF(H53=0,0,ROUNDDOWN(J53*H53,1)) -> 0 | E53: =IF(H53=0,0,ROUNDDOWN(K53*H53,1)) -> 0 | F53: =IF(H53=0,0,ROUNDDOWN(L53*H53,1)) -> 31439.9 | G53: _x0007_ '경 비 : '&X00114S& / Q2 = | H53: =ROUNDUP(AC53,14-LEN(ABS(INT(AC53)))) -> 0.43047783 | I53: =K53+J53+L53 -> 73035 | L53: =중기목록표!H6 -> 73035 | M53: X00114_1 | N53: T1_1 | X53: =중기목록표!B6&" / "&중기목록표!C6 -> 진공흡입 준설차 / 25톤(7.64㎥적) | Y53: =HYPERLINK("#"&중기목록표!J2&"!A"&ROW(중기목록표!A6),"중기3 →") -> 중기3 → | Z53: 1/ | AA53: =AJ46 -> 2.323 | AB53: = | AC53: =1/AJ46 -> 0.43047783
G54: _x0007_
B55: 소계 | C55: =E55+D55+F55 -> 87069.6 | D55: =SUMIF(N33:N54,M55,D33:D54) -> 25406.8 | E55: =SUMIF(N33:N54,M55,E33:E54) -> 30222.9 | F55: =SUMIF(N33:N54,M55,F33:F54) -> 31439.9 | G55: _x0007_(=) | M55: T1_1 | N55: T2_1
G56: _x0007_
B57: 3.물공급(물탱크 5,500ℓ) | G57: _x0007_' 3.물공급(물탱크 5,500ℓ) '
G58: _x0007_
B59: =" q = "&Z59&", f = "&AD59&", E = "&AH59&", L="&AL59&" km " -> q = 5.5, f = 1, E = 0.9, L=5 km | G59: _x0007_ q = 5.5, f = 1, E = 0.9, L=5 'km' | Z59: 5.5 | AA59: = | AB59: =Z59 -> 5.5 | AC59: , | AD59: 1 | AE59: = | AF59: =AD59 -> 1 | AG59: , | AH59: 0.9 | AI59: = | AJ59: =AH59 -> 0.9 | AK59: , | AL59: 5 | AM59: = | AN59: =AL59 -> 5
G60: _x0007_
B61: =" t1 = "&Z61&" (급수시간) , t3 = "&AD61&" (세정수공급시간) " -> t1 = 15 (급수시간) , t3 = 15 (세정수공급시간) | G61: _x0007_ t1 = 15 '(급수시간)' , t3 = 15 '(세정수공급시간)' | Z61: 15 | AA61: = | AB61: =Z61 -> 15 | AC61: , | AD61: 15 | AE61: = | AF61: =AD61 -> 15
G62: _x0007_
B63: =" t2 = (L/"&AC63&"+L/"&AG63&")*"&AI63&" = "&AK63&"" -> t2 = (L/20+L/25)*60 = 27.000 | G63: _x0007_ t2 = (L/20+L/25)*60 = | Z63: ( | AA63: =AN59 -> 5 | AB63: / | AC63: 20 | AD63: + | AE63: =AN59 -> 5 | AF63: / | AG63: 25 | AH63: )* | AI63: 60 | AJ63: = | AK63: =TEXT(ROUND((AN59/AC63+AN59/AG63)*AI63,3),"#,0.000") -> 27.000
G64: _x0007_
B65: =" Cm = t1+t2+t3 = "&AF65&"" -> Cm = t1+t2+t3 = 57.000 | G65: _x0007_ Cm = t1+t2+t3 = | Z65: =AB61 -> 15 | AA65: + | AB65: =AK63 -> 27.000 | AC65: + | AD65: =AF61 -> 15 | AE65: = | AF65: =TEXT(ROUND(AB61+AK63+AF61,3),"#,0.000") -> 57.000
G66: _x0007_
B67: =" To = (Cm-t1)/Cm = "&AG67&"" -> To = (Cm-t1)/Cm = 0.737 | G67: _x0007_ To = (Cm-t1)/Cm = | Z67: ( | AA67: =AF65 -> 57.000 | AB67: - | AC67: =AB61 -> 15 | AD67: )/ | AE67: =AF65 -> 57.000 | AF67: = | AG67: =TEXT(ROUND((AF65-AB61)/AF65,3),"#,0.000") -> 0.737
G68: _x0007_
B69: =" Q = "&Z69&"*q*f*E/Cm = "&AJ69&" ㎥/Hr " -> Q = 60*q*f*E/Cm = 5.211 ㎥/Hr | G69: _x0007_ Q = 60*q*f*E/Cm = '㎥/Hr' | Z69: 60 | AA69: * | AB69: =AB59 -> 5.5 | AC69: * | AD69: =AF59 -> 1 | AE69: * | AF69: =AJ59 -> 0.9 | AG69: / | AH69: =AF65 -> 57.000 | AI69: = | AJ69: =TEXT(ROUND(Z69*AB59*AF59*AJ59/AF65,3),"#,0.000") -> 5.211
G70: _x0007_
A71: 중기2L | B71: =" 노 무 비 : "&TEXT(I71,"#,##0"&IF(I71<>INT(I71),".###",""))&" / Q = "&TEXT(C71,"#,##0.0")&"" -> 노 무 비 : 49,778 / Q = 9,552.4 | C71: =E71+D71+F71 -> 9552.4 | D71: =IF(H71=0,0,ROUNDDOWN(J71*H71,1)) -> 9552.4 | E71: =IF(H71=0,0,ROUNDDOWN(K71*H71,1)) -> 0 | F71: =IF(H71=0,0,ROUNDDOWN(L71*H71,1)) -> 0 | G71: _x0007_'노 무 비 : '&X00051L& / Q = | H71: =ROUNDUP(AC71,14-LEN(ABS(INT(AC71)))) -> 0.19190175 | I71: =K71+J71+L71 -> 49778 | J71: =중기목록표!F5 -> 49778 | M71: X00051_1 | N71: T1_1 | X71: =중기목록표!B5&" / "&중기목록표!C5 -> 물탱크(살수차) / 5500ℓ | Y71: =HYPERLINK("#"&중기목록표!J2&"!A"&ROW(중기목록표!A5),"중기2 →") -> 중기2 → | Z71: 1/ | AA71: =AJ69 -> 5.211 | AB71: = | AC71: =1/AJ69 -> 0.19190175
G72: _x0007_
A73: 중기2M | B73: =" 재 료 비 : "&TEXT(I73,"#,##0"&IF(I73<>INT(I73),".###",""))&" / Q * To= "&TEXT(C73,"#,##0.0")&"" -> 재 료 비 : 21,967 / Q * To= 3,106.8 | C73: =E73+D73+F73 -> 3106.8 | D73: =IF(H73=0,0,ROUNDDOWN(J73*H73,1)) -> 0 | E73: =IF(H73=0,0,ROUNDDOWN(K73*H73,1)) -> 3106.8 | F73: =IF(H73=0,0,ROUNDDOWN(L73*H73,1)) -> 0 | G73: _x0007_'재 료 비 : '&X00051M& / Q * To= | H73: =ROUNDUP(AE73,14-LEN(ABS(INT(AE73)))) -> 0.14143159 | I73: =K73+J73+L73 -> 21967 | K73: =중기목록표!G5 -> 21967 | M73: X00051_1 | N73: T1_1 | X73: =중기목록표!B5&" / "&중기목록표!C5 -> 물탱크(살수차) / 5500ℓ | Y73: =HYPERLINK("#"&중기목록표!J2&"!A"&ROW(중기목록표!A5),"중기2 →") -> 중기2 → | Z73: 1/ | AA73: =AJ69 -> 5.211 | AB73: * | AC73: =AG67 -> 0.737 | AD73: = | AE73: =1/AJ69*AG67 -> 0.14143159
G74: _x0007_
A75: 중기2S | B75: =" 경 비 : "&TEXT(I75,"#,##0"&IF(I75<>INT(I75),".###",""))&" / Q = "&TEXT(C75,"#,##0.0")&"" -> 경 비 : 9,986 / Q = 1,916.3 | C75: =E75+D75+F75 -> 1916.3 | D75: =IF(H75=0,0,ROUNDDOWN(J75*H75,1)) -> 0 | E75: =IF(H75=0,0,ROUNDDOWN(K75*H75,1)) -> 0 | F75: =IF(H75=0,0,ROUNDDOWN(L75*H75,1)) -> 1916.3 | G75: _x0007_'경 비 : '&X00051S& / Q = | H75: =ROUNDUP(AC75,14-LEN(ABS(INT(AC75)))) -> 0.19190175 | I75: =K75+J75+L75 -> 9986 | L75: =중기목록표!H5 -> 9986 | M75: X00051_1 | N75: T1_1 | X75: =중기목록표!B5&" / "&중기목록표!C5 -> 물탱크(살수차) / 5500ℓ | Y75: =HYPERLINK("#"&중기목록표!J2&"!A"&ROW(중기목록표!A5),"중기2 →") -> 중기2 → | Z75: 1/ | AA75: =AJ69 -> 5.211 | AB75: = | AC75: =1/AJ69 -> 0.19190175
G76: _x0007_
B77: 소계 | C77: =E77+D77+F77 -> 14575.5 | D77: =SUMIF(N56:N76,M77,D56:D76) -> 9552.4 | E77: =SUMIF(N56:N76,M77,E56:E76) -> 3106.8 | F77: =SUMIF(N56:N76,M77,F56:F76) -> 1916.3 | G77: _x0007_(=) | M77: T1_1 | N77: T2_1
G78: _x0007_
B79: 4.작업편성 | G79: _x0007_ '4.작업편성 '
G80: _x0007_
B81: =" Q = "&Z81&" * "&AB81&" = "&AD81&" ㎥/일 " -> Q = 3.69 * 8 = 29.520 ㎥/일 | G81: _x0007_ Q = 3.69 * 8 = '㎥/일' | Z81: 3.69 | AA81: * | AB81: 8 | AC81: = | AD81: =TEXT(ROUND(Z81*AB81,3),"#,0.000") -> 29.520
G82: _x0007_
A83: 노무17 | B83: =" 특별인부 : "&TEXT(I83,"#,##0"&IF(I83<>INT(I83),".###",""))&" * "&AA83&" 인 / Q= "&TEXT(C83,"#,##0.0")&"" -> 특별인부 : 226,122 * 2.2 인 / Q= 16,851.9 | C83: =E83+D83+F83 -> 16851.9 | D83: =IF(H83=0,0,ROUNDDOWN(J83*H83,1)) -> 16851.9 | E83: =IF(H83=0,0,ROUNDDOWN(K83*H83,1)) -> 0 | F83: =IF(H83=0,0,ROUNDDOWN(L83*H83,1)) -> 0 | G83: _x0007_ '특별인부 :'&L00079& * 2.2'인' / Q= | H83: =ROUNDUP(AE83,14-LEN(ABS(INT(AE83)))) -> 0.074525745 | I83: =K83+J83+L83 -> 226122 | J83: =노무비목록표!E20 -> 226122 | M83: L00079_1 | N83: T1_1 | X83: =노무비목록표!B20&" / "&노무비목록표!C20 -> 특별인부 / | Y83: =HYPERLINK("#"&노무비목록표!G2&"!A"&ROW(노무비목록표!A20),"노무17 →") -> 노무17 → | Z83: 1* | AA83: 2.2 | AB83: / | AC83: =AD81 -> 29.520 | AD83: = | AE83: =1*AA83/AD81 -> 0.074525745
G84: _x0007_
A85: 노무9 | B85: =" 보통인부 : "&TEXT(I85,"#,##0"&IF(I85<>INT(I85),".###",""))&" * "&AA85&" 인 /Q = "&TEXT(C85,"#,##0.0")&"" -> 보통인부 : 172,068 * 1.4 인 /Q = 8,160.4 | C85: =E85+D85+F85 -> 8160.4 | D85: =IF(H85=0,0,ROUNDDOWN(J85*H85,1)) -> 8160.4 | E85: =IF(H85=0,0,ROUNDDOWN(K85*H85,1)) -> 0 | F85: =IF(H85=0,0,ROUNDDOWN(L85*H85,1)) -> 0 | G85: _x0007_ '보통인부 :'&L00001& * 1.4'인'/Q = | H85: =ROUNDUP(AE85,14-LEN(ABS(INT(AE85)))) -> 0.047425474 | I85: =K85+J85+L85 -> 172068 | J85: =노무비목록표!E12 -> 172068 | M85: L00001_1 | N85: T1_1 | X85: =노무비목록표!B12&" / "&노무비목록표!C12 -> 보통인부 / | Y85: =HYPERLINK("#"&노무비목록표!G2&"!A"&ROW(노무비목록표!A12),"노무9 →") -> 노무9 → | Z85: 1* | AA85: 1.4 | AB85: / | AC85: =AD81 -> 29.520 | AD85: = | AE85: =1*AA85/AD81 -> 0.047425474
G86: _x0007_
B87: 소계 | C87: =E87+D87+F87 -> 25012.3 | D87: =SUMIF(N78:N86,M87,D78:D86) -> 25012.3 | E87: =SUMIF(N78:N86,M87,E78:E86) -> 0 | F87: =SUMIF(N78:N86,M87,F78:F86) -> 0 | G87: _x0007_(=) | M87: T1_1 | N87: T2_1
B88: 계 | C88: =E88+D88+F88 -> 178009.6 | D88: =SUMIF(N7:N87,M88,D7:D87) -> 75948.7 | E88: =SUMIF(N7:N87,M88,E7:E87) -> 48933.5 | F88: =SUMIF(N7:N87,M88,F7:F87) -> 53127.4 | G88: _x0007_(==) | M88: T2_1 | N88: T7_1
G89: _x0007_
G90: _x0007_
G91: _x0007_
G92: _x0007_
G93: _x0007_
G94: _x0007_
G95: _x0007_
G96: _x0007_
G97: _x0007_
G98: _x0007_
G99: _x0007_
G100: _x0007_
...

Sheet 환율및기초자료
A1: 1. 환 율 | I1: STmate | J1: STmate
C2: 100,000$ 미만 | D2: 100,000$ 이상 | E2: 유로화(€) | G2: 엔화(100￥) | I2: =MID(CELL("filename",$A$1),FIND("]",CELL("filename",$A$1))+1,LEN(CELL("filename",$A$1))) -> 환율및기초자료
C3: 1507 | D3: 1507 | E3: 1717.96 | G3: 952
A5: 2. 인 건 비
C6: 건설기계운전사 | D6: =노무비목록표!E4 -> 283297 | E6: * 1/8 * 16/12 * 25/20 = | G6: =ROUNDDOWN(D6*0.20833333334,1) -> 59020.2 | H6: 노무1 | J6: =HYPERLINK("#"&노무비목록표!G2&"!A"&ROW(노무비목록표!A4),"노무1 →") -> 노무1 →
C7: 화물차운전사 | D7: =노무비목록표!E24 -> 238936 | E7: * 1/8 * 16/12 * 25/20 = | G7: =ROUNDDOWN(D7*0.20833333334,1) -> 49778.3 | H7: 노무21 | J7: =HYPERLINK("#"&노무비목록표!G2&"!A"&ROW(노무비목록표!A24),"노무21 →") -> 노무21 →
A9: 3. 단가 및 재료비
B10: NO | C10: 단 가 명 | D10: 규 격 | E10: 단위 | F10: 가 격 | H10: 비 고
B11: 1 | C11: 건설기계운전사 | E11: 인 | F11: =노무비목록표!E4 -> 283297 | H11: 노무1 | J11: =HYPERLINK("#"&노무비목록표!G2&"!A"&ROW(노무비목록표!A4),"노무1 →") -> 노무1 →
B12: 2 | C12: 화물차운전사 | E12: 인 | F12: =노무비목록표!E24 -> 238936 | H12: 노무21 | J12: =HYPERLINK("#"&노무비목록표!G2&"!A"&ROW(노무비목록표!A24),"노무21 →") -> 노무21 →
B13: 3 | C13: 경유 | D13: 저유황 | E13: L | F13: =재료비목록표!E13 -> 1817 | H13: 자재10 | J13: =HYPERLINK("#"&재료비목록표!G2&"!A"&ROW(재료비목록표!A13),"자재10 →") -> 자재10 →

Sheet 중기목록표
A1: 중기 목록표 | J1: STmate | K1: STmate
A2: 공사명 : 2026년도 무인화시설물 유지보수(기계) 연간단가공사(1권역) | J2: =MID(CELL("filename",$A$1),FIND("]",CELL("filename",$A$1))+1,LEN(CELL("filename",$A$1))) -> 중기목록표
A3: 호표 | B3: 명 칭 | C3: 규 격 | D3: 단위 | E3: 합 계 | F3: 노 무 비 | G3: 재 료 비 | H3: 경 비 | I3: 비 고 | K3: =HYPERLINK("#'〓 목 차 〓'!B2","목차 →") -> 목차 →
A4: 제 1호표 | B4: 굴착기(무한궤도) | C4: 0.4㎥ | D4: 시간 | E4: =중기사용료!F11 -> 98479 | F4: =중기사용료!H11 -> 59020 | G4: =중기사용료!J11 -> 21945 | H4: =중기사용료!L11 -> 17514 | I4: 중기1 | J4: ="_x0007_`COD|X00108_x0005_`QTY1|1_x0005_`BQC|_x0005_`EQC|03020100400_x0005_`JDC|00000201004000000_x0005_`WQC|_x0005_`EDT|2026_x0005_`ADJ|F_x0005_`RXX|0_x0005_`DET|"&ROW(중기사용료!A6)&"_x0005_`" -> _x0007_`COD|X00108_x0005_`QTY1|1_x0005_`BQC|_x0005_`EQC|03020100400_x0005_`JDC|00000201004000000_x0005_`WQC|_x0005_`EDT|2026_x0005_`ADJ|F_x0005_`RXX|0_x0005_`DET|6_x0005_` | K4: =HYPERLINK("#"&중기사용료!N2&"!A"&ROW(중기사용료!A6),"중기1 →") -> 중기1 →
A5: 제 2호표 | B5: 물탱크(살수차) | C5: 5500ℓ | D5: 시간 | E5: =중기사용료!F18 -> 81731 | F5: =중기사용료!H18 -> 49778 | G5: =중기사용료!J18 -> 21967 | H5: =중기사용료!L18 -> 9986 | I5: 중기2 | J5: ="_x0007_`COD|X00051_x0005_`QTY1|1_x0005_`BQC|_x0005_`EQC|03720400550_x0005_`JDC|00007204005500000_x0005_`WQC|_x0005_`EDT|2026_x0005_`ADJ|F_x0005_`RXX|0_x0005_`DET|"&ROW(중기사용료!A13)&"_x0005_`" -> _x0007_`COD|X00051_x0005_`QTY1|1_x0005_`BQC|_x0005_`EQC|03720400550_x0005_`JDC|00007204005500000_x0005_`WQC|_x0005_`EDT|2026_x0005_`ADJ|F_x0005_`RXX|0_x0005_`DET|13_x0005_` | K5: =HYPERLINK("#"&중기사용료!N2&"!A"&ROW(중기사용료!A13),"중기2 →") -> 중기2 →
A6: 제 3호표 | B6: 진공흡입 준설차 | C6: 25톤(7.64㎥적) | D6: 시간 | E6: =중기사용료!F25 -> 202263 | F6: =중기사용료!H25 -> 59020 | G6: =중기사용료!J25 -> 70208 | H6: =중기사용료!L25 -> 73035 | I6: 중기3 | J6: ="_x0007_`COD|X00114_x0005_`QTY1|1_x0005_`BQC|08하' 신규_x0005_`EQC|03711000250_x0005_`JDC|00007110002500000_x0005_`WQC|_x0005_`EDT|2026_x0005_`ADJ|F_x0005_`RXX|0_x0005_`DET|"&ROW(중기사용료!A20)&"_x0005_`" -> _x0007_`COD|X00114_x0005_`QTY1|1_x0005_`BQC|08하' 신규_x0005_`EQC|03711000250_x0005_`JDC|00007110002500000_x0005_`WQC|_x0005_`EDT|2026_x0005_`ADJ|F_x0005_`RXX|0_x0005_`DET|20_x0005_` | K6: =HYPERLINK("#"&중기사용료!N2&"!A"&ROW(중기사용료!A20),"중기3 →") -> 중기3 →
A7: 제 4호표 | B7: 코아드릴 | C7: 15.24cm | D7: 시간 | E7: =중기사용료!F29 -> 472 | F7: =중기사용료!H29 -> 0 | G7: =중기사용료!J29 -> 0 | H7: =중기사용료!L29 -> 472 | I7: 중기4 | J7: ="_x0007_`COD|X00127_x0005_`QTY1|1_x0005_`BQC|_x0005_`EQC|03590100060_x0005_`JDC|00005901000600000_x0005_`WQC|_x0005_`EDT|2026_x0005_`ADJ|F_x0005_`RXX|0_x0005_`DET|"&ROW(중기사용료!A27)&"_x0005_`" -> _x0007_`COD|X00127_x0005_`QTY1|1_x0005_`BQC|_x0005_`EQC|03590100060_x0005_`JDC|00005901000600000_x0005_`WQC|_x0005_`EDT|2026_x0005_`ADJ|F_x0005_`RXX|0_x0005_`DET|27_x0005_` | K7: =HYPERLINK("#"&중기사용료!N2&"!A"&ROW(중기사용료!A27),"중기4 →") -> 중기4 →
A8: 제 5호표 | B8: 크레인(타이어) | C8: 10톤 | D8: 시간 | E8: =중기사용료!F36 -> 99961 | F8: =중기사용료!H36 -> 59020 | G8: =중기사용료!J36 -> 9597 | H8: =중기사용료!L36 -> 31344 | I8: 중기5 | J8: ="_x0007_`COD|X00031_x0005_`QTY1|1_x0005_`BQC|_x0005_`EQC|03210400100_x0005_`JDC|00002104001000000_x0005_`WQC|_x0005_`EDT|2026_x0005_`ADJ|F_x0005_`RXX|0_x0005_`DET|"&ROW(중기사용료!A31)&"_x0005_`" -> _x0007_`COD|X00031_x0005_`QTY1|1_x0005_`BQC|_x0005_`EQC|03210400100_x0005_`JDC|00002104001000000_x0005_`WQC|_x0005_`EDT|2026_x0005_`ADJ|F_x0005_`RXX|0_x0005_`DET|31_x0005_` | K8: =HYPERLINK("#"&중기사용료!N2&"!A"&ROW(중기사용료!A31),"중기5 →") -> 중기5 →

Sheet 중기사용료
A1: 중 기 사 용 료 | N1: STmate | Z1: STmate
A2: 공사명 : 2026년도 무인화시설물 유지보수(기계) 연간단가공사(1권역) | N2: =MID(CELL("filename",$A$1),FIND("]",CELL("filename",$A$1))+1,LEN(CELL("filename",$A$1))) -> 중기사용료
A3: 명 칭 | B3: 규 격 | C3: 수 량 | D3: 단위 | E3: 합 계 | G3: 노 무 비 | I3: 재 료 비 | K3: 경 비 | M3: 비 고
E4: 단 가 | F4: 금 액 | G4: 단 가 | H4: 금 액 | I4: 단 가 | J4: 금 액 | K4: 단 가 | L4: 금 액 | Z4: =HYPERLINK("#'〓 목 차 〓'!B2","목차 →") -> 목차 →
A6: 제 1 호표 굴착기(무한궤도) 0.4㎥ / 시간 | M6: 중기1 | N6: =HYPERLINK("#N"&ROW(N10),"_x0005_`BDCOD|X00108_x0007_`POSS|"&ROW(N7)&"_x0007_`POSE|"&ROW(N10)&"_x0007_`") -> _x0005_`BDCOD|X00108_x0007_`POSS|7_x0007_`POSE|10_x0007_` | O6: X00108
A7: 굴착기(무한궤도) | B7: 0.4㎥ | C7: 0.2085 | D7: 천원 | E7: =I7+G7+K7 -> 84000 | F7: =J7+H7+L7 -> 17514 | G7: 0 | H7: =IF(C7=0,0,ROUNDDOWN(G7*C7,1)) -> 0 | I7: 0 | J7: =IF(C7=0,0,ROUNDDOWN(I7*C7,1)) -> 0 | K7: =경비목록표!E4 -> 84000 | L7: =IF(C7=0,0,ROUNDDOWN(K7*C7,1)) -> 17514 | M7: 경비1 | N7: _x0007_`COD|S00125_x0005_`EXI|0_x0005_`DVD|F_x0005_`BMK| _x0005_`IPR|0_x0005_`BLA|F_x0005_` | O7: S00125_1 | P7: T7_1 | Z7: =HYPERLINK("#"&경비목록표!G2&"!A"&ROW(경비목록표!A4),"경비1 →") -> 경비1 →
A8: 건설기계운전사 | C8: 1 | D8: 인 | E8: =I8+G8+K8 -> 59020.2 | F8: =J8+H8+L8 -> 59020.2 | G8: =환율및기초자료!G6 -> 59020.2 | H8: =IF(C8=0,0,ROUNDDOWN(G8*C8,1)) -> 59020.2 | I8: 0 | J8: =IF(C8=0,0,ROUNDDOWN(I8*C8,1)) -> 0 | K8: 0 | L8: =IF(C8=0,0,ROUNDDOWN(K8*C8,1)) -> 0 | M8: 노무1 | N8: _x0007_`COD|L00082_x0005_`EXI|0_x0005_`DVD|F_x0005_`BMK| _x0005_`IPR|0_x0005_`BLA|F_x0005_` | O8: L00082_1 | P8: T7_1 | Z8: =HYPERLINK("#"&환율및기초자료!I2&"!A"&ROW(환율및기초자료!A6),"노무1 →") -> 노무1 →
A9: 경유 | B9: 저유황 | C9: 9.9 | D9: L | E9: =I9+G9+K9 -> 1817 | F9: =J9+H9+L9 -> 17988.3 | G9: 0 | H9: =IF(C9=0,0,ROUNDDOWN(G9*C9,1)) -> 0 | I9: =재료비목록표!E13 -> 1817 | J9: =IF(C9=0,0,ROUNDDOWN(I9*C9,1)) -> 17988.3 | K9: 0 | L9: =IF(C9=0,0,ROUNDDOWN(K9*C9,1)) -> 0 | M9: 자재10 | N9: _x0007_`COD|M00258_x0005_`EXI|0_x0005_`DVD|F_x0005_`BMK| _x0005_`IPR|1_x0005_`KWN|0_x0005_`BLA|F_x0005_` | O9: M00258_1 | P9: T7_1 | Q9: 1_01 | Z9: =HYPERLINK("#"&재료비목록표!G2&"!A"&ROW(재료비목록표!A13),"자재10 →") -> 자재10 →
A10: 잡품 | B10: 주연료의% | C10: 22 | D10: % | E10: =I10+G10+K10 -> 17988.3 | F10: =J10+H10+L10 -> 3957.4 | G10: 0 | H10: =IF(C10=0,0,ROUNDDOWN(G10*C10/100,1)) -> 0 | I10: =J9 -> 17988.3 | J10: =IF(C10=0,0,ROUNDDOWN(I10*C10/100,1)) -> 3957.4 | K10: 0 | L10: =IF(C10=0,0,ROUNDDOWN(K10*C10/100,1)) -> 0 | N10: _x0007_`COD|PR_x0005_`EXI|1_x0005_`DVD|F_x0005_`BMK| _x0005_`IPR|0_x0005_`EQC|A01_x0005_`PRI|1_x0005_`PRO|1_x0005_`UNI|%_x0005_`BLA|F_x0005_` | O10: PRA01_1 | P10: T7_1
A11: 합 계 | F11: =J11+H11+L11 -> 98479 | H11: =ROUNDDOWN(SUMIF(P7:P10,O11,H7:H10),0) -> 59020 | J11: =ROUNDDOWN(SUMIF(P7:P10,O11,J7:J10),0) -> 21945 | L11: =ROUNDDOWN(SUMIF(P7:P10,O11,L7:L10),0) -> 17514 | O11: T7_1
A13: 제 2 호표 물탱크(살수차) 5500ℓ / 시간 | M13: 중기2 | N13: =HYPERLINK("#N"&ROW(N17),"_x0005_`BDCOD|X00051_x0007_`POSS|"&ROW(N14)&"_x0007_`POSE|"&ROW(N17)&"_x0007_`") -> _x0005_`BDCOD|X00051_x0007_`POSS|14_x0007_`POSE|17_x0007_` | O13: X00051
A14: 물탱크(살수차) | B14: 5500ℓ | C14: 0.2113 | D14: 천원 | E14: =I14+G14+K14 -> 47263 | F14: =J14+H14+L14 -> 9986.6 | G14: 0 | H14: =IF(C14=0,0,ROUNDDOWN(G14*C14,1)) -> 0 | I14: 0 | J14: =IF(C14=0,0,ROUNDDOWN(I14*C14,1)) -> 0 | K14: =경비목록표!E5 -> 47263 | L14: =IF(C14=0,0,ROUNDDOWN(K14*C14,1)) -> 9986.6 | M14: 경비2 | N14: _x0007_`COD|S00049_x0005_`EXI|0_x0005_`DVD|F_x0005_`BMK| _x0005_`IPR|0_x0005_`BLA|F_x0005_` | O14: S00049_1 | P14: T7_1 | Z14: =HYPERLINK("#"&경비목록표!G2&"!A"&ROW(경비목록표!A5),"경비2 →") -> 경비2 →
A15: 화물차운전사 | C15: 1 | D15: 인 | E15: =I15+G15+K15 -> 49778.3 | F15: =J15+H15+L15 -> 49778.3 | G15: =환율및기초자료!G7 -> 49778.3 | H15: =IF(C15=0,0,ROUNDDOWN(G15*C15,1)) -> 49778.3 | I15: 0 | J15: =IF(C15=0,0,ROUNDDOWN(I15*C15,1)) -> 0 | K15: 0 | L15: =IF(C15=0,0,ROUNDDOWN(K15*C15,1)) -> 0 | M15: 노무21 | N15: _x0007_`COD|L00083_x0005_`EXI|0_x0005_`DVD|F_x0005_`BMK| _x0005_`IPR|0_x0005_`BLA|F_x0005_` | O15: L00083_1 | P15: T7_1 | Z15: =HYPERLINK("#"&환율및기초자료!I2&"!A"&ROW(환율및기초자료!A7),"노무21 →") -> 노무21 →
A16: 경유 | B16: 저유황 | C16: 9.3 | D16: L | E16: =I16+G16+K16 -> 1817 | F16: =J16+H16+L16 -> 16898.1 | G16: 0 | H16: =IF(C16=0,0,ROUNDDOWN(G16*C16,1)) -> 0 | I16: =재료비목록표!E13 -> 1817 | J16: =IF(C16=0,0,ROUNDDOWN(I16*C16,1)) -> 16898.1 | K16: 0 | L16: =IF(C16=0,0,ROUNDDOWN(K16*C16,1)) -> 0 | M16: 자재10 | N16: _x0007_`COD|M00258_x0005_`EXI|0_x0005_`DVD|F_x0005_`BMK| _x0005_`IPR|1_x0005_`KWN|0_x0005_`BLA|F_x0005_` | O16: M00258_1 | P16: T7_1 | Q16: 1_01 | Z16: =HYPERLINK("#"&재료비목록표!G2&"!A"&ROW(재료비목록표!A13),"자재10 →") -> 자재10 →
A17: 잡품 | B17: 주연료의% | C17: 30 | D17: % | E17: =I17+G17+K17 -> 16898.1 | F17: =J17+H17+L17 -> 5069.4 | G17: 0 | H17: =IF(C17=0,0,ROUNDDOWN(G17*C17/100,1)) -> 0 | I17: =J16 -> 16898.1 | J17: =IF(C17=0,0,ROUNDDOWN(I17*C17/100,1)) -> 5069.4 | K17: 0 | L17: =IF(C17=0,0,ROUNDDOWN(K17*C17/100,1)) -> 0 | N17: _x0007_`COD|PR_x0005_`EXI|1_x0005_`DVD|F_x0005_`BMK| _x0005_`IPR|0_x0005_`EQC|A01_x0005_`PRI|1_x0005_`PRO|1_x0005_`UNI|%_x0005_`BLA|F_x0005_` | O17: PRA01_1 | P17: T7_1
A18: 합 계 | F18: =J18+H18+L18 -> 81731 | H18: =ROUNDDOWN(SUMIF(P14:P17,O18,H14:H17),0) -> 49778 | J18: =ROUNDDOWN(SUMIF(P14:P17,O18,J14:J17),0) -> 21967 | L18: =ROUNDDOWN(SUMIF(P14:P17,O18,L14:L17),0) -> 9986 | O18: T7_1
A20: 제 3 호표 진공흡입 준설차 25톤(7.64㎥적) / 시간 | M20: 중기3 | N20: =HYPERLINK("#N"&ROW(N24),"_x0005_`BDCOD|X00114_x0007_`POSS|"&ROW(N21)&"_x0007_`POSE|"&ROW(N24)&"_x0007_`") -> _x0005_`BDCOD|X00114_x0007_`POSS|21_x0007_`POSE|24_x0007_` | O20: X00114
A21: 진공흡입 준설차 | B21: 25톤(7.64㎥적) | C21: 0.2413 | D21: 천원 | E21: =I21+G21+K21 -> 302677 | F21: =J21+H21+L21 -> 73035.9 | G21: 0 | H21: =IF(C21=0,0,ROUNDDOWN(G21*C21,1)) -> 0 | I21: 0 | J21: =IF(C21=0,0,ROUNDDOWN(I21*C21,1)) -> 0 | K21: =경비목록표!E6 -> 302677 | L21: =IF(C21=0,0,ROUNDDOWN(K21*C21,1)) -> 73035.9 | M21: 경비3 | N21: _x0007_`COD|S00134_x0005_`EXI|0_x0005_`DVD|F_x0005_`BMK| _x0005_`IPR|0_x0005_`BLA|F_x0005_` | O21: S00134_1 | P21: T7_1 | Z21: =HYPERLINK("#"&경비목록표!G2&"!A"&ROW(경비목록표!A6),"경비3 →") -> 경비3 →
A22: 건설기계운전사 | C22: 1 | D22: 인 | E22: =I22+G22+K22 -> 59020.2 | F22: =J22+H22+L22 -> 59020.2 | G22: =환율및기초자료!G6 -> 59020.2 | H22: =IF(C22=0,0,ROUNDDOWN(G22*C22,1)) -> 59020.2 | I22: 0 | J22: =IF(C22=0,0,ROUNDDOWN(I22*C22,1)) -> 0 | K22: 0 | L22: =IF(C22=0,0,ROUNDDOWN(K22*C22,1)) -> 0 | M22: 노무1 | N22: _x0007_`COD|L00082_x0005_`EXI|0_x0005_`DVD|F_x0005_`BMK| _x0005_`IPR|0_x0005_`BLA|F_x0005_` | O22: L00082_1 | P22: T7_1 | Z22: =HYPERLINK("#"&환율및기초자료!I2&"!A"&ROW(환율및기초자료!A6),"노무1 →") -> 노무1 →
A23: 경유 | B23: 저유황 | C23: 27.6 | D23: L | E23: =I23+G23+K23 -> 1817 | F23: =J23+H23+L23 -> 50149.2 | G23: 0 | H23: =IF(C23=0,0,ROUNDDOWN(G23*C23,1)) -> 0 | I23: =재료비목록표!E13 -> 1817 | J23: =IF(C23=0,0,ROUNDDOWN(I23*C23,1)) -> 50149.2 | K23: 0 | L23: =IF(C23=0,0,ROUNDDOWN(K23*C23,1)) -> 0 | M23: 자재10 | N23: _x0007_`COD|M00258_x0005_`EXI|0_x0005_`DVD|F_x0005_`BMK| _x0005_`IPR|1_x0005_`KWN|0_x0005_`BLA|F_x0005_` | O23: M00258_1 | P23: T7_1 | Q23: 1_01 | Z23: =HYPERLINK("#"&재료비목록표!G2&"!A"&ROW(재료비목록표!A13),"자재10 →") -> 자재10 →
A24: 잡품 | B24: 주연료의% | C24: 40 | D24: % | E24: =I24+G24+K24 -> 50149.2 | F24: =J24+H24+L24 -> 20059.6 | G24: 0 | H24: =IF(C24=0,0,ROUNDDOWN(G24*C24/100,1)) -> 0 | I24: =J23 -> 50149.2 | J24: =IF(C24=0,0,ROUNDDOWN(I24*C24/100,1)) -> 20059.6 | K24: 0 | L24: =IF(C24=0,0,ROUNDDOWN(K24*C24/100,1)) -> 0 | N24: _x0007_`COD|PR_x0005_`EXI|1_x0005_`DVD|F_x0005_`BMK| _x0005_`IPR|0_x0005_`EQC|A01_x0005_`PRI|1_x0005_`PRO|1_x0005_`UNI|%_x0005_`BLA|F_x0005_` | O24: PRA01_1 | P24: T7_1
A25: 합 계 | F25: =J25+H25+L25 -> 202263 | H25: =ROUNDDOWN(SUMIF(P21:P24,O25,H21:H24),0) -> 59020 | J25: =ROUNDDOWN(SUMIF(P21:P24,O25,J21:J24),0) -> 70208 | L25: =ROUNDDOWN(SUMIF(P21:P24,O25,L21:L24),0) -> 73035 | O25: T7_1
A27: 제 4 호표 코아드릴 15.24cm / 시간 | M27: 중기4 | N27: =HYPERLINK("#N"&ROW(N28),"_x0005_`BDCOD|X00127_x0007_`POSS|"&ROW(N28)&"_x0007_`POSE|"&ROW(N28)&"_x0007_`") -> _x0005_`BDCOD|X00127_x0007_`POSS|28_x0007_`POSE|28_x0007_` | O27: X00127
A28: 코아드릴 | B28: 15.24cm | C28: 0.5268 | D28: 천원 | E28: =I28+G28+K28 -> 896 | F28: =J28+H28+L28 -> 472 | G28: 0 | H28: =IF(C28=0,0,ROUNDDOWN(G28*C28,1)) -> 0 | I28: 0 | J28: =IF(C28=0,0,ROUNDDOWN(I28*C28,1)) -> 0 | K28: =경비목록표!E7 -> 896 | L28: =IF(C28=0,0,ROUNDDOWN(K28*C28,1)) -> 472 | M28: 경비4 | N28: _x0007_`COD|S00160_x0005_`EXI|0_x0005_`DVD|F_x0005_`BMK| _x0005_`IPR|0_x0005_`BLA|F_x0005_` | O28: S00160_1 | P28: T7_1 | Z28: =HYPERLINK("#"&경비목록표!G2&"!A"&ROW(경비목록표!A7),"경비4 →") -> 경비4 →
A29: 합 계 | F29: =J29+H29+L29 -> 472 | H29: =ROUNDDOWN(SUMIF(P28:P28,O29,H28:H28),0) -> 0 | J29: =ROUNDDOWN(SUMIF(P28:P28,O29,J28:J28),0) -> 0 | L29: =ROUNDDOWN(SUMIF(P28:P28,O29,L28:L28),0) -> 472 | O29: T7_1
A31: 제 5 호표 크레인(타이어) 10톤 / 시간 | M31: 중기5 | N31: =HYPERLINK("#N"&ROW(N35),"_x0005_`BDCOD|X00031_x0007_`POSS|"&ROW(N32)&"_x0007_`POSE|"&ROW(N35)&"_x0007_`") -> _x0005_`BDCOD|X00031_x0007_`POSS|32_x0007_`POSE|35_x0007_` | O31: X00031
A32: 크레인(타이어) | B32: 10톤 | C32: 0.2298 | D32: 천원 | E32: =I32+G32+K32 -> 136400 | F32: =J32+H32+L32 -> 31344.7 | G32: 0 | H32: =IF(C32=0,0,ROUNDDOWN(G32*C32,1)) -> 0 | I32: 0 | J32: =IF(C32=0,0,ROUNDDOWN(I32*C32,1)) -> 0 | K32: =경비목록표!E8 -> 136400 | L32: =IF(C32=0,0,ROUNDDOWN(K32*C32,1)) -> 31344.7 | M32: 경비5 | N32: _x0007_`COD|S00029_x0005_`EXI|0_x0005_`DVD|F_x0005_`BMK| _x0005_`IPR|0_x0005_`BLA|F_x0005_` | O32: S00029_1 | P32: T7_1 | Z32: =HYPERLINK("#"&경비목록표!G2&"!A"&ROW(경비목록표!A8),"경비5 →") -> 경비5 →
A33: 건설기계운전사 | C33: 1 | D33: 인 | E33: =I33+G33+K33 -> 59020.2 | F33: =J33+H33+L33 -> 59020.2 | G33: =환율및기초자료!G6 -> 59020.2 | H33: =IF(C33=0,0,ROUNDDOWN(G33*C33,1)) -> 59020.2 | I33: 0 | J33: =IF(C33=0,0,ROUNDDOWN(I33*C33,1)) -> 0 | K33: 0 | L33: =IF(C33=0,0,ROUNDDOWN(K33*C33,1)) -> 0 | M33: 노무1 | N33: _x0007_`COD|L00082_x0005_`EXI|0_x0005_`DVD|F_x0005_`BMK| _x0005_`IPR|0_x0005_`BLA|F_x0005_` | O33: L00082_1 | P33: T7_1 | Z33: =HYPERLINK("#"&환율및기초자료!I2&"!A"&ROW(환율및기초자료!A6),"노무1 →") -> 노무1 →
A34: 경유 | B34: 저유황 | C34: 3.8 | D34: L | E34: =I34+G34+K34 -> 1817 | F34: =J34+H34+L34 -> 6904.6 | G34: 0 | H34: =IF(C34=0,0,ROUNDDOWN(G34*C34,1)) -> 0 | I34: =재료비목록표!E13 -> 1817 | J34: =IF(C34=0,0,ROUNDDOWN(I34*C34,1)) -> 6904.6 | K34: 0 | L34: =IF(C34=0,0,ROUNDDOWN(K34*C34,1)) -> 0 | M34: 자재10 | N34: _x0007_`COD|M00258_x0005_`EXI|0_x0005_`DVD|F_x0005_`BMK| _x0005_`IPR|1_x0005_`KWN|0_x0005_`BLA|F_x0005_` | O34: M00258_1 | P34: T7_1 | Q34: 1_01 | Z34: =HYPERLINK("#"&재료비목록표!G2&"!A"&ROW(재료비목록표!A13),"자재10 →") -> 자재10 →
A35: 잡품 | B35: 주연료의% | C35: 39 | D35: % | E35: =I35+G35+K35 -> 6904.6 | F35: =J35+H35+L35 -> 2692.7 | G35: 0 | H35: =IF(C35=0,0,ROUNDDOWN(G35*C35/100,1)) -> 0 | I35: =J34 -> 6904.6 | J35: =IF(C35=0,0,ROUNDDOWN(I35*C35/100,1)) -> 2692.7 | K35: 0 | L35: =IF(C35=0,0,ROUNDDOWN(K35*C35/100,1)) -> 0 | N35: _x0007_`COD|PR_x0005_`EXI|1_x0005_`DVD|F_x0005_`BMK| _x0005_`IPR|0_x0005_`EQC|A01_x0005_`PRI|1_x0005_`PRO|1_x0005_`UNI|%_x0005_`BLA|F_x0005_` | O35: PRA01_1 | P35: T7_1
A36: 합 계 | F36: =J36+H36+L36 -> 99961 | H36: =ROUNDDOWN(SUMIF(P32:P35,O36,H32:H35),0) -> 59020 | J36: =ROUNDDOWN(SUMIF(P32:P35,O36,J32:J35),0) -> 9597 | L36: =ROUNDDOWN(SUMIF(P32:P35,O36,L32:L35),0) -> 31344 | O36: T7_1

Sheet 재료비목록표
A1: 재료비 목록표 | G1: STmate | H1: STmate
A2: 공사명 : 2026년도 무인화시설물 유지보수(기계) 연간단가공사(1권역) | G2: =MID(CELL("filename",$A$1),FIND("]",CELL("filename",$A$1))+1,LEN(CELL("filename",$A$1))) -> 재료비목록표
A3: 호표 | B3: 명 칭 | C3: 규 격 | D3: 단위 | E3: 단 가 | F3: 비 고 | H3: =HYPERLINK("#'〓 목 차 〓'!B2","목차 →") -> 목차 →
A4: 1 | B4: ㄷ 형강(단중13.4kg) | C4: 125mmx65mmx(13.4kg/m) | D4: KG | E4: =자재단가대비표!O5 -> 1030 | F4: 1 | G4: ="_x0007_`COD|M06627_x0005_`QTY1|1_x0005_`BQC|_x0005_`EQC|_x0005_`JDC|_x0005_`WQC|_x0005_`EDT|_x0005_`DET|"&ROW(자재단가대비표!A5)&"_x0005_`" -> _x0007_`COD|M06627_x0005_`QTY1|1_x0005_`BQC|_x0005_`EQC|_x0005_`JDC|_x0005_`WQC|_x0005_`EDT|_x0005_`DET|5_x0005_` | H4: =HYPERLINK("#"&자재단가대비표!R2&"!A"&ROW(자재단가대비표!A5),"자재1 →") -> 자재1 →
A5: 2 | B5: 가압펌프 | C5: 0.5HP 30m 0.05㎥/min | D5: 대 | E5: =자재단가대비표!O6 -> 450000 | F5: 2 | G5: ="_x0007_`COD|M06844_x0005_`QTY1|1_x0005_`BQC|_x0005_`EQC|_x0005_`JDC|_x0005_`WQC|_x0005_`EDT|_x0005_`DET|"&ROW(자재단가대비표!A6)&"_x0005_`" -> _x0007_`COD|M06844_x0005_`QTY1|1_x0005_`BQC|_x0005_`EQC|_x0005_`JDC|_x0005_`WQC|_x0005_`EDT|_x0005_`DET|6_x0005_` | H5: =HYPERLINK("#"&자재단가대비표!R2&"!A"&ROW(자재단가대비표!A6),"자재2 →") -> 자재2 →
A6: 3 | B6: 가압펌프 | C6: 1.2HP 25m 0.15㎥/min | D6: 대 | E6: =자재단가대비표!O7 -> 1280000 | F6: 3 | G6: ="_x0007_`COD|M06686_x0005_`QTY1|1_x0005_`BQC|_x0005_`EQC|_x0005_`JDC|_x0005_`WQC|_x0005_`EDT|_x0005_`DET|"&ROW(자재단가대비표!A7)&"_x0005_`" -> _x0007_`COD|M06686_x0005_`QTY1|1_x0005_`BQC|_x0005_`EQC|_x0005_`JDC|_x0005_`WQC|_x0005_`EDT|_x0005_`DET|7_x0005_` | H6: =HYPERLINK("#"&자재단가대비표!R2&"!A"&ROW(자재단가대비표!A7),"자재3 →") -> 자재3 →
A7: 4 | B7: 가압펌프 | C7: 1HP 33m 0.05㎥/min | D7: 대 | E7: =자재단가대비표!O8 -> 930000 | F7: 4 | G7: ="_x0007_`COD|M06505_x0005_`QTY1|1_x0005_`BQC|_x0005_`EQC|_x0005_`JDC|_x0005_`WQC|_x0005_`EDT|_x0005_`DET|"&ROW(자재단가대비표!A8)&"_x0005_`" -> _x0007_`COD|M06505_x0005_`QTY1|1_x0005_`BQC|_x0005_`EQC|_x0005_`JDC|_x0005_`WQC|_x0005_`EDT|_x0005_`DET|8_x0005_` | H7: =HYPERLINK("#"&자재단가대비표!R2&"!A"&ROW(자재단가대비표!A8),"자재4 →") -> 자재4 →
A8: 5 | B8: 각재 | C8: 각재, 외송 | D8: ㎥ | E8: =자재단가대비표!O9 -> 581559 | F8: 5 | G8: ="_x0007_`COD|M05530_x0005_`QTY1|1_x0005_`BQC|건축분야_x0005_`EQC|_x0005_`JDC|3010369820141038_x0005_`WQC|_x0005_`EDT|_x0005_`DET|"&ROW(자재단가대비표!A9)&"_x0005_`" -> _x0007_`COD|M05530_x0005_`QTY1|1_x0005_`BQC|건축분야_x0005_`EQC|_x0005_`JDC|3010369820141038_x0005_`WQC|_x0005_`EDT|_x0005_`DET|9_x0005_` | H8: =HYPERLINK("#"&자재단가대비표!R2&"!A"&ROW(자재단가대비표!A9),"자재5 →") -> 자재5 →
A9: 6 | B9: 감압밸브 | C9: D13(15)mm | D9: 개 | E9: =자재단가대비표!O10 -> 47900 | F9: 6 | G9: ="_x0007_`COD|M05093_x0005_`QTY1|1_x0005_`BQC|_x0005_`EQC|_x0005_`JDC|_x0005_`WQC|_x0005_`EDT|_x0005_`DET|"&ROW(자재단가대비표!A10)&"_x0005_`" -> _x0007_`COD|M05093_x0005_`QTY1|1_x0005_`BQC|_x0005_`EQC|_x0005_`JDC|_x0005_`WQC|_x0005_`EDT|_x0005_`DET|10_x0005_` | H9: =HYPERLINK("#"&자재단가대비표!R2&"!A"&ROW(자재단가대비표!A10),"자재6 →") -> 자재6 →
A10: 7 | B10: 감압밸브 | C10: D20mm | D10: 개 | E10: =자재단가대비표!O11 -> 50000 | F10: 7 | G10: ="_x0007_`COD|M05094_x0005_`QTY1|1_x0005_`BQC|_x0005_`EQC|_x0005_`JDC|_x0005_`WQC|_x0005_`EDT|_x0005_`DET|"&ROW(자재단가대비표!A11)&"_x0005_`" -> _x0007_`COD|M05094_x0005_`QTY1|1_x0005_`BQC|_x0005_`EQC|_x0005_`JDC|_x0005_`WQC|_x0005_`EDT|_x0005_`DET|11_x0005_` | H10: =HYPERLINK("#"&자재단가대비표!R2&"!A"&ROW(자재단가대비표!A11),"자재7 →") -> 자재7 →
A11: 8 | B11: 감압밸브 | C11: D25mm | D11: 개 | E11: =자재단가대비표!O12 -> 274000 | F11: 8 | G11: ="_x0007_`COD|M05095_x0005_`QTY1|1_x0005_`BQC|_x0005_`EQC|_x0005_`JDC|_x0005_`WQC|_x0005_`EDT|_x0005_`DET|"&ROW(자재단가대비표!A12)&"_x0005_`" -> _x0007_`COD|M05095_x0005_`QTY1|1_x0005_`BQC|_x0005_`EQC|_x0005_`JDC|_x0005_`WQC|_x0005_`EDT|_x0005_`DET|12_x0005_` | H11: =HYPERLINK("#"&자재단가대비표!R2&"!A"&ROW(자재단가대비표!A12),"자재8 →") -> 자재8 →
A12: 9 | B12: 감압밸브 | C12: D32mm | D12: 개 | E12: =자재단가대비표!O13 -> 319929 | F12: 9 | G12: ="_x0007_`COD|M05265_x0005_`QTY1|1_x0005_`BQC|_x0005_`EQC|_x0005_`JDC|_x0005_`WQC|_x0005_`EDT|_x0005_`DET|"&ROW(자재단가대비표!A13)&"_x0005_`" -> _x0007_`COD|M05265_x0005_`QTY1|1_x0005_`BQC|_x0005_`EQC|_x0005_`JDC|_x0005_`WQC|_x0005_`EDT|_x0005_`DET|13_x0005_` | H12: =HYPERLINK("#"&자재단가대비표!R2&"!A"&ROW(자재단가대비표!A13),"자재9 →") -> 자재9 →
A13: 10 | B13: 경유 | C13: 저유황 | D13: L | E13: =자재단가대비표!O14 -> 1817 | F13: 10 | G13: ="_x0007_`COD|M00258_x0005_`QTY1|1_x0005_`BQC|_x0005_`EQC|_x0005_`JDC|1510150520282163_x0005_`WQC|_x0005_`EDT|2026.01.06_x0005_`DET|"&ROW(자재단가대비표!A14)&"_x0005_`" -> _x0007_`COD|M00258_x0005_`QTY1|1_x0005_`BQC|_x0005_`EQC|_x0005_`JDC|1510150520282163_x0005_`WQC|_x0005_`EDT|2026.01.06_x0005_`DET|14_x0005_` | H13: =HYPERLINK("#"&자재단가대비표!R2&"!A"&ROW(자재단가대비표!A14),"자재10 →") -> 자재10 →
A14: 11 | B14: 고무판(보호통받침) | C14: t=9.6mm, B=22.5 | D14: 개 | E14: =자재단가대비표!O15 -> 19670 | F14: 11 | G14: ="_x0007_`COD|M04153_x0005_`QTY1|1_x0005_`BQC|_x0005_`EQC|_x0005_`JDC|_x0005_`WQC|_x0005_`EDT|_x0005_`DET|"&ROW(자재단가대비표!A15)&"_x0005_`" -> _x0007_`COD|M04153_x0005_`QTY1|1_x0005_`BQC|_x0005_`EQC|_x0005_`JDC|_x0005_`WQC|_x0005_`EDT|_x0005_`DET|15_x0005_` | H14: =HYPERLINK("#"&자재단가대비표!R2&"!A"&ROW(자재단가대비표!A15),"자재11 →") -> 자재11 →
A15: 12 | B15: 고무패킹 | C15: D100A | D15: 개 | E15: =자재단가대비표!O16 -> 1680 | F15: 12 | G15: ="_x0007_`COD|M05321_x0005_`QTY1|1_x0005_`BQC|_x0005_`EQC|_x0005_`JDC|_x0005_`WQC|_x0005_`EDT|_x0005_`DET|"&ROW(자재단가대비표!A16)&"_x0005_`" -> _x0007_`COD|M05321_x0005_`QTY1|1_x0005_`BQC|_x0005_`EQC|_x0005_`JDC|_x0005_`WQC|_x0005_`EDT|_x0005_`DET|16_x0005_` | H15: =HYPERLINK("#"&자재단가대비표!R2&"!A"&ROW(자재단가대비표!A16),"자재12 →") -> 자재12 →
