Workbook

Sheet 〓 목 차 〓
D1: =IF('〓 INITIAL 〓'!C4,"※※ 기본정보의 일부가 삭제되어 Stmate로 변환할 수 없습니다 ※※","")
B2: 목 차 | D2: ※ 본 엑셀자료는 【STmate w26.07】버전 이상에서 STmate 자료로 다시 등록할 수 있습니다.
D3: 단, 임의로 수정한 내용(Sheet삭제, 산근내용변경, 기타계산식변경..)은 반영되지 않을 수 있습니다.
B4: 1. ※※안내※※ | D4: =HYPERLINK("#'※※안내※※'!A1","※※안내※※ →") -> ※※안내※※ →
B5: 2. 공사원가계산서 | D5: =HYPERLINK("#"&공사원가계산서!G2&"!A1","공사원가계산서 →") -> 공사원가계산서 →
B6: 3. 총괄내역서 | D6: =HYPERLINK("#"&총괄내역서!H2&"!A1","총괄내역서 →") -> 총괄내역서 →
B7: 4. 설계내역서 | D7: =HYPERLINK("#"&설계내역서!O2&"!A1","설계내역서 →") -> 설계내역서 →
B8: 5. 일위대가목록표 | D8: =HYPERLINK("#"&일위대가목록표!J2&"!A1","일위대가목록표 →") -> 일위대가목록표 →
B9: 6. 일위대가표 | D9: =HYPERLINK("#"&일위대가표!N2&"!A1","일위대가표 →") -> 일위대가표 →
B10: 7. 단가산출근거목록표 | D10: =HYPERLINK("#"&단가산출근거목록표!J2&"!A1","단가산출근거목록표 →") -> 단가산출근거목록표 →
B11: 8. 단가산출근거 | D11: =HYPERLINK("#"&단가산출근거!G2&"!A1","단가산출근거 →") -> 단가산출근거 →
B12: 9. 환율및기초자료 | D12: =HYPERLINK("#"&환율및기초자료!I2&"!A1","환율및기초자료 →") -> 환율및기초자료 →
B13: 10. 중기목록표 | D13: =HYPERLINK("#"&중기목록표!J2&"!A1","중기목록표 →") -> 중기목록표 →
B14: 11. 중기사용료 | D14: =HYPERLINK("#"&중기사용료!N2&"!A1","중기사용료 →") -> 중기사용료 →
B15: 12. 재료비목록표 | D15: =HYPERLINK("#"&재료비목록표!G2&"!A1","재료비목록표 →") -> 재료비목록표 →
B16: 13. 노무비목록표 | D16: =HYPERLINK("#"&노무비목록표!G2&"!A1","노무비목록표 →") -> 노무비목록표 →
B17: 14. 경비목록표 | D17: =HYPERLINK("#"&경비목록표!G2&"!A1","경비목록표 →") -> 경비목록표 →
B18: 15. 일식견적목록표 | D18: =HYPERLINK("#"&일식견적목록표!J2&"!A1","일식견적목록표 →") -> 일식견적목록표 →
B19: 16. 자재단가대비표 | D19: =HYPERLINK("#"&자재단가대비표!R2&"!A1","자재단가대비표 →") -> 자재단가대비표 →

Sheet ※※안내※※
A2: =HYPERLINK("#'〓 목 차 〓'!B2","목차 →") -> 목차 → | B2: === 엑셀파일에 작성에 대한 안내문(반드시 읽어보세요) ===
B4: 엑셀파일 수정후 계산식 반영이 안될경우 :【 Ctrl+Alt(+Shift)+F9 】
B6: ◈ 엑셀파일내의 산식은 기초단가, 복합단가, 내역서 및 총괄내역서까지 연결됩니다.
B7: (모든산식은 단가만을 불러오며, 명칭, 규격, 단위, 비고.. 등은 TEXT로 입력됩니다)
B8: ◈ 각 Sheet우측에는 해당 항목을 찾아가는 위치이동(→) 링크가 있으며, 클릭하면 이동됩니다.
B9: (Alt + ← 키를 이용하여 찾아갔던 항목을 되돌아 올 수 있습니다.)
B10: ◈ 자재단가 대비표의 적용단가는 수식이 적용되지 않았으나, 우측에 최소단가 수식을 입력하였습니다.
B11: ◈ 일위대가표 및 중기사용료 및 총괄내역서의 양식은 일반양식을 적용합니다.
B12: =HYPERLINK("#"&단가산출근거!G2&"!Y3","◈ 단가산출근거의 수량부분은 산출근거 우측 연두색 부분에서 수정합니다. →") -> ◈ 단가산출근거의 수량부분은 산출근거 우측 연두색 부분에서 수정합니다. →
B13: ◈ [목차] 및 [안내] Sheet의 이름을 변경하지 마시고, Sheet이름을 변경할때 공백문자 및 특수문자를 사용하지 마십시요.
B15: ※※※ 아래의 내용(안내 및 오류)을 확인/검토 하세요 ※※※
B16: =HYPERLINK("#"&총괄내역서!H2&"!I"&ROW(총괄내역서!I21)," → ") -> → | C16: 【총괄내역서】21번째줄의 I열 이윤보정액은 총공사비 금액이 다를경우 임의조정(±α) 하십시요.

Sheet 공사원가계산서
A1: 공 사 원 가 계 산 서 | G1: STmate | H1: STmate
A2: 공사명 : 2026년도 무인화시설물 유지보수(기계) 연간단가공사(1권역) 2차 | F2: 공사기간: 2026년00월 ~ 2026년00월 | G2: =MID(CELL("filename",$A$1),FIND("]",CELL("filename",$A$1))+1,LEN(CELL("filename",$A$1))) -> 공사원가계산서
A3: 구 분 | D3: 금 액 | E3: 구 성 비 | F3: 비 고
A4: 비 목 | H4: =HYPERLINK("#'〓 목 차 〓'!B2","목차 →") -> 목차 →
A5: 순 공 사 원 가 | B5: 재 료 비 | C5: 직 접 재 료 비 | D5: =총괄내역서!F4-D6+D7 -> 9620799 | E5: =D5/D31*100 -> 17.492362 | H5: =HYPERLINK("#"&총괄내역서!H2&"!F"&ROW(총괄내역서!F4),"총괄표 →") -> 총괄표 →
C6: 간 접 재 료 비 | D6: 0 | E6: =D6/D31*100 -> 0
C7: 작업설,부산물등(△) | D7: 0 | E7: =D7/D31*100 -> 0
C8: 소 계 | D8: =+D5+D6-D7 -> 9620799 | E8: =D8/D31*100 -> 17.492362
B9: 노 무 비 | C9: 직 접 노 무 비 | D9: =총괄내역서!E4 -> 20883787 | E9: =D9/D31*100 -> 37.970522 | H9: =HYPERLINK("#"&총괄내역서!H2&"!E"&ROW(총괄내역서!E4),"총괄표 →") -> 총괄표 →
C10: 간 접 노 무 비 | D10: =총괄내역서!D5 -> 3988803 | E10: =D10/D31*100 -> 7.2523691 | F10: =총괄내역서!E5 -> 직접노무비 x 19.1% | H10: =HYPERLINK("#"&총괄내역서!H2&"!D"&ROW(총괄내역서!D5),"총괄표 →") -> 총괄표 →
C11: 소 계 | D11: =+D9+D10 -> 24872590 | E11: =D11/D31*100 -> 45.222891
B12: 경 비 | C12: 산 출 경 비 | D12: =총괄내역서!G4 -> 279558 | E12: =D12/D31*100 -> 0.50828727 | H12: =HYPERLINK("#"&총괄내역서!H2&"!G"&ROW(총괄내역서!G4),"총괄표 →") -> 총괄표 →
C13: 산 재 보 험 료 | D13: =총괄내역서!D6 -> 885464 | E13: =D13/D31*100 -> 1.6099345 | F13: =총괄내역서!E6 -> (직접노무비+간접노무비) x 3.56% | H13: =HYPERLINK("#"&총괄내역서!H2&"!D"&ROW(총괄내역서!D6),"총괄표 →") -> 총괄표 →
C14: 고 용 보 험 료 | D14: =총괄내역서!D7 -> 251213 | E14: =D14/D31*100 -> 0.45675091 | F14: =총괄내역서!E7 -> (직접노무비+간접노무비) x 1.01% | H14: =HYPERLINK("#"&총괄내역서!H2&"!D"&ROW(총괄내역서!D7),"총괄표 →") -> 총괄표 →
C15: 건 강 보 험 료 | D15: =총괄내역서!D8 -> 750772 | E15: =D15/D31*100 -> 1.36504 | F15: =총괄내역서!E8 -> 직접노무비 x 3.595% | H15: =HYPERLINK("#"&총괄내역서!H2&"!D"&ROW(총괄내역서!D8),"총괄표 →") -> 총괄표 →
C16: 노인장기요양보험료 | D16: =총괄내역서!D9 -> 98651 | E16: =D16/D31*100 -> 0.17936545 | F16: =총괄내역서!E9 -> 건강보험료 x 13.14% | H16: =HYPERLINK("#"&총괄내역서!H2&"!D"&ROW(총괄내역서!D9),"총괄표 →") -> 총괄표 →
C17: 연 금 보 험 료 | D17: =총괄내역서!D10 -> 991979 | E17: =D17/D31*100 -> 1.8035982 | F17: =총괄내역서!E10 -> 직접노무비 x 4.75% | H17: =HYPERLINK("#"&총괄내역서!H2&"!D"&ROW(총괄내역서!D10),"총괄표 →") -> 총괄표 →
C18: 퇴 직 공 제 부 금 비 | D18: =총괄내역서!D11 -> 480327 | E18: =D18/D31*100 -> 0.87332182 | F18: =총괄내역서!E11 -> 직접노무비 x 2.3% | H18: =HYPERLINK("#"&총괄내역서!H2&"!D"&ROW(총괄내역서!D11),"총괄표 →") -> 총괄표 →
C19: 산업안전보건관리비 | D19: =총괄내역서!D12 -> 960894 | E19: =D19/D31*100 -> 1.74708 | F19: =총괄내역서!E12 -> (직노+직재+간재) x 3.15% = 960,894 | H19: =HYPERLINK("#"&총괄내역서!H2&"!D"&ROW(총괄내역서!D12),"총괄표 →") -> 총괄표 →
C20: 기 타 경 비 | D20: =총괄내역서!D13 -> 1897136 | E20: =D20/D31*100 -> 3.4493382 | F20: =총괄내역서!E13 -> (직접노무비+간접노무비+재료비) x 5.5% | H20: =HYPERLINK("#"&총괄내역서!H2&"!D"&ROW(총괄내역서!D13),"총괄표 →") -> 총괄표 →
C21: 환 경 보 전 비 | D21: =총괄내역서!D14 -> 153920 | E21: =D21/D31*100 -> 0.27985455 | F21: =총괄내역서!E14 -> (재료비 + 직접노무비 + 산출경비) x 0.5% | H21: =HYPERLINK("#"&총괄내역서!H2&"!D"&ROW(총괄내역서!D14),"총괄표 →") -> 총괄표 →
C22: 건설기계대여금지급보증서수수료 | D22: =총괄내역서!D15 -> 156999 | E22: =D22/D31*100 -> 0.28545273 | F22: =총괄내역서!E15 -> (재료비 + 직접노무비 + 산출경비) x 0.51% | H22: =HYPERLINK("#"&총괄내역서!H2&"!D"&ROW(총괄내역서!D15),"총괄표 →") -> 총괄표 →
C23: 석면피해구제분담금 | D23: =총괄내역서!D16 -> 1492 | E23: =D23/D31*100 -> 0.0027127273 | F23: =총괄내역서!E16 -> (직접노무비+간접노무비) x 0.006% | H23: =HYPERLINK("#"&총괄내역서!H2&"!D"&ROW(총괄내역서!D16),"총괄표 →") -> 총괄표 →
C24: 임 금 채 권 부 담 금 | D24: =총괄내역서!D17 -> 22385 | E24: =D24/D31*100 -> 0.0407 | F24: =총괄내역서!E17 -> (직접노무비+간접노무비) x 0.09% | H24: =HYPERLINK("#"&총괄내역서!H2&"!D"&ROW(총괄내역서!D17),"총괄표 →") -> 총괄표 →
C25: 소 계 | D25: =+D12+D13+D14+D15+D16+D17+D18+D19+D20+D21+D22+D23+D24 -> 6930790 | E25: =D25/D31*100 -> 12.601436
A26: 일 반 관 리 비 | D26: =총괄내역서!D19 -> 3313934 | E26: =D26/D31*100 -> 6.0253345 | F26: ="순공사원가 x "&ROUND(총괄내역서!M19,5)&"%" -> 순공사원가 x 8% | H26: =HYPERLINK("#"&총괄내역서!H2&"!D"&ROW(총괄내역서!D19),"총괄표 →") -> 총괄표 →
A27: 이 윤 | D27: =총괄내역서!D21 -> 5261887 | E27: =D27/D31*100 -> 9.5670673 | F27: ="(노무비+경비+일반관리비) x "&ROUND(총괄내역서!M21,5)&"%" -> (노무비+경비+일반관리비) x 14.98374% | H27: =HYPERLINK("#"&총괄내역서!H2&"!D"&ROW(총괄내역서!D21),"총괄표 →") -> 총괄표 →
A28: 총 원 가 | D28: =총괄내역서!D22 -> 50000000 | E28: =D28/D31*100 -> 90.909091 | H28: =HYPERLINK("#"&총괄내역서!H2&"!D"&ROW(총괄내역서!D22),"총괄표 →") -> 총괄표 →
A29: 부 가 가 치 세 | D29: =총괄내역서!D23 -> 5000000 | E29: =D29/D31*100 -> 9.0909091 | F29: ="총 원 가 x "&ROUND(총괄내역서!M23,5)&"%" -> 총 원 가 x 10% | H29: =HYPERLINK("#"&총괄내역서!H2&"!D"&ROW(총괄내역서!D23),"총괄표 →") -> 총괄표 →
A30: 도 급 공 사 비 | D30: =총괄내역서!D24 -> 55000000 | E30: =D30/D31*100 -> 100 | H30: =HYPERLINK("#"&총괄내역서!H2&"!D"&ROW(총괄내역서!D24),"총괄표 →") -> 총괄표 →
A31: 총 공 사 비 | D31: =D30 -> 55000000 | E31: 100

Sheet 총괄내역서
A1: 총 괄 내 역 서 | H1: STmate | Q1: STmate
A2: 공사명 : 2026년도 무인화시설물 유지보수(기계) 연간단가공사(1권역) | H2: =MID(CELL("filename",$A$1),FIND("]",CELL("filename",$A$1))+1,LEN(CELL("filename",$A$1))) -> 총괄내역서
A3: 공 종 | B3: 명 칭 | C3: 규 격 | D3: 합 계 | E3: 노 무 비 | F3: 재 료 비 | G3: 경 비 | H3: _x0007_`JTYP|0_x0005_`ACTL|F_x0005_` | I3: 수정은 아래의 연두색 부분에 | Q3: =HYPERLINK("#'〓 목 차 〓'!B2","목차 →") -> 목차 →
A4: 가. | B4: 순공사비계 | D4: =설계내역서!G1025 -> 30784144 | E4: =설계내역서!I1025 -> 20883787 | F4: =설계내역서!K1025 -> 9620799 | G4: =설계내역서!M1025 -> 279558 | Q4: =HYPERLINK("#"&설계내역서!O2&"!A"&ROW(설계내역서!A1025),"내역 →") -> 내역 →
B5: 1. 간접노무비 | D5: =ROUNDDOWN(E4*M5/100,0) -> 3988803 | E5: ="직접노무비 x "&ROUND(M5,5)&"%" -> 직접노무비 x 19.1% | H5: _x0007_`DTP|201_x0005_`QTY1|1_x0005_`BDC|_x0005_`SRE|LA_x0005_` | I5: 0 | M5: 19.1 | N5: 0 | O5: 0 | P5: 0
B6: 2. 산재보험료 | D6: =ROUNDDOWN(((E4+D5))*M6/100,0) -> 885464 | E6: ="(직접노무비+간접노무비) x "&ROUND(M6,5)&"%" -> (직접노무비+간접노무비) x 3.56% | H6: _x0007_`DTP|301_x0005_`QTY1|1_x0005_`BDC|_x0005_`SRE|SA_x0005_` | I6: 0 | M6: 3.56 | N6: 0 | O6: 0 | P6: 0
B7: 3. 고용보험료 | D7: =ROUNDDOWN(((E4+D5))*M7/100,0) -> 251213 | E7: ="(직접노무비+간접노무비) x "&ROUND(M7,5)&"%" -> (직접노무비+간접노무비) x 1.01% | H7: _x0007_`DTP|302_x0005_`QTY1|1_x0005_`BDC|_x0005_`SRE|SA_x0005_` | I7: 0 | M7: 1.01 | N7: 0 | O7: 0 | P7: 0
B8: 4. 건강보험료 | D8: =ROUNDDOWN((E4)*M8/100,0) -> 750772 | E8: ="직접노무비 x "&ROUND(M8,5)&"%" -> 직접노무비 x 3.595% | H8: _x0007_`DTP|303_x0005_`QTY1|1_x0005_`BDC|_x0005_`SRE|SA_x0005_` | I8: 0 | J8: =E4 -> 20883787 | M8: 3.595 | N8: 0 | O8: 0 | P8: 0
B9: 5. 노인장기요양보험료 | D9: =ROUNDDOWN(D8*M9/100,0) -> 98651 | E9: ="건강보험료 x "&ROUND(M9,5)&"%" -> 건강보험료 x 13.14% | H9: _x0007_`DTP|310_x0005_`QTY1|1_x0005_`BDC|_x0005_`SRE|SA_x0005_` | I9: 0 | J9: =D8 -> 750772 | M9: 13.14 | N9: 0 | O9: 0 | P9: 0
B10: 6. 연금보험료 | D10: =ROUNDDOWN((E4)*M10/100,0) -> 991979 | E10: ="직접노무비 x "&ROUND(M10,5)&"%" -> 직접노무비 x 4.75% | H10: _x0007_`DTP|304_x0005_`QTY1|1_x0005_`BDC|_x0005_`SRE|SA_x0005_` | I10: 0 | J10: =E4 -> 20883787 | M10: 4.75 | N10: 0 | O10: 0 | P10: 0
B11: 7. 퇴직공제부금비 | D11: =ROUNDDOWN((E4)*M11/100,0) -> 480327 | E11: ="직접노무비 x "&ROUND(M11,5)&"%" -> 직접노무비 x 2.3% | H11: _x0007_`DTP|305_x0005_`QTY1|1_x0005_`BDC|_x0005_`SRE|SA_x0005_` | I11: 0 | J11: =E4 -> 20883787 | M11: 2.3 | N11: 0 | O11: 0 | P11: 0
B12: 8. 산업안전보건관리비 | D12: =ROUNDDOWN(((E4+(F4)))*M12/100,0) -> 960894 | E12: ="(직노+직재+간재) x "&ROUND(M12,5)&"% = "&TEXT(D12,"#,0")&"" -> (직노+직재+간재) x 3.15% = 960,894 | H12: _x0007_`DTP|306_x0005_`QTY1|1_x0005_`BDC|_x0005_`SRE|SA_x0005_` | I12: 0 | J12: =((E4+(F4))) -> 30504586 | M12: 3.15 | N12: 0 | O12: 0 | P12: 0
B13: 9. 기타경비 | D13: =ROUNDDOWN(((((E4+D5)+(F4))))*M13/100,0) -> 1897136 | E13: ="(직접노무비+간접노무비+재료비) x "&ROUND(M13,5)&"%" -> (직접노무비+간접노무비+재료비) x 5.5% | H13: _x0007_`DTP|321_x0005_`QTY1|1_x0005_`BDC|_x0005_`SRE|SA_x0005_` | I13: 0 | M13: 5.5 | N13: 0 | O13: 0 | P13: 0
B14: 10. 환경보전비 | D14: =ROUNDDOWN((D4)*M14/100,0) -> 153920 | E14: ="(재료비 + 직접노무비 + 산출경비) x "&ROUND(M14,5)&"%" -> (재료비 + 직접노무비 + 산출경비) x 0.5% | H14: _x0007_`DTP|309_x0005_`QTY1|1_x0005_`BDC|_x0005_`SRE|SA_x0005_` | I14: 0 | M14: 0.5 | N14: 0 | O14: 0 | P14: 0
B15: 11. 건설기계대여금지급보증서수수료 | D15: =ROUNDDOWN((D4)*M15/100,0) -> 156999 | E15: ="(재료비 + 직접노무비 + 산출경비) x "&ROUND(M15,5)&"%" -> (재료비 + 직접노무비 + 산출경비) x 0.51% | H15: _x0007_`DTP|311_x0005_`QTY1|1_x0005_`BDC|_x0005_`SRE|SA_x0005_` | I15: 0 | M15: 0.51 | N15: 0 | O15: 0 | P15: 0
B16: 12. 석면피해구제분담금 | D16: =ROUNDDOWN(((E4+D5))*M16/100,0) -> 1492 | E16: ="(직접노무비+간접노무비) x "&ROUND(M16,5)&"%" -> (직접노무비+간접노무비) x 0.006% | H16: _x0007_`DTP|322_x0005_`QTY1|1_x0005_`BDC|_x0005_`SRE|SA_x0005_` | I16: 0 | M16: 0.006 | N16: 0 | O16: 0 | P16: 0
B17: 13. 임금채권부담금 | D17: =ROUNDDOWN(((E4+D5))*M17/100,0) -> 22385 | E17: ="(직접노무비+간접노무비) x "&ROUND(M17,5)&"%" -> (직접노무비+간접노무비) x 0.09% | H17: _x0007_`DTP|323_x0005_`QTY1|1_x0005_`BDC|_x0005_`SRE|SA_x0005_` | I17: 0 | M17: 0.09 | N17: 0 | O17: 0 | P17: 0
A18: 나. | B18: 소 계 | D18: =(D4+D5+D6+D7+D8+D9+D10+D11+D12+D13+D14+D15+D16+D17) -> 41424179 | H18: _x0007_`DTP|400_x0005_`QTY1|1_x0005_`BDC|_x0005_`SRE|TA-F_x0005_` | I18: 0 | M18: 0 | N18: 0 | O18: 0 | P18: 0
B19: 14. 일반관리비 | D19: =ROUNDDOWN(((D18)+0)*M19/100,0) -> 3313934 | E19: ="(나.소 계) x "&ROUND(M19,5)&"%" -> (나.소 계) x 8% | H19: _x0007_`DTP|401_x0005_`QTY1|1_x0005_`BDC|_x0005_`SRE|TA_x0005_` | I19: 0 | M19: 8 | N19: 0 | O19: 0 | P19: 0
A20: 다. | B20: 소 계 | D20: =(D18+D19) -> 44738113 | H20: _x0007_`DTP|410_x0005_`QTY1|1_x0005_`BDC|_x0005_`SRE|TA-F_x0005_` | I20: 0 | J20: =D20 -> 44738113 | L20: =D20 -> 44738113 | M20: 0 | N20: 0 | O20: 0 | P20: 0
B21: 15. 이 윤 | D21: =ROUNDDOWN(((D20)-(F4))*M21/100,0)-I21-K21 -> 5261887 | E21: ="(다.소계 - 재료비) x "&ROUND(M21,5)&"% = "&TEXT(J21,"#,##0") -> (다.소계 - 재료비) x 14.98374% = 5,261,887 | H21: _x0007_`DTP|402_x0005_`QTY1|1_x0005_`BDC|_x0005_`SRE|TA_x0005_` | I21: 0 | J21: =ROUNDDOWN(((J20)-(F4))*M21/100,0) -> 5261887 | L21: =ROUNDDOWN(((L20)-(F4))*M21/100,0)-I21 -> 5261887 | M21: 14.98374 | N21: 0 | O21: 0 | P21: 0
A22: 라. | B22: 공급가액 | D22: =(D20+D21) -> 50000000 | H22: _x0007_`DTP|500_x0005_`QTY1|1_x0005_`BDC|_x0005_`SRE|TA-F_x0005_` | I22: 0 | J22: =(J20+J21) -> 50000000 | L22: =(L20+L21) -> 50000000 | M22: 0 | N22: 0 | O22: 0 | P22: 0
B23: 16. 부가가치세 | D23: =ROUNDDOWN((D22)*M23/100,0)+I23 -> 5000000 | E23: ="공급가액 x "&ROUND(M23,5)&"%" -> 공급가액 x 10% | H23: _x0007_`DTP|502_x0005_`QTY1|1_x0005_`BDC|_x0005_`SRE|TA_x0005_` | I23: 0 | J23: =ROUNDDOWN((J22)*M23/100,0)+I23 -> 5000000 | L23: =ROUNDDOWN((L22)*M23/100,0)+I23 -> 5000000 | M23: 10 | N23: 0 | O23: 0 | P23: 0
A24: 마. | B24: 도급공사비 | D24: =(D22+D23) -> 55000000 | H24: _x0007_`DTP|600_x0005_`QTY1|1_x0005_`BDC|_x0005_`SRE|TA-F_x0005_` | I24: 0 | J24: =(J22+J23) -> 55000000 | L24: =(L22+L23) -> 55000000 | M24: 0 | N24: 0 | O24: 0 | P24: 0

Sheet 설계내역서
A1: 설 계 내 역 서 | O1: STmate | AC1: STmate
A2: 공사명 : 2026년도 무인화시설물 유지보수(기계) 연간단가공사(1권역) | O2: =MID(CELL("filename",$A$1),FIND("]",CELL("filename",$A$1))+1,LEN(CELL("filename",$A$1))) -> 설계내역서
A3: 공 종 | B3: 명 칭 | C3: 규 격 | D3: 수 량 | E3: 단위 | F3: 합 계 | H3: 노 무 비 | J3: 재 료 비 | L3: 경 비 | N3: 비 고
F4: 단 가 | G4: 금 액 | H4: 단 가 | I4: 금 액 | J4: 단 가 | K4: 금 액 | L4: 단 가 | M4: 금 액 | AC4: =HYPERLINK("#'〓 목 차 〓'!B2","목차 →") -> 목차 →
B5: 무인화시설물 유지보수 연간단가 | F5: 0 | G5: =SUMIF(Q6:Q993,P5,G6:G993) -> 30784144 | H5: 0 | I5: =SUMIF(Q6:Q993,P5,I6:I993) -> 20883787 | J5: 0 | K5: =SUMIF(Q6:Q993,P5,K6:K993) -> 9620799 | L5: 0 | M5: =SUMIF(Q6:Q993,P5,M6:M993) -> 279558 | O5: ="_x0007_`COD|E3_x0005_`QTY1|1_x0005_`EXI|0_x0005_`ITT|0_x0005_`END|"&ROW(M994)&"_x0005_`" -> _x0007_`COD|E3_x0005_`QTY1|1_x0005_`EXI|0_x0005_`ITT|0_x0005_`END|994_x0005_` | P5: E3_1 | Q5: E10_1
A6: 1. □ | B6: 시설물 유지보수 | F6: 0 | G6: =SUMIF(Q7:Q663,P6,G7:G663) -> 25418144 | H6: 0 | I6: =SUMIF(Q7:Q663,P6,I7:I663) -> 20883787 | J6: 0 | K6: =SUMIF(Q7:Q663,P6,K7:K663) -> 4254799 | L6: 0 | M6: =SUMIF(Q7:Q663,P6,M7:M663) -> 279558 | O6: ="_x0007_`COD|E2_x0005_`QTY1|1_x0005_`EXI|0_x0005_`ITT|0_x0005_`END|"&ROW(M664)&"_x0005_`" -> _x0007_`COD|E2_x0005_`QTY1|1_x0005_`EXI|0_x0005_`ITT|0_x0005_`END|664_x0005_` | P6: E2_1 | Q6: E3_1
B7: 라인가압펌프(일체형스텐레스) | C7: 2HP(25-200m)0.01-0.188㎥/min | D7: 0 | E7: 대 | F7: =J7+H7+L7 -> 8365273 | G7: =K7+I7+M7 -> 0 | H7: =일위대가목록표!F4 -> 354635 | I7: =ROUNDDOWN(H7*D7,0) -> 0 | J7: =일위대가목록표!G4 -> 8000000 | K7: =ROUNDDOWN(J7*D7,0) -> 0 | L7: =일위대가목록표!H4 -> 10638 | M7: =ROUNDDOWN(L7*D7,0) -> 0 | N7: 대가 1호표 | O7: _x0007_`COD|B04896_x0005_`QTY1|1_x0005_`EXI|0_x0005_`IPR|0_x0005_`BLA|F_x0005_` | P7: B04896_1 | Q7: E2_1 | AC7: =HYPERLINK("#"&일위대가목록표!J2&"!A"&ROW(일위대가목록표!A4),"대가1 →") -> 대가1 →
B8: 라인가압펌프(일체형스텐레스) | C8: 3HP(25~200m)0.01~0.25㎥/min | D8: 0 | E8: 대 | F8: =J8+H8+L8 -> 9920901 | G8: =K8+I8+M8 -> 0 | H8: =일위대가목록표!F5 -> 408643 | I8: =ROUNDDOWN(H8*D8,0) -> 0 | J8: =일위대가목록표!G5 -> 9500000 | K8: =ROUNDDOWN(J8*D8,0) -> 0 | L8: =일위대가목록표!H5 -> 12258 | M8: =ROUNDDOWN(L8*D8,0) -> 0 | N8: 대가 2호표 | O8: _x0007_`COD|B04897_x0005_`QTY1|1_x0005_`EXI|0_x0005_`IPR|0_x0005_`BLA|F_x0005_` | P8: B04897_1 | Q8: E2_1 | AC8: =HYPERLINK("#"&일위대가목록표!J2&"!A"&ROW(일위대가목록표!A5),"대가2 →") -> 대가2 →
B9: 라인가압펌프(일체형스텐레스) | C9: 5HP(25~200m)0.01~0.25㎥/min | D9: 0 | E9: 대 | F9: =J9+H9+L9 -> 11483348 | G9: =K9+I9+M9 -> 0 | H9: =일위대가목록표!F6 -> 469271 | I9: =ROUNDDOWN(H9*D9,0) -> 0 | J9: =일위대가목록표!G6 -> 11000000 | K9: =ROUNDDOWN(J9*D9,0) -> 0 | L9: =일위대가목록표!H6 -> 14077 | M9: =ROUNDDOWN(L9*D9,0) -> 0 | N9: 대가 3호표 | O9: _x0007_`COD|B04898_x0005_`QTY1|1_x0005_`EXI|0_x0005_`IPR|0_x0005_`BLA|F_x0005_` | P9: B04898_1 | Q9: E2_1 | AC9: =HYPERLINK("#"&일위대가목록표!J2&"!A"&ROW(일위대가목록표!A6),"대가3 →") -> 대가3 →
B10: 라인가압펌프(일체형스텐레스) | C10: 7.5HP(25~200m)0.09~0.25㎥/min | D10: 0 | E10: 대 | F10: =J10+H10+L10 -> 13082367 | G10: =K10+I10+M10 -> 0 | H10: =일위대가목록표!F7 -> 565406 | I10: =ROUNDDOWN(H10*D10,0) -> 0 | J10: =일위대가목록표!G7 -> 12500000 | K10: =ROUNDDOWN(J10*D10,0) -> 0 | L10: =일위대가목록표!H7 -> 16961 | M10: =ROUNDDOWN(L10*D10,0) -> 0 | N10: 대가 4호표 | O10: _x0007_`COD|B04899_x0005_`QTY1|1_x0005_`EXI|0_x0005_`IPR|0_x0005_`BLA|F_x0005_` | P10: B04899_1 | Q10: E2_1 | AC10: =HYPERLINK("#"&일위대가목록표!J2&"!A"&ROW(일위대가목록표!A7),"대가4 →") -> 대가4 →
B11: 라인가압펌프(일체형스텐레스) | C11: 10HP(25~200m)0.05~1.35㎥/min | D11: 0 | E11: 대 | F11: =J11+H11+L11 -> 14734777 | G11: =K11+I11+M11 -> 0 | H11: =일위대가목록표!F8 -> 713377 | I11: =ROUNDDOWN(H11*D11,0) -> 0 | J11: =일위대가목록표!G8 -> 14000000 | K11: =ROUNDDOWN(J11*D11,0) -> 0 | L11: =일위대가목록표!H8 -> 21400 | M11: =ROUNDDOWN(L11*D11,0) -> 0 | N11: 대가 5호표 | O11: _x0007_`COD|B04900_x0005_`QTY1|1_x0005_`EXI|0_x0005_`IPR|0_x0005_`BLA|F_x0005_` | P11: B04900_1 | Q11: E2_1 | AC11: =HYPERLINK("#"&일위대가목록표!J2&"!A"&ROW(일위대가목록표!A8),"대가5 →") -> 대가5 →
B12: 라인가압펌프(일체형스텐레스) | C12: 15HP(25~200m)0.25~1.25㎥/min | D12: 0 | E12: 대 | F12: =J12+H12+L12 -> 16923410 | G12: =K12+I12+M12 -> 0 | H12: =일위대가목록표!F9 -> 896515 | I12: =ROUNDDOWN(H12*D12,0) -> 0 | J12: =일위대가목록표!G9 -> 16000000 | K12: =ROUNDDOWN(J12*D12,0) -> 0 | L12: =일위대가목록표!H9 -> 26895 | M12: =ROUNDDOWN(L12*D12,0) -> 0 | N12: 대가 6호표 | O12: _x0007_`COD|B04901_x0005_`QTY1|1_x0005_`EXI|0_x0005_`IPR|0_x0005_`BLA|F_x0005_` | P12: B04901_1 | Q12: E2_1 | AC12: =HYPERLINK("#"&일위대가목록표!J2&"!A"&ROW(일위대가목록표!A9),"대가6 →") -> 대가6 →
B13: 라인가압펌프(일체형스텐레스) | C13: 20HP(25~200m)0.25~1.25㎥/min | D13: 0 | E13: 대 | F13: =J13+H13+L13 -> 19480333 | G13: =K13+I13+M13 -> 0 | H13: =일위대가목록표!F10 -> 951780 | I13: =ROUNDDOWN(H13*D13,0) -> 0 | J13: =일위대가목록표!G10 -> 18500000 | K13: =ROUNDDOWN(J13*D13,0) -> 0 | L13: =일위대가목록표!H10 -> 28553 | M13: =ROUNDDOWN(L13*D13,0) -> 0 | N13: 대가 7호표 | O13: _x0007_`COD|B04902_x0005_`QTY1|1_x0005_`EXI|0_x0005_`IPR|0_x0005_`BLA|F_x0005_` | P13: B04902_1 | Q13: E2_1 | AC13: =HYPERLINK("#"&일위대가목록표!J2&"!A"&ROW(일위대가목록표!A10),"대가7 →") -> 대가7 →
B14: 라인가압펌프(일체형스텐레스) | C14: 30HP(25~200m)0.25~1.35㎥/min | D14: 0 | E14: 대 | F14: =J14+H14+L14 -> 22760750 | G14: =K14+I14+M14 -> 0 | H14: =일위대가목록표!F11 -> 1537622 | I14: =ROUNDDOWN(H14*D14,0) -> 0 | J14: =일위대가목록표!G11 -> 21177000 | K14: =ROUNDDOWN(J14*D14,0) -> 0 | L14: =일위대가목록표!H11 -> 46128 | M14: =ROUNDDOWN(L14*D14,0) -> 0 | N14: 대가 8호표 | O14: _x0007_`COD|B04903_x0005_`QTY1|1_x0005_`EXI|0_x0005_`IPR|0_x0005_`BLA|F_x0005_` | P14: B04903_1 | Q14: E2_1 | AC14: =HYPERLINK("#"&일위대가목록표!J2&"!A"&ROW(일위대가목록표!A11),"대가8 →") -> 대가8 →
B15: 라인가압펌프(일체형스텐레스) | C15: 40HP(25~200m)0.25~3.5㎥/min | D15: 0 | E15: 대 | F15: =J15+H15+L15 -> 28044858 | G15: =K15+I15+M15 -> 0 | H15: =일위대가목록표!F12 -> 1985300 | I15: =ROUNDDOWN(H15*D15,0) -> 0 | J15: =일위대가목록표!G12 -> 26000000 | K15: =ROUNDDOWN(J15*D15,0) -> 0 | L15: =일위대가목록표!H12 -> 59558 | M15: =ROUNDDOWN(L15*D15,0) -> 0 | N15: 대가 9호표 | O15: _x0007_`COD|B04904_x0005_`QTY1|1_x0005_`EXI|0_x0005_`IPR|0_x0005_`BLA|F_x0005_` | P15: B04904_1 | Q15: E2_1 | AC15: =HYPERLINK("#"&일위대가목록표!J2&"!A"&ROW(일위대가목록표!A12),"대가9 →") -> 대가9 →
B16: 라인가압펌프(일체형스텐레스) | C16: 50HP(25~200m)0.3~3.5㎥/min | D16: 0 | E16: 대 | F16: =J16+H16+L16 -> 35289807 | G16: =K16+I16+M16 -> 0 | H16: =일위대가목록표!F13 -> 3193989 | I16: =ROUNDDOWN(H16*D16,0) -> 0 | J16: =일위대가목록표!G13 -> 32000000 | K16: =ROUNDDOWN(J16*D16,0) -> 0 | L16: =일위대가목록표!H13 -> 95818 | M16: =ROUNDDOWN(L16*D16,0) -> 0 | N16: 대가 10호표 | O16: _x0007_`COD|B04905_x0005_`QTY1|1_x0005_`EXI|0_x0005_`IPR|0_x0005_`BLA|F_x0005_` | P16: B04905_1 | Q16: E2_1 | AC16: =HYPERLINK("#"&일위대가목록표!J2&"!A"&ROW(일위대가목록표!A13),"대가10 →") -> 대가10 →
B17: 라인가압펌프(일체형스텐레스) | C17: 60HP(25~200m)2.0~3.5㎥/min | D17: 0 | E17: 대 | F17: =J17+H17+L17 -> 42289807 | G17: =K17+I17+M17 -> 0 | H17: =일위대가목록표!F14 -> 3193989 | I17: =ROUNDDOWN(H17*D17,0) -> 0 | J17: =일위대가목록표!G14 -> 39000000 | K17: =ROUNDDOWN(J17*D17,0) -> 0 | L17: =일위대가목록표!H14 -> 95818 | M17: =ROUNDDOWN(L17*D17,0) -> 0 | N17: 대가 11호표 | O17: _x0007_`COD|B04906_x0005_`QTY1|1_x0005_`EXI|0_x0005_`IPR|0_x0005_`BLA|F_x0005_` | P17: B04906_1 | Q17: E2_1 | AC17: =HYPERLINK("#"&일위대가목록표!J2&"!A"&ROW(일위대가목록표!A14),"대가11 →") -> 대가11 →
B18: 라인가압펌프(일체형스텐레스) | C18: 150HP(25~200m)1.0~7.2㎥/min | D18: 0 | E18: 대 | F18: =J18+H18+L18 -> 103530109 | G18: =K18+I18+M18 -> 0 | H18: =일위대가목록표!F15 -> 3912728 | I18: =ROUNDDOWN(H18*D18,0) -> 0 | J18: =일위대가목록표!G15 -> 99500000 | K18: =ROUNDDOWN(J18*D18,0) -> 0 | L18: =일위대가목록표!H15 -> 117381 | M18: =ROUNDDOWN(L18*D18,0) -> 0 | N18: 대가 12호표 | O18: _x0007_`COD|B04907_x0005_`QTY1|1_x0005_`EXI|0_x0005_`IPR|0_x0005_`BLA|F_x0005_` | P18: B04907_1 | Q18: E2_1 | AC18: =HYPERLINK("#"&일위대가목록표!J2&"!A"&ROW(일위대가목록표!A15),"대가12 →") -> 대가12 →
B19: 라인가압펌프(일체형스텐레스) 철거 및 설치 | C19: 2HP(25-200m)0.01-0.188㎥/min | D19: 1 | E19: 대 | F19: =J19+H19+L19 -> 365273 | G19: =K19+I19+M19 -> 365273 | H19: =일위대가목록표!F16 -> 354635 | I19: =ROUNDDOWN(H19*D19,0) -> 354635 | J19: =일위대가목록표!G16 -> 0 | K19: =ROUNDDOWN(J19*D19,0) -> 0 | L19: =일위대가목록표!H16 -> 10638 | M19: =ROUNDDOWN(L19*D19,0) -> 10638 | N19: 대가 13호표 | O19: _x0007_`COD|B05105_x0005_`QTY1|1_x0005_`EXI|0_x0005_`IPR|0_x0005_`BLA|F_x0005_` | P19: B05105_1 | Q19: E2_1 | AC19: =HYPERLINK("#"&일위대가목록표!J2&"!A"&ROW(일위대가목록표!A16),"대가13 →") -> 대가13 →
B20: 라인가압펌프(일체형스텐레스) 철거 및 설치 | C20: 3HP(25~200m)0.01~0.25㎥/min | D20: 0 | E20: 대 | F20: =J20+H20+L20 -> 420901 | G20: =K20+I20+M20 -> 0 | H20: =일위대가목록표!F17 -> 408643 | I20: =ROUNDDOWN(H20*D20,0) -> 0 | J20: =일위대가목록표!G17 -> 0 | K20: =ROUNDDOWN(J20*D20,0) -> 0 | L20: =일위대가목록표!H17 -> 12258 | M20: =ROUNDDOWN(L20*D20,0) -> 0 | N20: 대가 14호표 | O20: _x0007_`COD|B05106_x0005_`QTY1|1_x0005_`EXI|0_x0005_`IPR|0_x0005_`BLA|F_x0005_` | P20: B05106_1 | Q20: E2_1 | AC20: =HYPERLINK("#"&일위대가목록표!J2&"!A"&ROW(일위대가목록표!A17),"대가14 →") -> 대가14 →
B21: 라인가압펌프(일체형스텐레스) 철거 및 설치 | C21: 5HP(25~200m)0.01~0.25㎥/min | D21: 0 | E21: 대 | F21: =J21+H21+L21 -> 483348 | G21: =K21+I21+M21 -> 0 | H21: =일위대가목록표!F18 -> 469271 | I21: =ROUNDDOWN(H21*D21,0) -> 0 | J21: =일위대가목록표!G18 -> 0 | K21: =ROUNDDOWN(J21*D21,0) -> 0 | L21: =일위대가목록표!H18 -> 14077 | M21: =ROUNDDOWN(L21*D21,0) -> 0 | N21: 대가 15호표 | O21: _x0007_`COD|B05107_x0005_`QTY1|1_x0005_`EXI|0_x0005_`IPR|0_x0005_`BLA|F_x0005_` | P21: B05107_1 | Q21: E2_1 | AC21: =HYPERLINK("#"&일위대가목록표!J2&"!A"&ROW(일위대가목록표!A18),"대가15 →") -> 대가15 →
B22: 라인가압펌프(일체형스텐레스) 철거 및 설치 | C22: 7.5HP(25~200m)0.09~0.25㎥/min | D22: 0 | E22: 대 | F22: =J22+H22+L22 -> 582367 | G22: =K22+I22+M22 -> 0 | H22: =일위대가목록표!F19 -> 565406 | I22: =ROUNDDOWN(H22*D22,0) -> 0 | J22: =일위대가목록표!G19 -> 0 | K22: =ROUNDDOWN(J22*D22,0) -> 0 | L22: =일위대가목록표!H19 -> 16961 | M22: =ROUNDDOWN(L22*D22,0) -> 0 | N22: 대가 16호표 | O22: _x0007_`COD|B05108_x0005_`QTY1|1_x0005_`EXI|0_x0005_`IPR|0_x0005_`BLA|F_x0005_` | P22: B05108_1 | Q22: E2_1 | AC22: =HYPERLINK("#"&일위대가목록표!J2&"!A"&ROW(일위대가목록표!A19),"대가16 →") -> 대가16 →
B23: 라인가압펌프(일체형스텐레스) 철거 및 설치 | C23: 10HP(25~200m)0.05~1.35㎥/min | D23: 0 | E23: 대 | F23: =J23+H23+L23 -> 734777 | G23: =K23+I23+M23 -> 0 | H23: =일위대가목록표!F20 -> 713377 | I23: =ROUNDDOWN(H23*D23,0) -> 0 | J23: =일위대가목록표!G20 -> 0 | K23: =ROUNDDOWN(J23*D23,0) -> 0 | L23: =일위대가목록표!H20 -> 21400 | M23: =ROUNDDOWN(L23*D23,0) -> 0 | N23: 대가 17호표 | O23: _x0007_`COD|B05109_x0005_`QTY1|1_x0005_`EXI|0_x0005_`IPR|0_x0005_`BLA|F_x0005_` | P23: B05109_1 | Q23: E2_1 | AC23: =HYPERLINK("#"&일위대가목록표!J2&"!A"&ROW(일위대가목록표!A20),"대가17 →") -> 대가17 →
B24: 라인가압펌프(일체형스텐레스) 철거 및 설치 | C24: 15HP(25~200m)0.25~1.25㎥/min | D24: 0 | E24: 대 | F24: =J24+H24+L24 -> 923410 | G24: =K24+I24+M24 -> 0 | H24: =일위대가목록표!F21 -> 896515 | I24: =ROUNDDOWN(H24*D24,0) -> 0 | J24: =일위대가목록표!G21 -> 0 | K24: =ROUNDDOWN(J24*D24,0) -> 0 | L24: =일위대가목록표!H21 -> 26895 | M24: =ROUNDDOWN(L24*D24,0) -> 0 | N24: 대가 18호표 | O24: _x0007_`COD|B05110_x0005_`QTY1|1_x0005_`EXI|0_x0005_`IPR|0_x0005_`BLA|F_x0005_` | P24: B05110_1 | Q24: E2_1 | AC24: =HYPERLINK("#"&일위대가목록표!J2&"!A"&ROW(일위대가목록표!A21),"대가18 →") -> 대가18 →
B25: 라인가압펌프(일체형스텐레스) 철거 및 설치 | C25: 20HP(25~200m)0.25~1.25㎥/min | D25: 0 | E25: 대 | F25: =J25+H25+L25 -> 980333 | G25: =K25+I25+M25 -> 0 | H25: =일위대가목록표!F22 -> 951780 | I25: =ROUNDDOWN(H25*D25,0) -> 0 | J25: =일위대가목록표!G22 -> 0 | K25: =ROUNDDOWN(J25*D25,0) -> 0 | L25: =일위대가목록표!H22 -> 28553 | M25: =ROUNDDOWN(L25*D25,0) -> 0 | N25: 대가 19호표 | O25: _x0007_`COD|B05111_x0005_`QTY1|1_x0005_`EXI|0_x0005_`IPR|0_x0005_`BLA|F_x0005_` | P25: B05111_1 | Q25: E2_1 | AC25: =HYPERLINK("#"&일위대가목록표!J2&"!A"&ROW(일위대가목록표!A22),"대가19 →") -> 대가19 →
B26: 라인가압펌프(일체형스텐레스) 철거 및 설치 | C26: 30HP(25~200m)0.25~1.35㎥/min | D26: 0 | E26: 대 | F26: =J26+H26+L26 -> 1583750 | G26: =K26+I26+M26 -> 0 | H26: =일위대가목록표!F23 -> 1537622 | I26: =ROUNDDOWN(H26*D26,0) -> 0 | J26: =일위대가목록표!G23 -> 0 | K26: =ROUNDDOWN(J26*D26,0) -> 0 | L26: =일위대가목록표!H23 -> 46128 | M26: =ROUNDDOWN(L26*D26,0) -> 0 | N26: 대가 20호표 | O26: _x0007_`COD|B05112_x0005_`QTY1|1_x0005_`EXI|0_x0005_`IPR|0_x0005_`BLA|F_x0005_` | P26: B05112_1 | Q26: E2_1 | AC26: =HYPERLINK("#"&일위대가목록표!J2&"!A"&ROW(일위대가목록표!A23),"대가20 →") -> 대가20 →
B27: 라인가압펌프(일체형스텐레스) 철거 및 설치 | C27: 40HP(25~200m)0.25~3.5㎥/min | D27: 0 | E27: 대 | F27: =J27+H27+L27 -> 2044858 | G27: =K27+I27+M27 -> 0 | H27: =일위대가목록표!F24 -> 1985300 | I27: =ROUNDDOWN(H27*D27,0) -> 0 | J27: =일위대가목록표!G24 -> 0 | K27: =ROUNDDOWN(J27*D27,0) -> 0 | L27: =일위대가목록표!H24 -> 59558 | M27: =ROUNDDOWN(L27*D27,0) -> 0 | N27: 대가 21호표 | O27: _x0007_`COD|B05113_x0005_`QTY1|1_x0005_`EXI|0_x0005_`IPR|0_x0005_`BLA|F_x0005_` | P27: B05113_1 | Q27: E2_1 | AC27: =HYPERLINK("#"&일위대가목록표!J2&"!A"&ROW(일위대가목록표!A24),"대가21 →") -> 대가21 →
B28: 라인가압펌프(일체형스텐레스) 철거 및 설치 | C28: 50HP(25~200m)0.3~3.5㎥/min | D28: 0 | E28: 대 | F28: =J28+H28+L28 -> 3289807 | G28: =K28+I28+M28 -> 0 | H28: =일위대가목록표!F25 -> 3193989 | I28: =ROUNDDOWN(H28*D28,0) -> 0 | J28: =일위대가목록표!G25 -> 0 | K28: =ROUNDDOWN(J28*D28,0) -> 0 | L28: =일위대가목록표!H25 -> 95818 | M28: =ROUNDDOWN(L28*D28,0) -> 0 | N28: 대가 22호표 | O28: _x0007_`COD|B05114_x0005_`QTY1|1_x0005_`EXI|0_x0005_`IPR|0_x0005_`BLA|F_x0005_` | P28: B05114_1 | Q28: E2_1 | AC28: =HYPERLINK("#"&일위대가목록표!J2&"!A"&ROW(일위대가목록표!A25),"대가22 →") -> 대가22 →
B29: 라인가압펌프(일체형스텐레스) 철거 및 설치 | C29: 60HP(25~200m)2.0~3.5㎥/min | D29: 0 | E29: 대 | F29: =J29+H29+L29 -> 3289807 | G29: =K29+I29+M29 -> 0 | H29: =일위대가목록표!F26 -> 3193989 | I29: =ROUNDDOWN(H29*D29,0) -> 0 | J29: =일위대가목록표!G26 -> 0 | K29: =ROUNDDOWN(J29*D29,0) -> 0 | L29: =일위대가목록표!H26 -> 95818 | M29: =ROUNDDOWN(L29*D29,0) -> 0 | N29: 대가 23호표 | O29: _x0007_`COD|B05115_x0005_`QTY1|1_x0005_`EXI|0_x0005_`IPR|0_x0005_`BLA|F_x0005_` | P29: B05115_1 | Q29: E2_1 | AC29: =HYPERLINK("#"&일위대가목록표!J2&"!A"&ROW(일위대가목록표!A26),"대가23 →") -> 대가23 →
B30: 라인가압펌프(일체형스텐레스) 철거 및 설치 | C30: 150HP(25~200m)1.0~7.2㎥/min | D30: 0 | E30: 대 | F30: =J30+H30+L30 -> 4030109 | G30: =K30+I30+M30 -> 0 | H30: =일위대가목록표!F27 -> 3912728 | I30: =ROUNDDOWN(H30*D30,0) -> 0 | J30: =일위대가목록표!G27 -> 0 | K30: =ROUNDDOWN(J30*D30,0) -> 0 | L30: =일위대가목록표!H27 -> 117381 | M30: =ROUNDDOWN(L30*D30,0) -> 0 | N30: 대가 24호표 | O30: _x0007_`COD|B05116_x0005_`QTY1|1_x0005_`EXI|0_x0005_`IPR|0_x0005_`BLA|F_x0005_` | P30: B05116_1 | Q30: E2_1 | AC30: =HYPERLINK("#"&일위대가목록표!J2&"!A"&ROW(일위대가목록표!A27),"대가24 →") -> 대가24 →
B31: 라인가압펌프(일체형스텐레스) 설치 | C31: 2HP(25-200m)0.01-0.188㎥/min | D31: 0 | E31: 대 | F31: =J31+H31+L31 -> 260910 | G31: =K31+I31+M31 -> 0 | H31: =일위대가목록표!F28 -> 253311 | I31: =ROUNDDOWN(H31*D31,0) -> 0 | J31: =일위대가목록표!G28 -> 0 | K31: =ROUNDDOWN(J31*D31,0) -> 0 | L31: =일위대가목록표!H28 -> 7599 | M31: =ROUNDDOWN(L31*D31,0) -> 0 | N31: 대가 25호표 | O31: _x0007_`COD|B05129_x0005_`QTY1|1_x0005_`EXI|0_x0005_`IPR|0_x0005_`BLA|F_x0005_` | P31: B05129_1 | Q31: E2_1 | AC31: =HYPERLINK("#"&일위대가목록표!J2&"!A"&ROW(일위대가목록표!A28),"대가25 →") -> 대가25 →
B32: 라인가압펌프(일체형스텐레스) 설치 | C32: 3HP(25~200m)0.01~0.25㎥/min | D32: 1 | E32: 대 | F32: =J32+H32+L32 -> 300644 | G32: =K32+I32+M32 -> 300644 | H32: =일위대가목록표!F29 -> 291888 | I32: =ROUNDDOWN(H32*D32,0) -> 291888 | J32: =일위대가목록표!G29 -> 0 | K32: =ROUNDDOWN(J32*D32,0) -> 0 | L32: =일위대가목록표!H29 -> 8756 | M32: =ROUNDDOWN(L32*D32,0) -> 8756 | N32: 대가 26호표 | O32: _x0007_`COD|B05130_x0005_`QTY1|1_x0005_`EXI|0_x0005_`IPR|0_x0005_`BLA|F_x0005_` | P32: B05130_1 | Q32: E2_1 | AC32: =HYPERLINK("#"&일위대가목록표!J2&"!A"&ROW(일위대가목록표!A29),"대가26 →") -> 대가26 →
B33: 라인가압펌프(일체형스텐레스) 설치 | C33: 5HP(25~200m)0.01~0.25㎥/min | D33: 1 | E33: 대 | F33: =J33+H33+L33 -> 483348 | G33: =K33+I33+M33 -> 483348 | H33: =일위대가목록표!F30 -> 469271 | I33: =ROUNDDOWN(H33*D33,0) -> 469271 | J33: =일위대가목록표!G30 -> 0 | K33: =ROUNDDOWN(J33*D33,0) -> 0 | L33: =일위대가목록표!H30 -> 14077 | M33: =ROUNDDOWN(L33*D33,0) -> 14077 | N33: 대가 27호표 | O33: _x0007_`COD|B05131_x0005_`QTY1|1_x0005_`EXI|0_x0005_`IPR|0_x0005_`BLA|F_x0005_` | P33: B05131_1 | Q33: E2_1 | AC33: =HYPERLINK("#"&일위대가목록표!J2&"!A"&ROW(일위대가목록표!A30),"대가27 →") -> 대가27 →
B34: 라인가압펌프(일체형스텐레스) 설치 | C34: 10HP(25~200m)0.05~1.35㎥/min | D34: 0 | E34: 대 | F34: =J34+H34+L34 -> 734777 | G34: =K34+I34+M34 -> 0 | H34: =일위대가목록표!F31 -> 713377 | I34: =ROUNDDOWN(H34*D34,0) -> 0 | J34: =일위대가목록표!G31 -> 0 | K34: =ROUNDDOWN(J34*D34,0) -> 0 | L34: =일위대가목록표!H31 -> 21400 | M34: =ROUNDDOWN(L34*D34,0) -> 0 | N34: 대가 28호표 | O34: _x0007_`COD|B05133_x0005_`QTY1|1_x0005_`EXI|0_x0005_`IPR|0_x0005_`BLA|F_x0005_` | P34: B05133_1 | Q34: E2_1 | AC34: =HYPERLINK("#"&일위대가목록표!J2&"!A"&ROW(일위대가목록표!A31),"대가28 →") -> 대가28 →
B35: 라인가압펌프(일체형스텐레스) 설치 | C35: 15HP(25~200m)0.25~1.25㎥/min | D35: 0 | E35: 대 | F35: =J35+H35+L35 -> 923410 | G35: =K35+I35+M35 -> 0 | H35: =일위대가목록표!F32 -> 896515 | I35: =ROUNDDOWN(H35*D35,0) -> 0 | J35: =일위대가목록표!G32 -> 0 | K35: =ROUNDDOWN(J35*D35,0) -> 0 | L35: =일위대가목록표!H32 -> 26895 | M35: =ROUNDDOWN(L35*D35,0) -> 0 | N35: 대가 29호표 | O35: _x0007_`COD|B05134_x0005_`QTY1|1_x0005_`EXI|0_x0005_`IPR|0_x0005_`BLA|F_x0005_` | P35: B05134_1 | Q35: E2_1 | AC35: =HYPERLINK("#"&일위대가목록표!J2&"!A"&ROW(일위대가목록표!A32),"대가29 →") -> 대가29 →
B36: 라인가압펌프(일체형스텐레스) 설치 | C36: 20HP(25~200m)0.25~1.25㎥/min | D36: 0 | E36: 대 | F36: =J36+H36+L36 -> 980333 | G36: =K36+I36+M36 -> 0 | H36: =일위대가목록표!F33 -> 951780 | I36: =ROUNDDOWN(H36*D36,0) -> 0 | J36: =일위대가목록표!G33 -> 0 | K36: =ROUNDDOWN(J36*D36,0) -> 0 | L36: =일위대가목록표!H33 -> 28553 | M36: =ROUNDDOWN(L36*D36,0) -> 0 | N36: 대가 30호표 | O36: _x0007_`COD|B05135_x0005_`QTY1|1_x0005_`EXI|0_x0005_`IPR|0_x0005_`BLA|F_x0005_` | P36: B05135_1 | Q36: E2_1 | AC36: =HYPERLINK("#"&일위대가목록표!J2&"!A"&ROW(일위대가목록표!A33),"대가30 →") -> 대가30 →
B37: 라인가압펌프(일체형스텐레스) 설치 | C37: 30HP(25~200m)0.25~1.35㎥/min | D37: 0 | E37: 대 | F37: =J37+H37+L37 -> 1583750 | G37: =K37+I37+M37 -> 0 | H37: =일위대가목록표!F34 -> 1537622 | I37: =ROUNDDOWN(H37*D37,0) -> 0 | J37: =일위대가목록표!G34 -> 0 | K37: =ROUNDDOWN(J37*D37,0) -> 0 | L37: =일위대가목록표!H34 -> 46128 | M37: =ROUNDDOWN(L37*D37,0) -> 0 | N37: 대가 31호표 | O37: _x0007_`COD|B05136_x0005_`QTY1|1_x0005_`EXI|0_x0005_`IPR|0_x0005_`BLA|F_x0005_` | P37: B05136_1 | Q37: E2_1 | AC37: =HYPERLINK("#"&일위대가목록표!J2&"!A"&ROW(일위대가목록표!A34),"대가31 →") -> 대가31 →
B38: 라인가압펌프(일체형스텐레스) 설치 | C38: 40HP(25~200m)0.25~3.5㎥/min | D38: 0 | E38: 대 | F38: =J38+H38+L38 -> 2044858 | G38: =K38+I38+M38 -> 0 | H38: =일위대가목록표!F35 -> 1985300 | I38: =ROUNDDOWN(H38*D38,0) -> 0 | J38: =일위대가목록표!G35 -> 0 | K38: =ROUNDDOWN(J38*D38,0) -> 0 | L38: =일위대가목록표!H35 -> 59558 | M38: =ROUNDDOWN(L38*D38,0) -> 0 | N38: 대가 32호표 | O38: _x0007_`COD|B05137_x0005_`QTY1|1_x0005_`EXI|0_x0005_`IPR|0_x0005_`BLA|F_x0005_` | P38: B05137_1 | Q38: E2_1 | AC38: =HYPERLINK("#"&일위대가목록표!J2&"!A"&ROW(일위대가목록표!A35),"대가32 →") -> 대가32 →
B39: 라인가압펌프(일체형스텐레스) 설치 | C39: 50HP(25~200m)0.3~3.5㎥/min | D39: 0 | E39: 대 | F39: =J39+H39+L39 -> 3289807 | G39: =K39+I39+M39 -> 0 | H39: =일위대가목록표!F36 -> 3193989 | I39: =ROUNDDOWN(H39*D39,0) -> 0 | J39: =일위대가목록표!G36 -> 0 | K39: =ROUNDDOWN(J39*D39,0) -> 0 | L39: =일위대가목록표!H36 -> 95818 | M39: =ROUNDDOWN(L39*D39,0) -> 0 | N39: 대가 33호표 | O39: _x0007_`COD|B05138_x0005_`QTY1|1_x0005_`EXI|0_x0005_`IPR|0_x0005_`BLA|F_x0005_` | P39: B05138_1 | Q39: E2_1 | AC39: =HYPERLINK("#"&일위대가목록표!J2&"!A"&ROW(일위대가목록표!A36),"대가33 →") -> 대가33 →
B40: 라인가압펌프(일체형스텐레스) 설치 | C40: 60HP(25~200m)2.0~3.5㎥/min | D40: 0 | E40: 대 | F40: =J40+H40+L40 -> 3289807 | G40: =K40+I40+M40 -> 0 | H40: =일위대가목록표!F37 -> 3193989 | I40: =ROUNDDOWN(H40*D40,0) -> 0 | J40: =일위대가목록표!G37 -> 0 | K40: =ROUNDDOWN(J40*D40,0) -> 0 | L40: =일위대가목록표!H37 -> 95818 | M40: =ROUNDDOWN(L40*D40,0) -> 0 | N40: 대가 34호표 | O40: _x0007_`COD|B05139_x0005_`QTY1|1_x0005_`EXI|0_x0005_`IPR|0_x0005_`BLA|F_x0005_` | P40: B05139_1 | Q40: E2_1 | AC40: =HYPERLINK("#"&일위대가목록표!J2&"!A"&ROW(일위대가목록표!A37),"대가34 →") -> 대가34 →
...

Sheet 일위대가목록표
A1: 일위대가 목록표 | J1: STmate | K1: STmate
A2: 공사명 : 2026년도 무인화시설물 유지보수(기계) 연간단가공사(1권역) | J2: =MID(CELL("filename",$A$1),FIND("]",CELL("filename",$A$1))+1,LEN(CELL("filename",$A$1))) -> 일위대가목록표
A3: 호표 | B3: 명 칭 | C3: 규 격 | D3: 단위 | E3: 합 계 | F3: 노 무 비 | G3: 재 료 비 | H3: 경 비 | I3: 비 고 | K3: =HYPERLINK("#'〓 목 차 〓'!B2","목차 →") -> 목차 →
A4: 제 1호표 | B4: 라인가압펌프(일체형스텐레스) | C4: 2HP(25-200m)0.01-0.188㎥/min | D4: 대 | E4: =일위대가표!F9 -> 8365273 | F4: =일위대가표!H9 -> 354635 | G4: =일위대가표!J9 -> 8000000 | H4: =일위대가표!L9 -> 10638 | I4: 제 1호표 | J4: ="_x0007_`COD|B04896_x0005_`QTY1|1_x0005_`BQC|_x0005_`EQC|_x0005_`JDC|_x0005_`WQC|_x0005_`EDT|_x0005_`ADJ|F_x0005_`DET|"&ROW(일위대가표!A6)&"_x0005_`" -> _x0007_`COD|B04896_x0005_`QTY1|1_x0005_`BQC|_x0005_`EQC|_x0005_`JDC|_x0005_`WQC|_x0005_`EDT|_x0005_`ADJ|F_x0005_`DET|6_x0005_` | K4: =HYPERLINK("#"&일위대가표!N2&"!A"&ROW(일위대가표!A6),"대가1 →") -> 대가1 →
A5: 제 2호표 | B5: 라인가압펌프(일체형스텐레스) | C5: 3HP(25~200m)0.01~0.25㎥/min | D5: 대 | E5: =일위대가표!F14 -> 9920901 | F5: =일위대가표!H14 -> 408643 | G5: =일위대가표!J14 -> 9500000 | H5: =일위대가표!L14 -> 12258 | I5: 제 2호표 | J5: ="_x0007_`COD|B04897_x0005_`QTY1|1_x0005_`BQC|_x0005_`EQC|_x0005_`JDC|_x0005_`WQC|_x0005_`EDT|_x0005_`ADJ|F_x0005_`DET|"&ROW(일위대가표!A11)&"_x0005_`" -> _x0007_`COD|B04897_x0005_`QTY1|1_x0005_`BQC|_x0005_`EQC|_x0005_`JDC|_x0005_`WQC|_x0005_`EDT|_x0005_`ADJ|F_x0005_`DET|11_x0005_` | K5: =HYPERLINK("#"&일위대가표!N2&"!A"&ROW(일위대가표!A11),"대가2 →") -> 대가2 →
A6: 제 3호표 | B6: 라인가압펌프(일체형스텐레스) | C6: 5HP(25~200m)0.01~0.25㎥/min | D6: 대 | E6: =일위대가표!F19 -> 11483348 | F6: =일위대가표!H19 -> 469271 | G6: =일위대가표!J19 -> 11000000 | H6: =일위대가표!L19 -> 14077 | I6: 제 3호표 | J6: ="_x0007_`COD|B04898_x0005_`QTY1|1_x0005_`BQC|_x0005_`EQC|_x0005_`JDC|_x0005_`WQC|_x0005_`EDT|_x0005_`ADJ|F_x0005_`DET|"&ROW(일위대가표!A16)&"_x0005_`" -> _x0007_`COD|B04898_x0005_`QTY1|1_x0005_`BQC|_x0005_`EQC|_x0005_`JDC|_x0005_`WQC|_x0005_`EDT|_x0005_`ADJ|F_x0005_`DET|16_x0005_` | K6: =HYPERLINK("#"&일위대가표!N2&"!A"&ROW(일위대가표!A16),"대가3 →") -> 대가3 →
A7: 제 4호표 | B7: 라인가압펌프(일체형스텐레스) | C7: 7.5HP(25~200m)0.09~0.25㎥/min | D7: 대 | E7: =일위대가표!F24 -> 13082367 | F7: =일위대가표!H24 -> 565406 | G7: =일위대가표!J24 -> 12500000 | H7: =일위대가표!L24 -> 16961 | I7: 제 4호표 | J7: ="_x0007_`COD|B04899_x0005_`QTY1|1_x0005_`BQC|_x0005_`EQC|_x0005_`JDC|_x0005_`WQC|_x0005_`EDT|_x0005_`ADJ|F_x0005_`DET|"&ROW(일위대가표!A21)&"_x0005_`" -> _x0007_`COD|B04899_x0005_`QTY1|1_x0005_`BQC|_x0005_`EQC|_x0005_`JDC|_x0005_`WQC|_x0005_`EDT|_x0005_`ADJ|F_x0005_`DET|21_x0005_` | K7: =HYPERLINK("#"&일위대가표!N2&"!A"&ROW(일위대가표!A21),"대가4 →") -> 대가4 →
A8: 제 5호표 | B8: 라인가압펌프(일체형스텐레스) | C8: 10HP(25~200m)0.05~1.35㎥/min | D8: 대 | E8: =일위대가표!F29 -> 14734777 | F8: =일위대가표!H29 -> 713377 | G8: =일위대가표!J29 -> 14000000 | H8: =일위대가표!L29 -> 21400 | I8: 제 5호표 | J8: ="_x0007_`COD|B04900_x0005_`QTY1|1_x0005_`BQC|_x0005_`EQC|_x0005_`JDC|_x0005_`WQC|_x0005_`EDT|_x0005_`ADJ|F_x0005_`DET|"&ROW(일위대가표!A26)&"_x0005_`" -> _x0007_`COD|B04900_x0005_`QTY1|1_x0005_`BQC|_x0005_`EQC|_x0005_`JDC|_x0005_`WQC|_x0005_`EDT|_x0005_`ADJ|F_x0005_`DET|26_x0005_` | K8: =HYPERLINK("#"&일위대가표!N2&"!A"&ROW(일위대가표!A26),"대가5 →") -> 대가5 →
A9: 제 6호표 | B9: 라인가압펌프(일체형스텐레스) | C9: 15HP(25~200m)0.25~1.25㎥/min | D9: 대 | E9: =일위대가표!F34 -> 16923410 | F9: =일위대가표!H34 -> 896515 | G9: =일위대가표!J34 -> 16000000 | H9: =일위대가표!L34 -> 26895 | I9: 제 6호표 | J9: ="_x0007_`COD|B04901_x0005_`QTY1|1_x0005_`BQC|_x0005_`EQC|_x0005_`JDC|_x0005_`WQC|_x0005_`EDT|_x0005_`ADJ|F_x0005_`DET|"&ROW(일위대가표!A31)&"_x0005_`" -> _x0007_`COD|B04901_x0005_`QTY1|1_x0005_`BQC|_x0005_`EQC|_x0005_`JDC|_x0005_`WQC|_x0005_`EDT|_x0005_`ADJ|F_x0005_`DET|31_x0005_` | K9: =HYPERLINK("#"&일위대가표!N2&"!A"&ROW(일위대가표!A31),"대가6 →") -> 대가6 →
A10: 제 7호표 | B10: 라인가압펌프(일체형스텐레스) | C10: 20HP(25~200m)0.25~1.25㎥/min | D10: 대 | E10: =일위대가표!F39 -> 19480333 | F10: =일위대가표!H39 -> 951780 | G10: =일위대가표!J39 -> 18500000 | H10: =일위대가표!L39 -> 28553 | I10: 제 7호표 | J10: ="_x0007_`COD|B04902_x0005_`QTY1|1_x0005_`BQC|_x0005_`EQC|_x0005_`JDC|_x0005_`WQC|_x0005_`EDT|_x0005_`ADJ|F_x0005_`DET|"&ROW(일위대가표!A36)&"_x0005_`" -> _x0007_`COD|B04902_x0005_`QTY1|1_x0005_`BQC|_x0005_`EQC|_x0005_`JDC|_x0005_`WQC|_x0005_`EDT|_x0005_`ADJ|F_x0005_`DET|36_x0005_` | K10: =HYPERLINK("#"&일위대가표!N2&"!A"&ROW(일위대가표!A36),"대가7 →") -> 대가7 →
A11: 제 8호표 | B11: 라인가압펌프(일체형스텐레스) | C11: 30HP(25~200m)0.25~1.35㎥/min | D11: 대 | E11: =일위대가표!F44 -> 22760750 | F11: =일위대가표!H44 -> 1537622 | G11: =일위대가표!J44 -> 21177000 | H11: =일위대가표!L44 -> 46128 | I11: 제 8호표 | J11: ="_x0007_`COD|B04903_x0005_`QTY1|1_x0005_`BQC|_x0005_`EQC|_x0005_`JDC|_x0005_`WQC|_x0005_`EDT|_x0005_`ADJ|F_x0005_`DET|"&ROW(일위대가표!A41)&"_x0005_`" -> _x0007_`COD|B04903_x0005_`QTY1|1_x0005_`BQC|_x0005_`EQC|_x0005_`JDC|_x0005_`WQC|_x0005_`EDT|_x0005_`ADJ|F_x0005_`DET|41_x0005_` | K11: =HYPERLINK("#"&일위대가표!N2&"!A"&ROW(일위대가표!A41),"대가8 →") -> 대가8 →
A12: 제 9호표 | B12: 라인가압펌프(일체형스텐레스) | C12: 40HP(25~200m)0.25~3.5㎥/min | D12: 대 | E12: =일위대가표!F49 -> 28044858 | F12: =일위대가표!H49 -> 1985300 | G12: =일위대가표!J49 -> 26000000 | H12: =일위대가표!L49 -> 59558 | I12: 제 9호표 | J12: ="_x0007_`COD|B04904_x0005_`QTY1|1_x0005_`BQC|_x0005_`EQC|_x0005_`JDC|_x0005_`WQC|_x0005_`EDT|_x0005_`ADJ|F_x0005_`DET|"&ROW(일위대가표!A46)&"_x0005_`" -> _x0007_`COD|B04904_x0005_`QTY1|1_x0005_`BQC|_x0005_`EQC|_x0005_`JDC|_x0005_`WQC|_x0005_`EDT|_x0005_`ADJ|F_x0005_`DET|46_x0005_` | K12: =HYPERLINK("#"&일위대가표!N2&"!A"&ROW(일위대가표!A46),"대가9 →") -> 대가9 →
A13: 제 10호표 | B13: 라인가압펌프(일체형스텐레스) | C13: 50HP(25~200m)0.3~3.5㎥/min | D13: 대 | E13: =일위대가표!F54 -> 35289807 | F13: =일위대가표!H54 -> 3193989 | G13: =일위대가표!J54 -> 32000000 | H13: =일위대가표!L54 -> 95818 | I13: 제 10호표 | J13: ="_x0007_`COD|B04905_x0005_`QTY1|1_x0005_`BQC|_x0005_`EQC|_x0005_`JDC|_x0005_`WQC|_x0005_`EDT|_x0005_`ADJ|F_x0005_`DET|"&ROW(일위대가표!A51)&"_x0005_`" -> _x0007_`COD|B04905_x0005_`QTY1|1_x0005_`BQC|_x0005_`EQC|_x0005_`JDC|_x0005_`WQC|_x0005_`EDT|_x0005_`ADJ|F_x0005_`DET|51_x0005_` | K13: =HYPERLINK("#"&일위대가표!N2&"!A"&ROW(일위대가표!A51),"대가10 →") -> 대가10 →
A14: 제 11호표 | B14: 라인가압펌프(일체형스텐레스) | C14: 60HP(25~200m)2.0~3.5㎥/min | D14: 대 | E14: =일위대가표!F59 -> 42289807 | F14: =일위대가표!H59 -> 3193989 | G14: =일위대가표!J59 -> 39000000 | H14: =일위대가표!L59 -> 95818 | I14: 제 11호표 | J14: ="_x0007_`COD|B04906_x0005_`QTY1|1_x0005_`BQC|_x0005_`EQC|_x0005_`JDC|_x0005_`WQC|_x0005_`EDT|_x0005_`ADJ|F_x0005_`DET|"&ROW(일위대가표!A56)&"_x0005_`" -> _x0007_`COD|B04906_x0005_`QTY1|1_x0005_`BQC|_x0005_`EQC|_x0005_`JDC|_x0005_`WQC|_x0005_`EDT|_x0005_`ADJ|F_x0005_`DET|56_x0005_` | K14: =HYPERLINK("#"&일위대가표!N2&"!A"&ROW(일위대가표!A56),"대가11 →") -> 대가11 →
A15: 제 12호표 | B15: 라인가압펌프(일체형스텐레스) | C15: 150HP(25~200m)1.0~7.2㎥/min | D15: 대 | E15: =일위대가표!F64 -> 103530109 | F15: =일위대가표!H64 -> 3912728 | G15: =일위대가표!J64 -> 99500000 | H15: =일위대가표!L64 -> 117381 | I15: 제 12호표 | J15: ="_x0007_`COD|B04907_x0005_`QTY1|1_x0005_`BQC|_x0005_`EQC|_x0005_`JDC|_x0005_`WQC|_x0005_`EDT|_x0005_`ADJ|F_x0005_`DET|"&ROW(일위대가표!A61)&"_x0005_`" -> _x0007_`COD|B04907_x0005_`QTY1|1_x0005_`BQC|_x0005_`EQC|_x0005_`JDC|_x0005_`WQC|_x0005_`EDT|_x0005_`ADJ|F_x0005_`DET|61_x0005_` | K15: =HYPERLINK("#"&일위대가표!N2&"!A"&ROW(일위대가표!A61),"대가12 →") -> 대가12 →
A16: 제 13호표 | B16: 라인가압펌프(일체형스텐레스) 철거 및 설치 | C16: 2HP(25-200m)0.01-0.188㎥/min | D16: 대 | E16: =일위대가표!F68 -> 365273 | F16: =일위대가표!H68 -> 354635 | G16: =일위대가표!J68 -> 0 | H16: =일위대가표!L68 -> 10638 | I16: 제 13호표 | J16: ="_x0007_`COD|B05105_x0005_`QTY1|1_x0005_`BQC|_x0005_`EQC|_x0005_`JDC|_x0005_`WQC|_x0005_`EDT|_x0005_`ADJ|F_x0005_`DET|"&ROW(일위대가표!A66)&"_x0005_`" -> _x0007_`COD|B05105_x0005_`QTY1|1_x0005_`BQC|_x0005_`EQC|_x0005_`JDC|_x0005_`WQC|_x0005_`EDT|_x0005_`ADJ|F_x0005_`DET|66_x0005_` | K16: =HYPERLINK("#"&일위대가표!N2&"!A"&ROW(일위대가표!A66),"대가13 →") -> 대가13 →
A17: 제 14호표 | B17: 라인가압펌프(일체형스텐레스) 철거 및 설치 | C17: 3HP(25~200m)0.01~0.25㎥/min | D17: 대 | E17: =일위대가표!F72 -> 420901 | F17: =일위대가표!H72 -> 408643 | G17: =일위대가표!J72 -> 0 | H17: =일위대가표!L72 -> 12258 | I17: 제 14호표 | J17: ="_x0007_`COD|B05106_x0005_`QTY1|1_x0005_`BQC|_x0005_`EQC|_x0005_`JDC|_x0005_`WQC|_x0005_`EDT|_x0005_`ADJ|F_x0005_`DET|"&ROW(일위대가표!A70)&"_x0005_`" -> _x0007_`COD|B05106_x0005_`QTY1|1_x0005_`BQC|_x0005_`EQC|_x0005_`JDC|_x0005_`WQC|_x0005_`EDT|_x0005_`ADJ|F_x0005_`DET|70_x0005_` | K17: =HYPERLINK("#"&일위대가표!N2&"!A"&ROW(일위대가표!A70),"대가14 →") -> 대가14 →
A18: 제 15호표 | B18: 라인가압펌프(일체형스텐레스) 철거 및 설치 | C18: 5HP(25~200m)0.01~0.25㎥/min | D18: 대 | E18: =일위대가표!F76 -> 483348 | F18: =일위대가표!H76 -> 469271 | G18: =일위대가표!J76 -> 0 | H18: =일위대가표!L76 -> 14077 | I18: 제 15호표 | J18: ="_x0007_`COD|B05107_x0005_`QTY1|1_x0005_`BQC|_x0005_`EQC|_x0005_`JDC|_x0005_`WQC|_x0005_`EDT|_x0005_`ADJ|F_x0005_`DET|"&ROW(일위대가표!A74)&"_x0005_`" -> _x0007_`COD|B05107_x0005_`QTY1|1_x0005_`BQC|_x0005_`EQC|_x0005_`JDC|_x0005_`WQC|_x0005_`EDT|_x0005_`ADJ|F_x0005_`DET|74_x0005_` | K18: =HYPERLINK("#"&일위대가표!N2&"!A"&ROW(일위대가표!A74),"대가15 →") -> 대가15 →
A19: 제 16호표 | B19: 라인가압펌프(일체형스텐레스) 철거 및 설치 | C19: 7.5HP(25~200m)0.09~0.25㎥/min | D19: 대 | E19: =일위대가표!F80 -> 582367 | F19: =일위대가표!H80 -> 565406 | G19: =일위대가표!J80 -> 0 | H19: =일위대가표!L80 -> 16961 | I19: 제 16호표 | J19: ="_x0007_`COD|B05108_x0005_`QTY1|1_x0005_`BQC|_x0005_`EQC|_x0005_`JDC|_x0005_`WQC|_x0005_`EDT|_x0005_`ADJ|F_x0005_`DET|"&ROW(일위대가표!A78)&"_x0005_`" -> _x0007_`COD|B05108_x0005_`QTY1|1_x0005_`BQC|_x0005_`EQC|_x0005_`JDC|_x0005_`WQC|_x0005_`EDT|_x0005_`ADJ|F_x0005_`DET|78_x0005_` | K19: =HYPERLINK("#"&일위대가표!N2&"!A"&ROW(일위대가표!A78),"대가16 →") -> 대가16 →
A20: 제 17호표 | B20: 라인가압펌프(일체형스텐레스) 철거 및 설치 | C20: 10HP(25~200m)0.05~1.35㎥/min | D20: 대 | E20: =일위대가표!F84 -> 734777 | F20: =일위대가표!H84 -> 713377 | G20: =일위대가표!J84 -> 0 | H20: =일위대가표!L84 -> 21400 | I20: 제 17호표 | J20: ="_x0007_`COD|B05109_x0005_`QTY1|1_x0005_`BQC|_x0005_`EQC|_x0005_`JDC|_x0005_`WQC|_x0005_`EDT|_x0005_`ADJ|F_x0005_`DET|"&ROW(일위대가표!A82)&"_x0005_`" -> _x0007_`COD|B05109_x0005_`QTY1|1_x0005_`BQC|_x0005_`EQC|_x0005_`JDC|_x0005_`WQC|_x0005_`EDT|_x0005_`ADJ|F_x0005_`DET|82_x0005_` | K20: =HYPERLINK("#"&일위대가표!N2&"!A"&ROW(일위대가표!A82),"대가17 →") -> 대가17 →
A21: 제 18호표 | B21: 라인가압펌프(일체형스텐레스) 철거 및 설치 | C21: 15HP(25~200m)0.25~1.25㎥/min | D21: 대 | E21: =일위대가표!F88 -> 923410 | F21: =일위대가표!H88 -> 896515 | G21: =일위대가표!J88 -> 0 | H21: =일위대가표!L88 -> 26895 | I21: 제 18호표 | J21: ="_x0007_`COD|B05110_x0005_`QTY1|1_x0005_`BQC|_x0005_`EQC|_x0005_`JDC|_x0005_`WQC|_x0005_`EDT|_x0005_`ADJ|F_x0005_`DET|"&ROW(일위대가표!A86)&"_x0005_`" -> _x0007_`COD|B05110_x0005_`QTY1|1_x0005_`BQC|_x0005_`EQC|_x0005_`JDC|_x0005_`WQC|_x0005_`EDT|_x0005_`ADJ|F_x0005_`DET|86_x0005_` | K21: =HYPERLINK("#"&일위대가표!N2&"!A"&ROW(일위대가표!A86),"대가18 →") -> 대가18 →
A22: 제 19호표 | B22: 라인가압펌프(일체형스텐레스) 철거 및 설치 | C22: 20HP(25~200m)0.25~1.25㎥/min | D22: 대 | E22: =일위대가표!F92 -> 980333 | F22: =일위대가표!H92 -> 951780 | G22: =일위대가표!J92 -> 0 | H22: =일위대가표!L92 -> 28553 | I22: 제 19호표 | J22: ="_x0007_`COD|B05111_x0005_`QTY1|1_x0005_`BQC|_x0005_`EQC|_x0005_`JDC|_x0005_`WQC|_x0005_`EDT|_x0005_`ADJ|F_x0005_`DET|"&ROW(일위대가표!A90)&"_x0005_`" -> _x0007_`COD|B05111_x0005_`QTY1|1_x0005_`BQC|_x0005_`EQC|_x0005_`JDC|_x0005_`WQC|_x0005_`EDT|_x0005_`ADJ|F_x0005_`DET|90_x0005_` | K22: =HYPERLINK("#"&일위대가표!N2&"!A"&ROW(일위대가표!A90),"대가19 →") -> 대가19 →
A23: 제 20호표 | B23: 라인가압펌프(일체형스텐레스) 철거 및 설치 | C23: 30HP(25~200m)0.25~1.35㎥/min | D23: 대 | E23: =일위대가표!F96 -> 1583750 | F23: =일위대가표!H96 -> 1537622 | G23: =일위대가표!J96 -> 0 | H23: =일위대가표!L96 -> 46128 | I23: 제 20호표 | J23: ="_x0007_`COD|B05112_x0005_`QTY1|1_x0005_`BQC|_x0005_`EQC|_x0005_`JDC|_x0005_`WQC|_x0005_`EDT|_x0005_`ADJ|F_x0005_`DET|"&ROW(일위대가표!A94)&"_x0005_`" -> _x0007_`COD|B05112_x0005_`QTY1|1_x0005_`BQC|_x0005_`EQC|_x0005_`JDC|_x0005_`WQC|_x0005_`EDT|_x0005_`ADJ|F_x0005_`DET|94_x0005_` | K23: =HYPERLINK("#"&일위대가표!N2&"!A"&ROW(일위대가표!A94),"대가20 →") -> 대가20 →
A24: 제 21호표 | B24: 라인가압펌프(일체형스텐레스) 철거 및 설치 | C24: 40HP(25~200m)0.25~3.5㎥/min | D24: 대 | E24: =일위대가표!F100 -> 2044858 | F24: =일위대가표!H100 -> 1985300 | G24: =일위대가표!J100 -> 0 | H24: =일위대가표!L100 -> 59558 | I24: 제 21호표 | J24: ="_x0007_`COD|B05113_x0005_`QTY1|1_x0005_`BQC|_x0005_`EQC|_x0005_`JDC|_x0005_`WQC|_x0005_`EDT|_x0005_`ADJ|F_x0005_`DET|"&ROW(일위대가표!A98)&"_x0005_`" -> _x0007_`COD|B05113_x0005_`QTY1|1_x0005_`BQC|_x0005_`EQC|_x0005_`JDC|_x0005_`WQC|_x0005_`EDT|_x0005_`ADJ|F_x0005_`DET|98_x0005_` | K24: =HYPERLINK("#"&일위대가표!N2&"!A"&ROW(일위대가표!A98),"대가21 →") -> 대가21 →
A25: 제 22호표 | B25: 라인가압펌프(일체형스텐레스) 철거 및 설치 | C25: 50HP(25~200m)0.3~3.5㎥/min | D25: 대 | E25: =일위대가표!F104 -> 3289807 | F25: =일위대가표!H104 -> 3193989 | G25: =일위대가표!J104 -> 0 | H25: =일위대가표!L104 -> 95818 | I25: 제 22호표 | J25: ="_x0007_`COD|B05114_x0005_`QTY1|1_x0005_`BQC|_x0005_`EQC|_x0005_`JDC|_x0005_`WQC|_x0005_`EDT|_x0005_`ADJ|F_x0005_`DET|"&ROW(일위대가표!A102)&"_x0005_`" -> _x0007_`COD|B05114_x0005_`QTY1|1_x0005_`BQC|_x0005_`EQC|_x0005_`JDC|_x0005_`WQC|_x0005_`EDT|_x0005_`ADJ|F_x0005_`DET|102_x0005_` | K25: =HYPERLINK("#"&일위대가표!N2&"!A"&ROW(일위대가표!A102),"대가22 →") -> 대가22 →
A26: 제 23호표 | B26: 라인가압펌프(일체형스텐레스) 철거 및 설치 | C26: 60HP(25~200m)2.0~3.5㎥/min | D26: 대 | E26: =일위대가표!F108 -> 3289807 | F26: =일위대가표!H108 -> 3193989 | G26: =일위대가표!J108 -> 0 | H26: =일위대가표!L108 -> 95818 | I26: 제 23호표 | J26: ="_x0007_`COD|B05115_x0005_`QTY1|1_x0005_`BQC|_x0005_`EQC|_x0005_`JDC|_x0005_`WQC|_x0005_`EDT|_x0005_`ADJ|F_x0005_`DET|"&ROW(일위대가표!A106)&"_x0005_`" -> _x0007_`COD|B05115_x0005_`QTY1|1_x0005_`BQC|_x0005_`EQC|_x0005_`JDC|_x0005_`WQC|_x0005_`EDT|_x0005_`ADJ|F_x0005_`DET|106_x0005_` | K26: =HYPERLINK("#"&일위대가표!N2&"!A"&ROW(일위대가표!A106),"대가23 →") -> 대가23 →
A27: 제 24호표 | B27: 라인가압펌프(일체형스텐레스) 철거 및 설치 | C27: 150HP(25~200m)1.0~7.2㎥/min | D27: 대 | E27: =일위대가표!F112 -> 4030109 | F27: =일위대가표!H112 -> 3912728 | G27: =일위대가표!J112 -> 0 | H27: =일위대가표!L112 -> 117381 | I27: 제 24호표 | J27: ="_x0007_`COD|B05116_x0005_`QTY1|1_x0005_`BQC|_x0005_`EQC|_x0005_`JDC|_x0005_`WQC|_x0005_`EDT|_x0005_`ADJ|F_x0005_`DET|"&ROW(일위대가표!A110)&"_x0005_`" -> _x0007_`COD|B05116_x0005_`QTY1|1_x0005_`BQC|_x0005_`EQC|_x0005_`JDC|_x0005_`WQC|_x0005_`EDT|_x0005_`ADJ|F_x0005_`DET|110_x0005_` | K27: =HYPERLINK("#"&일위대가표!N2&"!A"&ROW(일위대가표!A110),"대가24 →") -> 대가24 →
A28: 제 25호표 | B28: 라인가압펌프(일체형스텐레스) 설치 | C28: 2HP(25-200m)0.01-0.188㎥/min | D28: 대 | E28: =일위대가표!F117 -> 260910 | F28: =일위대가표!H117 -> 253311 | G28: =일위대가표!J117 -> 0 | H28: =일위대가표!L117 -> 7599 | I28: 제 25호표 | J28: ="_x0007_`COD|B05129_x0005_`QTY1|1_x0005_`BQC|_x0005_`EQC|_x0005_`JDC|_x0005_`WQC|_x0005_`EDT|_x0005_`ADJ|F_x0005_`DET|"&ROW(일위대가표!A114)&"_x0005_`" -> _x0007_`COD|B05129_x0005_`QTY1|1_x0005_`BQC|_x0005_`EQC|_x0005_`JDC|_x0005_`WQC|_x0005_`EDT|_x0005_`ADJ|F_x0005_`DET|114_x0005_` | K28: =HYPERLINK("#"&일위대가표!N2&"!A"&ROW(일위대가표!A114),"대가25 →") -> 대가25 →
A29: 제 26호표 | B29: 라인가압펌프(일체형스텐레스) 설치 | C29: 3HP(25~200m)0.01~0.25㎥/min | D29: 대 | E29: =일위대가표!F122 -> 300644 | F29: =일위대가표!H122 -> 291888 | G29: =일위대가표!J122 -> 0 | H29: =일위대가표!L122 -> 8756 | I29: 제 26호표 | J29: ="_x0007_`COD|B05130_x0005_`QTY1|1_x0005_`BQC|_x0005_`EQC|_x0005_`JDC|_x0005_`WQC|_x0005_`EDT|_x0005_`ADJ|F_x0005_`DET|"&ROW(일위대가표!A119)&"_x0005_`" -> _x0007_`COD|B05130_x0005_`QTY1|1_x0005_`BQC|_x0005_`EQC|_x0005_`JDC|_x0005_`WQC|_x0005_`EDT|_x0005_`ADJ|F_x0005_`DET|119_x0005_` | K29: =HYPERLINK("#"&일위대가표!N2&"!A"&ROW(일위대가표!A119),"대가26 →") -> 대가26 →
A30: 제 27호표 | B30: 라인가압펌프(일체형스텐레스) 설치 | C30: 5HP(25~200m)0.01~0.25㎥/min | D30: 대 | E30: =일위대가표!F126 -> 483348 | F30: =일위대가표!H126 -> 469271 | G30: =일위대가표!J126 -> 0 | H30: =일위대가표!L126 -> 14077 | I30: 제 27호표 | J30: ="_x0007_`COD|B05131_x0005_`QTY1|1_x0005_`BQC|_x0005_`EQC|_x0005_`JDC|_x0005_`WQC|_x0005_`EDT|_x0005_`ADJ|F_x0005_`DET|"&ROW(일위대가표!A124)&"_x0005_`" -> _x0007_`COD|B05131_x0005_`QTY1|1_x0005_`BQC|_x0005_`EQC|_x0005_`JDC|_x0005_`WQC|_x0005_`EDT|_x0005_`ADJ|F_x0005_`DET|124_x0005_` | K30: =HYPERLINK("#"&일위대가표!N2&"!A"&ROW(일위대가표!A124),"대가27 →") -> 대가27 →
A31: 제 28호표 | B31: 라인가압펌프(일체형스텐레스) 설치 | C31: 10HP(25~200m)0.05~1.35㎥/min | D31: 대 | E31: =일위대가표!F130 -> 734777 | F31: =일위대가표!H130 -> 713377 | G31: =일위대가표!J130 -> 0 | H31: =일위대가표!L130 -> 21400 | I31: 제 28호표 | J31: ="_x0007_`COD|B05133_x0005_`QTY1|1_x0005_`BQC|_x0005_`EQC|_x0005_`JDC|_x0005_`WQC|_x0005_`EDT|_x0005_`ADJ|F_x0005_`DET|"&ROW(일위대가표!A128)&"_x0005_`" -> _x0007_`COD|B05133_x0005_`QTY1|1_x0005_`BQC|_x0005_`EQC|_x0005_`JDC|_x0005_`WQC|_x0005_`EDT|_x0005_`ADJ|F_x0005_`DET|128_x0005_` | K31: =HYPERLINK("#"&일위대가표!N2&"!A"&ROW(일위대가표!A128),"대가28 →") -> 대가28 →
A32: 제 29호표 | B32: 라인가압펌프(일체형스텐레스) 설치 | C32: 15HP(25~200m)0.25~1.25㎥/min | D32: 대 | E32: =일위대가표!F134 -> 923410 | F32: =일위대가표!H134 -> 896515 | G32: =일위대가표!J134 -> 0 | H32: =일위대가표!L134 -> 26895 | I32: 제 29호표 | J32: ="_x0007_`COD|B05134_x0005_`QTY1|1_x0005_`BQC|_x0005_`EQC|_x0005_`JDC|_x0005_`WQC|_x0005_`EDT|_x0005_`ADJ|F_x0005_`DET|"&ROW(일위대가표!A132)&"_x0005_`" -> _x0007_`COD|B05134_x0005_`QTY1|1_x0005_`BQC|_x0005_`EQC|_x0005_`JDC|_x0005_`WQC|_x0005_`EDT|_x0005_`ADJ|F_x0005_`DET|132_x0005_` | K32: =HYPERLINK("#"&일위대가표!N2&"!A"&ROW(일위대가표!A132),"대가29 →") -> 대가29 →
A33: 제 30호표 | B33: 라인가압펌프(일체형스텐레스) 설치 | C33: 20HP(25~200m)0.25~1.25㎥/min | D33: 대 | E33: =일위대가표!F138 -> 980333 | F33: =일위대가표!H138 -> 951780 | G33: =일위대가표!J138 -> 0 | H33: =일위대가표!L138 -> 28553 | I33: 제 30호표 | J33: ="_x0007_`COD|B05135_x0005_`QTY1|1_x0005_`BQC|_x0005_`EQC|_x0005_`JDC|_x0005_`WQC|_x0005_`EDT|_x0005_`ADJ|F_x0005_`DET|"&ROW(일위대가표!A136)&"_x0005_`" -> _x0007_`COD|B05135_x0005_`QTY1|1_x0005_`BQC|_x0005_`EQC|_x0005_`JDC|_x0005_`WQC|_x0005_`EDT|_x0005_`ADJ|F_x0005_`DET|136_x0005_` | K33: =HYPERLINK("#"&일위대가표!N2&"!A"&ROW(일위대가표!A136),"대가30 →") -> 대가30 →
A34: 제 31호표 | B34: 라인가압펌프(일체형스텐레스) 설치 | C34: 30HP(25~200m)0.25~1.35㎥/min | D34: 대 | E34: =일위대가표!F142 -> 1583750 | F34: =일위대가표!H142 -> 1537622 | G34: =일위대가표!J142 -> 0 | H34: =일위대가표!L142 -> 46128 | I34: 제 31호표 | J34: ="_x0007_`COD|B05136_x0005_`QTY1|1_x0005_`BQC|_x0005_`EQC|_x0005_`JDC|_x0005_`WQC|_x0005_`EDT|_x0005_`ADJ|F_x0005_`DET|"&ROW(일위대가표!A140)&"_x0005_`" -> _x0007_`COD|B05136_x0005_`QTY1|1_x0005_`BQC|_x0005_`EQC|_x0005_`JDC|_x0005_`WQC|_x0005_`EDT|_x0005_`ADJ|F_x0005_`DET|140_x0005_` | K34: =HYPERLINK("#"&일위대가표!N2&"!A"&ROW(일위대가표!A140),"대가31 →") -> 대가31 →
A35: 제 32호표 | B35: 라인가압펌프(일체형스텐레스) 설치 | C35: 40HP(25~200m)0.25~3.5㎥/min | D35: 대 | E35: =일위대가표!F146 -> 2044858 | F35: =일위대가표!H146 -> 1985300 | G35: =일위대가표!J146 -> 0 | H35: =일위대가표!L146 -> 59558 | I35: 제 32호표 | J35: ="_x0007_`COD|B05137_x0005_`QTY1|1_x0005_`BQC|_x0005_`EQC|_x0005_`JDC|_x0005_`WQC|_x0005_`EDT|_x0005_`ADJ|F_x0005_`DET|"&ROW(일위대가표!A144)&"_x0005_`" -> _x0007_`COD|B05137_x0005_`QTY1|1_x0005_`BQC|_x0005_`EQC|_x0005_`JDC|_x0005_`WQC|_x0005_`EDT|_x0005_`ADJ|F_x0005_`DET|144_x0005_` | K35: =HYPERLINK("#"&일위대가표!N2&"!A"&ROW(일위대가표!A144),"대가32 →") -> 대가32 →
A36: 제 33호표 | B36: 라인가압펌프(일체형스텐레스) 설치 | C36: 50HP(25~200m)0.3~3.5㎥/min | D36: 대 | E36: =일위대가표!F150 -> 3289807 | F36: =일위대가표!H150 -> 3193989 | G36: =일위대가표!J150 -> 0 | H36: =일위대가표!L150 -> 95818 | I36: 제 33호표 | J36: ="_x0007_`COD|B05138_x0005_`QTY1|1_x0005_`BQC|_x0005_`EQC|_x0005_`JDC|_x0005_`WQC|_x0005_`EDT|_x0005_`ADJ|F_x0005_`DET|"&ROW(일위대가표!A148)&"_x0005_`" -> _x0007_`COD|B05138_x0005_`QTY1|1_x0005_`BQC|_x0005_`EQC|_x0005_`JDC|_x0005_`WQC|_x0005_`EDT|_x0005_`ADJ|F_x0005_`DET|148_x0005_` | K36: =HYPERLINK("#"&일위대가표!N2&"!A"&ROW(일위대가표!A148),"대가33 →") -> 대가33 →
A37: 제 34호표 | B37: 라인가압펌프(일체형스텐레스) 설치 | C37: 60HP(25~200m)2.0~3.5㎥/min | D37: 대 | E37: =일위대가표!F154 -> 3289807 | F37: =일위대가표!H154 -> 3193989 | G37: =일위대가표!J154 -> 0 | H37: =일위대가표!L154 -> 95818 | I37: 제 34호표 | J37: ="_x0007_`COD|B05139_x0005_`QTY1|1_x0005_`BQC|_x0005_`EQC|_x0005_`JDC|_x0005_`WQC|_x0005_`EDT|_x0005_`ADJ|F_x0005_`DET|"&ROW(일위대가표!A152)&"_x0005_`" -> _x0007_`COD|B05139_x0005_`QTY1|1_x0005_`BQC|_x0005_`EQC|_x0005_`JDC|_x0005_`WQC|_x0005_`EDT|_x0005_`ADJ|F_x0005_`DET|152_x0005_` | K37: =HYPERLINK("#"&일위대가표!N2&"!A"&ROW(일위대가표!A152),"대가34 →") -> 대가34 →
A38: 제 35호표 | B38: 라인가압펌프(일체형스텐레스) 설치 | C38: 150HP(25~200m)1.0~7.2㎥/min | D38: 대 | E38: =일위대가표!F158 -> 4030109 | F38: =일위대가표!H158 -> 3912728 | G38: =일위대가표!J158 -> 0 | H38: =일위대가표!L158 -> 117381 | I38: 제 35호표 | J38: ="_x0007_`COD|B05140_x0005_`QTY1|1_x0005_`BQC|_x0005_`EQC|_x0005_`JDC|_x0005_`WQC|_x0005_`EDT|_x0005_`ADJ|F_x0005_`DET|"&ROW(일위대가표!A156)&"_x0005_`" -> _x0007_`COD|B05140_x0005_`QTY1|1_x0005_`BQC|_x0005_`EQC|_x0005_`JDC|_x0005_`WQC|_x0005_`EDT|_x0005_`ADJ|F_x0005_`DET|156_x0005_` | K38: =HYPERLINK("#"&일위대가표!N2&"!A"&ROW(일위대가표!A156),"대가35 →") -> 대가35 →
A39: 제 36호표 | B39: 라인가압펌프(일체형스텐레스) 철거 | C39: 2HP(25-200m)0.01-0.188㎥/min | D39: 대 | E39: =일위대가표!F162 -> 104363 | F39: =일위대가표!H162 -> 101324 | G39: =일위대가표!J162 -> 0 | H39: =일위대가표!L162 -> 3039 | I39: 제 36호표 | J39: ="_x0007_`COD|B05141_x0005_`QTY1|1_x0005_`BQC|_x0005_`EQC|_x0005_`JDC|_x0005_`WQC|_x0005_`EDT|_x0005_`ADJ|F_x0005_`DET|"&ROW(일위대가표!A160)&"_x0005_`" -> _x0007_`COD|B05141_x0005_`QTY1|1_x0005_`BQC|_x0005_`EQC|_x0005_`JDC|_x0005_`WQC|_x0005_`EDT|_x0005_`ADJ|F_x0005_`DET|160_x0005_` | K39: =HYPERLINK("#"&일위대가표!N2&"!A"&ROW(일위대가표!A160),"대가36 →") -> 대가36 →
A40: 제 37호표 | B40: 라인가압펌프(일체형스텐레스) 철거 | C40: 3HP(25~200m)0.01~0.25㎥/min | D40: 대 | E40: =일위대가표!F166 -> 120257 | F40: =일위대가표!H166 -> 116755 | G40: =일위대가표!J166 -> 0 | H40: =일위대가표!L166 -> 3502 | I40: 제 37호표 | J40: ="_x0007_`COD|B05142_x0005_`QTY1|1_x0005_`BQC|_x0005_`EQC|_x0005_`JDC|_x0005_`WQC|_x0005_`EDT|_x0005_`ADJ|F_x0005_`DET|"&ROW(일위대가표!A164)&"_x0005_`" -> _x0007_`COD|B05142_x0005_`QTY1|1_x0005_`BQC|_x0005_`EQC|_x0005_`JDC|_x0005_`WQC|_x0005_`EDT|_x0005_`ADJ|F_x0005_`DET|164_x0005_` | K40: =HYPERLINK("#"&일위대가표!N2&"!A"&ROW(일위대가표!A164),"대가37 →") -> 대가37 →
...

Sheet 일위대가표
A1: 일 위 대 가 표 | N1: STmate | Z1: STmate
A2: 공사명 : 2026년도 무인화시설물 유지보수(기계) 연간단가공사(1권역) | N2: =MID(CELL("filename",$A$1),FIND("]",CELL("filename",$A$1))+1,LEN(CELL("filename",$A$1))) -> 일위대가표
A3: 명 칭 | B3: 규 격 | C3: 수 량 | D3: 단위 | E3: 합 계 | G3: 노 무 비 | I3: 재 료 비 | K3: 경 비 | M3: 비 고
E4: 단 가 | F4: 금 액 | G4: 단 가 | H4: 금 액 | I4: 단 가 | J4: 금 액 | K4: 단 가 | L4: 금 액 | Z4: =HYPERLINK("#'〓 목 차 〓'!B2","목차 →") -> 목차 →
A6: 제 1 호표 라인가압펌프(일체형스텐레스) 2HP(25-200m)0.01-0.188㎥/min / 대 | M6: 대가1 | N6: =HYPERLINK("#N"&ROW(N8),"_x0005_`BDCOD|B04896_x0007_`POSS|"&ROW(N7)&"_x0007_`POSE|"&ROW(N8)&"_x0007_`") -> _x0005_`BDCOD|B04896_x0007_`POSS|7_x0007_`POSE|8_x0007_` | O6: B04896
A7: 펌프류 철거 및 설치 | B7: 1.5KW 이하 - 철거40% | C7: 1 | D7: 대 | E7: =I7+G7+K7 -> 365273 | F7: =J7+H7+L7 -> 365273 | G7: =일위대가목록표!F658 -> 354635 | H7: =IF(C7=0,0,ROUNDDOWN(G7*C7,1)) -> 354635 | I7: =일위대가목록표!G658 -> 0 | J7: =IF(C7=0,0,ROUNDDOWN(I7*C7,1)) -> 0 | K7: =일위대가목록표!H658 -> 10638 | L7: =IF(C7=0,0,ROUNDDOWN(K7*C7,1)) -> 10638 | M7: 대가 655호표 | N7: _x0007_`COD|B04777_x0005_`EXI|0_x0005_`DVD|F_x0005_`BMK| _x0005_`IPR|0_x0005_`BLA|F_x0005_` | O7: B04777_1 | P7: T7_1 | Z7: =HYPERLINK("#"&일위대가목록표!J2&"!A"&ROW(일위대가목록표!A658),"대가655 →") -> 대가655 →
A8: 라인가압펌프(일체형스텐레스) | B8: 2HP(25~200m)0.01~0.188㎥/min | C8: 1 | D8: 대 | E8: =I8+G8+K8 -> 8000000 | F8: =J8+H8+L8 -> 8000000 | G8: 0 | H8: =IF(C8=0,0,ROUNDDOWN(G8*C8,1)) -> 0 | I8: =재료비목록표!E43 -> 8000000 | J8: =IF(C8=0,0,ROUNDDOWN(I8*C8,1)) -> 8000000 | K8: 0 | L8: =IF(C8=0,0,ROUNDDOWN(K8*C8,1)) -> 0 | M8: 자재40 | N8: _x0007_`COD|M06651_x0005_`EXI|0_x0005_`DVD|F_x0005_`BMK| _x0005_`IPR|0_x0005_`KWN|0_x0005_`BLA|F_x0005_` | O8: M06651_1 | P8: T7_1 | Z8: =HYPERLINK("#"&재료비목록표!G2&"!A"&ROW(재료비목록표!A43),"자재40 →") -> 자재40 →
A9: 합 계 | F9: =J9+H9+L9 -> 8365273 | H9: =ROUNDDOWN(SUMIF(P7:P8,O9,H7:H8),0) -> 354635 | J9: =ROUNDDOWN(SUMIF(P7:P8,O9,J7:J8),0) -> 8000000 | L9: =ROUNDDOWN(SUMIF(P7:P8,O9,L7:L8),0) -> 10638 | O9: T7_1
A11: 제 2 호표 라인가압펌프(일체형스텐레스) 3HP(25~200m)0.01~0.25㎥/min / 대 | M11: 대가2 | N11: =HYPERLINK("#N"&ROW(N13),"_x0005_`BDCOD|B04897_x0007_`POSS|"&ROW(N12)&"_x0007_`POSE|"&ROW(N13)&"_x0007_`") -> _x0005_`BDCOD|B04897_x0007_`POSS|12_x0007_`POSE|13_x0007_` | O11: B04897
A12: 펌프류 철거 및 설치 | B12: 2.2KW 이하 - 철거40% | C12: 1 | D12: 대 | E12: =I12+G12+K12 -> 420901 | F12: =J12+H12+L12 -> 420901 | G12: =일위대가목록표!F661 -> 408643 | H12: =IF(C12=0,0,ROUNDDOWN(G12*C12,1)) -> 408643 | I12: =일위대가목록표!G661 -> 0 | J12: =IF(C12=0,0,ROUNDDOWN(I12*C12,1)) -> 0 | K12: =일위대가목록표!H661 -> 12258 | L12: =IF(C12=0,0,ROUNDDOWN(K12*C12,1)) -> 12258 | M12: 대가 658호표 | N12: _x0007_`COD|B04778_x0005_`EXI|0_x0005_`DVD|F_x0005_`BMK| _x0005_`IPR|0_x0005_`BLA|F_x0005_` | O12: B04778_1 | P12: T7_1 | Z12: =HYPERLINK("#"&일위대가목록표!J2&"!A"&ROW(일위대가목록표!A661),"대가658 →") -> 대가658 →
A13: 라인가압펌프(일체형스텐레스) | B13: 3HP(25~200m)0.01~0.25㎥/min | C13: 1 | D13: 대 | E13: =I13+G13+K13 -> 9500000 | F13: =J13+H13+L13 -> 9500000 | G13: 0 | H13: =IF(C13=0,0,ROUNDDOWN(G13*C13,1)) -> 0 | I13: =재료비목록표!E45 -> 9500000 | J13: =IF(C13=0,0,ROUNDDOWN(I13*C13,1)) -> 9500000 | K13: 0 | L13: =IF(C13=0,0,ROUNDDOWN(K13*C13,1)) -> 0 | M13: 자재42 | N13: _x0007_`COD|M06652_x0005_`EXI|0_x0005_`DVD|F_x0005_`BMK| _x0005_`IPR|0_x0005_`KWN|0_x0005_`BLA|F_x0005_` | O13: M06652_1 | P13: T7_1 | Z13: =HYPERLINK("#"&재료비목록표!G2&"!A"&ROW(재료비목록표!A45),"자재42 →") -> 자재42 →
A14: 합 계 | F14: =J14+H14+L14 -> 9920901 | H14: =ROUNDDOWN(SUMIF(P12:P13,O14,H12:H13),0) -> 408643 | J14: =ROUNDDOWN(SUMIF(P12:P13,O14,J12:J13),0) -> 9500000 | L14: =ROUNDDOWN(SUMIF(P12:P13,O14,L12:L13),0) -> 12258 | O14: T7_1
A16: 제 3 호표 라인가압펌프(일체형스텐레스) 5HP(25~200m)0.01~0.25㎥/min / 대 | M16: 대가3 | N16: =HYPERLINK("#N"&ROW(N18),"_x0005_`BDCOD|B04898_x0007_`POSS|"&ROW(N17)&"_x0007_`POSE|"&ROW(N18)&"_x0007_`") -> _x0005_`BDCOD|B04898_x0007_`POSS|17_x0007_`POSE|18_x0007_` | O16: B04898
A17: 펌프류 철거 및 설치 | B17: 3.7KW 이하 - 철거40% | C17: 1 | D17: 대 | E17: =I17+G17+K17 -> 483348 | F17: =J17+H17+L17 -> 483348 | G17: =일위대가목록표!F664 -> 469271 | H17: =IF(C17=0,0,ROUNDDOWN(G17*C17,1)) -> 469271 | I17: =일위대가목록표!G664 -> 0 | J17: =IF(C17=0,0,ROUNDDOWN(I17*C17,1)) -> 0 | K17: =일위대가목록표!H664 -> 14077 | L17: =IF(C17=0,0,ROUNDDOWN(K17*C17,1)) -> 14077 | M17: 대가 661호표 | N17: _x0007_`COD|B04779_x0005_`EXI|0_x0005_`DVD|F_x0005_`BMK| _x0005_`IPR|0_x0005_`BLA|F_x0005_` | O17: B04779_1 | P17: T7_1 | Z17: =HYPERLINK("#"&일위대가목록표!J2&"!A"&ROW(일위대가목록표!A664),"대가661 →") -> 대가661 →
A18: 라인가압펌프(일체형스텐레스) | B18: 5HP(25~200m)0.05~0.25㎥/min | C18: 1 | D18: 대 | E18: =I18+G18+K18 -> 11000000 | F18: =J18+H18+L18 -> 11000000 | G18: 0 | H18: =IF(C18=0,0,ROUNDDOWN(G18*C18,1)) -> 0 | I18: =재료비목록표!E48 -> 11000000 | J18: =IF(C18=0,0,ROUNDDOWN(I18*C18,1)) -> 11000000 | K18: 0 | L18: =IF(C18=0,0,ROUNDDOWN(K18*C18,1)) -> 0 | M18: 자재45 | N18: _x0007_`COD|M06653_x0005_`EXI|0_x0005_`DVD|F_x0005_`BMK| _x0005_`IPR|0_x0005_`KWN|0_x0005_`BLA|F_x0005_` | O18: M06653_1 | P18: T7_1 | Z18: =HYPERLINK("#"&재료비목록표!G2&"!A"&ROW(재료비목록표!A48),"자재45 →") -> 자재45 →
A19: 합 계 | F19: =J19+H19+L19 -> 11483348 | H19: =ROUNDDOWN(SUMIF(P17:P18,O19,H17:H18),0) -> 469271 | J19: =ROUNDDOWN(SUMIF(P17:P18,O19,J17:J18),0) -> 11000000 | L19: =ROUNDDOWN(SUMIF(P17:P18,O19,L17:L18),0) -> 14077 | O19: T7_1
A21: 제 4 호표 라인가압펌프(일체형스텐레스) 7.5HP(25~200m)0.09~0.25㎥/min / 대 | M21: 대가4 | N21: =HYPERLINK("#N"&ROW(N23),"_x0005_`BDCOD|B04899_x0007_`POSS|"&ROW(N22)&"_x0007_`POSE|"&ROW(N23)&"_x0007_`") -> _x0005_`BDCOD|B04899_x0007_`POSS|22_x0007_`POSE|23_x0007_` | O21: B04899
A22: 펌프류 철거 및 설치 | B22: 5.5KW 이하 - 철거40% | C22: 1 | D22: 대 | E22: =I22+G22+K22 -> 582367 | F22: =J22+H22+L22 -> 582367 | G22: =일위대가목록표!F667 -> 565406 | H22: =IF(C22=0,0,ROUNDDOWN(G22*C22,1)) -> 565406 | I22: =일위대가목록표!G667 -> 0 | J22: =IF(C22=0,0,ROUNDDOWN(I22*C22,1)) -> 0 | K22: =일위대가목록표!H667 -> 16961 | L22: =IF(C22=0,0,ROUNDDOWN(K22*C22,1)) -> 16961 | M22: 대가 664호표 | N22: _x0007_`COD|B04780_x0005_`EXI|0_x0005_`DVD|F_x0005_`BMK| _x0005_`IPR|0_x0005_`BLA|F_x0005_` | O22: B04780_1 | P22: T7_1 | Z22: =HYPERLINK("#"&일위대가목록표!J2&"!A"&ROW(일위대가목록표!A667),"대가664 →") -> 대가664 →
A23: 라인가압펌프(일체형스텐레스) | B23: 7.5HP(15~120m)0.05~0.4㎥/min | C23: 1 | D23: 대 | E23: =I23+G23+K23 -> 12500000 | F23: =J23+H23+L23 -> 12500000 | G23: 0 | H23: =IF(C23=0,0,ROUNDDOWN(G23*C23,1)) -> 0 | I23: =재료비목록표!E50 -> 12500000 | J23: =IF(C23=0,0,ROUNDDOWN(I23*C23,1)) -> 12500000 | K23: 0 | L23: =IF(C23=0,0,ROUNDDOWN(K23*C23,1)) -> 0 | M23: 자재47 | N23: _x0007_`COD|M06654_x0005_`EXI|0_x0005_`DVD|F_x0005_`BMK| _x0005_`IPR|0_x0005_`KWN|0_x0005_`BLA|F_x0005_` | O23: M06654_1 | P23: T7_1 | Z23: =HYPERLINK("#"&재료비목록표!G2&"!A"&ROW(재료비목록표!A50),"자재47 →") -> 자재47 →
A24: 합 계 | F24: =J24+H24+L24 -> 13082367 | H24: =ROUNDDOWN(SUMIF(P22:P23,O24,H22:H23),0) -> 565406 | J24: =ROUNDDOWN(SUMIF(P22:P23,O24,J22:J23),0) -> 12500000 | L24: =ROUNDDOWN(SUMIF(P22:P23,O24,L22:L23),0) -> 16961 | O24: T7_1
A26: 제 5 호표 라인가압펌프(일체형스텐레스) 10HP(25~200m)0.05~1.35㎥/min / 대 | M26: 대가5 | N26: =HYPERLINK("#N"&ROW(N28),"_x0005_`BDCOD|B04900_x0007_`POSS|"&ROW(N27)&"_x0007_`POSE|"&ROW(N28)&"_x0007_`") -> _x0005_`BDCOD|B04900_x0007_`POSS|27_x0007_`POSE|28_x0007_` | O26: B04900
