Workbook
Name _: [2]예가표!#REF!
Name _?쾴?: #REF!
Name _?쾴?: #REF!
Name _?쾴?: #REF!
Name _?쾴?: #REF!
Name _?쾴?_?: #REF!
Name _?쾴?_?: #REF!
Name _?쾴?_?: #REF!
Name _?쾴?___P: #REF!
Name _?쾴?___P: #REF!
Name _?쾴?___P: #REF!
Name _?쾴?_T: #REF!
Name _?쾴?_T: #REF!
Name _?쾴?_T: #REF!
Name __: [2]예가표!#REF!
Name ___: [2]예가표!#REF!
Name ______: [2]예가표!#REF!
Name _______: [2]예가표!#REF!
Name _________: [2]예가표!#REF!
Name __________: [2]예가표!#REF!
Name ___________: [2]예가표!#REF!
Name ____________: [2]예가표!#REF!
Name _____________: [2]예가표!#REF!
Name ______________: [2]예가표!#REF!
Name ____________LP1: '[3]부하(성남)'!#REF!
Name ____________LPB1: [4]부하계산서!#REF!
Name ____________LPK1: [4]부하계산서!#REF!
Name ____________LU1: '[3]부하(성남)'!#REF!
Name ____________LU2: '[3]부하(성남)'!#REF!
Name ____________LV01: '[3]부하(성남)'!#REF!
Name ____________UP1: [4]부하계산서!#REF!
Name ____________UP2: [4]부하계산서!#REF!
Name _______LP1: '[3]부하(성남)'!#REF!
Name _______LPB1: [4]부하계산서!#REF!
Name _______LPK1: [4]부하계산서!#REF!
Name _______LU1: '[3]부하(성남)'!#REF!
Name _______LU2: '[3]부하(성남)'!#REF!
Name _______LV01: '[3]부하(성남)'!#REF!
Name _______UP1: [4]부하계산서!#REF!
Name _______UP2: [4]부하계산서!#REF!
Name ____PB1: #REF!
Name ____PB1: #REF!
Name ____PB1: #REF!
Name ____PB2: #REF!
Name ____PB2: #REF!
Name ____PB2: #REF!
Name ____PB3: #REF!
Name ____PB3: #REF!
Name ____PB3: #REF!
Name ___PB1: #REF!
Name ___PB1: #REF!
Name ___PB1: #REF!
Name ___PB2: #REF!
Name ___PB2: #REF!
Name ___PB2: #REF!
Name ___PB3: #REF!
Name ___PB3: #REF!
Name ___PB3: #REF!
Name __DemandLoad: TRUE
Name __LP1: '[3]부하(성남)'!#REF!

Sheet 총괄표
A1: 공사비총괄표
A2: (2026. 08 . .)
A3: 1. 공 사 명 : 천안고용복지플러스센터 통합네트워크 인테리어 공사 | G3: 발 주 사 무 소 : (인)
A4: 2. 규 모 : 2,425 M2 (약 734 평) | G4: 작성자(설계자) : ㈜바루다 건축사사무소 (인)
A5: 3. 구 조 : 리모델링 공사
A6: 4. 공사기간 : 6 개월 미만
A8: 구분 | B8: 도급공사 | C8: 도급자관급 | D8: 관급자관급 | E8: 별도공사 | F8: 폐기물처리비 | G8: 계 | H8: 비 고
H9: 지급자재 내용 | I9: 별도공사 내용
A10: 건 축 공 사 | B10: ='원가계산(건축)'!D42 -> 909610000 | C10: ='원가계산(건축)'!D43 -> 0 | D10: ='원가계산(건축)'!D44 -> 0 | E10: 0 | F10: 0 | G10: =B10+C10+D10+E10+F10 -> 909610000 | J10: =G10/K10 -> 361099.64 | K10: 2519 | N10: 2.2620093e+09 | O10: =G10/N10*100 -> 40.212479 | Q10: =G10/285 -> 3191614
A11: 기 계 공 사 | B11: 0 | C11: 0 | D11: 0 | E11: 0 | F11: 0 | G11: =B11+C11+D11+E11+F11 -> 0
A12: 전 기 공 사 | B12: 0 | C12: 0 | D12: 0 | E12: 0 | F12: 0 | G12: =B12+C12+D12+E12+F12 -> 0 | J12: 02. 사용전검사 수수료 | K12: 1055 | N12: 2.2620093e+09 | O12: =G12/N12*100 -> 0 | Q12: =G12/285 -> 0
A13: 통 신 공 사 | B13: 0 | C13: 0 | D13: 0 | E13: 0 | F13: 0 | G13: =B13+C13+D13+E13+F13 -> 0 | J13: 03. 운송설비 | K13: 1055 | L13: 010201 CCTV설비 | N13: 2.2620093e+09 | O13: =G13/N13*100 -> 0 | Q13: =G13/285 -> 0
A14: 소 방 공 사(전기+기계) | B14: 0 | C14: 0 | D14: 0 | E14: 0 | F14: 0 | G14: =B14+C14+D14+E14+F14 -> 0 | K14: 1055 | L14: 010202 AV설비공사 | N14: 2.2620093e+09 | O14: =G14/N14*100 -> 0 | Q14: =G14/285 -> 0
A15: 건설폐기물처리비 (건축) | B15: 0 | C15: 0 | D15: 0 | E15: 0 | F15: 0 | G15: =B15+C15+D15+E15+F15 -> 0
A16: 합 계 | B16: =SUM(B10:B15) -> 909610000 | C16: =SUM(C10:C15) -> 0 | D16: =SUM(D10:D15) -> 0 | E16: =SUM(E10:E15) -> 0 | F16: =SUM(F10:F15) -> 0 | G16: =B16+C16+D16+E16+F16 -> 909610000 | L16: 03. 마트 방송설비 | N16: 2.2620093e+09 | O16: =G16/N16*100 -> 40.212479 | Q16: =G16/285 -> 3191614
D17: =TRUNC((D9+D10+D40/1.1)*F17,0) -> 0 | G17: =TRUNC((D9+D10+D40/1.1)*F17,0) -> 0 | L17: 04. 금융시설 방송설비 | N17: 2.2620093e+09 | O17: =G17/N17*100 -> 0
A18: 총 계 | B18: =B16 -> 909610000 | C18: =C16 -> 0 | D18: =D16 -> 0 | E18: =E16 -> 0 | F18: =F16 -> 0 | G18: =B18+C18+D18+E18+F18 -> 909610000 | I18: 용역비,취득록세별도
J19: 계
J20: 3. 별도공사
J21: 나. 상수도인입분담금
G22: =G18 -> 909610000 | H22: =F22-G22 -> -909610000 | J22: 다. 오하수원인자분담금
G32: =INT((G16+G28+G30)*$C32) -> 0

Sheet 원가계산(건축)
A1: 공 사 원 가 계 산 서
A3: =순공사비!A2 -> [ 천안고용복지플러스센터 통합네트워크 인테리어 공사 ] | E3: =CONCATENATE("금액",":", " 일금 ",NUMBERSTRING(D46,1),"원정") -> 금액: 일금 구억구백육십일만원정
A4: 구 분 | D4: 금 액 | E4: 구 성 비 | G4: 비 고
A6: 순 공 사 비 원 가 | B6: 재 료 비 | C6: 직 접 재 료 비 | D6: =순공사비!F11 -> 219735634
C7: 간 접 재 료 비 | D7: 0
C8: 작업설 . 부산물(△) | D8: 0
C9: (1) [소 계] | D9: =SUM(D6:D8) -> 219735634 | L9: =(#REF!+#REF!+(#REF!/1.1))*1.86% -> #REF!
B10: 노 무 비 | C10: 직 접 노 무 비 | D10: =순공사비!H11 -> 305283337
C11: 간 접 노 무 비 | D11: =TRUNC((D10*F11),0) -> 53424583 | E11: 직접노무비의 * | F11: 0.175 | L11: =(#REF!+#REF!)*1.86%*1.2 -> #REF!
C12: (2) [소 계] | D12: =SUM(D10:D11) -> 358707920
B13: 경 비 | C13: 운 반 비 | D13: 0
C14: 기 계 경 비 | D14: =순공사비!J11 -> 6422604
C15: 산 재 보 험 료 | D15: =TRUNC((D12)*F15,0) -> 12770001 | E15: [직노+간노] * | F15: 0.0356
C16: 산업안전보건관리비 | D16: =TRUNC((D9+D10+(D43/1.1))*F16,0) -> 16328089 | E16: a.(재+직노+도급자관급/1.1)* | F16: 0.0311 | G16: =TRUNC((D9+D10+(D43/1.1))*F16,0) -> 16328089 | H16: a와b 중 작은값적용. | I16: (적용함)
E17: b.[직재+직노] * 1.2 | F17: 0.0311 | G17: =TRUNC(((D9+D10)*F17)*1.2,0)*0 -> 0
C18: 고 용 보 험 료 | D18: =TRUNC((D12)*F18,0) -> 3622949 | E18: 노무비 * | F18: 0.0101 | J18: 정기안전점검비 연면적 | K18: 전체요율 | L18: 정기안전점검요율 | M18: 초기점검요율
C19: 건 강 보 험 료 | D19: =TRUNC((D10)*F19,0) -> 10974935 | E19: 직접노무비의 * | F19: 0.03595 | J19: 5,000m2 | K19: =SUM(L19:M19) -> 0.52 | L19: 0.35 | M19: 0.17
C20: 노인장기요양보험료 | D20: =TRUNC((D19)*F20,0) -> 1442106 | E20: 건강보험료의 * | F20: 0.1314 | J20: 10,000m2 | K20: =SUM(L20:M20) -> 0.34 | L20: 0.24 | M20: 0.1
C21: 연 금 보 험 료 | D21: =TRUNC((D10)*F21,0) -> 14500958 | E21: 직접노무비의 * | F21: 0.0475 | J21: 30,000m2 | K21: =SUM(L21:M21) -> 0.16 | L21: 0.11 | M21: 0.05
C22: 퇴 직 공 제 부 금 비 | D22: =TRUNC((D10)*F22,0) -> 7021516 | E22: 직접노무비의 * | F22: 0.023 | J22: 50,000m2 | K22: =SUM(L22:M22) -> 0.13 | L22: 0.09 | M22: 0.04
C23: 환 경 보 전 비 | D23: =TRUNC((D9+D10+D13+D14+(D30+D31+D38))*F23,0) -> 1639648 | E23: [재+직노+산출경비] * | F23: 0.003 | J23: 100,000m2 | K23: =SUM(L23:M23) -> 0.11 | L23: 0.08 | M23: 0.03
C24: 건설기계대여금지급보증서 | D24: =TRUNC((D9+D10+D13+D14+(D30+D31+D38))*F24,0) -> 546549 | E24: [재+직노+산출경비] * | F24: 0.001
C25: 하도급지급보증서발급수수료 | D25: =TRUNC((D9+D10+D13+D14+(D30+D31+D38))*F25,0)*0 -> 0 | E25: [재+직노+산출경비] * | F25: 0.00081 | J25: 1500000
C26: 공사이행보증수수료 | D26: =TRUNC(((J25)+((D9+D10+D14)-J26)*0.0077%)*J27)*0 -> 0 | G26: 120억이상~250억미만 | J26: 13000000000
C27: 기 타 경 비 | D27: =TRUNC((D9+D12)*F27,0) -> 28922177 | E27: [재료비+노무비] * | F27: 0.05 | J27: 2
C28: 석 면 분 담 금 | D28: =TRUNC((D12)*F28,0) -> 21522 | E28: 노무비 * | F28: 6e-05
C29: 임 금 채 권 부 담 금 | D29: =TRUNC((D12)*F29,0) -> 322837 | E29: 노무비 * | F29: 0.0009
C30: 안 전 관 리 비 | D30: 0 | E30: [재+직노+산출경비] * | F30: 0
C31: 품 질 관 리 비 | D31: =순공사비!L48 -> 1654330
C32: (3) [소 계] | D32: =SUM(D13:D31) -> 106190221
A33: (4) [소 계] | D33: =D9+D12+D32 -> 684633775 | G33: (1)+(2)+(3)
A34: 일 반 관 리 비 | D34: =TRUNC((D33)*F34,0) -> 54770702 | E34: 계 * | F34: 0.08
A35: 이 윤 | D35: =TRUNC((D12+D32+D34)*F35-790,0) -> 77949536 | E35: [노무비+경비+일반관리비] * | F35: 0.15
A36: 가 구 공 사 | D36: 0
A37: 작 업 부 산 물 | D37: =순공사비!L35 -> -3889535
A38: 건 설 폐 기 물 처 리 비 | D38: =순공사비!L43 -> 13453704 | G38: 100 ton미만
A39: T . A . B 공 사 | D39: 0 | G39: [ 기계공사 ]
A40: 공 급 가 액 | D40: =SUM(D33:D39) -> 826918182
A41: 부 가 가 치 세 | D41: =TRUNC((D40)*F41,0) -> 82691818 | E41: 공급가액 * | F41: 0.1
A42: [ 도 급 공 사 비] | D42: =SUM(D40:D41) -> 909610000
...

Sheet 순공사비
A1: 순 공 사 비
A2: =공종별집계표!A2 -> [ 천안고용복지플러스센터 통합네트워크 인테리어 공사 ]
A3: 품 명 | B3: 규 격 | C3: 단위 | D3: 수량 | E3: 재 료 비 | G3: 노 무 비 | I3: 경 비 | K3: 합 계 | M3: 비고
E4: 단가 | F4: 금액 | G4: 단가 | H4: 금액 | I4: 단가 | J4: 금액 | K4: 단가 | L4: 금액
A5: 01.리모델링 [2F] | D5: 1 | F5: =공종별집계표!F19 -> 42388013 | H5: =공종별집계표!H19 -> 61776018 | J5: =공종별집계표!J19 -> 1241736 | L5: =F5+H5+J5 -> 105405767 | N5: =L11+L19+L27+L35+L43+L48 -> 542660074
A6: 02.리모델링 [3F] | D6: 1 | F6: =공종별집계표!F45 -> 52203421 | H6: =공종별집계표!H45 -> 62877624 | J6: =공종별집계표!J45 -> 1410443 | L6: =F6+H6+J6 -> 116491488
A7: 03.리모델링 [4F] | D7: 1 | F7: =공종별집계표!F72 -> 48470005 | H7: =공종별집계표!H72 -> 71994012 | J7: =공종별집계표!J72 -> 1409264 | L7: =F7+H7+J7 -> 121873281
A8: 04.리모델링 [5F] | D8: 1 | F8: =공종별집계표!F99 -> 54552040 | H8: =공종별집계표!H99 -> 75153181 | J8: =공종별집계표!J99 -> 1562130 | L8: =F8+H8+J8 -> 131267351
A9: 05.리모델링 [9F] | D9: 1 | F9: =공종별집계표!F126 -> 22122155 | H9: =공종별집계표!H126 -> 33482502 | J9: =공종별집계표!J126 -> 799031 | L9: =F9+H9+J9 -> 56403688
A11: [ 소 계 ] | F11: =SUM(F5:F9) -> 219735634 | H11: =SUM(H5:H9) -> 305283337 | J11: =SUM(J5:J9) -> 6422604 | L11: =F11+H11+J11 -> 531441575
A13: 05. 도급자관급 [2F] | D13: 1 | F13: 0 | H13: 0 | J13: 0 | L13: =F13+H13+J13 -> 0
A14: 06. 도급자관급 [3F] | D14: 1 | F14: 0 | H14: 0 | J14: 0 | L14: =F14+H14+J14 -> 0
A15: 07. 도급자관급 [4F] | D15: 1 | F15: 0 | H15: 0 | J15: 0 | L15: =F15+H15+J15 -> 0
A16: 08. 도급자관급 [5F] | D16: 1 | F16: 0 | H16: 0 | J16: 0 | L16: =F16+H16+J16 -> 0
A17: 09. 도급자관급 [9F] | D17: 1 | F17: 0 | H17: 0 | J17: 0 | L17: =F17+H17+J17 -> 0
A19: [ 소 계 ] | F19: =SUM(F13:F17) -> 0 | H19: =SUM(H13:H17) -> 0 | J19: =SUM(J13:J17) -> 0 | L19: =F19+H19+J19 -> 0
A21: 10. 관급자관급 [2F] | D21: 1 | L21: =F21+H21+J21 -> 0
A22: 11. 관급자관급 [3F] | D22: 1 | F22: 0 | H22: 0 | J22: 0 | L22: =F22+H22+J22 -> 0
A23: 12. 관급자관급 [4F] | D23: 1 | F23: 0 | H23: 0 | J23: 0 | L23: =F23+H23+J23 -> 0
A24: 13. 관급자관급 [5F] | D24: 1 | F24: 0 | H24: 0 | J24: 0 | L24: =F24+H24+J24 -> 0
A25: 14. 관급자관급 [9F] | D25: 1 | F25: 0 | H25: 0 | J25: 0 | L25: =F25+H25+J25 -> 0
A27: [ 소 계 ] | F27: =SUM(F21:F25) -> 0 | H27: =SUM(H21:H25) -> 0 | J27: =SUM(J21:J25) -> 0 | L27: =F27+H27+J27 -> 0
A29: 15. 작업부산물 [2F] | D29: 1 | F29: =공종별집계표!F29 -> -1112985 | H29: =공종별집계표!H29 -> 0 | J29: =공종별집계표!J29 -> 0 | L29: =F29+H29+J29 -> -1112985
A30: 16. 작업부산물 [3F] | D30: 1 | F30: =공종별집계표!F55 -> -912695 | H30: =공종별집계표!H55 -> 0 | J30: =공종별집계표!J55 -> 0 | L30: =F30+H30+J30 -> -912695
A31: 17. 작업부산물 [4F] | D31: 1 | F31: =공종별집계표!F82 -> -759760 | H31: =공종별집계표!H82 -> 0 | J31: =공종별집계표!J82 -> 0 | L31: =F31+H31+J31 -> -759760
A32: 18. 작업부산물 [5F] | D32: 1 | F32: =공종별집계표!F109 -> -639700 | H32: =공종별집계표!H109 -> 0 | J32: =공종별집계표!J109 -> 0 | L32: =F32+H32+J32 -> -639700
A33: 19. 작업부산물 [9F] | D33: 1 | F33: =공종별집계표!F136 -> -464395 | H33: =공종별집계표!H136 -> 0 | J33: =공종별집계표!J136 -> 0 | L33: =F33+H33+J33 -> -464395
A35: [ 소 계 ] | F35: =SUM(F29:F33) -> -3889535 | H35: =SUM(H29:H33) -> 0 | J35: =SUM(J29:J33) -> 0 | L35: =F35+H35+J35 -> -3889535
A37: 20. 건설폐기물처리비 [2F] | D37: 1 | F37: =공종별집계표!F24 -> 0 | H37: =공종별집계표!H24 -> 0 | J37: =공종별집계표!J24 -> 2928969 | L37: =F37+H37+J37 -> 2928969
A38: 21. 건설폐기물처리비 [3F] | D38: 1 | F38: =공종별집계표!F50 -> 0 | H38: =공종별집계표!H50 -> 0 | J38: =공종별집계표!J50 -> 2990740 | L38: =F38+H38+J38 -> 2990740
A39: 22. 건설폐기물처리비 [4F] | D39: 1 | F39: =공종별집계표!F77 -> 0 | H39: =공종별집계표!H77 -> 0 | J39: =공종별집계표!J77 -> 2725565 | L39: =F39+H39+J39 -> 2725565
A40: 23. 건설폐기물처리비 [5F] | D40: 1 | F40: =공종별집계표!F104 -> 0 | H40: =공종별집계표!H104 -> 0 | J40: =공종별집계표!J104 -> 2943375 | L40: =F40+H40+J40 -> 2943375
A41: 24. 건설폐기물처리비 [9F] | D41: 1 | F41: =공종별집계표!F131 -> 0 | H41: =공종별집계표!H131 -> 0 | J41: =공종별집계표!J131 -> 1865055 | L41: =F41+H41+J41 -> 1865055
A43: [ 소 계 ] | F43: =SUM(F37:F41) -> 0 | H43: =SUM(H37:H41) -> 0 | J43: =SUM(J37:J41) -> 13453704 | L43: =F43+H43+J43 -> 13453704
A45: 25. 품질관리비 | D45: 1 | F45: =[1]공종별집계표!F166 -> 0 | H45: =[1]공종별집계표!H166 -> 0 | J45: =[1]공종별집계표!J166 -> 1654330 | L45: =F45+H45+J45 -> 1654330
A48: [ 소 계 ] | F48: =SUM(F45) -> 0 | H48: =SUM(H45) -> 0 | J48: =SUM(J45) -> 1654330 | L48: =F48+H48+J48 -> 1654330
A52: [ 합 계 ] | F52: =F11+F19+F27+F35+F43+F48 -> 215846099 | H52: =H11+H19+H27+H35+H43+H48 -> 305283337 | J52: =J11+J19+J27+J35+J43+J48 -> 21530638 | L52: =F52+H52+J52 -> 542660074
L57: 248915472

Sheet 공종별집계표
A1: 공 종 별 집 계 표
A2: [ 천안고용복지플러스센터 통합네트워크 인테리어 공사 ]
A3: 품 명 | B3: 규 격 | C3: 단위 | D3: 수량 | E3: 재 료 비 | G3: 노 무 비 | I3: 경 비 | K3: 합 계 | M3: 비 고 | N3: 공종코드 | O3: 변수 | P3: 상위공종 | Q3: 공종구분 | R3: 공종레벨 | S3: 공종소계 | T3: 원가계산서 연결금액
E4: 단 가 | F4: 금 액 | G4: 단 가 | H4: 금 액 | I4: 단 가 | J4: 금 액 | K4: 단 가 | L4: 금 액
A5: 0101 01.2층 | N5: 0101 | P5: 01 | R5: 2
A6: 010101 가 설 공 사 | D6: 1 | E6: =공종별내역서!F29 -> 44127 | F6: =E6*D6 -> 44127 | G6: =공종별내역서!H29 -> 3442806 | H6: =G6*D6 -> 3442806 | I6: =공종별내역서!J29 -> 0 | J6: =I6*D6 -> 0 | K6: =E6+G6+I6 -> 3486933 | L6: =F6+H6+J6 -> 3486933 | N6: 010101 | P6: 0101 | R6: 3
A7: 010102 철 골 공 사 | D7: 1 | E7: =공종별내역서!F55 -> 476938 | F7: =E7*D7 -> 476938 | G7: =공종별내역서!H55 -> 962122 | H7: =G7*D7 -> 962122 | I7: =공종별내역서!J55 -> 0 | J7: =I7*D7 -> 0 | K7: =E7+G7+I7 -> 1439060 | L7: =F7+H7+J7 -> 1439060 | N7: 010102 | P7: 0101 | R7: 3
A8: 010103 타 일 공 사 | D8: 1 | E8: =공종별내역서!F81 -> 1173688 | F8: =E8*D8 -> 1173688 | G8: =공종별내역서!H81 -> 480400 | H8: =G8*D8 -> 480400 | I8: =공종별내역서!J81 -> 12880 | J8: =I8*D8 -> 12880 | K8: =E8+G8+I8 -> 1666968 | L8: =F8+H8+J8 -> 1666968 | N8: 010103 | P8: 0101 | R8: 3
A9: 010104 방 수 공 사 | D9: 1 | E9: =공종별내역서!F107 -> 55358 | F9: =E9*D9 -> 55358 | G9: =공종별내역서!H107 -> 465292 | H9: =G9*D9 -> 465292 | I9: =공종별내역서!J107 -> 0 | J9: =I9*D9 -> 0 | K9: =E9+G9+I9 -> 520650 | L9: =F9+H9+J9 -> 520650 | N9: 010104 | P9: 0101 | R9: 3
A10: 010105 금 속 공 사 | D10: 1 | E10: =공종별내역서!F133 -> 5871956 | F10: =E10*D10 -> 5871956 | G10: =공종별내역서!H133 -> 4084098 | H10: =G10*D10 -> 4084098 | I10: =공종별내역서!J133 -> 172502 | J10: =I10*D10 -> 172502 | K10: =E10+G10+I10 -> 10128556 | L10: =F10+H10+J10 -> 10128556 | N10: 010105 | P10: 0101 | R10: 3
A11: 010106 미 장 공 사 | D11: 1 | E11: =공종별내역서!F159 -> 2350 | F11: =E11*D11 -> 2350 | G11: =공종별내역서!H159 -> 987525 | H11: =G11*D11 -> 987525 | I11: =공종별내역서!J159 -> 49294 | J11: =I11*D11 -> 49294 | K11: =E11+G11+I11 -> 1039169 | L11: =F11+H11+J11 -> 1039169 | N11: 010106 | P11: 0101 | R11: 3
A12: 010107 창 호 공 사 | D12: 1 | E12: =공종별내역서!F185 -> 6303644 | F12: =E12*D12 -> 6303644 | G12: =공종별내역서!H185 -> 503402 | H12: =G12*D12 -> 503402 | I12: =공종별내역서!J185 -> 14828 | J12: =I12*D12 -> 14828 | K12: =E12+G12+I12 -> 6821874 | L12: =F12+H12+J12 -> 6821874 | N12: 010107 | P12: 0101 | R12: 3
A13: 010108 유 리 공 사 | D13: 1 | E13: =공종별내역서!F211 -> 886800 | F13: =E13*D13 -> 886800 | G13: =공종별내역서!H211 -> 425944 | H13: =G13*D13 -> 425944 | I13: =공종별내역서!J211 -> 0 | J13: =I13*D13 -> 0 | K13: =E13+G13+I13 -> 1312744 | L13: =F13+H13+J13 -> 1312744 | N13: 010108 | P13: 0101 | R13: 3
A14: 010109 도 장 공 사 | D14: 1 | E14: =공종별내역서!F237 -> 1174312 | F14: =E14*D14 -> 1174312 | G14: =공종별내역서!H237 -> 12641685 | H14: =G14*D14 -> 12641685 | I14: =공종별내역서!J237 -> 0 | J14: =I14*D14 -> 0 | K14: =E14+G14+I14 -> 13815997 | L14: =F14+H14+J14 -> 13815997 | N14: 010109 | P14: 0101 | R14: 3
A15: 010110 수 장 공 사 | D15: 1 | E15: =공종별내역서!F263 -> 26318432 | F15: =E15*D15 -> 26318432 | G15: =공종별내역서!H263 -> 26324461 | H15: =G15*D15 -> 26324461 | I15: =공종별내역서!J263 -> 276865 | J15: =I15*D15 -> 276865 | K15: =E15+G15+I15 -> 52919758 | L15: =F15+H15+J15 -> 52919758 | N15: 010110 | P15: 0101 | R15: 3
A16: 010111 철 거 공 사 | D16: 1 | E16: =공종별내역서!F289 -> 30960 | F16: =E16*D16 -> 30960 | G16: =공종별내역서!H289 -> 11458283 | H16: =G16*D16 -> 11458283 | I16: =공종별내역서!J289 -> 701447 | J16: =I16*D16 -> 701447 | K16: =E16+G16+I16 -> 12190690 | L16: =F16+H16+J16 -> 12190690 | N16: 010111 | P16: 0101 | R16: 3
A17: 010112 골재비및운반비 | D17: 1 | E17: =공종별내역서!F315 -> 49448 | F17: =E17*D17 -> 49448 | G17: =공종별내역서!H315 -> 0 | H17: =G17*D17 -> 0 | I17: =공종별내역서!J315 -> 13920 | J17: =I17*D17 -> 13920 | K17: =E17+G17+I17 -> 63368 | L17: =F17+H17+J17 -> 63368 | N17: 010112 | P17: 0101 | R17: 3
A19: [ 소 계 ] | F19: =SUM(F6:F18) -> 42388013 | H19: =SUM(H6:H18) -> 61776018 | J19: =SUM(J6:J18) -> 1241736 | L19: =F19+H19+J19 -> 105405767
A21: 0102 건설폐기물처리비 | D21: 1 | E21: =F22 -> 0 | F21: =E21*D21 -> 0 | G21: =H22 -> 0 | H21: =G21*D21 -> 0 | I21: =J22 -> 2928969 | J21: =I21*D21 -> 2928969 | K21: =E21+G21+I21 -> 2928969 | L21: =F21+H21+J21 -> 2928969 | N21: 0102 | Q21: A | R21: 2 | T21: =L21*1 -> 2928969
A22: 010201 건설폐기물처리비 | D22: 1 | E22: =공종별내역서!F341 -> 0 | F22: =E22*D22 -> 0 | G22: =공종별내역서!H341 -> 0 | H22: =G22*D22 -> 0 | I22: =공종별내역서!J341 -> 2928969 | J22: =I22*D22 -> 2928969 | K22: =E22+G22+I22 -> 2928969 | L22: =F22+H22+J22 -> 2928969 | N22: 010201 | P22: 0102 | R22: 3
A24: [ 소 계 ] | F24: =SUM(F22:F23) -> 0 | H24: =SUM(H22:H23) -> 0 | J24: =SUM(J22:J23) -> 2928969 | L24: =F24+H24+J24 -> 2928969
A26: 0103 작 업 부 산 물 | D26: 1 | E26: =F27 -> -1112985 | F26: =E26*D26 -> -1112985 | G26: =H27 -> 0 | H26: =G26*D26 -> 0 | I26: =J27 -> 0 | J26: =I26*D26 -> 0 | K26: =E26+G26+I26 -> -1112985 | L26: =F26+H26+J26 -> -1112985 | N26: 0103 | Q26: B | R26: 2 | T26: =L26*1 -> -1112985
A27: 010301 작 업 부 산 물 | D27: 1 | E27: =공종별내역서!F367 -> -1112985 | F27: =E27*D27 -> -1112985 | G27: =공종별내역서!H367 -> 0 | H27: =G27*D27 -> 0 | I27: =공종별내역서!J367 -> 0 | J27: =I27*D27 -> 0 | K27: =E27+G27+I27 -> -1112985 | L27: =F27+H27+J27 -> -1112985 | N27: 010301 | P27: 0103 | R27: 3
A29: [ 소 계 ] | F29: =SUM(F27:F28) -> -1112985 | H29: =SUM(H27:H28) -> 0 | J29: =SUM(J27:J28) -> 0 | L29: =F29+H29+J29 -> -1112985
A31: [ 합 계 ] | F31: =F19+F24+F29 -> 41275028 | H31: =H19+H24+H29 -> 61776018 | J31: =J19+J24+J29 -> 4170705 | L31: =F31+H31+J31 -> 107221751
A32: 0104 02.3층 | N32: 0104 | P32: 01 | R32: 2
A33: 010401 가 설 공 사 | D33: 1 | E33: =공종별내역서!F393 -> 44127 | F33: =E33*D33 -> 44127 | G33: =공종별내역서!H393 -> 3430762 | H33: =G33*D33 -> 3430762 | I33: =공종별내역서!J393 -> 0 | J33: =I33*D33 -> 0 | K33: =E33+G33+I33 -> 3474889 | L33: =F33+H33+J33 -> 3474889 | N33: 010401 | P33: 0104 | R33: 3
A34: 010402 타 일 공 사 | D34: 1 | E34: =공종별내역서!F419 -> 1173688 | F34: =E34*D34 -> 1173688 | G34: =공종별내역서!H419 -> 480400 | H34: =G34*D34 -> 480400 | I34: =공종별내역서!J419 -> 12880 | J34: =I34*D34 -> 12880 | K34: =E34+G34+I34 -> 1666968 | L34: =F34+H34+J34 -> 1666968 | N34: 010402 | P34: 0104 | R34: 3
A35: 010403 방 수 공 사 | D35: 1 | E35: =공종별내역서!F445 -> 45406 | F35: =E35*D35 -> 45406 | G35: =공종별내역서!H445 -> 381644 | H35: =G35*D35 -> 381644 | I35: =공종별내역서!J445 -> 0 | J35: =I35*D35 -> 0 | K35: =E35+G35+I35 -> 427050 | L35: =F35+H35+J35 -> 427050 | N35: 010403 | P35: 0104 | R35: 3
A36: 010404 금 속 공 사 | D36: 1 | E36: =공종별내역서!F471 -> 13866540 | F36: =E36*D36 -> 13866540 | G36: =공종별내역서!H471 -> 3793480 | H36: =G36*D36 -> 3793480 | I36: =공종별내역서!J471 -> 143286 | J36: =I36*D36 -> 143286 | K36: =E36+G36+I36 -> 17803306 | L36: =F36+H36+J36 -> 17803306 | N36: 010404 | P36: 0104 | R36: 3
A37: 010405 미 장 공 사 | D37: 1 | E37: =공종별내역서!F497 -> 1930 | F37: =E37*D37 -> 1930 | G37: =공종별내역서!H497 -> 870427 | H37: =G37*D37 -> 870427 | I37: =공종별내역서!J497 -> 45742 | J37: =I37*D37 -> 45742 | K37: =E37+G37+I37 -> 918099 | L37: =F37+H37+J37 -> 918099 | N37: 010405 | P37: 0104 | R37: 3
A38: 010406 창 호 공 사 | D38: 1 | E38: =공종별내역서!F523 -> 2607342 | F38: =E38*D38 -> 2607342 | G38: =공종별내역서!H523 -> 894948 | H38: =G38*D38 -> 894948 | I38: =공종별내역서!J523 -> 23683 | J38: =I38*D38 -> 23683 | K38: =E38+G38+I38 -> 3525973 | L38: =F38+H38+J38 -> 3525973 | N38: 010406 | P38: 0104 | R38: 3
A39: 010407 유 리 공 사 | D39: 1 | E39: =공종별내역서!F549 -> 1079462 | F39: =E39*D39 -> 1079462 | G39: =공종별내역서!H549 -> 387372 | H39: =G39*D39 -> 387372 | I39: =공종별내역서!J549 -> 0 | J39: =I39*D39 -> 0 | K39: =E39+G39+I39 -> 1466834 | L39: =F39+H39+J39 -> 1466834 | N39: 010407 | P39: 0104 | R39: 3
A40: 010408 도 장 공 사 | D40: 1 | E40: =공종별내역서!F575 -> 979601 | F40: =E40*D40 -> 979601 | G40: =공종별내역서!H575 -> 9171274 | H40: =G40*D40 -> 9171274 | I40: =공종별내역서!J575 -> 0 | J40: =I40*D40 -> 0 | K40: =E40+G40+I40 -> 10150875 | L40: =F40+H40+J40 -> 10150875 | N40: 010408 | P40: 0104 | R40: 3
A41: 010409 수 장 공 사 | D41: 1 | E41: =공종별내역서!F601 -> 32351093 | F41: =E41*D41 -> 32351093 | G41: =공종별내역서!H601 -> 32167584 | H41: =G41*D41 -> 32167584 | I41: =공종별내역서!J601 -> 438152 | J41: =I41*D41 -> 438152 | K41: =E41+G41+I41 -> 64956829 | L41: =F41+H41+J41 -> 64956829 | N41: 010409 | P41: 0104 | R41: 3
A42: 010410 철 거 공 사 | D42: 1 | E42: =공종별내역서!F627 -> 10965 | F42: =E42*D42 -> 10965 | G42: =공종별내역서!H627 -> 11299733 | H42: =G42*D42 -> 11299733 | I42: =공종별내역서!J627 -> 734520 | J42: =I42*D42 -> 734520 | K42: =E42+G42+I42 -> 12045218 | L42: =F42+H42+J42 -> 12045218 | N42: 010410 | P42: 0104 | R42: 3
A43: 010411 골재비및운반비 | D43: 1 | E43: =공종별내역서!F653 -> 43267 | F43: =E43*D43 -> 43267 | G43: =공종별내역서!H653 -> 0 | H43: =G43*D43 -> 0 | I43: =공종별내역서!J653 -> 12180 | J43: =I43*D43 -> 12180 | K43: =E43+G43+I43 -> 55447 | L43: =F43+H43+J43 -> 55447 | N43: 010411 | P43: 0104 | R43: 3
A45: [ 소 계 ] | F45: =SUM(F33:F44) -> 52203421 | H45: =SUM(H33:H44) -> 62877624 | J45: =SUM(J33:J44) -> 1410443 | L45: =F45+H45+J45 -> 116491488
A47: 0105 건설폐기물처리비 | N47: 0105 | Q47: A | R47: 2 | T47: =L47*1 -> 0
A48: 010501 건설폐기물처리비 | D48: 1 | E48: =공종별내역서!F679 -> 0 | F48: =E48*D48 -> 0 | G48: =공종별내역서!H679 -> 0 | H48: =G48*D48 -> 0 | I48: =공종별내역서!J679 -> 2990740 | J48: =I48*D48 -> 2990740 | K48: =E48+G48+I48 -> 2990740 | L48: =F48+H48+J48 -> 2990740 | N48: 010501 | P48: 0105 | R48: 3
...

Sheet 공종별내역서
A1: [ 천안고용복지플러스센터 통합네트워크 인테리어 공사 ]
A2: 품 명 | B2: 규 격 | C2: 단위 | D2: 수량 | E2: 재 료 비 | G2: 노 무 비 | I2: 경 비 | K2: 합 계 | M2: 비 고 | N2: 품목코드 | O2: 변수 | P2: 설정 | Q2: 공종코드 | R2: 일위 | S2: 단산 | T2: 자재 | U2: 손료적용 | V2: 손료저장 | W2: 적용율 | X2: JUK1 | Y2: JUK2 | Z2: JUK3 | AA2: JUK4 | AB2: JUK5 | AC2: JUK6 | AD2: JUK7 | AE2: JUK8 | AF2: JUK9 | AG2: JUK10 | AH2: JUK11 | AI2: JUK12 | AJ2: JUK13 | AK2: JUK14 | AL2: JUK15 | AM2: JUK16 | AN2: JUK17 | AO2: JUK18 | AP2: JUK19 | AQ2: JUK20 | AR2: 자재구분 | AS2: 공종구분 | AT2: 공종레벨 | AU2: 공종+자재 | AV2: 고유번호
E3: 단 가 | F3: 금 액 | G3: 단 가 | H3: 금 액 | I3: 단 가 | J3: 금 액 | K3: 단 가 | L3: 금 액
A4: 010101 가 설 공 사 | Q4: 010101
A5: 강관 조립말비계(이동식)설치 및 해체 | B5: 높이 2m, 3개월 | C5: 대 | D5: 1 | E5: =TRUNC(일위대가목록!E4,0) -> 44127 | F5: =TRUNC(E5*D5, 0) -> 44127 | G5: =TRUNC(일위대가목록!F4,0) -> 94574 | H5: =TRUNC(G5*D5, 0) -> 94574 | I5: =TRUNC(일위대가목록!G4,0) -> 0 | J5: =TRUNC(I5*D5, 0) -> 0 | K5: =TRUNC(E5+G5+I5, 0) -> 138701 | L5: =TRUNC(F5+H5+J5, 0) -> 138701 | M5: 호표 1 | N5: 5B9B260B79C3BB530A74EA71A798AE | Q5: 010101 | R5: T | S5: F | T5: F | AU5: 0101015B9B260B79C3BB530A74EA71A798AE | AV5: 4
A6: 건축물 현장정리 | B6: 전문, 개보수공사 | C6: M2 | D6: 556 | E6: =TRUNC(일위대가목록!E5,0) -> 0 | F6: =TRUNC(E6*D6, 0) -> 0 | G6: =TRUNC(일위대가목록!F5,0) -> 2581 | H6: =TRUNC(G6*D6, 0) -> 1435036 | I6: =TRUNC(일위대가목록!G5,0) -> 0 | J6: =TRUNC(I6*D6, 0) -> 0 | K6: =TRUNC(E6+G6+I6, 0) -> 2581 | L6: =TRUNC(F6+H6+J6, 0) -> 1435036 | M6: 호표 2 | N6: 5B9B260ECFF33C55AF14E5D1E3604C | Q6: 010101 | R6: T | S6: F | T6: F | AU6: 0101015B9B260ECFF33C55AF14E5D1E3604C | AV6: 5
A7: 준공청소 | C7: M2 | D7: 556 | E7: =TRUNC(일위대가목록!E6,0) -> 0 | F7: =TRUNC(E7*D7, 0) -> 0 | G7: =TRUNC(일위대가목록!F6,0) -> 3441 | H7: =TRUNC(G7*D7, 0) -> 1913196 | I7: =TRUNC(일위대가목록!G6,0) -> 0 | J7: =TRUNC(I7*D7, 0) -> 0 | K7: =TRUNC(E7+G7+I7, 0) -> 3441 | L7: =TRUNC(F7+H7+J7, 0) -> 1913196 | M7: 호표 3 | N7: 5B9B260ECA735A56E4445C61ED349E | Q7: 010101 | R7: T | S7: F | T7: F | AU7: 0101015B9B260ECA735A56E4445C61ED349E | AV7: 6
Q8: 010101
Q9: 010101
Q10: 010101
Q11: 010101
Q12: 010101
Q13: 010101
Q14: 010101
Q15: 010101
Q16: 010101
Q17: 010101
Q18: 010101
Q19: 010101
... Q28: 010101
A29: [ 합 계 ] | F29: =SUMIF(Q5:Q28,"010101",F5:F28) -> 44127 | H29: =SUMIF(Q5:Q28,"010101",H5:H28) -> 3442806 | J29: =SUMIF(Q5:Q28,"010101",J5:J28) -> 0 | L29: =SUMIF(Q5:Q28,"010101",L5:L28) -> 3486933 | N29: TOTAL
A30: 010102 철 골 공 사 | Q30: 010102
A31: 유성페인트 [뿜칠 - 바탕처리포함] | B31: 철재면, 2회 | C31: M2 | D31: 266 | E31: =TRUNC(일위대가목록!E7,0) -> 1793 | F31: =TRUNC(E31*D31, 0) -> 476938 | G31: =TRUNC(일위대가목록!F7,0) -> 3617 | H31: =TRUNC(G31*D31, 0) -> 962122 | I31: =TRUNC(일위대가목록!G7,0) -> 0 | J31: =TRUNC(I31*D31, 0) -> 0 | K31: =TRUNC(E31+G31+I31, 0) -> 5410 | L31: =TRUNC(F31+H31+J31, 0) -> 1439060 | M31: 호표 4 | N31: 5B9BD67BA9B354599974FB617747C4 | Q31: 010102 | R31: T | S31: F | T31: F | AU31: 0101025B9BD67BA9B354599974FB617747C4 | AV31: 8
Q32: 010102
Q33: 010102
Q34: 010102
Q35: 010102
Q36: 010102
Q37: 010102
Q38: 010102
Q39: 010102
Q40: 010102
Q41: 010102
Q42: 010102
Q43: 010102
... Q54: 010102
A55: [ 합 계 ] | F55: =SUMIF(Q31:Q54,"010102",F31:F54) -> 476938 | H55: =SUMIF(Q31:Q54,"010102",H31:H54) -> 962122 | J55: =SUMIF(Q31:Q54,"010102",J31:J54) -> 0 | L55: =SUMIF(Q31:Q54,"010102",L31:L54) -> 1439060 | N55: TOTAL
A56: 010103 타 일 공 사 | Q56: 010103
A57: 포세린타일 | B57: 600*1200*10mm | C57: M2 | D57: 17 | E57: =TRUNC(단가대비표!O26,0) -> 65000 | F57: =TRUNC(E57*D57, 0) -> 1105000 | G57: =TRUNC(단가대비표!P26,0) -> 0 | H57: =TRUNC(G57*D57, 0) -> 0 | I57: =TRUNC(단가대비표!V26,0) -> 0 | J57: =TRUNC(I57*D57, 0) -> 0 | K57: =TRUNC(E57+G57+I57, 0) -> 65000 | L57: =TRUNC(F57+H57+J57, 0) -> 1105000 | M57: 자재 22 | N57: 5CB1C6F2E6239A529AA49E51750A5BDD8B27EB | Q57: 010103 | R57: F | S57: F | T57: T | AU57: 0101035CB1C6F2E6239A529AA49E51750A5BDD8B27EB | AV57: 10
A58: 타일접착붙임(포세린(포슬린):600*1200*10T) | B58: 벽,접착붙임(백색줄눈) | C58: M2 | D58: 16 | E58: =TRUNC(일위대가목록!E8,0) -> 4293 | F58: =TRUNC(E58*D58, 0) -> 68688 | G58: =TRUNC(일위대가목록!F8,0) -> 30025 | H58: =TRUNC(G58*D58, 0) -> 480400 | I58: =TRUNC(일위대가목록!G8,0) -> 805 | J58: =TRUNC(I58*D58, 0) -> 12880 | K58: =TRUNC(E58+G58+I58, 0) -> 35123 | L58: =TRUNC(F58+H58+J58, 0) -> 561968 | M58: 호표 5 | N58: 5B9BE65AAEC3C05937B42A8128E7E7 | Q58: 010103 | R58: T | S58: F | T58: F | AU58: 0101035B9BE65AAEC3C05937B42A8128E7E7 | AV58: 11
...

Sheet 일위대가목록
B1: 일 위 대 가 목 록
B2: [ 천안고용복지플러스센터 통합네트워크 인테리어 공사 ]
A3: 코 드 | B3: 품 명 | C3: 규 격 | D3: 단위 | E3: 재 료 비 | F3: 노 무 비 | G3: 경 비 | H3: 합 계 | I3: 번 호 | J3: 비 고 | K3: 노임계수 | L3: 할증 | M3: 품셈개요 | N3: 장비일위
A4: 5B9B260B79C3BB530A74EA71A798AE | B4: 강관 조립말비계(이동식)설치 및 해체 | C4: 높이 2m, 3개월 | D4: 대 | E4: =일위대가!F17 -> 44127 | F4: =일위대가!H17 -> 94574 | G4: =일위대가!J17 -> 0 | H4: =E4+F4+G4 -> 138701 | I4: 호표 1 | M4: 공통 2-7-4, 2-2-5
A5: 5B9B260ECFF33C55AF14E5D1E3604C | B5: 건축물 현장정리 | C5: 전문, 개보수공사 | D5: M2 | E5: =일위대가!F21 -> 0 | F5: =일위대가!H21 -> 2581 | G5: =일위대가!J21 -> 0 | H5: =E5+F5+G5 -> 2581 | I5: 호표 2 | J5: 교육청 | M5: 공통 2-9-2
A6: 5B9B260ECA735A56E4445C61ED349E | B6: 준공청소 | D6: M2 | E6: =일위대가!F25 -> 0 | F6: =일위대가!H25 -> 3441 | G6: =일위대가!J25 -> 0 | H6: =E6+F6+G6 -> 3441 | I6: 호표 3 | M6: 공통 2-11-3
A7: 5B9BD67BA9B354599974FB617747C4 | B7: 유성페인트 [뿜칠 - 바탕처리포함] | C7: 철재면, 2회 | D7: M2 | E7: =일위대가!F31 -> 1793 | F7: =일위대가!H31 -> 3617 | G7: =일위대가!J31 -> 0 | H7: =E7+F7+G7 -> 5410 | I7: 호표 4 | M7: 건축 11-2-5
A8: 5B9BE65AAEC3C05937B42A8128E7E7 | B8: 타일접착붙임(포세린(포슬린):600*1200*10T) | C8: 벽,접착붙임(백색줄눈) | D8: M2 | E8: =일위대가!F37 -> 4293 | F8: =일위대가!H37 -> 30025 | G8: =일위대가!J37 -> 805 | H8: =E8+F8+G8 -> 35123 | I8: 호표 5 | M8: 건축 3-2-2, -1-2
A9: 5B9BB621C603C155EBF4D5D11419C9 | B9: 수밀코킹(실리콘) | C9: 삼각, 10mm, 창호주위 | D9: M | E9: =일위대가!F42 -> 622 | F9: =일위대가!H42 -> 5228 | G9: =일위대가!J42 -> 0 | H9: =E9+F9+G9 -> 5850 | I9: 호표 6 | M9: 건축 6-6-1
A10: 5B9B465D88E3505F7BD46951296802 | B10: PVC마이너스몰딩 비드설치 | C10: SST'L H=31.5mm | D10: M | E10: =일위대가!F47 -> 946 | F10: =일위대가!H47 -> 6654 | G10: =일위대가!J47 -> 0 | H10: =E10+F10+G10 -> 7600 | I10: 호표 7
A11: 5B9B96DEF8D33259A454244186DF70 | B11: ST'L천정틀설치 | C11: ㅁ50*50*2.3 @900*900, 녹막이P | D11: M2 | E11: =일위대가!F54 -> 10973 | F11: =일위대가!H54 -> 42305 | G11: =일위대가!J54 -> 1974 | H11: =E11+F11+G11 -> 55252 | I11: 호표 8
A12: 5B9BC60ACD23BF5CDA94395106FBE1 | B12: SST'L재료분리대(바닥/H.L) | C12: W40*H20*1.5t | D12: M | E12: =일위대가!F62 -> 8017 | F12: =일위대가!H62 -> 18202 | G12: =일위대가!J62 -> 822 | H12: =E12+F12+G12 -> 27041 | I12: 호표 9
A13: 5B9BC604A65320586D648481E37384 | B13: AL몰딩 설치 | C13: W형, 15*15*15*15*1.0mm | D13: M | E13: =일위대가!F68 -> 2864 | F13: =일위대가!H68 -> 8990 | G13: =일위대가!J68 -> 359 | H13: =E13+F13+G13 -> 12213 | I13: 호표 10 | M13: 건축 8-1-5
A14: 5B9B46565BC32554F214F4711CABEB | B14: 콘크리트면 마무리 | C14: 3.6m 이하, 내벽 | D14: M2 | E14: =일위대가!F72 -> 10 | F14: =일위대가!H72 -> 2759 | G14: =일위대가!J72 -> 82 | H14: =E14+F14+G14 -> 2851 | I14: 호표 11 | M14: 건축 9-2-1
A15: 5B9B46565DF33253EA2493D11D1054 | B15: 기존 바닥 면정리 | D15: M2 | E15: =일위대가!F77 -> 0 | F15: =일위대가!H77 -> 610 | G15: =일위대가!J77 -> 54 | H15: =E15+F15+G15 -> 664 | I15: 호표 12 | M15: 건축 9-1-4
A16: 5B9BF64394233B582D5445011D87DB | B16: AD03 [ G.V ㅁ150*60*1.5T, 유성P ] | C16: 1.800 x 2.100 = 3.780 | D16: EA | E16: =일위대가!F81 -> 48156 | F16: =일위대가!H81 -> 55248 | G16: =일위대가!J81 -> 1722 | H16: =E16+F16+G16 -> 105126 | I16: 호표 13
A17: 5B9BF64394233B582D5445011D87D9 | B17: AFD02[폴딩도어] | C17: 5.400 x 2.400 = 12.960 | D17: EA | E17: =일위대가!F85 -> 5443200 | F17: =일위대가!H85 -> 0 | G17: =일위대가!J85 -> 0 | H17: =E17+F17+G17 -> 5443200 | I17: 호표 14
A18: 5B9BF64394233B582D5445011D87DF | B18: WD01 | C18: 0.900 x 2.400 = 2.160 | D18: EA | E18: =일위대가!F93 -> 86537 | F18: =일위대가!H93 -> 96044 | G18: =일위대가!J93 -> 2957 | H18: =E18+F18+G18 -> 185538 | I18: 호표 15
A19: 5B9BF644B913E157A4A49031AB303F | B19: 플로어힌지 설치 | C19: 재료비 별도 | D19: 개소 | E19: =일위대가!F99 -> 0 | F19: =일위대가!H99 -> 31989 | G19: =일위대가!J99 -> 639 | H19: =E19+F19+G19 -> 32628 | I19: 호표 16 | M19: 건축 10-2-2
A20: 5B9BF644BFA38258EAB44221357137 | B20: 창호주위 발포우레탄 충전 | C20: 창호주위 | D20: M | E20: =일위대가!F103 -> 1485 | F20: =일위대가!H103 -> 0 | G20: =일위대가!J103 -> 0 | H20: =E20+F20+G20 -> 1485 | I20: 호표 17 | M20: 건축 9-3-2
A21: 5B9BF640C273185A67F45C316CA2EB | B21: 강화유리문 [투명] | C21: 유리문, 12*900*2100mm, 손보호 | D21: EA | E21: =일위대가!F107 -> 310000 | F21: =일위대가!H107 -> 0 | G21: =일위대가!J107 -> 0 | H21: =E21+F21+G21 -> 310000 | I21: 호표 18
A22: 5B9A16C7E4C3AC51BF94EE3179FBF2 | B22: 유리블럭 설치 | D22: M2 | E22: =일위대가!F112 -> 133400 | F22: =일위대가!H112 -> 212972 | G22: =일위대가!J112 -> 0 | H22: =E22+F22+G22 -> 346372 | I22: 호표 19
A23: 5B9BD6762693535602340CC15A3588 | B23: 유성페인트 롤러칠[바탕처리포함] | C23: 철재면, 2회 1급 | D23: M2 | E23: =일위대가!F118 -> 1591 | F23: =일위대가!H118 -> 8224 | G23: =일위대가!J118 -> 0 | H23: =E23+F23+G23 -> 9815 | I23: 호표 20 | M23: 건축 11-2-5
A24: 5B9BD677CF83885BB3E499F18FCF4E | B24: 바탕만들기+수성페인트 롤러칠 | C24: 내부 2회, con'c·mortar면, 친환경, [진품] | D24: M2 | E24: =일위대가!F124 -> 1329 | F24: =일위대가!H124 -> 9802 | G24: =일위대가!J124 -> 0 | H24: =E24+F24+G24 -> 11131 | I24: 호표 21 | M24: 건축 11-1-1,-2-2
A25: 5B9BD677CF83885BB3E4998140489C | B25: 바탕만들기+수성페인트 롤러칠 | C25: 내부 2회, G.B.면 줄퍼티, 친환경, [진품] | D25: M2 | E25: =일위대가!F130 -> 1682 | F25: =일위대가!H130 -> 17926 | G25: =일위대가!J130 -> 0 | H25: =E25+F25+G25 -> 19608 | I25: 호표 22 | M25: 건축 11-1-2,-2-2
A26: 5B9BD677CF83885BB3E43701E3D60A | B26: 바탕만들기+수성페인트 롤러칠 | C26: 내천장 2회, G.B.면 줄퍼티, 친환경, [진품] | D26: M2 | E26: =일위대가!F136 -> 1682 | F26: =일위대가!H136 -> 21511 | G26: =일위대가!J136 -> 0 | H26: =E26+F26+G26 -> 23193 | I26: 호표 23 | M26: 건축 11-1-2,-2-2
A27: 5B9BD6724CE39B5999F439E1AD3948 | B27: 바탕만들기+바니시칠 [방염] | C27: 목재면, 1회 | D27: M2 | E27: =일위대가!F145 -> 591 | F27: =일위대가!H145 -> 8062 | G27: =일위대가!J145 -> 0 | H27: =E27+F27+G27 -> 8653 | I27: 호표 24 | J27: 교육청자료 | M27: 건축 11-2-2, 준용
A28: 5B9BA6C26363305FDE84A9B12DED6C | B28: 벽체틀 설치 [미송] | C28: 60*30, @450*450 | D28: M2 | E28: =일위대가!F150 -> 11884 | F28: =일위대가!H150 -> 9733 | G28: =일위대가!J150 -> 194 | H28: =E28+F28+G28 -> 21811 | I28: 호표 25 | M28: 건축 4-2-1
A29: 5B9BA6C26363305FDE84A981586C82 | B29: 벽체틀 설치 [미송] | C29: 60*30, @450*450*2EA, L:70 [지주포함] | D29: M2 | E29: =일위대가!F155 -> 12115 | F29: =일위대가!H155 -> 19466 | G29: =일위대가!J155 -> 388 | H29: =E29+F29+G29 -> 31969 | I29: 호표 26 | M29: 건축 4-2-1
A30: 5B9BC60CFB23565DF1F48FA154D321 | B30: 비닐타일 깔기 | C30: 비닐타일, 3*180*1200mm, 데코타일 | D30: M2 | E30: =일위대가!F160 -> 23436 | F30: =일위대가!H160 -> 17145 | G30: =일위대가!J160 -> 0 | H30: =E30+F30+G30 -> 40581 | I30: 호표 27 | M30: 건축 5-1-1
A31: 5B9BC60CFF93DA51D1B44D51F80471 | B31: 걸레받이 설치 - 중밀도섬유판 | C31: T=9, H=60 | D31: M | E31: =일위대가!F166 -> 506 | F31: =일위대가!H166 -> 4157 | G31: =일위대가!J166 -> 83 | H31: =E31+F31+G31 -> 4746 | I31: 호표 28 | M31: 건축 5-3-5
A32: 5B9BC60F4F63285F08D451117DE298 | B32: 에칭시트지바름 | C32: 0.5T | D32: M2 | E32: =일위대가!F172 -> 21600 | F32: =일위대가!H172 -> 4796 | G32: =일위대가!J172 -> 0 | H32: =E32+F32+G32 -> 26396 | I32: 호표 29
A33: 5B9BC60F4F63285F08D451117CDC4D | B33: 인테리어필름지바름 [방염우드] | C33: 0.42T | D33: M2 | E33: =일위대가!F176 -> 29500 | F33: =일위대가!H176 -> 0 | G33: =일위대가!J176 -> 0 | H33: =E33+F33+G33 -> 29500 | I33: 호표 30 | J33: 시공도
A34: 5B9BC60EA6C3AB58ED04F3E1BB8D55 | B34: MDF 벽 설치 | C34: T9.0mm | D34: M2 | E34: =일위대가!F181 -> 4358 | F34: =일위대가!H181 -> 18183 | G34: =일위대가!J181 -> 363 | H34: =E34+F34+G34 -> 22904 | I34: 호표 31 | M34: 건축 4-2-3
A35: 5B9BC60EA6C39954987441415E4C9B | B35: 흡음텍스 설치 [마이톤 - M-BAR] | C35: 300*600*15.0mm, 천정, 텍스포함 | D35: M2 | E35: =일위대가!F187 -> 19575 | F35: =일위대가!H187 -> 15088 | G35: =일위대가!J187 -> 452 | H35: =E35+F35+G35 -> 35115 | I35: 호표 32 | M35: 건축 5-2-1
A36: 5B9BC60EA523525151547201D26625 | B36: 석고판 못붙임(바탕용) | C36: 벽, 일반 9.5mm | D36: M2 | E36: =일위대가!F192 -> 3110 | F36: =일위대가!H192 -> 11402 | G36: =일위대가!J192 -> 114 | H36: =E36+F36+G36 -> 14626 | I36: 호표 33 | M36: 건축 5-2-2
A37: 5B9BC60EA523525151547201D0B849 | B37: 석고판 못붙임(바탕용) | C37: 벽, 일반 9.5mm*2PLY | D37: M2 | E37: =일위대가!F197 -> 6220 | F37: =일위대가!H197 -> 15088 | G37: =일위대가!J197 -> 150 | H37: =E37+F37+G37 -> 21458 | I37: 호표 34 | M37: 건축 5-2-2
A38: 5B9BC60EA52352527864188194B991 | B38: 석고판 못붙임(바탕용) | C38: 천정, 일반 9.5mm*2PLY | D38: M2 | E38: =일위대가!F202 -> 6220 | F38: =일위대가!H202 -> 19632 | G38: =일위대가!J202 -> 196 | H38: =E38+F38+G38 -> 26048 | I38: 호표 35 | M38: 건축 5-2-2
A39: 5B9BC60EA3736B5F7DD4AF512A4F9B | B39: 요꼬합판 벽 설치 | C39: T4.0mm*3겹 | D39: M2 | E39: =일위대가!F207 -> 12975 | F39: =일위대가!H207 -> 54549 | G39: =일위대가!J207 -> 1089 | H39: =E39+F39+G39 -> 68613 | I39: 호표 36
A40: 5B9BC60927837A55D1640F816C2DDF | B40: 유리면 격자넣기 - 벽 | C40: 유리면보드, 밀도24kg/㎥, 50mm | D40: M2 | E40: =일위대가!F212 -> 4708 | F40: =일위대가!H212 -> 8658 | G40: =일위대가!J212 -> 0 | H40: =E40+F40+G40 -> 13366 | I40: 호표 37 | M40: 건축 5-4-3
...

Sheet 일위대가
A1: [ 천안고용복지플러스센터 통합네트워크 인테리어 공사 ]
A2: 품 명 | B2: 규 격 | C2: 단위 | D2: 수량 | E2: 재 료 비 | G2: 노 무 비 | I2: 경 비 | K2: 합 계 | M2: 비 고 | N2: 일위대가 | O2: 품목코드 | P2: 일위 | Q2: 단산 | R2: 자재 | S2: 손료적용 | T2: 손료저장 | U2: 적용율 | V2: JUK1 | W2: JUK2 | X2: JUK3 | Y2: JUK4 | Z2: JUK5 | AA2: JUK6 | AB2: JUK7 | AC2: JUK8 | AD2: JUK9 | AE2: JUK10 | AF2: JUK11 | AG2: JUK12 | AH2: JUK13 | AI2: JUK14 | AJ2: JUK15 | AK2: JUK16 | AL2: JUK17 | AM2: JUK18 | AN2: JUK19 | AO2: JUK20 | AP2: 할증적용 | AQ2: 할증저장 | AR2: 할증율 | AS2: HAL1 | AT2: HAL2 | AU2: HAL3 | AV2: 자재구분 | AW2: 일위대가+자재 | AX2: 장비일위 | AY2: 설정 | AZ2: 할증체크
E3: 단 가 | F3: 금 액 | G3: 단 가 | H3: 금 액 | I3: 단 가 | J3: 금 액 | K3: 단 가 | L3: 금 액
A4: 강관 조립말비계(이동식)설치 및 해체 높이 2m, 3개월 대 공통 2-7-4, 2-2-5 ( 호표 1 ) | N4: 5B9B260B79C3BB530A74EA71A798AE
A5: 비계안정장치 | B5: 비계안정장치, 비계기본틀, 기둥, 1.2*1.7m | C5: 개 | D5: 2 | E5: =단가대비표!O46 -> 27739 | F5: =TRUNC(E5*D5,1) -> 55478 | G5: =단가대비표!P46 -> 0 | H5: =TRUNC(G5*D5,1) -> 0 | I5: =단가대비표!V46 -> 0 | J5: =TRUNC(I5*D5,1) -> 0 | K5: =TRUNC(E5+G5+I5,1) -> 27739 | L5: =TRUNC(F5+H5+J5,1) -> 55478 | M5: 금액제외 | O5: 5CB1C6F2ECB30E54E2B41351DA0B27DF6268A8 | P5: F | Q5: F | R5: T | V5: 1 | AW5: 5B9B260B79C3BB530A74EA71A798AE5CB1C6F2ECB30E54E2B41351DA0B27DF6268A8 | AY5: -
A6: 비계안정장치 | B6: 비계안정장치, 가새, 1.2*1.9m | C6: 개 | D6: 2 | E6: =단가대비표!O47 -> 9246 | F6: =TRUNC(E6*D6,1) -> 18492 | G6: =단가대비표!P47 -> 0 | H6: =TRUNC(G6*D6,1) -> 0 | I6: =단가대비표!V47 -> 0 | J6: =TRUNC(I6*D6,1) -> 0 | K6: =TRUNC(E6+G6+I6,1) -> 9246 | L6: =TRUNC(F6+H6+J6,1) -> 18492 | M6: 금액제외 | O6: 5CB1C6F2ECB30E54E2B41351DA0B27DF6268A6 | P6: F | Q6: F | R6: T | V6: 1 | AW6: 5B9B260B79C3BB530A74EA71A798AE5CB1C6F2ECB30E54E2B41351DA0B27DF6268A6 | AY6: -
A7: 비계안정장치 | B7: 비계안정장치, 수평띠장, 1829mm | C7: 개 | D7: 4 | E7: =단가대비표!O48 -> 25000 | F7: =TRUNC(E7*D7,1) -> 100000 | G7: =단가대비표!P48 -> 0 | H7: =TRUNC(G7*D7,1) -> 0 | I7: =단가대비표!V48 -> 0 | J7: =TRUNC(I7*D7,1) -> 0 | K7: =TRUNC(E7+G7+I7,1) -> 25000 | L7: =TRUNC(F7+H7+J7,1) -> 100000 | M7: 금액제외 | O7: 5CB1C6F2ECB30E54E2B41351DA0B27DF62678A | P7: F | Q7: F | R7: T | V7: 1 | AW7: 5B9B260B79C3BB530A74EA71A798AE5CB1C6F2ECB30E54E2B41351DA0B27DF62678A | AY7: -
A8: 비계안정장치 | B8: 비계안정장치, 손잡이기둥 | C8: 개 | D8: 4 | E8: =단가대비표!O51 -> 25000 | F8: =TRUNC(E8*D8,1) -> 100000 | G8: =단가대비표!P51 -> 0 | H8: =TRUNC(G8*D8,1) -> 0 | I8: =단가대비표!V51 -> 0 | J8: =TRUNC(I8*D8,1) -> 0 | K8: =TRUNC(E8+G8+I8,1) -> 25000 | L8: =TRUNC(F8+H8+J8,1) -> 100000 | M8: 금액제외 | O8: 5CB1C6F2ECB30E54E2B41351DA0B27DF62678D | P8: F | Q8: F | R8: T | V8: 1 | AW8: 5B9B260B79C3BB530A74EA71A798AE5CB1C6F2ECB30E54E2B41351DA0B27DF62678D | AY8: -
A9: 비계안정장치 | B9: 비계안정장치, 손잡이, 1229mm | C9: 개 | D9: 2 | E9: =단가대비표!O49 -> 6000 | F9: =TRUNC(E9*D9,1) -> 12000 | G9: =단가대비표!P49 -> 0 | H9: =TRUNC(G9*D9,1) -> 0 | I9: =단가대비표!V49 -> 0 | J9: =TRUNC(I9*D9,1) -> 0 | K9: =TRUNC(E9+G9+I9,1) -> 6000 | L9: =TRUNC(F9+H9+J9,1) -> 12000 | M9: 금액제외 | O9: 5CB1C6F2ECB30E54E2B41351DA0B27DF62678B | P9: F | Q9: F | R9: T | V9: 1 | AW9: 5B9B260B79C3BB530A74EA71A798AE5CB1C6F2ECB30E54E2B41351DA0B27DF62678B | AY9: -
A10: 비계안정장치 | B10: 비계안정장치, 손잡이, 1829mm | C10: 개 | D10: 4 | E10: =단가대비표!O50 -> 8000 | F10: =TRUNC(E10*D10,1) -> 32000 | G10: =단가대비표!P50 -> 0 | H10: =TRUNC(G10*D10,1) -> 0 | I10: =단가대비표!V50 -> 0 | J10: =TRUNC(I10*D10,1) -> 0 | K10: =TRUNC(E10+G10+I10,1) -> 8000 | L10: =TRUNC(F10+H10+J10,1) -> 32000 | M10: 금액제외 | O10: 5CB1C6F2ECB30E54E2B41351DA0B27DF62678C | P10: F | Q10: F | R10: T | V10: 1 | AW10: 5B9B260B79C3BB530A74EA71A798AE5CB1C6F2ECB30E54E2B41351DA0B27DF62678C | AY10: -
A11: 강관손료 | B11: 주재료비의 7% | C11: 식 | D11: 1 | E11: =TRUNC(SUMIF(V5:V16, RIGHTB(O11, 1), F5:F16)*U11, 2) -> 22257.9 | F11: =TRUNC(E11*D11,1) -> 22257.9 | G11: 0 | H11: =TRUNC(G11*D11,1) -> 0 | I11: 0 | J11: =TRUNC(I11*D11,1) -> 0 | K11: =TRUNC(E11+G11+I11,1) -> 22257.9 | L11: =TRUNC(F11+H11+J11,1) -> 22257.9 | N11: 5B9B260B79C3BB530A74EA71A798AE | O11: 5A8F0611B5A30159BD84F31101FA001 | P11: F | Q11: F | R11: F | S11: 0 | T11: 0 | U11: 0.07 | AW11: 5B9B260B79C3BB530A74EA71A798AE5A8F0611B5A30159BD84F31101FA001
A12: 비계안정장치 | B12: 비계안정장치, 바퀴 | C12: 개 | D12: 4 | E12: =단가대비표!O52 -> 9500 | F12: =TRUNC(E12*D12,1) -> 38000 | G12: =단가대비표!P52 -> 0 | H12: =TRUNC(G12*D12,1) -> 0 | I12: =단가대비표!V52 -> 0 | J12: =TRUNC(I12*D12,1) -> 0 | K12: =TRUNC(E12+G12+I12,1) -> 9500 | L12: =TRUNC(F12+H12+J12,1) -> 38000 | M12: 금액제외 | O12: 5CB1C6F2ECB30E54E2B41351DA0B27DF62678E | P12: F | Q12: F | R12: T | W12: 2 | AW12: 5B9B260B79C3BB530A74EA71A798AE5CB1C6F2ECB30E54E2B41351DA0B27DF62678E | AY12: -
A13: 비계안정장치 | B13: 비계안정장치, 쟈키 | C13: 개 | D13: 4 | E13: =단가대비표!O53 -> 11000 | F13: =TRUNC(E13*D13,1) -> 44000 | G13: =단가대비표!P53 -> 0 | H13: =TRUNC(G13*D13,1) -> 0 | I13: =단가대비표!V53 -> 0 | J13: =TRUNC(I13*D13,1) -> 0 | K13: =TRUNC(E13+G13+I13,1) -> 11000 | L13: =TRUNC(F13+H13+J13,1) -> 44000 | M13: 금액제외 | O13: 5CB1C6F2ECB30E54E2B41351DA0B27DF62678F | P13: F | Q13: F | R13: T | W13: 2 | AW13: 5B9B260B79C3BB530A74EA71A798AE5CB1C6F2ECB30E54E2B41351DA0B27DF62678F | AY13: -
A14: 비계안정장치 | B14: 비계안정장치, 발판, 40*200*2000 | C14: 장 | D14: 7 | E14: =단가대비표!O54 -> 23000 | F14: =TRUNC(E14*D14,1) -> 161000 | G14: =단가대비표!P54 -> 0 | H14: =TRUNC(G14*D14,1) -> 0 | I14: =단가대비표!V54 -> 0 | J14: =TRUNC(I14*D14,1) -> 0 | K14: =TRUNC(E14+G14+I14,1) -> 23000 | L14: =TRUNC(F14+H14+J14,1) -> 161000 | M14: 금액제외 | O14: 5CB1C6F2ECB30E54E2B41351D85F77E554B140 | P14: F | Q14: F | R14: T | W14: 2 | AW14: 5B9B260B79C3BB530A74EA71A798AE5CB1C6F2ECB30E54E2B41351D85F77E554B140 | AY14: -
A15: 비계안전발판손료 | B15: 주재료비의 9% | C15: 식 | D15: 1 | E15: =TRUNC(SUMIF(W5:W16, RIGHTB(O15, 1), F5:F16)*U15, 2) -> 21870 | F15: =TRUNC(E15*D15,1) -> 21870 | G15: 0 | H15: =TRUNC(G15*D15,1) -> 0 | I15: 0 | J15: =TRUNC(I15*D15,1) -> 0 | K15: =TRUNC(E15+G15+I15,1) -> 21870 | L15: =TRUNC(F15+H15+J15,1) -> 21870 | N15: 5B9B260B79C3BB530A74EA71A798AE | O15: 5A8F0611B5A30159BD84F31101F9002 | P15: F | Q15: F | R15: F | S15: 0 | T15: 0 | U15: 0.09 | AW15: 5B9B260B79C3BB530A74EA71A798AE5A8F0611B5A30159BD84F31101F9002
A16: 강관 조립말비계(이동식)설치 및 해체 | B16: 높이 2m, 노무비 | C16: 대 | D16: 1 | E16: =일위대가목록!E110 -> 0 | F16: =TRUNC(E16*D16,1) -> 0 | G16: =일위대가목록!F110 -> 94574 | H16: =TRUNC(G16*D16,1) -> 94574 | I16: =일위대가목록!G110 -> 0 | J16: =TRUNC(I16*D16,1) -> 0 | K16: =TRUNC(E16+G16+I16,1) -> 94574 | L16: =TRUNC(F16+H16+J16,1) -> 94574 | M16: 호표 107 | N16: 5B9B260B79C3BB530A74EA71A798AE | O16: 5B9B260B79C3BB530A74EA6180F101 | P16: T | Q16: F | R16: F | AW16: 5B9B260B79C3BB530A74EA71A798AE5B9B260B79C3BB530A74EA6180F101
A17: [ 합 계 ] | F17: =TRUNC(SUMIF(N5:N16, N4, F5:F16),0) -> 44127 | H17: =TRUNC(SUMIF(N5:N16, N4, H5:H16),0) -> 94574 | J17: =TRUNC(SUMIF(N5:N16, N4, J5:J16),0) -> 0 | L17: =F17+H17+J17 -> 138701 | N17: TOTAL | O17: TOTAL
A19: 건축물 현장정리 전문, 개보수공사 M2 공통 2-9-2 ( 호표 2 ) | N19: 5B9B260ECFF33C55AF14E5D1E3604C
A20: 보통인부 | B20: 일반공사 직종 | C20: 인 | D20: 0.015 | E20: =단가대비표!O107 -> 0 | F20: =TRUNC(E20*D20,1) -> 0 | G20: =단가대비표!P107 -> 172068 | H20: =TRUNC(G20*D20,1) -> 2581 | I20: =단가대비표!V107 -> 0 | J20: =TRUNC(I20*D20,1) -> 0 | K20: =TRUNC(E20+G20+I20,1) -> 172068 | L20: =TRUNC(F20+H20+J20,1) -> 2581 | M20: 노임 1 | N20: 5B9B260ECFF33C55AF14E5D1E3604C | O20: 5B441693DEA3FD57C5A47EC150F36647914F2E | P20: F | Q20: F | R20: T | AW20: 5B9B260ECFF33C55AF14E5D1E3604C5B441693DEA3FD57C5A47EC150F36647914F2E
A21: [ 합 계 ] | F21: =TRUNC(SUMIF(N20:N20, N19, F20:F20),0) -> 0 | H21: =TRUNC(SUMIF(N20:N20, N19, H20:H20),0) -> 2581 | J21: =TRUNC(SUMIF(N20:N20, N19, J20:J20),0) -> 0 | L21: =F21+H21+J21 -> 2581 | N21: TOTAL | O21: TOTAL
A23: 준공청소 M2 공통 2-11-3 ( 호표 3 ) | N23: 5B9B260ECA735A56E4445C61ED349E
A24: 보통인부 | B24: 일반공사 직종 | C24: 인 | D24: 0.02 | E24: =단가대비표!O107 -> 0 | F24: =TRUNC(E24*D24,1) -> 0 | G24: =단가대비표!P107 -> 172068 | H24: =TRUNC(G24*D24,1) -> 3441.3 | I24: =단가대비표!V107 -> 0 | J24: =TRUNC(I24*D24,1) -> 0 | K24: =TRUNC(E24+G24+I24,1) -> 172068 | L24: =TRUNC(F24+H24+J24,1) -> 3441.3 | M24: 노임 1 | N24: 5B9B260ECA735A56E4445C61ED349E | O24: 5B441693DEA3FD57C5A47EC150F36647914F2E | P24: F | Q24: F | R24: T | AW24: 5B9B260ECA735A56E4445C61ED349E5B441693DEA3FD57C5A47EC150F36647914F2E
A25: [ 합 계 ] | F25: =TRUNC(SUMIF(N24:N24, N23, F24:F24),0) -> 0 | H25: =TRUNC(SUMIF(N24:N24, N23, H24:H24),0) -> 3441 | J25: =TRUNC(SUMIF(N24:N24, N23, J24:J24),0) -> 0 | L25: =F25+H25+J25 -> 3441 | N25: TOTAL | O25: TOTAL
A27: 유성페인트 [뿜칠 - 바탕처리포함] 철재면, 2회 M2 건축 11-2-5 ( 호표 4 ) | N27: 5B9BD67BA9B354599974FB617747C4
A28: 유성페인트 뿜칠 재료비(20년 품셈기준) | B28: 철재면, 2회, 2급 | C28: M2 | D28: 1 | E28: =일위대가목록!E111 -> 1141 | F28: =TRUNC(E28*D28,1) -> 1141 | G28: =일위대가목록!F111 -> 0 | H28: =TRUNC(G28*D28,1) -> 0 | I28: =일위대가목록!G111 -> 0 | J28: =TRUNC(I28*D28,1) -> 0 | K28: =TRUNC(E28+G28+I28,1) -> 1141 | L28: =TRUNC(F28+H28+J28,1) -> 1141 | M28: 호표 108 | N28: 5B9BD67BA9B354599974FB617747C4 | O28: 5B9BD67626937E51EDF4ACC11176B6 | P28: T | Q28: F | R28: F | AW28: 5B9BD67BA9B354599974FB617747C45B9BD67626937E51EDF4ACC11176B6
A29: 수성페인트 뿜칠 | B29: 2회 노무비 | C29: M2 | D29: 1 | E29: =일위대가목록!E112 -> 224 | F29: =TRUNC(E29*D29,1) -> 224 | G29: =일위대가목록!F112 -> 1867 | H29: =TRUNC(G29*D29,1) -> 1867 | I29: =일위대가목록!G112 -> 0 | J29: =TRUNC(I29*D29,1) -> 0 | K29: =TRUNC(E29+G29+I29,1) -> 2091 | L29: =TRUNC(F29+H29+J29,1) -> 2091 | M29: 호표 109 | N29: 5B9BD67BA9B354599974FB617747C4 | O29: 5B9BD677CF83885C5E3406E1517BA2 | P29: T | Q29: F | R29: F | AW29: 5B9BD67BA9B354599974FB617747C45B9BD677CF83885C5E3406E1517BA2
A30: 철재면 바탕만들기 | B30: 노무비 | C30: M2 | D30: 1 | E30: =일위대가목록!E113 -> 428 | F30: =TRUNC(E30*D30,1) -> 428 | G30: =일위대가목록!F113 -> 1750 | H30: =TRUNC(G30*D30,1) -> 1750 | I30: =일위대가목록!G113 -> 0 | J30: =TRUNC(I30*D30,1) -> 0 | K30: =TRUNC(E30+G30+I30,1) -> 2178 | L30: =TRUNC(F30+H30+J30,1) -> 2178 | M30: 호표 110 | N30: 5B9BD67BA9B354599974FB617747C4 | O30: 5B9BD667A3D3AD5F4FD4C06133934E | P30: T | Q30: F | R30: F | AW30: 5B9BD67BA9B354599974FB617747C45B9BD667A3D3AD5F4FD4C06133934E
A31: [ 합 계 ] | F31: =TRUNC(SUMIF(N28:N30, N27, F28:F30),0) -> 1793 | H31: =TRUNC(SUMIF(N28:N30, N27, H28:H30),0) -> 3617 | J31: =TRUNC(SUMIF(N28:N30, N27, J28:J30),0) -> 0 | L31: =F31+H31+J31 -> 5410 | N31: TOTAL | O31: TOTAL
A33: 타일접착붙임(포세린(포슬린):600*1200*10T) 벽,접착붙임(백색줄눈) M2 건축 3-2-2, -1-2 ( 호표 5 ) | N33: 5B9BE65AAEC3C05937B42A8128E7E7
A34: 타일 붙임 / 접착 붙이기 | B34: 벽, 타일 0.21∼0.40m2 이하, 28m2/일당 | C34: M2 | D34: 1 | E34: =일위대가목록!E115 -> 3983 | F34: =TRUNC(E34*D34,1) -> 3983 | G34: =일위대가목록!F115 -> 26851 | H34: =TRUNC(G34*D34,1) -> 26851 | I34: =일위대가목록!G115 -> 805 | J34: =TRUNC(I34*D34,1) -> 805 | K34: =TRUNC(E34+G34+I34,1) -> 31639 | L34: =TRUNC(F34+H34+J34,1) -> 31639 | M34: 호표 112 | N34: 5B9BE65AAEC3C05937B42A8128E7E7 | O34: 5B9BE65AAC1384572D243EF103F6E5 | P34: T | Q34: F | R34: F | AW34: 5B9BE65AAEC3C05937B42A8128E7E75B9BE65AAC1384572D243EF103F6E5
A35: 타일줄눈 설치 / 벽면 | B35: 타일규격 m2, 0.21 ~ 0.40 이하 | C35: M2 | D35: 1 | E35: =일위대가목록!E116 -> 0 | F35: =TRUNC(E35*D35,1) -> 0 | G35: =일위대가목록!F116 -> 3174 | H35: =TRUNC(G35*D35,1) -> 3174 | I35: =일위대가목록!G116 -> 0 | J35: =TRUNC(I35*D35,1) -> 0 | K35: =TRUNC(E35+G35+I35,1) -> 3174 | L35: =TRUNC(F35+H35+J35,1) -> 3174 | M35: 호표 113 | N35: 5B9BE65AAEC3C05937B42A8128E7E7 | O35: 5B9BE65AAC133C55D514F161DAEE96 | P35: T | Q35: F | R35: F | AW35: 5B9BE65AAEC3C05937B42A8128E7E75B9BE65AAC133C55D514F161DAEE96
A36: 타일시멘트 | B36: 타일시멘트, 줄눈용, 백색 | C36: kg | D36: 1.36 | E36: =단가대비표!O25 -> 228 | F36: =TRUNC(E36*D36,1) -> 310 | G36: =단가대비표!P25 -> 0 | H36: =TRUNC(G36*D36,1) -> 0 | I36: =단가대비표!V25 -> 0 | J36: =TRUNC(I36*D36,1) -> 0 | K36: =TRUNC(E36+G36+I36,1) -> 228 | L36: =TRUNC(F36+H36+J36,1) -> 310 | M36: 자재 21 | N36: 5B9BE65AAEC3C05937B42A8128E7E7 | O36: 5CB1C6F2E473A254AA24A3313225F328BD8C4A | P36: F | Q36: F | R36: T | AW36: 5B9BE65AAEC3C05937B42A8128E7E75CB1C6F2E473A254AA24A3313225F328BD8C4A
A37: [ 합 계 ] | F37: =TRUNC(SUMIF(N34:N36, N33, F34:F36),0) -> 4293 | H37: =TRUNC(SUMIF(N34:N36, N33, H34:H36),0) -> 30025 | J37: =TRUNC(SUMIF(N34:N36, N33, J34:J36),0) -> 805 | L37: =F37+H37+J37 -> 35123 | N37: TOTAL | O37: TOTAL
A39: 수밀코킹(실리콘) 삼각, 10mm, 창호주위 M 건축 6-6-1 ( 호표 6 ) | N39: 5B9BB621C603C155EBF4D5D11419C9
A40: 실링재 | B40: 실링재, 실리콘, 비초산, 유리용, 창호주위 | C40: L | D40: 0.06 | E40: =단가대비표!O84 -> 10371 | F40: =TRUNC(E40*D40,1) -> 622.2 | G40: =단가대비표!P84 -> 0 | H40: =TRUNC(G40*D40,1) -> 0 | I40: =단가대비표!V84 -> 0 | J40: =TRUNC(I40*D40,1) -> 0 | K40: =TRUNC(E40+G40+I40,1) -> 10371 | L40: =TRUNC(F40+H40+J40,1) -> 622.2 | M40: 자재 80 | N40: 5B9BB621C603C155EBF4D5D11419C9 | O40: 5CB1D6984903985CBA34B5F14FC16862CBA3A1 | P40: F | Q40: F | R40: T | AW40: 5B9BB621C603C155EBF4D5D11419C95CB1D6984903985CBA34B5F14FC16862CBA3A1
A41: 수밀코킹 | B41: 재료비 별도 | C41: M | D41: 1 | E41: =일위대가목록!E117 -> 0 | F41: =TRUNC(E41*D41,1) -> 0 | G41: =일위대가목록!F117 -> 5228 | H41: =TRUNC(G41*D41,1) -> 5228 | I41: =일위대가목록!G117 -> 0 | J41: =TRUNC(I41*D41,1) -> 0 | K41: =TRUNC(E41+G41+I41,1) -> 5228 | L41: =TRUNC(F41+H41+J41,1) -> 5228 | M41: 호표 114 | N41: 5B9BB621C603C155EBF4D5D11419C9 | O41: 5B9BB621C563865066949561460D1E | P41: T | Q41: F | R41: F | AW41: 5B9BB621C603C155EBF4D5D11419C95B9BB621C563865066949561460D1E
A42: [ 합 계 ] | F42: =TRUNC(SUMIF(N40:N41, N39, F40:F41),0) -> 622 | H42: =TRUNC(SUMIF(N40:N41, N39, H40:H41),0) -> 5228 | J42: =TRUNC(SUMIF(N40:N41, N39, J40:J41),0) -> 0 | L42: =F42+H42+J42 -> 5850 | N42: TOTAL | O42: TOTAL
A44: PVC마이너스몰딩 비드설치 SST'L H=31.5mm M ( 호표 7 ) | N44: 5B9B465D88E3505F7BD46951296802
A45: PVC마이너스몰딩 | B45: W12*H31.5, L2440 | C45: M | D45: 1.05 | E45: =단가대비표!O75 -> 901.63 | F45: =TRUNC(E45*D45,1) -> 946.7 | G45: =단가대비표!P75 -> 0 | H45: =TRUNC(G45*D45,1) -> 0 | I45: =단가대비표!V75 -> 0 | J45: =TRUNC(I45*D45,1) -> 0 | K45: =TRUNC(E45+G45+I45,1) -> 901.6 | L45: =TRUNC(F45+H45+J45,1) -> 946.7 | M45: 자재 71 | N45: 5B9B465D88E3505F7BD46951296802 | O45: 5CB1D6984903985E6E244CE1688542E05DCE76 | P45: F | Q45: F | R45: T | AW45: 5B9B465D88E3505F7BD469512968025CB1D6984903985E6E244CE1688542E05DCE76
A46: 코너비드 설치 | B46: 재료비 별도 | C46: M | D46: 1 | E46: =일위대가목록!E118 -> 0 | F46: =TRUNC(E46*D46,1) -> 0 | G46: =일위대가목록!F118 -> 6654 | H46: =TRUNC(G46*D46,1) -> 6654 | I46: =일위대가목록!G118 -> 0 | J46: =TRUNC(I46*D46,1) -> 0 | K46: =TRUNC(E46+G46+I46,1) -> 6654 | L46: =TRUNC(F46+H46+J46,1) -> 6654 | M46: 호표 115 | N46: 5B9B465D88E3505F7BD46951296802 | O46: 5B9B465D88E3505E54C4858120F73B | P46: T | Q46: F | R46: F | AW46: 5B9B465D88E3505F7BD469512968025B9B465D88E3505E54C4858120F73B
...

Sheet 단가산출목록
B1: 단 가 산 출 목 록
B2: [ 천안고용복지플러스센터 통합네트워크 인테리어 공사 ]
A3: 코 드 | B3: 품 명 | C3: 규 격 | D3: 단위 | E3: 재 료 비 | F3: 노 무 비 | G3: 경 비 | H3: 합 계 | I3: 번 호 | J3: 비 고 | K3: START | L3: 품셈개요
A4: 5B9A7621F0F3595F64A41A8182385A | B4: 시멘트운반 | C4: L:20km, 덤프 8ton | D4: 포 | E4: =단가산출서!B73 -> 0 | F4: =단가산출서!C73 -> 0 | G4: =단가산출서!D73 -> 1740 | H4: =단가산출서!E73 -> 1740 | I4: 산근 1 | K4: 5B9A7621F0F3595F64A41A8182385A | L4: 공통 8-2-8
A5: 5BB8461DDC93965312A4B471B14C84 | B5: 인력소운반(인력,지게) | C5: 운반거리 L=20m | D5: TON | E5: =단가산출서!B97 -> 0 | F5: =단가산출서!C97 -> 0 | G5: =단가산출서!D97 -> 45269 | H5: =단가산출서!E97 -> 45269 | I5: 산근 2 | K5: 5BB8461DDC93965312A4B471B14C84 | L5: 공통 1-5-1.1.2.3

Sheet 단가산출서
A1: 단 가 산 출 서
A2: [ 천안고용복지플러스센터 통합네트워크 인테리어 공사 ]
A3: 산 출 내 역 | B3: 재 료 비 | C3: 노 무 비 | D3: 경 비 | E3: 합 계 | F3: 비 고 | G3: START | H3: 코드 | I3: 품명 | J3: 규격 | K3: 단위 | L3: 수량 | M3: 변수 | N3: 값 | O3: 소계 | P3: 소계 | Q3: 소계 | R3: 소계 | S3: 소계 | T3: 총계
A4: 시멘트운반 L:20km, 덤프 8ton 포 공통 8-2-8 ( 산근 1 ) | G4: 5B9A7621F0F3595F64A41A8182385A | I4: 시멘트운반 | J4: L:20km, 덤프 8ton | K4: 포
G5: 5B9A7621F0F3595F64A41A8182385A | H5: C | L5: 1
A6: 운반거리 L=20KM 덤프트럭(8톤), 포대당 | B6: 0 | C6: 0 | D6: 0 | E6: 0 | G6: 5B9A7621F0F3595F64A41A8182385A | H6: C! | I6: '운반거리 L=20KM 덤프트럭(8톤), 포대당'
B7: 0 | C7: 0 | D7: 0 | E7: 0 | G7: 5B9A7621F0F3595F64A41A8182385A | H7: C!
A8: 차량속도= 25/V1,25/V2,40KM/V3,40KM/V4,25KM/V5,25KM/V6 | B8: 0 | C8: 0 | D8: 0 | E8: 0 | G8: 5B9A7621F0F3595F64A41A8182385A | H8: C! | I8: '차량속도= 25/V1,25/V2,40KM/V3,40KM/V4,25KM/V5,25KM/V6 '
A9: 하치장○-----------------0------------0---------○20KM | B9: 0 | C9: 0 | D9: 0 | E9: 0 | G9: 5B9A7621F0F3595F64A41A8182385A | H9: C! | I9: '하치장○-----------------0------------0---------○20KM '
A10: 운반거리=하치장L1=0.0KM,시내L2=19.5KM,공사장L3=0.5KM | B10: 0 | C10: 0 | D10: 0 | E10: 0 | G10: 5B9A7621F0F3595F64A41A8182385A | H10: C! | I10: '운반거리=하치장L1=0.0KM,시내L2=19.5KM,공사장L3=0.5KM'
B11: 0 | C11: 0 | D11: 0 | E11: 0 | G11: 5B9A7621F0F3595F64A41A8182385A | H11: C!
A12: 인력운반 (품셈 1-5-1) 적재비(하치장 상차도 미계상,공장상차도 계상) | B12: 0 | C12: 0 | D12: 0 | E12: 0 | G12: 5B9A7621F0F3595F64A41A8182385A | H12: C! | I12: '인력운반 (품셈 1-5-1) 적재비(하치장 상차도 미계상,공장상차도 계상)'
A13: L 소운반거리(M) =20 | B13: 0 | C13: 0 | D13: 0 | E13: 0 | G13: 5B9A7621F0F3595F64A41A8182385A | H13: C! | I13: L '소운반거리(M)' =20
A14: A 1회 운반량(BG) =1 | B14: 0 | C14: 0 | D14: 0 | E14: 0 | G14: 5B9A7621F0F3595F64A41A8182385A | H14: C! | I14: A '1회 운반량(BG)' =1
A15: T 단위(KG) =8000 | B15: 0 | C15: 0 | D15: 0 | E15: 0 | G15: 5B9A7621F0F3595F64A41A8182385A | H15: C! | I15: T '단위(KG)' =8000
A16: RT 단위중량(KG) =40 | B16: 0 | C16: 0 | D16: 0 | E16: 0 | G16: 5B9A7621F0F3595F64A41A8182385A | H16: C! | I16: RT '단위중량(KG)' =40
A17: MV 운반인부의 속도2500M/HR =2500/60= 41.6667 | B17: 0 | C17: 0 | D17: 0 | E17: 0 | G17: 5B9A7621F0F3595F64A41A8182385A | H17: C! | I17: MV '운반인부의 속도2500M/HR' =2500/60=?
A18: T1 어깨메고부리기시간(MIN) =2.0 | B18: 0 | C18: 0 | D18: 0 | E18: 0 | G18: 5B9A7621F0F3595F64A41A8182385A | H18: C! | I18: T1 '어깨메고부리기시간(MIN)' =2.0
A19: QT 차량 1대당 적재용량(BG) =T/RT= 200 | B19: 0 | C19: 0 | D19: 0 | E19: 0 | G19: 5B9A7621F0F3595F64A41A8182385A | H19: C! | I19: QT '차량 1대당 적재용량(BG)' =T/RT=?
A20: N 차량 1대당 소요운반회수 =QT/A= 200 | B20: 0 | C20: 0 | D20: 0 | E20: 0 | G20: 5B9A7621F0F3595F64A41A8182385A | H20: C! | I20: N '차량 1대당 소요운반회수' =QT/A=?
A21: CMS 운반 1회당 소요시간(MIN) =L*2/MV+T1= 2.96 | B21: 0 | C21: 0 | D21: 0 | E21: 0 | G21: 5B9A7621F0F3595F64A41A8182385A | H21: C! | I21: CMS '운반 1회당 소요시간(MIN)' =L*2/MV+T1=?
A22: T1A 차량 1대당 적재소요시간(MIN) =CMS*N= 592 | B22: 0 | C22: 0 | D22: 0 | E22: 0 | G22: 5B9A7621F0F3595F64A41A8182385A | H22: C! | I22: T1A '차량 1대당 적재소요시간(MIN)' =CMS*N=?
A23: Q 단위당 소요인부(상,하차) =T1A/450*1/QT= 0.007 | B23: 0 | C23: 0 | D23: 0 | E23: 0 | G23: 5B9A7621F0F3595F64A41A8182385A | H23: C! | I23: Q '단위당 소요인부(상,하차)' =T1A/450*1/QT=?
B24: 0 | C24: 0 | D24: 0 | E24: 0 | G24: 5B9A7621F0F3595F64A41A8182385A | H24: C!
A25: 1.덤프트럭(8톤/HR) | B25: 0 | C25: 0 | D25: 0 | E25: 0 | G25: 5B9A7621F0F3595F64A41A8182385A | H25: C! | I25: '1.덤프트럭(8톤/HR)'
A26: T 적재용량(KG) =8000 | B26: 0 | C26: 0 | D26: 0 | E26: 0 | G26: 5B9A7621F0F3595F64A41A8182385A | H26: C! | I26: T '적재용량(KG)' =8000
A27: R1 단위중량(KG) =40 | B27: 0 | C27: 0 | D27: 0 | E27: 0 | G27: 5B9A7621F0F3595F64A41A8182385A | H27: C! | I27: r1 '단위중량(KG)' =40
A28: Q1 1회 적재량(BG) =T/R1= 200 | B28: 0 | C28: 0 | D28: 0 | E28: 0 | G28: 5B9A7621F0F3595F64A41A8182385A | H28: C! | I28: q1 '1회 적재량(BG)' =T/r1=?
A29: f 토량 환산계수 =1 | B29: 0 | C29: 0 | D29: 0 | E29: 0 | G29: 5B9A7621F0F3595F64A41A8182385A | H29: C! | I29: f '토량 환산계수' =1
A30: E 작업효율 =0.9 | B30: 0 | C30: 0 | D30: 0 | E30: 0 | G30: 5B9A7621F0F3595F64A41A8182385A | H30: C! | I30: E '작업효율' =0.9
B31: 0 | C31: 0 | D31: 0 | E31: 0 | G31: 5B9A7621F0F3595F64A41A8182385A | H31: C!
A32: L1 하치장내 운반거리(KM) =0.0 | B32: 0 | C32: 0 | D32: 0 | E32: 0 | G32: 5B9A7621F0F3595F64A41A8182385A | H32: C! | I32: L1 '하치장내 운반거리(KM)' =0.0
A33: L2 도로주행 운반거리(KM) =19.5 | B33: 0 | C33: 0 | D33: 0 | E33: 0 | G33: 5B9A7621F0F3595F64A41A8182385A | H33: C! | I33: L2 '도로주행 운반거리(KM)' =19.5
A34: L3 공사장내 운반거리(KM) =0.5 | B34: 0 | C34: 0 | D34: 0 | E34: 0 | G34: 5B9A7621F0F3595F64A41A8182385A | H34: C! | I34: L3 '공사장내 운반거리(KM)' =0.5
A35: V1 하치장내적재운반속도(KM/HR) =25 | B35: 0 | C35: 0 | D35: 0 | E35: 0 | G35: 5B9A7621F0F3595F64A41A8182385A | H35: C! | I35: V1 '하치장내적재운반속도(KM/HR)' =25
A36: V2 하치장내공차운반속도(KM/HR) =25 | B36: 0 | C36: 0 | D36: 0 | E36: 0 | G36: 5B9A7621F0F3595F64A41A8182385A | H36: C! | I36: V2 '하치장내공차운반속도(KM/HR)' =25
A37: V3 도로주행적재운반속도(KM/HR) =40 | B37: 0 | C37: 0 | D37: 0 | E37: 0 | G37: 5B9A7621F0F3595F64A41A8182385A | H37: C! | I37: V3 '도로주행적재운반속도(KM/HR)' =40
A38: V4 도로주행공차운반속도(KM/HR) =40 | B38: 0 | C38: 0 | D38: 0 | E38: 0 | G38: 5B9A7621F0F3595F64A41A8182385A | H38: C! | I38: V4 '도로주행공차운반속도(KM/HR)' =40
A39: V5 공사장내적재운반속도(KM/HR) =25 | B39: 0 | C39: 0 | D39: 0 | E39: 0 | G39: 5B9A7621F0F3595F64A41A8182385A | H39: C! | I39: V5 '공사장내적재운반속도(KM/HR)' =25
A40: V6 공사장내공차운반속도(KM/HR) =25 | B40: 0 | C40: 0 | D40: 0 | E40: 0 | G40: 5B9A7621F0F3595F64A41A8182385A | H40: C! | I40: V6 '공사장내공차운반속도(KM/HR)' =25
...

Sheet 단가대비표
A1: 단 가 대 비 표
A2: [ 천안고용복지플러스센터 통합네트워크 인테리어 공사 ]
A3: 코 드 | B3: 품 명 | C3: 규격 | D3: 단위 | E3: 재 료 비 | P3: 노 무 비 | Q3: 경 비 | W3: 번 호 | X3: 비 고 | Y3: 품목구분 | Z3: 노임구분 | AA3: 소수점처리 | AB3: 자재구분
E4: 조달청가격 | F4: PAGE | G4: 거래가격 | H4: PAGE | I4: 유통물가 | J4: PAGE | K4: 물가자료 | L4: PAGE | M4: 조사가격 | N4: PAGE | O4: 적용단가 | Q4: 조달청가격 | R4: 거래가격 | S4: 유통물가 | T4: 물가자료 | U4: 조사가격 | V4: 적용단가
A5: 5C8486142D238951524464513AEDC2D9995307 | B5: 덤프트럭 | C5: 8ton | D5: 대 | E5: 0 | G5: 0 | I5: 0 | K5: 0 | M5: 0 | O5: 0 | P5: 0 | Q5: 0 | R5: 0 | S5: 0 | T5: 0 | U5: 37391 | V5: =SMALL(Q5:U5,COUNTIF(Q5:U5,0)+1) -> 37391 | W5: 자재 1 | X5: 천원
A6: 5C96E616FCA3A7539064F2415FD549B757A637 | B6: 보통합판 | C6: 보통합판, 1급, 4.8*1220*2440mm | D6: 매 | E6: 13900 | G6: 14700 | H6: 667 | I6: 13900 | J6: 407 | K6: 0 | M6: 0 | O6: =SMALL(E6:M6,COUNTIF(E6:M6,0)+1) -> 13900 | P6: 0 | Q6: 0 | R6: 0 | S6: 0 | T6: 0 | U6: 0 | V6: 0 | W6: 자재 2
A7: 5C96E616FCA3A7539064D7B1656F361BD4F1FC | B7: 중밀도섬유판 | C7: 중밀도섬유판, 9.0*1220*2440mm | D7: M2 | E7: 4232 | G7: 5811.6 | H7: 668 | I7: 4837.4 | J7: 409 | K7: 0 | M7: 0 | O7: =SMALL(E7:M7,COUNTIF(E7:M7,0)+1) -> 4232 | P7: 0 | Q7: 0 | R7: 0 | S7: 0 | T7: 0 | U7: 0 | V7: 0 | W7: 자재 3
A8: 5C96E616F723755422947E710F72F3CE6B807C | B8: 철강설 [철거] | C8: 철강설, 고철, 작업설부산물 | D8: kg | E8: 0 | G8: 435 | H8: 1472 | I8: 0 | K8: 0 | M8: 0 | O8: =SMALL(E8:M8,COUNTIF(E8:M8,0)+1) -> 435 | P8: 0 | Q8: 0 | R8: 0 | S8: 0 | T8: 0 | U8: 0 | V8: 0 | W8: 자재 4 | X8: 수집상차도
A9: 5C96E616F723755422947E710F72F3CE6B807F | B9: 철강설 [철거] | C9: 철강설, 스텐레스, 작업설부산물 | D9: kg | E9: 0 | G9: 1850 | H9: 1472 | I9: 0 | K9: 0 | M9: 0 | O9: =SMALL(E9:M9,COUNTIF(E9:M9,0)+1) -> 1850 | P9: 0 | Q9: 0 | R9: 0 | S9: 0 | T9: 0 | U9: 0 | V9: 0 | W9: 자재 5 | X9: 수집상차도
A10: 5C96E616F723755422947E710F72F3CE6B8079 | B10: 철강설 [철거] | C10: 철강설, 알루미늄, 작업설부산물 | D10: kg | E10: 0 | G10: 0 | I10: 4100 | J10: 1198 | K10: 0 | M10: 0 | O10: =SMALL(E10:M10,COUNTIF(E10:M10,0)+1) -> 4100 | P10: 0 | Q10: 0 | R10: 0 | S10: 0 | T10: 0 | U10: 0 | V10: 0 | W10: 자재 6 | X10: 수집상차도
A11: 5C96D6701C33AE5041245AA15D366D084E3007 | B11: 감수제 | C11: 감수제, 혼화제, 메도로스1000 | D11: g | E11: 4.5 | G11: 0 | I11: 0 | K11: 0 | M11: 0 | O11: =SMALL(E11:M11,COUNTIF(E11:M11,0)+1) -> 4.5 | P11: 0 | Q11: 0 | R11: 0 | S11: 0 | T11: 0 | U11: 0 | V11: 0 | W11: 자재 7
A12: 5C96A6BD7A03D95EDEE4C1D124F60F2B4E8B14 | B12: 경유 | C12: 경유, 저유황 | D12: L | E12: 1657 | G12: 0 | I12: 0 | K12: 0 | M12: 0 | O12: =SMALL(E12:M12,COUNTIF(E12:M12,0)+1) -> 1657 | P12: 0 | Q12: 0 | R12: 0 | S12: 0 | T12: 0 | U12: 0 | V12: 0 | W12: 자재 8
A13: 5C96A6BD7B132D5AE5A49E4174D43CF85939CA | B13: 액화천연가스 | C13: 액화천연가스, 건설용 | D13: M3 | E13: 0 | G13: 0 | I13: 0 | K13: 0 | M13: 942 | N13: 1607 | O13: =SMALL(E13:M13,COUNTIF(E13:M13,0)+1) -> 942 | P13: 0 | Q13: 0 | R13: 0 | S13: 0 | T13: 0 | U13: 0 | V13: 0 | W13: 자재 9
A14: 5CB1C6F2E5033A554B74D2713A06CE6B7EF8D1 | B14: METAL C-STUD | C14: 65*45*0.8T | D14: M | E14: 0 | G14: 0 | I14: 0 | K14: 3230 | L14: 543 | M14: 0 | O14: =SMALL(E14:M14,COUNTIF(E14:M14,0)+1) -> 3230 | P14: 0 | Q14: 0 | R14: 0 | S14: 0 | T14: 0 | U14: 0 | V14: 0 | W14: 자재 10
A15: 5CB1C6F2E5033A554B74D2713A06CE6B7EFA82 | B15: METAL C-RUNNER | C15: 67*45*0.8T | D15: M | E15: 0 | G15: 0 | I15: 0 | K15: 2680 | L15: 543 | M15: 0 | O15: =SMALL(E15:M15,COUNTIF(E15:M15,0)+1) -> 2680 | P15: 0 | Q15: 0 | R15: 0 | S15: 0 | T15: 0 | U15: 0 | V15: 0 | W15: 자재 11
A16: 5CB1C6F2E5030E5C02546671D190666E1FB752 | B16: 일반구조용압연강판 | C16: 일반구조용압연강판, 1.6mm | D16: kg | E16: 867 | G16: 1005.9 | H16: 62 | I16: 0 | K16: 0 | M16: 0 | O16: =SMALL(E16:M16,COUNTIF(E16:M16,0)+1) -> 867 | P16: 0 | Q16: 0 | R16: 0 | S16: 0 | T16: 0 | U16: 0 | V16: 0 | W16: 자재 12
A17: 5CB1C6F2E5030E5C02546671D190666E1FB755 | B17: 일반구조용압연강판 | C17: 일반구조용압연강판, 2.3mm | D17: kg | E17: 0 | G17: 994 | H17: 62 | I17: 0 | K17: 0 | M17: 0 | O17: =SMALL(E17:M17,COUNTIF(E17:M17,0)+1) -> 994 | P17: 0 | Q17: 0 | R17: 0 | S17: 0 | T17: 0 | U17: 0 | V17: 0 | W17: 자재 13
A18: 5CB1C6F2E5030E5C02546671D190666144C6FC | B18: 합금화용융아연도금강판 | C18: 합금화용융아연도금강판, 갈바륨, 1.50mm | D18: kg | E18: 0 | G18: 1272 | H18: 65 | I18: 0 | K18: 0 | M18: 0 | O18: =SMALL(E18:M18,COUNTIF(E18:M18,0)+1) -> 1272 | P18: 0 | Q18: 0 | R18: 0 | S18: 0 | T18: 0 | U18: 0 | V18: 0 | W18: 자재 14
A19: 5CB1C6F2E5030E5C025470E15B9926C6F89A2B | B19: 스테인리스헤어라인판(STS 304) (HL) | C19: 스테인리스헤어라인판, 1.5mm | D19: kg | E19: 0 | G19: 4600 | H19: 73 | I19: 4242 | J19: 36 | K19: 0 | M19: 0 | O19: =SMALL(E19:M19,COUNTIF(E19:M19,0)+1) -> 4242 | P19: 0 | Q19: 0 | R19: 0 | S19: 0 | T19: 0 | U19: 0 | V19: 0 | W19: 자재 15
A20: 5CB1C6F2E5031F5264742D41B661DBAFE845FD | B20: 각재 | C20: 각재, 미송 | D20: 재 | E20: 2358 | G20: 2700 | H20: 147 | I20: 2358 | J20: 73 | K20: 0 | M20: 0 | O20: =SMALL(E20:M20,COUNTIF(E20:M20,0)+1) -> 2358 | P20: 0 | Q20: 0 | R20: 0 | S20: 0 | T20: 0 | U20: 0 | V20: 0 | W20: 자재 16
A21: 5CB1C6F2E5031F5264742D41B661DBAFE84223 | B21: 각재 | C21: 각재, 라왕, 일반 | D21: 재 | E21: 5700 | G21: 6100 | H21: 147 | I21: 7245 | J21: 73 | K21: 0 | M21: 0 | O21: =SMALL(E21:M21,COUNTIF(E21:M21,0)+1) -> 5700 | P21: 0 | Q21: 0 | R21: 0 | S21: 0 | T21: 0 | U21: 0 | V21: 0 | W21: 자재 17
A22: 5CB1C6F2E473A254AA24A3313225F32EDB6E65 | B22: 시멘트 | C22: 시멘트(별도) | D22: kg | E22: 0 | G22: 0 | I22: 0 | K22: 0 | M22: 0 | O22: 0 | P22: 0 | Q22: 0 | R22: 0 | S22: 0 | T22: 0 | U22: 0 | V22: 0 | W22: 자재 18 | X22: 별도
A23: 5CB1C6F2E473A254AA24A3313225F32EDB6E66 | B23: 시멘트 | C23: 시멘트, 분공장도 | D23: 포 | E23: 0 | G23: 6181.81 | H23: 102 | I23: 6727.27 | J23: 62 | K23: 0 | M23: 0 | O23: =SMALL(E23:M23,COUNTIF(E23:M23,0)+1) -> 6181.81 | P23: 0 | Q23: 0 | R23: 0 | S23: 0 | T23: 0 | U23: 0 | V23: 0 | W23: 자재 19
A24: 5CB1C6F2E473A254AA24A3313225F328B2E71C | B24: 특수시멘트 | C24: 특수시멘트, 백색시멘트 | D24: kg | E24: 0 | G24: 375 | H24: 102 | I24: 456.81 | J24: 62 | K24: 0 | M24: 0 | O24: =SMALL(E24:M24,COUNTIF(E24:M24,0)+1) -> 375 | P24: 0 | Q24: 0 | R24: 0 | S24: 0 | T24: 0 | U24: 0 | V24: 0 | W24: 자재 20
A25: 5CB1C6F2E473A254AA24A3313225F328BD8C4A | B25: 타일시멘트 | C25: 타일시멘트, 줄눈용, 백색 | D25: kg | E25: 0 | G25: 292 | H25: 104 | I25: 228 | J25: 64 | K25: 0 | M25: 0 | O25: =SMALL(E25:M25,COUNTIF(E25:M25,0)+1) -> 228 | P25: 0 | Q25: 0 | R25: 0 | S25: 0 | T25: 0 | U25: 0 | V25: 0 | W25: 자재 21
A26: 5CB1C6F2E6239A529AA49E51750A5BDD8B27EB | B26: 포세린타일 | C26: 600*1200*10mm | D26: M2 | E26: 0 | G26: 65000 | H26: 565 | I26: 0 | K26: 0 | M26: 0 | O26: =SMALL(E26:M26,COUNTIF(E26:M26,0)+1) -> 65000 | P26: 0 | Q26: 0 | R26: 0 | S26: 0 | T26: 0 | U26: 0 | V26: 0 | W26: 자재 22
A27: 5CB1C6F2E1A3645691E47161DF9F6C9342B74B | B27: 우레탄폼주입 | C27: 주입발포공법 | D27: M3 | E27: 0 | G27: 0 | I27: 330000 | J27: 405 | K27: 330000 | L27: 690 | M27: 0 | O27: =SMALL(E27:M27,COUNTIF(E27:M27,0)+1) -> 330000 | P27: 0 | Q27: 0 | R27: 0 | S27: 0 | T27: 0 | U27: 0 | V27: 0 | W27: 자재 23 | X27: 시공도
