Workbook
Name _: [2]예가표!#REF!
Name _?쾴?: #REF!
Name _?쾴?: #REF!
Name _?쾴?: #REF!
Name _?쾴?: #REF!
Name _?쾴?_?: #REF!
Name _?쾴?_?: #REF!
Name _?쾴?_?: #REF!
Name _?쾴?___P: #REF!
Name _?쾴?___P: #REF!
Name _?쾴?___P: #REF!
Name _?쾴?_T: #REF!
Name _?쾴?_T: #REF!
Name _?쾴?_T: #REF!
Name __: [2]예가표!#REF!
Name ___: [2]예가표!#REF!
Name ______: [2]예가표!#REF!
Name _______: [2]예가표!#REF!
Name _________: [2]예가표!#REF!
Name __________: [2]예가표!#REF!
Name ___________: [2]예가표!#REF!
Name ____________: [2]예가표!#REF!
Name _____________: [2]예가표!#REF!
Name ______________: [2]예가표!#REF!
Name ____________LP1: '[3]부하(성남)'!#REF!
Name ____________LPB1: [4]부하계산서!#REF!
Name ____________LPK1: [4]부하계산서!#REF!
Name ____________LU1: '[3]부하(성남)'!#REF!
Name ____________LU2: '[3]부하(성남)'!#REF!
Name ____________LV01: '[3]부하(성남)'!#REF!
Name ____________UP1: [4]부하계산서!#REF!
Name ____________UP2: [4]부하계산서!#REF!
Name _______LP1: '[3]부하(성남)'!#REF!
Name _______LPB1: [4]부하계산서!#REF!
Name _______LPK1: [4]부하계산서!#REF!
Name _______LU1: '[3]부하(성남)'!#REF!
Name _______LU2: '[3]부하(성남)'!#REF!
Name _______LV01: '[3]부하(성남)'!#REF!
Name _______UP1: [4]부하계산서!#REF!
Name _______UP2: [4]부하계산서!#REF!
Name ____PB1: #REF!
Name ____PB1: #REF!
Name ____PB1: #REF!
Name ____PB2: #REF!
Name ____PB2: #REF!
Name ____PB2: #REF!
Name ____PB3: #REF!
Name ____PB3: #REF!
Name ____PB3: #REF!
Name ___PB1: #REF!
Name ___PB1: #REF!
Name ___PB1: #REF!
Name ___PB2: #REF!
Name ___PB2: #REF!
Name ___PB2: #REF!
Name ___PB3: #REF!
Name ___PB3: #REF!
Name ___PB3: #REF!
Name __DemandLoad: TRUE
Name __LP1: '[3]부하(성남)'!#REF!

Sheet 총괄표
A1: 공사비총괄표
A2: (2026. 08 . .)
A3: 1. 공 사 명 : 천안고용복지플러스센터 통합네트워크 인테리어 공사 | G3: 발 주 사 무 소 : (인)
A4: 2. 규 모 : 2,425 M2 (약 734 평) | G4: 작성자(설계자) : ㈜바루다 건축사사무소 (인)
A5: 3. 구 조 : 리모델링 공사
A6: 4. 공사기간 : 6 개월 미만
A8: 구분 | B8: 도급공사 | C8: 도급자관급 | D8: 관급자관급 | E8: 별도공사 | F8: 폐기물처리비 | G8: 계 | H8: 비 고
H9: 지급자재 내용 | I9: 별도공사 내용
A10: 건 축 공 사 | B10: ='원가계산(건축)'!D42 -> 909610000 | C10: ='원가계산(건축)'!D43 -> 0 | D10: ='원가계산(건축)'!D44 -> 0 | E10: 0 | F10: 0 | G10: =B10+C10+D10+E10+F10 -> 909610000 | J10: =G10/K10 -> 361099.64 | K10: 2519 | N10: 2.2620093e+09 | O10: =G10/N10*100 -> 40.212479 | Q10: =G10/285 -> 3191614
A11: 기 계 공 사 | B11: 0 | C11: 0 | D11: 0 | E11: 0 | F11: 0 | G11: =B11+C11+D11+E11+F11 -> 0
A12: 전 기 공 사 | B12: 0 | C12: 0 | D12: 0 | E12: 0 | F12: 0 | G12: =B12+C12+D12+E12+F12 -> 0 | J12: 02. 사용전검사 수수료 | K12: 1055 | N12: 2.2620093e+09 | O12: =G12/N12*100 -> 0 | Q12: =G12/285 -> 0
A13: 통 신 공 사 | B13: 0 | C13: 0 | D13: 0 | E13: 0 | F13: 0 | G13: =B13+C13+D13+E13+F13 -> 0 | J13: 03. 운송설비 | K13: 1055 | L13: 010201 CCTV설비 | N13: 2.2620093e+09 | O13: =G13/N13*100 -> 0 | Q13: =G13/285 -> 0
A14: 소 방 공 사(전기+기계) | B14: 0 | C14: 0 | D14: 0 | E14: 0 | F14: 0 | G14: =B14+C14+D14+E14+F14 -> 0 | K14: 1055 | L14: 010202 AV설비공사 | N14: 2.2620093e+09 | O14: =G14/N14*100 -> 0 | Q14: =G14/285 -> 0
A15: 건설폐기물처리비 (건축) | B15: 0 | C15: 0 | D15: 0 | E15: 0 | F15: 0 | G15: =B15+C15+D15+E15+F15 -> 0
A16: 합 계 | B16: =SUM(B10:B15) -> 909610000 | C16: =SUM(C10:C15) -> 0 | D16: =SUM(D10:D15) -> 0 | E16: =SUM(E10:E15) -> 0 | F16: =SUM(F10:F15) -> 0 | G16: =B16+C16+D16+E16+F16 -> 909610000 | L16: 03. 마트 방송설비 | N16: 2.2620093e+09 | O16: =G16/N16*100 -> 40.212479 | Q16: =G16/285 -> 3191614
D17: =TRUNC((D9+D10+D40/1.1)*F17,0) -> 0 | G17: =TRUNC((D9+D10+D40/1.1)*F17,0) -> 0 | L17: 04. 금융시설 방송설비 | N17: 2.2620093e+09 | O17: =G17/N17*100 -> 0
A18: 총 계 | B18: =B16 -> 909610000 | C18: =C16 -> 0 | D18: =D16 -> 0 | E18: =E16 -> 0 | F18: =F16 -> 0 | G18: =B18+C18+D18+E18+F18 -> 909610000 | I18: 용역비,취득록세별도
J19: 계
J20: 3. 별도공사
J21: 나. 상수도인입분담금
G22: =G18 -> 909610000 | H22: =F22-G22 -> -909610000 | J22: 다. 오하수원인자분담금
G32: =INT((G16+G28+G30)*$C32) -> 0

Sheet 원가계산(건축)
A1: 공 사 원 가 계 산 서
A3: =순공사비!A2 -> [ 천안고용복지플러스센터 통합네트워크 인테리어 공사 ] | E3: =CONCATENATE("금액",":", " 일금 ",NUMBERSTRING(D46,1),"원정") -> 금액: 일금 구억구백육십일만원정
A4: 구 분 | D4: 금 액 | E4: 구 성 비 | G4: 비 고
A6: 순 공 사 비 원 가 | B6: 재 료 비 | C6: 직 접 재 료 비 | D6: =순공사비!F11 -> 219735634
C7: 간 접 재 료 비 | D7: 0
C8: 작업설 . 부산물(△) | D8: 0
C9: (1) [소 계] | D9: =SUM(D6:D8) -> 219735634 | L9: =(#REF!+#REF!+(#REF!/1.1))*1.86% -> #REF!
B10: 노 무 비 | C10: 직 접 노 무 비 | D10: =순공사비!H11 -> 305283337
C11: 간 접 노 무 비 | D11: =TRUNC((D10*F11),0) -> 53424583 | E11: 직접노무비의 * | F11: 0.175 | L11: =(#REF!+#REF!)*1.86%*1.2 -> #REF!
C12: (2) [소 계] | D12: =SUM(D10:D11) -> 358707920
B13: 경 비 | C13: 운 반 비 | D13: 0
C14: 기 계 경 비 | D14: =순공사비!J11 -> 6422604
C15: 산 재 보 험 료 | D15: =TRUNC((D12)*F15,0) -> 12770001 | E15: [직노+간노] * | F15: 0.0356
C16: 산업안전보건관리비 | D16: =TRUNC((D9+D10+(D43/1.1))*F16,0) -> 16328089 | E16: a.(재+직노+도급자관급/1.1)* | F16: 0.0311 | G16: =TRUNC((D9+D10+(D43/1.1))*F16,0) -> 16328089 | H16: a와b 중 작은값적용. | I16: (적용함)
E17: b.[직재+직노] * 1.2 | F17: 0.0311 | G17: =TRUNC(((D9+D10)*F17)*1.2,0)*0 -> 0
C18: 고 용 보 험 료 | D18: =TRUNC((D12)*F18,0) -> 3622949 | E18: 노무비 * | F18: 0.0101 | J18: 정기안전점검비 연면적 | K18: 전체요율 | L18: 정기안전점검요율 | M18: 초기점검요율
C19: 건 강 보 험 료 | D19: =TRUNC((D10)*F19,0) -> 10974935 | E19: 직접노무비의 * | F19: 0.03595 | J19: 5,000m2 | K19: =SUM(L19:M19) -> 0.52 | L19: 0.35 | M19: 0.17
C20: 노인장기요양보험료 | D20: =TRUNC((D19)*F20,0) -> 1442106 | E20: 건강보험료의 * | F20: 0.1314 | J20: 10,000m2 | K20: =SUM(L20:M20) -> 0.34 | L20: 0.24 | M20: 0.1
C21: 연 금 보 험 료 | D21: =TRUNC((D10)*F21,0) -> 14500958 | E21: 직접노무비의 * | F21: 0.0475 | J21: 30,000m2 | K21: =SUM(L21:M21) -> 0.16 | L21: 0.11 | M21: 0.05
C22: 퇴 직 공 제 부 금 비 | D22: =TRUNC((D10)*F22,0) -> 7021516 | E22: 직접노무비의 * | F22: 0.023 | J22: 50,000m2 | K22: =SUM(L22:M22) -> 0.13 | L22: 0.09 | M22: 0.04
C23: 환 경 보 전 비 | D23: =TRUNC((D9+D10+D13+D14+(D30+D31+D38))*F23,0) -> 1639648 | E23: [재+직노+산출경비] * | F23: 0.003 | J23: 100,000m2 | K23: =SUM(L23:M23) -> 0.11 | L23: 0.08 | M23: 0.03
C24: 건설기계대여금지급보증서 | D24: =TRUNC((D9+D10+D13+D14+(D30+D31+D38))*F24,0) -> 546549 | E24: [재+직노+산출경비] * | F24: 0.001
C25: 하도급지급보증서발급수수료 | D25: =TRUNC((D9+D10+D13+D14+(D30+D31+D38))*F25,0)*0 -> 0 | E25: [재+직노+산출경비] * | F25: 0.00081 | J25: 1500000
C26: 공사이행보증수수료 | D26: =TRUNC(((J25)+((D9+D10+D14)-J26)*0.0077%)*J27)*0 -> 0 | G26: 120억이상~250억미만 | J26: 13000000000
C27: 기 타 경 비 | D27: =TRUNC((D9+D12)*F27,0) -> 28922177 | E27: [재료비+노무비] * | F27: 0.05 | J27: 2
C28: 석 면 분 담 금 | D28: =TRUNC((D12)*F28,0) -> 21522 | E28: 노무비 * | F28: 6e-05
C29: 임 금 채 권 부 담 금 | D29: =TRUNC((D12)*F29,0) -> 322837 | E29: 노무비 * | F29: 0.0009
C30: 안 전 관 리 비 | D30: 0 | E30: [재+직노+산출경비] * | F30: 0
C31: 품 질 관 리 비 | D31: =순공사비!L48 -> 1654330
C32: (3) [소 계] | D32: =SUM(D13:D31) -> 106190221
A33: (4) [소 계] | D33: =D9+D12+D32 -> 684633775 | G33: (1)+(2)+(3)
A34: 일 반 관 리 비 | D34: =TRUNC((D33)*F34,0) -> 54770702 | E34: 계 * | F34: 0.08
A35: 이 윤 | D35: =TRUNC((D12+D32+D34)*F35-790,0) -> 77949536 | E35: [노무비+경비+일반관리비] * | F35: 0.15
A36: 가 구 공 사 | D36: 0
A37: 작 업 부 산 물 | D37: =순공사비!L35 -> -3889535
A38: 건 설 폐 기 물 처 리 비 | D38: =순공사비!L43 -> 13453704 | G38: 100 ton미만
A39: T . A . B 공 사 | D39: 0 | G39: [ 기계공사 ]
A40: 공 급 가 액 | D40: =SUM(D33:D39) -> 826918182
A41: 부 가 가 치 세 | D41: =TRUNC((D40)*F41,0) -> 82691818 | E41: 공급가액 * | F41: 0.1
A42: [ 도 급 공 사 비] | D42: =SUM(D40:D41) -> 909610000
A43: 관급자재 | C43: 도 급 자 관 급 | D43: =순공사비!L19 -> 0
C44: 관 급 자 관 급 | D44: =순공사비!L27 -> 0
C45: [소 계] | D45: =SUM(D43:D44) -> 0
A46: [ 총 공 사 비] | D46: =D42+D45 -> 909610000
E48: =#REF!+#REF! -> #REF!
E49: =#REF!+#REF! -> #REF!

Sheet 순공사비
A1: 순 공 사 비
A2: =공종별집계표!A2 -> [ 천안고용복지플러스센터 통합네트워크 인테리어 공사 ]
A3: 품 명 | B3: 규 격 | C3: 단위 | D3: 수량 | E3: 재 료 비 | G3: 노 무 비 | I3: 경 비 | K3: 합 계 | M3: 비고
E4: 단가 | F4: 금액 | G4: 단가 | H4: 금액 | I4: 단가 | J4: 금액 | K4: 단가 | L4: 금액
A5: 01.리모델링 [2F] | D5: 1 | F5: =공종별집계표!F19 -> 42388013 | H5: =공종별집계표!H19 -> 61776018 | J5: =공종별집계표!J19 -> 1241736 | L5: =F5+H5+J5 -> 105405767 | N5: =L11+L19+L27+L35+L43+L48 -> 542660074
A6: 02.리모델링 [3F] | D6: 1 | F6: =공종별집계표!F45 -> 52203421 | H6: =공종별집계표!H45 -> 62877624 | J6: =공종별집계표!J45 -> 1410443 | L6: =F6+H6+J6 -> 116491488
A7: 03.리모델링 [4F] | D7: 1 | F7: =공종별집계표!F72 -> 48470005 | H7: =공종별집계표!H72 -> 71994012 | J7: =공종별집계표!J72 -> 1409264 | L7: =F7+H7+J7 -> 121873281
A8: 04.리모델링 [5F] | D8: 1 | F8: =공종별집계표!F99 -> 54552040 | H8: =공종별집계표!H99 -> 75153181 | J8: =공종별집계표!J99 -> 1562130 | L8: =F8+H8+J8 -> 131267351
A9: 05.리모델링 [9F] | D9: 1 | F9: =공종별집계표!F126 -> 22122155 | H9: =공종별집계표!H126 -> 33482502 | J9: =공종별집계표!J126 -> 799031 | L9: =F9+H9+J9 -> 56403688
A11: [ 소 계 ] | F11: =SUM(F5:F9) -> 219735634 | H11: =SUM(H5:H9) -> 305283337 | J11: =SUM(J5:J9) -> 6422604 | L11: =F11+H11+J11 -> 531441575
A13: 05. 도급자관급 [2F] | D13: 1 | F13: 0 | H13: 0 | J13: 0 | L13: =F13+H13+J13 -> 0
A14: 06. 도급자관급 [3F] | D14: 1 | F14: 0 | H14: 0 | J14: 0 | L14: =F14+H14+J14 -> 0
A15: 07. 도급자관급 [4F] | D15: 1 | F15: 0 | H15: 0 | J15: 0 | L15: =F15+H15+J15 -> 0
A16: 08. 도급자관급 [5F] | D16: 1 | F16: 0 | H16: 0 | J16: 0 | L16: =F16+H16+J16 -> 0
A17: 09. 도급자관급 [9F] | D17: 1 | F17: 0 | H17: 0 | J17: 0 | L17: =F17+H17+J17 -> 0
A19: [ 소 계 ] | F19: =SUM(F13:F17) -> 0 | H19: =SUM(H13:H17) -> 0 | J19: =SUM(J13:J17) -> 0 | L19: =F19+H19+J19 -> 0
A21: 10. 관급자관급 [2F] | D21: 1 | L21: =F21+H21+J21 -> 0
A22: 11. 관급자관급 [3F] | D22: 1 | F22: 0 | H22: 0 | J22: 0 | L22: =F22+H22+J22 -> 0
A23: 12. 관급자관급 [4F] | D23: 1 | F23: 0 | H23: 0 | J23: 0 | L23: =F23+H23+J23 -> 0
A24: 13. 관급자관급 [5F] | D24: 1 | F24: 0 | H24: 0 | J24: 0 | L24: =F24+H24+J24 -> 0
A25: 14. 관급자관급 [9F] | D25: 1 | F25: 0 | H25: 0 | J25: 0 | L25: =F25+H25+J25 -> 0
A27: [ 소 계 ] | F27: =SUM(F21:F25) -> 0 | H27: =SUM(H21:H25) -> 0 | J27: =SUM(J21:J25) -> 0 | L27: =F27+H27+J27 -> 0
A29: 15. 작업부산물 [2F] | D29: 1 | F29: =공종별집계표!F29 -> -1112985 | H29: =공종별집계표!H29 -> 0 | J29: =공종별집계표!J29 -> 0 | L29: =F29+H29+J29 -> -1112985
A30: 16. 작업부산물 [3F] | D30: 1 | F30: =공종별집계표!F55 -> -912695 | H30: =공종별집계표!H55 -> 0 | J30: =공종별집계표!J55 -> 0 | L30: =F30+H30+J30 -> -912695
A31: 17. 작업부산물 [4F] | D31: 1 | F31: =공종별집계표!F82 -> -759760 | H31: =공종별집계표!H82 -> 0 | J31: =공종별집계표!J82 -> 0 | L31: =F31+H31+J31 -> -759760
A32: 18. 작업부산물 [5F] | D32: 1 | F32: =공종별집계표!F109 -> -639700 | H32: =공종별집계표!H109 -> 0 | J32: =공종별집계표!J109 -> 0 | L32: =F32+H32+J32 -> -639700
A33: 19. 작업부산물 [9F] | D33: 1 | F33: =공종별집계표!F136 -> -464395 | H33: =공종별집계표!H136 -> 0 | J33: =공종별집계표!J136 -> 0 | L33: =F33+H33+J33 -> -464395
A35: [ 소 계 ] | F35: =SUM(F29:F33) -> -3889535 | H35: =SUM(H29:H33) -> 0 | J35: =SUM(J29:J33) -> 0 | L35: =F35+H35+J35 -> -3889535
A37: 20. 건설폐기물처리비 [2F] | D37: 1 | F37: =공종별집계표!F24 -> 0 | H37: =공종별집계표!H24 -> 0 | J37: =공종별집계표!J24 -> 2928969 | L37: =F37+H37+J37 -> 2928969
A38: 21. 건설폐기물처리비 [3F] | D38: 1 | F38: =공종별집계표!F50 -> 0 | H38: =공종별집계표!H50 -> 0 | J38: =공종별집계표!J50 -> 2990740 | L38: =F38+H38+J38 -> 2990740
A39: 22. 건설폐기물처리비 [4F] | D39: 1 | F39: =공종별집계표!F77 -> 0 | H39: =공종별집계표!H77 -> 0 | J39: =공종별집계표!J77 -> 2725565 | L39: =F39+H39+J39 -> 2725565
A40: 23. 건설폐기물처리비 [5F] | D40: 1 | F40: =공종별집계표!F104 -> 0 | H40: =공종별집계표!H104 -> 0 | J40: =공종별집계표!J104 -> 2943375 | L40: =F40+H40+J40 -> 2943375
A41: 24. 건설폐기물처리비 [9F] | D41: 1 | F41: =공종별집계표!F131 -> 0 | H41: =공종별집계표!H131 -> 0 | J41: =공종별집계표!J131 -> 1865055 | L41: =F41+H41+J41 -> 1865055
A43: [ 소 계 ] | F43: =SUM(F37:F41) -> 0 | H43: =SUM(H37:H41) -> 0 | J43: =SUM(J37:J41) -> 13453704 | L43: =F43+H43+J43 -> 13453704
A45: 25. 품질관리비 | D45: 1 | F45: =[1]공종별집계표!F166 -> 0 | H45: =[1]공종별집계표!H166 -> 0 | J45: =[1]공종별집계표!J166 -> 1654330 | L45: =F45+H45+J45 -> 1654330
A48: [ 소 계 ] | F48: =SUM(F45) -> 0 | H48: =SUM(H45) -> 0 | J48: =SUM(J45) -> 1654330 | L48: =F48+H48+J48 -> 1654330
A52: [ 합 계 ] | F52: =F11+F19+F27+F35+F43+F48 -> 215846099 | H52: =H11+H19+H27+H35+H43+H48 -> 305283337 | J52: =J11+J19+J27+J35+J43+J48 -> 21530638 | L52: =F52+H52+J52 -> 542660074
L57: 248915472

Sheet 공종별집계표
A1: 공 종 별 집 계 표
A2: [ 천안고용복지플러스센터 통합네트워크 인테리어 공사 ]
A3: 품 명 | B3: 규 격 | C3: 단위 | D3: 수량 | E3: 재 료 비 | G3: 노 무 비 | I3: 경 비 | K3: 합 계 | M3: 비 고 | N3: 공종코드 | O3: 변수 | P3: 상위공종 | Q3: 공종구분 | R3: 공종레벨 | S3: 공종소계 | T3: 원가계산서 연결금액
E4: 단 가 | F4: 금 액 | G4: 단 가 | H4: 금 액 | I4: 단 가 | J4: 금 액 | K4: 단 가 | L4: 금 액
A5: 0101 01.2층 | N5: 0101 | P5: 01 | R5: 2
A6: 010101 가 설 공 사 | D6: 1 | E6: =공종별내역서!F29 -> 44127 | F6: =E6*D6 -> 44127 | G6: =공종별내역서!H29 -> 3442806 | H6: =G6*D6 -> 3442806 | I6: =공종별내역서!J29 -> 0 | J6: =I6*D6 -> 0 | K6: =E6+G6+I6 -> 3486933 | L6: =F6+H6+J6 -> 3486933 | N6: 010101 | P6: 0101 | R6: 3
A7: 010102 철 골 공 사 | D7: 1 | E7: =공종별내역서!F55 -> 476938 | F7: =E7*D7 -> 476938 | G7: =공종별내역서!H55 -> 962122 | H7: =G7*D7 -> 962122 | I7: =공종별내역서!J55 -> 0 | J7: =I7*D7 -> 0 | K7: =E7+G7+I7 -> 1439060 | L7: =F7+H7+J7 -> 1439060 | N7: 010102 | P7: 0101 | R7: 3
A8: 010103 타 일 공 사 | D8: 1 | E8: =공종별내역서!F81 -> 1173688 | F8: =E8*D8 -> 1173688 | G8: =공종별내역서!H81 -> 480400 | H8: =G8*D8 -> 480400 | I8: =공종별내역서!J81 -> 12880 | J8: =I8*D8 -> 12880 | K8: =E8+G8+I8 -> 1666968 | L8: =F8+H8+J8 -> 1666968 | N8: 010103 | P8: 0101 | R8: 3
A9: 010104 방 수 공 사 | D9: 1 | E9: =공종별내역서!F107 -> 55358 | F9: =E9*D9 -> 55358 | G9: =공종별내역서!H107 -> 465292 | H9: =G9*D9 -> 465292 | I9: =공종별내역서!J107 -> 0 | J9: =I9*D9 -> 0 | K9: =E9+G9+I9 -> 520650 | L9: =F9+H9+J9 -> 520650 | N9: 010104 | P9: 0101 | R9: 3
A10: 010105 금 속 공 사 | D10: 1 | E10: =공종별내역서!F133 -> 5871956 | F10: =E10*D10 -> 5871956 | G10: =공종별내역서!H133 -> 4084098 | H10: =G10*D10 -> 4084098 | I10: =공종별내역서!J133 -> 172502 | J10: =I10*D10 -> 172502 | K10: =E10+G10+I10 -> 10128556 | L10: =F10+H10+J10 -> 10128556 | N10: 010105 | P10: 0101 | R10: 3
A11: 010106 미 장 공 사 | D11: 1 | E11: =공종별내역서!F159 -> 2350 | F11: =E11*D11 -> 2350 | G11: =공종별내역서!H159 -> 987525 | H11: =G11*D11 -> 987525 | I11: =공종별내역서!J159 -> 49294 | J11: =I11*D11 -> 49294 | K11: =E11+G11+I11 -> 1039169 | L11: =F11+H11+J11 -> 1039169 | N11: 010106 | P11: 0101 | R11: 3
A12: 010107 창 호 공 사 | D12: 1 | E12: =공종별내역서!F185 -> 6303644 | F12: =E12*D12 -> 6303644 | G12: =공종별내역서!H185 -> 503402 | H12: =G12*D12 -> 503402 | I12: =공종별내역서!J185 -> 14828 | J12: =I12*D12 -> 14828 | K12: =E12+G12+I12 -> 6821874 | L12: =F12+H12+J12 -> 6821874 | N12: 010107 | P12: 0101 | R12: 3
A13: 010108 유 리 공 사 | D13: 1 | E13: =공종별내역서!F211 -> 886800 | F13: =E13*D13 -> 886800 | G13: =공종별내역서!H211 -> 425944 | H13: =G13*D13 -> 425944 | I13: =공종별내역서!J211 -> 0 | J13: =I13*D13 -> 0 | K13: =E13+G13+I13 -> 1312744 | L13: =F13+H13+J13 -> 1312744 | N13: 010108 | P13: 0101 | R13: 3
A14: 010109 도 장 공 사 | D14: 1 | E14: =공종별내역서!F237 -> 1174312 | F14: =E14*D14 -> 1174312 | G14: =공종별내역서!H237 -> 12641685 | H14: =G14*D14 -> 12641685 | I14: =공종별내역서!J237 -> 0 | J14: =I14*D14 -> 0 | K14: =E14+G14+I14 -> 13815997 | L14: =F14+H14+J14 -> 13815997 | N14: 010109 | P14: 0101 | R14: 3
A15: 010110 수 장 공 사 | D15: 1 | E15: =공종별내역서!F263 -> 26318432 | F15: =E15*D15 -> 26318432 | G15: =공종별내역서!H263 -> 26324461 | H15: =G15*D15 -> 26324461 | I15: =공종별내역서!J263 -> 276865 | J15: =I15*D15 -> 276865 | K15: =E15+G15+I15 -> 52919758 | L15: =F15+H15+J15 -> 52919758 | N15: 010110 | P15: 0101 | R15: 3
A16: 010111 철 거 공 사 | D16: 1 | E16: =공종별내역서!F289 -> 30960 | F16: =E16*D16 -> 30960 | G16: =공종별내역서!H289 -> 11458283 | H16: =G16*D16 -> 11458283 | I16: =공종별내역서!J289 -> 701447 | J16: =I16*D16 -> 701447 | K16: =E16+G16+I16 -> 12190690 | L16: =F16+H16+J16 -> 12190690 | N16: 010111 | P16: 0101 | R16: 3
A17: 010112 골재비및운반비 | D17: 1 | E17: =공종별내역서!F315 -> 49448 | F17: =E17*D17 -> 49448 | G17: =공종별내역서!H315 -> 0 | H17: =G17*D17 -> 0 | I17: =공종별내역서!J315 -> 13920 | J17: =I17*D17 -> 13920 | K17: =E17+G17+I17 -> 63368 | L17: =F17+H17+J17 -> 63368 | N17: 010112 | P17: 0101 | R17: 3
A19: [ 소 계 ] | F19: =SUM(F6:F18) -> 42388013 | H19: =SUM(H6:H18) -> 61776018 | J19: =SUM(J6:J18) -> 1241736 | L19: =F19+H19+J19 -> 105405767
A21: 0102 건설폐기물처리비 | D21: 1 | E21: =F22 -> 0 | F21: =E21*D21 -> 0 | G21: =H22 -> 0 | H21: =G21*D21 -> 0 | I21: =J22 -> 2928969 | J21: =I21*D21 -> 2928969 | K21: =E21+G21+I21 -> 2928969 | L21: =F21+H21+J21 -> 2928969 | N21: 0102 | Q21: A | R21: 2 | T21: =L21*1 -> 2928969
A22: 010201 건설폐기물처리비 | D22: 1 | E22: =공종별내역서!F341 -> 0 | F22: =E22*D22 -> 0 | G22: =공종별내역서!H341 -> 0 | H22: =G22*D22 -> 0 | I22: =공종별내역서!J341 -> 2928969 | J22: =I22*D22 -> 2928969 | K22: =E22+G22+I22 -> 2928969 | L22: =F22+H22+J22 -> 2928969 | N22: 010201 | P22: 0102 | R22: 3
A24: [ 소 계 ] | F24: =SUM(F22:F23) -> 0 | H24: =SUM(H22:H23) -> 0 | J24: =SUM(J22:J23) -> 2928969 | L24: =F24+H24+J24 -> 2928969
A26: 0103 작 업 부 산 물 | D26: 1 | E26: =F27 -> -1112985 | F26: =E26*D26 -> -1112985 | G26: =H27 -> 0 | H26: =G26*D26 -> 0 | I26: =J27 -> 0 | J26: =I26*D26 -> 0 | K26: =E26+G26+I26 -> -1112985 | L26: =F26+H26+J26 -> -1112985 | N26: 0103 | Q26: B | R26: 2 | T26: =L26*1 -> -1112985
A27: 010301 작 업 부 산 물 | D27: 1 | E27: =공종별내역서!F367 -> -1112985 | F27: =E27*D27 -> -1112985 | G27: =공종별내역서!H367 -> 0 | H27: =G27*D27 -> 0 | I27: =공종별내역서!J367 -> 0 | J27: =I27*D27 -> 0 | K27: =E27+G27+I27 -> -1112985 | L27: =F27+H27+J27 -> -1112985 | N27: 010301 | P27: 0103 | R27: 3
A29: [ 소 계 ] | F29: =SUM(F27:F28) -> -1112985 | H29: =SUM(H27:H28) -> 0 | J29: =SUM(J27:J28) -> 0 | L29: =F29+H29+J29 -> -1112985
A31: [ 합 계 ] | F31: =F19+F24+F29 -> 41275028 | H31: =H19+H24+H29 -> 61776018 | J31: =J19+J24+J29 -> 4170705 | L31: =F31+H31+J31 -> 107221751
A32: 0104 02.3층 | N32: 0104 | P32: 01 | R32: 2
A33: 010401 가 설 공 사 | D33: 1 | E33: =공종별내역서!F393 -> 44127 | F33: =E33*D33 -> 44127 | G33: =공종별내역서!H393 -> 3430762 | H33: =G33*D33 -> 3430762 | I33: =공종별내역서!J393 -> 0 | J33: =I33*D33 -> 0 | K33: =E33+G33+I33 -> 3474889 | L33: =F33+H33+J33 -> 3474889 | N33: 010401 | P33: 0104 | R33: 3
A34: 010402 타 일 공 사 | D34: 1 | E34: =공종별내역서!F419 -> 1173688 | F34: =E34*D34 -> 1173688 | G34: =공종별내역서!H419 -> 480400 | H34: =G34*D34 -> 480400 | I34: =공종별내역서!J419 -> 12880 | J34: =I34*D34 -> 12880 | K34: =E34+G34+I34 -> 1666968 | L34: =F34+H34+J34 -> 1666968 | N34: 010402 | P34: 0104 | R34: 3
A35: 010403 방 수 공 사 | D35: 1 | E35: =공종별내역서!F445 -> 45406 | F35: =E35*D35 -> 45406 | G35: =공종별내역서!H445 -> 381644 | H35: =G35*D35 -> 381644 | I35: =공종별내역서!J445 -> 0 | J35: =I35*D35 -> 0 | K35: =E35+G35+I35 -> 427050 | L35: =F35+H35+J35 -> 427050 | N35: 010403 | P35: 0104 | R35: 3
A36: 010404 금 속 공 사 | D36: 1 | E36: =공종별내역서!F471 -> 13866540 | F36: =E36*D36 -> 13866540 | G36: =공종별내역서!H471 -> 3793480 | H36: =G36*D36 -> 3793480 | I36: =공종별내역서!J471 -> 143286 | J36: =I36*D36 -> 143286 | K36: =E36+G36+I36 -> 17803306 | L36: =F36+H36+J36 -> 17803306 | N36: 010404 | P36: 0104 | R36: 3
A37: 010405 미 장 공 사 | D37: 1 | E37: =공종별내역서!F497 -> 1930 | F37: =E37*D37 -> 1930 | G37: =공종별내역서!H497 -> 870427 | H37: =G37*D37 -> 870427 | I37: =공종별내역서!J497 -> 45742 | J37: =I37*D37 -> 45742 | K37: =E37+G37+I37 -> 918099 | L37: =F37+H37+J37 -> 918099 | N37: 010405 | P37: 0104 | R37: 3
A38: 010406 창 호 공 사 | D38: 1 | E38: =공종별내역서!F523 -> 2607342 | F38: =E38*D38 -> 2607342 | G38: =공종별내역서!H523 -> 894948 | H38: =G38*D38 -> 894948 | I38: =공종별내역서!J523 -> 23683 | J38: =I38*D38 -> 23683 | K38: =E38+G38+I38 -> 3525973 | L38: =F38+H38+J38 -> 3525973 | N38: 010406 | P38: 0104 | R38: 3
A39: 010407 유 리 공 사 | D39: 1 | E39: =공종별내역서!F549 -> 1079462 | F39: =E39*D39 -> 1079462 | G39: =공종별내역서!H549 -> 387372 | H39: =G39*D39 -> 387372 | I39: =공종별내역서!J549 -> 0 | J39: =I39*D39 -> 0 | K39: =E39+G39+I39 -> 1466834 | L39: =F39+H39+J39 -> 1466834 | N39: 010407 | P39: 0104 | R39: 3
A40: 010408 도 장 공 사 | D40: 1 | E40: =공종별내역서!F575 -> 979601 | F40: =E40*D40 -> 979601 | G40: =공종별내역서!H575 -> 9171274 | H40: =G40*D40 -> 9171274 | I40: =공종별내역서!J575 -> 0 | J40: =I40*D40 -> 0 | K40: =E40+G40+I40 -> 10150875 | L40: =F40+H40+J40 -> 10150875 | N40: 010408 | P40: 0104 | R40: 3
A41: 010409 수 장 공 사 | D41: 1 | E41: =공종별내역서!F601 -> 32351093 | F41: =E41*D41 -> 32351093 | G41: =공종별내역서!H601 -> 32167584 | H41: =G41*D41 -> 32167584 | I41: =공종별내역서!J601 -> 438152 | J41: =I41*D41 -> 438152 | K41: =E41+G41+I41 -> 64956829 | L41: =F41+H41+J41 -> 64956829 | N41: 010409 | P41: 0104 | R41: 3
A42: 010410 철 거 공 사 | D42: 1 | E42: =공종별내역서!F627 -> 10965 | F42: =E42*D42 -> 10965 | G42: =공종별내역서!H627 -> 11299733 | H42: =G42*D42 -> 11299733 | I42: =공종별내역서!J627 -> 734520 | J42: =I42*D42 -> 734520 | K42: =E42+G42+I42 -> 12045218 | L42: =F42+H42+J42 -> 12045218 | N42: 010410 | P42: 0104 | R42: 3
A43: 010411 골재비및운반비 | D43: 1 | E43: =공종별내역서!F653 -> 43267 | F43: =E43*D43 -> 43267 | G43: =공종별내역서!H653 -> 0 | H43: =G43*D43 -> 0 | I43: =공종별내역서!J653 -> 12180 | J43: =I43*D43 -> 12180 | K43: =E43+G43+I43 -> 55447 | L43: =F43+H43+J43 -> 55447 | N43: 010411 | P43: 0104 | R43: 3
A45: [ 소 계 ] | F45: =SUM(F33:F44) -> 52203421 | H45: =SUM(H33:H44) -> 62877624 | J45: =SUM(J33:J44) -> 1410443 | L45: =F45+H45+J45 -> 116491488
A47: 0105 건설폐기물처리비 | N47: 0105 | Q47: A | R47: 2 | T47: =L47*1 -> 0
A48: 010501 건설폐기물처리비 | D48: 1 | E48: =공종별내역서!F679 -> 0 | F48: =E48*D48 -> 0 | G48: =공종별내역서!H679 -> 0 | H48: =G48*D48 -> 0 | I48: =공종별내역서!J679 -> 2990740 | J48: =I48*D48 -> 2990740 | K48: =E48+G48+I48 -> 2990740 | L48: =F48+H48+J48 -> 2990740 | N48: 010501 | P48: 0105 | R48: 3
A50: [ 소 계 ] | F50: =SUM(F48:F49) -> 0 | H50: =SUM(H48:H49) -> 0 | J50: =SUM(J48:J49) -> 2990740 | L50: =F50+H50+J50 -> 2990740
A52: 0106 작 업 부 산 물 | N52: 0106 | Q52: B | R52: 2 | T52: =L52*1 -> 0
A53: 010601 작 업 부 산 물 | D53: 1 | E53: =공종별내역서!F705 -> -912695 | F53: =E53*D53 -> -912695 | G53: =공종별내역서!H705 -> 0 | H53: =G53*D53 -> 0 | I53: =공종별내역서!J705 -> 0 | J53: =I53*D53 -> 0 | K53: =E53+G53+I53 -> -912695 | L53: =F53+H53+J53 -> -912695 | N53: 010601 | P53: 0106 | R53: 3
A55: [ 소 계 ] | F55: =SUM(F53:F54) -> -912695 | H55: =SUM(H53:H54) -> 0 | J55: =SUM(J53:J54) -> 0 | L55: =F55+H55+J55 -> -912695
A58: [ 합 계 ] | F58: =F45+F50+F55 -> 51290726 | H58: =H45+H50+H55 -> 62877624 | J58: =J45+J50+J55 -> 4401183 | L58: =F58+H58+J58 -> 118569533
A59: 0107 03.4층 | N59: 0107 | P59: 01 | R59: 2
A60: 010701 가 설 공 사 | D60: 1 | E60: =공종별내역서!F731 -> 44127 | F60: =E60*D60 -> 44127 | G60: =공종별내역서!H731 -> 3292256 | H60: =G60*D60 -> 3292256 | I60: =공종별내역서!J731 -> 0 | J60: =I60*D60 -> 0 | K60: =E60+G60+I60 -> 3336383 | L60: =F60+H60+J60 -> 3336383 | N60: 010701 | P60: 0107 | R60: 3
A61: 010702 타 일 공 사 | D61: 1 | E61: =공종별내역서!F757 -> 1173688 | F61: =E61*D61 -> 1173688 | G61: =공종별내역서!H757 -> 480400 | H61: =G61*D61 -> 480400 | I61: =공종별내역서!J757 -> 12880 | J61: =I61*D61 -> 12880 | K61: =E61+G61+I61 -> 1666968 | L61: =F61+H61+J61 -> 1666968 | N61: 010702 | P61: 0107 | R61: 3
A62: 010703 방 수 공 사 | D62: 1 | E62: =공종별내역서!F783 -> 116936 | F62: =E62*D62 -> 116936 | G62: =공종별내역서!H783 -> 982864 | H62: =G62*D62 -> 982864 | I62: =공종별내역서!J783 -> 0 | J62: =I62*D62 -> 0 | K62: =E62+G62+I62 -> 1099800 | L62: =F62+H62+J62 -> 1099800 | N62: 010703 | P62: 0107 | R62: 3
A63: 010704 금 속 공 사 | D63: 1 | E63: =공종별내역서!F809 -> 7336268 | F63: =E63*D63 -> 7336268 | G63: =공종별내역서!H809 -> 3781326 | H63: =G63*D63 -> 3781326 | I63: =공종별내역서!J809 -> 122533 | J63: =I63*D63 -> 122533 | K63: =E63+G63+I63 -> 11240127 | L63: =F63+H63+J63 -> 11240127 | N63: 010704 | P63: 0107 | R63: 3
A64: 010705 미 장 공 사 | D64: 1 | E64: =공종별내역서!F835 -> 1750 | F64: =E64*D64 -> 1750 | G64: =공종별내역서!H835 -> 778675 | H64: =G64*D64 -> 778675 | I64: =공종별내역서!J835 -> 40540 | J64: =I64*D64 -> 40540 | K64: =E64+G64+I64 -> 820965 | L64: =F64+H64+J64 -> 820965 | N64: 010705 | P64: 0107 | R64: 3
A65: 010706 창 호 공 사 | D65: 1 | E65: =공종별내역서!F861 -> 2677656 | F65: =E65*D65 -> 2677656 | G65: =공종별내역서!H861 -> 1745051 | H65: =G65*D65 -> 1745051 | I65: =공종별내역서!J861 -> 54101 | J65: =I65*D65 -> 54101 | K65: =E65+G65+I65 -> 4476808 | L65: =F65+H65+J65 -> 4476808 | N65: 010706 | P65: 0107 | R65: 3
A66: 010707 유 리 공 사 | D66: 1 | E66: =공종별내역서!F887 -> 3223719 | F66: =E66*D66 -> 3223719 | G66: =공종별내역서!H887 -> 831506 | H66: =G66*D66 -> 831506 | I66: =공종별내역서!J887 -> 0 | J66: =I66*D66 -> 0 | K66: =E66+G66+I66 -> 4055225 | L66: =F66+H66+J66 -> 4055225 | N66: 010707 | P66: 0107 | R66: 3
A67: 010708 도 장 공 사 | D67: 1 | E67: =공종별내역서!F913 -> 1322043 | F67: =E67*D67 -> 1322043 | G67: =공종별내역서!H913 -> 14439375 | H67: =G67*D67 -> 14439375 | I67: =공종별내역서!J913 -> 0 | J67: =I67*D67 -> 0 | K67: =E67+G67+I67 -> 15761418 | L67: =F67+H67+J67 -> 15761418 | N67: 010708 | P67: 0107 | R67: 3
A68: 010709 수 장 공 사 | D68: 1 | E68: =공종별내역서!F939 -> 32524477 | F68: =E68*D68 -> 32524477 | G68: =공종별내역서!H939 -> 35044733 | H68: =G68*D68 -> 35044733 | I68: =공종별내역서!J939 -> 495522 | J68: =I68*D68 -> 495522 | K68: =E68+G68+I68 -> 68064732 | L68: =F68+H68+J68 -> 68064732 | N68: 010709 | P68: 0107 | R68: 3
A69: 010710 철 거 공 사 | D69: 1 | E69: =공종별내역서!F965 -> 12255 | F69: =E69*D69 -> 12255 | G69: =공종별내역서!H965 -> 10617826 | H69: =G69*D69 -> 10617826 | I69: =공종별내역서!J965 -> 673248 | J69: =I69*D69 -> 673248 | K69: =E69+G69+I69 -> 11303329 | L69: =F69+H69+J69 -> 11303329 | N69: 010710 | P69: 0107 | R69: 3
A70: 010711 골재비및운반비 | D70: 1 | E70: =공종별내역서!F991 -> 37086 | F70: =E70*D70 -> 37086 | G70: =공종별내역서!H991 -> 0 | H70: =G70*D70 -> 0 | I70: =공종별내역서!J991 -> 10440 | J70: =I70*D70 -> 10440 | K70: =E70+G70+I70 -> 47526 | L70: =F70+H70+J70 -> 47526 | N70: 010711 | P70: 0107 | R70: 3
A72: [ 소 계 ] | F72: =SUM(F60:F71) -> 48470005 | H72: =SUM(H60:H71) -> 71994012 | J72: =SUM(J60:J71) -> 1409264 | L72: =F72+H72+J72 -> 121873281
A74: 0108 건설폐기물처리비 | N74: 0108 | Q74: A | R74: 2 | T74: =L74*1 -> 0
A75: 010801 건설폐기물처리비 | D75: 1 | E75: =공종별내역서!F1017 -> 0 | F75: =E75*D75 -> 0 | G75: =공종별내역서!H1017 -> 0 | H75: =G75*D75 -> 0 | I75: =공종별내역서!J1017 -> 2725565 | J75: =I75*D75 -> 2725565 | K75: =E75+G75+I75 -> 2725565 | L75: =F75+H75+J75 -> 2725565 | N75: 010801 | P75: 0108 | R75: 3
A77: [ 소 계 ] | F77: =SUM(F75:F76) -> 0 | H77: =SUM(H75:H76) -> 0 | J77: =SUM(J75:J76) -> 2725565 | L77: =F77+H77+J77 -> 2725565
A79: 0109 작 업 부 산 물 | N79: 0109 | Q79: B | R79: 2 | T79: =L79*1 -> 0
A80: 010901 작 업 부 산 물 | D80: 1 | E80: =공종별내역서!F1043 -> -759760 | F80: =E80*D80 -> -759760 | G80: =공종별내역서!H1043 -> 0 | H80: =G80*D80 -> 0 | I80: =공종별내역서!J1043 -> 0 | J80: =I80*D80 -> 0 | K80: =E80+G80+I80 -> -759760 | L80: =F80+H80+J80 -> -759760 | N80: 010901 | P80: 0109 | R80: 3
A82: [ 소 계 ] | F82: =SUM(F80:F81) -> -759760 | H82: =SUM(H80:H81) -> 0 | J82: =SUM(J80:J81) -> 0 | L82: =F82+H82+J82 -> -759760
A85: [ 합 계 ] | F85: =F72+F77+F82 -> 47710245 | H85: =H72+H77+H82 -> 71994012 | J85: =J72+J77+J82 -> 4134829 | L85: =F85+H85+J85 -> 123839086
A86: 0110 04.5층 | N86: 0110 | P86: 01 | R86: 2
A87: 011001 가 설 공 사 | D87: 1 | E87: =공종별내역서!F1069 -> 44127 | F87: =E87*D87 -> 44127 | G87: =공종별내역서!H1069 -> 3087508 | H87: =G87*D87 -> 3087508 | I87: =공종별내역서!J1069 -> 0 | J87: =I87*D87 -> 0 | K87: =E87+G87+I87 -> 3131635 | L87: =F87+H87+J87 -> 3131635 | N87: 011001 | P87: 0110 | R87: 3
A88: 011002 타 일 공 사 | D88: 1 | E88: =공종별내역서!F1095 -> 1173688 | F88: =E88*D88 -> 1173688 | G88: =공종별내역서!H1095 -> 480400 | H88: =G88*D88 -> 480400 | I88: =공종별내역서!J1095 -> 12880 | J88: =I88*D88 -> 12880 | K88: =E88+G88+I88 -> 1666968 | L88: =F88+H88+J88 -> 1666968 | N88: 011002 | P88: 0110 | R88: 3
A89: 011003 방 수 공 사 | D89: 1 | E89: =공종별내역서!F1121 -> 131242 | F89: =E89*D89 -> 131242 | G89: =공종별내역서!H1121 -> 1103108 | H89: =G89*D89 -> 1103108 | I89: =공종별내역서!J1121 -> 0 | J89: =I89*D89 -> 0 | K89: =E89+G89+I89 -> 1234350 | L89: =F89+H89+J89 -> 1234350 | N89: 011003 | P89: 0110 | R89: 3
A90: 011004 금 속 공 사 | D90: 1 | E90: =공종별내역서!F1147 -> 7370995 | F90: =E90*D90 -> 7370995 | G90: =공종별내역서!H1147 -> 4262960 | H90: =G90*D90 -> 4262960 | I90: =공종별내역서!J1147 -> 139775 | J90: =I90*D90 -> 139775 | K90: =E90+G90+I90 -> 11773730 | L90: =F90+H90+J90 -> 11773730 | N90: 011004 | P90: 0110 | R90: 3
A91: 011005 미 장 공 사 | D91: 1 | E91: =공종별내역서!F1173 -> 1450 | F91: =E91*D91 -> 1450 | G91: =공종별내역서!H1173 -> 703225 | H91: =G91*D91 -> 703225 | I91: =공종별내역서!J1173 -> 38728 | J91: =I91*D91 -> 38728 | K91: =E91+G91+I91 -> 743403 | L91: =F91+H91+J91 -> 743403 | N91: 011005 | P91: 0110 | R91: 3
A92: 011006 창 호 공 사 | D92: 1 | E92: =공종별내역서!F1199 -> 3206609 | F92: =E92*D92 -> 3206609 | G92: =공종별내역서!H1199 -> 2069080 | H92: =G92*D92 -> 2069080 | I92: =공종별내역서!J1199 -> 64930 | J92: =I92*D92 -> 64930 | K92: =E92+G92+I92 -> 5340619 | L92: =F92+H92+J92 -> 5340619 | N92: 011006 | P92: 0110 | R92: 3
A93: 011007 유 리 공 사 | D93: 1 | E93: =공종별내역서!F1225 -> 5141516 | F93: =E93*D93 -> 5141516 | G93: =공종별내역서!H1225 -> 1237068 | H93: =G93*D93 -> 1237068 | I93: =공종별내역서!J1225 -> 0 | J93: =I93*D93 -> 0 | K93: =E93+G93+I93 -> 6378584 | L93: =F93+H93+J93 -> 6378584 | N93: 011007 | P93: 0110 | R93: 3
A94: 011008 도 장 공 사 | D94: 1 | E94: =공종별내역서!F1251 -> 1148540 | F94: =E94*D94 -> 1148540 | G94: =공종별내역서!H1251 -> 12487352 | H94: =G94*D94 -> 12487352 | I94: =공종별내역서!J1251 -> 0 | J94: =I94*D94 -> 0 | K94: =E94+G94+I94 -> 13635892 | L94: =F94+H94+J94 -> 13635892 | N94: 011008 | P94: 0110 | R94: 3
A95: 011009 수 장 공 사 | D95: 1 | E95: =공종별내역서!F1277 -> 36293293 | F95: =E95*D95 -> 36293293 | G95: =공종별내역서!H1277 -> 38706308 | H95: =G95*D95 -> 38706308 | I95: =공종별내역서!J1277 -> 578292 | J95: =I95*D95 -> 578292 | K95: =E95+G95+I95 -> 75577893 | L95: =F95+H95+J95 -> 75577893 | N95: 011009 | P95: 0110 | R95: 3
A96: 011010 철 거 공 사 | D96: 1 | E96: =공종별내역서!F1303 -> 9675 | F96: =E96*D96 -> 9675 | G96: =공종별내역서!H1303 -> 11016172 | H96: =G96*D96 -> 11016172 | I96: =공종별내역서!J1303 -> 718825 | J96: =I96*D96 -> 718825 | K96: =E96+G96+I96 -> 11744672 | L96: =F96+H96+J96 -> 11744672 | N96: 011010 | P96: 0110 | R96: 3
A97: 011011 골재비및운반비 | D97: 1 | E97: =공종별내역서!F1329 -> 30905 | F97: =E97*D97 -> 30905 | G97: =공종별내역서!H1329 -> 0 | H97: =G97*D97 -> 0 | I97: =공종별내역서!J1329 -> 8700 | J97: =I97*D97 -> 8700 | K97: =E97+G97+I97 -> 39605 | L97: =F97+H97+J97 -> 39605 | N97: 011011 | P97: 0110 | R97: 3
A99: [ 소 계 ] | F99: =SUM(F87:F98) -> 54552040 | H99: =SUM(H87:H98) -> 75153181 | J99: =SUM(J87:J98) -> 1562130 | L99: =F99+H99+J99 -> 131267351
A101: 0111 건설폐기물처리비 | N101: 0111 | Q101: A | R101: 2 | T101: =L101*1 -> 0
A102: 011101 건설폐기물처리비 | D102: 1 | E102: =공종별내역서!F1355 -> 0 | F102: =E102*D102 -> 0 | G102: =공종별내역서!H1355 -> 0 | H102: =G102*D102 -> 0 | I102: =공종별내역서!J1355 -> 2943375 | J102: =I102*D102 -> 2943375 | K102: =E102+G102+I102 -> 2943375 | L102: =F102+H102+J102 -> 2943375 | N102: 011101 | P102: 0111 | R102: 3
A104: [ 소 계 ] | F104: =SUM(F102:F103) -> 0 | H104: =SUM(H102:H103) -> 0 | J104: =SUM(J102:J103) -> 2943375 | L104: =F104+H104+J104 -> 2943375
A106: 0112 작 업 부 산 물 | N106: 0112 | Q106: B | R106: 2 | T106: =L106*1 -> 0
A107: 011201 작 업 부 산 물 | D107: 1 | E107: =공종별내역서!F1381 -> -639700 | F107: =E107*D107 -> -639700 | G107: =공종별내역서!H1381 -> 0 | H107: =G107*D107 -> 0 | I107: =공종별내역서!J1381 -> 0 | J107: =I107*D107 -> 0 | K107: =E107+G107+I107 -> -639700 | L107: =F107+H107+J107 -> -639700 | N107: 011201 | P107: 0112 | R107: 3
A109: [ 소 계 ] | F109: =SUM(F107:F108) -> -639700 | H109: =SUM(H107:H108) -> 0 | J109: =SUM(J107:J108) -> 0 | L109: =F109+H109+J109 -> -639700
A112: [ 합 계 ] | F112: =F99+F104+F109 -> 53912340 | H112: =H99+H104+H109 -> 75153181 | J112: =J99+J104+J109 -> 4505505 | L112: =F112+H112+J112 -> 133571026
A113: 0113 05.9층 | N113: 0113 | P113: 01 | R113: 2
A114: 011301 가 설 공 사 | D114: 1 | E114: =공종별내역서!F1407 -> 44127 | F114: =E114*D114 -> 44127 | G114: =공종별내역서!H1407 -> 1726536 | H114: =G114*D114 -> 1726536 | I114: =공종별내역서!J1407 -> 0 | J114: =I114*D114 -> 0 | K114: =E114+G114+I114 -> 1770663 | L114: =F114+H114+J114 -> 1770663 | N114: 011301 | P114: 0113 | R114: 3
A115: 011302 타 일 공 사 | D115: 1 | E115: =공종별내역서!F1433 -> 1173688 | F115: =E115*D115 -> 1173688 | G115: =공종별내역서!H1433 -> 480400 | H115: =G115*D115 -> 480400 | I115: =공종별내역서!J1433 -> 12880 | J115: =I115*D115 -> 12880 | K115: =E115+G115+I115 -> 1666968 | L115: =F115+H115+J115 -> 1666968 | N115: 011302 | P115: 0113 | R115: 3
A116: 011303 방 수 공 사 | D116: 1 | E116: =공종별내역서!F1459 -> 18038 | F116: =E116*D116 -> 18038 | G116: =공종별내역서!H1459 -> 151612 | H116: =G116*D116 -> 151612 | I116: =공종별내역서!J1459 -> 0 | J116: =I116*D116 -> 0 | K116: =E116+G116+I116 -> 169650 | L116: =F116+H116+J116 -> 169650 | N116: 011303 | P116: 0113 | R116: 3
A117: 011304 금 속 공 사 | D117: 1 | E117: =공종별내역서!F1485 -> 4485083 | F117: =E117*D117 -> 4485083 | G117: =공종별내역서!H1485 -> 1434130 | H117: =G117*D117 -> 1434130 | I117: =공종별내역서!J1485 -> 55088 | J117: =I117*D117 -> 55088 | K117: =E117+G117+I117 -> 5974301 | L117: =F117+H117+J117 -> 5974301 | N117: 011304 | P117: 0113 | R117: 3
A118: 011305 미 장 공 사 | D118: 1 | E118: =공종별내역서!F1511 -> 1160 | F118: =E118*D118 -> 1160 | G118: =공종별내역서!H1511 -> 485354 | H118: =G118*D118 -> 485354 | I118: =공종별내역서!J1511 -> 24146 | J118: =I118*D118 -> 24146 | K118: =E118+G118+I118 -> 510660 | L118: =F118+H118+J118 -> 510660 | N118: 011305 | P118: 0113 | R118: 3
A119: 011306 창 호 공 사 | D119: 1 | E119: =공종별내역서!F1537 -> 585813 | F119: =E119*D119 -> 585813 | G119: =공종별내역서!H1537 -> 299985 | H119: =G119*D119 -> 299985 | I119: =공종별내역서!J1537 -> 8771 | J119: =I119*D119 -> 8771 | K119: =E119+G119+I119 -> 894569 | L119: =F119+H119+J119 -> 894569 | N119: 011306 | P119: 0113 | R119: 3
A120: 011307 유 리 공 사 | D120: 1 | E120: =공종별내역서!F1563 -> 1616015 | F120: =E120*D120 -> 1616015 | G120: =공종별내역서!H1563 -> 954977 | H120: =G120*D120 -> 954977 | I120: =공종별내역서!J1563 -> 0 | J120: =I120*D120 -> 0 | K120: =E120+G120+I120 -> 2570992 | L120: =F120+H120+J120 -> 2570992 | N120: 011307 | P120: 0113 | R120: 3
A121: 011308 도 장 공 사 | D121: 1 | E121: =공종별내역서!F1589 -> 595704 | F121: =E121*D121 -> 595704 | G121: =공종별내역서!H1589 -> 6260515 | H121: =G121*D121 -> 6260515 | I121: =공종별내역서!J1589 -> 0 | J121: =I121*D121 -> 0 | K121: =E121+G121+I121 -> 6856219 | L121: =F121+H121+J121 -> 6856219 | N121: 011308 | P121: 0113 | R121: 3
A122: 011309 수 장 공 사 | D122: 1 | E122: =공종별내역서!F1615 -> 13570063 | F122: =E122*D122 -> 13570063 | G122: =공종별내역서!H1615 -> 13906918 | H122: =G122*D122 -> 13906918 | I122: =공종별내역서!J1615 -> 182716 | J122: =I122*D122 -> 182716 | K122: =E122+G122+I122 -> 27659697 | L122: =F122+H122+J122 -> 27659697 | N122: 011309 | P122: 0113 | R122: 3
A123: 011310 철 거 공 사 | D123: 1 | E123: =공종별내역서!F1641 -> 7740 | F123: =E123*D123 -> 7740 | G123: =공종별내역서!H1641 -> 7782075 | H123: =G123*D123 -> 7782075 | I123: =공종별내역서!J1641 -> 508470 | J123: =I123*D123 -> 508470 | K123: =E123+G123+I123 -> 8298285 | L123: =F123+H123+J123 -> 8298285 | N123: 011310 | P123: 0113 | R123: 3
A124: 011311 골재비및운반비 | D124: 1 | E124: =공종별내역서!F1667 -> 24724 | F124: =E124*D124 -> 24724 | G124: =공종별내역서!H1667 -> 0 | H124: =G124*D124 -> 0 | I124: =공종별내역서!J1667 -> 6960 | J124: =I124*D124 -> 6960 | K124: =E124+G124+I124 -> 31684 | L124: =F124+H124+J124 -> 31684 | N124: 011311 | P124: 0113 | R124: 3
A126: [ 소 계 ] | F126: =SUM(F114:F125) -> 22122155 | H126: =SUM(H114:H125) -> 33482502 | J126: =SUM(J114:J125) -> 799031 | L126: =F126+H126+J126 -> 56403688
A128: 0114 건설폐기물처리비 | N128: 0114 | Q128: A | R128: 2 | T128: =L128*1 -> 0
A129: 011401 건설폐기물처리비 | D129: 1 | E129: =공종별내역서!F1693 -> 0 | F129: =E129*D129 -> 0 | G129: =공종별내역서!H1693 -> 0 | H129: =G129*D129 -> 0 | I129: =공종별내역서!J1693 -> 1865055 | J129: =I129*D129 -> 1865055 | K129: =E129+G129+I129 -> 1865055 | L129: =F129+H129+J129 -> 1865055 | N129: 011401 | P129: 0114 | R129: 3
...

Sheet 공종별내역서
A1: [ 천안고용복지플러스센터 통합네트워크 인테리어 공사 ]
A2: 품 명 | B2: 규 격 | C2: 단위 | D2: 수량 | E2: 재 료 비 | G2: 노 무 비 | I2: 경 비 | K2: 합 계 | M2: 비 고 | N2: 품목코드 | O2: 변수 | P2: 설정 | Q2: 공종코드 | R2: 일위 | S2: 단산 | T2: 자재 | U2: 손료적용 | V2: 손료저장 | W2: 적용율 | X2: JUK1 | Y2: JUK2 | Z2: JUK3 | AA2: JUK4 | AB2: JUK5 | AC2: JUK6 | AD2: JUK7 | AE2: JUK8 | AF2: JUK9 | AG2: JUK10 | AH2: JUK11 | AI2: JUK12 | AJ2: JUK13 | AK2: JUK14 | AL2: JUK15 | AM2: JUK16 | AN2: JUK17 | AO2: JUK18 | AP2: JUK19 | AQ2: JUK20 | AR2: 자재구분 | AS2: 공종구분 | AT2: 공종레벨 | AU2: 공종+자재 | AV2: 고유번호
E3: 단 가 | F3: 금 액 | G3: 단 가 | H3: 금 액 | I3: 단 가 | J3: 금 액 | K3: 단 가 | L3: 금 액
A4: 010101 가 설 공 사 | Q4: 010101
A5: 강관 조립말비계(이동식)설치 및 해체 | B5: 높이 2m, 3개월 | C5: 대 | D5: 1 | E5: =TRUNC(일위대가목록!E4,0) -> 44127 | F5: =TRUNC(E5*D5, 0) -> 44127 | G5: =TRUNC(일위대가목록!F4,0) -> 94574 | H5: =TRUNC(G5*D5, 0) -> 94574 | I5: =TRUNC(일위대가목록!G4,0) -> 0 | J5: =TRUNC(I5*D5, 0) -> 0 | K5: =TRUNC(E5+G5+I5, 0) -> 138701 | L5: =TRUNC(F5+H5+J5, 0) -> 138701 | M5: 호표 1 | N5: 5B9B260B79C3BB530A74EA71A798AE | Q5: 010101 | R5: T | S5: F | T5: F | AU5: 0101015B9B260B79C3BB530A74EA71A798AE | AV5: 4
A6: 건축물 현장정리 | B6: 전문, 개보수공사 | C6: M2 | D6: 556 | E6: =TRUNC(일위대가목록!E5,0) -> 0 | F6: =TRUNC(E6*D6, 0) -> 0 | G6: =TRUNC(일위대가목록!F5,0) -> 2581 | H6: =TRUNC(G6*D6, 0) -> 1435036 | I6: =TRUNC(일위대가목록!G5,0) -> 0 | J6: =TRUNC(I6*D6, 0) -> 0 | K6: =TRUNC(E6+G6+I6, 0) -> 2581 | L6: =TRUNC(F6+H6+J6, 0) -> 1435036 | M6: 호표 2 | N6: 5B9B260ECFF33C55AF14E5D1E3604C | Q6: 010101 | R6: T | S6: F | T6: F | AU6: 0101015B9B260ECFF33C55AF14E5D1E3604C | AV6: 5
A7: 준공청소 | C7: M2 | D7: 556 | E7: =TRUNC(일위대가목록!E6,0) -> 0 | F7: =TRUNC(E7*D7, 0) -> 0 | G7: =TRUNC(일위대가목록!F6,0) -> 3441 | H7: =TRUNC(G7*D7, 0) -> 1913196 | I7: =TRUNC(일위대가목록!G6,0) -> 0 | J7: =TRUNC(I7*D7, 0) -> 0 | K7: =TRUNC(E7+G7+I7, 0) -> 3441 | L7: =TRUNC(F7+H7+J7, 0) -> 1913196 | M7: 호표 3 | N7: 5B9B260ECA735A56E4445C61ED349E | Q7: 010101 | R7: T | S7: F | T7: F | AU7: 0101015B9B260ECA735A56E4445C61ED349E | AV7: 6
Q8: 010101
Q9: 010101
Q10: 010101
Q11: 010101
Q12: 010101
Q13: 010101
Q14: 010101
Q15: 010101
Q16: 010101
Q17: 010101
Q18: 010101
Q19: 010101
... Q28: 010101
A29: [ 합 계 ] | F29: =SUMIF(Q5:Q28,"010101",F5:F28) -> 44127 | H29: =SUMIF(Q5:Q28,"010101",H5:H28) -> 3442806 | J29: =SUMIF(Q5:Q28,"010101",J5:J28) -> 0 | L29: =SUMIF(Q5:Q28,"010101",L5:L28) -> 3486933 | N29: TOTAL
A30: 010102 철 골 공 사 | Q30: 010102
A31: 유성페인트 [뿜칠 - 바탕처리포함] | B31: 철재면, 2회 | C31: M2 | D31: 266 | E31: =TRUNC(일위대가목록!E7,0) -> 1793 | F31: =TRUNC(E31*D31, 0) -> 476938 | G31: =TRUNC(일위대가목록!F7,0) -> 3617 | H31: =TRUNC(G31*D31, 0) -> 962122 | I31: =TRUNC(일위대가목록!G7,0) -> 0 | J31: =TRUNC(I31*D31, 0) -> 0 | K31: =TRUNC(E31+G31+I31, 0) -> 5410 | L31: =TRUNC(F31+H31+J31, 0) -> 1439060 | M31: 호표 4 | N31: 5B9BD67BA9B354599974FB617747C4 | Q31: 010102 | R31: T | S31: F | T31: F | AU31: 0101025B9BD67BA9B354599974FB617747C4 | AV31: 8
Q32: 010102
Q33: 010102
Q34: 010102
Q35: 010102
Q36: 010102
Q37: 010102
Q38: 010102
Q39: 010102
Q40: 010102
Q41: 010102
Q42: 010102
Q43: 010102
... Q54: 010102
A55: [ 합 계 ] | F55: =SUMIF(Q31:Q54,"010102",F31:F54) -> 476938 | H55: =SUMIF(Q31:Q54,"010102",H31:H54) -> 962122 | J55: =SUMIF(Q31:Q54,"010102",J31:J54) -> 0 | L55: =SUMIF(Q31:Q54,"010102",L31:L54) -> 1439060 | N55: TOTAL
A56: 010103 타 일 공 사 | Q56: 010103
A57: 포세린타일 | B57: 600*1200*10mm | C57: M2 | D57: 17 | E57: =TRUNC(단가대비표!O26,0) -> 65000 | F57: =TRUNC(E57*D57, 0) -> 1105000 | G57: =TRUNC(단가대비표!P26,0) -> 0 | H57: =TRUNC(G57*D57, 0) -> 0 | I57: =TRUNC(단가대비표!V26,0) -> 0 | J57: =TRUNC(I57*D57, 0) -> 0 | K57: =TRUNC(E57+G57+I57, 0) -> 65000 | L57: =TRUNC(F57+H57+J57, 0) -> 1105000 | M57: 자재 22 | N57: 5CB1C6F2E6239A529AA49E51750A5BDD8B27EB | Q57: 010103 | R57: F | S57: F | T57: T | AU57: 0101035CB1C6F2E6239A529AA49E51750A5BDD8B27EB | AV57: 10
A58: 타일접착붙임(포세린(포슬린):600*1200*10T) | B58: 벽,접착붙임(백색줄눈) | C58: M2 | D58: 16 | E58: =TRUNC(일위대가목록!E8,0) -> 4293 | F58: =TRUNC(E58*D58, 0) -> 68688 | G58: =TRUNC(일위대가목록!F8,0) -> 30025 | H58: =TRUNC(G58*D58, 0) -> 480400 | I58: =TRUNC(일위대가목록!G8,0) -> 805 | J58: =TRUNC(I58*D58, 0) -> 12880 | K58: =TRUNC(E58+G58+I58, 0) -> 35123 | L58: =TRUNC(F58+H58+J58, 0) -> 561968 | M58: 호표 5 | N58: 5B9BE65AAEC3C05937B42A8128E7E7 | Q58: 010103 | R58: T | S58: F | T58: F | AU58: 0101035B9BE65AAEC3C05937B42A8128E7E7 | AV58: 11
Q59: 010103
Q60: 010103
Q61: 010103
Q62: 010103
Q63: 010103
Q64: 010103
Q65: 010103
Q66: 010103
Q67: 010103
Q68: 010103
Q69: 010103
Q70: 010103
... Q80: 010103
A81: [ 합 계 ] | F81: =SUMIF(Q57:Q80,"010103",F57:F80) -> 1173688 | H81: =SUMIF(Q57:Q80,"010103",H57:H80) -> 480400 | J81: =SUMIF(Q57:Q80,"010103",J57:J80) -> 12880 | L81: =SUMIF(Q57:Q80,"010103",L57:L80) -> 1666968 | N81: TOTAL
A82: 010104 방 수 공 사 | Q82: 010104
A83: 수밀코킹(실리콘) | B83: 삼각, 10mm, 창호주위 | C83: M | D83: 89 | E83: =TRUNC(일위대가목록!E9,0) -> 622 | F83: =TRUNC(E83*D83, 0) -> 55358 | G83: =TRUNC(일위대가목록!F9,0) -> 5228 | H83: =TRUNC(G83*D83, 0) -> 465292 | I83: =TRUNC(일위대가목록!G9,0) -> 0 | J83: =TRUNC(I83*D83, 0) -> 0 | K83: =TRUNC(E83+G83+I83, 0) -> 5850 | L83: =TRUNC(F83+H83+J83, 0) -> 520650 | M83: 호표 6 | N83: 5B9BB621C603C155EBF4D5D11419C9 | Q83: 010104 | R83: T | S83: F | T83: F | AU83: 0101045B9BB621C603C155EBF4D5D11419C9 | AV83: 13
Q84: 010104
Q85: 010104
Q86: 010104
Q87: 010104
Q88: 010104
Q89: 010104
Q90: 010104
Q91: 010104
Q92: 010104
Q93: 010104
Q94: 010104
Q95: 010104
... Q106: 010104
A107: [ 합 계 ] | F107: =SUMIF(Q83:Q106,"010104",F83:F106) -> 55358 | H107: =SUMIF(Q83:Q106,"010104",H83:H106) -> 465292 | J107: =SUMIF(Q83:Q106,"010104",J83:J106) -> 0 | L107: =SUMIF(Q83:Q106,"010104",L83:L106) -> 520650 | N107: TOTAL
A108: 010105 금 속 공 사 | Q108: 010105
A109: PVC마이너스몰딩 비드설치 | B109: SST'L H=31.5mm | C109: M | D109: 21 | E109: =TRUNC(일위대가목록!E10,0) -> 946 | F109: =TRUNC(E109*D109, 0) -> 19866 | G109: =TRUNC(일위대가목록!F10,0) -> 6654 | H109: =TRUNC(G109*D109, 0) -> 139734 | I109: =TRUNC(일위대가목록!G10,0) -> 0 | J109: =TRUNC(I109*D109, 0) -> 0 | K109: =TRUNC(E109+G109+I109, 0) -> 7600 | L109: =TRUNC(F109+H109+J109, 0) -> 159600 | M109: 호표 7 | N109: 5B9B465D88E3505F7BD46951296802 | Q109: 010105 | R109: T | S109: F | T109: F | AU109: 0101055B9B465D88E3505F7BD46951296802 | AV109: 15
A110: ST'L천정틀설치 | B110: ㅁ50*50*2.3 @900*900, 녹막이P | C110: M2 | D110: 52 | E110: =TRUNC(일위대가목록!E11,0) -> 10973 | F110: =TRUNC(E110*D110, 0) -> 570596 | G110: =TRUNC(일위대가목록!F11,0) -> 42305 | H110: =TRUNC(G110*D110, 0) -> 2199860 | I110: =TRUNC(일위대가목록!G11,0) -> 1974 | J110: =TRUNC(I110*D110, 0) -> 102648 | K110: =TRUNC(E110+G110+I110, 0) -> 55252 | L110: =TRUNC(F110+H110+J110, 0) -> 2873104 | M110: 호표 8 | N110: 5B9B96DEF8D33259A454244186DF70 | Q110: 010105 | R110: T | S110: F | T110: F | AU110: 0101055B9B96DEF8D33259A454244186DF70 | AV110: 16
A111: SST'L재료분리대(바닥/H.L) | B111: W40*H20*1.5t | C111: M | D111: 2 | E111: =TRUNC(일위대가목록!E12,0) -> 8017 | F111: =TRUNC(E111*D111, 0) -> 16034 | G111: =TRUNC(일위대가목록!F12,0) -> 18202 | H111: =TRUNC(G111*D111, 0) -> 36404 | I111: =TRUNC(일위대가목록!G12,0) -> 822 | J111: =TRUNC(I111*D111, 0) -> 1644 | K111: =TRUNC(E111+G111+I111, 0) -> 27041 | L111: =TRUNC(F111+H111+J111, 0) -> 54082 | M111: 호표 9 | N111: 5B9BC60ACD23BF5CDA94395106FBE1 | Q111: 010105 | R111: T | S111: F | T111: F | AU111: 0101055B9BC60ACD23BF5CDA94395106FBE1 | AV111: 17
A112: AL몰딩 설치 | B112: W형, 15*15*15*15*1.0mm | C112: M | D112: 190 | E112: =TRUNC(일위대가목록!E13,0) -> 2864 | F112: =TRUNC(E112*D112, 0) -> 544160 | G112: =TRUNC(일위대가목록!F13,0) -> 8990 | H112: =TRUNC(G112*D112, 0) -> 1708100 | I112: =TRUNC(일위대가목록!G13,0) -> 359 | J112: =TRUNC(I112*D112, 0) -> 68210 | K112: =TRUNC(E112+G112+I112, 0) -> 12213 | L112: =TRUNC(F112+H112+J112, 0) -> 2320470 | M112: 호표 10 | N112: 5B9BC604A65320586D648481E37384 | Q112: 010105 | R112: T | S112: F | T112: F | AU112: 0101055B9BC604A65320586D648481E37384 | AV112: 18
A113: 미디어라인(금속도장) 천정부착형 | B113: 지정디자인 / 금속구조틀+갈바 위지정도장 | C113: M | D113: 19.2 | E113: =TRUNC(단가대비표!O76,0) -> 214000 | F113: =TRUNC(E113*D113, 0) -> 4108800 | G113: =TRUNC(단가대비표!P76,0) -> 0 | H113: =TRUNC(G113*D113, 0) -> 0 | I113: =TRUNC(단가대비표!V76,0) -> 0 | J113: =TRUNC(I113*D113, 0) -> 0 | K113: =TRUNC(E113+G113+I113, 0) -> 214000 | L113: =TRUNC(F113+H113+J113, 0) -> 4108800 | M113: 자재 72 | N113: 5CB1D6984903985E6E244CE1688542E3144BFA | Q113: 010105 | R113: F | S113: F | T113: T | AU113: 0101055CB1D6984903985E6E244CE1688542E3144BFA | AV113: 471
A114: 간접조명 라인 | B114: 지정디자인 / 금속구조틀+갈바 위지정도장 | C114: M | D114: 7 | E114: =TRUNC(단가대비표!O77,0) -> 87500 | F114: =TRUNC(E114*D114, 0) -> 612500 | G114: =TRUNC(단가대비표!P77,0) -> 0 | H114: =TRUNC(G114*D114, 0) -> 0 | I114: =TRUNC(단가대비표!V77,0) -> 0 | J114: =TRUNC(I114*D114, 0) -> 0 | K114: =TRUNC(E114+G114+I114, 0) -> 87500 | L114: =TRUNC(F114+H114+J114, 0) -> 612500 | M114: 자재 73 | N114: 5CB1D6984903985E6E244CE1688542E3144BFB | Q114: 010105 | R114: F | S114: F | T114: T | AU114: 0101055CB1D6984903985E6E244CE1688542E3144BFB | AV114: 472
Q115: 010105
Q116: 010105
Q117: 010105
Q118: 010105
Q119: 010105
Q120: 010105
Q121: 010105
Q122: 010105
Q123: 010105
Q124: 010105
Q125: 010105
Q126: 010105
... Q132: 010105
A133: [ 합 계 ] | F133: =SUMIF(Q109:Q132,"010105",F109:F132) -> 5871956 | H133: =SUMIF(Q109:Q132,"010105",H109:H132) -> 4084098 | J133: =SUMIF(Q109:Q132,"010105",J109:J132) -> 172502 | L133: =SUMIF(Q109:Q132,"010105",L109:L132) -> 10128556 | N133: TOTAL
A134: 010106 미 장 공 사 | Q134: 010106
A135: 콘크리트면 마무리 | B135: 3.6m 이하, 내벽 | C135: M2 | D135: 235 | E135: =TRUNC(일위대가목록!E14,0) -> 10 | F135: =TRUNC(E135*D135, 0) -> 2350 | G135: =TRUNC(일위대가목록!F14,0) -> 2759 | H135: =TRUNC(G135*D135, 0) -> 648365 | I135: =TRUNC(일위대가목록!G14,0) -> 82 | J135: =TRUNC(I135*D135, 0) -> 19270 | K135: =TRUNC(E135+G135+I135, 0) -> 2851 | L135: =TRUNC(F135+H135+J135, 0) -> 669985 | M135: 호표 11 | N135: 5B9B46565BC32554F214F4711CABEB | Q135: 010106 | R135: T | S135: F | T135: F | AU135: 0101065B9B46565BC32554F214F4711CABEB | AV135: 20
A136: 기존 바닥 면정리 | C136: M2 | D136: 556 | E136: =TRUNC(일위대가목록!E15,0) -> 0 | F136: =TRUNC(E136*D136, 0) -> 0 | G136: =TRUNC(일위대가목록!F15,0) -> 610 | H136: =TRUNC(G136*D136, 0) -> 339160 | I136: =TRUNC(일위대가목록!G15,0) -> 54 | J136: =TRUNC(I136*D136, 0) -> 30024 | K136: =TRUNC(E136+G136+I136, 0) -> 664 | L136: =TRUNC(F136+H136+J136, 0) -> 369184 | M136: 호표 12 | N136: 5B9B46565DF33253EA2493D11D1054 | Q136: 010106 | R136: T | S136: F | T136: F | AU136: 0101065B9B46565DF33253EA2493D11D1054 | AV136: 21
Q137: 010106
Q138: 010106
Q139: 010106
Q140: 010106
Q141: 010106
Q142: 010106
...

Sheet 일위대가목록
B1: 일 위 대 가 목 록
B2: [ 천안고용복지플러스센터 통합네트워크 인테리어 공사 ]
A3: 코 드 | B3: 품 명 | C3: 규 격 | D3: 단위 | E3: 재 료 비 | F3: 노 무 비 | G3: 경 비 | H3: 합 계 | I3: 번 호 | J3: 비 고 | K3: 노임계수 | L3: 할증 | M3: 품셈개요 | N3: 장비일위
A4: 5B9B260B79C3BB530A74EA71A798AE | B4: 강관 조립말비계(이동식)설치 및 해체 | C4: 높이 2m, 3개월 | D4: 대 | E4: =일위대가!F17 -> 44127 | F4: =일위대가!H17 -> 94574 | G4: =일위대가!J17 -> 0 | H4: =E4+F4+G4 -> 138701 | I4: 호표 1 | M4: 공통 2-7-4, 2-2-5
A5: 5B9B260ECFF33C55AF14E5D1E3604C | B5: 건축물 현장정리 | C5: 전문, 개보수공사 | D5: M2 | E5: =일위대가!F21 -> 0 | F5: =일위대가!H21 -> 2581 | G5: =일위대가!J21 -> 0 | H5: =E5+F5+G5 -> 2581 | I5: 호표 2 | J5: 교육청 | M5: 공통 2-9-2
A6: 5B9B260ECA735A56E4445C61ED349E | B6: 준공청소 | D6: M2 | E6: =일위대가!F25 -> 0 | F6: =일위대가!H25 -> 3441 | G6: =일위대가!J25 -> 0 | H6: =E6+F6+G6 -> 3441 | I6: 호표 3 | M6: 공통 2-11-3
A7: 5B9BD67BA9B354599974FB617747C4 | B7: 유성페인트 [뿜칠 - 바탕처리포함] | C7: 철재면, 2회 | D7: M2 | E7: =일위대가!F31 -> 1793 | F7: =일위대가!H31 -> 3617 | G7: =일위대가!J31 -> 0 | H7: =E7+F7+G7 -> 5410 | I7: 호표 4 | M7: 건축 11-2-5
A8: 5B9BE65AAEC3C05937B42A8128E7E7 | B8: 타일접착붙임(포세린(포슬린):600*1200*10T) | C8: 벽,접착붙임(백색줄눈) | D8: M2 | E8: =일위대가!F37 -> 4293 | F8: =일위대가!H37 -> 30025 | G8: =일위대가!J37 -> 805 | H8: =E8+F8+G8 -> 35123 | I8: 호표 5 | M8: 건축 3-2-2, -1-2
A9: 5B9BB621C603C155EBF4D5D11419C9 | B9: 수밀코킹(실리콘) | C9: 삼각, 10mm, 창호주위 | D9: M | E9: =일위대가!F42 -> 622 | F9: =일위대가!H42 -> 5228 | G9: =일위대가!J42 -> 0 | H9: =E9+F9+G9 -> 5850 | I9: 호표 6 | M9: 건축 6-6-1
A10: 5B9B465D88E3505F7BD46951296802 | B10: PVC마이너스몰딩 비드설치 | C10: SST'L H=31.5mm | D10: M | E10: =일위대가!F47 -> 946 | F10: =일위대가!H47 -> 6654 | G10: =일위대가!J47 -> 0 | H10: =E10+F10+G10 -> 7600 | I10: 호표 7
A11: 5B9B96DEF8D33259A454244186DF70 | B11: ST'L천정틀설치 | C11: ㅁ50*50*2.3 @900*900, 녹막이P | D11: M2 | E11: =일위대가!F54 -> 10973 | F11: =일위대가!H54 -> 42305 | G11: =일위대가!J54 -> 1974 | H11: =E11+F11+G11 -> 55252 | I11: 호표 8
A12: 5B9BC60ACD23BF5CDA94395106FBE1 | B12: SST'L재료분리대(바닥/H.L) | C12: W40*H20*1.5t | D12: M | E12: =일위대가!F62 -> 8017 | F12: =일위대가!H62 -> 18202 | G12: =일위대가!J62 -> 822 | H12: =E12+F12+G12 -> 27041 | I12: 호표 9
A13: 5B9BC604A65320586D648481E37384 | B13: AL몰딩 설치 | C13: W형, 15*15*15*15*1.0mm | D13: M | E13: =일위대가!F68 -> 2864 | F13: =일위대가!H68 -> 8990 | G13: =일위대가!J68 -> 359 | H13: =E13+F13+G13 -> 12213 | I13: 호표 10 | M13: 건축 8-1-5
A14: 5B9B46565BC32554F214F4711CABEB | B14: 콘크리트면 마무리 | C14: 3.6m 이하, 내벽 | D14: M2 | E14: =일위대가!F72 -> 10 | F14: =일위대가!H72 -> 2759 | G14: =일위대가!J72 -> 82 | H14: =E14+F14+G14 -> 2851 | I14: 호표 11 | M14: 건축 9-2-1
A15: 5B9B46565DF33253EA2493D11D1054 | B15: 기존 바닥 면정리 | D15: M2 | E15: =일위대가!F77 -> 0 | F15: =일위대가!H77 -> 610 | G15: =일위대가!J77 -> 54 | H15: =E15+F15+G15 -> 664 | I15: 호표 12 | M15: 건축 9-1-4
A16: 5B9BF64394233B582D5445011D87DB | B16: AD03 [ G.V ㅁ150*60*1.5T, 유성P ] | C16: 1.800 x 2.100 = 3.780 | D16: EA | E16: =일위대가!F81 -> 48156 | F16: =일위대가!H81 -> 55248 | G16: =일위대가!J81 -> 1722 | H16: =E16+F16+G16 -> 105126 | I16: 호표 13
A17: 5B9BF64394233B582D5445011D87D9 | B17: AFD02[폴딩도어] | C17: 5.400 x 2.400 = 12.960 | D17: EA | E17: =일위대가!F85 -> 5443200 | F17: =일위대가!H85 -> 0 | G17: =일위대가!J85 -> 0 | H17: =E17+F17+G17 -> 5443200 | I17: 호표 14
A18: 5B9BF64394233B582D5445011D87DF | B18: WD01 | C18: 0.900 x 2.400 = 2.160 | D18: EA | E18: =일위대가!F93 -> 86537 | F18: =일위대가!H93 -> 96044 | G18: =일위대가!J93 -> 2957 | H18: =E18+F18+G18 -> 185538 | I18: 호표 15
A19: 5B9BF644B913E157A4A49031AB303F | B19: 플로어힌지 설치 | C19: 재료비 별도 | D19: 개소 | E19: =일위대가!F99 -> 0 | F19: =일위대가!H99 -> 31989 | G19: =일위대가!J99 -> 639 | H19: =E19+F19+G19 -> 32628 | I19: 호표 16 | M19: 건축 10-2-2
A20: 5B9BF644BFA38258EAB44221357137 | B20: 창호주위 발포우레탄 충전 | C20: 창호주위 | D20: M | E20: =일위대가!F103 -> 1485 | F20: =일위대가!H103 -> 0 | G20: =일위대가!J103 -> 0 | H20: =E20+F20+G20 -> 1485 | I20: 호표 17 | M20: 건축 9-3-2
A21: 5B9BF640C273185A67F45C316CA2EB | B21: 강화유리문 [투명] | C21: 유리문, 12*900*2100mm, 손보호 | D21: EA | E21: =일위대가!F107 -> 310000 | F21: =일위대가!H107 -> 0 | G21: =일위대가!J107 -> 0 | H21: =E21+F21+G21 -> 310000 | I21: 호표 18
A22: 5B9A16C7E4C3AC51BF94EE3179FBF2 | B22: 유리블럭 설치 | D22: M2 | E22: =일위대가!F112 -> 133400 | F22: =일위대가!H112 -> 212972 | G22: =일위대가!J112 -> 0 | H22: =E22+F22+G22 -> 346372 | I22: 호표 19
A23: 5B9BD6762693535602340CC15A3588 | B23: 유성페인트 롤러칠[바탕처리포함] | C23: 철재면, 2회 1급 | D23: M2 | E23: =일위대가!F118 -> 1591 | F23: =일위대가!H118 -> 8224 | G23: =일위대가!J118 -> 0 | H23: =E23+F23+G23 -> 9815 | I23: 호표 20 | M23: 건축 11-2-5
A24: 5B9BD677CF83885BB3E499F18FCF4E | B24: 바탕만들기+수성페인트 롤러칠 | C24: 내부 2회, con'c·mortar면, 친환경, [진품] | D24: M2 | E24: =일위대가!F124 -> 1329 | F24: =일위대가!H124 -> 9802 | G24: =일위대가!J124 -> 0 | H24: =E24+F24+G24 -> 11131 | I24: 호표 21 | M24: 건축 11-1-1,-2-2
A25: 5B9BD677CF83885BB3E4998140489C | B25: 바탕만들기+수성페인트 롤러칠 | C25: 내부 2회, G.B.면 줄퍼티, 친환경, [진품] | D25: M2 | E25: =일위대가!F130 -> 1682 | F25: =일위대가!H130 -> 17926 | G25: =일위대가!J130 -> 0 | H25: =E25+F25+G25 -> 19608 | I25: 호표 22 | M25: 건축 11-1-2,-2-2
A26: 5B9BD677CF83885BB3E43701E3D60A | B26: 바탕만들기+수성페인트 롤러칠 | C26: 내천장 2회, G.B.면 줄퍼티, 친환경, [진품] | D26: M2 | E26: =일위대가!F136 -> 1682 | F26: =일위대가!H136 -> 21511 | G26: =일위대가!J136 -> 0 | H26: =E26+F26+G26 -> 23193 | I26: 호표 23 | M26: 건축 11-1-2,-2-2
A27: 5B9BD6724CE39B5999F439E1AD3948 | B27: 바탕만들기+바니시칠 [방염] | C27: 목재면, 1회 | D27: M2 | E27: =일위대가!F145 -> 591 | F27: =일위대가!H145 -> 8062 | G27: =일위대가!J145 -> 0 | H27: =E27+F27+G27 -> 8653 | I27: 호표 24 | J27: 교육청자료 | M27: 건축 11-2-2, 준용
A28: 5B9BA6C26363305FDE84A9B12DED6C | B28: 벽체틀 설치 [미송] | C28: 60*30, @450*450 | D28: M2 | E28: =일위대가!F150 -> 11884 | F28: =일위대가!H150 -> 9733 | G28: =일위대가!J150 -> 194 | H28: =E28+F28+G28 -> 21811 | I28: 호표 25 | M28: 건축 4-2-1
A29: 5B9BA6C26363305FDE84A981586C82 | B29: 벽체틀 설치 [미송] | C29: 60*30, @450*450*2EA, L:70 [지주포함] | D29: M2 | E29: =일위대가!F155 -> 12115 | F29: =일위대가!H155 -> 19466 | G29: =일위대가!J155 -> 388 | H29: =E29+F29+G29 -> 31969 | I29: 호표 26 | M29: 건축 4-2-1
A30: 5B9BC60CFB23565DF1F48FA154D321 | B30: 비닐타일 깔기 | C30: 비닐타일, 3*180*1200mm, 데코타일 | D30: M2 | E30: =일위대가!F160 -> 23436 | F30: =일위대가!H160 -> 17145 | G30: =일위대가!J160 -> 0 | H30: =E30+F30+G30 -> 40581 | I30: 호표 27 | M30: 건축 5-1-1
A31: 5B9BC60CFF93DA51D1B44D51F80471 | B31: 걸레받이 설치 - 중밀도섬유판 | C31: T=9, H=60 | D31: M | E31: =일위대가!F166 -> 506 | F31: =일위대가!H166 -> 4157 | G31: =일위대가!J166 -> 83 | H31: =E31+F31+G31 -> 4746 | I31: 호표 28 | M31: 건축 5-3-5
A32: 5B9BC60F4F63285F08D451117DE298 | B32: 에칭시트지바름 | C32: 0.5T | D32: M2 | E32: =일위대가!F172 -> 21600 | F32: =일위대가!H172 -> 4796 | G32: =일위대가!J172 -> 0 | H32: =E32+F32+G32 -> 26396 | I32: 호표 29
A33: 5B9BC60F4F63285F08D451117CDC4D | B33: 인테리어필름지바름 [방염우드] | C33: 0.42T | D33: M2 | E33: =일위대가!F176 -> 29500 | F33: =일위대가!H176 -> 0 | G33: =일위대가!J176 -> 0 | H33: =E33+F33+G33 -> 29500 | I33: 호표 30 | J33: 시공도
A34: 5B9BC60EA6C3AB58ED04F3E1BB8D55 | B34: MDF 벽 설치 | C34: T9.0mm | D34: M2 | E34: =일위대가!F181 -> 4358 | F34: =일위대가!H181 -> 18183 | G34: =일위대가!J181 -> 363 | H34: =E34+F34+G34 -> 22904 | I34: 호표 31 | M34: 건축 4-2-3
A35: 5B9BC60EA6C39954987441415E4C9B | B35: 흡음텍스 설치 [마이톤 - M-BAR] | C35: 300*600*15.0mm, 천정, 텍스포함 | D35: M2 | E35: =일위대가!F187 -> 19575 | F35: =일위대가!H187 -> 15088 | G35: =일위대가!J187 -> 452 | H35: =E35+F35+G35 -> 35115 | I35: 호표 32 | M35: 건축 5-2-1
A36: 5B9BC60EA523525151547201D26625 | B36: 석고판 못붙임(바탕용) | C36: 벽, 일반 9.5mm | D36: M2 | E36: =일위대가!F192 -> 3110 | F36: =일위대가!H192 -> 11402 | G36: =일위대가!J192 -> 114 | H36: =E36+F36+G36 -> 14626 | I36: 호표 33 | M36: 건축 5-2-2
A37: 5B9BC60EA523525151547201D0B849 | B37: 석고판 못붙임(바탕용) | C37: 벽, 일반 9.5mm*2PLY | D37: M2 | E37: =일위대가!F197 -> 6220 | F37: =일위대가!H197 -> 15088 | G37: =일위대가!J197 -> 150 | H37: =E37+F37+G37 -> 21458 | I37: 호표 34 | M37: 건축 5-2-2
A38: 5B9BC60EA52352527864188194B991 | B38: 석고판 못붙임(바탕용) | C38: 천정, 일반 9.5mm*2PLY | D38: M2 | E38: =일위대가!F202 -> 6220 | F38: =일위대가!H202 -> 19632 | G38: =일위대가!J202 -> 196 | H38: =E38+F38+G38 -> 26048 | I38: 호표 35 | M38: 건축 5-2-2
A39: 5B9BC60EA3736B5F7DD4AF512A4F9B | B39: 요꼬합판 벽 설치 | C39: T4.0mm*3겹 | D39: M2 | E39: =일위대가!F207 -> 12975 | F39: =일위대가!H207 -> 54549 | G39: =일위대가!J207 -> 1089 | H39: =E39+F39+G39 -> 68613 | I39: 호표 36
A40: 5B9BC60927837A55D1640F816C2DDF | B40: 유리면 격자넣기 - 벽 | C40: 유리면보드, 밀도24kg/㎥, 50mm | D40: M2 | E40: =일위대가!F212 -> 4708 | F40: =일위대가!H212 -> 8658 | G40: =일위대가!J212 -> 0 | H40: =E40+F40+G40 -> 13366 | I40: 호표 37 | M40: 건축 5-4-3
A41: 5B9BC60926F3D15C38B433112DDAF4 | B41: STUD 설치 [T65] | C41: ST65 @ 450 | D41: M2 | E41: =일위대가!F219 -> 13821 | F41: =일위대가!H219 -> 10544 | G41: =일위대가!J219 -> 632 | H41: =E41+F41+G41 -> 24997 | I41: 호표 38
A42: 5B9BC601EE33115325345CF1BE12FF | B42: 외벽단열마감시스템(스터코마감,미장) | C42: 피니쉬시스템, 프라이머+마감재 | D42: M2 | E42: =일위대가!F223 -> 26693 | F42: =일위대가!H223 -> 0 | G42: =일위대가!J223 -> 0 | H42: =E42+F42+G42 -> 26693 | I42: 호표 39 | M42: 건축 5-3-4
A43: 5B9A269FB9E3A0595804CC714020B9 | B43: 프라스틱문 철거 | D43: M2 | E43: =일위대가!F228 -> 645 | F43: =일위대가!H228 -> 12905 | G43: =일위대가!J228 -> 0 | H43: =E43+F43+G43 -> 13550 | I43: 호표 40 | J43: 대구교육청 | M43: 건축 12-2-1
A44: 5B9A269FB9E3A0595804CC71402373 | B44: 알미늄문 철거 | D44: M2 | E44: =일위대가!F233 -> 645 | F44: =일위대가!H233 -> 12905 | G44: =일위대가!J233 -> 0 | H44: =E44+F44+G44 -> 13550 | I44: 호표 41 | J44: 대구교육청 | M44: 건축 12-2-1
A45: 5B9A269FB9E3A0595804CC7141C88C | B45: 스텐레스문 철거 | D45: M2 | E45: =일위대가!F238 -> 645 | F45: =일위대가!H238 -> 12905 | G45: =일위대가!J238 -> 0 | H45: =E45+F45+G45 -> 13550 | I45: 호표 42 | J45: 대구교육청 | M45: 건축 12-2-1
A46: 5B9A269FB9E3A0595804F9F19AEBBC | B46: 철거자재 소운반 | C46: 인력 20m이내 | D46: TON | E46: =일위대가!F242 -> 0 | F46: =일위대가!H242 -> 0 | G46: =일위대가!J242 -> 45269 | H46: =E46+F46+G46 -> 45269 | I46: 호표 43 | M46: 건축 12-2-1
A47: 5B9A269FB083BF510244FFF1D47426 | B47: 흡음텍스 해체 | D47: M2 | E47: =일위대가!F247 -> 0 | F47: =일위대가!H247 -> 6002 | G47: =일위대가!J247 -> 0 | H47: =E47+F47+G47 -> 6002 | I47: 호표 44 | M47: 유지 3-2-2
A48: 5B9A269FB083BF510244B051B45A47 | B48: 건식벽 해체 [일면] | C48: MDF9.0T*1겹석고보드9.5T*1겹+STUD(50~150)@450 | D48: M2 | E48: =일위대가!F253 -> 0 | F48: =일위대가!H253 -> 16634 | G48: =일위대가!J253 -> 332 | H48: =E48+F48+G48 -> 16966 | I48: 호표 45
A49: 5B9A269FB083BF510244B051B4580A | B49: 건식벽 해체 [양면] | C49: MDF9.0T*1겹석고보드9.5T*1겹+STUD(50~150)@450 | D49: M2 | E49: =일위대가!F259 -> 0 | F49: =일위대가!H259 -> 27266 | G49: =일위대가!J259 -> 544 | H49: =E49+F49+G49 -> 27810 | I49: 호표 46
A50: 5B9A269FB083BF5102445FB1806B54 | B50: PVC계바닥재 해체 | D50: M2 | E50: =일위대가!F264 -> 0 | F50: =일위대가!H264 -> 2229 | G50: =일위대가!J264 -> 0 | H50: =E50+F50+G50 -> 2229 | I50: 호표 47 | M50: 유지 3-2-8
A51: 5B9A269FB083BF51035442510FD5C5 | B51: 목재루버 철거 | C51: ㅁ100*50@100 | D51: M2 | E51: =일위대가!F268 -> 0 | F51: =일위대가!H268 -> 25810 | G51: =일위대가!J268 -> 0 | H51: =E51+F51+G51 -> 25810 | I51: 호표 48
A52: 5B9BF64394233B582D5445011D87DD | B52: AD03 [ G.V ㅁ150*60*1.5T, 유성P ] | C52: 1.800 x 2.100 = 3.780 | D52: EA | E52: =일위대가!F272 -> 48156 | F52: =일위대가!H272 -> 55248 | G52: =일위대가!J272 -> 1722 | H52: =E52+F52+G52 -> 105126 | I52: 호표 49
A53: 5B9BF64394233B582D5445011D87D3 | B53: SSPD01 | C53: 2.000 x 2.400 = 4.800 | D53: EA | E53: =일위대가!F280 -> 679165 | F53: =일위대가!H280 -> 202477 | G53: =일위대가!J280 -> 5080 | H53: =E53+F53+G53 -> 886722 | I53: 호표 50
A54: 5B9BF64394233B582D5445011D8632 | B54: WD01 | C54: 0.900 x 2.400 = 2.160 | D54: EA | E54: =일위대가!F288 -> 86537 | F54: =일위대가!H288 -> 96044 | G54: =일위대가!J288 -> 2957 | H54: =E54+F54+G54 -> 185538 | I54: 호표 51
A55: 5B9BF644BA230857230497011157C3 | B55: 도어체크 설치 | C55: 재료비 별도 | D55: 개소 | E55: =일위대가!F294 -> 0 | F55: =일위대가!H294 -> 20659 | G55: =일위대가!J294 -> 413 | H55: =E55+F55+G55 -> 21072 | I55: 호표 52 | M55: 건축 10-2-1
A56: 5B9BB621C713425F51946391C95501 | B56: 유리주위 코킹 [일반/복층] | C56: 5*5, 실리콘 | D56: M | E56: =일위대가!F298 -> 311 | F56: =일위대가!H298 -> 0 | G56: =일위대가!J298 -> 0 | H56: =E56+F56+G56 -> 311 | I56: 호표 53 | M56: 건축 6-6-1
A57: 5B9BF64AC3F32C50F4A4DB714D29E6 | B57: 창호유리설치 / 복층유리 | C57: 유리두께 24mm 이하 | D57: M2 | E57: =일위대가!F303 -> 0 | F57: =일위대가!H303 -> 34880 | G57: =일위대가!J303 -> 0 | H57: =E57+F57+G57 -> 34880 | I57: 호표 54 | M57: 건축 10-3-1
A58: 5B9BD67500931B561474F501650794 | B58: 녹막이페인트 붓칠[바탕처리포함] | C58: 철재면, 1회 1종 | D58: M2 | E58: =일위대가!F309 -> 1108 | F58: =일위대가!H309 -> 6211 | G58: =일위대가!J309 -> 0 | H58: =E58+F58+G58 -> 7319 | I58: 호표 55 | M58: 건축 11-2-6
A59: 5B9BD67E7FC3155E65D49F614E072C | B59: 바탕만들기+정전분체도장 | C59: 내,외부용 | D59: M2 | E59: =일위대가!F319 -> 8836 | F59: =일위대가!H319 -> 9731 | G59: =일위대가!J319 -> 0 | H59: =E59+F59+G59 -> 18567 | I59: 호표 56 | M59: 건축 11-2-2, 준용
A60: 5B9BC60CFB23565DF1F48FA1511FBB | B60: 비닐타일 깔기 | C60: 비닐타일, 3*450*450mm, 데코타일 | D60: M2 | E60: =일위대가!F324 -> 20811 | F60: =일위대가!H324 -> 17145 | G60: =일위대가!J324 -> 0 | H60: =E60+F60+G60 -> 37956 | I60: 호표 57 | M60: 건축 5-1-1
A61: 5B9BC60EA0A33E5126F44921DEFD98 | B61: 아트보드 벽 붙임 [RG-Art Fabrci (방염직물)] | C61: 벽, T9.0mm | D61: M2 | E61: =일위대가!F329 -> 29956 | F61: =일위대가!H329 -> 19638 | G61: =일위대가!J329 -> 392 | H61: =E61+F61+G61 -> 49986 | I61: 호표 58
A62: 5B9A269FB9E3A0595804CC71402269 | B62: 철재문 철거 | D62: M2 | E62: =일위대가!F334 -> 645 | F62: =일위대가!H334 -> 12905 | G62: =일위대가!J334 -> 0 | H62: =E62+F62+G62 -> 13550 | I62: 호표 59 | J62: 대구교육청 | M62: 건축 12-2-1
A63: 5B9A269FBCB3855FCCA4FAB1179EB3 | B63: ST'L 유리칸막이 철거 [ 3F ] | C63: L(3100+3940+3100)*H2500 | D63: EA | E63: =일위대가!F338 -> 0 | F63: =일위대가!H338 -> 206481 | G63: =일위대가!J338 -> 0 | H63: =E63+F63+G63 -> 206481 | I63: 호표 60
A64: 5B9A269FB083BF510244B041AD6A04 | B64: 석고판 해체 | C64: 천장 | D64: M2 | E64: =일위대가!F344 -> 0 | F64: =일위대가!H344 -> 6174 | G64: =일위대가!J344 -> 123 | H64: =E64+F64+G64 -> 6297 | I64: 호표 61 | M64: 유지 3-2-6
A65: 5B9BF64394233B582D5445011D8630 | B65: AD01B [ 상담실 - G.V ㅁ150*60*1.5T, 유성P ] | C65: 2.700 x 2.400 = 6.480 | D65: EA | E65: =일위대가!F349 -> 146803 | F65: =일위대가!H349 -> 156136 | G65: =일위대가!J349 -> 5361 | H65: =E65+F65+G65 -> 308300 | I65: 호표 62
A66: 5B9BF64394233B582D5445011D8636 | B66: AD01C [ 면접실 - G.V ㅁ150*60*1.5T, 유성P ] | C66: 3.050 x 2.400 = 7.320 | D66: EA | E66: =일위대가!F354 -> 152421 | F66: =일위대가!H354 -> 162582 | G66: =일위대가!J354 -> 5562 | H66: =E66+F66+G66 -> 320565 | I66: 호표 63
A67: 5B9BF64394233B582D5445011D8634 | B67: AD03 [ G.V ㅁ150*60*1.5T, 유성P ] | C67: 1.800 x 2.100 = 3.780 | D67: EA | E67: =일위대가!F358 -> 48156 | F67: =일위대가!H358 -> 55248 | G67: =일위대가!J358 -> 1722 | H67: =E67+F67+G67 -> 105126 | I67: 호표 64
A68: 5B9BF64394233B582D5445011D863A | B68: WD01 | C68: 0.900 x 2.400 = 2.160 | D68: EA | E68: =일위대가!F366 -> 86537 | F68: =일위대가!H366 -> 96044 | G68: =일위대가!J366 -> 2957 | H68: =E68+F68+G68 -> 185538 | I68: 호표 65
A69: 5B9BF640C273185A67F45C316CA1C4 | B69: 강화유리문 [투명] | C69: 유리문, 12*900*2400mm, 손보호 | D69: EA | E69: =일위대가!F372 -> 340000 | F69: =일위대가!H372 -> 0 | G69: =일위대가!J372 -> 0 | H69: =E69+F69+G69 -> 340000 | I69: 호표 66
A70: 5B9BF64543A36259C2946FD1E23DDC | B70: 창호유리설치 / 판유리 | C70: 유리두께 12mm 이하 | D70: M2 | E70: =일위대가!F377 -> 0 | F70: =일위대가!H377 -> 34363 | G70: =일위대가!J377 -> 0 | H70: =E70+F70+G70 -> 34363 | I70: 호표 67 | M70: 건축 10-3-1
A71: 5B9BC60CFB23565DF294F641A1AE2F | B71: 타일카펫 깔기 | C71: 타일카펫, 500*500*6.0mm | D71: M2 | E71: =일위대가!F382 -> 23226 | F71: =일위대가!H382 -> 17145 | G71: =일위대가!J382 -> 0 | H71: =E71+F71+G71 -> 40371 | I71: 호표 68 | M71: 건축 5-1-1
A72: 5B9BF64394233B582D5445011D852D | B72: AD01[ AI면접 - G.V ㅁ150*60*1.5T, 유성P ] | C72: 1.800 x 2.400 = 4.320 | D72: EA | E72: =일위대가!F387 -> 132356 | F72: =일위대가!H387 -> 139562 | G72: =일위대가!J387 -> 4845 | H72: =E72+F72+G72 -> 276763 | I72: 호표 69
A73: 5B9BF64394233B582D5445011D852F | B73: AD01B [ 상담실 - G.V ㅁ150*60*1.5T, 유성P ] | C73: 2.700 x 2.400 = 6.480 | D73: EA | E73: =일위대가!F392 -> 146803 | F73: =일위대가!H392 -> 156136 | G73: =일위대가!J392 -> 5361 | H73: =E73+F73+G73 -> 308300 | I73: 호표 70
A74: 5B9BF64394233B582D5445011D8529 | B74: AD01D [ 상담실 - G.V ㅁ150*60*1.5T, 유성P ] | C74: 3.300 x 2.400 = 7.920 | D74: EA | E74: =일위대가!F397 -> 156434 | F74: =일위대가!H397 -> 167186 | G74: =일위대가!J397 -> 5706 | H74: =E74+F74+G74 -> 329326 | I74: 호표 71
A75: 5B9BF64394233B582D5445011D852B | B75: AD02 [ G.V ㅁ150*60*1.5T, 유성P ] | C75: 5.310 x 2.400 = 12.744 | D75: EA | E75: =일위대가!F402 -> 207961 | F75: =일위대가!H402 -> 226301 | G75: =일위대가!J402 -> 7548 | H75: =E75+F75+G75 -> 441810 | I75: 호표 72
A76: 5B9BF64394233B582D5445011D8525 | B76: AD03 [ G.V ㅁ150*60*1.5T, 유성P ] | C76: 1.800 x 2.100 = 3.780 | D76: EA | E76: =일위대가!F406 -> 48156 | F76: =일위대가!H406 -> 55248 | G76: =일위대가!J406 -> 1722 | H76: =E76+F76+G76 -> 105126 | I76: 호표 73
A77: 5B9BF64394233B582D5445011D8407 | B77: WD01 | C77: 0.900 x 2.400 = 2.160 | D77: EA | E77: =일위대가!F414 -> 86537 | F77: =일위대가!H414 -> 96044 | G77: =일위대가!J414 -> 2957 | H77: =E77+F77+G77 -> 185538 | I77: 호표 74
A78: 5B9BF64394233B582D5445011D8405 | B78: AD01A [ 부정수급팀 - G.V ㅁ150*60*1.5T, 유성P ] | C78: 2.300 x 2.400 = 5.520 | D78: EA | E78: =일위대가!F419 -> 140382 | F78: =일위대가!H419 -> 148770 | G78: =일위대가!J419 -> 5132 | H78: =E78+F78+G78 -> 294284 | I78: 호표 75
A79: 5B9BF64394233B582D5445011D8403 | B79: AD03 [ G.V ㅁ150*60*1.5T, 정전분체P ] | C79: 1.800 x 2.100 = 3.780 | D79: EA | E79: =일위대가!F423 -> 48156 | F79: =일위대가!H423 -> 55248 | G79: =일위대가!J423 -> 1722 | H79: =E79+F79+G79 -> 105126 | I79: 호표 76
A80: 5B9B260ECC23275DEAD44AF10227CD | B80: 섬유판 | C80: 중밀도판 / 겉모양, 치수, 직각도 | D80: 회 | E80: =일위대가!F432 -> 0 | F80: =일위대가!H432 -> 0 | G80: =일위대가!J432 -> 11637 | H80: =E80+F80+G80 -> 11637 | I80: 호표 77 | M80: 국토~부 고시 별표 4
A81: 5B9B260ECC23275DEAD44AF1022626 | B81: 섬유판 | C81: 중밀도판 / 밀도, 함수율 | D81: 회 | E81: =일위대가!F440 -> 0 | F81: =일위대가!H440 -> 0 | G81: =일위대가!J440 -> 6680 | H81: =E81+F81+G81 -> 6680 | I81: 호표 78 | M81: 국토~부 고시 별표 4
A82: 5B9B260ECC23275DEAD44AF1033674 | B82: 섬유판 | C82: 중밀도판 / 휨강도 | D82: 회 | E82: =일위대가!F447 -> 0 | F82: =일위대가!H447 -> 0 | G82: =일위대가!J447 -> 7445 | H82: =E82+F82+G82 -> 7445 | I82: 호표 79 | M82: 국토~부 고시 별표 4
A83: 5B9B260ECC23275DEAD44AF103371B | B83: 섬유판 | C83: 중밀도판 / 습윤시 휨강도 | D83: 회 | E83: =일위대가!F456 -> 0 | F83: =일위대가!H456 -> 0 | G83: =일위대가!J456 -> 14481 | H83: =E83+F83+G83 -> 14481 | I83: 호표 80 | M83: 국토~부 고시 별표 4
A84: 5B9B260ECC23275DEAD44AF1033447 | B84: 섬유판 | C84: 중밀도판 / 흡수두께 팽창률 | D84: 회 | E84: =일위대가!F465 -> 0 | F84: =일위대가!H465 -> 0 | G84: =일위대가!J465 -> 13154 | H84: =E84+F84+G84 -> 13154 | I84: 호표 81 | M84: 국토~부 고시 별표 4
A85: 5B9B260ECC23275DEAD44AF103356E | B85: 섬유판 | C85: 중밀도판 / 박리강도 | D85: 회 | E85: =일위대가!F472 -> 0 | F85: =일위대가!H472 -> 0 | G85: =일위대가!J472 -> 16589 | H85: =E85+F85+G85 -> 16589 | I85: 호표 82 | M85: 국토~부 고시 별표 4
A86: 5B9B260ECC23275DEAD44AF1033299 | B86: 섬유판 | C86: 중밀도판 / 나사못 유지력 | D86: 회 | E86: =일위대가!F479 -> 0 | F86: =일위대가!H479 -> 0 | G86: =일위대가!J479 -> 20146 | H86: =E86+F86+G86 -> 20146 | I86: 호표 83 | M86: 국토~부 고시 별표 4
A87: 5B9B260ECC23275DEAD44AF10333A0 | B87: 섬유판 | C87: 중밀도판 / 폼알데하이드 방산량 | D87: 회 | E87: =일위대가!F487 -> 0 | F87: =일위대가!H487 -> 0 | G87: =일위대가!J487 -> 75847 | H87: =E87+F87+G87 -> 75847 | I87: 호표 84 | M87: 국토~부 고시 별표 4
A88: 5B9B260ECC23275DEAD44AF10330EC | B88: 섬유판 | C88: 중밀도판 / 난연성 | D88: 회 | E88: =일위대가!F494 -> 0 | F88: =일위대가!H494 -> 0 | G88: =일위대가!J494 -> 165930 | H88: =E88+F88+G88 -> 165930 | I88: 호표 85 | M88: 국토~부 고시 별표 4
A89: 5B9B260ECC23275DEAD465D1FECE18 | B89: 석고보드 | C89: 석고보드 / 겉모양, 치수 | D89: 회 | E89: =일위대가!F499 -> 0 | F89: =일위대가!H499 -> 0 | G89: =일위대가!J499 -> 1863 | H89: =E89+F89+G89 -> 1863 | I89: 호표 86 | M89: 국토~부 고시 별표 4
A90: 5B9B260ECC23275DEAD465D1FECD71 | B90: 석고보드 | C90: 석고보드 / 함수율 | D90: 회 | E90: =일위대가!F506 -> 0 | F90: =일위대가!H506 -> 0 | G90: =일위대가!J506 -> 3939 | H90: =E90+F90+G90 -> 3939 | I90: 호표 87 | M90: 국토~부 고시 별표 4
A91: 5B9B260ECC23275DEAD465D1FECC6B | B91: 석고보드 | C91: 석고보드 / 휨파괴하중 | D91: 회 | E91: =일위대가!F513 -> 0 | F91: =일위대가!H513 -> 0 | G91: =일위대가!J513 -> 9779 | H91: =E91+F91+G91 -> 9779 | I91: 호표 88 | M91: 국토~부 고시 별표 4
A92: 5B9B260ECC23275DEAD465D1FECB44 | B92: 석고보드 | C92: 석고보드 / 연소성능 | D92: 회 | E92: =일위대가!F522 -> 0 | F92: =일위대가!H522 -> 0 | G92: =일위대가!J522 -> 487029 | H92: =E92+F92+G92 -> 487029 | I92: 호표 89 | M92: 국토~부 고시 별표 4
A93: 5B9B260ECC23275DEAD465D1FECABD | B93: 석고보드 | C93: 석고보드 / 단열성 | D93: 회 | E93: =일위대가!F528 -> 0 | F93: =일위대가!H528 -> 0 | G93: =일위대가!J528 -> 13671 | H93: =E93+F93+G93 -> 13671 | I93: 호표 90 | M93: 국토~부 고시 별표 4
A94: 5B9B260ECC23275DEAD465D1FEC996 | B94: 석고보드 | C94: 석고보드 / 실내공기오염물질 방출량 | D94: 회 | E94: =일위대가!F537 -> 0 | F94: =일위대가!H537 -> 0 | G94: =일위대가!J537 -> 254835 | H94: =E94+F94+G94 -> 254835 | I94: 호표 91 | M94: 국토~부 고시 별표 4
A95: 5B9B260ECC23275DEBF48E510D5E57 | B95: PVC계 바닥재 | C95: 바닥타일 / 겉모양 및 치수 | D95: 회 | E95: =일위대가!F545 -> 0 | F95: =일위대가!H545 -> 0 | G95: =일위대가!J545 -> 6902 | H95: =E95+F95+G95 -> 6902 | I95: 호표 92 | M95: 국토~부 고시 별표 4
A96: 5B9B260ECC23275DEBF48E510D5DB0 | B96: PVC계 바닥재 | C96: 바닥타일 / 압입량 | D96: 회 | E96: =일위대가!F552 -> 0 | F96: =일위대가!H552 -> 0 | G96: =일위대가!J552 -> 7029 | H96: =E96+F96+G96 -> 7029 | I96: 호표 93 | M96: 국토~부 고시 별표 4
A97: 5B9B260ECC23275DEBF48E510D5CA9 | B97: PVC계 바닥재 | C97: 바닥타일 / 잔류압입률 | D97: 회 | E97: =일위대가!F559 -> 0 | F97: =일위대가!H559 -> 0 | G97: =일위대가!J559 -> 29203 | H97: =E97+F97+G97 -> 29203 | I97: 호표 94 | M97: 국토~부 고시 별표 4
A98: 5B9B260ECC23275DEBF48E510D5B82 | B98: PVC계 바닥재 | C98: 바닥타일 / 가열에 의한 길이 변화율 | D98: 회 | E98: =일위대가!F566 -> 0 | F98: =일위대가!H566 -> 0 | G98: =일위대가!J566 -> 84387 | H98: =E98+F98+G98 -> 84387 | I98: 호표 95 | M98: 국토~부 고시 별표 4
A99: 5B9B260ECC23275DEBF48E510D5AFC | B99: PVC계 바닥재 | C99: 바닥타일 / 흡수에 의한 길이 변화율 | D99: 회 | E99: =일위대가!F574 -> 0 | F99: =일위대가!H574 -> 0 | G99: =일위대가!J574 -> 102945 | H99: =E99+F99+G99 -> 102945 | I99: 호표 96 | M99: 국토~부 고시 별표 4
A100: 5B9B260ECC23275DEBF48E510D59D5 | B100: PVC계 바닥재 | C100: 바닥타일 / 가열감량률 | D100: 회 | E100: =일위대가!F581 -> 0 | F100: =일위대가!H581 -> 0 | G100: =일위대가!J581 -> 79830 | H100: =E100+F100+G100 -> 79830 | I100: 호표 97 | M100: 국토~부 고시 별표 4
...

Sheet 일위대가
A1: [ 천안고용복지플러스센터 통합네트워크 인테리어 공사 ]
A2: 품 명 | B2: 규 격 | C2: 단위 | D2: 수량 | E2: 재 료 비 | G2: 노 무 비 | I2: 경 비 | K2: 합 계 | M2: 비 고 | N2: 일위대가 | O2: 품목코드 | P2: 일위 | Q2: 단산 | R2: 자재 | S2: 손료적용 | T2: 손료저장 | U2: 적용율 | V2: JUK1 | W2: JUK2 | X2: JUK3 | Y2: JUK4 | Z2: JUK5 | AA2: JUK6 | AB2: JUK7 | AC2: JUK8 | AD2: JUK9 | AE2: JUK10 | AF2: JUK11 | AG2: JUK12 | AH2: JUK13 | AI2: JUK14 | AJ2: JUK15 | AK2: JUK16 | AL2: JUK17 | AM2: JUK18 | AN2: JUK19 | AO2: JUK20 | AP2: 할증적용 | AQ2: 할증저장 | AR2: 할증율 | AS2: HAL1 | AT2: HAL2 | AU2: HAL3 | AV2: 자재구분 | AW2: 일위대가+자재 | AX2: 장비일위 | AY2: 설정 | AZ2: 할증체크
E3: 단 가 | F3: 금 액 | G3: 단 가 | H3: 금 액 | I3: 단 가 | J3: 금 액 | K3: 단 가 | L3: 금 액
A4: 강관 조립말비계(이동식)설치 및 해체 높이 2m, 3개월 대 공통 2-7-4, 2-2-5 ( 호표 1 ) | N4: 5B9B260B79C3BB530A74EA71A798AE
A5: 비계안정장치 | B5: 비계안정장치, 비계기본틀, 기둥, 1.2*1.7m | C5: 개 | D5: 2 | E5: =단가대비표!O46 -> 27739 | F5: =TRUNC(E5*D5,1) -> 55478 | G5: =단가대비표!P46 -> 0 | H5: =TRUNC(G5*D5,1) -> 0 | I5: =단가대비표!V46 -> 0 | J5: =TRUNC(I5*D5,1) -> 0 | K5: =TRUNC(E5+G5+I5,1) -> 27739 | L5: =TRUNC(F5+H5+J5,1) -> 55478 | M5: 금액제외 | O5: 5CB1C6F2ECB30E54E2B41351DA0B27DF6268A8 | P5: F | Q5: F | R5: T | V5: 1 | AW5: 5B9B260B79C3BB530A74EA71A798AE5CB1C6F2ECB30E54E2B41351DA0B27DF6268A8 | AY5: -
A6: 비계안정장치 | B6: 비계안정장치, 가새, 1.2*1.9m | C6: 개 | D6: 2 | E6: =단가대비표!O47 -> 9246 | F6: =TRUNC(E6*D6,1) -> 18492 | G6: =단가대비표!P47 -> 0 | H6: =TRUNC(G6*D6,1) -> 0 | I6: =단가대비표!V47 -> 0 | J6: =TRUNC(I6*D6,1) -> 0 | K6: =TRUNC(E6+G6+I6,1) -> 9246 | L6: =TRUNC(F6+H6+J6,1) -> 18492 | M6: 금액제외 | O6: 5CB1C6F2ECB30E54E2B41351DA0B27DF6268A6 | P6: F | Q6: F | R6: T | V6: 1 | AW6: 5B9B260B79C3BB530A74EA71A798AE5CB1C6F2ECB30E54E2B41351DA0B27DF6268A6 | AY6: -
A7: 비계안정장치 | B7: 비계안정장치, 수평띠장, 1829mm | C7: 개 | D7: 4 | E7: =단가대비표!O48 -> 25000 | F7: =TRUNC(E7*D7,1) -> 100000 | G7: =단가대비표!P48 -> 0 | H7: =TRUNC(G7*D7,1) -> 0 | I7: =단가대비표!V48 -> 0 | J7: =TRUNC(I7*D7,1) -> 0 | K7: =TRUNC(E7+G7+I7,1) -> 25000 | L7: =TRUNC(F7+H7+J7,1) -> 100000 | M7: 금액제외 | O7: 5CB1C6F2ECB30E54E2B41351DA0B27DF62678A | P7: F | Q7: F | R7: T | V7: 1 | AW7: 5B9B260B79C3BB530A74EA71A798AE5CB1C6F2ECB30E54E2B41351DA0B27DF62678A | AY7: -
A8: 비계안정장치 | B8: 비계안정장치, 손잡이기둥 | C8: 개 | D8: 4 | E8: =단가대비표!O51 -> 25000 | F8: =TRUNC(E8*D8,1) -> 100000 | G8: =단가대비표!P51 -> 0 | H8: =TRUNC(G8*D8,1) -> 0 | I8: =단가대비표!V51 -> 0 | J8: =TRUNC(I8*D8,1) -> 0 | K8: =TRUNC(E8+G8+I8,1) -> 25000 | L8: =TRUNC(F8+H8+J8,1) -> 100000 | M8: 금액제외 | O8: 5CB1C6F2ECB30E54E2B41351DA0B27DF62678D | P8: F | Q8: F | R8: T | V8: 1 | AW8: 5B9B260B79C3BB530A74EA71A798AE5CB1C6F2ECB30E54E2B41351DA0B27DF62678D | AY8: -
A9: 비계안정장치 | B9: 비계안정장치, 손잡이, 1229mm | C9: 개 | D9: 2 | E9: =단가대비표!O49 -> 6000 | F9: =TRUNC(E9*D9,1) -> 12000 | G9: =단가대비표!P49 -> 0 | H9: =TRUNC(G9*D9,1) -> 0 | I9: =단가대비표!V49 -> 0 | J9: =TRUNC(I9*D9,1) -> 0 | K9: =TRUNC(E9+G9+I9,1) -> 6000 | L9: =TRUNC(F9+H9+J9,1) -> 12000 | M9: 금액제외 | O9: 5CB1C6F2ECB30E54E2B41351DA0B27DF62678B | P9: F | Q9: F | R9: T | V9: 1 | AW9: 5B9B260B79C3BB530A74EA71A798AE5CB1C6F2ECB30E54E2B41351DA0B27DF62678B | AY9: -
A10: 비계안정장치 | B10: 비계안정장치, 손잡이, 1829mm | C10: 개 | D10: 4 | E10: =단가대비표!O50 -> 8000 | F10: =TRUNC(E10*D10,1) -> 32000 | G10: =단가대비표!P50 -> 0 | H10: =TRUNC(G10*D10,1) -> 0 | I10: =단가대비표!V50 -> 0 | J10: =TRUNC(I10*D10,1) -> 0 | K10: =TRUNC(E10+G10+I10,1) -> 8000 | L10: =TRUNC(F10+H10+J10,1) -> 32000 | M10: 금액제외 | O10: 5CB1C6F2ECB30E54E2B41351DA0B27DF62678C | P10: F | Q10: F | R10: T | V10: 1 | AW10: 5B9B260B79C3BB530A74EA71A798AE5CB1C6F2ECB30E54E2B41351DA0B27DF62678C | AY10: -
A11: 강관손료 | B11: 주재료비의 7% | C11: 식 | D11: 1 | E11: =TRUNC(SUMIF(V5:V16, RIGHTB(O11, 1), F5:F16)*U11, 2) -> 22257.9 | F11: =TRUNC(E11*D11,1) -> 22257.9 | G11: 0 | H11: =TRUNC(G11*D11,1) -> 0 | I11: 0 | J11: =TRUNC(I11*D11,1) -> 0 | K11: =TRUNC(E11+G11+I11,1) -> 22257.9 | L11: =TRUNC(F11+H11+J11,1) -> 22257.9 | N11: 5B9B260B79C3BB530A74EA71A798AE | O11: 5A8F0611B5A30159BD84F31101FA001 | P11: F | Q11: F | R11: F | S11: 0 | T11: 0 | U11: 0.07 | AW11: 5B9B260B79C3BB530A74EA71A798AE5A8F0611B5A30159BD84F31101FA001
A12: 비계안정장치 | B12: 비계안정장치, 바퀴 | C12: 개 | D12: 4 | E12: =단가대비표!O52 -> 9500 | F12: =TRUNC(E12*D12,1) -> 38000 | G12: =단가대비표!P52 -> 0 | H12: =TRUNC(G12*D12,1) -> 0 | I12: =단가대비표!V52 -> 0 | J12: =TRUNC(I12*D12,1) -> 0 | K12: =TRUNC(E12+G12+I12,1) -> 9500 | L12: =TRUNC(F12+H12+J12,1) -> 38000 | M12: 금액제외 | O12: 5CB1C6F2ECB30E54E2B41351DA0B27DF62678E | P12: F | Q12: F | R12: T | W12: 2 | AW12: 5B9B260B79C3BB530A74EA71A798AE5CB1C6F2ECB30E54E2B41351DA0B27DF62678E | AY12: -
A13: 비계안정장치 | B13: 비계안정장치, 쟈키 | C13: 개 | D13: 4 | E13: =단가대비표!O53 -> 11000 | F13: =TRUNC(E13*D13,1) -> 44000 | G13: =단가대비표!P53 -> 0 | H13: =TRUNC(G13*D13,1) -> 0 | I13: =단가대비표!V53 -> 0 | J13: =TRUNC(I13*D13,1) -> 0 | K13: =TRUNC(E13+G13+I13,1) -> 11000 | L13: =TRUNC(F13+H13+J13,1) -> 44000 | M13: 금액제외 | O13: 5CB1C6F2ECB30E54E2B41351DA0B27DF62678F | P13: F | Q13: F | R13: T | W13: 2 | AW13: 5B9B260B79C3BB530A74EA71A798AE5CB1C6F2ECB30E54E2B41351DA0B27DF62678F | AY13: -
A14: 비계안정장치 | B14: 비계안정장치, 발판, 40*200*2000 | C14: 장 | D14: 7 | E14: =단가대비표!O54 -> 23000 | F14: =TRUNC(E14*D14,1) -> 161000 | G14: =단가대비표!P54 -> 0 | H14: =TRUNC(G14*D14,1) -> 0 | I14: =단가대비표!V54 -> 0 | J14: =TRUNC(I14*D14,1) -> 0 | K14: =TRUNC(E14+G14+I14,1) -> 23000 | L14: =TRUNC(F14+H14+J14,1) -> 161000 | M14: 금액제외 | O14: 5CB1C6F2ECB30E54E2B41351D85F77E554B140 | P14: F | Q14: F | R14: T | W14: 2 | AW14: 5B9B260B79C3BB530A74EA71A798AE5CB1C6F2ECB30E54E2B41351D85F77E554B140 | AY14: -
A15: 비계안전발판손료 | B15: 주재료비의 9% | C15: 식 | D15: 1 | E15: =TRUNC(SUMIF(W5:W16, RIGHTB(O15, 1), F5:F16)*U15, 2) -> 21870 | F15: =TRUNC(E15*D15,1) -> 21870 | G15: 0 | H15: =TRUNC(G15*D15,1) -> 0 | I15: 0 | J15: =TRUNC(I15*D15,1) -> 0 | K15: =TRUNC(E15+G15+I15,1) -> 21870 | L15: =TRUNC(F15+H15+J15,1) -> 21870 | N15: 5B9B260B79C3BB530A74EA71A798AE | O15: 5A8F0611B5A30159BD84F31101F9002 | P15: F | Q15: F | R15: F | S15: 0 | T15: 0 | U15: 0.09 | AW15: 5B9B260B79C3BB530A74EA71A798AE5A8F0611B5A30159BD84F31101F9002
A16: 강관 조립말비계(이동식)설치 및 해체 | B16: 높이 2m, 노무비 | C16: 대 | D16: 1 | E16: =일위대가목록!E110 -> 0 | F16: =TRUNC(E16*D16,1) -> 0 | G16: =일위대가목록!F110 -> 94574 | H16: =TRUNC(G16*D16,1) -> 94574 | I16: =일위대가목록!G110 -> 0 | J16: =TRUNC(I16*D16,1) -> 0 | K16: =TRUNC(E16+G16+I16,1) -> 94574 | L16: =TRUNC(F16+H16+J16,1) -> 94574 | M16: 호표 107 | N16: 5B9B260B79C3BB530A74EA71A798AE | O16: 5B9B260B79C3BB530A74EA6180F101 | P16: T | Q16: F | R16: F | AW16: 5B9B260B79C3BB530A74EA71A798AE5B9B260B79C3BB530A74EA6180F101
A17: [ 합 계 ] | F17: =TRUNC(SUMIF(N5:N16, N4, F5:F16),0) -> 44127 | H17: =TRUNC(SUMIF(N5:N16, N4, H5:H16),0) -> 94574 | J17: =TRUNC(SUMIF(N5:N16, N4, J5:J16),0) -> 0 | L17: =F17+H17+J17 -> 138701 | N17: TOTAL | O17: TOTAL
A19: 건축물 현장정리 전문, 개보수공사 M2 공통 2-9-2 ( 호표 2 ) | N19: 5B9B260ECFF33C55AF14E5D1E3604C
A20: 보통인부 | B20: 일반공사 직종 | C20: 인 | D20: 0.015 | E20: =단가대비표!O107 -> 0 | F20: =TRUNC(E20*D20,1) -> 0 | G20: =단가대비표!P107 -> 172068 | H20: =TRUNC(G20*D20,1) -> 2581 | I20: =단가대비표!V107 -> 0 | J20: =TRUNC(I20*D20,1) -> 0 | K20: =TRUNC(E20+G20+I20,1) -> 172068 | L20: =TRUNC(F20+H20+J20,1) -> 2581 | M20: 노임 1 | N20: 5B9B260ECFF33C55AF14E5D1E3604C | O20: 5B441693DEA3FD57C5A47EC150F36647914F2E | P20: F | Q20: F | R20: T | AW20: 5B9B260ECFF33C55AF14E5D1E3604C5B441693DEA3FD57C5A47EC150F36647914F2E
A21: [ 합 계 ] | F21: =TRUNC(SUMIF(N20:N20, N19, F20:F20),0) -> 0 | H21: =TRUNC(SUMIF(N20:N20, N19, H20:H20),0) -> 2581 | J21: =TRUNC(SUMIF(N20:N20, N19, J20:J20),0) -> 0 | L21: =F21+H21+J21 -> 2581 | N21: TOTAL | O21: TOTAL
A23: 준공청소 M2 공통 2-11-3 ( 호표 3 ) | N23: 5B9B260ECA735A56E4445C61ED349E
A24: 보통인부 | B24: 일반공사 직종 | C24: 인 | D24: 0.02 | E24: =단가대비표!O107 -> 0 | F24: =TRUNC(E24*D24,1) -> 0 | G24: =단가대비표!P107 -> 172068 | H24: =TRUNC(G24*D24,1) -> 3441.3 | I24: =단가대비표!V107 -> 0 | J24: =TRUNC(I24*D24,1) -> 0 | K24: =TRUNC(E24+G24+I24,1) -> 172068 | L24: =TRUNC(F24+H24+J24,1) -> 3441.3 | M24: 노임 1 | N24: 5B9B260ECA735A56E4445C61ED349E | O24: 5B441693DEA3FD57C5A47EC150F36647914F2E | P24: F | Q24: F | R24: T | AW24: 5B9B260ECA735A56E4445C61ED349E5B441693DEA3FD57C5A47EC150F36647914F2E
A25: [ 합 계 ] | F25: =TRUNC(SUMIF(N24:N24, N23, F24:F24),0) -> 0 | H25: =TRUNC(SUMIF(N24:N24, N23, H24:H24),0) -> 3441 | J25: =TRUNC(SUMIF(N24:N24, N23, J24:J24),0) -> 0 | L25: =F25+H25+J25 -> 3441 | N25: TOTAL | O25: TOTAL
A27: 유성페인트 [뿜칠 - 바탕처리포함] 철재면, 2회 M2 건축 11-2-5 ( 호표 4 ) | N27: 5B9BD67BA9B354599974FB617747C4
A28: 유성페인트 뿜칠 재료비(20년 품셈기준) | B28: 철재면, 2회, 2급 | C28: M2 | D28: 1 | E28: =일위대가목록!E111 -> 1141 | F28: =TRUNC(E28*D28,1) -> 1141 | G28: =일위대가목록!F111 -> 0 | H28: =TRUNC(G28*D28,1) -> 0 | I28: =일위대가목록!G111 -> 0 | J28: =TRUNC(I28*D28,1) -> 0 | K28: =TRUNC(E28+G28+I28,1) -> 1141 | L28: =TRUNC(F28+H28+J28,1) -> 1141 | M28: 호표 108 | N28: 5B9BD67BA9B354599974FB617747C4 | O28: 5B9BD67626937E51EDF4ACC11176B6 | P28: T | Q28: F | R28: F | AW28: 5B9BD67BA9B354599974FB617747C45B9BD67626937E51EDF4ACC11176B6
A29: 수성페인트 뿜칠 | B29: 2회 노무비 | C29: M2 | D29: 1 | E29: =일위대가목록!E112 -> 224 | F29: =TRUNC(E29*D29,1) -> 224 | G29: =일위대가목록!F112 -> 1867 | H29: =TRUNC(G29*D29,1) -> 1867 | I29: =일위대가목록!G112 -> 0 | J29: =TRUNC(I29*D29,1) -> 0 | K29: =TRUNC(E29+G29+I29,1) -> 2091 | L29: =TRUNC(F29+H29+J29,1) -> 2091 | M29: 호표 109 | N29: 5B9BD67BA9B354599974FB617747C4 | O29: 5B9BD677CF83885C5E3406E1517BA2 | P29: T | Q29: F | R29: F | AW29: 5B9BD67BA9B354599974FB617747C45B9BD677CF83885C5E3406E1517BA2
A30: 철재면 바탕만들기 | B30: 노무비 | C30: M2 | D30: 1 | E30: =일위대가목록!E113 -> 428 | F30: =TRUNC(E30*D30,1) -> 428 | G30: =일위대가목록!F113 -> 1750 | H30: =TRUNC(G30*D30,1) -> 1750 | I30: =일위대가목록!G113 -> 0 | J30: =TRUNC(I30*D30,1) -> 0 | K30: =TRUNC(E30+G30+I30,1) -> 2178 | L30: =TRUNC(F30+H30+J30,1) -> 2178 | M30: 호표 110 | N30: 5B9BD67BA9B354599974FB617747C4 | O30: 5B9BD667A3D3AD5F4FD4C06133934E | P30: T | Q30: F | R30: F | AW30: 5B9BD67BA9B354599974FB617747C45B9BD667A3D3AD5F4FD4C06133934E
A31: [ 합 계 ] | F31: =TRUNC(SUMIF(N28:N30, N27, F28:F30),0) -> 1793 | H31: =TRUNC(SUMIF(N28:N30, N27, H28:H30),0) -> 3617 | J31: =TRUNC(SUMIF(N28:N30, N27, J28:J30),0) -> 0 | L31: =F31+H31+J31 -> 5410 | N31: TOTAL | O31: TOTAL
A33: 타일접착붙임(포세린(포슬린):600*1200*10T) 벽,접착붙임(백색줄눈) M2 건축 3-2-2, -1-2 ( 호표 5 ) | N33: 5B9BE65AAEC3C05937B42A8128E7E7
A34: 타일 붙임 / 접착 붙이기 | B34: 벽, 타일 0.21∼0.40m2 이하, 28m2/일당 | C34: M2 | D34: 1 | E34: =일위대가목록!E115 -> 3983 | F34: =TRUNC(E34*D34,1) -> 3983 | G34: =일위대가목록!F115 -> 26851 | H34: =TRUNC(G34*D34,1) -> 26851 | I34: =일위대가목록!G115 -> 805 | J34: =TRUNC(I34*D34,1) -> 805 | K34: =TRUNC(E34+G34+I34,1) -> 31639 | L34: =TRUNC(F34+H34+J34,1) -> 31639 | M34: 호표 112 | N34: 5B9BE65AAEC3C05937B42A8128E7E7 | O34: 5B9BE65AAC1384572D243EF103F6E5 | P34: T | Q34: F | R34: F | AW34: 5B9BE65AAEC3C05937B42A8128E7E75B9BE65AAC1384572D243EF103F6E5
A35: 타일줄눈 설치 / 벽면 | B35: 타일규격 m2, 0.21 ~ 0.40 이하 | C35: M2 | D35: 1 | E35: =일위대가목록!E116 -> 0 | F35: =TRUNC(E35*D35,1) -> 0 | G35: =일위대가목록!F116 -> 3174 | H35: =TRUNC(G35*D35,1) -> 3174 | I35: =일위대가목록!G116 -> 0 | J35: =TRUNC(I35*D35,1) -> 0 | K35: =TRUNC(E35+G35+I35,1) -> 3174 | L35: =TRUNC(F35+H35+J35,1) -> 3174 | M35: 호표 113 | N35: 5B9BE65AAEC3C05937B42A8128E7E7 | O35: 5B9BE65AAC133C55D514F161DAEE96 | P35: T | Q35: F | R35: F | AW35: 5B9BE65AAEC3C05937B42A8128E7E75B9BE65AAC133C55D514F161DAEE96
A36: 타일시멘트 | B36: 타일시멘트, 줄눈용, 백색 | C36: kg | D36: 1.36 | E36: =단가대비표!O25 -> 228 | F36: =TRUNC(E36*D36,1) -> 310 | G36: =단가대비표!P25 -> 0 | H36: =TRUNC(G36*D36,1) -> 0 | I36: =단가대비표!V25 -> 0 | J36: =TRUNC(I36*D36,1) -> 0 | K36: =TRUNC(E36+G36+I36,1) -> 228 | L36: =TRUNC(F36+H36+J36,1) -> 310 | M36: 자재 21 | N36: 5B9BE65AAEC3C05937B42A8128E7E7 | O36: 5CB1C6F2E473A254AA24A3313225F328BD8C4A | P36: F | Q36: F | R36: T | AW36: 5B9BE65AAEC3C05937B42A8128E7E75CB1C6F2E473A254AA24A3313225F328BD8C4A
A37: [ 합 계 ] | F37: =TRUNC(SUMIF(N34:N36, N33, F34:F36),0) -> 4293 | H37: =TRUNC(SUMIF(N34:N36, N33, H34:H36),0) -> 30025 | J37: =TRUNC(SUMIF(N34:N36, N33, J34:J36),0) -> 805 | L37: =F37+H37+J37 -> 35123 | N37: TOTAL | O37: TOTAL
A39: 수밀코킹(실리콘) 삼각, 10mm, 창호주위 M 건축 6-6-1 ( 호표 6 ) | N39: 5B9BB621C603C155EBF4D5D11419C9
A40: 실링재 | B40: 실링재, 실리콘, 비초산, 유리용, 창호주위 | C40: L | D40: 0.06 | E40: =단가대비표!O84 -> 10371 | F40: =TRUNC(E40*D40,1) -> 622.2 | G40: =단가대비표!P84 -> 0 | H40: =TRUNC(G40*D40,1) -> 0 | I40: =단가대비표!V84 -> 0 | J40: =TRUNC(I40*D40,1) -> 0 | K40: =TRUNC(E40+G40+I40,1) -> 10371 | L40: =TRUNC(F40+H40+J40,1) -> 622.2 | M40: 자재 80 | N40: 5B9BB621C603C155EBF4D5D11419C9 | O40: 5CB1D6984903985CBA34B5F14FC16862CBA3A1 | P40: F | Q40: F | R40: T | AW40: 5B9BB621C603C155EBF4D5D11419C95CB1D6984903985CBA34B5F14FC16862CBA3A1
A41: 수밀코킹 | B41: 재료비 별도 | C41: M | D41: 1 | E41: =일위대가목록!E117 -> 0 | F41: =TRUNC(E41*D41,1) -> 0 | G41: =일위대가목록!F117 -> 5228 | H41: =TRUNC(G41*D41,1) -> 5228 | I41: =일위대가목록!G117 -> 0 | J41: =TRUNC(I41*D41,1) -> 0 | K41: =TRUNC(E41+G41+I41,1) -> 5228 | L41: =TRUNC(F41+H41+J41,1) -> 5228 | M41: 호표 114 | N41: 5B9BB621C603C155EBF4D5D11419C9 | O41: 5B9BB621C563865066949561460D1E | P41: T | Q41: F | R41: F | AW41: 5B9BB621C603C155EBF4D5D11419C95B9BB621C563865066949561460D1E
A42: [ 합 계 ] | F42: =TRUNC(SUMIF(N40:N41, N39, F40:F41),0) -> 622 | H42: =TRUNC(SUMIF(N40:N41, N39, H40:H41),0) -> 5228 | J42: =TRUNC(SUMIF(N40:N41, N39, J40:J41),0) -> 0 | L42: =F42+H42+J42 -> 5850 | N42: TOTAL | O42: TOTAL
A44: PVC마이너스몰딩 비드설치 SST'L H=31.5mm M ( 호표 7 ) | N44: 5B9B465D88E3505F7BD46951296802
A45: PVC마이너스몰딩 | B45: W12*H31.5, L2440 | C45: M | D45: 1.05 | E45: =단가대비표!O75 -> 901.63 | F45: =TRUNC(E45*D45,1) -> 946.7 | G45: =단가대비표!P75 -> 0 | H45: =TRUNC(G45*D45,1) -> 0 | I45: =단가대비표!V75 -> 0 | J45: =TRUNC(I45*D45,1) -> 0 | K45: =TRUNC(E45+G45+I45,1) -> 901.6 | L45: =TRUNC(F45+H45+J45,1) -> 946.7 | M45: 자재 71 | N45: 5B9B465D88E3505F7BD46951296802 | O45: 5CB1D6984903985E6E244CE1688542E05DCE76 | P45: F | Q45: F | R45: T | AW45: 5B9B465D88E3505F7BD469512968025CB1D6984903985E6E244CE1688542E05DCE76
A46: 코너비드 설치 | B46: 재료비 별도 | C46: M | D46: 1 | E46: =일위대가목록!E118 -> 0 | F46: =TRUNC(E46*D46,1) -> 0 | G46: =일위대가목록!F118 -> 6654 | H46: =TRUNC(G46*D46,1) -> 6654 | I46: =일위대가목록!G118 -> 0 | J46: =TRUNC(I46*D46,1) -> 0 | K46: =TRUNC(E46+G46+I46,1) -> 6654 | L46: =TRUNC(F46+H46+J46,1) -> 6654 | M46: 호표 115 | N46: 5B9B465D88E3505F7BD46951296802 | O46: 5B9B465D88E3505E54C4858120F73B | P46: T | Q46: F | R46: F | AW46: 5B9B465D88E3505F7BD469512968025B9B465D88E3505E54C4858120F73B
A47: [ 합 계 ] | F47: =TRUNC(SUMIF(N45:N46, N44, F45:F46),0) -> 946 | H47: =TRUNC(SUMIF(N45:N46, N44, H45:H46),0) -> 6654 | J47: =TRUNC(SUMIF(N45:N46, N44, J45:J46),0) -> 0 | L47: =F47+H47+J47 -> 7600 | N47: TOTAL | O47: TOTAL
A49: ST'L천정틀설치 ㅁ50*50*2.3 @900*900, 녹막이P M2 ( 호표 8 ) | N49: 5B9B96DEF8D33259A454244186DF70
A50: 일반구조용각형강관 | B50: 일반구조용각형강관, 각형강관, 50*50*2.3mm | C50: M | D50: 2.3333 | E50: =단가대비표!O88 -> 3780 | F50: =TRUNC(E50*D50,1) -> 8819.8 | G50: =단가대비표!P88 -> 0 | H50: =TRUNC(G50*D50,1) -> 0 | I50: =단가대비표!V88 -> 0 | J50: =TRUNC(I50*D50,1) -> 0 | K50: =TRUNC(E50+G50+I50,1) -> 3780 | L50: =TRUNC(F50+H50+J50,1) -> 8819.8 | M50: 자재 84 | N50: 5B9B96DEF8D33259A454244186DF70 | O50: 5CC236E4B8D3005009B482215C1AF5198DF52B | P50: F | Q50: F | R50: T | AW50: 5B9B96DEF8D33259A454244186DF705CC236E4B8D3005009B482215C1AF5198DF52B
A51: 세트앵커 | B51: 세트앵커, M12*L100mm | C51: 개 | D51: 1.2346 | E51: =단가대비표!O56 -> 390 | F51: =TRUNC(E51*D51,1) -> 481.4 | G51: =단가대비표!P56 -> 0 | H51: =TRUNC(G51*D51,1) -> 0 | I51: =단가대비표!V56 -> 0 | J51: =TRUNC(I51*D51,1) -> 0 | K51: =TRUNC(E51+G51+I51,1) -> 390 | L51: =TRUNC(F51+H51+J51,1) -> 481.4 | M51: 자재 52 | N51: 5B9B96DEF8D33259A454244186DF70 | O51: 5CB1D69B1B33BD54C964ECF1261F74CFD81AFE | P51: F | Q51: F | R51: T | AW51: 5B9B96DEF8D33259A454244186DF705CB1D69B1B33BD54C964ECF1261F74CFD81AFE
A52: 잡철물 제작 및 설치 | B52: 현장제작 설치, 일반철재 | C52: kg | D52: 7.4222 | E52: =일위대가목록!E119 -> 159 | F52: =TRUNC(E52*D52,1) -> 1180.1 | G52: =일위대가목록!F119 -> 5328 | H52: =TRUNC(G52*D52,1) -> 39545.4 | I52: =일위대가목록!G119 -> 266 | J52: =TRUNC(I52*D52,1) -> 1974.3 | K52: =TRUNC(E52+G52+I52,1) -> 5753 | L52: =TRUNC(F52+H52+J52,1) -> 42699.8 | M52: 호표 116 | N52: 5B9B96DEF8D33259A454244186DF70 | O52: 5B9B96D4F5A335541084A621BDC79B | P52: T | Q52: F | R52: F | AW52: 5B9B96DEF8D33259A454244186DF705B9B96D4F5A335541084A621BDC79B
A53: 녹막이페인트 붓칠[바탕처리포함] | B53: 철재면, 1회 1종 | C53: M2 | D53: 0.4444 | E53: =일위대가목록!E58 -> 1108 | F53: =TRUNC(E53*D53,1) -> 492.3 | G53: =일위대가목록!F58 -> 6211 | H53: =TRUNC(G53*D53,1) -> 2760.1 | I53: =일위대가목록!G58 -> 0 | J53: =TRUNC(I53*D53,1) -> 0 | K53: =TRUNC(E53+G53+I53,1) -> 7319 | L53: =TRUNC(F53+H53+J53,1) -> 3252.4 | M53: 호표 55 | N53: 5B9B96DEF8D33259A454244186DF70 | O53: 5B9BD67500931B561474F501650794 | P53: T | Q53: F | R53: F | AW53: 5B9B96DEF8D33259A454244186DF705B9BD67500931B561474F501650794
A54: [ 합 계 ] | F54: =TRUNC(SUMIF(N50:N53, N49, F50:F53),0) -> 10973 | H54: =TRUNC(SUMIF(N50:N53, N49, H50:H53),0) -> 42305 | J54: =TRUNC(SUMIF(N50:N53, N49, J50:J53),0) -> 1974 | L54: =F54+H54+J54 -> 55252 | N54: TOTAL | O54: TOTAL
A56: SST'L재료분리대(바닥/H.L) W40*H20*1.5t M ( 호표 9 ) | N56: 5B9BC60ACD23BF5CDA94395106FBE1
A57: 스테인리스헤어라인판(STS 304) (HL) | B57: 스테인리스헤어라인판, 1.5mm | C57: kg | D57: 1.3738 | E57: =단가대비표!O19 -> 4242 | F57: =TRUNC(E57*D57,1) -> 5827.6 | G57: =단가대비표!P19 -> 0 | H57: =TRUNC(G57*D57,1) -> 0 | I57: =단가대비표!V19 -> 0 | J57: =TRUNC(I57*D57,1) -> 0 | K57: =TRUNC(E57+G57+I57,1) -> 4242 | L57: =TRUNC(F57+H57+J57,1) -> 5827.6 | M57: 자재 15 | N57: 5B9BC60ACD23BF5CDA94395106FBE1 | O57: 5CB1C6F2E5030E5C025470E15B9926C6F89A2B | P57: F | Q57: F | R57: T | AW57: 5B9BC60ACD23BF5CDA94395106FBE15CB1C6F2E5030E5C025470E15B9926C6F89A2B
A58: 일반구조용압연강판 | B58: 일반구조용압연강판, 2.3mm | C58: kg | D58: 0.1765 | E58: =단가대비표!O17 -> 994 | F58: =TRUNC(E58*D58,1) -> 175.4 | G58: =단가대비표!P17 -> 0 | H58: =TRUNC(G58*D58,1) -> 0 | I58: =단가대비표!V17 -> 0 | J58: =TRUNC(I58*D58,1) -> 0 | K58: =TRUNC(E58+G58+I58,1) -> 994 | L58: =TRUNC(F58+H58+J58,1) -> 175.4 | M58: 자재 13 | N58: 5B9BC60ACD23BF5CDA94395106FBE1 | O58: 5CB1C6F2E5030E5C02546671D190666E1FB755 | P58: F | Q58: F | R58: T | AW58: 5B9BC60ACD23BF5CDA94395106FBE15CB1C6F2E5030E5C02546671D190666E1FB755
A59: 일반구조용압연강판 | B59: 일반구조용압연강판, 1.6mm | C59: kg | D59: 1.796 | E59: =단가대비표!O16 -> 867 | F59: =TRUNC(E59*D59,1) -> 1557.1 | G59: =단가대비표!P16 -> 0 | H59: =TRUNC(G59*D59,1) -> 0 | I59: =단가대비표!V16 -> 0 | J59: =TRUNC(I59*D59,1) -> 0 | K59: =TRUNC(E59+G59+I59,1) -> 867 | L59: =TRUNC(F59+H59+J59,1) -> 1557.1 | M59: 자재 12 | N59: 5B9BC60ACD23BF5CDA94395106FBE1 | O59: 5CB1C6F2E5030E5C02546671D190666E1FB752 | P59: F | Q59: F | R59: T | AW59: 5B9BC60ACD23BF5CDA94395106FBE15CB1C6F2E5030E5C02546671D190666E1FB752
A60: 잡철물 제작 및 설치 | B60: 현장제작 설치, 일반철재 | C60: kg | D60: 1.7932 | E60: =일위대가목록!E119 -> 159 | F60: =TRUNC(E60*D60,1) -> 285.1 | G60: =일위대가목록!F119 -> 5328 | H60: =TRUNC(G60*D60,1) -> 9554.1 | I60: =일위대가목록!G119 -> 266 | J60: =TRUNC(I60*D60,1) -> 476.9 | K60: =TRUNC(E60+G60+I60,1) -> 5753 | L60: =TRUNC(F60+H60+J60,1) -> 10316.1 | M60: 호표 116 | N60: 5B9BC60ACD23BF5CDA94395106FBE1 | O60: 5B9B96D4F5A335541084A621BDC79B | P60: T | Q60: F | R60: F | AW60: 5B9BC60ACD23BF5CDA94395106FBE15B9B96D4F5A335541084A621BDC79B
A61: 잡철물 제작 및 설치 | B61: 현장제작 설치, 경량철재 | C61: kg | D61: 1.2489 | E61: =일위대가목록!E122 -> 138 | F61: =TRUNC(E61*D61,1) -> 172.3 | G61: =일위대가목록!F122 -> 6925 | H61: =TRUNC(G61*D61,1) -> 8648.6 | I61: =일위대가목록!G122 -> 277 | J61: =TRUNC(I61*D61,1) -> 345.9 | K61: =TRUNC(E61+G61+I61,1) -> 7340 | L61: =TRUNC(F61+H61+J61,1) -> 9166.8 | M61: 호표 119 | N61: 5B9BC60ACD23BF5CDA94395106FBE1 | O61: 5B9B96D4F5A3355410848B41C1E648 | P61: T | Q61: F | R61: F | AW61: 5B9BC60ACD23BF5CDA94395106FBE15B9B96D4F5A3355410848B41C1E648
A62: [ 합 계 ] | F62: =TRUNC(SUMIF(N57:N61, N56, F57:F61),0) -> 8017 | H62: =TRUNC(SUMIF(N57:N61, N56, H57:H61),0) -> 18202 | J62: =TRUNC(SUMIF(N57:N61, N56, J57:J61),0) -> 822 | L62: =F62+H62+J62 -> 27041 | N62: TOTAL | O62: TOTAL
A64: AL몰딩 설치 W형, 15*15*15*15*1.0mm M 건축 8-1-5 ( 호표 10 ) | N64: 5B9BC604A65320586D648481E37384
A65: 경량철골천장틀 | B65: 경량철골천장틀, 몰딩(알루미늄), W형, 15*15*15*15*1.0mm | C65: M | D65: 1.1 | E65: =단가대비표!O35 -> 2480 | F65: =TRUNC(E65*D65,1) -> 2728 | G65: =단가대비표!P35 -> 0 | H65: =TRUNC(G65*D65,1) -> 0 | I65: =단가대비표!V35 -> 0 | J65: =TRUNC(I65*D65,1) -> 0 | K65: =TRUNC(E65+G65+I65,1) -> 2480 | L65: =TRUNC(F65+H65+J65,1) -> 2728 | M65: 자재 31 | N65: 5B9BC604A65320586D648481E37384 | O65: 5CB1C6F2E3535C5026741C31C3F2C8FE27E67D | P65: F | Q65: F | R65: T | V65: 1 | AW65: 5B9BC604A65320586D648481E373845CB1C6F2E3535C5026741C31C3F2C8FE27E67D
A66: 잡재료 | B66: 재료비의 5% | C66: 식 | D66: 1 | E66: =TRUNC(SUMIF(V65:V67, RIGHTB(O66, 1), F65:F67)*U66, 2) -> 136.4 | F66: =TRUNC(E66*D66,1) -> 136.4 | G66: 0 | H66: =TRUNC(G66*D66,1) -> 0 | I66: 0 | J66: =TRUNC(I66*D66,1) -> 0 | K66: =TRUNC(E66+G66+I66,1) -> 136.4 | L66: =TRUNC(F66+H66+J66,1) -> 136.4 | N66: 5B9BC604A65320586D648481E37384 | O66: 5A8F0611B5A30159BD84F31101FA001 | P66: F | Q66: F | R66: F | S66: 0 | T66: 0 | U66: 0.05 | AW66: 5B9BC604A65320586D648481E373845A8F0611B5A30159BD84F31101FA001
A67: 몰딩 설치 | C67: M | D67: 1 | E67: =일위대가목록!E123 -> 0 | F67: =TRUNC(E67*D67,1) -> 0 | G67: =일위대가목록!F123 -> 8990 | H67: =TRUNC(G67*D67,1) -> 8990 | I67: =일위대가목록!G123 -> 359 | J67: =TRUNC(I67*D67,1) -> 359 | K67: =TRUNC(E67+G67+I67,1) -> 9349 | L67: =TRUNC(F67+H67+J67,1) -> 9349 | M67: 호표 120 | N67: 5B9BC604A65320586D648481E37384 | O67: 5B9BC604A4A35B53B6D47DE17DBA9C | P67: T | Q67: F | R67: F | AW67: 5B9BC604A65320586D648481E373845B9BC604A4A35B53B6D47DE17DBA9C
A68: [ 합 계 ] | F68: =TRUNC(SUMIF(N65:N67, N64, F65:F67),0) -> 2864 | H68: =TRUNC(SUMIF(N65:N67, N64, H65:H67),0) -> 8990 | J68: =TRUNC(SUMIF(N65:N67, N64, J65:J67),0) -> 359 | L68: =F68+H68+J68 -> 12213 | N68: TOTAL | O68: TOTAL
A70: 콘크리트면 마무리 3.6m 이하, 내벽 M2 건축 9-2-1 ( 호표 11 ) | N70: 5B9B46565BC32554F214F4711CABEB
A71: 콘크리트면 정리 | B71: 3.6m 이하 | C71: M2 | D71: 1 | E71: =일위대가목록!E124 -> 10 | F71: =TRUNC(E71*D71,1) -> 10 | G71: =일위대가목록!F124 -> 2759 | H71: =TRUNC(G71*D71,1) -> 2759 | I71: =일위대가목록!G124 -> 82 | J71: =TRUNC(I71*D71,1) -> 82 | K71: =TRUNC(E71+G71+I71,1) -> 2851 | L71: =TRUNC(F71+H71+J71,1) -> 2851 | M71: 호표 121 | N71: 5B9B46565BC32554F214F4711CABEB | O71: 5B9B46565BC32554F214F47118CF74 | P71: T | Q71: F | R71: F | AW71: 5B9B46565BC32554F214F4711CABEB5B9B46565BC32554F214F47118CF74
A72: [ 합 계 ] | F72: =TRUNC(SUMIF(N71:N71, N70, F71:F71),0) -> 10 | H72: =TRUNC(SUMIF(N71:N71, N70, H71:H71),0) -> 2759 | J72: =TRUNC(SUMIF(N71:N71, N70, J71:J71),0) -> 82 | L72: =F72+H72+J72 -> 2851 | N72: TOTAL | O72: TOTAL
A74: 기존 바닥 면정리 M2 건축 9-1-4 ( 호표 12 ) | N74: 5B9B46565DF33253EA2493D11D1054
A75: 미장공 | B75: 일반공사 직종 | C75: 인 | D75: 0.0022 | E75: =단가대비표!O116 -> 0 | F75: =TRUNC(E75*D75,1) -> 0 | G75: =단가대비표!P116 -> 277276 | H75: =TRUNC(G75*D75,1) -> 610 | I75: =단가대비표!V116 -> 0 | J75: =TRUNC(I75*D75,1) -> 0 | K75: =TRUNC(E75+G75+I75,1) -> 277276 | L75: =TRUNC(F75+H75+J75,1) -> 610 | M75: 노임 10 | N75: 5B9B46565DF33253EA2493D11D1054 | O75: 5B441693DEA3FD57C5A47EC150F36647914D78 | P75: F | Q75: F | R75: T | V75: 1 | AW75: 5B9B46565DF33253EA2493D11D10545B441693DEA3FD57C5A47EC150F36647914D78
A76: 공구손료 | B76: 인력품의 9% | C76: 식 | D76: 1 | E76: 0 | F76: =TRUNC(E76*D76,1) -> 0 | G76: 0 | H76: =TRUNC(G76*D76,1) -> 0 | I76: =TRUNC(SUMIF(V75:V76, RIGHTB(O76, 1), H75:H76)*U76, 2) -> 54.9 | J76: =TRUNC(I76*D76,1) -> 54.9 | K76: =TRUNC(E76+G76+I76,1) -> 54.9 | L76: =TRUNC(F76+H76+J76,1) -> 54.9 | N76: 5B9B46565DF33253EA2493D11D1054 | O76: 5A8F0611B5A30159BD84F31101FA001 | P76: F | Q76: F | R76: F | S76: 1 | T76: 2 | U76: 0.09 | AW76: 5B9B46565DF33253EA2493D11D10545A8F0611B5A30159BD84F31101FA001
A77: [ 합 계 ] | F77: =TRUNC(SUMIF(N75:N76, N74, F75:F76),0) -> 0 | H77: =TRUNC(SUMIF(N75:N76, N74, H75:H76),0) -> 610 | J77: =TRUNC(SUMIF(N75:N76, N74, J75:J76),0) -> 54 | L77: =F77+H77+J77 -> 664 | N77: TOTAL | O77: TOTAL
A79: AD03 [ G.V ㅁ150*60*1.5T, 유성P ] 1.800 x 2.100 = 3.780 EA ( 호표 13 ) | N79: 5B9BF64394233B582D5445011D87DB
A80: 갈바강판 문틀설치 | B80: ㅁ150*60*1.5T, 유성P | C80: M | D80: 6 | E80: =일위대가목록!E125 -> 8026 | F80: =TRUNC(E80*D80,1) -> 48156 | G80: =일위대가목록!F125 -> 9208 | H80: =TRUNC(G80*D80,1) -> 55248 | I80: =일위대가목록!G125 -> 287 | J80: =TRUNC(I80*D80,1) -> 1722 | K80: =TRUNC(E80+G80+I80,1) -> 17521 | L80: =TRUNC(F80+H80+J80,1) -> 105126 | M80: 호표 122 | N80: 5B9BF64394233B582D5445011D87DB | O80: 5B9BF641E643775051244A011D9FC2 | P80: T | Q80: F | R80: F | AW80: 5B9BF64394233B582D5445011D87DB5B9BF641E643775051244A011D9FC2
A81: [ 합 계 ] | F81: =TRUNC(SUMIF(N80:N80, N79, F80:F80),0) -> 48156 | H81: =TRUNC(SUMIF(N80:N80, N79, H80:H80),0) -> 55248 | J81: =TRUNC(SUMIF(N80:N80, N79, J80:J80),0) -> 1722 | L81: =F81+H81+J81 -> 105126 | N81: TOTAL | O81: TOTAL
A83: AFD02[폴딩도어] 5.400 x 2.400 = 12.960 EA ( 호표 14 ) | N83: 5B9BF64394233B582D5445011D87D9
A84: 폴딩도어 | B84: 12T, 강화유리 | C84: M2 | D84: 12.96 | E84: =단가대비표!O80 -> 420000 | F84: =TRUNC(E84*D84,1) -> 5443200 | G84: =단가대비표!P80 -> 0 | H84: =TRUNC(G84*D84,1) -> 0 | I84: =단가대비표!V80 -> 0 | J84: =TRUNC(I84*D84,1) -> 0 | K84: =TRUNC(E84+G84+I84,1) -> 420000 | L84: =TRUNC(F84+H84+J84,1) -> 5443200 | M84: 자재 76 | N84: 5B9BF64394233B582D5445011D87D9 | O84: 5CB1D6984903985E6E244CE1688542E31BF0E4 | P84: F | Q84: F | R84: T | AW84: 5B9BF64394233B582D5445011D87D95CB1D6984903985E6E244CE1688542E31BF0E4
A85: [ 합 계 ] | F85: =TRUNC(SUMIF(N84:N84, N83, F84:F84),0) -> 5443200 | H85: =TRUNC(SUMIF(N84:N84, N83, H84:H84),0) -> 0 | J85: =TRUNC(SUMIF(N84:N84, N83, J84:J84),0) -> 0 | L85: =F85+H85+J85 -> 5443200 | N85: TOTAL | O85: TOTAL
A87: WD01 0.900 x 2.400 = 2.160 EA ( 호표 15 ) | N87: 5B9BF64394233B582D5445011D87DF
A88: 각재 | B88: 각재, 라왕, 일반 | C88: 재 | D88: 10.2628 | E88: =단가대비표!O21 -> 5700 | F88: =TRUNC(E88*D88,1) -> 58497.9 | G88: =단가대비표!P21 -> 0 | H88: =TRUNC(G88*D88,1) -> 0 | I88: =단가대비표!V21 -> 0 | J88: =TRUNC(I88*D88,1) -> 0 | K88: =TRUNC(E88+G88+I88,1) -> 5700 | L88: =TRUNC(F88+H88+J88,1) -> 58497.9 | M88: 자재 17 | N88: 5B9BF64394233B582D5445011D87DF | O88: 5CB1C6F2E5031F5264742D41B661DBAFE84223 | P88: F | Q88: F | R88: T | AW88: 5B9BF64394233B582D5445011D87DF5CB1C6F2E5031F5264742D41B661DBAFE84223
A89: 보통합판 | B89: 보통합판, 1급, 4.8*1220*2440mm | C89: 매 | D89: 2 | E89: =단가대비표!O6 -> 13900 | F89: =TRUNC(E89*D89,1) -> 27800 | G89: =단가대비표!P6 -> 0 | H89: =TRUNC(G89*D89,1) -> 0 | I89: =단가대비표!V6 -> 0 | J89: =TRUNC(I89*D89,1) -> 0 | K89: =TRUNC(E89+G89+I89,1) -> 13900 | L89: =TRUNC(F89+H89+J89,1) -> 27800 | M89: 자재 2 | N89: 5B9BF64394233B582D5445011D87DF | O89: 5C96E616FCA3A7539064F2415FD549B757A637 | P89: F | Q89: F | R89: T | AW89: 5B9BF64394233B582D5445011D87DF5C96E616FCA3A7539064F2415FD549B757A637
A90: 일반못 | B90: 일반못, 50mm | C90: kg | D90: 0.1728 | E90: =단가대비표!O55 -> 1387 | F90: =TRUNC(E90*D90,1) -> 239.6 | G90: =단가대비표!P55 -> 0 | H90: =TRUNC(G90*D90,1) -> 0 | I90: =단가대비표!V55 -> 0 | J90: =TRUNC(I90*D90,1) -> 0 | K90: =TRUNC(E90+G90+I90,1) -> 1387 | L90: =TRUNC(F90+H90+J90,1) -> 239.6 | M90: 자재 51 | N90: 5B9BF64394233B582D5445011D87DF | O90: 5CB1D69B1B33BD55EF64C211123B5D15E29D70 | P90: F | Q90: F | R90: T | AW90: 5B9BF64394233B582D5445011D87DF5CB1D69B1B33BD55EF64C211123B5D15E29D70
A91: 목재창호 설치 / 여닫이 | B91: 창호면적 m2, 1.0 ~ 3.0 이하 | C91: 개소 | D91: 1 | E91: =일위대가목록!E130 -> 0 | F91: =TRUNC(E91*D91,1) -> 0 | G91: =일위대가목록!F130 -> 88382 | H91: =TRUNC(G91*D91,1) -> 88382 | I91: =일위대가목록!G130 -> 2651 | J91: =TRUNC(I91*D91,1) -> 2651 | K91: =TRUNC(E91+G91+I91,1) -> 91033 | L91: =TRUNC(F91+H91+J91,1) -> 91033 | M91: 호표 127 | N91: 5B9BF64394233B582D5445011D87DF | O91: 5B9BF64397F36C5F05A4F2010E5BCD | P91: T | Q91: F | R91: F | AW91: 5B9BF64394233B582D5445011D87DF5B9BF64397F36C5F05A4F2010E5BCD
A92: 도어록 설치 / 일반도어록 목재창호 | B92: 재료비 별도 | C92: 개소 | D92: 1 | E92: =일위대가목록!E131 -> 0 | F92: =TRUNC(E92*D92,1) -> 0 | G92: =일위대가목록!F131 -> 7662 | H92: =TRUNC(G92*D92,1) -> 7662 | I92: =일위대가목록!G131 -> 306 | J92: =TRUNC(I92*D92,1) -> 306 | K92: =TRUNC(E92+G92+I92,1) -> 7968 | L92: =TRUNC(F92+H92+J92,1) -> 7968 | M92: 호표 128 | N92: 5B9BF64394233B582D5445011D87DF | O92: 5B9BF644BA23505855D433E13A6A83 | P92: T | Q92: F | R92: F | AW92: 5B9BF64394233B582D5445011D87DF5B9BF644BA23505855D433E13A6A83
A93: [ 합 계 ] | F93: =TRUNC(SUMIF(N88:N92, N87, F88:F92),0) -> 86537 | H93: =TRUNC(SUMIF(N88:N92, N87, H88:H92),0) -> 96044 | J93: =TRUNC(SUMIF(N88:N92, N87, J88:J92),0) -> 2957 | L93: =F93+H93+J93 -> 185538 | N93: TOTAL | O93: TOTAL
A95: 플로어힌지 설치 재료비 별도 개소 건축 10-2-2 ( 호표 16 ) | N95: 5B9BF644B913E157A4A49031AB303F
A96: 창호공 | B96: 일반공사 직종 | C96: 인 | D96: 0.096 | E96: =단가대비표!O114 -> 0 | F96: =TRUNC(E96*D96,1) -> 0 | G96: =단가대비표!P114 -> 247188 | H96: =TRUNC(G96*D96,1) -> 23730 | I96: =단가대비표!V114 -> 0 | J96: =TRUNC(I96*D96,1) -> 0 | K96: =TRUNC(E96+G96+I96,1) -> 247188 | L96: =TRUNC(F96+H96+J96,1) -> 23730 | M96: 노임 8 | N96: 5B9BF644B913E157A4A49031AB303F | O96: 5B441693DEA3FD57C5A47EC150F36647914D7B | P96: F | Q96: F | R96: T | V96: 1 | AW96: 5B9BF644B913E157A4A49031AB303F5B441693DEA3FD57C5A47EC150F36647914D7B
A97: 보통인부 | B97: 일반공사 직종 | C97: 인 | D97: 0.048 | E97: =단가대비표!O107 -> 0 | F97: =TRUNC(E97*D97,1) -> 0 | G97: =단가대비표!P107 -> 172068 | H97: =TRUNC(G97*D97,1) -> 8259.2 | I97: =단가대비표!V107 -> 0 | J97: =TRUNC(I97*D97,1) -> 0 | K97: =TRUNC(E97+G97+I97,1) -> 172068 | L97: =TRUNC(F97+H97+J97,1) -> 8259.2 | M97: 노임 1 | N97: 5B9BF644B913E157A4A49031AB303F | O97: 5B441693DEA3FD57C5A47EC150F36647914F2E | P97: F | Q97: F | R97: T | V97: 1 | AW97: 5B9BF644B913E157A4A49031AB303F5B441693DEA3FD57C5A47EC150F36647914F2E
A98: 공구손료 | B98: 인력품의 2% | C98: 식 | D98: 1 | E98: 0 | F98: =TRUNC(E98*D98,1) -> 0 | G98: 0 | H98: =TRUNC(G98*D98,1) -> 0 | I98: =TRUNC(SUMIF(V96:V98, RIGHTB(O98, 1), H96:H98)*U98, 2) -> 639.78 | J98: =TRUNC(I98*D98,1) -> 639.7 | K98: =TRUNC(E98+G98+I98,1) -> 639.7 | L98: =TRUNC(F98+H98+J98,1) -> 639.7 | N98: 5B9BF644B913E157A4A49031AB303F | O98: 5A8F0611B5A30159BD84F31101FA001 | P98: F | Q98: F | R98: F | S98: 1 | T98: 2 | U98: 0.02 | AW98: 5B9BF644B913E157A4A49031AB303F5A8F0611B5A30159BD84F31101FA001
A99: [ 합 계 ] | F99: =TRUNC(SUMIF(N96:N98, N95, F96:F98),0) -> 0 | H99: =TRUNC(SUMIF(N96:N98, N95, H96:H98),0) -> 31989 | J99: =TRUNC(SUMIF(N96:N98, N95, J96:J98),0) -> 639 | L99: =F99+H99+J99 -> 32628 | N99: TOTAL | O99: TOTAL
A101: 창호주위 발포우레탄 충전 창호주위 M 건축 9-3-2 ( 호표 17 ) | N101: 5B9BF644BFA38258EAB44221357137
A102: 우레탄폼주입 | B102: 주입발포공법 | C102: M3 | D102: 0.0045 | E102: =단가대비표!O27 -> 330000 | F102: =TRUNC(E102*D102,1) -> 1485 | G102: =단가대비표!P27 -> 0 | H102: =TRUNC(G102*D102,1) -> 0 | I102: =단가대비표!V27 -> 0 | J102: =TRUNC(I102*D102,1) -> 0 | K102: =TRUNC(E102+G102+I102,1) -> 330000 | L102: =TRUNC(F102+H102+J102,1) -> 1485 | M102: 자재 23 | N102: 5B9BF644BFA38258EAB44221357137 | O102: 5CB1C6F2E1A3645691E47161DF9F6C9342B74B | P102: F | Q102: F | R102: T | AW102: 5B9BF644BFA38258EAB442213571375CB1C6F2E1A3645691E47161DF9F6C9342B74B
A103: [ 합 계 ] | F103: =TRUNC(SUMIF(N102:N102, N101, F102:F102),0) -> 1485 | H103: =TRUNC(SUMIF(N102:N102, N101, H102:H102),0) -> 0 | J103: =TRUNC(SUMIF(N102:N102, N101, J102:J102),0) -> 0 | L103: =F103+H103+J103 -> 1485 | N103: TOTAL | O103: TOTAL
A105: 강화유리문 [투명] 유리문, 12*900*2100mm, 손보호 EA ( 호표 18 ) | N105: 5B9BF640C273185A67F45C316CA2EB
A106: 유리문 | B106: 유리문, 12*900*2100mm, 손보호, 투명, 강화유리문 | C106: 개 | D106: 1 | E106: =단가대비표!O39 -> 310000 | F106: =TRUNC(E106*D106,1) -> 310000 | G106: =단가대비표!P39 -> 0 | H106: =TRUNC(G106*D106,1) -> 0 | I106: =단가대비표!V39 -> 0 | J106: =TRUNC(I106*D106,1) -> 0 | K106: =TRUNC(E106+G106+I106,1) -> 310000 | L106: =TRUNC(F106+H106+J106,1) -> 310000 | M106: 자재 35 | N106: 5B9BF640C273185A67F45C316CA2EB | O106: 5CB1C6F2E243C252E1E4D6E12A168ECA1150DF | P106: F | Q106: F | R106: T | AW106: 5B9BF640C273185A67F45C316CA2EB5CB1C6F2E243C252E1E4D6E12A168ECA1150DF
A107: [ 합 계 ] | F107: =TRUNC(SUMIF(N106:N106, N105, F106:F106),0) -> 310000 | H107: =TRUNC(SUMIF(N106:N106, N105, H106:H106),0) -> 0 | J107: =TRUNC(SUMIF(N106:N106, N105, J106:J106),0) -> 0 | L107: =F107+H107+J107 -> 310000 | N107: TOTAL | O107: TOTAL
A109: 유리블럭 설치 M2 ( 호표 19 ) | N109: 5B9A16C7E4C3AC51BF94EE3179FBF2
A110: 유리블럭 | B110: 유리블록, 투명, 190*190*95mm | C110: 개 | D110: 29 | E110: =단가대비표!O89 -> 4600 | F110: =TRUNC(E110*D110,1) -> 133400 | G110: =단가대비표!P89 -> 0 | H110: =TRUNC(G110*D110,1) -> 0 | I110: =단가대비표!V89 -> 0 | J110: =TRUNC(I110*D110,1) -> 0 | K110: =TRUNC(E110+G110+I110,1) -> 4600 | L110: =TRUNC(F110+H110+J110,1) -> 133400 | M110: 자재 85 | N110: 5B9A16C7E4C3AC51BF94EE3179FBF2 | O110: 5CC2468DD6E3615D4BE487B12946B4302CA74C | P110: F | Q110: F | R110: T | AW110: 5B9A16C7E4C3AC51BF94EE3179FBF25CC2468DD6E3615D4BE487B12946B4302CA74C
A111: 유리공 | B111: 일반공사 직종 | C111: 인 | D111: 0.84 | E111: =단가대비표!O115 -> 0 | F111: =TRUNC(E111*D111,1) -> 0 | G111: =단가대비표!P115 -> 253539 | H111: =TRUNC(G111*D111,1) -> 212972.7 | I111: =단가대비표!V115 -> 0 | J111: =TRUNC(I111*D111,1) -> 0 | K111: =TRUNC(E111+G111+I111,1) -> 253539 | L111: =TRUNC(F111+H111+J111,1) -> 212972.7 | M111: 노임 9 | N111: 5B9A16C7E4C3AC51BF94EE3179FBF2 | O111: 5B441693DEA3FD57C5A47EC150F36647914D7A | P111: F | Q111: F | R111: T | AW111: 5B9A16C7E4C3AC51BF94EE3179FBF25B441693DEA3FD57C5A47EC150F36647914D7A
A112: [ 합 계 ] | F112: =TRUNC(SUMIF(N110:N111, N109, F110:F111),0) -> 133400 | H112: =TRUNC(SUMIF(N110:N111, N109, H110:H111),0) -> 212972 | J112: =TRUNC(SUMIF(N110:N111, N109, J110:J111),0) -> 0 | L112: =F112+H112+J112 -> 346372 | N112: TOTAL | O112: TOTAL
A114: 유성페인트 롤러칠[바탕처리포함] 철재면, 2회 1급 M2 건축 11-2-5 ( 호표 20 ) | N114: 5B9BD6762693535602340CC15A3588
A115: 유성페인트 롤러칠 | B115: 철재면 2회 노무비 | C115: M2 | D115: 1 | E115: =일위대가목록!E128 -> 129 | F115: =TRUNC(E115*D115,1) -> 129 | G115: =일위대가목록!F128 -> 6474 | H115: =TRUNC(G115*D115,1) -> 6474 | I115: =일위대가목록!G128 -> 0 | J115: =TRUNC(I115*D115,1) -> 0 | K115: =TRUNC(E115+G115+I115,1) -> 6603 | L115: =TRUNC(F115+H115+J115,1) -> 6603 | M115: 호표 125 | N115: 5B9BD6762693535602340CC15A3588 | O115: 5B9BD6762693535602344A712A84DC | P115: T | Q115: F | R115: F | AW115: 5B9BD6762693535602340CC15A35885B9BD6762693535602344A712A84DC
A116: 유성페인트 롤러칠 재료비(20년 품셈기준) | B116: 철재면, 2회, 1급 | C116: M2 | D116: 1 | E116: =일위대가목록!E129 -> 1034 | F116: =TRUNC(E116*D116,1) -> 1034 | G116: =일위대가목록!F129 -> 0 | H116: =TRUNC(G116*D116,1) -> 0 | I116: =일위대가목록!G129 -> 0 | J116: =TRUNC(I116*D116,1) -> 0 | K116: =TRUNC(E116+G116+I116,1) -> 1034 | L116: =TRUNC(F116+H116+J116,1) -> 1034 | M116: 호표 126 | N116: 5B9BD6762693535602340CC15A3588 | O116: 5B9BD6762693535602344A7128D934 | P116: T | Q116: F | R116: F | AW116: 5B9BD6762693535602340CC15A35885B9BD6762693535602344A7128D934
A117: 철재면 바탕만들기 | B117: 노무비 | C117: M2 | D117: 1 | E117: =일위대가목록!E113 -> 428 | F117: =TRUNC(E117*D117,1) -> 428 | G117: =일위대가목록!F113 -> 1750 | H117: =TRUNC(G117*D117,1) -> 1750 | I117: =일위대가목록!G113 -> 0 | J117: =TRUNC(I117*D117,1) -> 0 | K117: =TRUNC(E117+G117+I117,1) -> 2178 | L117: =TRUNC(F117+H117+J117,1) -> 2178 | M117: 호표 110 | N117: 5B9BD6762693535602340CC15A3588 | O117: 5B9BD667A3D3AD5F4FD4C06133934E | P117: T | Q117: F | R117: F | AW117: 5B9BD6762693535602340CC15A35885B9BD667A3D3AD5F4FD4C06133934E
A118: [ 합 계 ] | F118: =TRUNC(SUMIF(N115:N117, N114, F115:F117),0) -> 1591 | H118: =TRUNC(SUMIF(N115:N117, N114, H115:H117),0) -> 8224 | J118: =TRUNC(SUMIF(N115:N117, N114, J115:J117),0) -> 0 | L118: =F118+H118+J118 -> 9815 | N118: TOTAL | O118: TOTAL
A120: 바탕만들기+수성페인트 롤러칠 내부 2회, con'c·mortar면, 친환경, [진품] M2 건축 11-1-1,-2-2 ( 호표 21 ) | N120: 5B9BD677CF83885BB3E499F18FCF4E
...

Sheet 단가산출목록
B1: 단 가 산 출 목 록
B2: [ 천안고용복지플러스센터 통합네트워크 인테리어 공사 ]
A3: 코 드 | B3: 품 명 | C3: 규 격 | D3: 단위 | E3: 재 료 비 | F3: 노 무 비 | G3: 경 비 | H3: 합 계 | I3: 번 호 | J3: 비 고 | K3: START | L3: 품셈개요
A4: 5B9A7621F0F3595F64A41A8182385A | B4: 시멘트운반 | C4: L:20km, 덤프 8ton | D4: 포 | E4: =단가산출서!B73 -> 0 | F4: =단가산출서!C73 -> 0 | G4: =단가산출서!D73 -> 1740 | H4: =단가산출서!E73 -> 1740 | I4: 산근 1 | K4: 5B9A7621F0F3595F64A41A8182385A | L4: 공통 8-2-8
A5: 5BB8461DDC93965312A4B471B14C84 | B5: 인력소운반(인력,지게) | C5: 운반거리 L=20m | D5: TON | E5: =단가산출서!B97 -> 0 | F5: =단가산출서!C97 -> 0 | G5: =단가산출서!D97 -> 45269 | H5: =단가산출서!E97 -> 45269 | I5: 산근 2 | K5: 5BB8461DDC93965312A4B471B14C84 | L5: 공통 1-5-1.1.2.3

Sheet 단가산출서
A1: 단 가 산 출 서
A2: [ 천안고용복지플러스센터 통합네트워크 인테리어 공사 ]
A3: 산 출 내 역 | B3: 재 료 비 | C3: 노 무 비 | D3: 경 비 | E3: 합 계 | F3: 비 고 | G3: START | H3: 코드 | I3: 품명 | J3: 규격 | K3: 단위 | L3: 수량 | M3: 변수 | N3: 값 | O3: 소계 | P3: 소계 | Q3: 소계 | R3: 소계 | S3: 소계 | T3: 총계
A4: 시멘트운반 L:20km, 덤프 8ton 포 공통 8-2-8 ( 산근 1 ) | G4: 5B9A7621F0F3595F64A41A8182385A | I4: 시멘트운반 | J4: L:20km, 덤프 8ton | K4: 포
G5: 5B9A7621F0F3595F64A41A8182385A | H5: C | L5: 1
A6: 운반거리 L=20KM 덤프트럭(8톤), 포대당 | B6: 0 | C6: 0 | D6: 0 | E6: 0 | G6: 5B9A7621F0F3595F64A41A8182385A | H6: C! | I6: '운반거리 L=20KM 덤프트럭(8톤), 포대당'
B7: 0 | C7: 0 | D7: 0 | E7: 0 | G7: 5B9A7621F0F3595F64A41A8182385A | H7: C!
A8: 차량속도= 25/V1,25/V2,40KM/V3,40KM/V4,25KM/V5,25KM/V6 | B8: 0 | C8: 0 | D8: 0 | E8: 0 | G8: 5B9A7621F0F3595F64A41A8182385A | H8: C! | I8: '차량속도= 25/V1,25/V2,40KM/V3,40KM/V4,25KM/V5,25KM/V6 '
A9: 하치장○-----------------0------------0---------○20KM | B9: 0 | C9: 0 | D9: 0 | E9: 0 | G9: 5B9A7621F0F3595F64A41A8182385A | H9: C! | I9: '하치장○-----------------0------------0---------○20KM '
A10: 운반거리=하치장L1=0.0KM,시내L2=19.5KM,공사장L3=0.5KM | B10: 0 | C10: 0 | D10: 0 | E10: 0 | G10: 5B9A7621F0F3595F64A41A8182385A | H10: C! | I10: '운반거리=하치장L1=0.0KM,시내L2=19.5KM,공사장L3=0.5KM'
B11: 0 | C11: 0 | D11: 0 | E11: 0 | G11: 5B9A7621F0F3595F64A41A8182385A | H11: C!
A12: 인력운반 (품셈 1-5-1) 적재비(하치장 상차도 미계상,공장상차도 계상) | B12: 0 | C12: 0 | D12: 0 | E12: 0 | G12: 5B9A7621F0F3595F64A41A8182385A | H12: C! | I12: '인력운반 (품셈 1-5-1) 적재비(하치장 상차도 미계상,공장상차도 계상)'
A13: L 소운반거리(M) =20 | B13: 0 | C13: 0 | D13: 0 | E13: 0 | G13: 5B9A7621F0F3595F64A41A8182385A | H13: C! | I13: L '소운반거리(M)' =20
A14: A 1회 운반량(BG) =1 | B14: 0 | C14: 0 | D14: 0 | E14: 0 | G14: 5B9A7621F0F3595F64A41A8182385A | H14: C! | I14: A '1회 운반량(BG)' =1
A15: T 단위(KG) =8000 | B15: 0 | C15: 0 | D15: 0 | E15: 0 | G15: 5B9A7621F0F3595F64A41A8182385A | H15: C! | I15: T '단위(KG)' =8000
A16: RT 단위중량(KG) =40 | B16: 0 | C16: 0 | D16: 0 | E16: 0 | G16: 5B9A7621F0F3595F64A41A8182385A | H16: C! | I16: RT '단위중량(KG)' =40
A17: MV 운반인부의 속도2500M/HR =2500/60= 41.6667 | B17: 0 | C17: 0 | D17: 0 | E17: 0 | G17: 5B9A7621F0F3595F64A41A8182385A | H17: C! | I17: MV '운반인부의 속도2500M/HR' =2500/60=?
A18: T1 어깨메고부리기시간(MIN) =2.0 | B18: 0 | C18: 0 | D18: 0 | E18: 0 | G18: 5B9A7621F0F3595F64A41A8182385A | H18: C! | I18: T1 '어깨메고부리기시간(MIN)' =2.0
A19: QT 차량 1대당 적재용량(BG) =T/RT= 200 | B19: 0 | C19: 0 | D19: 0 | E19: 0 | G19: 5B9A7621F0F3595F64A41A8182385A | H19: C! | I19: QT '차량 1대당 적재용량(BG)' =T/RT=?
A20: N 차량 1대당 소요운반회수 =QT/A= 200 | B20: 0 | C20: 0 | D20: 0 | E20: 0 | G20: 5B9A7621F0F3595F64A41A8182385A | H20: C! | I20: N '차량 1대당 소요운반회수' =QT/A=?
A21: CMS 운반 1회당 소요시간(MIN) =L*2/MV+T1= 2.96 | B21: 0 | C21: 0 | D21: 0 | E21: 0 | G21: 5B9A7621F0F3595F64A41A8182385A | H21: C! | I21: CMS '운반 1회당 소요시간(MIN)' =L*2/MV+T1=?
A22: T1A 차량 1대당 적재소요시간(MIN) =CMS*N= 592 | B22: 0 | C22: 0 | D22: 0 | E22: 0 | G22: 5B9A7621F0F3595F64A41A8182385A | H22: C! | I22: T1A '차량 1대당 적재소요시간(MIN)' =CMS*N=?
A23: Q 단위당 소요인부(상,하차) =T1A/450*1/QT= 0.007 | B23: 0 | C23: 0 | D23: 0 | E23: 0 | G23: 5B9A7621F0F3595F64A41A8182385A | H23: C! | I23: Q '단위당 소요인부(상,하차)' =T1A/450*1/QT=?
B24: 0 | C24: 0 | D24: 0 | E24: 0 | G24: 5B9A7621F0F3595F64A41A8182385A | H24: C!
A25: 1.덤프트럭(8톤/HR) | B25: 0 | C25: 0 | D25: 0 | E25: 0 | G25: 5B9A7621F0F3595F64A41A8182385A | H25: C! | I25: '1.덤프트럭(8톤/HR)'
A26: T 적재용량(KG) =8000 | B26: 0 | C26: 0 | D26: 0 | E26: 0 | G26: 5B9A7621F0F3595F64A41A8182385A | H26: C! | I26: T '적재용량(KG)' =8000
A27: R1 단위중량(KG) =40 | B27: 0 | C27: 0 | D27: 0 | E27: 0 | G27: 5B9A7621F0F3595F64A41A8182385A | H27: C! | I27: r1 '단위중량(KG)' =40
A28: Q1 1회 적재량(BG) =T/R1= 200 | B28: 0 | C28: 0 | D28: 0 | E28: 0 | G28: 5B9A7621F0F3595F64A41A8182385A | H28: C! | I28: q1 '1회 적재량(BG)' =T/r1=?
A29: f 토량 환산계수 =1 | B29: 0 | C29: 0 | D29: 0 | E29: 0 | G29: 5B9A7621F0F3595F64A41A8182385A | H29: C! | I29: f '토량 환산계수' =1
A30: E 작업효율 =0.9 | B30: 0 | C30: 0 | D30: 0 | E30: 0 | G30: 5B9A7621F0F3595F64A41A8182385A | H30: C! | I30: E '작업효율' =0.9
B31: 0 | C31: 0 | D31: 0 | E31: 0 | G31: 5B9A7621F0F3595F64A41A8182385A | H31: C!
A32: L1 하치장내 운반거리(KM) =0.0 | B32: 0 | C32: 0 | D32: 0 | E32: 0 | G32: 5B9A7621F0F3595F64A41A8182385A | H32: C! | I32: L1 '하치장내 운반거리(KM)' =0.0
A33: L2 도로주행 운반거리(KM) =19.5 | B33: 0 | C33: 0 | D33: 0 | E33: 0 | G33: 5B9A7621F0F3595F64A41A8182385A | H33: C! | I33: L2 '도로주행 운반거리(KM)' =19.5
A34: L3 공사장내 운반거리(KM) =0.5 | B34: 0 | C34: 0 | D34: 0 | E34: 0 | G34: 5B9A7621F0F3595F64A41A8182385A | H34: C! | I34: L3 '공사장내 운반거리(KM)' =0.5
A35: V1 하치장내적재운반속도(KM/HR) =25 | B35: 0 | C35: 0 | D35: 0 | E35: 0 | G35: 5B9A7621F0F3595F64A41A8182385A | H35: C! | I35: V1 '하치장내적재운반속도(KM/HR)' =25
A36: V2 하치장내공차운반속도(KM/HR) =25 | B36: 0 | C36: 0 | D36: 0 | E36: 0 | G36: 5B9A7621F0F3595F64A41A8182385A | H36: C! | I36: V2 '하치장내공차운반속도(KM/HR)' =25
A37: V3 도로주행적재운반속도(KM/HR) =40 | B37: 0 | C37: 0 | D37: 0 | E37: 0 | G37: 5B9A7621F0F3595F64A41A8182385A | H37: C! | I37: V3 '도로주행적재운반속도(KM/HR)' =40
A38: V4 도로주행공차운반속도(KM/HR) =40 | B38: 0 | C38: 0 | D38: 0 | E38: 0 | G38: 5B9A7621F0F3595F64A41A8182385A | H38: C! | I38: V4 '도로주행공차운반속도(KM/HR)' =40
A39: V5 공사장내적재운반속도(KM/HR) =25 | B39: 0 | C39: 0 | D39: 0 | E39: 0 | G39: 5B9A7621F0F3595F64A41A8182385A | H39: C! | I39: V5 '공사장내적재운반속도(KM/HR)' =25
A40: V6 공사장내공차운반속도(KM/HR) =25 | B40: 0 | C40: 0 | D40: 0 | E40: 0 | G40: 5B9A7621F0F3595F64A41A8182385A | H40: C! | I40: V6 '공사장내공차운반속도(KM/HR)' =25
B41: 0 | C41: 0 | D41: 0 | E41: 0 | G41: 5B9A7621F0F3595F64A41A8182385A | H41: C!
A42: T1 적재시간(MIN) =CMS= 2.96 | B42: 0 | C42: 0 | D42: 0 | E42: 0 | G42: 5B9A7621F0F3595F64A41A8182385A | H42: C! | I42: t1 '적재시간(MIN)' =CMS=?
A43: T2 왕복시간(MIN) =((L1/V1)+(L1/V2)+(L2/V3)+(L2/V4)+(L3/V5)+(L3/V6))*60= 60.9 | B43: 0 | C43: 0 | D43: 0 | E43: 0 | G43: 5B9A7621F0F3595F64A41A8182385A | H43: C! | I43: t2 '왕복시간(MIN)' =((L1/V1)+(L1/V2)+(L2/V3)+(L2/V4)+(L3/V5)+(L3/V6))*60=?
A44: T3 적하시간(MIN) =CMS= 2.96 | B44: 0 | C44: 0 | D44: 0 | E44: 0 | G44: 5B9A7621F0F3595F64A41A8182385A | H44: C! | I44: t3 '적하시간(MIN)' =CMS=?
A45: T4 적재대기시간(MIN) =0.42 | B45: 0 | C45: 0 | D45: 0 | E45: 0 | G45: 5B9A7621F0F3595F64A41A8182385A | H45: C! | I45: t4 '적재대기시간(MIN)' =0.42
A46: T5 적재함덮개 및 해체시간(MIN) =3.77 | B46: 0 | C46: 0 | D46: 0 | E46: 0 | G46: 5B9A7621F0F3595F64A41A8182385A | H46: C! | I46: t5 '적재함덮개 및 해체시간(MIN)' =3.77
A47: T6 세륜시간 (MIN) =1.5 | B47: 0 | C47: 0 | D47: 0 | E47: 0 | G47: 5B9A7621F0F3595F64A41A8182385A | H47: C! | I47: t6 '세륜시간 (MIN)' =1.5
B48: 0 | C48: 0 | D48: 0 | E48: 0 | G48: 5B9A7621F0F3595F64A41A8182385A | H48: C!
A49: CM 1회 싸이클 시간(MIN) =T1+T2+T3+T4+T5+T6= 72.51 | B49: 0 | C49: 0 | D49: 0 | E49: 0 | G49: 5B9A7621F0F3595F64A41A8182385A | H49: C! | I49: Cm '1회 싸이클 시간(MIN)' =t1+t2+t3+t4+t5+t6=?
A50: Q 시간당 작업량(BG/HR) =60*Q1*F*E/CM= 148.945 | B50: 0 | C50: 0 | D50: 0 | E50: 0 | G50: 5B9A7621F0F3595F64A41A8182385A | H50: C! | I50: Q '시간당 작업량(BG/HR)' =60*q1*f*E/Cm=?
A51: Z 공제시간(HR) =(CM-(T1+T3))/CM= 0.9184 | B51: 0 | C51: 0 | D51: 0 | E51: 0 | G51: 5B9A7621F0F3595F64A41A8182385A | H51: C! | I51: Z '공제시간(HR)' =(Cm-(t1+t3))/Cm=?
A52: 재료비: 21265 / 148.945*Z = 131.1 | B52: 0 | C52: 0 | D52: 131.1 | E52: 131.1 | G52: 5B9A7621F0F3595F64A41A8182385A | H52: C! | I52: '재료비:' ~00000602008000000.M~ / {Q}*Z =?EQ+
A53: 노무비: 49778 / 148.945 = 334.2 | B53: 0 | C53: 0 | D53: 334.2 | E53: 334.2 | G53: 5B9A7621F0F3595F64A41A8182385A | H53: C! | I53: '노무비:' ~00000602008000000.L~ / {Q} =?EQ+
A54: 경 비: 10544 / 148.945 = 70.7 | B54: 0 | C54: 0 | D54: 70.7 | E54: 70.7 | G54: 5B9A7621F0F3595F64A41A8182385A | H54: C! | I54: '경 비:' ~00000602008000000.E~ / {Q} =?EQ+
A55: 소 계 | B55: 0 | C55: 0 | D55: 536 | E55: 536 | G55: 5B9A7621F0F3595F64A41A8182385A | H55: C! | I55: >'소 계'
B56: 0 | C56: 0 | D56: 0 | E56: 0 | G56: 5B9A7621F0F3595F64A41A8182385A | H56: C!
A57: 2.인력운반 (품셈 1-5-1) 적하비 | B57: 0 | C57: 0 | D57: 0 | E57: 0 | G57: 5B9A7621F0F3595F64A41A8182385A | H57: C! | I57: '2.인력운반 (품셈 1-5-1) 적하비'
A58: L 소운반거리(M) =20 | B58: 0 | C58: 0 | D58: 0 | E58: 0 | G58: 5B9A7621F0F3595F64A41A8182385A | H58: C! | I58: L '소운반거리(M)' =20
A59: A 1회 운반량(BG) =1 | B59: 0 | C59: 0 | D59: 0 | E59: 0 | G59: 5B9A7621F0F3595F64A41A8182385A | H59: C! | I59: A '1회 운반량(BG)' =1
A60: T 단위(KG) =8000 | B60: 0 | C60: 0 | D60: 0 | E60: 0 | G60: 5B9A7621F0F3595F64A41A8182385A | H60: C! | I60: T '단위(KG)' =8000
A61: RT 단위중량(KG) =40 | B61: 0 | C61: 0 | D61: 0 | E61: 0 | G61: 5B9A7621F0F3595F64A41A8182385A | H61: C! | I61: RT '단위중량(KG)' =40
A62: MV 운반인부의 속도2500M/HR =2500/60= 41.6667 | B62: 0 | C62: 0 | D62: 0 | E62: 0 | G62: 5B9A7621F0F3595F64A41A8182385A | H62: C! | I62: MV '운반인부의 속도2500M/HR' =2500/60=?
A63: T1 어깨메고부리기시간(MIN) =2.0 | B63: 0 | C63: 0 | D63: 0 | E63: 0 | G63: 5B9A7621F0F3595F64A41A8182385A | H63: C! | I63: T1 '어깨메고부리기시간(MIN)' =2.0
A64: QT 차량 1대당 적재용량(BG) =T/RT= 200 | B64: 0 | C64: 0 | D64: 0 | E64: 0 | G64: 5B9A7621F0F3595F64A41A8182385A | H64: C! | I64: QT '차량 1대당 적재용량(BG)' =T/RT=?
A65: N 차량 1대당 소요운반회수 =QT/A= 200 | B65: 0 | C65: 0 | D65: 0 | E65: 0 | G65: 5B9A7621F0F3595F64A41A8182385A | H65: C! | I65: N '차량 1대당 소요운반회수' =QT/A=?
A66: CMS 운반 1회당 소요시간(MIN) =L*2/MV+T1= 2.96 | B66: 0 | C66: 0 | D66: 0 | E66: 0 | G66: 5B9A7621F0F3595F64A41A8182385A | H66: C! | I66: CMS '운반 1회당 소요시간(MIN)' =L*2/MV+T1=?
A67: T1A 차량 1대당 적재소요시간(MIN) =CMS*N= 592 | B67: 0 | C67: 0 | D67: 0 | E67: 0 | G67: 5B9A7621F0F3595F64A41A8182385A | H67: C! | I67: T1A '차량 1대당 적재소요시간(MIN)' =CMS*N=?
A68: Q 단위당 소요인부(상,하차) =T1A/450*1/QT= 0.007 | B68: 0 | C68: 0 | D68: 0 | E68: 0 | G68: 5B9A7621F0F3595F64A41A8182385A | H68: C! | I68: Q '단위당 소요인부(상,하차)' =T1A/450*1/QT=?
B69: 0 | C69: 0 | D69: 0 | E69: 0 | G69: 5B9A7621F0F3595F64A41A8182385A | H69: C!
A70: 보통인부 | B70: 0 | C70: 0 | D70: 0 | E70: 0 | G70: 5B9A7621F0F3595F64A41A8182385A | H70: C! | I70: '보통인부'
A71: 노무비: 172068*Q = 1204.4 | B71: 0 | C71: 0 | D71: 1204.4 | E71: 1204.4 | G71: 5B9A7621F0F3595F64A41A8182385A | H71: C! | I71: '노무비:'~L001010101000002.L~*Q =?EQ+
A72: 소 계 | B72: 0 | C72: 0 | D72: 1204.4 | E72: 1204.4 | G72: 5B9A7621F0F3595F64A41A8182385A | H72: C! | I72: >'소 계'
A73: 총 계 | B73: 0 | C73: 0 | D73: 1740 | E73: 1740
A75: 인력소운반(인력,지게) 운반거리 L=20m TON 공통 1-5-1.1.2.3 ( 산근 2 ) | G75: 5BB8461DDC93965312A4B471B14C84 | I75: 인력소운반(인력,지게) | J75: 운반거리 L=20m | K75: TON
G76: 5BB8461DDC93965312A4B471B14C84 | H76: C | K76: M3 | L76: 1
A77: 표준품셈 1-22, 2, 3 적용 | B77: 0 | C77: 0 | D77: 0 | E77: 0 | G77: 5BB8461DDC93965312A4B471B14C84 | H77: C! | I77: '표준품셈 1-22, 2, 3 적용'
B78: 0 | C78: 0 | D78: 0 | E78: 0 | G78: 5BB8461DDC93965312A4B471B14C84 | H78: C!
A79: QT 1회운반량(TON/대) =0.025 | B79: 0 | C79: 0 | D79: 0 | E79: 0 | G79: 5BB8461DDC93965312A4B471B14C84 | H79: C! | I79: qt'1회운반량(TON/대)'=0.025
B80: 0 | C80: 0 | D80: 0 | E80: 0 | G80: 5BB8461DDC93965312A4B471B14C84 | H80: C!
A81: L 소운반거리(M) =20 | B81: 0 | C81: 0 | D81: 0 | E81: 0 | G81: 5BB8461DDC93965312A4B471B14C84 | H81: C! | I81: L '소운반거리(M)' =20
B82: 0 | C82: 0 | D82: 0 | E82: 0 | G82: 5BB8461DDC93965312A4B471B14C84 | H82: C!
A83: V 운반인부의 속도(보통:2500M/HR) =2500 | B83: 0 | C83: 0 | D83: 0 | E83: 0 | G83: 5BB8461DDC93965312A4B471B14C84 | H83: C! | I83: V '운반인부의 속도(보통:2500M/HR)' =2500
B84: 0 | C84: 0 | D84: 0 | E84: 0 | G84: 5BB8461DDC93965312A4B471B14C84 | H84: C!
A85: T1 적재적하시간(MIN) =2 | B85: 0 | C85: 0 | D85: 0 | E85: 0 | G85: 5BB8461DDC93965312A4B471B14C84 | H85: C! | I85: t1'적재적하시간(MIN)' =2
B86: 0 | C86: 0 | D86: 0 | E86: 0 | G86: 5BB8461DDC93965312A4B471B14C84 | H86: C!
A87: T 1일 실작업시간(480분-30분) = 480-30= 450 | B87: 0 | C87: 0 | D87: 0 | E87: 0 | G87: 5BB8461DDC93965312A4B471B14C84 | H87: C! | I87: T '1일 실작업시간(480분-30분)' = 480-30=?
B88: 0 | C88: 0 | D88: 0 | E88: 0 | G88: 5BB8461DDC93965312A4B471B14C84 | H88: C!
A89: N 1일운반횟수 =(V*T)/((120*L)+(V*T1))= 152.03 | B89: 0 | C89: 0 | D89: 0 | E89: 0 | G89: 5BB8461DDC93965312A4B471B14C84 | H89: C! | I89: N '1일운반횟수' =(V*T)/((120*L)+(V*t1))=?
B90: 0 | C90: 0 | D90: 0 | E90: 0 | G90: 5BB8461DDC93965312A4B471B14C84 | H90: C!
A91: Q 1일운반량(TON) =N*QT= 3.801 | B91: 0 | C91: 0 | D91: 0 | E91: 0 | G91: 5BB8461DDC93965312A4B471B14C84 | H91: C! | I91: Q '1일운반량(TON)' =N*qt=?
B92: 0 | C92: 0 | D92: 0 | E92: 0 | G92: 5BB8461DDC93965312A4B471B14C84 | H92: C!
A93: 보통인부 | B93: 0 | C93: 0 | D93: 0 | E93: 0 | G93: 5BB8461DDC93965312A4B471B14C84 | H93: C! | I93: '보통인부'
B94: 0 | C94: 0 | D94: 0 | E94: 0 | G94: 5BB8461DDC93965312A4B471B14C84 | H94: C!
A95: 노무비: 172068 /3.801 = 45269.1 | B95: 0 | C95: 0 | D95: 45269.1 | E95: 45269.1 | G95: 5BB8461DDC93965312A4B471B14C84 | H95: C! | I95: '노무비:'~L001010101000002.L~ /{Q} =?EQ+
A96: 소 계 | B96: 0 | C96: 0 | D96: 45269.1 | E96: 45269.1 | G96: 5BB8461DDC93965312A4B471B14C84 | H96: C! | I96: >'소 계'
A97: 총 계 | B97: 0 | C97: 0 | D97: 45269 | E97: 45269

Sheet 단가대비표
A1: 단 가 대 비 표
A2: [ 천안고용복지플러스센터 통합네트워크 인테리어 공사 ]
A3: 코 드 | B3: 품 명 | C3: 규격 | D3: 단위 | E3: 재 료 비 | P3: 노 무 비 | Q3: 경 비 | W3: 번 호 | X3: 비 고 | Y3: 품목구분 | Z3: 노임구분 | AA3: 소수점처리 | AB3: 자재구분
E4: 조달청가격 | F4: PAGE | G4: 거래가격 | H4: PAGE | I4: 유통물가 | J4: PAGE | K4: 물가자료 | L4: PAGE | M4: 조사가격 | N4: PAGE | O4: 적용단가 | Q4: 조달청가격 | R4: 거래가격 | S4: 유통물가 | T4: 물가자료 | U4: 조사가격 | V4: 적용단가
A5: 5C8486142D238951524464513AEDC2D9995307 | B5: 덤프트럭 | C5: 8ton | D5: 대 | E5: 0 | G5: 0 | I5: 0 | K5: 0 | M5: 0 | O5: 0 | P5: 0 | Q5: 0 | R5: 0 | S5: 0 | T5: 0 | U5: 37391 | V5: =SMALL(Q5:U5,COUNTIF(Q5:U5,0)+1) -> 37391 | W5: 자재 1 | X5: 천원
A6: 5C96E616FCA3A7539064F2415FD549B757A637 | B6: 보통합판 | C6: 보통합판, 1급, 4.8*1220*2440mm | D6: 매 | E6: 13900 | G6: 14700 | H6: 667 | I6: 13900 | J6: 407 | K6: 0 | M6: 0 | O6: =SMALL(E6:M6,COUNTIF(E6:M6,0)+1) -> 13900 | P6: 0 | Q6: 0 | R6: 0 | S6: 0 | T6: 0 | U6: 0 | V6: 0 | W6: 자재 2
A7: 5C96E616FCA3A7539064D7B1656F361BD4F1FC | B7: 중밀도섬유판 | C7: 중밀도섬유판, 9.0*1220*2440mm | D7: M2 | E7: 4232 | G7: 5811.6 | H7: 668 | I7: 4837.4 | J7: 409 | K7: 0 | M7: 0 | O7: =SMALL(E7:M7,COUNTIF(E7:M7,0)+1) -> 4232 | P7: 0 | Q7: 0 | R7: 0 | S7: 0 | T7: 0 | U7: 0 | V7: 0 | W7: 자재 3
A8: 5C96E616F723755422947E710F72F3CE6B807C | B8: 철강설 [철거] | C8: 철강설, 고철, 작업설부산물 | D8: kg | E8: 0 | G8: 435 | H8: 1472 | I8: 0 | K8: 0 | M8: 0 | O8: =SMALL(E8:M8,COUNTIF(E8:M8,0)+1) -> 435 | P8: 0 | Q8: 0 | R8: 0 | S8: 0 | T8: 0 | U8: 0 | V8: 0 | W8: 자재 4 | X8: 수집상차도
A9: 5C96E616F723755422947E710F72F3CE6B807F | B9: 철강설 [철거] | C9: 철강설, 스텐레스, 작업설부산물 | D9: kg | E9: 0 | G9: 1850 | H9: 1472 | I9: 0 | K9: 0 | M9: 0 | O9: =SMALL(E9:M9,COUNTIF(E9:M9,0)+1) -> 1850 | P9: 0 | Q9: 0 | R9: 0 | S9: 0 | T9: 0 | U9: 0 | V9: 0 | W9: 자재 5 | X9: 수집상차도
A10: 5C96E616F723755422947E710F72F3CE6B8079 | B10: 철강설 [철거] | C10: 철강설, 알루미늄, 작업설부산물 | D10: kg | E10: 0 | G10: 0 | I10: 4100 | J10: 1198 | K10: 0 | M10: 0 | O10: =SMALL(E10:M10,COUNTIF(E10:M10,0)+1) -> 4100 | P10: 0 | Q10: 0 | R10: 0 | S10: 0 | T10: 0 | U10: 0 | V10: 0 | W10: 자재 6 | X10: 수집상차도
A11: 5C96D6701C33AE5041245AA15D366D084E3007 | B11: 감수제 | C11: 감수제, 혼화제, 메도로스1000 | D11: g | E11: 4.5 | G11: 0 | I11: 0 | K11: 0 | M11: 0 | O11: =SMALL(E11:M11,COUNTIF(E11:M11,0)+1) -> 4.5 | P11: 0 | Q11: 0 | R11: 0 | S11: 0 | T11: 0 | U11: 0 | V11: 0 | W11: 자재 7
A12: 5C96A6BD7A03D95EDEE4C1D124F60F2B4E8B14 | B12: 경유 | C12: 경유, 저유황 | D12: L | E12: 1657 | G12: 0 | I12: 0 | K12: 0 | M12: 0 | O12: =SMALL(E12:M12,COUNTIF(E12:M12,0)+1) -> 1657 | P12: 0 | Q12: 0 | R12: 0 | S12: 0 | T12: 0 | U12: 0 | V12: 0 | W12: 자재 8
A13: 5C96A6BD7B132D5AE5A49E4174D43CF85939CA | B13: 액화천연가스 | C13: 액화천연가스, 건설용 | D13: M3 | E13: 0 | G13: 0 | I13: 0 | K13: 0 | M13: 942 | N13: 1607 | O13: =SMALL(E13:M13,COUNTIF(E13:M13,0)+1) -> 942 | P13: 0 | Q13: 0 | R13: 0 | S13: 0 | T13: 0 | U13: 0 | V13: 0 | W13: 자재 9
A14: 5CB1C6F2E5033A554B74D2713A06CE6B7EF8D1 | B14: METAL C-STUD | C14: 65*45*0.8T | D14: M | E14: 0 | G14: 0 | I14: 0 | K14: 3230 | L14: 543 | M14: 0 | O14: =SMALL(E14:M14,COUNTIF(E14:M14,0)+1) -> 3230 | P14: 0 | Q14: 0 | R14: 0 | S14: 0 | T14: 0 | U14: 0 | V14: 0 | W14: 자재 10
A15: 5CB1C6F2E5033A554B74D2713A06CE6B7EFA82 | B15: METAL C-RUNNER | C15: 67*45*0.8T | D15: M | E15: 0 | G15: 0 | I15: 0 | K15: 2680 | L15: 543 | M15: 0 | O15: =SMALL(E15:M15,COUNTIF(E15:M15,0)+1) -> 2680 | P15: 0 | Q15: 0 | R15: 0 | S15: 0 | T15: 0 | U15: 0 | V15: 0 | W15: 자재 11
A16: 5CB1C6F2E5030E5C02546671D190666E1FB752 | B16: 일반구조용압연강판 | C16: 일반구조용압연강판, 1.6mm | D16: kg | E16: 867 | G16: 1005.9 | H16: 62 | I16: 0 | K16: 0 | M16: 0 | O16: =SMALL(E16:M16,COUNTIF(E16:M16,0)+1) -> 867 | P16: 0 | Q16: 0 | R16: 0 | S16: 0 | T16: 0 | U16: 0 | V16: 0 | W16: 자재 12
A17: 5CB1C6F2E5030E5C02546671D190666E1FB755 | B17: 일반구조용압연강판 | C17: 일반구조용압연강판, 2.3mm | D17: kg | E17: 0 | G17: 994 | H17: 62 | I17: 0 | K17: 0 | M17: 0 | O17: =SMALL(E17:M17,COUNTIF(E17:M17,0)+1) -> 994 | P17: 0 | Q17: 0 | R17: 0 | S17: 0 | T17: 0 | U17: 0 | V17: 0 | W17: 자재 13
A18: 5CB1C6F2E5030E5C02546671D190666144C6FC | B18: 합금화용융아연도금강판 | C18: 합금화용융아연도금강판, 갈바륨, 1.50mm | D18: kg | E18: 0 | G18: 1272 | H18: 65 | I18: 0 | K18: 0 | M18: 0 | O18: =SMALL(E18:M18,COUNTIF(E18:M18,0)+1) -> 1272 | P18: 0 | Q18: 0 | R18: 0 | S18: 0 | T18: 0 | U18: 0 | V18: 0 | W18: 자재 14
A19: 5CB1C6F2E5030E5C025470E15B9926C6F89A2B | B19: 스테인리스헤어라인판(STS 304) (HL) | C19: 스테인리스헤어라인판, 1.5mm | D19: kg | E19: 0 | G19: 4600 | H19: 73 | I19: 4242 | J19: 36 | K19: 0 | M19: 0 | O19: =SMALL(E19:M19,COUNTIF(E19:M19,0)+1) -> 4242 | P19: 0 | Q19: 0 | R19: 0 | S19: 0 | T19: 0 | U19: 0 | V19: 0 | W19: 자재 15
A20: 5CB1C6F2E5031F5264742D41B661DBAFE845FD | B20: 각재 | C20: 각재, 미송 | D20: 재 | E20: 2358 | G20: 2700 | H20: 147 | I20: 2358 | J20: 73 | K20: 0 | M20: 0 | O20: =SMALL(E20:M20,COUNTIF(E20:M20,0)+1) -> 2358 | P20: 0 | Q20: 0 | R20: 0 | S20: 0 | T20: 0 | U20: 0 | V20: 0 | W20: 자재 16
A21: 5CB1C6F2E5031F5264742D41B661DBAFE84223 | B21: 각재 | C21: 각재, 라왕, 일반 | D21: 재 | E21: 5700 | G21: 6100 | H21: 147 | I21: 7245 | J21: 73 | K21: 0 | M21: 0 | O21: =SMALL(E21:M21,COUNTIF(E21:M21,0)+1) -> 5700 | P21: 0 | Q21: 0 | R21: 0 | S21: 0 | T21: 0 | U21: 0 | V21: 0 | W21: 자재 17
A22: 5CB1C6F2E473A254AA24A3313225F32EDB6E65 | B22: 시멘트 | C22: 시멘트(별도) | D22: kg | E22: 0 | G22: 0 | I22: 0 | K22: 0 | M22: 0 | O22: 0 | P22: 0 | Q22: 0 | R22: 0 | S22: 0 | T22: 0 | U22: 0 | V22: 0 | W22: 자재 18 | X22: 별도
A23: 5CB1C6F2E473A254AA24A3313225F32EDB6E66 | B23: 시멘트 | C23: 시멘트, 분공장도 | D23: 포 | E23: 0 | G23: 6181.81 | H23: 102 | I23: 6727.27 | J23: 62 | K23: 0 | M23: 0 | O23: =SMALL(E23:M23,COUNTIF(E23:M23,0)+1) -> 6181.81 | P23: 0 | Q23: 0 | R23: 0 | S23: 0 | T23: 0 | U23: 0 | V23: 0 | W23: 자재 19
A24: 5CB1C6F2E473A254AA24A3313225F328B2E71C | B24: 특수시멘트 | C24: 특수시멘트, 백색시멘트 | D24: kg | E24: 0 | G24: 375 | H24: 102 | I24: 456.81 | J24: 62 | K24: 0 | M24: 0 | O24: =SMALL(E24:M24,COUNTIF(E24:M24,0)+1) -> 375 | P24: 0 | Q24: 0 | R24: 0 | S24: 0 | T24: 0 | U24: 0 | V24: 0 | W24: 자재 20
A25: 5CB1C6F2E473A254AA24A3313225F328BD8C4A | B25: 타일시멘트 | C25: 타일시멘트, 줄눈용, 백색 | D25: kg | E25: 0 | G25: 292 | H25: 104 | I25: 228 | J25: 64 | K25: 0 | M25: 0 | O25: =SMALL(E25:M25,COUNTIF(E25:M25,0)+1) -> 228 | P25: 0 | Q25: 0 | R25: 0 | S25: 0 | T25: 0 | U25: 0 | V25: 0 | W25: 자재 21
A26: 5CB1C6F2E6239A529AA49E51750A5BDD8B27EB | B26: 포세린타일 | C26: 600*1200*10mm | D26: M2 | E26: 0 | G26: 65000 | H26: 565 | I26: 0 | K26: 0 | M26: 0 | O26: =SMALL(E26:M26,COUNTIF(E26:M26,0)+1) -> 65000 | P26: 0 | Q26: 0 | R26: 0 | S26: 0 | T26: 0 | U26: 0 | V26: 0 | W26: 자재 22
A27: 5CB1C6F2E1A3645691E47161DF9F6C9342B74B | B27: 우레탄폼주입 | C27: 주입발포공법 | D27: M3 | E27: 0 | G27: 0 | I27: 330000 | J27: 405 | K27: 330000 | L27: 690 | M27: 0 | O27: =SMALL(E27:M27,COUNTIF(E27:M27,0)+1) -> 330000 | P27: 0 | Q27: 0 | R27: 0 | S27: 0 | T27: 0 | U27: 0 | V27: 0 | W27: 자재 23 | X27: 시공도
A28: 5CB1C6F2E1A3645691E4C9417C0D4F788BE9DD | B28: 섬유단열재 | C28: 섬유단열재, 밀도24kg/㎥, 50mm, 유리면보드 | D28: M2 | E28: 0 | G28: 4280 | H28: 698 | I28: 4320 | J28: 391 | K28: 0 | M28: 0 | O28: =SMALL(E28:M28,COUNTIF(E28:M28,0)+1) -> 4280 | P28: 0 | Q28: 0 | R28: 0 | S28: 0 | T28: 0 | U28: 0 | V28: 0 | W28: 자재 24
A29: 5CB1C6F2E083165F4C54F471B6170632B9BBA5 | B29: 드라이비트(스터코마감,미장) | C29: 프라이머+마감재 | D29: M2 | E29: 0 | G29: 0 | I29: 0 | K29: 26693 | L29: 580 | M29: 0 | O29: =SMALL(E29:M29,COUNTIF(E29:M29,0)+1) -> 26693 | P29: 0 | Q29: 0 | R29: 0 | S29: 0 | T29: 0 | U29: 0 | V29: 0 | W29: 자재 25 | X29: 시공도
A30: 5CB1C6F2E3535C53FA9465814180061D9131F4 | B30: 인테리어필름 | C30: 0.42*1.22, 방염우드 | D30: M2 | E30: 0 | G30: 30000 | H30: 677 | I30: 0 | K30: 29500 | L30: 685 | M30: 0 | O30: =SMALL(E30:M30,COUNTIF(E30:M30,0)+1) -> 29500 | P30: 0 | Q30: 0 | R30: 0 | S30: 0 | T30: 0 | U30: 0 | V30: 0 | W30: 자재 26 | X30: 시공도
A31: 5CB1C6F2E3535C53FA9465814180061D9133A0 | B31: 에칭필름 | D31: M2 | E31: 0 | G31: 18000 | H31: 614 | I31: 0 | K31: 0 | M31: 0 | O31: =SMALL(E31:M31,COUNTIF(E31:M31,0)+1) -> 18000 | P31: 0 | Q31: 0 | R31: 0 | S31: 0 | T31: 0 | U31: 0 | V31: 0 | W31: 자재 27
A32: 5CB1C6F2E3535C53FA94A341387B64F518F7EB | B32: 석고보드 | C32: 석고보드, 평보드, 9.5*900*1800mm(㎡) | D32: M2 | E32: 2962 | G32: 2962.96 | H32: 671 | I32: 3177.77 | J32: 408 | K32: 0 | M32: 0 | O32: =SMALL(E32:M32,COUNTIF(E32:M32,0)+1) -> 2962 | P32: 0 | Q32: 0 | R32: 0 | S32: 0 | T32: 0 | U32: 0 | V32: 0 | W32: 자재 28
A33: 5CB1C6F2E3535C53FA94A3718C7FE9572C07D5 | B33: 아트보드 [RG-Art Fabrci (방염직물)] | C33: 1200*2400*9.0T | D33: M2 | E33: 0 | G33: 0 | I33: 0 | K33: 28000 | L33: 671 | M33: 0 | O33: =SMALL(E33:M33,COUNTIF(E33:M33,0)+1) -> 28000 | P33: 0 | Q33: 0 | R33: 0 | S33: 0 | T33: 0 | U33: 0 | V33: 0 | W33: 자재 29
A34: 5CB1C6F2E3535C50267476B1000DA022281AA3 | B34: 불연천장재 | C34: 불연천장재, 마이톤, M-Bar용, 15*300*600mm | D34: M2 | E34: 0 | G34: 18100 | H34: 675 | I34: 0 | K34: 0 | M34: 0 | O34: =SMALL(E34:M34,COUNTIF(E34:M34,0)+1) -> 18100 | P34: 0 | Q34: 0 | R34: 0 | S34: 0 | T34: 0 | U34: 0 | V34: 0 | W34: 자재 30
A35: 5CB1C6F2E3535C5026741C31C3F2C8FE27E67D | B35: 경량철골천장틀 | C35: 경량철골천장틀, 몰딩(알루미늄), W형, 15*15*15*15*1.0mm | D35: M | E35: 0 | G35: 2480 | H35: 673 | I35: 2480 | J35: 420 | K35: 0 | M35: 0 | O35: =SMALL(E35:M35,COUNTIF(E35:M35,0)+1) -> 2480 | P35: 0 | Q35: 0 | R35: 0 | S35: 0 | T35: 0 | U35: 0 | V35: 0 | W35: 자재 31
A36: 5CB1C6F2E3535C51CC949101B6619608643AE6 | B36: 타일카펫 | C36: 타일카펫, 500*500*6.0mm | D36: M2 | E36: 0 | G36: 0 | I36: 21300 | J36: 502 | K36: 21300 | L36: 620 | M36: 0 | O36: =SMALL(E36:M36,COUNTIF(E36:M36,0)+1) -> 21300 | P36: 0 | Q36: 0 | R36: 0 | S36: 0 | T36: 0 | U36: 0 | V36: 0 | W36: 자재 32
A37: 5CB1C6F2E3535C51CC94FB915933C4BF2DFB50 | B37: 비닐타일 | C37: 비닐타일, 3*450*450mm, 데코타일 | D37: M2 | E37: 0 | G37: 19000 | H37: 712 | I37: 0 | K37: 21500 | L37: 613 | M37: 0 | O37: =SMALL(E37:M37,COUNTIF(E37:M37,0)+1) -> 19000 | P37: 0 | Q37: 0 | R37: 0 | S37: 0 | T37: 0 | U37: 0 | V37: 0 | W37: 자재 33
A38: 5CB1C6F2E3535C51CC94FB915933C4BF2DFB57 | B38: 비닐타일 | C38: 비닐타일, 3*180*1200mm, 데코타일 | D38: M2 | E38: 0 | G38: 0 | I38: 0 | K38: 21500 | L38: 613 | M38: 0 | O38: =SMALL(E38:M38,COUNTIF(E38:M38,0)+1) -> 21500 | P38: 0 | Q38: 0 | R38: 0 | S38: 0 | T38: 0 | U38: 0 | V38: 0 | W38: 자재 34
A39: 5CB1C6F2E243C252E1E4D6E12A168ECA1150DF | B39: 유리문 | C39: 유리문, 12*900*2100mm, 손보호, 투명, 강화유리문 | D39: 개 | E39: 0 | G39: 0 | I39: 310000 | J39: 449 | K39: 0 | M39: 0 | O39: =SMALL(E39:M39,COUNTIF(E39:M39,0)+1) -> 310000 | P39: 0 | Q39: 0 | R39: 0 | S39: 0 | T39: 0 | U39: 0 | V39: 0 | W39: 자재 35 | X39: 시공도
A40: 5CB1C6F2E243C252E1E4D6E12A168ECA115C89 | B40: 가로BAR증감 | C40: [강화유리문] | D40: M | E40: 0 | G40: 0 | I40: 200 | J40: 449 | K40: 0 | M40: 0 | O40: =SMALL(E40:M40,COUNTIF(E40:M40,0)+1) -> 200 | P40: 0 | Q40: 0 | R40: 0 | S40: 0 | T40: 0 | U40: 0 | V40: 0 | W40: 자재 36
A41: 5CB1C6F2E243C252E1E4D6E12A168ECA115C8A | B41: 세로BAR증감 | C41: [강화유리문] | D41: M | E41: 0 | G41: 0 | I41: 100 | J41: 449 | K41: 0 | M41: 0 | O41: =SMALL(E41:M41,COUNTIF(E41:M41,0)+1) -> 100 | P41: 0 | Q41: 0 | R41: 0 | S41: 0 | T41: 0 | U41: 0 | V41: 0 | W41: 자재 37
A42: 5CB1C6F2E243C252E1E49F31C33C6192313722 | B42: 철재일반도아(방청1회), 문틀 포함 | C42: 150*45*1.6T, 1.8*2.1, 양개 | D42: M2 | E42: 135700 | G42: 0 | I42: 0 | K42: 0 | M42: 0 | O42: =SMALL(E42:M42,COUNTIF(E42:M42,0)+1) -> 135700 | P42: 0 | Q42: 0 | R42: 0 | S42: 0 | T42: 0 | U42: 0 | V42: 0 | W42: 자재 38
A43: 5CB1C6F2E243C252E0C41C216DED22D55A6E04 | B43: 도어클로저 | C43: 도어클로저, K-630, KS3호, 표준형, 40∼60kg | D43: 조 | E43: 45000 | G43: 45000 | H43: 656 | I43: 0 | K43: 0 | M43: 0 | O43: =SMALL(E43:M43,COUNTIF(E43:M43,0)+1) -> 45000 | P43: 0 | Q43: 0 | R43: 0 | S43: 0 | T43: 0 | U43: 0 | V43: 0 | W43: 자재 39
A44: 5CB1C6F2E243C25033B4741125D2A0965B4F8B | B44: 강화유리 | C44: 강화유리, 투명, 12mm | D44: M2 | E44: 39250 | G44: 44200 | H44: 662 | I44: 43200 | J44: 463 | K44: 0 | M44: 0 | O44: =SMALL(E44:M44,COUNTIF(E44:M44,0)+1) -> 39250 | P44: 0 | Q44: 0 | R44: 0 | S44: 0 | T44: 0 | U44: 0 | V44: 0 | W44: 자재 40
A45: 5CB1C6F2E243C2503AE473B171310070CAA374 | B45: 복층유리 | C45: 복층유리, 로이, 투명, 24mm [5CL+14Ar+5LE] | D45: M2 | E45: 0 | G45: 0 | I45: 63700 | J45: 461 | K45: 62600 | L45: 585 | M45: 0 | O45: =SMALL(E45:M45,COUNTIF(E45:M45,0)+1) -> 62600 | P45: 0 | Q45: 0 | R45: 0 | S45: 0 | T45: 0 | U45: 0 | V45: 0 | W45: 자재 41
A46: 5CB1C6F2ECB30E54E2B41351DA0B27DF6268A8 | B46: 비계안정장치 | C46: 비계안정장치, 비계기본틀, 기둥, 1.2*1.7m | D46: 개 | E46: 27739 | G46: 0 | I46: 0 | K46: 0 | M46: 0 | O46: =SMALL(E46:M46,COUNTIF(E46:M46,0)+1) -> 27739 | P46: 0 | Q46: 0 | R46: 0 | S46: 0 | T46: 0 | U46: 0 | V46: 0 | W46: 자재 42
A47: 5CB1C6F2ECB30E54E2B41351DA0B27DF6268A6 | B47: 비계안정장치 | C47: 비계안정장치, 가새, 1.2*1.9m | D47: 개 | E47: 9246 | G47: 10000 | H47: 166 | I47: 0 | K47: 0 | M47: 0 | O47: =SMALL(E47:M47,COUNTIF(E47:M47,0)+1) -> 9246 | P47: 0 | Q47: 0 | R47: 0 | S47: 0 | T47: 0 | U47: 0 | V47: 0 | W47: 자재 43
A48: 5CB1C6F2ECB30E54E2B41351DA0B27DF62678A | B48: 비계안정장치 | C48: 비계안정장치, 수평띠장, 1829mm | D48: 개 | E48: 0 | G48: 25000 | H48: 166 | I48: 0 | K48: 0 | M48: 0 | O48: =SMALL(E48:M48,COUNTIF(E48:M48,0)+1) -> 25000 | P48: 0 | Q48: 0 | R48: 0 | S48: 0 | T48: 0 | U48: 0 | V48: 0 | W48: 자재 44
A49: 5CB1C6F2ECB30E54E2B41351DA0B27DF62678B | B49: 비계안정장치 | C49: 비계안정장치, 손잡이, 1229mm | D49: 개 | E49: 0 | G49: 6000 | H49: 167 | I49: 0 | K49: 0 | M49: 0 | O49: =SMALL(E49:M49,COUNTIF(E49:M49,0)+1) -> 6000 | P49: 0 | Q49: 0 | R49: 0 | S49: 0 | T49: 0 | U49: 0 | V49: 0 | W49: 자재 45
A50: 5CB1C6F2ECB30E54E2B41351DA0B27DF62678C | B50: 비계안정장치 | C50: 비계안정장치, 손잡이, 1829mm | D50: 개 | E50: 0 | G50: 8000 | H50: 167 | I50: 0 | K50: 0 | M50: 0 | O50: =SMALL(E50:M50,COUNTIF(E50:M50,0)+1) -> 8000 | P50: 0 | Q50: 0 | R50: 0 | S50: 0 | T50: 0 | U50: 0 | V50: 0 | W50: 자재 46
A51: 5CB1C6F2ECB30E54E2B41351DA0B27DF62678D | B51: 비계안정장치 | C51: 비계안정장치, 손잡이기둥 | D51: 개 | E51: 0 | G51: 25000 | H51: 167 | I51: 0 | K51: 0 | M51: 0 | O51: =SMALL(E51:M51,COUNTIF(E51:M51,0)+1) -> 25000 | P51: 0 | Q51: 0 | R51: 0 | S51: 0 | T51: 0 | U51: 0 | V51: 0 | W51: 자재 47
A52: 5CB1C6F2ECB30E54E2B41351DA0B27DF62678E | B52: 비계안정장치 | C52: 비계안정장치, 바퀴 | D52: 개 | E52: 0 | G52: 9500 | H52: 166 | I52: 0 | K52: 0 | M52: 0 | O52: =SMALL(E52:M52,COUNTIF(E52:M52,0)+1) -> 9500 | P52: 0 | Q52: 0 | R52: 0 | S52: 0 | T52: 0 | U52: 0 | V52: 0 | W52: 자재 48
A53: 5CB1C6F2ECB30E54E2B41351DA0B27DF62678F | B53: 비계안정장치 | C53: 비계안정장치, 쟈키 | D53: 개 | E53: 0 | G53: 11000 | H53: 166 | I53: 0 | K53: 0 | M53: 0 | O53: =SMALL(E53:M53,COUNTIF(E53:M53,0)+1) -> 11000 | P53: 0 | Q53: 0 | R53: 0 | S53: 0 | T53: 0 | U53: 0 | V53: 0 | W53: 자재 49
A54: 5CB1C6F2ECB30E54E2B41351D85F77E554B140 | B54: 비계안정장치 | C54: 비계안정장치, 발판, 40*200*2000 | D54: 장 | E54: 0 | G54: 23000 | H54: 134 | I54: 0 | K54: 0 | M54: 0 | O54: =SMALL(E54:M54,COUNTIF(E54:M54,0)+1) -> 23000 | P54: 0 | Q54: 0 | R54: 0 | S54: 0 | T54: 0 | U54: 0 | V54: 0 | W54: 자재 50
A55: 5CB1D69B1B33BD55EF64C211123B5D15E29D70 | B55: 일반못 | C55: 일반못, 50mm | D55: kg | E55: 1387 | G55: 1460 | H55: 83 | I55: 1850.5 | J55: 43 | K55: 0 | M55: 0 | O55: =SMALL(E55:M55,COUNTIF(E55:M55,0)+1) -> 1387 | P55: 0 | Q55: 0 | R55: 0 | S55: 0 | T55: 0 | U55: 0 | V55: 0 | W55: 자재 51
A56: 5CB1D69B1B33BD54C964ECF1261F74CFD81AFE | B56: 세트앵커 | C56: 세트앵커, M12*L100mm | D56: 개 | E56: 0 | G56: 390 | H56: 93 | I56: 410 | J56: 53 | K56: 0 | M56: 0 | O56: =SMALL(E56:M56,COUNTIF(E56:M56,0)+1) -> 390 | P56: 0 | Q56: 0 | R56: 0 | S56: 0 | T56: 0 | U56: 0 | V56: 0 | W56: 자재 52
A57: 5CB1D69B1B33BD5174444B2161A30EC18E9023 | B57: 도어힌지 | C57: 도어힌지, 스테인리스강, 베어링2개, 101.6*3.0mm | D57: 개 | E57: 0 | G57: 5300 | H57: 658 | I57: 0 | K57: 0 | M57: 0 | O57: =SMALL(E57:M57,COUNTIF(E57:M57,0)+1) -> 5300 | P57: 0 | Q57: 0 | R57: 0 | S57: 0 | T57: 0 | U57: 0 | V57: 0 | W57: 자재 53
A58: 5CB1D69B1B33BD5174444B2161A308A89FEFA8 | B58: 피벗힌지 | C58: 피벗힌지, 100kg, 방화문용 | D58: 조 | E58: 70000 | G58: 70000 | H58: 658 | I58: 70000 | J58: 454 | K58: 0 | M58: 0 | O58: =SMALL(E58:M58,COUNTIF(E58:M58,0)+1) -> 70000 | P58: 0 | Q58: 0 | R58: 0 | S58: 0 | T58: 0 | U58: 0 | V58: 0 | W58: 자재 54
A59: 5CB1D69B1B33BD5174444B2161A308A89FE3F5 | B59: 플로어힌지 | C59: 플로어힌지, KS3호, 105kg, 강화유리문(K-8300) | D59: 조 | E59: 77000 | G59: 77000 | H59: 657 | I59: 0 | K59: 0 | M59: 0 | O59: =SMALL(E59:M59,COUNTIF(E59:M59,0)+1) -> 77000 | P59: 0 | Q59: 0 | R59: 0 | S59: 0 | T59: 0 | U59: 0 | V59: 0 | W59: 자재 55
A60: 5CB1D69B1B33BD5D2554157129C4AB8F86AF97 | B60: 도어핸들 | C60: 도어핸들, 9000PB, 레바형 | D60: 조 | E60: 0 | G60: 0 | I60: 0 | K60: 0 | M60: 20000 | N60: 철물다나와 | O60: =SMALL(E60:M60,COUNTIF(E60:M60,0)+1) -> 20000 | P60: 0 | Q60: 0 | R60: 0 | S60: 0 | T60: 0 | U60: 0 | V60: 0 | W60: 자재 56
A61: 5CB1D69B1B33BD5D2554157129C4A833B9ACE1 | B61: 손잡이 | C61: 손잡이, 스테인리스, 보통(대) | D61: 개 | E61: 0 | G61: 0 | I61: 0 | K61: 48000 | L61: 604 | M61: 0 | O61: =SMALL(E61:M61,COUNTIF(E61:M61,0)+1) -> 48000 | P61: 0 | Q61: 0 | R61: 0 | S61: 0 | T61: 0 | U61: 0 | V61: 0 | W61: 자재 57
A62: 5CB1D69B1B33BD5D2554157129CCE267A460C4 | B62: 도어스톱 | C62: 도어스톱, 일자형 120mm | D62: 개 | E62: 0 | G62: 2200 | H62: 655 | I62: 1800 | J62: 455 | K62: 0 | M62: 0 | O62: =SMALL(E62:M62,COUNTIF(E62:M62,0)+1) -> 1800 | P62: 0 | Q62: 0 | R62: 0 | S62: 0 | T62: 0 | U62: 0 | V62: 0 | W62: 자재 58
A63: 5CB1D69B1B33BD5D255415712837F3474BB265 | B63: 도어핸들 | C63: 도어핸들, 공정 | D63: 조 | E63: 0 | G63: 0 | I63: 0 | K63: 0 | M63: 8000 | N63: 가람열쇠 | O63: =SMALL(E63:M63,COUNTIF(E63:M63,0)+1) -> 8000 | P63: 0 | Q63: 0 | R63: 0 | S63: 0 | T63: 0 | U63: 0 | V63: 0 | W63: 자재 59
A64: 5CB1D69B1B33BD5D255415712837F3474BBD76 | B64: 도어스톱 | C64: 도어스톱, 말굽형 120mm | D64: 개 | E64: 0 | G64: 1800 | H64: 655 | I64: 0 | K64: 0 | M64: 0 | O64: =SMALL(E64:M64,COUNTIF(E64:M64,0)+1) -> 1800 | P64: 0 | Q64: 0 | R64: 0 | S64: 0 | T64: 0 | U64: 0 | V64: 0 | W64: 자재 60
A65: 5CB1D698486305553C64EE01FB599B5F6E8F8B | B65: 초산비닐계접착제 | C65: 초산비닐계접착제, 일반목공용 | D65: kg | E65: 2060 | G65: 0 | I65: 0 | K65: 0 | M65: 0 | O65: =SMALL(E65:M65,COUNTIF(E65:M65,0)+1) -> 2060 | P65: 0 | Q65: 0 | R65: 0 | S65: 0 | T65: 0 | U65: 0 | V65: 0 | W65: 자재 61
A66: 5CB1D698486305553C64EE01FB599B5F6E8EFB | B66: 초산비닐계접착제 | C66: 초산비닐계접착제, 비닐타일용 | D66: kg | E66: 2496 | G66: 0 | I66: 0 | K66: 0 | M66: 0 | O66: =SMALL(E66:M66,COUNTIF(E66:M66,0)+1) -> 2496 | P66: 0 | Q66: 0 | R66: 0 | S66: 0 | T66: 0 | U66: 0 | V66: 0 | W66: 자재 62
A67: 5CB1D698486305553C64B2F1CA8B739A2DDB26 | B67: 고무접착제 | C67: 고무접착제, 건설용고무풀 | D67: kg | E67: 0 | G67: 11000 | H67: 145 | I67: 0 | K67: 0 | M67: 0 | O67: =SMALL(E67:M67,COUNTIF(E67:M67,0)+1) -> 11000 | P67: 0 | Q67: 0 | R67: 0 | S67: 0 | T67: 0 | U67: 0 | V67: 0 | W67: 자재 63
A68: 5CB1D698486305553C64A0516C2393856AE060 | B68: 인산염 | D68: kg | E68: 0 | G68: 0 | I68: 9400 | J68: 1234 | K68: 0 | M68: 0 | O68: =SMALL(E68:M68,COUNTIF(E68:M68,0)+1) -> 9400 | P68: 0 | Q68: 0 | R68: 0 | S68: 0 | T68: 0 | U68: 0 | V68: 0 | W68: 자재 64
A69: 5CB1D698486305553C6485B16B4829828D4B75 | B69: 에폭시접착제 | C69: 에폭시접착제, 세라믹타일용 | D69: kg | E69: 2005 | G69: 2800 | H69: 145 | I69: 0 | K69: 0 | M69: 0 | O69: =SMALL(E69:M69,COUNTIF(E69:M69,0)+1) -> 2005 | P69: 0 | Q69: 0 | R69: 0 | S69: 0 | T69: 0 | U69: 0 | V69: 0 | W69: 자재 65
A70: 5CB1D6984903985E67F46C1122E6DC11E5CC25 | B70: 수성페인트 | C70: 수성페인트, 친환경(진품) | D70: L | E70: 0 | G70: 0 | I70: 0 | K70: 5611.11 | L70: 630 | M70: 0 | O70: =SMALL(E70:M70,COUNTIF(E70:M70,0)+1) -> 5611.11 | P70: 0 | Q70: 0 | R70: 0 | S70: 0 | T70: 0 | U70: 0 | V70: 0 | W70: 자재 66
A71: 5CB1D6984903985E6E24053140127CD72E6BC0 | B71: 방청페인트 | C71: 방청페인트, KSM6030-1종1류, 광명단페인트 | D71: L | E71: 11211 | G71: 8333.33 | H71: 614 | I71: 0 | K71: 0 | M71: 0 | O71: =SMALL(E71:M71,COUNTIF(E71:M71,0)+1) -> 8333.33 | P71: 0 | Q71: 0 | R71: 0 | S71: 0 | T71: 0 | U71: 0 | V71: 0 | W71: 자재 67
A72: 5CB1D6984903985E6E244CE1688542E6E7DDF8 | B72: 조합페인트 | C72: 조합페인트, KSM6020-1종1급, 백색 | D72: L | E72: 6066 | G72: 10555.55 | H72: 615 | I72: 0 | K72: 0 | M72: 0 | O72: =SMALL(E72:M72,COUNTIF(E72:M72,0)+1) -> 6066 | P72: 0 | Q72: 0 | R72: 0 | S72: 0 | T72: 0 | U72: 0 | V72: 0 | W72: 자재 68
A73: 5CB1D6984903985E6E244CE1688542E6E7DCEC | B73: 조합페인트 | C73: 조합페인트, KSM6020-1종2급, 백색 | D73: L | E73: 5116 | G73: 6666.66 | H73: 614 | I73: 6055.55 | J73: 467 | K73: 0 | M73: 0 | O73: =SMALL(E73:M73,COUNTIF(E73:M73,0)+1) -> 5116 | P73: 0 | Q73: 0 | R73: 0 | S73: 0 | T73: 0 | U73: 0 | V73: 0 | W73: 자재 69
A74: 5CB1D6984903985E6E244CE1688542E05EE849 | B74: 요꼬(오징어)합판 | C74: 4.0T*1220*2440 | D74: M2 | E74: 0 | G74: 0 | I74: 0 | K74: 0 | M74: 4199.14 | N74: 건재하다 | O74: =SMALL(E74:M74,COUNTIF(E74:M74,0)+1) -> 4199.14 | P74: 0 | Q74: 0 | R74: 0 | S74: 0 | T74: 0 | U74: 0 | V74: 0 | W74: 자재 70 | X74: 인터넷
A75: 5CB1D6984903985E6E244CE1688542E05DCE76 | B75: PVC마이너스몰딩 | C75: W12*H31.5, L2440 | D75: M | E75: 0 | G75: 0 | I75: 0 | K75: 0 | M75: 901.63 | N75: SHINSUNG | O75: =SMALL(E75:M75,COUNTIF(E75:M75,0)+1) -> 901.63 | P75: 0 | Q75: 0 | R75: 0 | S75: 0 | T75: 0 | U75: 0 | V75: 0 | W75: 자재 71 | X75: 인터넷
A76: 5CB1D6984903985E6E244CE1688542E3144BFA | B76: 미디어라인(금속도장) 천정부착형 | C76: 지정디자인 / 금속구조틀+갈바 위지정도장 | D76: M | E76: 214000 | G76: 214000 | I76: 214000 | K76: 214000 | M76: 214000 | O76: =SMALL(E76:M76,COUNTIF(E76:M76,0)+1) -> 214000 | P76: 0 | Q76: 0 | R76: 0 | S76: 0 | T76: 0 | U76: 0 | V76: 0 | W76: 자재 72 | X76: 견적
A77: 5CB1D6984903985E6E244CE1688542E3144BFB | B77: 간접조명 라인 | C77: 지정디자인 / 금속구조틀+갈바 위지정도장 | D77: M | E77: 87500 | G77: 87500 | I77: 87500 | K77: 87500 | M77: 87500 | O77: =SMALL(E77:M77,COUNTIF(E77:M77,0)+1) -> 87500 | P77: 0 | Q77: 0 | R77: 0 | S77: 0 | T77: 0 | U77: 0 | V77: 0 | W77: 자재 73 | X77: 견적
A78: 5CB1D6984903985E6E244CE1688542E3144BF8 | B78: 바리솔 조명박스 | C78: 지정디자인 / 금속구조틀+갈바 위지정도장 / 바리솔 | D78: M2 | E78: 248000 | G78: 248000 | I78: 248000 | K78: 248000 | M78: 248000 | O78: =SMALL(E78:M78,COUNTIF(E78:M78,0)+1) -> 248000 | P78: 0 | Q78: 0 | R78: 0 | S78: 0 | T78: 0 | U78: 0 | V78: 0 | W78: 자재 74 | X78: 견적
A79: 5CB1D6984903985E6E244CE1688542E3144BF9 | B79: 벽면 합판보강 | C79: 벽면위 12mm 합판 보강 | D79: M2 | E79: 18750 | G79: 18750 | I79: 18750 | K79: 18750 | M79: 18750 | O79: =SMALL(E79:M79,COUNTIF(E79:M79,0)+1) -> 18750 | P79: 0 | Q79: 0 | R79: 0 | S79: 0 | T79: 0 | U79: 0 | V79: 0 | W79: 자재 75 | X79: 견적
A80: 5CB1D6984903985E6E244CE1688542E31BF0E4 | B80: 폴딩도어 | C80: 12T, 강화유리 | D80: M2 | E80: 0 | G80: 420000 | H80: 734 | I80: 0 | K80: 0 | M80: 0 | O80: =SMALL(E80:M80,COUNTIF(E80:M80,0)+1) -> 420000 | P80: 0 | Q80: 0 | R80: 0 | S80: 0 | T80: 0 | U80: 0 | V80: 0 | W80: 자재 76
A81: 5CB1D6984903985E6E24A5618FFEF12A8F931A | B81: 정전분체도장 | C81: 내외부용 | D81: KG | E81: 0 | G81: 19500 | H81: 470 | I81: 0 | K81: 0 | M81: 0 | O81: =SMALL(E81:M81,COUNTIF(E81:M81,0)+1) -> 19500 | P81: 0 | Q81: 0 | R81: 0 | S81: 0 | T81: 0 | U81: 0 | V81: 0 | W81: 자재 77
A82: 5CB1D6984903985E6E24A5618FFEF12A8F931B | B82: 정전분체도장 | C82: 열처리비 | D82: ㎡ | E82: 0 | G82: 0 | I82: 0 | K82: 0 | M82: 300 | O82: =SMALL(E82:M82,COUNTIF(E82:M82,0)+1) -> 300 | P82: 0 | Q82: 0 | R82: 0 | S82: 0 | T82: 0 | U82: 0 | V82: 0 | W82: 자재 78
A83: 5CB1D6984903985E6E24A5618FFEF12A8F9314 | B83: 정전분체도장 | C83: 포장비 | D83: ㎡ | E83: 0 | G83: 0 | I83: 0 | K83: 0 | M83: 300 | O83: =SMALL(E83:M83,COUNTIF(E83:M83,0)+1) -> 300 | P83: 0 | Q83: 0 | R83: 0 | S83: 0 | T83: 0 | U83: 0 | V83: 0 | W83: 자재 79
A84: 5CB1D6984903985CBA34B5F14FC16862CBA3A1 | B84: 실링재 | C84: 실링재, 실리콘, 비초산, 유리용, 창호주위 | D84: L | E84: 10371 | G84: 18500 | H84: 607 | I84: 0 | K84: 0 | M84: 0 | O84: =SMALL(E84:M84,COUNTIF(E84:M84,0)+1) -> 10371 | P84: 0 | Q84: 0 | R84: 0 | S84: 0 | T84: 0 | U84: 0 | V84: 0 | W84: 자재 80
A85: 5CB1D6984903985CBA3488B1D256E8E26A4FBC | B85: 바니시 | C85: 바니시, 방염바니시 | D85: L | E85: 0 | G85: 10000 | H85: 624 | I85: 0 | J85: 476 | K85: 7611 | L85: 506 | M85: 0 | O85: =SMALL(E85:M85,COUNTIF(E85:M85,0)+1) -> 7611 | P85: 0 | Q85: 0 | R85: 0 | S85: 0 | T85: 0 | U85: 0 | V85: 0 | W85: 자재 81
A86: 5CB1D698490398535D546C61538761DA42AA78 | B86: 시너 | C86: 시너, KSM6060, 1종 | D86: L | E86: 0 | G86: 3494.44 | H86: 614 | I86: 3722.22 | J86: 466 | K86: 0 | M86: 0 | O86: =SMALL(E86:M86,COUNTIF(E86:M86,0)+1) -> 3494.44 | P86: 0 | Q86: 0 | R86: 0 | S86: 0 | T86: 0 | U86: 0 | V86: 0 | W86: 자재 82
A87: 5CB1D698490398535D546C61538761DA42AA79 | B87: 시너 | C87: 시너, KSM6060, 2종 | D87: L | E87: 0 | G87: 3583.33 | H87: 614 | I87: 3888.88 | J87: 466 | K87: 0 | M87: 0 | O87: =SMALL(E87:M87,COUNTIF(E87:M87,0)+1) -> 3583.33 | P87: 0 | Q87: 0 | R87: 0 | S87: 0 | T87: 0 | U87: 0 | V87: 0 | W87: 자재 83
A88: 5CC236E4B8D3005009B482215C1AF5198DF52B | B88: 일반구조용각형강관 | C88: 일반구조용각형강관, 각형강관, 50*50*2.3mm | D88: M | E88: 3780 | G88: 4180 | H88: 69 | I88: 4650 | J88: 34 | K88: 0 | M88: 0 | O88: =SMALL(E88:M88,COUNTIF(E88:M88,0)+1) -> 3780 | P88: 0 | Q88: 0 | R88: 0 | S88: 0 | T88: 0 | U88: 0 | V88: 0 | W88: 자재 84
A89: 5CC2468DD6E3615D4BE487B12946B4302CA74C | B89: 유리블럭 | C89: 유리블록, 투명, 190*190*95mm | D89: 개 | E89: 0 | G89: 4600 | H89: 666 | I89: 0 | K89: 0 | M89: 0 | O89: =SMALL(E89:M89,COUNTIF(E89:M89,0)+1) -> 4600 | P89: 0 | Q89: 0 | R89: 0 | S89: 0 | T89: 0 | U89: 0 | V89: 0 | W89: 자재 85
A90: 5CDCC6DAC493D259CF04AD91513974056C0579 | B90: 품질검사비 | C90: 품질시험비의 100분의 1 계상 | D90: 식 | E90: 0 | F90: 20-11 | G90: 0 | I90: 0 | K90: 0 | M90: 0 | O90: 0 | P90: 0 | Q90: 0 | R90: 0 | S90: 0 | T90: 0 | U90: 15278.42 | V90: =SMALL(Q90:U90,COUNTIF(Q90:U90,0)+1) -> 15278.42 | W90: 자재 86
A91: 5CDCC6DAC493D259CF04AD91513974056C057A | B91: 품질관련 재료비 | C91: 품질시험비의 100분의 1 계상 | D91: 식 | E91: 0 | F91: 20-11 | G91: 0 | I91: 0 | K91: 0 | M91: 0 | O91: 0 | P91: 0 | Q91: 0 | R91: 0 | S91: 0 | T91: 0 | U91: 14550.9 | V91: =SMALL(Q91:U91,COUNTIF(Q91:U91,0)+1) -> 14550.9 | W91: 자재 87
A92: 5CDCC6DAC493D259CF04AD91513974056C057B | B92: 품질관련 장비손료 | C92: 품질시험비의 100분의 1 계상 | D92: 식 | E92: 0 | F92: 20-11 | G92: 0 | I92: 0 | K92: 0 | M92: 0 | O92: 0 | P92: 0 | Q92: 0 | R92: 0 | S92: 0 | T92: 0 | U92: 14550.9 | V92: =SMALL(Q92:U92,COUNTIF(Q92:U92,0)+1) -> 14550.9 | W92: 자재 88
A93: 5CDCC6DAC493D259CF04AD91513974056C0564 | B93: 품질관련 시설비용,시험및검사기구 검정.교정비 | C93: 품질시험비의 100분의 3 계상 | D93: 식 | E93: 0 | F93: 20-11 | G93: 0 | I93: 0 | K93: 0 | M93: 0 | O93: 0 | P93: 0 | Q93: 0 | R93: 0 | S93: 0 | T93: 0 | U93: 43652.7 | V93: =SMALL(Q93:U93,COUNTIF(Q93:U93,0)+1) -> 43652.7 | W93: 자재 89
A94: 5B9BF64395C39D5AD7C4A8F13714E2 | B94: 철재문틀(방청1회마감) | C94: 150*45MM | D94: m | E94: 21560 | G94: 0 | I94: 0 | K94: 0 | M94: 0 | O94: =SMALL(E94:M94,COUNTIF(E94:M94,0)+1) -> 21560 | P94: 9767 | Q94: 0 | R94: 0 | S94: 0 | T94: 0 | U94: 0 | V94: 0 | W94: 자재 90 | X94: 조달청시장시공가격 | Y94: 2
A95: 5B9BF64395C39D5AD7C4A8F13B8F8A | B95: 철재문틀(방청1회마감) | C95: 240*45MM | D95: m | E95: 25649 | G95: 0 | I95: 0 | K95: 0 | M95: 0 | O95: =SMALL(E95:M95,COUNTIF(E95:M95,0)+1) -> 25649 | P95: 14051 | Q95: 0 | R95: 0 | S95: 0 | T95: 0 | U95: 0 | V95: 0 | W95: 자재 91 | X95: 조달청시장시공가격 | Y95: 2
A96: 5BDBE6154D031C513DE491D1A5B59B313346FD | B96: 상하수도요금 | D96: M3 | E96: 0 | G96: 0 | I96: 0 | K96: 0 | M96: 0 | N96: 1605 | O96: 0 | P96: 0 | Q96: 0 | R96: 0 | S96: 0 | T96: 0 | U96: 2065 | V96: =SMALL(Q96:U96,COUNTIF(Q96:U96,0)+1) -> 2065 | W96: 자재 92
A97: 5BDBE6154D031C513DE491D1A5B59B313346FA | B97: 일반경비 | C97: 전력 | D97: kwh | E97: 0 | G97: 0 | I97: 0 | K97: 0 | M97: 0 | N97: 1603 | O97: 0 | P97: 0 | Q97: 0 | R97: 0 | S97: 0 | T97: 0 | U97: 111 | V97: =SMALL(Q97:U97,COUNTIF(Q97:U97,0)+1) -> 111 | W97: 자재 93
A98: 5BDBE6154D031C513DE491C185DA81522F8D4E | B98: 혼합건설폐기물 | C98: 건설폐재류에 가연성 5% 이하 혼합 | D98: TON | E98: 0 | G98: 0 | I98: 0 | K98: 0 | L98: 하(151) | M98: 0 | O98: 0 | P98: 0 | Q98: 0 | R98: 0 | S98: 0 | T98: 72721 | U98: 0 | V98: =SMALL(Q98:U98,COUNTIF(Q98:U98,0)+1) -> 72721 | W98: 자재 94 | Y98: C
A99: 5BDBE6154D031C513DE491C185DA8152285A6F | B99: 혼합건설폐기물 [폐유리,폐타일,폐자기 등] | C99: 불연성 건설폐기물에 가연성 5% 이하 혼합 | D99: TON | E99: 0 | G99: 0 | I99: 0 | K99: 0 | L99: 하(151) | M99: 0 | O99: 0 | P99: 0 | Q99: 0 | R99: 0 | S99: 0 | T99: 188715 | U99: 0 | V99: =SMALL(Q99:U99,COUNTIF(Q99:U99,0)+1) -> 188715 | W99: 자재 95 | Y99: C
A100: 5BDBE6154D031C513DE491C185DA815229634E | B100: 혼합건설폐기물 [폐보드류] | C100: 그 밖의 건설폐기물에 가연성 5% 이하 혼합 | D100: TON | E100: 0 | G100: 0 | I100: 0 | K100: 0 | L100: 하(151) | M100: 0 | O100: 0 | P100: 0 | Q100: 0 | R100: 0 | S100: 0 | T100: 192887 | U100: 0 | V100: =SMALL(Q100:U100,COUNTIF(Q100:U100,0)+1) -> 192887 | W100: 자재 96 | Y100: C
...
