Workbook
Name _: [0]!a
Name ____LP1: #REF!
Name ____LPB1: #REF!
Name ____LPK1: #REF!
Name ____LU1: #REF!
Name ____LU2: #REF!
Name ____LV01: #REF!
Name ____UP1: #REF!
Name ____UP2: #REF!
Name ___B20996: #REF!
Name ___LP1: #REF!
Name ___LPB1: #REF!
Name ___LPK1: #REF!
Name ___LU1: #REF!
Name ___LU2: #REF!
Name ___LV01: #REF!
Name ___UP1: #REF!
Name ___UP2: #REF!
Name __AA1: #REF!
Name __B20996: #REF!
Name __LP1: #REF!
Name __LPB1: #REF!
Name __LPK1: #REF!
Name __LU1: #REF!
Name __LU2: #REF!
Name __LV01: #REF!
Name __PRN2: #REF!
Name __PRN3: #REF!
Name __PRN4: #REF!
Name __PRN6: #REF!
Name __PRN7: #REF!
Name __ST1: #N/A
Name __UP1: #REF!
Name __UP2: #REF!
Name __W1: #REF!
Name _1: #REF!
Name _1___________3_0Crite: #REF!
Name _1_3_0Crite: #REF!
Name _10: #N/A
Name _10__________단: #REF!
Name _11: #N/A
Name _11_________3_0Crite: #REF!
Name _12: #N/A
Name _12_________3_0Criteria: #REF!
Name _1243: #REF!
Name _13: #N/A
Name _13_________G_0Extr: #REF!
Name _14: #N/A
Name _14_________G_0Extract: #REF!
Name _15: #N/A
Name _15_________단: #REF!
Name _15A: #REF!
Name _16: #N/A
Name _16________3_0Crite: #REF!
Name _17: #N/A
Name _17________3_0Criteria: #REF!
Name _18: #N/A
Name _18________G_0Extr: #REF!
Name _19: #N/A
Name _19________G_0Extract: #REF!

Sheet 갑지
B1: 담당 | G1: 설계자 | O1: 심사자 | W1: 설계 | Z1: 2026 년 7월 일 | AH1: 결 재
W2: 심사 | Z2: =Z1 -> 2026 년 7월 일 | AH2: 월 일
J4: 설 계 서
B6: 공사명 : | D6: 강원도립대학교 RISE사업 현장기반형 산학연계 교육환경개선 공사 (호텔관광과)
B8: 구 분 | E8: 금 액 | AC8: 비 고
B9: 도 급 비 | C9: 공 사 비 | E9: ="일금" &NUMBERSTRING(V9,1)& "원정" -> 일금팔천이백이십육만원정 | V9: ='원가계산서(건축)'!E41 -> 82260000 | AC9: 부가세포함
C10: 공 급 가 액 | E10: ="일금"&NUMBERSTRING(V10,1)&"원정" -> 일금칠천사백칠십구만원정 | V10: ='원가계산서(건축)'!E38 -> 74790000 | AC10: 부가세별도
C11: 부 가 가 치 세 | E11: ="일금"&NUMBERSTRING(V11,1)&"원정" -> 일금칠백사십칠만구천원정 | V11: ='원가계산서(건축)'!E39 -> 7479000 | AC11: 부가세
B12: 총공사금액 | E12: ="일금"&NUMBERSTRING(V12,1)&"원정" -> 일금팔천이백이십육만원정 | V12: =SUM(V9) -> 82260000 | AC12: 부가세포함

Sheet 원가계산서(건축)
B1: 공 사 원 가 계 산 서
B2: =갑지!D6 -> 강원도립대학교 RISE사업 현장기반형 산학연계 교육환경개선 공사 (호텔관광과)
B3: 비 목 | E3: 건 축 | F3: 설 비 | G3: 토 목 | H3: 폐기물처리비 | J3: 검토 | K3: 합 계 | L3: 구 성 비 | M3: 비율 | N3: 전기 | O3: 통신 | P3: 소방 | Q3: 비 고
A4: A1 | B4: 순공사원가 | C4: 재료비 | D4: 직 접 재 료 비 | E4: =공종별집계표!F19 -> 35849761 | F4: 784248 | G4: 0 | H4: 0 | I4: =K4-J4 -> 0 | J4: =E4+F4+G4+H4 -> 36634009 | K4: =SUM(E4:H4) -> 36634009 | Q4: 공사규모:10억 미만
A5: A3 | D5: 작업설, 부산물(△) | E5: 0 | I5: =K5-J5 -> 0 | J5: =E5+F5+G5+H5 -> 0 | K5: =SUM(E5:H5) -> 0 | Q5: 공사기간:6개월 이하
A6: AS | D6: [ 소 계 ] | E6: =TRUNC(E4-E5, 0) -> 35849761 | F6: =TRUNC(F4-F5, 0) -> 784248 | G6: =TRUNC(G4-G5, 0) -> 0 | H6: =TRUNC(H4-H5, 0) -> 0 | I6: =K6-J6 -> 0 | J6: =E6+F6+G6+H6 -> 36634009 | K6: =SUM(E6:H6) -> 36634009
A7: B1 | C7: 노무비 | D7: 직 접 노 무 비 | E7: =공종별집계표!H19 -> 18036402 | F7: 878877 | G7: 0 | H7: 0 | I7: =K7-J7 -> 0 | J7: =E7+F7+G7+H7 -> 18915279 | K7: =SUM(E7:H7) -> 18915279
A8: B2 | D8: 간 접 노 무 비 | E8: =TRUNC(E7*$M$8, 0) -> 3156370 | F8: =TRUNC(F7*$M$8, 0) -> 153803 | G8: =TRUNC(G7*$M$8, 0) -> 0 | H8: =TRUNC(H7*$M$8, 0) -> 0 | I8: =K8-J8 -> 0 | J8: =E8+F8+G8+H8 -> 3310173 | K8: =TRUNC(K7*$M$8, 0) -> 3310173 | L8: 직접노무비 x | M8: 0.175 | N8: 0.121 | O8: 0.121 | P8: 0.13
A9: BS | D9: [ 소 계 ] | E9: =TRUNC(E7+E8, 0) -> 21192772 | F9: =TRUNC(F7+F8, 0) -> 1032680 | G9: =TRUNC(G7+G8, 0) -> 0 | H9: =TRUNC(H7+H8, 0) -> 0 | I9: =K9-J9 -> 0 | J9: =E9+F9+G9+H9 -> 22225452 | K9: =SUM(E9:H9) -> 22225452
A10: C2 | C10: 경 비 | D10: 기 계 경 비 | E10: =공종별집계표!J19 -> 1092642 | F10: 0 | G10: 0 | H10: 0 | I10: =K10-J10 -> 0 | J10: =E10+F10+G10+H10 -> 1092642 | K10: =SUM(E10:H10) -> 1092642
A11: C4 | D11: 산 재 보 험 료 | E11: =TRUNC(E9*$M$11, 0) -> 754462 | F11: =TRUNC(F9*$M$11, 0) -> 36763 | G11: =TRUNC(G9*$M$11, 0) -> 0 | H11: =TRUNC(H9*$M$11, 0) -> 0 | I11: =K11-J11 -> 1 | J11: =E11+F11+G11+H11 -> 791225 | K11: =TRUNC(K9*$M$11, 0) -> 791226 | L11: 노무비 x | M11: 0.0356 | N11: =M11 -> 0.0356 | O11: =N11 -> 0.0356 | P11: =M11 -> 0.0356
A12: C5 | D12: 고 용 보 험 료 | E12: =TRUNC(E9*$M$12, 0) -> 214046 | F12: =TRUNC(F9*$M$12, 0) -> 10430 | G12: =TRUNC(G9*$M$12, 0) -> 0 | H12: =TRUNC(H9*$M$12, 0) -> 0 | I12: =K12-J12 -> 1 | J12: =E12+F12+G12+H12 -> 224476 | K12: =TRUNC(K9*$M$12, 0) -> 224477 | L12: 노무비 x | M12: 0.0101 | N12: =M12 -> 0.0101 | O12: =N12 -> 0.0101 | P12: =M12 -> 0.0101
A13: C6 | D13: 건 강 보 험 료 | F13: =TRUNC(F7*$M$13, 0) -> 31595 | G13: =TRUNC(G7*$M$13, 0) -> 0 | H13: =TRUNC(H7*$M$13, 0) -> 0 | I13: =K13-J13 -> 648409 | J13: =E13+F13+G13+H13 -> 31595 | K13: =TRUNC(K7*$M$13, 0) -> 680004 | L13: 직접노무비 x | M13: 0.03595 | N13: =M13 -> 0.03595 | O13: =N13 -> 0.03595 | P13: =M13 -> 0.03595 | Q13: 1개월미만공사
A14: C7 | D14: 연 금 보 험 료 | F14: =TRUNC(F7*$M$14, 0) -> 41746 | G14: =TRUNC(G7*$M$14, 0) -> 0 | H14: =TRUNC(H7*$M$14, 0) -> 0 | I14: =K14-J14 -> 856729 | J14: =E14+F14+G14+H14 -> 41746 | K14: =TRUNC(K7*$M$14, 0) -> 898475 | L14: 직접노무비 x | M14: 0.0475 | N14: =M14 -> 0.0475 | O14: =N14 -> 0.0475 | P14: =M14 -> 0.0475 | Q14: 1개월미만공사
A15: CB | D15: 노인장기요양보험료 | F15: =TRUNC(F13*$M$15, 0) -> 4151 | G15: =TRUNC(G13*$M$15, 0) -> 0 | H15: =TRUNC(H13*$M$15, 0) -> 0 | I15: =K15-J15 -> 85201 | J15: =E15+F15+G15+H15 -> 4151 | K15: =TRUNC(K13*$M$15, 0) -> 89352 | L15: 건강보험료 x | M15: 0.1314 | N15: =M15 -> 0.1314 | O15: =N15 -> 0.1314 | P15: =M15 -> 0.1314 | Q15: 1개월미만공사
A16: C8 | D16: 퇴직 공제 부금비 | F16: =TRUNC(F7*$M$16, 0) -> 20214 | G16: =TRUNC(G7*$M$16, 0) -> 0 | H16: =TRUNC(H7*$M$16, 0) -> 0 | I16: =K16-J16 -> 414837 | J16: =E16+F16+G16+H16 -> 20214 | K16: =TRUNC(K7*$M$16, 0) -> 435051 | L16: 직접노무비 x | M16: 0.023 | N16: 0.023 | O16: 0.023 | P16: =N16 -> 0.023 | Q16: 1개월미만공사
A17: CA | D17: 산업 안전 관리비 | E17: =((E6+E7)*$M$17)+Q17 -> 1675859.7 | F17: =F18 -> #REF! | G17: =G18 -> #REF! | H17: =#REF! -> #REF! | I17: =K17-J17 -> #REF! | J17: =E17+F17+G17+H17 -> #REF! | K17: =#REF! -> #REF! | L17: (재료+직노) x | M17: 0.0311 | N17: 0.0186 | O17: 0.0293 | P17: 0.0293 | S17: 5349000
D18: 안전관리비 | E18: =안전관리비세부내역!J5 -> 568926 | F18: =(F4+F7+#REF!/1.1)*M17 -> #REF! | G18: =(G4+G7+#REF!/1.1)*M17 -> #REF! | H18: =(H4+H7+#REF!/1.1)*M17 -> #REF! | I18: =K18-J18 -> #REF! | J18: =E18+F18+G18+H18 -> #REF! | K18: =((K4+K7+#REF!/1.1)*S17) -> #REF! | Q18: 모든공사적용
A19: CH | D19: 환 경 보 전 비 | E19: =TRUNC((E6+E7+E10)*$M$19, 0) -> 164936 | F19: =TRUNC((F6+F7+F10)*$M$19, 0) -> 4989 | G19: =TRUNC((G6+G7+G10)*$M$19, 0) -> 0 | H19: =TRUNC((H6+H7+H10)*$M$19, 0) -> 0 | I19: =K19-J19 -> 0 | J19: =E19+F19+G19+H19 -> 169925 | K19: =TRUNC((K6+K7+K10)*$M$19, 0) -> 169925 | L19: (재료+직노+기계경비) x | M19: 0.003
A20: CG | D20: 기 타 경 비 | E20: =TRUNC((E6+E9)*$M$20, 0) -> 2852126 | F20: =TRUNC((F6+F9)*$M$20, 0) -> 90846 | G20: =TRUNC((G6+G9)*$M$20, 0) -> 0 | H20: =TRUNC((H6+H9)*$M$20, 0) -> 0 | I20: =K20-J20 -> 1 | J20: =E20+F20+G20+H20 -> 2942972 | K20: =TRUNC((K6+K9)*$M$20, 0) -> 2942973 | L20: (재료+노무비) x | M20: 0.05 | N20: 0.081 | O20: 0.081 | P20: 0.058
D21: 품질시험비
D22: 안전관리비
A23: CJ | D23: 공사이행보증수수료 | E23: =TRUNC(((E6+E7+E10)*M23)*2, 0) -> 0 | F23: =TRUNC(((F6+F7+F10)*M23)*2, 0) -> 0 | G23: =TRUNC(((G6+G7+G10)*M23)*2, 0) -> 0 | H23: =TRUNC(((H6+H7+H10)*M23)*2, 0) -> 0 | I23: =K23-J23 -> 0 | J23: =E23+F23+G23+H23 -> 0 | K23: =TRUNC(((K6+K7+K10)*S23)*2, 0) -> 0
A24: CK | D24: 하도급지급보증수수료 | F24: =TRUNC((F6+F7+F10)*$M$24, 0) -> 1347 | G24: =TRUNC((G6+G7+G10)*$M$24, 0) -> 0 | H24: =TRUNC((H6+H7+H10)*$M$24, 0) -> 0 | I24: =K24-J24 -> 44532 | J24: =E24+F24+G24+H24 -> 1347 | K24: =TRUNC((K6+K7+K10)*$M$24, 0) -> 45879 | L24: (재료+직노+기계경비) x | M24: 0.00081 | P24: 0.00081 | Q24: 전문공사
D25: 건설기계대여금 보증수수료 | F25: =TRUNC((F6+F7+F10)*$M$25, 0) -> 1663 | G25: =TRUNC((G6+G7+G10)*$M$25, 0) -> 0 | H25: =TRUNC((H6+H7+H10)*$M$25, 0) -> 0 | I25: =K25-J25 -> 54978 | J25: =E25+F25+G25+H25 -> 1663 | K25: =TRUNC((K6+K7+K10)*$M$25, 0) -> 56641 | L25: (재료+직노+기계경비) x | M25: 0.001 | Q25: 전문공사
D26: 석면분담금 | E26: =TRUNC((E9)*$M$26, 0) -> 1271 | F26: =TRUNC((F8+F9+F12)*$M$24, 0) -> 969 | G26: =TRUNC((G8+G9+G12)*$M$24, 0) -> 0 | H26: =TRUNC((H8+H9+H12)*$M$24, 0) -> 0 | I26: =K26-J26 -> 18625 | J26: =E26+F26+G26+H26 -> 2240 | K26: =TRUNC((K8+K9+K12)*$M$24, 0) -> 20865 | L26: 노무비 x | M26: 6e-05 | P26: 0.00081
D27: 임금채권부담금 | E27: =TRUNC((E9)*$M$27, 0) -> 19073 | F27: =TRUNC((F9+F10+F13)*$M$24, 0) -> 862 | G27: =TRUNC((G9+G10+G13)*$M$24, 0) -> 0 | H27: =TRUNC((H9+H10+H13)*$M$24, 0) -> 0 | I27: =K27-J27 -> -497 | J27: =E27+F27+G27+H27 -> 19935 | K27: =TRUNC((K9+K10+K13)*$M$24, 0) -> 19438 | L27: 노무비 x | M27: 0.0009 | P27: 0.00081
A28: CS | D28: [ 소 계 ] | E28: =SUM(E10:E27) -> 7343341.7 | F28: =SUM(F10:F25)-F18-#REF! -> #REF! | G28: =SUM(G10:G25)-G18-#REF! -> #REF! | H28: =SUM(H10:H25)-H18-#REF! -> #REF! | I28: =K28-J28 -> #REF! | J28: =E28+F28+G28+H28 -> #REF! | K28: =SUM(E28:H28) -> #REF!
A29: S1 | B29: 계 | E29: =TRUNC(E6+E9+E28, 0) -> 64385874 | F29: =TRUNC(F6+F9+F28, 0) -> #REF! | G29: =TRUNC(G6+G9+G28, 0) -> #REF! | H29: =TRUNC(H6+H9+H28, 0) -> #REF! | I29: =K29-J29 -> #REF! | J29: =E29+F29+G29+H29 -> #REF! | K29: =SUM(E29:H29) -> #REF!
A30: D1 | B30: 일 반 관 리 비 | E30: =TRUNC(E29*$M$30, 0) -> 5150869 | F30: =TRUNC(F29*$M$30, 0) -> #REF! | G30: =TRUNC(G29*$M$30, 0) -> #REF! | H30: =TRUNC(H29*$M$30, 0) -> #REF! | I30: =K30-J30 -> #REF! | J30: =E30+F30+G30+H30 -> #REF! | K30: =TRUNC(K29*$M$30, 0) -> #REF! | M30: 0.08 | N30: 0.055 | O30: 0.055 | P30: =M30 -> 0.08
A31: D2 | B31: 이 윤 | E31: =TRUNC((E9+E28+E30)*$M$31, 0) -> 5053047 | F31: =TRUNC((F9+F28+F30)*$M$31, 0)-F42 -> #REF! | G31: =TRUNC((G9+G28+G30)*$M$31, 0)-G42 -> #REF! | I31: =K31-J31 -> #REF! | J31: =E31+F31+G31+H31 -> #REF! | K31: =TRUNC((K9+K28+K30)*$M$31, 0)-2536 -> #REF! | L31: (노무+경비+일반관리) x | M31: 0.15 | N31: =M31 -> 0.15 | O31: =N31 -> 0.15 | P31: =M31 -> 0.15
B32: 전자인력관리시스템단말기(PS단가) | F32: =F33+F34+F35 -> 0 | I32: =K32-J32 -> 0 | J32: =E32+F32+G32+H32 -> 0 | K32: =SUM(E32:H32) -> 0
I33: =K33-J33 -> 0 | J33: =E33+F33+G33+H33 -> 0 | K33: =SUM(E33:H33) -> 0
I34: =K34-J34 -> 0 | J34: =E34+F34+G34+H34 -> 0 | K34: =SUM(E34:H34) -> 0
I35: =K35-J35 -> 0 | J35: =E35+F35+G35+H35 -> 0 | K35: =SUM(E35:H35) -> 0 | P35: 0.00364
B36: 작업부산물 (△) | I36: =K36-J36 -> 0 | J36: =E36+F36+G36+H36 -> 0 | K36: =SUM(E36:H36) -> 0 | P36: 0.00364
B37: 폐기물 처리비 | E37: =공종별집계표!J9 -> 204500 | I37: =K37-J37 -> 0 | J37: =E37+F37+G37+H37 -> 204500 | K37: =SUM(E37:H37) -> 204500 | P37: 0.00364
A38: D9 | B38: 공 급 가 액 | E38: =TRUNC(E29+E30+E31+E32+E36+E37,-4) -> 74790000 | F38: =F29+F30+F31+F32+F36+F37 -> #REF! | G38: =G29+G30+G31+G32+G33+G34 -> #REF! | H38: =H29+H30+H31+H32+H33+H34 -> #REF! | I38: =K38-J38 -> #REF! | J38: =E38+F38+G38+H38 -> #REF! | K38: =K29+K30+K31+K32+K33+K34 -> #REF! | L38: 천단위절삭
A39: DB | B39: 부 가 가 치 세 | E39: =TRUNC(E38*$M$39, 0) -> 7479000 | F39: =TRUNC(F38*$M$39, 0) -> #REF! | G39: =TRUNC(G38*$M$39, 0)-1 -> #REF! | H39: =TRUNC(H38*$M$39, 0) -> #REF! | I39: =K39-J39 -> #REF! | J39: =E39+F39+G39+H39 -> #REF! | K39: =TRUNC(K38*$M$39, 0) -> #REF! | M39: 0.1 | N39: 0.1 | O39: 0.1 | P39: 0.1
A40: DH | B40: 도 급 액 | E40: =E38+E39-9000 -> 82260000 | F40: =TRUNC((F38+F39-#REF!),-3) -> #REF! | G40: =(G38+G39-#REF!) -> #REF! | H40: =(H38+H39-#REF!) -> #REF! | I40: =K40-J40 -> #REF! | J40: =E40+F40+G40+H40 -> #REF! | K40: =SUM(E40:H40) -> #REF! | L40: 천단위 단수정리
...

Sheet 공종별집계표
A1: 공 종 별 집 계 표
A2: =갑지!D6 -> 강원도립대학교 RISE사업 현장기반형 산학연계 교육환경개선 공사 (호텔관광과)
A3: 품 명 | B3: 규 격 | C3: 단위 | D3: 수량 | E3: 재 료 비 | G3: 노 무 비 | I3: 경 비 | K3: 합 계 | M3: 비 고 | N3: 공종코드 | O3: 변수 | P3: 상위공종 | Q3: 공종구분 | R3: 공종레벨 | S3: 공종소계 | T3: 원가계산서 연결금액
E4: 단 가 | F4: 금 액 | G4: 단 가 | H4: 금 액 | I4: 단 가 | J4: 금 액 | K4: 단 가 | L4: 금 액
A5: 01 현장기반형 산학연계 교육환경개선 공사 (호텔관광과) | N5: 01 | R5: 1
A6: * 공통공사 | C6: 식 | D6: 1 | F6: =SUM(F7+F8+F10+F11) -> 3212668 | H6: =SUM(H7+H8+H10+H11) -> 5010992 | J6: =SUM(J7+J8+J10+J11) -> 1060 | L6: =SUM(L7+L8+L10+L11) -> 8224720 | N6: 0101 | P6: 01 | R6: 2
A7: =공종별내역서!A4 -> 010101 가 설 공 사 | C7: 식 | D7: 1 | E7: =공종별내역서!F27 -> 426194 | F7: =E7*D7 -> 426194 | G7: =공종별내역서!H27 -> 2137834 | H7: =G7*D7 -> 2137834 | I7: =공종별내역서!J27 -> 0 | J7: =I7*D7 -> 0 | K7: =E7+G7+I7 -> 2564028 | L7: =F7+H7+J7 -> 2564028 | N7: 010101 | P7: 0101 | R7: 3
A8: =공종별내역서!A28 -> 010102 철 거 공 사 | C8: 식 | D8: 1 | E8: =공종별내역서!F50 -> 0 | F8: =E8*D8 -> 0 | G8: =공종별내역서!H50 -> 1274158 | H8: =G8*D8 -> 1274158 | I8: =공종별내역서!J50 -> 1060 | J8: =I8*D8 -> 1060 | K8: =E8+G8+I8 -> 1275218 | L8: =F8+H8+J8 -> 1275218 | N8: 010107 | P8: 0101 | R8: 3
A9: =공종별내역서!A51 -> 010103 건설폐기물처리비 | C9: 식 | D9: 1 | E9: =공종별내역서!F75 -> 0 | F9: =E9*D9 -> 0 | G9: =공종별내역서!H75 -> 0 | H9: =G9*D9 -> 0 | I9: =공종별내역서!J75 -> 204500 | J9: =I9*D9 -> 204500 | K9: =E9+G9+I9 -> 204500 | L9: =F9+H9+J9 -> 204500 | N9: 010109 | Q9: 6 | R9: 3 | T9: =L9*1 -> 204500
A10: =공종별내역서!A76 -> 010104 냉난방기 및 공조설비공사 | C10: 식 | D10: 1 | E10: =공종별내역서!F100 -> 1765000 | F10: =E10*D10 -> 1765000 | G10: =공종별내역서!H100 -> 0 | H10: =G10*D10 -> 0 | I10: =공종별내역서!J100 -> 0 | J10: =I10*D10 -> 0 | K10: =E10+G10+I10 -> 1765000 | L10: =F10+H10+J10 -> 1765000 | N10: 010111 | P10: 0101 | R10: 3
A11: =공종별내역서!A101 -> 010105 배선및 등기구설치 | C11: 식 | D11: 1 | E11: =공종별내역서!F125 -> 1021474 | F11: =E11*D11 -> 1021474 | G11: =공종별내역서!H125 -> 1599000 | H11: =G11*D11 -> 1599000 | I11: =공종별내역서!J125 -> 0 | J11: =I11*D11 -> 0 | K11: =E11+G11+I11 -> 2620474 | L11: =F11+H11+J11 -> 2620474 | N11: 010112 | P11: 0101 | R11: 3
A12: * 항공실습실 | C12: 식 | D12: 1 | F12: =SUM(F13:F17) -> 32637093 | H12: =SUM(H13:H17) -> 13025410 | J12: =SUM(J13:J17) -> 1091582 | L12: =SUM(L13:L17) -> 46754085 | N12: 0103 | P12: 01 | R12: 2
A13: =공종별내역서!A126 -> 010106 목공사및 수장공사 | C13: 식 | D13: 1 | E13: =공종별내역서!F150 -> 3693349 | F13: =E13*D13 -> 3693349 | G13: =공종별내역서!H150 -> 3966225 | H13: =G13*D13 -> 3966225 | I13: =공종별내역서!J150 -> 31582 | J13: =I13*D13 -> 31582 | K13: =E13+G13+I13 -> 7691156 | L13: =F13+H13+J13 -> 7691156 | N13: 010301 | P13: 0103 | R13: 3
A14: =공종별내역서!A151 -> 010107 칠 공 사 | C14: 식 | D14: 1 | E14: =공종별내역서!F176 -> 772144 | F14: =E14*D14 -> 772144 | G14: =공종별내역서!H176 -> 4719185 | H14: =G14*D14 -> 4719185 | I14: =공종별내역서!J176 -> 0 | J14: =I14*D14 -> 0 | K14: =E14+G14+I14 -> 5491329 | L14: =F14+H14+J14 -> 5491329 | N14: 010304 | P14: 0103 | R14: 3
A15: =공종별내역서!A177 -> 010108 항공기물 제작및 설치 | C15: 식 | D15: 1 | E15: =공종별내역서!F202 -> 22749600 | F15: =E15*D15 -> 22749600 | G15: =공종별내역서!H202 -> 2898800 | H15: =G15*D15 -> 2898800 | I15: =공종별내역서!J202 -> 1060000 | J15: =I15*D15 -> 1060000 | K15: =E15+G15+I15 -> 26708400 | L15: =F15+H15+J15 -> 26708400 | N15: 010305 | P15: 0103 | R15: 3
A16: =공종별내역서!A203 -> 010109 싸 인 공 사 | C16: 식 | D16: 1 | E16: =공종별내역서!F227 -> 1266000 | F16: =E16*D16 -> 1266000 | G16: =공종별내역서!H227 -> 1054000 | H16: =G16*D16 -> 1054000 | I16: =공종별내역서!J227 -> 0 | J16: =I16*D16 -> 0 | K16: =E16+G16+I16 -> 2320000 | L16: =F16+H16+J16 -> 2320000 | N16: 010306 | P16: 0103 | R16: 3
A17: =공종별내역서!A228 -> 010110 기타공사 | C17: 식 | D17: 1 | E17: =공종별내역서!F252 -> 4156000 | F17: =E17*D17 -> 4156000 | G17: =공종별내역서!H252 -> 387200 | H17: =G17*D17 -> 387200 | I17: =공종별내역서!J252 -> 0 | K17: =E17+G17+I17 -> 4543200 | L17: =F17+H17+J17 -> 4543200
A19: [ 합 계 ] | F19: =SUM(F6+F12) -> 35849761 | H19: =SUM(H6+H12) -> 18036402 | J19: =SUM(J6+J12) -> 1092642 | L19: =SUM(L6+L12) -> 54978805

Sheet 공종별내역서
A1: =갑지!D6 -> 강원도립대학교 RISE사업 현장기반형 산학연계 교육환경개선 공사 (호텔관광과)
A2: 품 명 | B2: 규 격 | C2: 단위 | D2: 수량 | E2: 재 료 비 | G2: 노 무 비 | I2: 경 비 | K2: 합 계 | M2: 비 고 | N2: 품목코드 | O2: 변수 | P2: 설정 | Q2: 공종코드 | R2: 일위 | S2: 단산 | T2: 자재 | U2: 손료적용 | V2: 손료저장 | W2: 적용율 | X2: JUK1 | Y2: JUK2 | Z2: JUK3 | AA2: JUK4 | AB2: JUK5 | AC2: JUK6 | AD2: JUK7 | AE2: JUK8 | AF2: JUK9 | AG2: JUK10 | AH2: JUK11 | AI2: JUK12 | AJ2: JUK13 | AK2: JUK14 | AL2: JUK15 | AM2: JUK16 | AN2: JUK17 | AO2: JUK18 | AP2: JUK19 | AQ2: JUK20 | AR2: 자재구분 | AS2: 공종구분 | AT2: 공종레벨 | AU2: 공종+자재 | AV2: 고유번호
E3: 단 가 | F3: 금 액 | G3: 단 가 | H3: 금 액 | I3: 단 가 | J3: 금 액 | K3: 단 가 | L3: 금 액
A4: 010101 가 설 공 사 | Q4: 010101
A5: 먹메김 | B5: 구조부일반 | C5: M2 | D5: =수량산출서!H12 -> 64.08 | G5: =일위대가목록!F5 -> 1396.335 | H5: =TRUNC(G5*D5, 0) -> 89477 | K5: =TRUNC(E5+G5+I5, 0) -> 1396 | L5: =TRUNC(F5+H5+J5, 0) -> 89477 | M5: 호표 2
A6: 건축물보양 | B6: 플라베니아(PVC골판지) | C6: M2 | D6: =수량산출서!H13 -> 152.43 | E6: =TRUNC(일위대가목록!E6,0) -> 2796 | F6: =TRUNC(E6*D6, 0) -> 426194 | G6: =TRUNC(일위대가목록!F6,0) -> 1720 | H6: =TRUNC(G6*D6, 0) -> 262179 | I6: =TRUNC(일위대가목록!G6,0) -> 0 | J6: =TRUNC(I6*D6, 0) -> 0 | K6: =TRUNC(E6+G6+I6, 0) -> 4516 | L6: =TRUNC(F6+H6+J6, 0) -> 688373 | M6: 호표 3 | N6: 5B5A66B0A8C2B69DBC32D31910A832 | Q6: 010101 | R6: T | S6: F | T6: F | AU6: 0101015B5A66B0A8C2B69DBC32D31910A832 | AV6: 6
A7: 건축물 현장정리 | B7: 리모델링 | C7: M2 | D7: =수량산출서!H15 -> 64.08 | E7: =TRUNC(일위대가목록!E7,0) -> 0 | F7: =TRUNC(E7*D7, 0) -> 0 | G7: =TRUNC(일위대가목록!F7,0)*0.9 -> 20131.2 | H7: =TRUNC(G7*D7, 0) -> 1290007 | I7: =TRUNC(일위대가목록!G7,0) -> 0 | J7: =TRUNC(I7*D7, 0) -> 0 | K7: =TRUNC(E7+G7+I7, 0) -> 20131 | L7: =TRUNC(F7+H7+J7, 0) -> 1290007 | M7: 호표 4 | N7: 5B5A66B0AB9296D6C9B2E35DB1E02A | Q7: 010101 | R7: T | S7: F | T7: F | AU7: 0101015B5A66B0AB9296D6C9B2E35DB1E02A | AV7: 5
A8: 소운반 | B8: 3층,인력 | C8: M2 | D8: =D7 -> 64.08 | G8: =일위대가목록!F8 -> 7743 | H8: =TRUNC(G8*D8, 0) -> 496171 | K8: =TRUNC(E8+G8+I8, 0) -> 7743 | L8: =TRUNC(F8+H8+J8, 0) -> 496171 | M8: 호표 5
A27: [ 합 계 ] | F27: =SUM(F5:F26) -> 426194 | H27: =SUM(H5:H26) -> 2137834 | J27: =SUM(J5:J26) -> 0 | L27: =SUM(L5:L26) -> 2564028 | N27: TOTAL
A28: 010102 철 거 공 사 | Q28: 010107
A29: =수량산출서!C22 -> 이코노미 의자탈거및 이동설치 | B29: =수량산출서!D22 -> 해체재 재사용 | C29: SET | D29: =수량산출서!H22 -> 13 | E29: =TRUNC(일위대가목록!E16,0) -> 0 | F29: =TRUNC(E29*D29, 0) -> 0 | G29: =일위대가목록!F9 -> 13190 | H29: =TRUNC(G29*D29, 0) -> 171470 | I29: =TRUNC(일위대가목록!G16,0) -> 0 | J29: =TRUNC(I29*D29, 0) -> 0 | K29: =TRUNC(E29+G29+I29, 0) -> 13190 | L29: =TRUNC(F29+H29+J29, 0) -> 171470 | M29: 호표 5-1 | N29: 5B5B6621ECD266052AE2E341B252E9 | Q29: 010107 | R29: T | S29: F | T29: F | AU29: 0101075B5B6621ECD266052AE2E341B252E9 | AV29: 182
A30: =수량산출서!C23 -> 사이드월탈거및 이동설치 | B30: =수량산출서!D23 -> 해체재 재사용 | C30: SET | D30: =수량산출서!H23 -> 5 | E30: =TRUNC(일위대가목록!E17,0) -> 0 | F30: =TRUNC(E30*D30, 0) -> 0 | G30: =일위대가목록!F9 -> 13190 | H30: =TRUNC(G30*D30, 0) -> 65950 | I30: =TRUNC(일위대가목록!G17,0) -> 212 | J30: =TRUNC(I30*D30, 0) -> 1060 | K30: =TRUNC(E30+G30+I30, 0) -> 13402 | L30: =TRUNC(F30+H30+J30, 0) -> 67010 | M30: 호표 5-1 | N30: 5B5B6621ECD26607D922C3A3D2D7F1 | Q30: 010107 | R30: T | S30: F | T30: F | AU30: 0101075B5B6621ECD26607D922C3A3D2D7F1 | AV30: 136
A31: =수량산출서!C24 -> 교실벽체철거 | B31: =수량산출서!D24 -> 해체재 재사용 안 함 | C31: M2 | D31: =수량산출서!H24 -> 25.632 | G31: =일위대가목록!F16 -> 15157 | H31: =TRUNC(G31*D31, 0) -> 388504 | K31: =TRUNC(E31+G31+I31, 0) -> 15157 | L31: =TRUNC(F31+H31+J31, 0) -> 388504 | M31: 호표 10
A32: =수량산출서!C25 -> 복도벽철거 | B32: =수량산출서!D25 -> 해체재 재사용 안 함 | C32: M2 | D32: =수량산출서!H25 -> 23.328 | G32: =G31 -> 15157 | H32: =TRUNC(G32*D32, 0) -> 353582 | K32: =TRUNC(E32+G32+I32, 0) -> 15157 | L32: =TRUNC(F32+H32+J32, 0) -> 353582 | N32: 5B5B6621E5A256898C725313D21AB6 | Q32: 010107 | R32: T | S32: F | T32: F | AU32: 0101075B5B6621E5A256898C725313D21AB6 | AV32: 193
A33: =수량산출서!C26 -> 천정 등박스 철거 | B33: =수량산출서!D26 -> 해체재 재사용 안 함 | C33: M2 | D33: =수량산출서!H26 -> 19.44 | G33: =G32 -> 15157 | H33: =TRUNC(G33*D33, 0) -> 294652 | K33: =TRUNC(E33+G33+I33, 0) -> 15157 | L33: =TRUNC(F33+H33+J33, 0) -> 294652 | N33: 5B5A66B0AB92A6FDD882934EEC9E77 | Q33: 010107 | R33: F | S33: F | T33: T | AU33: 0101075B5A66B0AB92A6FDD882934EEC9E77 | AV33: 191
N34: 5B5A66B0AB92A6FDD882934EEC9D50 | Q34: 010107 | R34: F | S34: F | T34: T | AU34: 0101075B5A66B0AB92A6FDD882934EEC9D50 | AV34: 145
A50: [ 합 계 ] | F50: =SUMIF(Q29:Q49,"010107",F29:F49) -> 0 | H50: =SUM(H29:H34) -> 1274158 | J50: =SUM(J29:J34) -> 1060 | L50: =SUM(L29:L34) -> 1275218 | N50: TOTAL
A51: 010103 건설폐기물처리비 | Q51: 010109
A52: 혼합건설폐기물 | B52: 불연성+가연성 | C52: TON | D52: =수량산출서!H27 -> 2.5 | E52: =TRUNC(단가대비표!O53,0) -> 0 | F52: =TRUNC(E52*D52, 0) -> 0 | G52: =TRUNC(단가대비표!P53,0) -> 0 | H52: =TRUNC(G52*D52, 0) -> 0 | I52: =일위대가목록!G13 -> 40900 | J52: =TRUNC(I52*D52, 0) -> 102250 | K52: =TRUNC(E52+G52+I52, 0) -> 40900 | L52: =TRUNC(F52+H52+J52, 0) -> 102250 | N52: 5B5A66B0AB92A6FC3302D361731461 | Q52: 010109 | R52: F | S52: F | T52: T | AU52: 0101095B5A66B0AB92A6FC3302D361731461 | AV52: 152
A53: 혼합건설폐기물 운반비 | B53: 암롤트럭 | C53: TON | D53: =D52 -> 2.5 | E53: =TRUNC(단가대비표!O55,0) -> 0 | F53: =TRUNC(E53*D53, 0) -> 0 | G53: =TRUNC(단가대비표!P55,0) -> 0 | H53: =TRUNC(G53*D53, 0) -> 0 | I53: =일위대가목록!G15 -> 40900 | J53: =TRUNC(I53*D53, 0) -> 102250 | K53: =TRUNC(E53+G53+I53, 0) -> 40900 | L53: =TRUNC(F53+H53+J53, 0) -> 102250 | N53: 5B5A66B0AB92A6FDD882934EE9CBBF | Q53: 010109 | R53: F | S53: F | T53: T | AU53: 0101095B5A66B0AB92A6FDD882934EE9CBBF | AV53: 154
A75: [ 합 계 ] | F75: =SUMIF(Q52:Q74,"010109",F52:F74) -> 0 | H75: =SUMIF(Q52:Q74,"010109",H52:H74) -> 0 | J75: =SUM(J52:J53) -> 204500 | L75: =SUM(L52:L53) -> 204500 | N75: TOTAL
A76: 010104 냉난방기 및 공조설비공사 | Q76: 010111
A77: 실내기 이전 | B77: 천장형 4way | C77: EA | D77: 1 | E77: =TRUNC(단가대비표!O72,0) -> 1765000 | F77: =TRUNC(E77*D77, 0) -> 1765000 | G77: =TRUNC(단가대비표!P72,0) -> 0 | H77: =TRUNC(G77*D77, 0) -> 0 | I77: =TRUNC(단가대비표!V72,0) -> 0 | J77: =TRUNC(I77*D77, 0) -> 0 | K77: =TRUNC(E77+G77+I77, 0) -> 1765000 | L77: =TRUNC(F77+H77+J77, 0) -> 1765000 | M77: 자재 51 | N77: 5AED96AB8AA2A613B6F233C1B7FAE2FD867444 | Q77: 010111 | R77: F | S77: F | T77: T | AU77: 0101115AED96AB8AA2A613B6F233C1B7FAE2FD867444 | AV77: 108
N78: 5AED96AB8AA2A613B6F233C1B7FAE2FD86744B | Q78: 010111 | R78: F | S78: F | T78: T | AU78: 0101115AED96AB8AA2A613B6F233C1B7FAE2FD86744B | AV78: 109
N79: 5AED96AB8AA2A613B6F233C1B7FAE2FD86744A | Q79: 010111 | R79: F | S79: F | T79: T | AU79: 0101115AED96AB8AA2A613B6F233C1B7FAE2FD86744A | AV79: 110
N80: 5AED96AB8AA2A613B6F233C1B7FAE2FD86756A | Q80: 010111 | R80: F | S80: F | T80: T | AU80: 0101115AED96AB8AA2A613B6F233C1B7FAE2FD86756A | AV80: 111
N81: 5AED96AB8AA2A613B6F233C1B7FAE2FD86756B | Q81: 010111 | R81: F | S81: F | T81: T | AU81: 0101115AED96AB8AA2A613B6F233C1B7FAE2FD86756B | AV81: 112
A100: [ 합 계 ] | F100: =SUMIF(Q77:Q99,"010111",F77:F99) -> 1765000 | H100: =SUMIF(Q77:Q99,"010111",H77:H99) -> 0 | J100: =SUMIF(Q77:Q99,"010111",J77:J99) -> 0 | L100: =SUMIF(Q77:Q99,"010111",L77:L99) -> 1765000 | N100: TOTAL
A101: 010105 배선및 등기구설치 | Q101: 010112
A102: =수량산출서!C33 -> 항공실습실 배선,배관 | B102: =수량산출서!D33 -> 2.5mm / SF배관 | C102: =수량산출서!F33 -> M2 | D102: =수량산출서!H33 -> 64.08 | E102: =811000/64.08 -> 12656.055 | F102: =TRUNC(E102*D102, 0) -> 811000 | G102: =1599000/64.08 -> 24953.184 | H102: =TRUNC(G102*D102, 0) -> 1599000 | I102: =TRUNC(단가대비표!V73,0) -> 0 | J102: =TRUNC(I102*D102, 0) -> 0 | K102: =TRUNC(E102+G102+I102, 0) -> 37609 | L102: =TRUNC(F102+H102+J102, 0) -> 2410000 | M102: =단가대비표!W73 -> 자재 52 | N102: 5AED96AB8AA2A613B6F233C1B7FAE2FD867568 | Q102: 010112 | R102: F | S102: F | T102: T | AU102: 0101125AED96AB8AA2A613B6F233C1B7FAE2FD867568 | AV102: 113
A103: =수량산출서!C34 -> 4인치 매입등 | B103: =수량산출서!D34 -> LED 주백색 | C103: =수량산출서!F34 -> EA | D103: =수량산출서!H34 -> 23 | E103: =단가대비표!O74 -> 3380 | F103: =TRUNC(E103*D103, 0) -> 77740 | K103: =TRUNC(E103+G103+I103, 0) -> 3380 | L103: =TRUNC(F103+H103+J103, 0) -> 77740 | M103: =단가대비표!W74 -> 자재 53
A104: =수량산출서!C35 -> 6인치 매입등 | B104: =수량산출서!D35 -> LED 주백색 | C104: =수량산출서!F35 -> EA | D104: =수량산출서!H35 -> 10 | E104: =단가대비표!O75 -> 3980 | F104: =TRUNC(E104*D104, 0) -> 39800 | K104: =TRUNC(E104+G104+I104, 0) -> 3980 | L104: =TRUNC(F104+H104+J104, 0) -> 39800 | M104: =단가대비표!W75 -> 자재 54
A105: =수량산출서!C36 -> T5 간접등 - 1200 | B105: =수량산출서!D36 -> LED 주백색 | C105: =수량산출서!F36 -> EA | D105: =수량산출서!H36 -> 5 | E105: =단가대비표!O76 -> 11990 | F105: =TRUNC(E105*D105, 0) -> 59950 | K105: =TRUNC(E105+G105+I105, 0) -> 11990 | L105: =TRUNC(F105+H105+J105, 0) -> 59950 | M105: =단가대비표!W76 -> 자재 55
A106: =수량산출서!C37 -> 스위치설치 | B106: =수량산출서!D37 -> 1구,2구,6구 | C106: =수량산출서!F37 -> EA | D106: =수량산출서!H37 -> 4 | E106: =단가대비표!O78 -> 5064 | F106: =TRUNC(E106*D106, 0) -> 20256 | K106: =TRUNC(E106+G106+I106, 0) -> 5064 | L106: =TRUNC(F106+H106+J106, 0) -> 20256 | M106: =단가대비표!W77 -> 자재 56
A107: =수량산출서!C38 -> 콘센트설치 | B107: =수량산출서!D38 -> 2구 | C107: =수량산출서!F38 -> EA | D107: =수량산출서!H38 -> 4 | E107: =단가대비표!O80 -> 3182 | F107: =TRUNC(E107*D107, 0) -> 12728 | K107: =TRUNC(E107+G107+I107, 0) -> 3182 | L107: =TRUNC(F107+H107+J107, 0) -> 12728 | M107: =단가대비표!W80 -> 자재 59
A125: [ 합 계 ] | F125: =SUM(F102:F113) -> 1021474 | H125: =SUM(H102:H113) -> 1599000 | J125: =SUMIF(Q102:Q124,"010112",J102:J124) -> 0 | L125: =SUM(L102:L113) -> 2620474 | N125: TOTAL
A126: 010106 목공사및 수장공사 | B126: 항공실습실 | Q126: 010301
A127: 동체 벽체조성 | B127: MDF 18T CNC + MDF 6T 2P | C127: M2 | D127: =수량산출서!H43 -> 7.02 | E127: =일위대가목록!E31 -> 17606.3 | F127: =TRUNC(E127*D127, 0) -> 123596 | G127: =일위대가목록!F31 -> 27916.9 | H127: =TRUNC(G127*D127, 0) -> 195976 | I127: =일위대가목록!G31 -> 558.3 | J127: =TRUNC(I127*D127, 0) -> 3919 | K127: =TRUNC(E127+G127+I127, 0) -> 46081 | L127: =TRUNC(F127+H127+J127, 0) -> 323491 | M127: 호표 26 | N127: 5B5A8681F002569F87B283B8F8DB6B | Q127: 010301 | R127: T | S127: F | T127: F | AU127: 0103015B5A8681F002569F87B283B8F8DB6B | AV127: 122
A128: 갤리벽체 조성 | B128: 각재+석고9.5T 2P | C128: M2 | D128: =수량산출서!H44 -> 48.06 | E128: =E132 -> 6351 | F128: =TRUNC(E128*D128, 0) -> 305229 | G128: =G132 -> 27433 | H128: =TRUNC(G128*D128, 0) -> 1318429 | I128: =I132 -> 274 | J128: =TRUNC(I128*D128, 0) -> 13168 | K128: =TRUNC(E128+G128+I128, 0) -> 34058 | L128: =TRUNC(F128+H128+J128, 0) -> 1636826 | M128: 호표 27
A129: 내수합판 설치(반자틀보강대) | B129: 5T | C129: M2 | D129: =수량산출서!H45 -> 9.72 | E129: =TRUNC(일위대가목록!E33,0) -> 6526 | F129: =TRUNC(E129*D129, 0) -> 63432 | G129: =TRUNC(일위대가목록!F33,0) -> 18183 | H129: =TRUNC(G129*D129, 0) -> 176738 | I129: =TRUNC(일위대가목록!G33,0) -> 363 | J129: =TRUNC(I129*D129, 0) -> 3528 | K129: =TRUNC(E129+G129+I129, 0) -> 25072 | L129: =TRUNC(F129+H129+J129, 0) -> 243698 | M129: 호표 28 | N129: 5B5AE66B49223627C152635FA4C55F | Q129: 010301 | R129: T | S129: F | T129: F | AU129: 0103015B5AE66B49223627C152635FA4C55F | AV129: 69
...

Sheet 일위대가목록
B1: 일 위 대 가 목 록
B2: =갑지!D6 -> 강원도립대학교 RISE사업 현장기반형 산학연계 교육환경개선 공사 (호텔관광과)
A3: 코 드 | B3: 품 명 | C3: 규 격 | D3: 단위 | E3: 재 료 비 | F3: 노 무 비 | G3: 경 비 | H3: 합 계 | I3: 번 호 | J3: 비 고 | K3: 노임계수 | L3: 할증 | M3: 품셈개요 | N3: 장비일위
A4: 5B5A66B52F826694E9D28373DDBC8A | B4: 강관 조립말비계(이동식)설치 및 해체 | C4: 높이 2m, 3개월 | D4: 대 | E4: =일위대가!F15 -> 14835 | F4: =일위대가!H15 -> 94574 | G4: =일위대가!J15 -> 0 | H4: =E4+F4+G4 -> 109409 | I4: 호표 1 | M4: 공통 2-7-4, 2-2-5
B5: 먹메김 | C5: 구조부일반 | D5: M2 | E5: =일위대가!F19 -> 0 | F5: =일위대가!H19 -> 1396.335 | G5: =일위대가!J19 -> 0 | H5: =E5+F5+G5 -> 1396.335 | I5: 호표 2
A6: 5B5A66B0A8C2B69DBC32D31910A832 | B6: 건축물보양 | C6: 플라베니아(PVC골판지) | D6: M2 | E6: =일위대가!F25 -> 2796 | F6: =일위대가!H25 -> 1720 | G6: =일위대가!J25 -> 0 | H6: =E6+F6+G6 -> 4516 | I6: 호표 3
A7: 5B5A66B0AB9296D6C9B2E35DB1E02A | B7: 건축물 현장정리 | C7: 리모델링 | D7: M2 | E7: =일위대가!F29 -> 0 | F7: =일위대가!H29 -> 22368 | G7: =일위대가!J29 -> 0 | H7: =E7+F7+G7 -> 22368 | I7: 호표 4
B8: 소운반 | C8: 3층,인력 | D8: M2 | E8: =일위대가!F34 -> 0 | F8: =일위대가!H34 -> 7743 | G8: =일위대가!J34 -> 0 | H8: =E8+F8+G8 -> 7743 | I8: 호표 5
B9: 이코노미석(사이드월)해체및 운반 | C9: 인력운반 | D9: M2 | E9: =일위대가!F39 -> 0 | F9: =일위대가!H39 -> 13190 | G9: =일위대가!J39 -> 0 | H9: =E9+F9+G9 -> 13190 | I9: 호표 5-1
A10: 5B5A66B0AE5256D2F56283A7947F00 | B10: 준공청소 | C10: 보통인부 | D10: M2 | E10: =일위대가!F46 -> 0 | F10: =일위대가!H46 -> 3441 | G10: =일위대가!J46 -> 0 | H10: =E10+F10+G10 -> 3441 | I10: 호표 6 | M10: 공통 2-11-3
A11: 5B5A66B0AE5256D2F56283A68D0D29 | B11: 입주청소 | C11: 보통인부 | D11: M2 | E11: =일위대가!F50 -> 0 | F11: =일위대가!H50 -> 5162 | G11: =일위대가!J50 -> 0 | H11: =E11+F11+G11 -> 5162 | I11: 호표 7 | M11: 공통 2-11-4
B12: 폐기물운반및처리 | C12: 건설폐재류 / 폐벽돌외 | D12: TON | E12: =일위대가!F55 -> 0 | F12: =일위대가!H55 -> 0 | G12: =일위대가!K53 -> 49571 | H12: =E12+F12+G12 -> 49571 | I12: 호표 8
C13: 운반비 | D13: TON | G13: =일위대가!K54 -> 40900 | H13: =E13+F13+G13 -> 40900
B14: 폐기물운반및처리 | C14: 혼합폐기물 / 불연성+가연성 | D14: TON | E14: =일위대가!F60 -> 0 | F14: =일위대가!H60 -> 0 | G14: =일위대가!K58 -> 72721 | H14: =E14+F14+G14 -> 72721 | I14: 호표 9
C15: 운반비 | D15: TON | G15: =일위대가!K59 -> 40900 | H15: =E15+F15+G15 -> 40900
A16: 5B5B6621ECD266052AE2E341B252E9 | B16: 목조, 칸막이벽 철거 | C16: 해체재 재사용 안 함 | D16: M2 | E16: =일위대가!F65 -> 0 | F16: =일위대가!H65 -> 15157 | G16: =일위대가!J65 -> 0 | H16: =E16+F16+G16 -> 15157 | I16: 호표 10 | M16: 건축 12-2-1
A17: 5B5B6621ECD26607D922C3A3D2D7F1 | B17: 석고보드 철거(벽) | C17: 2겹 | D17: M2 | E17: =일위대가!F69 -> 0 | F17: =일위대가!H69 -> 10632 | G17: =일위대가!J69 -> 212 | H17: =E17+F17+G17 -> 10844 | I17: 호표 11
A18: 5B5B6621ECD26607D922C3A3D3FFA4 | B18: 조적벽 철거 | D18: M3 | E18: =일위대가!F73 -> 0 | F18: =일위대가!H73 -> 146267 | G18: =일위대가!J73 -> 2925 | H18: =E18+F18+G18 -> 149192 | I18: 호표 12 | M18: 유지관리 3-2-4
A19: 5B5B6621ECD2660630325374F9BFE6 | B19: 텍스, 합판 철거(천장) | C19: 해체재 재사용 안 함 | D19: M2 | E19: =일위대가!F78 -> 0 | F19: =일위대가!H78 -> 7660 | G19: =일위대가!J78 -> 0 | H19: =E19+F19+G19 -> 7660 | I19: 호표 13 | M19: 유지관리 3-2-2
A20: 5B5B6621ECD26601B25243D6CB849F | B20: 경량철골천정틀 철거 | D20: M2 | E20: =일위대가!F82 -> 0 | F20: =일위대가!H82 -> 6688 | G20: =일위대가!J82 -> 133 | H20: =E20+F20+G20 -> 6821 | I20: 호표 14 | M20: 유지관리 3-2-3
A21: 5B5B6621E5A256898C72531006346B | B21: 마루틀 및 마루널 철거 | C21: 해체재 재사용 안 함 | D21: M2 | E21: =일위대가!F87 -> 0 | F21: =일위대가!H87 -> 50523 | G21: =일위대가!J87 -> 0 | H21: =E21+F21+G21 -> 50523 | I21: 호표 15 | M21: 건축 12-2-1
A22: 5B5B6621E5A256898C725313D323E6 | B22: 비닐계타일 철거 | C22: 바닥 및 수장 부분 | D22: M2 | E22: =일위대가!F91 -> 0 | F22: =일위대가!H91 -> 5162 | G22: =일위대가!J91 -> 0 | H22: =E22+F22+G22 -> 5162 | I22: 호표 16 | M22: 건축 12-2-1 준용
A23: 5B5A8681F3D2A6C2150263AC9F4DB6 | B23: 흡음텍스 설치 | D23: M2 | E23: =일위대가!F97 -> 0 | F23: =일위대가!H97 -> 15088 | G23: =일위대가!J97 -> 452 | H23: =E23+F23+G23 -> 15540 | I23: 호표 17 | M23: 건축 5-2-1
A24: 5B5AE668FB0286C2F432532CA496CE | B24: 벽체틀 설치 | C24: 미송, ㅁ-30*30,@300 | D24: M2 | E24: =일위대가!F102 -> 2506 | F24: =일위대가!H102 -> 9733 | G24: =일위대가!J102 -> 194 | H24: =E24+F24+G24 -> 12433 | I24: 호표 18
A25: 5B5A8683BE92665E35D2D33D3BF463 | B25: 비닐타일 깔기 | C25: 비닐타일, 3*600*600mm, 데코타일 | D25: M2 | E25: =일위대가!F107 -> 21330 | F25: =일위대가!H107 -> 17145 | G25: =일위대가!J107 -> 0 | H25: =E25+F25+G25 -> 38475 | I25: 호표 19 | M25: 건축 5-1-1
A26: 5B5A96EA1872D60D5312235937EE57 | B26: 바탕만들기+수성페인트 롤러칠(오염방지,반광) | C26: 벽, 2회, 올퍼티, 친환경(진품) | D26: M2 | E26: =일위대가!F113 -> 2557 | F26: =일위대가!H113 -> 27816 | G26: =일위대가!J113 -> 0 | H26: =E26+F26+G26 -> 30373 | I26: 호표 20
A27: 5B5A96EA1872D60D531283E0755D9C | B27: 바탕만들기+수성페인트 롤러칠(오염방지,반광) | C27: 내천장 2회, G.B.면 올퍼티, 친환경 | D27: M2 | E27: =일위대가!F119 -> 2874 | F27: =일위대가!H119 -> 31960 | G27: =일위대가!J119 -> 0 | H27: =E27+F27+G27 -> 34834 | I27: 호표 21 | M27: 건축 11-1-2,-2-2
A28: 5B5A96EA1872D60D531283E0755CF092 | B28: 바탕만들기+비닐페인트 롤러칠(오염방지,반광) | C28: 내부천장, 2회, G.B.면 올퍼티, 친환경(진품) | D28: M2 | E28: =일위대가!F125 -> 3140 | F28: =일위대가!H125 -> 31960 | G28: =일위대가!J125 -> 0 | H28: =E28+F28+G28 -> 35100 | I28: 호표 22
B29: 방습거울설치 | C29: 5mm이하 | D29: M2 | E29: =일위대가!F137 -> 114717 | F29: =일위대가!H137 -> 64050 | G29: =일위대가!J137 -> 378 | H29: =E29+F29+G29 -> 179145 | I29: 호표 23
B30: 기둥벽체조성 | C30: =공종별내역서!#REF! -> #REF! | D30: M2 | E30: =일위대가!F145 -> 11428.3 | F30: =일위대가!H145 -> 27916.9 | G30: =일위대가!J145 -> 558.3 | H30: =E30+F30+G30 -> 39903.5 | I30: 호표 24
B31: 동체벽체조성 | C31: =공종별내역서!B127 -> MDF 18T CNC + MDF 6T 2P | D31: M2 | E31: =일위대가!F154 -> 17606.3 | F31: =일위대가!H154 -> 27916.9 | G31: =일위대가!J154 -> 558.3 | H31: =E31+F31+G31 -> 46081.5 | I31: 호표 25
B32: 갤리벽체조성 | C32: =공종별내역서!B128 -> 각재+석고9.5T 2P | D32: M2 | E32: =일위대가!F162 -> 7337.8 | F32: =일위대가!H162 -> 58293.6 | G32: =일위대가!J162 -> 0 | I32: 호표 26
A33: 5B5AE66B49223627C152635FA4C55F | B33: 내수합판 설치(반자틀보강대) | C33: 5T | D33: M2 | E33: =일위대가!F168 -> 6526 | F33: =일위대가!H168 -> 18183 | G33: =일위대가!J168 -> 363 | H33: =E33+F33+G33 -> 25072 | I33: 호표 27
A34: 5B5AE668FB0286C2F5D2B34E6D5FFF | B34: 천정 반자틀 설치(기내실습실) | C34: 천정, ㅁ-30*30@300, 외송각재 | D34: M2 | E34: =일위대가!F173 -> 1936 | F34: =일위대가!H173 -> 9733 | G34: =일위대가!J173 -> 194 | H34: =E34+F34+G34 -> 11863 | I34: 호표 28
A35: 5B5AE668FB0286C2F432532CA496CA | B35: 천정 반자틀 보강대(기내실습실) | C35: ㅁ-30*30@600 외송각재 | D35: M2 | E35: =일위대가!F178 -> 1249 | F35: =일위대가!H178 -> 11192 | G35: =일위대가!J178 -> 223 | H35: =E35+F35+G35 -> 12664 | I35: 호표 29
A36: 5B5A8681F002569F87B283B8F8DB6B | B36: 석고판 설치 | C36: 벽체, 일반9.5t*2겹 (자재포함) | D36: M2 | E36: =일위대가!F183 -> 6351 | F36: =일위대가!H183 -> 22889 | G36: =일위대가!J183 -> 228 | H36: =E36+F36+G36 -> 29468 | I36: 호표 30
A37: 5B5A8681F002569C33B2A346E8AD73 | B37: 석고판 설치 | C37: 천장, 일반9.5t*2겹 (자재포함) | D37: M2 | E37: =일위대가!F188 -> 6351 | F37: =일위대가!H188 -> 27433 | G37: =일위대가!J188 -> 274 | H37: =E37+F37+G37 -> 34058 | I37: 호표 31
B38: 플로어힌지설치 | C38: 재료비별도 | D38: M2 | F38: =일위대가!H194 -> 31989 | G38: =일위대가!J193 -> 639.7 | H38: =E38+F38+G38 -> 32628.7 | I38: 호표 32
A39: 5B5AD60D31C2E699CC520343B4B910 | B39: 경량철골천정틀 | C39: M-BAR, H:1m미만. 인써트 유 | D39: M2 | E39: =일위대가!F209 -> 7151 | F39: =일위대가!H209 -> 11402 | G39: =일위대가!J209 -> 684 | H39: =E39+F39+G39 -> 19237 | I39: 호표 33
A40: 5B5AB631DF12561B81B2F3BF0118C1 | B40: 창호유리설치 / 판유리 | C40: 유리두께 12mm 이하 | D40: M2 | E40: =일위대가!F214 -> 0 | F40: =일위대가!H214 -> 34363 | G40: =일위대가!J214 -> 0 | H40: =E40+F40+G40 -> 34363 | I40: 호표 34 | M40: 건축 10-3-1
...

Sheet 일위대가
A1: =갑지!D6 -> 강원도립대학교 RISE사업 현장기반형 산학연계 교육환경개선 공사 (호텔관광과)
A2: 품 명 | B2: 규 격 | C2: 단위 | D2: 수량 | E2: 재 료 비 | G2: 노 무 비 | I2: 경 비 | K2: 합 계 | M2: 비 고 | N2: 일위대가 | O2: 품목코드 | P2: 일위 | Q2: 단산 | R2: 자재 | S2: 손료적용 | T2: 손료저장 | U2: 적용율 | V2: JUK1 | W2: JUK2 | X2: JUK3 | Y2: JUK4 | Z2: JUK5 | AA2: JUK6 | AB2: JUK7 | AC2: JUK8 | AD2: JUK9 | AE2: JUK10 | AF2: JUK11 | AG2: JUK12 | AH2: JUK13 | AI2: JUK14 | AJ2: JUK15 | AK2: JUK16 | AL2: JUK17 | AM2: JUK18 | AN2: JUK19 | AO2: JUK20 | AP2: 할증적용 | AQ2: 할증저장 | AR2: 할증율 | AS2: HAL1 | AT2: HAL2 | AU2: HAL3 | AV2: 자재구분 | AW2: 일위대가+자재 | AX2: 장비일위 | AY2: 설정 | AZ2: 할증체크
E3: 단 가 | F3: 금 액 | G3: 단 가 | H3: 금 액 | I3: 단 가 | J3: 금 액 | K3: 단 가 | L3: 금 액
A4: 강관 조립말비계(이동식)설치 및 해체 높이 2m, 3개월 대 공통 2-7-4, 2-2-5 | M4: 호표-01 | N4: 5B5A66B52F826694E9D28373DDBC8A
A5: 비계안정장치 | B5: 비계안정장치, 비계기본틀, 기둥, 1.2*1.7m | C5: 개 | D5: 0.12 | E5: =단가대비표!O32 -> 4500 | F5: =TRUNC(E5*D5,1) -> 540 | G5: =단가대비표!P32 -> 0 | H5: =TRUNC(G5*D5,1) -> 0 | I5: =단가대비표!V32 -> 0 | J5: =TRUNC(I5*D5,1) -> 0 | K5: =TRUNC(E5+G5+I5,1) -> 4500 | L5: =TRUNC(F5+H5+J5,1) -> 540 | M5: 자재 37 | N5: 5B5A66B52F826694E9D28373DDBC8A | O5: 5C71065FD562C66E9F5223ADF6D43F34B7C755 | P5: F | Q5: F | R5: T | AW5: 5B5A66B52F826694E9D28373DDBC8A5C71065FD562C66E9F5223ADF6D43F34B7C755
A6: 비계안정장치 | B6: 비계안정장치, 가새, 1.2*1.9m | C6: 개 | D6: 0.12 | E6: =단가대비표!O33 -> 1350 | F6: =TRUNC(E6*D6,1) -> 162 | G6: =단가대비표!P33 -> 0 | H6: =TRUNC(G6*D6,1) -> 0 | I6: =단가대비표!V33 -> 0 | J6: =TRUNC(I6*D6,1) -> 0 | K6: =TRUNC(E6+G6+I6,1) -> 1350 | L6: =TRUNC(F6+H6+J6,1) -> 162 | M6: 자재 38 | N6: 5B5A66B52F826694E9D28373DDBC8A | O6: 5C71065FD562C66E9F5223ADF6D43F34B7C75B | P6: F | Q6: F | R6: T | AW6: 5B5A66B52F826694E9D28373DDBC8A5C71065FD562C66E9F5223ADF6D43F34B7C75B
A7: 비계안정장치 | B7: 비계안정장치, 수평띠장, 1829mm | C7: 개 | D7: 0.24 | E7: =단가대비표!O34 -> 4500 | F7: =TRUNC(E7*D7,1) -> 1080 | G7: =단가대비표!P34 -> 0 | H7: =TRUNC(G7*D7,1) -> 0 | I7: =단가대비표!V34 -> 0 | J7: =TRUNC(I7*D7,1) -> 0 | K7: =TRUNC(E7+G7+I7,1) -> 4500 | L7: =TRUNC(F7+H7+J7,1) -> 1080 | M7: 자재 39 | N7: 5B5A66B52F826694E9D28373DDBC8A | O7: 5C71065FD562C66E9F5223ADF6D43F34B7C87B | P7: F | Q7: F | R7: T | AW7: 5B5A66B52F826694E9D28373DDBC8A5C71065FD562C66E9F5223ADF6D43F34B7C87B
A8: 비계안정장치 | B8: 비계안정장치, 손잡이기둥 | C8: 개 | D8: 0.24 | E8: =단가대비표!O37 -> 15000 | F8: =TRUNC(E8*D8,1) -> 3600 | G8: =단가대비표!P37 -> 0 | H8: =TRUNC(G8*D8,1) -> 0 | I8: =단가대비표!V37 -> 0 | J8: =TRUNC(I8*D8,1) -> 0 | K8: =TRUNC(E8+G8+I8,1) -> 15000 | L8: =TRUNC(F8+H8+J8,1) -> 3600 | M8: 자재 42 | N8: 5B5A66B52F826694E9D28373DDBC8A | O8: 5C71065FD562C66E9F5223ADF6D43F34B7BE74 | P8: F | Q8: F | R8: T | AW8: 5B5A66B52F826694E9D28373DDBC8A5C71065FD562C66E9F5223ADF6D43F34B7BE74
A9: 비계안정장치 | B9: 비계안정장치, 손잡이, 1229mm | C9: 개 | D9: 0.12 | E9: =단가대비표!O38 -> 8000 | F9: =TRUNC(E9*D9,1) -> 960 | G9: =단가대비표!P38 -> 0 | H9: =TRUNC(G9*D9,1) -> 0 | I9: =단가대비표!V38 -> 0 | J9: =TRUNC(I9*D9,1) -> 0 | K9: =TRUNC(E9+G9+I9,1) -> 8000 | L9: =TRUNC(F9+H9+J9,1) -> 960 | M9: 자재 43 | N9: 5B5A66B52F826694E9D28373DDBC8A | O9: 5C71065FD562C66E9F5223ADF6D43F34B7BE77 | P9: F | Q9: F | R9: T | AW9: 5B5A66B52F826694E9D28373DDBC8A5C71065FD562C66E9F5223ADF6D43F34B7BE77
A10: 비계안정장치 | B10: 비계안정장치, 손잡이, 1829mm | C10: 개 | D10: 0.24 | E10: =단가대비표!O39 -> 10000 | F10: =TRUNC(E10*D10,1) -> 2400 | G10: =단가대비표!P39 -> 0 | H10: =TRUNC(G10*D10,1) -> 0 | I10: =단가대비표!V39 -> 0 | J10: =TRUNC(I10*D10,1) -> 0 | K10: =TRUNC(E10+G10+I10,1) -> 10000 | L10: =TRUNC(F10+H10+J10,1) -> 2400 | M10: 자재 44 | N10: 5B5A66B52F826694E9D28373DDBC8A | O10: 5C71065FD562C66E9F5223ADF6D43F34B7BE76 | P10: F | Q10: F | R10: T | AW10: 5B5A66B52F826694E9D28373DDBC8A5C71065FD562C66E9F5223ADF6D43F34B7BE76
A11: 비계안정장치 | B11: 비계안정장치, 바퀴 | C11: 개 | D11: 0.36 | E11: =단가대비표!O35 -> 500 | F11: =TRUNC(E11*D11,1) -> 180 | G11: =단가대비표!P35 -> 0 | H11: =TRUNC(G11*D11,1) -> 0 | I11: =단가대비표!V35 -> 0 | J11: =TRUNC(I11*D11,1) -> 0 | K11: =TRUNC(E11+G11+I11,1) -> 500 | L11: =TRUNC(F11+H11+J11,1) -> 180 | M11: 자재 40 | N11: 5B5A66B52F826694E9D28373DDBC8A | O11: 5C71065FD562C66E9F5223ADF6D43F34B7C87F | P11: F | Q11: F | R11: T | AW11: 5B5A66B52F826694E9D28373DDBC8A5C71065FD562C66E9F5223ADF6D43F34B7C87F
A12: 비계안정장치 | B12: 비계안정장치, 쟈키 | C12: 개 | D12: 0.36 | E12: =단가대비표!O36 -> 11000 | F12: =TRUNC(E12*D12,1) -> 3960 | G12: =단가대비표!P36 -> 0 | H12: =TRUNC(G12*D12,1) -> 0 | I12: =단가대비표!V36 -> 0 | J12: =TRUNC(I12*D12,1) -> 0 | K12: =TRUNC(E12+G12+I12,1) -> 11000 | L12: =TRUNC(F12+H12+J12,1) -> 3960 | M12: 자재 41 | N12: 5B5A66B52F826694E9D28373DDBC8A | O12: 5C71065FD562C66E9F5223ADF6D43F34B7C87E | P12: F | Q12: F | R12: T | AW12: 5B5A66B52F826694E9D28373DDBC8A5C71065FD562C66E9F5223ADF6D43F34B7C87E
A13: 비계안정장치 | B13: 비계안정장치, 발판, 40*200*2000 | C13: 장 | D13: 0.63 | E13: =단가대비표!O40 -> 3100 | F13: =TRUNC(E13*D13,1) -> 1953 | G13: =단가대비표!P40 -> 0 | H13: =TRUNC(G13*D13,1) -> 0 | I13: =단가대비표!V40 -> 0 | J13: =TRUNC(I13*D13,1) -> 0 | K13: =TRUNC(E13+G13+I13,1) -> 3100 | L13: =TRUNC(F13+H13+J13,1) -> 1953 | M13: 자재 45 | N13: 5B5A66B52F826694E9D28373DDBC8A | O13: 5C71065FD562C66E9F5223ADF42B01826813D3 | P13: F | Q13: F | R13: T | AW13: 5B5A66B52F826694E9D28373DDBC8A5C71065FD562C66E9F5223ADF42B01826813D3
A14: 강관 조립말비계(이동식)설치 및 해체 | B14: 높이 2m, 노무비 | C14: 대 | D14: 1 | E14: =일위대가목록!E50 -> 0 | F14: =TRUNC(E14*D14,1) -> 0 | G14: =일위대가목록!F50 -> 94574 | H14: =TRUNC(G14*D14,1) -> 94574 | I14: =일위대가목록!G50 -> 0 | J14: =TRUNC(I14*D14,1) -> 0 | K14: =TRUNC(E14+G14+I14,1) -> 94574 | L14: =TRUNC(F14+H14+J14,1) -> 94574 | M14: 호표 51 | N14: 5B5A66B52F826694E9D28373DDBC8A | O14: 5B5A66B52F826694E9D2837236721A | P14: T | Q14: F | R14: F | AW14: 5B5A66B52F826694E9D28373DDBC8A5B5A66B52F826694E9D2837236721A
A15: [ 합 계 ] | F15: =TRUNC(SUMIF(N5:N14, N4, F5:F14),0) -> 14835 | H15: =TRUNC(SUMIF(N5:N14, N4, H5:H14),0) -> 94574 | J15: =TRUNC(SUMIF(N5:N14, N4, J5:J14),0) -> 0 | L15: =F15+H15+J15 -> 109409 | N15: TOTAL | O15: TOTAL
A17: 먹메김 구조부 일반 | C17: M2 | M17: 호표-02
A18: 노무비 | B18: 건축목공 | C18: 인 | D18: 0.005 | E18: 0 | F18: 0 | G18: 279267 | H18: =SUM(G18*D18) -> 1396.335 | I18: 0 | J18: 0 | K18: =TRUNC(E18+G18+I18,1) -> 279267 | L18: =TRUNC(F18+H18+J18,1) -> 1396.3 | N18: 56930133020 | O18: 54400547091 | P18: F | Q18: F | R18: T
A19: [ 합 계 ] | E19: 0 | F19: =SUM(F18:F18) -> 0 | G19: 0 | H19: =SUM(H18:H18) -> 1396.335 | I19: 0 | J19: =SUM(J18:J18) -> 0 | L19: =F19+H19+J19 -> 1396.335 | N19: TOTAL | O19: TOTAL
A21: 건축물보양 플라베니아(PVC골판지) / 공통 2-11-1 | C21: M2 | M21: 호표-03 | N21: 5B5A66B0A8C2B69DBC32D31910A832
A22: PVC골판지 | B22: 보양재 | C22: M2 | D22: 1.2 | E22: =단가대비표!O10 -> 2330 | F22: =TRUNC(E22*D22,1) -> 2796 | G22: =단가대비표!P10 -> 0 | H22: =TRUNC(G22*D22,1) -> 0 | I22: =단가대비표!V10 -> 0 | J22: =TRUNC(I22*D22,1) -> 0 | K22: =TRUNC(E22+G22+I22,1) -> 2330 | L22: =TRUNC(F22+H22+J22,1) -> 2796 | M22: 자재 10 | N22: 5B5A66B0A8C2B69DBC32D31910A832 | O22: 5C60D6C646D286BA4F32839833DF9EA78448C4 | P22: F | Q22: F | R22: T | AW22: 5B5A66B0A8C2B69DBC32D31910A8325C60D6C646D286BA4F32839833DF9EA78448C4
A23: 합성풀 | B23: 합성풀, 건설용 | C23: kg | D23: 0.06 | F23: =TRUNC(E23*D23,1) -> 0 | G23: =단가대비표!P46 -> 0 | H23: =TRUNC(G23*D23,1) -> 0 | I23: =단가대비표!V46 -> 0 | J23: =TRUNC(I23*D23,1) -> 0 | K23: =TRUNC(E23+G23+I23,1) -> 0 | L23: =TRUNC(F23+H23+J23,1) -> 0 | M23: 자재 52 | N23: 5B5A66B0A8C2B69DBC32D31910A832 | O23: 5C711666CE525618E912A3F4FDE2DAFD9A7B39 | P23: F | Q23: F | R23: T | AW23: 5B5A66B0A8C2B69DBC32D31910A8325C711666CE525618E912A3F4FDE2DAFD9A7B39
A24: 보통인부 | B24: 일반공사 직종 | C24: 인 | D24: 0.01 | E24: =단가대비표!O57 -> 0 | F24: =TRUNC(E24*D24,1) -> 0 | G24: =단가대비표!P57 -> 172068 | H24: =TRUNC(G24*D24,1) -> 1720.6 | I24: =단가대비표!V57 -> 0 | J24: =TRUNC(I24*D24,1) -> 0 | K24: =TRUNC(E24+G24+I24,1) -> 172068 | L24: =TRUNC(F24+H24+J24,1) -> 1720.6 | M24: 노임 1 | N24: 5B5A66B0A8C2B69DBC32D31910A832 | O24: 5B8AB68EFFC2567EE6E2D35706BB18BD60C199 | P24: F | Q24: F | R24: T | AW24: 5B5A66B0A8C2B69DBC32D31910A8325B8AB68EFFC2567EE6E2D35706BB18BD60C199
A25: [ 합 계 ] | F25: =TRUNC(SUMIF(N22:N24, N21, F22:F24),0) -> 2796 | H25: =TRUNC(SUMIF(N22:N24, N21, H22:H24),0) -> 1720 | J25: =TRUNC(SUMIF(N22:N24, N21, J22:J24),0) -> 0 | L25: =F25+H25+J25 -> 4516 | N25: TOTAL | O25: TOTAL
A27: 건축물 현장정리 철근콘크리트조 / 공통 2-11-2 | C27: M2 | M27: 호표-04 | N27: 5B5A66B0AB9296D6C9B2E35DB1E02A
A28: 보통인부 | B28: 일반공사 직종 | C28: 인 | D28: 0.13 | E28: =단가대비표!O57 -> 0 | F28: =TRUNC(E28*D28,1) -> 0 | G28: =단가대비표!P57 -> 172068 | H28: =TRUNC(G28*D28,1) -> 22368.8 | I28: =단가대비표!V57 -> 0 | J28: =TRUNC(I28*D28,1) -> 0 | K28: =TRUNC(E28+G28+I28,1) -> 172068 | L28: =TRUNC(F28+H28+J28,1) -> 22368.8 | M28: 노임 1 | N28: 5B5A66B0AB9296D6C9B2E35DB1E02A | O28: 5B8AB68EFFC2567EE6E2D35706BB18BD60C199 | P28: F | Q28: F | R28: T | AW28: 5B5A66B0AB9296D6C9B2E35DB1E02A5B8AB68EFFC2567EE6E2D35706BB18BD60C199
A29: [ 합 계 ] | F29: =TRUNC(SUMIF(N28:N28, N27, F28:F28),0) -> 0 | H29: =TRUNC(SUMIF(N28:N28, N27, H28:H28),0) -> 22368 | J29: =TRUNC(SUMIF(N28:N28, N27, J28:J28),0) -> 0 | L29: =F29+H29+J29 -> 22368 | N29: TOTAL | O29: TOTAL
A31: 자재소운반 3층,인력 / 일반 1-2-7 | C31: M2 | M31: 호표-05
A32: 노무비 | B32: 보통인부 | C32: 인 | D32: 0.045 | E32: =[1]단가대비표!Q172 -> 0 | F32: =TRUNC(E32*D32,1) -> 0 | G32: =G28 -> 172068 | H32: =TRUNC(G32*D32,1) -> 7743 | J32: =TRUNC(I32*D32,1) -> 0 | K32: =TRUNC(E32+G32+I32,1) -> 172068 | L32: =TRUNC(F32+H32+J32,1) -> 7743 | N32: 56930570040 | O32: 56900017041 | P32: F | Q32: F | R32: T
A34: [ 합 계 ] | E34: 0 | F34: =TRUNC(SUM(F32:F32),0) -> 0 | G34: 0 | H34: =TRUNC(SUM(H32:H32),0) -> 7743 | I34: 0 | J34: =TRUNC(SUM(J32:J32),0) -> 0 | L34: =F34+H34+J34 -> 7743 | N34: TOTAL | O34: TOTAL
A36: 인력운반 인력 / 일반 1-2-7 | M36: 호표-05 - 1
A37: 이코노미석헤체 및 운반 | B37: 보통인부 | C37: 인 | D37: =1.05/18 -> 0.058333333 | F37: =TRUNC(E37*D37,1) -> 0 | G37: =단가대비표!P58 -> 226122 | H37: =TRUNC(G37*D37,1) -> 13190.4 | J37: =TRUNC(I37*D37,1) -> 0 | K37: =TRUNC(E37+G37+I37,1) -> 226122 | L37: =TRUNC(F37+H37+J37,1) -> 13190.4 | N37: 56930570040 | O37: 56900017041 | P37: F | Q37: F | R37: T
A38: 사이드월 해체 및 운반 | J38: =TRUNC(I38*D38,1) -> 0 | K38: =TRUNC(E38+G38+I38,1) -> 0 | L38: =TRUNC(F38+H38+J38,1) -> 0
A39: [ 합 계 ] | E39: 0 | F39: =TRUNC(SUM(F37:F37),0) -> 0 | G39: 0 | H39: =TRUNC(SUM(H37:H37),0) -> 13190 | I39: 0 | J39: =TRUNC(SUM(J37:J37),0) -> 0 | L39: =F39+H39+J39 -> 13190 | N39: TOTAL | O39: TOTAL
A40: 산출근거 | B40: Q=N * q / N=VT/120L+Vt | C40: (1일 운반횟수) N=450분/(2400/1000)+2 = | G40: =400/((2400/1000)+3) -> 74.074074 | H40: (1일운반량)'Q=74회*25kg= | J40: =74*25 -> 1850 | K40: kg
B41: 소요인력(품) = 총중량 / 1일운반량 | C41: 50kg*13개 / 1850kg = | F41: =(50*13)/1850 -> 0.35135135 | G41: 품*해체할증 50% *2인1조 = | I41: =F41*1.5*2 -> 1.0540541 | J41: / 18세트 = 0.58
A42: Q : 1일 운반량(㎥ 또는 ㎏) , N : 1일 운반횟수 , q : 1회 운반량(㎥ 또는 ㎏) , T : 1일 실작업시간(480분-30분) , L : 운반거리(m) , t : 적재적하 시간(분) , V : 평균왕복속도(m / hr)
M43: 호표-06
A44: 준공청소 M2 공통 2-11-3 ( 호표 4 ) | N44: 5B5A66B0AE5256D2F56283A7947F00
A45: 보통인부 | B45: 일반공사 직종 | C45: 인 | D45: 0.02 | E45: =단가대비표!O57 -> 0 | F45: =TRUNC(E45*D45,1) -> 0 | G45: =단가대비표!P57 -> 172068 | H45: =TRUNC(G45*D45,1) -> 3441.3 | I45: =단가대비표!V57 -> 0 | J45: =TRUNC(I45*D45,1) -> 0 | K45: =TRUNC(E45+G45+I45,1) -> 172068 | L45: =TRUNC(F45+H45+J45,1) -> 3441.3 | M45: 노임 1 | N45: 5B5A66B0AE5256D2F56283A7947F00 | O45: 5B8AB68EFFC2567EE6E2D35706BB18BD60C199 | P45: F | Q45: F | R45: T | AW45: 5B5A66B0AE5256D2F56283A7947F005B8AB68EFFC2567EE6E2D35706BB18BD60C199
A46: [ 합 계 ] | F46: =TRUNC(SUMIF(N45:N45, N44, F45:F45),0) -> 0 | H46: =TRUNC(SUMIF(N45:N45, N44, H45:H45),0) -> 3441 | J46: =TRUNC(SUMIF(N45:N45, N44, J45:J45),0) -> 0 | L46: =F46+H46+J46 -> 3441 | N46: TOTAL | O46: TOTAL
...

Sheet 중기단가목록
B1: 중 기 단 가 목 록
B2: [ [2024학년도 자율혁신지원사업] 창의적 환경개선공사(2차) 중 항공서비스학과 실습실 ]
A3: 코 드 | B3: 품 명 | C3: 규 격 | D3: 단위 | E3: 재 료 비 | F3: 노 무 비 | G3: 경 비 | H3: 합 계 | I3: 번 호 | J3: 비 고 | K3: START | L3: 품셈개요

Sheet 중기단가산출서
A1: 중 기 단 가 산 출 서
A2: [ [2024학년도 자율혁신지원사업] 창의적 환경개선공사(2차) 중 항공서비스학과 실습실 ]
A3: 산 출 내 역 | B3: 재 료 비 | C3: 노 무 비 | D3: 경 비 | E3: 합 계 | F3: 비 고 | G3: START | H3: 코드 | I3: 품명 | J3: 규격 | K3: 단위 | L3: 수량 | M3: 변수 | N3: 값 | O3: 소계 | P3: 소계 | Q3: 소계 | R3: 소계 | S3: 소계 | T3: 총계
A4: ( )
A6: 총 계 | E6: 0

Sheet 단가대비표
A1: 단 가 대 비 표
A2: =갑지!D6 -> 강원도립대학교 RISE사업 현장기반형 산학연계 교육환경개선 공사 (호텔관광과)
A3: 코 드 | B3: 품 명 | C3: 규격 | D3: 단위 | E3: 재 료 비 | P3: 노 무 비 | Q3: 경 비 | W3: 번 호 | X3: 품목구분 | Y3: 노임구분 | Z3: 소수점처리 | AA3: 자재구분
E4: 물가정보 | F4: PAGE | G4: 거래가격 | H4: PAGE | I4: 유통물가 | J4: PAGE | K4: 조사가격1 | L4: PAGE | M4: 조사가격2 | N4: PAGE | O4: 적용단가 | Q4: 조달청가격 | R4: 거래가격 | S4: 유통물가 | T4: 조사가격1 | U4: 조사가격2 | V4: 적용단가
A5: 5C5626E31EB2569255028394A8AC18C1AFDBBB | B5: 보통합판 | C5: 보통합판, 1급, 12*1220*2440mm | D5: M2 | E5: 32700 | F5: 587 | G5: 34500 | H5: 667 | I5: 33700 | J5: 407 | K5: 0 | M5: 0 | O5: =SMALL(E5:M5,COUNTIF(E5:M5,0)+1)/2.88 -> 11354.167 | P5: 0 | Q5: 0 | R5: 0 | S5: 0 | T5: 0 | U5: 0 | V5: 0 | W5: 자재 1
B6: 보통합판 | C6: 보통합판, 준내수, 4.8*1220*2440mm | D6: M2 | E6: 17600 | F6: 587 | G6: 14900 | H6: 667 | I6: 13900 | J6: 407 | O6: =SMALL(E6:M6,COUNTIF(E6:M6,0)+1)/2.88 -> 4826.3889 | W6: 자재 2
B7: 중밀도섬유판(MDF) | C7: 9*1220*2440mm | D7: M2 | E7: 13700 | F7: 588 | G7: 17600 | H7: 668 | I7: 14400 | J7: 409 | O7: =SMALL(E7:M7,COUNTIF(E7:M7,0)+1)/2.88 -> 4756.9444 | W7: 자재 3
A8: 5C71065FDAE2E6670B920354AA38B445066473 | B8: 석고보드 | C8: 석고보드, 평보드, 9.5*900*1800mm(㎡) | D8: M2 | E8: 5000 | F8: 588 | G8: 4900 | H8: 668 | I8: 5280 | J8: 408 | K8: 0 | M8: 0 | O8: =SMALL(E8:M8,COUNTIF(E8:M8,0)+1) -> 4900 | P8: 0 | Q8: 0 | R8: 0 | S8: 0 | T8: 0 | U8: 0 | V8: 0 | W8: 자재 4
A9: 5C5626E31EB2569255028394A8AC18C1AFDF15 | B9: 내수합판 | C9: 내수합판, 1급, 12*910*1820mm | D9: M2 | E9: 24900 | F9: 587 | G9: 19200 | H9: 677 | I9: 17900 | J9: 407 | K9: 0 | M9: 0 | O9: =SMALL(E9:M9,COUNTIF(E9:M9,0)+1)/2.88 -> 6215.2778 | P9: 0 | Q9: 0 | R9: 0 | S9: 0 | T9: 0 | U9: 0 | V9: 0 | W9: 자재 5
A10: 5C60D6C646D286BA4F32839833DF9EA78448C4 | B10: PVC골판지 | C10: 플라스틱골판지 3T*900*1800 | D10: M2 | E10: 2376 | F10: 69 | G10: 5500 | H10: 1472 | I10: 2330 | J10: 1196 | K10: 0 | O10: =SMALL(E10:M10,COUNTIF(E10:M10,0)+1) -> 2330 | P10: 0 | Q10: 0 | R10: 0 | S10: 0 | T10: 0 | U10: 0 | V10: 0 | W10: 자재 6
A11: 5C71065FDC92E689100223C564D8E702754BF7 | B11: 아연도강판 | C11: 1.00＜T≤1.20, 29.10㎏/매 | D11: 매 | E11: 44560 | F11: 16 | K11: 0 | M11: 0 | O11: =SMALL(E11:M11,COUNTIF(E11:M11,0)+1) -> 44560 | P11: 0 | Q11: 0 | R11: 0 | S11: 0 | T11: 0 | U11: 0 | V11: 0 | W11: 자재 7
A12: 5C71065FDC92F694F42203024CFEA9D1CB097C | B12: 각재 | C12: 각재, 외송 / 1M3 = 299.5재 | D12: M3 | E12: =E16 -> 0 | G12: =G16 -> 838600 | I12: =I16 -> 795771.5 | K12: 0 | M12: 0 | O12: =SMALL(E12:M12,COUNTIF(E12:M12,0)+1) -> 795771.5 | P12: 0 | Q12: 0 | R12: 0 | S12: 0 | T12: 0 | U12: 0 | V12: 0 | W12: 자재 8
C13: 각재, 외송(뉴송) / 재=개 | D13: 재 | E13: 2520 | F13: 85 | G13: 2220 | H13: 147 | I13: 2059 | J13: 73 | O13: =SMALL(E13:M13,COUNTIF(E13:M13,0)+1) -> 2059 | W13: 자재 9
A14: 5C71065FDC92F694F42203024CFEA9D1CB097D | B14: 각재 | C14: 각재, 미송 | D14: 재 | G14: 2800 | H14: 147 | I14: 2657 | J14: 73 | K14: 0 | M14: 0 | O14: =SMALL(E14:M14,COUNTIF(E14:M14,0)+1) -> 2657 | P14: 0 | Q14: 0 | R14: 0 | S14: 0 | T14: 0 | U14: 0 | V14: 0 | W14: 자재 10
A15: 5C71065FDC92F694F42203024CFEA9D1CB0905 | B15: 각재 | C15: 각재, 외송, 30*30@300 | D15: M3 | E15: =SUM(E13)*299.5 -> 754740 | G15: =SUM(G13)*299.5 -> 664890 | I15: =SUM(I13)*299.5 -> 616670.5 | K15: 0 | M15: 0 | O15: =SMALL(E15:M15,COUNTIF(E15:M15,0)+1) -> 616670.5 | P15: 0 | Q15: 0 | R15: 0 | S15: 0 | T15: 0 | U15: 0 | V15: 0 | W15: 자재 11
A16: 5C71065FDC92F694F42203024CFEA9D1CB0F99 | B16: 각재 | C16: 각재, 미송, 30*30@300 | D16: M3 | E16: =SUM(E14)*299.5 -> 0 | G16: =SUM(G14)*299.5 -> 838600 | I16: =SUM(I14)*299.5 -> 795771.5 | K16: 0 | M16: 0 | O16: =SMALL(E16:M16,COUNTIF(E16:M16,0)+1) -> 795771.5 | P16: 0 | Q16: 0 | R16: 0 | S16: 0 | T16: 0 | U16: 0 | V16: 0 | W16: 자재 12
A17: 5C71065FDAE2E664B752E3C7E0C6B9839E3C33 | B17: 경량철골천장틀 | C17: 경량철골천장틀, M-BAR, 50*19*0.5mm | D17: M | E17: 1619 | F17: 641 | G17: 1160 | H17: 673 | I17: 910 | J17: 420 | K17: 0 | M17: 0 | O17: =SMALL(E17:M17,COUNTIF(E17:M17,0)+1) -> 910 | P17: 0 | Q17: 0 | R17: 0 | S17: 0 | T17: 0 | U17: 0 | V17: 0 | W17: 자재 13
A18: 5C71065FDAE2E664B752E3C7E0C6B9839E3B16 | B18: 경량철골천장틀 | C18: 경량철골천장틀, 달대볼트, 상6*500mm | D18: 개 | E18: 1866 | F18: 641 | G18: 860 | H18: 673 | I18: 1150 | J18: 420 | K18: 0 | M18: 0 | O18: =SMALL(E18:M18,COUNTIF(E18:M18,0)+1) -> 860 | P18: 0 | Q18: 0 | R18: 0 | S18: 0 | T18: 0 | U18: 0 | V18: 0 | W18: 자재 14
A19: 5C71065FDAE2E664B752E3C7E0C6B9839E385C | B19: 경량철골천장틀 | C19: 경량철골천장틀, 캐링찬넬, 38*12*1.2mm | D19: M | E19: 2288 | F19: 641 | G19: 1560 | H19: 673 | I19: 1290 | J19: 420 | K19: 0 | M19: 0 | O19: =SMALL(E19:M19,COUNTIF(E19:M19,0)+1) -> 1290 | P19: 0 | Q19: 0 | R19: 0 | S19: 0 | T19: 0 | U19: 0 | V19: 0 | W19: 자재 15
A20: 5C71065FDAE2E664B752E3C7E0C6B9839E385D | B20: 경량철골천장틀 | C20: 경량철골천장틀, 마이너찬넬, 19*10*1.2mm | D20: M | E20: 1390 | F20: 641 | G20: 980 | H20: 673 | I20: 800 | J20: 420 | K20: 0 | M20: 0 | O20: =SMALL(E20:M20,COUNTIF(E20:M20,0)+1) -> 800 | P20: 0 | Q20: 0 | R20: 0 | S20: 0 | T20: 0 | U20: 0 | V20: 0 | W20: 자재 16
A21: 5C71065FDAE2E664B752E3C7E0C6B9839E385E | B21: 경량철골천장틀 | C21: 경량철골천장틀, 행가및핀, 110*23*18*2.3mm | D21: 개 | E21: 53 | F21: 641 | G21: 310 | H21: 673 | I21: 350 | J21: 420 | K21: 0 | M21: 0 | O21: =SMALL(E21:M21,COUNTIF(E21:M21,0)+1) -> 53 | P21: 0 | Q21: 0 | R21: 0 | S21: 0 | T21: 0 | U21: 0 | V21: 0 | W21: 자재 17
A22: 5C71065FDAE2E664B752E3C7E0C6B9839E385F | B22: 경량철골천장틀 | C22: 경량철골천장틀, 찬넬크립, 37*30*10*1.2mm | D22: 조 | E22: 0 | G22: 0 | I22: 0 | K22: 0 | M22: 111 | O22: =SMALL(E22:M22,COUNTIF(E22:M22,0)+1) -> 111 | P22: 0 | Q22: 0 | R22: 0 | S22: 0 | T22: 0 | U22: 0 | V22: 0 | W22: 자재 18
A23: 5C71065FDAE2E664B752E3C7E0C6B9839E3858 | B23: 경량철골천장틀 | C23: 경량철골천장틀, 캐링조인트, 90*40*13*0.5mm | D23: 조 | E23: 334 | F23: 641 | G23: 0 | I23: 0 | K23: 0 | O23: =SMALL(E23:M23,COUNTIF(E23:M23,0)+1) -> 334 | P23: 0 | Q23: 0 | R23: 0 | S23: 0 | T23: 0 | U23: 0 | V23: 0 | W23: 자재 19
A24: 5C71065FDAE2E664B752E3C7E0C6B9839E3859 | B24: 경량철골천장틀 | C24: 경량철골천장틀, BAR크립, | D24: 개 | E24: 158 | F24: 641 | G24: 0 | I24: 90 | J24: 420 | K24: 0 | O24: =SMALL(E24:M24,COUNTIF(E24:M24,0)+1) -> 90 | P24: 0 | Q24: 0 | R24: 0 | S24: 0 | T24: 0 | U24: 0 | V24: 0 | W24: 자재 20
A25: 5C71065FDAE2E664B752E3C7E0C6B9839E385B | B25: 경량철골천장틀 | C25: 경량철골천장틀, BAR조인트, | D25: 개 | E25: 211 | F25: 641 | G25: 0 | I25: 120 | J25: 420 | K25: 0 | O25: =SMALL(E25:M25,COUNTIF(E25:M25,0)+1) -> 120 | P25: 0 | Q25: 0 | R25: 0 | S25: 0 | T25: 0 | U25: 0 | V25: 0 | W25: 자재 21
A26: 5C71065FDAE2E664B752E3C7E0C6B9839E3965 | B26: 경량철골천장틀 | C26: 경량철골천장틀, 피스, 3*16mm | D26: 개 | E26: 0 | G26: 0 | I26: 0 | K26: 0 | M26: 0 | O26: 0 | P26: 0 | Q26: 0 | R26: 0 | S26: 0 | T26: 0 | U26: 0 | V26: 0 | W26: 자재 22
A27: 5C71065FDAE2E664B752E3C7E0C6B9839E36AB | B27: 경량철골천장틀 | C27: 경량철골천장틀, 몰딩(알루미늄), W형, 15*15*15*15*1.0mm | D27: M | E27: 3432 | F27: 641 | G27: 2480 | H27: 673 | I27: 2480 | J27: 420 | K27: 0 | M27: 0 | O27: =SMALL(E27:M27,COUNTIF(E27:M27,0)+1) -> 2480 | P27: 0 | Q27: 0 | R27: 0 | S27: 0 | T27: 0 | U27: 0 | V27: 0 | W27: 자재 23
B28: 마이텍스 | C28: =공종별내역서!B135 -> 컬러유리 5mm | D28: M2 | E28: 10400 | F28: 590 | I28: 10400 | J28: 414 | O28: =SMALL(E28:M28,COUNTIF(E28:M28,0)+1) -> 10400 | W28: 자재 24
A29: 5C71065FDAE2E6655D32930D64D2703E42D780 | B29: 비닐타일 | C29: 비닐타일, 3*600*600mm, 데코타일 | D29: M2 | E29: 19000 | F29: 629 | G29: 19000 | H29: 712 | I29: 19000 | J29: 499 | M29: 0 | O29: =SMALL(E29:M29,COUNTIF(E29:M29,0)+1) -> 19000 | P29: 0 | Q29: 0 | R29: 0 | S29: 0 | T29: 0 | U29: 0 | V29: 0 | W29: 자재 25
A30: 5C71065FDBF27604EA62C3B9F4C873BA0A54D7 | B30: 강화도어안전문 | C30: 유리문, 12*900*2100mm, 손보호, 투명, 강화유리문 | D30: 개 | G30: 0 | I30: 290000 | J30: 449 | K30: 0 | M30: 0 | O30: =SMALL(E30:M30,COUNTIF(E30:M30,0)+1) -> 290000 | P30: 0 | Q30: 0 | R30: 0 | S30: 0 | T30: 0 | U30: 0 | V30: 0 | W30: 자재 26
A31: 5C71065FDBF27606972243AF06B4816902B880 | B31: 강화유리 | C31: 강화유리, 투명, 12mm | D31: M2 | E31: 43200 | F31: 559 | G31: 44200 | H31: 662 | I31: 48400 | J31: 463 | K31: 0 | M31: 0 | O31: =SMALL(E31:M31,COUNTIF(E31:M31,0)+1) -> 43200 | P31: 0 | Q31: 0 | R31: 0 | S31: 0 | T31: 0 | U31: 0 | V31: 0 | W31: 자재 27
A32: 5C71065FD562C66E9F5223ADF6D43F34B7C755 | B32: 조립식비계틀 | C32: 비계안정장치, 비계기본틀, 기둥, 1.2*1.7m (2개월) | D32: 개 | E32: 43000 | F32: 88 | G32: 4500 | H32: 169 | I32: 32320 | J32: 82 | K32: 0 | M32: 0 | O32: =SMALL(E32:M32,COUNTIF(E32:M32,0)+1) -> 4500 | P32: 0 | Q32: 0 | R32: 0 | S32: 0 | T32: 0 | U32: 0 | V32: 0 | W32: 자재 28
A33: 5C71065FD562C66E9F5223ADF6D43F34B7C75B | B33: 조립식비계틀 | C33: 비계안정장치, 가새, 1.2*1.9m (2개월) | D33: 개 | E33: 11700 | F33: 88 | G33: 1350 | H33: 169 | I33: 9790 | J33: 82 | K33: 0 | M33: 0 | O33: =SMALL(E33:M33,COUNTIF(E33:M33,0)+1) -> 1350 | P33: 0 | Q33: 0 | R33: 0 | S33: 0 | T33: 0 | U33: 0 | V33: 0 | W33: 자재 29
A34: 5C71065FD562C66E9F5223ADF6D43F34B7C87B | B34: 조립식비계틀 | C34: 비계안정장치, 수평띠장, 1829mm (2개월) | D34: 개 | E34: 40800 | F34: 88 | G34: 4500 | H34: 169 | I34: 28480 | J34: 82 | K34: 0 | M34: 0 | O34: =SMALL(E34:M34,COUNTIF(E34:M34,0)+1) -> 4500 | P34: 0 | Q34: 0 | R34: 0 | S34: 0 | T34: 0 | U34: 0 | V34: 0 | W34: 자재 30
A35: 5C71065FD562C66E9F5223ADF6D43F34B7C87F | B35: 조립식비계틀 | C35: 비계안정장치, 바퀴 | D35: 개 | E35: 0 | G35: 0 | I35: 0 | K35: 500 | M35: 0 | O35: =SMALL(E35:M35,COUNTIF(E35:M35,0)+1) -> 500 | P35: 0 | Q35: 0 | R35: 0 | S35: 0 | T35: 0 | U35: 0 | V35: 0 | W35: 자재 31
A36: 5C71065FD562C66E9F5223ADF6D43F34B7C87E | B36: 조립식비계틀 | C36: 비계안정장치, 쟈키 (2개월) | D36: 개 | E36: 14000 | F36: 88 | G36: 11000 | H36: 169 | I36: 11610 | J36: 82 | K36: 0 | M36: 0 | O36: =SMALL(E36:M36,COUNTIF(E36:M36,0)+1) -> 11000 | P36: 0 | Q36: 0 | R36: 0 | S36: 0 | T36: 0 | U36: 0 | V36: 0 | W36: 자재 32
A37: 5C71065FD562C66E9F5223ADF6D43F34B7BE74 | B37: 조립식비계틀 | C37: 비계안정장치, 손잡이기둥 | D37: 개 | E37: 0 | G37: 0 | I37: 0 | K37: 15000 | M37: 0 | O37: =SMALL(E37:M37,COUNTIF(E37:M37,0)+1) -> 15000 | P37: 0 | Q37: 0 | R37: 0 | S37: 0 | T37: 0 | U37: 0 | V37: 0 | W37: 자재 33
A38: 5C71065FD562C66E9F5223ADF6D43F34B7BE77 | B38: 조립식비계틀 | C38: 비계안정장치, 손잡이, 1229mm | D38: 개 | E38: 0 | G38: 0 | I38: 0 | K38: 8000 | M38: 0 | O38: =SMALL(E38:M38,COUNTIF(E38:M38,0)+1) -> 8000 | P38: 0 | Q38: 0 | R38: 0 | S38: 0 | T38: 0 | U38: 0 | V38: 0 | W38: 자재 34
A39: 5C71065FD562C66E9F5223ADF6D43F34B7BE76 | B39: 조립식비계틀 | C39: 비계안정장치, 손잡이, 1829mm | D39: 개 | E39: 0 | G39: 0 | I39: 0 | K39: 10000 | M39: 0 | O39: =SMALL(E39:M39,COUNTIF(E39:M39,0)+1) -> 10000 | P39: 0 | Q39: 0 | R39: 0 | S39: 0 | T39: 0 | U39: 0 | V39: 0 | W39: 자재 35
A40: 5C71065FD562C66E9F5223ADF42B01826813D3 | B40: 조립식비계틀 | C40: 비계안정장치, 안전발판, 400*1829 (2개월) | D40: 장 | E40: 0 | G40: 3100 | H40: 169 | I40: 0 | K40: 18500 | L40: 146 | M40: 0 | O40: =SMALL(E40:M40,COUNTIF(E40:M40,0)+1) -> 3100 | P40: 0 | Q40: 0 | R40: 0 | S40: 0 | T40: 0 | U40: 0 | V40: 0 | W40: 자재 36
...

Sheet 수량산출서
B1: 수 량 산 출 서
B2: 구분 | C2: 품 명 | D2: 규 격(실 명) | E2: 도면번호 | F2: 단위 | G2: 산 출 내 역 | H2: 수량
B3: ○ | C3: =갑지!D6 -> 강원도립대학교 RISE사업 현장기반형 산학연계 교육환경개선 공사 (호텔관광과)
C4: 전체면적 | H4: =H6 -> 0
B6: A | C6: 바닥수량산출 | D6: 전체면적(공사범위)
C7: 01. 전체바닥면적 | F7: M2 | H7: =SUM(H8:H9) -> 137.43
C8: 0101 복도 | F8: =F7 -> M2 | G8: (17.25*3)+(7.2*3) | H8: =(17.25*3)+(7.2*3) -> 73.35
C9: 0102 항공실습실 | F9: =F8 -> M2 | G9: (7.2*8.9) | H9: =(7.2*8.9) -> 64.08
C11: 0101. 가 설 공 사
B12: 1 | C12: 먹매김(마무리용) | D12: 전체면적 | F12: M2 | G12: (7.2*8.9) | H12: =(7.2*8.9) -> 64.08
B13: 2 | C13: 보양 | D13: 플러베이어외 | F13: M2 | G13: (17.25*3)+(7.2*3)+(7.2*8.9) | H13: =(17.25*3)+(7.2*3)+(7.2*8.9)+15 -> 152.43
B14: 4 | C14: 자재소운반 | D14: 3층, 인력 | F14: M2 | G14: (17.25*3)+(7.2*3)+(7.2*8.9) | H14: =H13 -> 152.43
B15: 5 | C15: 현장정리 | D15: 2개월기준 | F15: M2 | G15: (7.2*8.9) | H15: =(7.2*8.9) -> 64.08
B16: 6 | C16: 준공청소 | D16: 1회기준 | F16: M2 | G16: (17.25*3)+(7.2*3)+(7.2*8.9) | H16: =(17.25*3)+(7.2*3)+(7.2*8.9) -> 137.43
B17: 7 | C17: 폐기물운반및처리 | H17: =SUM(H18:H19) -> 4.4
D18: (혼합폐기물) | F18: ton | G18: 2 | H18: =G18 -> 2
D19: (혼합폐기물) | F19: ton | G19: 2.4 | H19: =G19 -> 2.4
B20: 1
C21: 0102. 철거공사(폐기물)
B22: 1 | C22: 이코노미 의자탈거및 이동설치 | D22: 해체재 재사용 | F22: SET | G22: 13 | H22: 13
C23: 사이드월탈거및 이동설치 | D23: 해체재 재사용 | F23: SET | G23: 5 | H23: 5
C24: 교실벽체철거 | D24: 해체재 재사용 안 함 | F24: M2 | G24: 8.9*2.4*1.2 | H24: =8.9*2.4*1.2 -> 25.632
C25: 복도벽철거 | D25: 해체재 재사용 안 함 | F25: M2 | G25: 7.2*2.7*1.2 | H25: =7.2*2.7*1.2 -> 23.328
C26: 천정 등박스 철거 | D26: 해체재 재사용 안 함 | F26: M2 | G26: 3.6*4.5*1.2 | H26: =3.6*4.5*1.2 -> 19.44
C27: 건설폐기물 운반및 처리 | D27: 혼합폐기물 / 가연성+불연성 | F27: TON | G27: 2.5 | H27: 2.5
C29: 0103. 에어컨이설
B30: 1 | C30: 실내기 이전 | D30: 천장형 4way | F30: 대 | G30: 1 | H30: 1
C32: 0104. 베선및 등기구교체
B33: 1 | C33: 항공실습실 배선,배관 | D33: 2.5mm / SF배관 | F33: M2 | G33: (7.2*8.9) | H33: =(7.2*8.9) -> 64.08
C34: 4인치 매입등 | D34: LED 주백색 | F34: EA | G34: 23 | H34: 23
C35: 6인치 매입등 | D35: LED 주백색 | F35: EA | G35: 10 | H35: 10
C36: T5 간접등 - 1200 | D36: LED 주백색 | F36: EA | G36: 5 | H36: 5
C37: 스위치설치 | D37: 1구,2구,6구 | F37: EA | G37: 4 | H37: 4
C38: 콘센트설치 | D38: 2구 | F38: EA | G38: 4 | H38: 4
B39: 3 | C39: 빔프로젝트, 전동스크린 이설 | D39: 기존제품 사용 | F39: 개소 | G39: 2 | H39: 2
C41: 02. 항공실습실
C42: 0201. 목공사및 수장공사
C43: 동체 벽체조성 | D43: MDF 18T CNC + MDF 6T 2P | F43: =공종별내역서!C127 -> M2 | G43: (1.7+0.9)*2.7 | H43: =(1.7+0.9)*2.7 -> 7.02
C44: 갤리벽체 조성 | D44: 각재+석고9.5T 2P*양면 | F44: =공종별내역서!C128 -> M2 | G44: 8.9*2.7*2 | H44: =8.9*2.7*2 -> 48.06
C45: 내수합판 설치(반자틀보강대) | D45: 5T | F45: =공종별내역서!C129 -> M2 | G45: (0.45*7.2)*3 | H45: =(0.45*7.2)*3 -> 9.72
...

Sheet 안전관리비세부내역
B1: 건설기술진흥법에 따른 안전관리비 세부내역
B5: ① 공사장 주변의 통행안전관리대책 비용 | J5: =SUM(J12+J6) -> 568926
B6: PE안전휀스 1.5×0.9 | D6: 58 | E6: m | F6: * | G6: ='[2]3.PE휀스단가산출(참고)'!CX33 -> 4449 | H6: 원 | I6: = | J6: =INT(D6*G6) -> 258042 | K6: 원
B7: 단수정리 | C7: 천원단위 절상 | J7: =10000-RIGHT((SUM(J6)),4) -> 1958 | K7: 원
I8: 합계 | J8: =J7+J6 -> 260000 | K8: 원
B9: ※ 소규모 사업으로 공사장 내 출입 등을 고려하여 PE휀스로 안전통로를 설치하는 기준으로 산정
B10: ※ 공사 현장 여건을 감안하여 조정 적용
B12: ※ 건설기술자 노임단가(고급) | D12: 310884 | E12: 원 | J12: =D12 -> 310884
B13: ② 안전관리계획의 작성 및 검토 비용 | J13: =J21+J24 -> 3650000 | K13: 원
B14: 안전관리계획서 작성비
B15: 직접인건비 | D15: =D12 -> 310884 | E15: 원 | F15: * | G15: 3 | H15: 일 | I15: = | J15: =INT(D15*G15) -> 932652 | K15: 원
B16: 직접경비 | C16: 인쇄비(800page기준) | D16: =80*800 -> 64000 | E16: 원 | F16: * | G16: 3 | H16: 부 | I16: = | J16: =INT(D16*G16) -> 192000 | K16: 원
C17: 제본비 | D17: 3 | E17: 부 | F17: * | G17: 20000 | H17: 원 | I17: = | J17: =INT(D17*G17) -> 60000 | K17: 원
B18: 제경비 | C18: 직접인건비의 110%~120% | D18: =J15 -> 932652 | E18: 원 | F18: * | G18: 1.1 | I18: = | J18: =INT(D18*G18) -> 1025917 | K18: 원
B19: 기술료 | C19: (직접인건비+제경비)의 20%~40% | D19: =J18+J15 -> 1958569 | E19: 원 | F19: * | G19: 0.2 | I19: = | J19: =INT(D19*G19) -> 391713 | K19: 원
B20: 단수정리 | C20: 천원단위 절사 | J20: =-RIGHT((SUM(J15:J19)),4) -> -2282 | K20: 원
G21: (회당) | I21: 합계 | J21: =SUM(J15:J20) -> 2600000 | K21: 원
B23: 안전관리계획서 검토비
B24: 검토비 | C24: 300억미만 | D24: 1050000 | E24: 원 | F24: * | G24: 1 | H24: 회 | I24: = | J24: =D24*G24 -> 1050000 | K24: 원
B26: ③ 안전점검 비용 | J26: =J34 -> 2550000 | K26: 원
B27: 정기안전점검비
B28: 직접인건비 | D28: =D12 -> 310884 | E28: 원 | F28: * | G28: 3 | H28: 인 | I28: = | J28: =INT(D28*G28) -> 932652 | K28: 원 | L28: 외업2인,내업1인
B29: 제경비 | C29: 직접인건비의 110%~120% | D29: =J28 -> 932652 | E29: 원 | F29: * | G29: 1.1 | I29: = | J29: =INT(D29*G29) -> 1025917 | K29: 원
