Workbook
Name _: [0]!a
Name ____LP1: #REF!
Name ____LPB1: #REF!
Name ____LPK1: #REF!
Name ____LU1: #REF!
Name ____LU2: #REF!
Name ____LV01: #REF!
Name ____UP1: #REF!
Name ____UP2: #REF!
Name ___B20996: #REF!
Name ___LP1: #REF!
Name ___LPB1: #REF!
Name ___LPK1: #REF!
Name ___LU1: #REF!
Name ___LU2: #REF!
Name ___LV01: #REF!
Name ___UP1: #REF!
Name ___UP2: #REF!
Name __AA1: #REF!
Name __B20996: #REF!
Name __LP1: #REF!
Name __LPB1: #REF!
Name __LPK1: #REF!
Name __LU1: #REF!
Name __LU2: #REF!
Name __LV01: #REF!
Name __PRN2: #REF!
Name __PRN3: #REF!
Name __PRN4: #REF!
Name __PRN6: #REF!
Name __PRN7: #REF!
Name __ST1: #N/A
Name __UP1: #REF!
Name __UP2: #REF!
Name __W1: #REF!
Name _1: #REF!
Name _1___________3_0Crite: #REF!
Name _1_3_0Crite: #REF!
Name _10: #N/A
Name _10__________단: #REF!
Name _11: #N/A
Name _11_________3_0Crite: #REF!
Name _12: #N/A
Name _12_________3_0Criteria: #REF!
Name _1243: #REF!
Name _13: #N/A
Name _13_________G_0Extr: #REF!
Name _14: #N/A
Name _14_________G_0Extract: #REF!
Name _15: #N/A
Name _15_________단: #REF!
Name _15A: #REF!
Name _16: #N/A
Name _16________3_0Crite: #REF!
Name _17: #N/A
Name _17________3_0Criteria: #REF!
Name _18: #N/A
Name _18________G_0Extr: #REF!
Name _19: #N/A
Name _19________G_0Extract: #REF!

Sheet 갑지
B1: 담당 | G1: 설계자 | O1: 심사자 | W1: 설계 | Z1: 2026 년 7월 일 | AH1: 결 재
W2: 심사 | Z2: =Z1 -> 2026 년 7월 일 | AH2: 월 일
J4: 설 계 서
B6: 공사명 : | D6: 강원도립대학교 RISE사업 현장기반형 산학연계 교육환경개선 공사 (호텔관광과)
B8: 구 분 | E8: 금 액 | AC8: 비 고
B9: 도 급 비 | C9: 공 사 비 | E9: ="일금" &NUMBERSTRING(V9,1)& "원정" -> 일금팔천이백이십육만원정 | V9: ='원가계산서(건축)'!E41 -> 82260000 | AC9: 부가세포함
C10: 공 급 가 액 | E10: ="일금"&NUMBERSTRING(V10,1)&"원정" -> 일금칠천사백칠십구만원정 | V10: ='원가계산서(건축)'!E38 -> 74790000 | AC10: 부가세별도
C11: 부 가 가 치 세 | E11: ="일금"&NUMBERSTRING(V11,1)&"원정" -> 일금칠백사십칠만구천원정 | V11: ='원가계산서(건축)'!E39 -> 7479000 | AC11: 부가세
B12: 총공사금액 | E12: ="일금"&NUMBERSTRING(V12,1)&"원정" -> 일금팔천이백이십육만원정 | V12: =SUM(V9) -> 82260000 | AC12: 부가세포함

Sheet 원가계산서(건축)
B1: 공 사 원 가 계 산 서
B2: =갑지!D6 -> 강원도립대학교 RISE사업 현장기반형 산학연계 교육환경개선 공사 (호텔관광과)
B3: 비 목 | E3: 건 축 | F3: 설 비 | G3: 토 목 | H3: 폐기물처리비 | J3: 검토 | K3: 합 계 | L3: 구 성 비 | M3: 비율 | N3: 전기 | O3: 통신 | P3: 소방 | Q3: 비 고
A4: A1 | B4: 순공사원가 | C4: 재료비 | D4: 직 접 재 료 비 | E4: =공종별집계표!F19 -> 35849761 | F4: 784248 | G4: 0 | H4: 0 | I4: =K4-J4 -> 0 | J4: =E4+F4+G4+H4 -> 36634009 | K4: =SUM(E4:H4) -> 36634009 | Q4: 공사규모:10억 미만
A5: A3 | D5: 작업설, 부산물(△) | E5: 0 | I5: =K5-J5 -> 0 | J5: =E5+F5+G5+H5 -> 0 | K5: =SUM(E5:H5) -> 0 | Q5: 공사기간:6개월 이하
A6: AS | D6: [ 소 계 ] | E6: =TRUNC(E4-E5, 0) -> 35849761 | F6: =TRUNC(F4-F5, 0) -> 784248 | G6: =TRUNC(G4-G5, 0) -> 0 | H6: =TRUNC(H4-H5, 0) -> 0 | I6: =K6-J6 -> 0 | J6: =E6+F6+G6+H6 -> 36634009 | K6: =SUM(E6:H6) -> 36634009
A7: B1 | C7: 노무비 | D7: 직 접 노 무 비 | E7: =공종별집계표!H19 -> 18036402 | F7: 878877 | G7: 0 | H7: 0 | I7: =K7-J7 -> 0 | J7: =E7+F7+G7+H7 -> 18915279 | K7: =SUM(E7:H7) -> 18915279
A8: B2 | D8: 간 접 노 무 비 | E8: =TRUNC(E7*$M$8, 0) -> 3156370 | F8: =TRUNC(F7*$M$8, 0) -> 153803 | G8: =TRUNC(G7*$M$8, 0) -> 0 | H8: =TRUNC(H7*$M$8, 0) -> 0 | I8: =K8-J8 -> 0 | J8: =E8+F8+G8+H8 -> 3310173 | K8: =TRUNC(K7*$M$8, 0) -> 3310173 | L8: 직접노무비 x | M8: 0.175 | N8: 0.121 | O8: 0.121 | P8: 0.13
A9: BS | D9: [ 소 계 ] | E9: =TRUNC(E7+E8, 0) -> 21192772 | F9: =TRUNC(F7+F8, 0) -> 1032680 | G9: =TRUNC(G7+G8, 0) -> 0 | H9: =TRUNC(H7+H8, 0) -> 0 | I9: =K9-J9 -> 0 | J9: =E9+F9+G9+H9 -> 22225452 | K9: =SUM(E9:H9) -> 22225452
A10: C2 | C10: 경 비 | D10: 기 계 경 비 | E10: =공종별집계표!J19 -> 1092642 | F10: 0 | G10: 0 | H10: 0 | I10: =K10-J10 -> 0 | J10: =E10+F10+G10+H10 -> 1092642 | K10: =SUM(E10:H10) -> 1092642
A11: C4 | D11: 산 재 보 험 료 | E11: =TRUNC(E9*$M$11, 0) -> 754462 | F11: =TRUNC(F9*$M$11, 0) -> 36763 | G11: =TRUNC(G9*$M$11, 0) -> 0 | H11: =TRUNC(H9*$M$11, 0) -> 0 | I11: =K11-J11 -> 1 | J11: =E11+F11+G11+H11 -> 791225 | K11: =TRUNC(K9*$M$11, 0) -> 791226 | L11: 노무비 x | M11: 0.0356 | N11: =M11 -> 0.0356 | O11: =N11 -> 0.0356 | P11: =M11 -> 0.0356
A12: C5 | D12: 고 용 보 험 료 | E12: =TRUNC(E9*$M$12, 0) -> 214046 | F12: =TRUNC(F9*$M$12, 0) -> 10430 | G12: =TRUNC(G9*$M$12, 0) -> 0 | H12: =TRUNC(H9*$M$12, 0) -> 0 | I12: =K12-J12 -> 1 | J12: =E12+F12+G12+H12 -> 224476 | K12: =TRUNC(K9*$M$12, 0) -> 224477 | L12: 노무비 x | M12: 0.0101 | N12: =M12 -> 0.0101 | O12: =N12 -> 0.0101 | P12: =M12 -> 0.0101
A13: C6 | D13: 건 강 보 험 료 | F13: =TRUNC(F7*$M$13, 0) -> 31595 | G13: =TRUNC(G7*$M$13, 0) -> 0 | H13: =TRUNC(H7*$M$13, 0) -> 0 | I13: =K13-J13 -> 648409 | J13: =E13+F13+G13+H13 -> 31595 | K13: =TRUNC(K7*$M$13, 0) -> 680004 | L13: 직접노무비 x | M13: 0.03595 | N13: =M13 -> 0.03595 | O13: =N13 -> 0.03595 | P13: =M13 -> 0.03595 | Q13: 1개월미만공사
A14: C7 | D14: 연 금 보 험 료 | F14: =TRUNC(F7*$M$14, 0) -> 41746 | G14: =TRUNC(G7*$M$14, 0) -> 0 | H14: =TRUNC(H7*$M$14, 0) -> 0 | I14: =K14-J14 -> 856729 | J14: =E14+F14+G14+H14 -> 41746 | K14: =TRUNC(K7*$M$14, 0) -> 898475 | L14: 직접노무비 x | M14: 0.0475 | N14: =M14 -> 0.0475 | O14: =N14 -> 0.0475 | P14: =M14 -> 0.0475 | Q14: 1개월미만공사
A15: CB | D15: 노인장기요양보험료 | F15: =TRUNC(F13*$M$15, 0) -> 4151 | G15: =TRUNC(G13*$M$15, 0) -> 0 | H15: =TRUNC(H13*$M$15, 0) -> 0 | I15: =K15-J15 -> 85201 | J15: =E15+F15+G15+H15 -> 4151 | K15: =TRUNC(K13*$M$15, 0) -> 89352 | L15: 건강보험료 x | M15: 0.1314 | N15: =M15 -> 0.1314 | O15: =N15 -> 0.1314 | P15: =M15 -> 0.1314 | Q15: 1개월미만공사
A16: C8 | D16: 퇴직 공제 부금비 | F16: =TRUNC(F7*$M$16, 0) -> 20214 | G16: =TRUNC(G7*$M$16, 0) -> 0 | H16: =TRUNC(H7*$M$16, 0) -> 0 | I16: =K16-J16 -> 414837 | J16: =E16+F16+G16+H16 -> 20214 | K16: =TRUNC(K7*$M$16, 0) -> 435051 | L16: 직접노무비 x | M16: 0.023 | N16: 0.023 | O16: 0.023 | P16: =N16 -> 0.023 | Q16: 1개월미만공사
A17: CA | D17: 산업 안전 관리비 | E17: =((E6+E7)*$M$17)+Q17 -> 1675859.7 | F17: =F18 -> #REF! | G17: =G18 -> #REF! | H17: =#REF! -> #REF! | I17: =K17-J17 -> #REF! | J17: =E17+F17+G17+H17 -> #REF! | K17: =#REF! -> #REF! | L17: (재료+직노) x | M17: 0.0311 | N17: 0.0186 | O17: 0.0293 | P17: 0.0293 | S17: 5349000
D18: 안전관리비 | E18: =안전관리비세부내역!J5 -> 568926 | F18: =(F4+F7+#REF!/1.1)*M17 -> #REF! | G18: =(G4+G7+#REF!/1.1)*M17 -> #REF! | H18: =(H4+H7+#REF!/1.1)*M17 -> #REF! | I18: =K18-J18 -> #REF! | J18: =E18+F18+G18+H18 -> #REF! | K18: =((K4+K7+#REF!/1.1)*S17) -> #REF! | Q18: 모든공사적용
A19: CH | D19: 환 경 보 전 비 | E19: =TRUNC((E6+E7+E10)*$M$19, 0) -> 164936 | F19: =TRUNC((F6+F7+F10)*$M$19, 0) -> 4989 | G19: =TRUNC((G6+G7+G10)*$M$19, 0) -> 0 | H19: =TRUNC((H6+H7+H10)*$M$19, 0) -> 0 | I19: =K19-J19 -> 0 | J19: =E19+F19+G19+H19 -> 169925 | K19: =TRUNC((K6+K7+K10)*$M$19, 0) -> 169925 | L19: (재료+직노+기계경비) x | M19: 0.003
A20: CG | D20: 기 타 경 비 | E20: =TRUNC((E6+E9)*$M$20, 0) -> 2852126 | F20: =TRUNC((F6+F9)*$M$20, 0) -> 90846 | G20: =TRUNC((G6+G9)*$M$20, 0) -> 0 | H20: =TRUNC((H6+H9)*$M$20, 0) -> 0 | I20: =K20-J20 -> 1 | J20: =E20+F20+G20+H20 -> 2942972 | K20: =TRUNC((K6+K9)*$M$20, 0) -> 2942973 | L20: (재료+노무비) x | M20: 0.05 | N20: 0.081 | O20: 0.081 | P20: 0.058
D21: 품질시험비
D22: 안전관리비
A23: CJ | D23: 공사이행보증수수료 | E23: =TRUNC(((E6+E7+E10)*M23)*2, 0) -> 0 | F23: =TRUNC(((F6+F7+F10)*M23)*2, 0) -> 0 | G23: =TRUNC(((G6+G7+G10)*M23)*2, 0) -> 0 | H23: =TRUNC(((H6+H7+H10)*M23)*2, 0) -> 0 | I23: =K23-J23 -> 0 | J23: =E23+F23+G23+H23 -> 0 | K23: =TRUNC(((K6+K7+K10)*S23)*2, 0) -> 0
A24: CK | D24: 하도급지급보증수수료 | F24: =TRUNC((F6+F7+F10)*$M$24, 0) -> 1347 | G24: =TRUNC((G6+G7+G10)*$M$24, 0) -> 0 | H24: =TRUNC((H6+H7+H10)*$M$24, 0) -> 0 | I24: =K24-J24 -> 44532 | J24: =E24+F24+G24+H24 -> 1347 | K24: =TRUNC((K6+K7+K10)*$M$24, 0) -> 45879 | L24: (재료+직노+기계경비) x | M24: 0.00081 | P24: 0.00081 | Q24: 전문공사
D25: 건설기계대여금 보증수수료 | F25: =TRUNC((F6+F7+F10)*$M$25, 0) -> 1663 | G25: =TRUNC((G6+G7+G10)*$M$25, 0) -> 0 | H25: =TRUNC((H6+H7+H10)*$M$25, 0) -> 0 | I25: =K25-J25 -> 54978 | J25: =E25+F25+G25+H25 -> 1663 | K25: =TRUNC((K6+K7+K10)*$M$25, 0) -> 56641 | L25: (재료+직노+기계경비) x | M25: 0.001 | Q25: 전문공사
D26: 석면분담금 | E26: =TRUNC((E9)*$M$26, 0) -> 1271 | F26: =TRUNC((F8+F9+F12)*$M$24, 0) -> 969 | G26: =TRUNC((G8+G9+G12)*$M$24, 0) -> 0 | H26: =TRUNC((H8+H9+H12)*$M$24, 0) -> 0 | I26: =K26-J26 -> 18625 | J26: =E26+F26+G26+H26 -> 2240 | K26: =TRUNC((K8+K9+K12)*$M$24, 0) -> 20865 | L26: 노무비 x | M26: 6e-05 | P26: 0.00081
D27: 임금채권부담금 | E27: =TRUNC((E9)*$M$27, 0) -> 19073 | F27: =TRUNC((F9+F10+F13)*$M$24, 0) -> 862 | G27: =TRUNC((G9+G10+G13)*$M$24, 0) -> 0 | H27: =TRUNC((H9+H10+H13)*$M$24, 0) -> 0 | I27: =K27-J27 -> -497 | J27: =E27+F27+G27+H27 -> 19935 | K27: =TRUNC((K9+K10+K13)*$M$24, 0) -> 19438 | L27: 노무비 x | M27: 0.0009 | P27: 0.00081
A28: CS | D28: [ 소 계 ] | E28: =SUM(E10:E27) -> 7343341.7 | F28: =SUM(F10:F25)-F18-#REF! -> #REF! | G28: =SUM(G10:G25)-G18-#REF! -> #REF! | H28: =SUM(H10:H25)-H18-#REF! -> #REF! | I28: =K28-J28 -> #REF! | J28: =E28+F28+G28+H28 -> #REF! | K28: =SUM(E28:H28) -> #REF!
A29: S1 | B29: 계 | E29: =TRUNC(E6+E9+E28, 0) -> 64385874 | F29: =TRUNC(F6+F9+F28, 0) -> #REF! | G29: =TRUNC(G6+G9+G28, 0) -> #REF! | H29: =TRUNC(H6+H9+H28, 0) -> #REF! | I29: =K29-J29 -> #REF! | J29: =E29+F29+G29+H29 -> #REF! | K29: =SUM(E29:H29) -> #REF!
A30: D1 | B30: 일 반 관 리 비 | E30: =TRUNC(E29*$M$30, 0) -> 5150869 | F30: =TRUNC(F29*$M$30, 0) -> #REF! | G30: =TRUNC(G29*$M$30, 0) -> #REF! | H30: =TRUNC(H29*$M$30, 0) -> #REF! | I30: =K30-J30 -> #REF! | J30: =E30+F30+G30+H30 -> #REF! | K30: =TRUNC(K29*$M$30, 0) -> #REF! | M30: 0.08 | N30: 0.055 | O30: 0.055 | P30: =M30 -> 0.08
A31: D2 | B31: 이 윤 | E31: =TRUNC((E9+E28+E30)*$M$31, 0) -> 5053047 | F31: =TRUNC((F9+F28+F30)*$M$31, 0)-F42 -> #REF! | G31: =TRUNC((G9+G28+G30)*$M$31, 0)-G42 -> #REF! | I31: =K31-J31 -> #REF! | J31: =E31+F31+G31+H31 -> #REF! | K31: =TRUNC((K9+K28+K30)*$M$31, 0)-2536 -> #REF! | L31: (노무+경비+일반관리) x | M31: 0.15 | N31: =M31 -> 0.15 | O31: =N31 -> 0.15 | P31: =M31 -> 0.15
B32: 전자인력관리시스템단말기(PS단가) | F32: =F33+F34+F35 -> 0 | I32: =K32-J32 -> 0 | J32: =E32+F32+G32+H32 -> 0 | K32: =SUM(E32:H32) -> 0
I33: =K33-J33 -> 0 | J33: =E33+F33+G33+H33 -> 0 | K33: =SUM(E33:H33) -> 0
I34: =K34-J34 -> 0 | J34: =E34+F34+G34+H34 -> 0 | K34: =SUM(E34:H34) -> 0
I35: =K35-J35 -> 0 | J35: =E35+F35+G35+H35 -> 0 | K35: =SUM(E35:H35) -> 0 | P35: 0.00364
B36: 작업부산물 (△) | I36: =K36-J36 -> 0 | J36: =E36+F36+G36+H36 -> 0 | K36: =SUM(E36:H36) -> 0 | P36: 0.00364
B37: 폐기물 처리비 | E37: =공종별집계표!J9 -> 204500 | I37: =K37-J37 -> 0 | J37: =E37+F37+G37+H37 -> 204500 | K37: =SUM(E37:H37) -> 204500 | P37: 0.00364
A38: D9 | B38: 공 급 가 액 | E38: =TRUNC(E29+E30+E31+E32+E36+E37,-4) -> 74790000 | F38: =F29+F30+F31+F32+F36+F37 -> #REF! | G38: =G29+G30+G31+G32+G33+G34 -> #REF! | H38: =H29+H30+H31+H32+H33+H34 -> #REF! | I38: =K38-J38 -> #REF! | J38: =E38+F38+G38+H38 -> #REF! | K38: =K29+K30+K31+K32+K33+K34 -> #REF! | L38: 천단위절삭
A39: DB | B39: 부 가 가 치 세 | E39: =TRUNC(E38*$M$39, 0) -> 7479000 | F39: =TRUNC(F38*$M$39, 0) -> #REF! | G39: =TRUNC(G38*$M$39, 0)-1 -> #REF! | H39: =TRUNC(H38*$M$39, 0) -> #REF! | I39: =K39-J39 -> #REF! | J39: =E39+F39+G39+H39 -> #REF! | K39: =TRUNC(K38*$M$39, 0) -> #REF! | M39: 0.1 | N39: 0.1 | O39: 0.1 | P39: 0.1
A40: DH | B40: 도 급 액 | E40: =E38+E39-9000 -> 82260000 | F40: =TRUNC((F38+F39-#REF!),-3) -> #REF! | G40: =(G38+G39-#REF!) -> #REF! | H40: =(H38+H39-#REF!) -> #REF! | I40: =K40-J40 -> #REF! | J40: =E40+F40+G40+H40 -> #REF! | K40: =SUM(E40:H40) -> #REF! | L40: 천단위 단수정리
A41: S2 | B41: 총 공 사 비 | E41: =E40 -> 82260000 | F41: =F40+#REF!+#REF!+#REF!+#REF!+#REF! -> #REF! | G41: =G40+#REF!+#REF!+#REF!+#REF!+#REF! -> #REF! | H41: =H40+#REF!+#REF!+#REF!+#REF!+#REF! -> #REF! | I41: =K41-J41 -> #REF! | J41: =E41+F41+G41+H41 -> #REF! | K41: =E41+F41+G41+H41 -> #REF! | S41: =+R41-K41 -> #REF!
G42: 680
D46: 안전관리비-1 | G46: =+(G6+G7)*0.0188*1.2 -> 0 | H46: =+(H6+H7)*0.0188*1.2 -> 0 | K46: (재료+직노)*요율*1.2배 | P46: =+(K6+K7)*0.0188*1.2 -> 1253191.9
D47: 안전관리비-2 | G47: =TRUNC((G6+G7+#REF!/1.1)*0.0188, 0) -> #REF! | H47: =TRUNC((H6+H7)*0.0188, 0) -> 0 | K47: (재료+직노+도급자관급/1.1)*요율 | P47: =TRUNC((K6+K7+#REF!/1.1)*0.0188, 0) -> #REF! | Q47: =+P47-K17 -> #REF!
D48: 작은값 | G48: =+IF(G46<G47,G46,G47) -> #REF! | H48: =+IF(H46<H47,H46,H47) -> 0
D50: 도급액 | G50: 3784693 | H50: 5414552 | K50: =SUM(E50:H50) -> 9199245 | P50: 37387097
D51: 도급자설치관급 | G51: =+#REF! -> #REF! | H51: =+#REF! -> #REF! | K51: =SUM(E51:H51) -> #REF! | P51: 4620783
D52: 관급자설치관급 | G52: =+#REF! -> #REF! | H52: =+#REF! -> #REF! | K52: =SUM(E52:H52) -> #REF! | P52: 2417569
D53: 총공사비 | G53: =SUM(G50:G52) -> #REF! | H53: =SUM(H50:H52) -> #REF! | K53: =SUM(E53:H53) -> #REF! | P53: =SUM(P50:P52) -> 44425449

Sheet 공종별집계표
A1: 공 종 별 집 계 표
A2: =갑지!D6 -> 강원도립대학교 RISE사업 현장기반형 산학연계 교육환경개선 공사 (호텔관광과)
A3: 품 명 | B3: 규 격 | C3: 단위 | D3: 수량 | E3: 재 료 비 | G3: 노 무 비 | I3: 경 비 | K3: 합 계 | M3: 비 고 | N3: 공종코드 | O3: 변수 | P3: 상위공종 | Q3: 공종구분 | R3: 공종레벨 | S3: 공종소계 | T3: 원가계산서 연결금액
E4: 단 가 | F4: 금 액 | G4: 단 가 | H4: 금 액 | I4: 단 가 | J4: 금 액 | K4: 단 가 | L4: 금 액
A5: 01 현장기반형 산학연계 교육환경개선 공사 (호텔관광과) | N5: 01 | R5: 1
A6: * 공통공사 | C6: 식 | D6: 1 | F6: =SUM(F7+F8+F10+F11) -> 3212668 | H6: =SUM(H7+H8+H10+H11) -> 5010992 | J6: =SUM(J7+J8+J10+J11) -> 1060 | L6: =SUM(L7+L8+L10+L11) -> 8224720 | N6: 0101 | P6: 01 | R6: 2
A7: =공종별내역서!A4 -> 010101 가 설 공 사 | C7: 식 | D7: 1 | E7: =공종별내역서!F27 -> 426194 | F7: =E7*D7 -> 426194 | G7: =공종별내역서!H27 -> 2137834 | H7: =G7*D7 -> 2137834 | I7: =공종별내역서!J27 -> 0 | J7: =I7*D7 -> 0 | K7: =E7+G7+I7 -> 2564028 | L7: =F7+H7+J7 -> 2564028 | N7: 010101 | P7: 0101 | R7: 3
A8: =공종별내역서!A28 -> 010102 철 거 공 사 | C8: 식 | D8: 1 | E8: =공종별내역서!F50 -> 0 | F8: =E8*D8 -> 0 | G8: =공종별내역서!H50 -> 1274158 | H8: =G8*D8 -> 1274158 | I8: =공종별내역서!J50 -> 1060 | J8: =I8*D8 -> 1060 | K8: =E8+G8+I8 -> 1275218 | L8: =F8+H8+J8 -> 1275218 | N8: 010107 | P8: 0101 | R8: 3
A9: =공종별내역서!A51 -> 010103 건설폐기물처리비 | C9: 식 | D9: 1 | E9: =공종별내역서!F75 -> 0 | F9: =E9*D9 -> 0 | G9: =공종별내역서!H75 -> 0 | H9: =G9*D9 -> 0 | I9: =공종별내역서!J75 -> 204500 | J9: =I9*D9 -> 204500 | K9: =E9+G9+I9 -> 204500 | L9: =F9+H9+J9 -> 204500 | N9: 010109 | Q9: 6 | R9: 3 | T9: =L9*1 -> 204500
A10: =공종별내역서!A76 -> 010104 냉난방기 및 공조설비공사 | C10: 식 | D10: 1 | E10: =공종별내역서!F100 -> 1765000 | F10: =E10*D10 -> 1765000 | G10: =공종별내역서!H100 -> 0 | H10: =G10*D10 -> 0 | I10: =공종별내역서!J100 -> 0 | J10: =I10*D10 -> 0 | K10: =E10+G10+I10 -> 1765000 | L10: =F10+H10+J10 -> 1765000 | N10: 010111 | P10: 0101 | R10: 3
A11: =공종별내역서!A101 -> 010105 배선및 등기구설치 | C11: 식 | D11: 1 | E11: =공종별내역서!F125 -> 1021474 | F11: =E11*D11 -> 1021474 | G11: =공종별내역서!H125 -> 1599000 | H11: =G11*D11 -> 1599000 | I11: =공종별내역서!J125 -> 0 | J11: =I11*D11 -> 0 | K11: =E11+G11+I11 -> 2620474 | L11: =F11+H11+J11 -> 2620474 | N11: 010112 | P11: 0101 | R11: 3
A12: * 항공실습실 | C12: 식 | D12: 1 | F12: =SUM(F13:F17) -> 32637093 | H12: =SUM(H13:H17) -> 13025410 | J12: =SUM(J13:J17) -> 1091582 | L12: =SUM(L13:L17) -> 46754085 | N12: 0103 | P12: 01 | R12: 2
A13: =공종별내역서!A126 -> 010106 목공사및 수장공사 | C13: 식 | D13: 1 | E13: =공종별내역서!F150 -> 3693349 | F13: =E13*D13 -> 3693349 | G13: =공종별내역서!H150 -> 3966225 | H13: =G13*D13 -> 3966225 | I13: =공종별내역서!J150 -> 31582 | J13: =I13*D13 -> 31582 | K13: =E13+G13+I13 -> 7691156 | L13: =F13+H13+J13 -> 7691156 | N13: 010301 | P13: 0103 | R13: 3
A14: =공종별내역서!A151 -> 010107 칠 공 사 | C14: 식 | D14: 1 | E14: =공종별내역서!F176 -> 772144 | F14: =E14*D14 -> 772144 | G14: =공종별내역서!H176 -> 4719185 | H14: =G14*D14 -> 4719185 | I14: =공종별내역서!J176 -> 0 | J14: =I14*D14 -> 0 | K14: =E14+G14+I14 -> 5491329 | L14: =F14+H14+J14 -> 5491329 | N14: 010304 | P14: 0103 | R14: 3
A15: =공종별내역서!A177 -> 010108 항공기물 제작및 설치 | C15: 식 | D15: 1 | E15: =공종별내역서!F202 -> 22749600 | F15: =E15*D15 -> 22749600 | G15: =공종별내역서!H202 -> 2898800 | H15: =G15*D15 -> 2898800 | I15: =공종별내역서!J202 -> 1060000 | J15: =I15*D15 -> 1060000 | K15: =E15+G15+I15 -> 26708400 | L15: =F15+H15+J15 -> 26708400 | N15: 010305 | P15: 0103 | R15: 3
A16: =공종별내역서!A203 -> 010109 싸 인 공 사 | C16: 식 | D16: 1 | E16: =공종별내역서!F227 -> 1266000 | F16: =E16*D16 -> 1266000 | G16: =공종별내역서!H227 -> 1054000 | H16: =G16*D16 -> 1054000 | I16: =공종별내역서!J227 -> 0 | J16: =I16*D16 -> 0 | K16: =E16+G16+I16 -> 2320000 | L16: =F16+H16+J16 -> 2320000 | N16: 010306 | P16: 0103 | R16: 3
A17: =공종별내역서!A228 -> 010110 기타공사 | C17: 식 | D17: 1 | E17: =공종별내역서!F252 -> 4156000 | F17: =E17*D17 -> 4156000 | G17: =공종별내역서!H252 -> 387200 | H17: =G17*D17 -> 387200 | I17: =공종별내역서!J252 -> 0 | K17: =E17+G17+I17 -> 4543200 | L17: =F17+H17+J17 -> 4543200
A19: [ 합 계 ] | F19: =SUM(F6+F12) -> 35849761 | H19: =SUM(H6+H12) -> 18036402 | J19: =SUM(J6+J12) -> 1092642 | L19: =SUM(L6+L12) -> 54978805

Sheet 공종별내역서
A1: =갑지!D6 -> 강원도립대학교 RISE사업 현장기반형 산학연계 교육환경개선 공사 (호텔관광과)
A2: 품 명 | B2: 규 격 | C2: 단위 | D2: 수량 | E2: 재 료 비 | G2: 노 무 비 | I2: 경 비 | K2: 합 계 | M2: 비 고 | N2: 품목코드 | O2: 변수 | P2: 설정 | Q2: 공종코드 | R2: 일위 | S2: 단산 | T2: 자재 | U2: 손료적용 | V2: 손료저장 | W2: 적용율 | X2: JUK1 | Y2: JUK2 | Z2: JUK3 | AA2: JUK4 | AB2: JUK5 | AC2: JUK6 | AD2: JUK7 | AE2: JUK8 | AF2: JUK9 | AG2: JUK10 | AH2: JUK11 | AI2: JUK12 | AJ2: JUK13 | AK2: JUK14 | AL2: JUK15 | AM2: JUK16 | AN2: JUK17 | AO2: JUK18 | AP2: JUK19 | AQ2: JUK20 | AR2: 자재구분 | AS2: 공종구분 | AT2: 공종레벨 | AU2: 공종+자재 | AV2: 고유번호
E3: 단 가 | F3: 금 액 | G3: 단 가 | H3: 금 액 | I3: 단 가 | J3: 금 액 | K3: 단 가 | L3: 금 액
A4: 010101 가 설 공 사 | Q4: 010101
A5: 먹메김 | B5: 구조부일반 | C5: M2 | D5: =수량산출서!H12 -> 64.08 | G5: =일위대가목록!F5 -> 1396.335 | H5: =TRUNC(G5*D5, 0) -> 89477 | K5: =TRUNC(E5+G5+I5, 0) -> 1396 | L5: =TRUNC(F5+H5+J5, 0) -> 89477 | M5: 호표 2
A6: 건축물보양 | B6: 플라베니아(PVC골판지) | C6: M2 | D6: =수량산출서!H13 -> 152.43 | E6: =TRUNC(일위대가목록!E6,0) -> 2796 | F6: =TRUNC(E6*D6, 0) -> 426194 | G6: =TRUNC(일위대가목록!F6,0) -> 1720 | H6: =TRUNC(G6*D6, 0) -> 262179 | I6: =TRUNC(일위대가목록!G6,0) -> 0 | J6: =TRUNC(I6*D6, 0) -> 0 | K6: =TRUNC(E6+G6+I6, 0) -> 4516 | L6: =TRUNC(F6+H6+J6, 0) -> 688373 | M6: 호표 3 | N6: 5B5A66B0A8C2B69DBC32D31910A832 | Q6: 010101 | R6: T | S6: F | T6: F | AU6: 0101015B5A66B0A8C2B69DBC32D31910A832 | AV6: 6
A7: 건축물 현장정리 | B7: 리모델링 | C7: M2 | D7: =수량산출서!H15 -> 64.08 | E7: =TRUNC(일위대가목록!E7,0) -> 0 | F7: =TRUNC(E7*D7, 0) -> 0 | G7: =TRUNC(일위대가목록!F7,0)*0.9 -> 20131.2 | H7: =TRUNC(G7*D7, 0) -> 1290007 | I7: =TRUNC(일위대가목록!G7,0) -> 0 | J7: =TRUNC(I7*D7, 0) -> 0 | K7: =TRUNC(E7+G7+I7, 0) -> 20131 | L7: =TRUNC(F7+H7+J7, 0) -> 1290007 | M7: 호표 4 | N7: 5B5A66B0AB9296D6C9B2E35DB1E02A | Q7: 010101 | R7: T | S7: F | T7: F | AU7: 0101015B5A66B0AB9296D6C9B2E35DB1E02A | AV7: 5
A8: 소운반 | B8: 3층,인력 | C8: M2 | D8: =D7 -> 64.08 | G8: =일위대가목록!F8 -> 7743 | H8: =TRUNC(G8*D8, 0) -> 496171 | K8: =TRUNC(E8+G8+I8, 0) -> 7743 | L8: =TRUNC(F8+H8+J8, 0) -> 496171 | M8: 호표 5
A27: [ 합 계 ] | F27: =SUM(F5:F26) -> 426194 | H27: =SUM(H5:H26) -> 2137834 | J27: =SUM(J5:J26) -> 0 | L27: =SUM(L5:L26) -> 2564028 | N27: TOTAL
A28: 010102 철 거 공 사 | Q28: 010107
A29: =수량산출서!C22 -> 이코노미 의자탈거및 이동설치 | B29: =수량산출서!D22 -> 해체재 재사용 | C29: SET | D29: =수량산출서!H22 -> 13 | E29: =TRUNC(일위대가목록!E16,0) -> 0 | F29: =TRUNC(E29*D29, 0) -> 0 | G29: =일위대가목록!F9 -> 13190 | H29: =TRUNC(G29*D29, 0) -> 171470 | I29: =TRUNC(일위대가목록!G16,0) -> 0 | J29: =TRUNC(I29*D29, 0) -> 0 | K29: =TRUNC(E29+G29+I29, 0) -> 13190 | L29: =TRUNC(F29+H29+J29, 0) -> 171470 | M29: 호표 5-1 | N29: 5B5B6621ECD266052AE2E341B252E9 | Q29: 010107 | R29: T | S29: F | T29: F | AU29: 0101075B5B6621ECD266052AE2E341B252E9 | AV29: 182
A30: =수량산출서!C23 -> 사이드월탈거및 이동설치 | B30: =수량산출서!D23 -> 해체재 재사용 | C30: SET | D30: =수량산출서!H23 -> 5 | E30: =TRUNC(일위대가목록!E17,0) -> 0 | F30: =TRUNC(E30*D30, 0) -> 0 | G30: =일위대가목록!F9 -> 13190 | H30: =TRUNC(G30*D30, 0) -> 65950 | I30: =TRUNC(일위대가목록!G17,0) -> 212 | J30: =TRUNC(I30*D30, 0) -> 1060 | K30: =TRUNC(E30+G30+I30, 0) -> 13402 | L30: =TRUNC(F30+H30+J30, 0) -> 67010 | M30: 호표 5-1 | N30: 5B5B6621ECD26607D922C3A3D2D7F1 | Q30: 010107 | R30: T | S30: F | T30: F | AU30: 0101075B5B6621ECD26607D922C3A3D2D7F1 | AV30: 136
A31: =수량산출서!C24 -> 교실벽체철거 | B31: =수량산출서!D24 -> 해체재 재사용 안 함 | C31: M2 | D31: =수량산출서!H24 -> 25.632 | G31: =일위대가목록!F16 -> 15157 | H31: =TRUNC(G31*D31, 0) -> 388504 | K31: =TRUNC(E31+G31+I31, 0) -> 15157 | L31: =TRUNC(F31+H31+J31, 0) -> 388504 | M31: 호표 10
A32: =수량산출서!C25 -> 복도벽철거 | B32: =수량산출서!D25 -> 해체재 재사용 안 함 | C32: M2 | D32: =수량산출서!H25 -> 23.328 | G32: =G31 -> 15157 | H32: =TRUNC(G32*D32, 0) -> 353582 | K32: =TRUNC(E32+G32+I32, 0) -> 15157 | L32: =TRUNC(F32+H32+J32, 0) -> 353582 | N32: 5B5B6621E5A256898C725313D21AB6 | Q32: 010107 | R32: T | S32: F | T32: F | AU32: 0101075B5B6621E5A256898C725313D21AB6 | AV32: 193
A33: =수량산출서!C26 -> 천정 등박스 철거 | B33: =수량산출서!D26 -> 해체재 재사용 안 함 | C33: M2 | D33: =수량산출서!H26 -> 19.44 | G33: =G32 -> 15157 | H33: =TRUNC(G33*D33, 0) -> 294652 | K33: =TRUNC(E33+G33+I33, 0) -> 15157 | L33: =TRUNC(F33+H33+J33, 0) -> 294652 | N33: 5B5A66B0AB92A6FDD882934EEC9E77 | Q33: 010107 | R33: F | S33: F | T33: T | AU33: 0101075B5A66B0AB92A6FDD882934EEC9E77 | AV33: 191
N34: 5B5A66B0AB92A6FDD882934EEC9D50 | Q34: 010107 | R34: F | S34: F | T34: T | AU34: 0101075B5A66B0AB92A6FDD882934EEC9D50 | AV34: 145
A50: [ 합 계 ] | F50: =SUMIF(Q29:Q49,"010107",F29:F49) -> 0 | H50: =SUM(H29:H34) -> 1274158 | J50: =SUM(J29:J34) -> 1060 | L50: =SUM(L29:L34) -> 1275218 | N50: TOTAL
A51: 010103 건설폐기물처리비 | Q51: 010109
A52: 혼합건설폐기물 | B52: 불연성+가연성 | C52: TON | D52: =수량산출서!H27 -> 2.5 | E52: =TRUNC(단가대비표!O53,0) -> 0 | F52: =TRUNC(E52*D52, 0) -> 0 | G52: =TRUNC(단가대비표!P53,0) -> 0 | H52: =TRUNC(G52*D52, 0) -> 0 | I52: =일위대가목록!G13 -> 40900 | J52: =TRUNC(I52*D52, 0) -> 102250 | K52: =TRUNC(E52+G52+I52, 0) -> 40900 | L52: =TRUNC(F52+H52+J52, 0) -> 102250 | N52: 5B5A66B0AB92A6FC3302D361731461 | Q52: 010109 | R52: F | S52: F | T52: T | AU52: 0101095B5A66B0AB92A6FC3302D361731461 | AV52: 152
A53: 혼합건설폐기물 운반비 | B53: 암롤트럭 | C53: TON | D53: =D52 -> 2.5 | E53: =TRUNC(단가대비표!O55,0) -> 0 | F53: =TRUNC(E53*D53, 0) -> 0 | G53: =TRUNC(단가대비표!P55,0) -> 0 | H53: =TRUNC(G53*D53, 0) -> 0 | I53: =일위대가목록!G15 -> 40900 | J53: =TRUNC(I53*D53, 0) -> 102250 | K53: =TRUNC(E53+G53+I53, 0) -> 40900 | L53: =TRUNC(F53+H53+J53, 0) -> 102250 | N53: 5B5A66B0AB92A6FDD882934EE9CBBF | Q53: 010109 | R53: F | S53: F | T53: T | AU53: 0101095B5A66B0AB92A6FDD882934EE9CBBF | AV53: 154
A75: [ 합 계 ] | F75: =SUMIF(Q52:Q74,"010109",F52:F74) -> 0 | H75: =SUMIF(Q52:Q74,"010109",H52:H74) -> 0 | J75: =SUM(J52:J53) -> 204500 | L75: =SUM(L52:L53) -> 204500 | N75: TOTAL
A76: 010104 냉난방기 및 공조설비공사 | Q76: 010111
A77: 실내기 이전 | B77: 천장형 4way | C77: EA | D77: 1 | E77: =TRUNC(단가대비표!O72,0) -> 1765000 | F77: =TRUNC(E77*D77, 0) -> 1765000 | G77: =TRUNC(단가대비표!P72,0) -> 0 | H77: =TRUNC(G77*D77, 0) -> 0 | I77: =TRUNC(단가대비표!V72,0) -> 0 | J77: =TRUNC(I77*D77, 0) -> 0 | K77: =TRUNC(E77+G77+I77, 0) -> 1765000 | L77: =TRUNC(F77+H77+J77, 0) -> 1765000 | M77: 자재 51 | N77: 5AED96AB8AA2A613B6F233C1B7FAE2FD867444 | Q77: 010111 | R77: F | S77: F | T77: T | AU77: 0101115AED96AB8AA2A613B6F233C1B7FAE2FD867444 | AV77: 108
N78: 5AED96AB8AA2A613B6F233C1B7FAE2FD86744B | Q78: 010111 | R78: F | S78: F | T78: T | AU78: 0101115AED96AB8AA2A613B6F233C1B7FAE2FD86744B | AV78: 109
N79: 5AED96AB8AA2A613B6F233C1B7FAE2FD86744A | Q79: 010111 | R79: F | S79: F | T79: T | AU79: 0101115AED96AB8AA2A613B6F233C1B7FAE2FD86744A | AV79: 110
N80: 5AED96AB8AA2A613B6F233C1B7FAE2FD86756A | Q80: 010111 | R80: F | S80: F | T80: T | AU80: 0101115AED96AB8AA2A613B6F233C1B7FAE2FD86756A | AV80: 111
N81: 5AED96AB8AA2A613B6F233C1B7FAE2FD86756B | Q81: 010111 | R81: F | S81: F | T81: T | AU81: 0101115AED96AB8AA2A613B6F233C1B7FAE2FD86756B | AV81: 112
A100: [ 합 계 ] | F100: =SUMIF(Q77:Q99,"010111",F77:F99) -> 1765000 | H100: =SUMIF(Q77:Q99,"010111",H77:H99) -> 0 | J100: =SUMIF(Q77:Q99,"010111",J77:J99) -> 0 | L100: =SUMIF(Q77:Q99,"010111",L77:L99) -> 1765000 | N100: TOTAL
A101: 010105 배선및 등기구설치 | Q101: 010112
A102: =수량산출서!C33 -> 항공실습실 배선,배관 | B102: =수량산출서!D33 -> 2.5mm / SF배관 | C102: =수량산출서!F33 -> M2 | D102: =수량산출서!H33 -> 64.08 | E102: =811000/64.08 -> 12656.055 | F102: =TRUNC(E102*D102, 0) -> 811000 | G102: =1599000/64.08 -> 24953.184 | H102: =TRUNC(G102*D102, 0) -> 1599000 | I102: =TRUNC(단가대비표!V73,0) -> 0 | J102: =TRUNC(I102*D102, 0) -> 0 | K102: =TRUNC(E102+G102+I102, 0) -> 37609 | L102: =TRUNC(F102+H102+J102, 0) -> 2410000 | M102: =단가대비표!W73 -> 자재 52 | N102: 5AED96AB8AA2A613B6F233C1B7FAE2FD867568 | Q102: 010112 | R102: F | S102: F | T102: T | AU102: 0101125AED96AB8AA2A613B6F233C1B7FAE2FD867568 | AV102: 113
A103: =수량산출서!C34 -> 4인치 매입등 | B103: =수량산출서!D34 -> LED 주백색 | C103: =수량산출서!F34 -> EA | D103: =수량산출서!H34 -> 23 | E103: =단가대비표!O74 -> 3380 | F103: =TRUNC(E103*D103, 0) -> 77740 | K103: =TRUNC(E103+G103+I103, 0) -> 3380 | L103: =TRUNC(F103+H103+J103, 0) -> 77740 | M103: =단가대비표!W74 -> 자재 53
A104: =수량산출서!C35 -> 6인치 매입등 | B104: =수량산출서!D35 -> LED 주백색 | C104: =수량산출서!F35 -> EA | D104: =수량산출서!H35 -> 10 | E104: =단가대비표!O75 -> 3980 | F104: =TRUNC(E104*D104, 0) -> 39800 | K104: =TRUNC(E104+G104+I104, 0) -> 3980 | L104: =TRUNC(F104+H104+J104, 0) -> 39800 | M104: =단가대비표!W75 -> 자재 54
A105: =수량산출서!C36 -> T5 간접등 - 1200 | B105: =수량산출서!D36 -> LED 주백색 | C105: =수량산출서!F36 -> EA | D105: =수량산출서!H36 -> 5 | E105: =단가대비표!O76 -> 11990 | F105: =TRUNC(E105*D105, 0) -> 59950 | K105: =TRUNC(E105+G105+I105, 0) -> 11990 | L105: =TRUNC(F105+H105+J105, 0) -> 59950 | M105: =단가대비표!W76 -> 자재 55
A106: =수량산출서!C37 -> 스위치설치 | B106: =수량산출서!D37 -> 1구,2구,6구 | C106: =수량산출서!F37 -> EA | D106: =수량산출서!H37 -> 4 | E106: =단가대비표!O78 -> 5064 | F106: =TRUNC(E106*D106, 0) -> 20256 | K106: =TRUNC(E106+G106+I106, 0) -> 5064 | L106: =TRUNC(F106+H106+J106, 0) -> 20256 | M106: =단가대비표!W77 -> 자재 56
A107: =수량산출서!C38 -> 콘센트설치 | B107: =수량산출서!D38 -> 2구 | C107: =수량산출서!F38 -> EA | D107: =수량산출서!H38 -> 4 | E107: =단가대비표!O80 -> 3182 | F107: =TRUNC(E107*D107, 0) -> 12728 | K107: =TRUNC(E107+G107+I107, 0) -> 3182 | L107: =TRUNC(F107+H107+J107, 0) -> 12728 | M107: =단가대비표!W80 -> 자재 59
A125: [ 합 계 ] | F125: =SUM(F102:F113) -> 1021474 | H125: =SUM(H102:H113) -> 1599000 | J125: =SUMIF(Q102:Q124,"010112",J102:J124) -> 0 | L125: =SUM(L102:L113) -> 2620474 | N125: TOTAL
A126: 010106 목공사및 수장공사 | B126: 항공실습실 | Q126: 010301
A127: 동체 벽체조성 | B127: MDF 18T CNC + MDF 6T 2P | C127: M2 | D127: =수량산출서!H43 -> 7.02 | E127: =일위대가목록!E31 -> 17606.3 | F127: =TRUNC(E127*D127, 0) -> 123596 | G127: =일위대가목록!F31 -> 27916.9 | H127: =TRUNC(G127*D127, 0) -> 195976 | I127: =일위대가목록!G31 -> 558.3 | J127: =TRUNC(I127*D127, 0) -> 3919 | K127: =TRUNC(E127+G127+I127, 0) -> 46081 | L127: =TRUNC(F127+H127+J127, 0) -> 323491 | M127: 호표 26 | N127: 5B5A8681F002569F87B283B8F8DB6B | Q127: 010301 | R127: T | S127: F | T127: F | AU127: 0103015B5A8681F002569F87B283B8F8DB6B | AV127: 122
A128: 갤리벽체 조성 | B128: 각재+석고9.5T 2P | C128: M2 | D128: =수량산출서!H44 -> 48.06 | E128: =E132 -> 6351 | F128: =TRUNC(E128*D128, 0) -> 305229 | G128: =G132 -> 27433 | H128: =TRUNC(G128*D128, 0) -> 1318429 | I128: =I132 -> 274 | J128: =TRUNC(I128*D128, 0) -> 13168 | K128: =TRUNC(E128+G128+I128, 0) -> 34058 | L128: =TRUNC(F128+H128+J128, 0) -> 1636826 | M128: 호표 27
A129: 내수합판 설치(반자틀보강대) | B129: 5T | C129: M2 | D129: =수량산출서!H45 -> 9.72 | E129: =TRUNC(일위대가목록!E33,0) -> 6526 | F129: =TRUNC(E129*D129, 0) -> 63432 | G129: =TRUNC(일위대가목록!F33,0) -> 18183 | H129: =TRUNC(G129*D129, 0) -> 176738 | I129: =TRUNC(일위대가목록!G33,0) -> 363 | J129: =TRUNC(I129*D129, 0) -> 3528 | K129: =TRUNC(E129+G129+I129, 0) -> 25072 | L129: =TRUNC(F129+H129+J129, 0) -> 243698 | M129: 호표 28 | N129: 5B5AE66B49223627C152635FA4C55F | Q129: 010301 | R129: T | S129: F | T129: F | AU129: 0103015B5AE66B49223627C152635FA4C55F | AV129: 69
A130: 천정 반자틀 설치(기내실습실) | B130: 천정, ㅁ-30*30@300, 외송각재 | C130: M2 | D130: =수량산출서!H46 -> 9.72 | E130: =TRUNC(일위대가목록!E34,0) -> 1936 | F130: =TRUNC(E130*D130, 0) -> 18817 | G130: =TRUNC(일위대가목록!F34,0) -> 9733 | H130: =TRUNC(G130*D130, 0) -> 94604 | I130: =TRUNC(일위대가목록!G34,0) -> 194 | J130: =TRUNC(I130*D130, 0) -> 1885 | K130: =TRUNC(E130+G130+I130, 0) -> 11863 | L130: =TRUNC(F130+H130+J130, 0) -> 115306 | M130: 호표 29 | N130: 5B5AE668FB0286C2F5D2B34E6D5FFF | Q130: 010301 | R130: T | S130: F | T130: F | AU130: 0103015B5AE668FB0286C2F5D2B34E6D5FFF | AV130: 70
A131: 천정 반자틀 보강대(기내실습실) | B131: ㅁ-30*30@600 외송각재 | C131: M2 | D131: =수량산출서!H47 -> 4.86 | E131: =TRUNC(일위대가목록!E35,0) -> 1249 | F131: =TRUNC(E131*D131, 0) -> 6070 | G131: =TRUNC(일위대가목록!F35,0) -> 11192 | H131: =TRUNC(G131*D131, 0) -> 54393 | I131: =TRUNC(일위대가목록!G35,0) -> 223 | J131: =TRUNC(I131*D131, 0) -> 1083 | K131: =TRUNC(E131+G131+I131, 0) -> 12664 | L131: =TRUNC(F131+H131+J131, 0) -> 61546 | M131: 호표 30 | N131: 5B5AE668FB0286C2F432532CA496CA | Q131: 010301 | R131: T | S131: F | T131: F | AU131: 0103015B5AE668FB0286C2F432532CA496CA | AV131: 71
A132: 석고판 설치 | B132: 천장, 일반9.5t*2겹 (자재포함) | C132: M2 | D132: =수량산출서!H48 -> 17.28 | E132: =TRUNC(일위대가목록!E37,0) -> 6351 | F132: =TRUNC(E132*D132, 0) -> 109745 | G132: =TRUNC(일위대가목록!F37,0) -> 27433 | H132: =TRUNC(G132*D132, 0) -> 474042 | I132: =TRUNC(일위대가목록!G37,0) -> 274 | J132: =TRUNC(I132*D132, 0) -> 4734 | K132: =TRUNC(E132+G132+I132, 0) -> 34058 | L132: =TRUNC(F132+H132+J132, 0) -> 588521 | M132: 호표 32 | N132: 5B5A8681F002569C33B2A346E8AD73 | Q132: 010301 | R132: T | S132: F | T132: F | AU132: 0103015B5A8681F002569C33B2A346E8AD73 | AV132: 73
A133: 인테리어 필름 | B133: 벽체(방염) | C133: M2 | D133: =수량산출서!H49 -> 17.28 | E133: =TRUNC(일위대가목록!E49,0) -> 41000 | F133: =TRUNC(E133*D133, 0) -> 708480 | G133: =TRUNC(일위대가목록!F49,0) -> 0 | H133: =TRUNC(G133*D133, 0) -> 0 | I133: =TRUNC(일위대가목록!G49,0) -> 0 | J133: =TRUNC(I133*D133, 0) -> 0 | K133: =TRUNC(E133+G133+I133, 0) -> 41000 | L133: =TRUNC(F133+H133+J133, 0) -> 708480 | M133: =단가대비표!W98 -> 자재 79 | N133: 5B5A8680EA328625910233D1526C85 | Q133: 010301 | R133: T | S133: F | T133: F | AU133: 0103015B5A8680EA328625910233D1526C85 | AV133: 126
A134: 비닐타일 깔기 | B134: 비닐타일, 3*600*600mm, 데코타일 | C134: M2 | D134: =수량산출서!H50 -> 64.08 | E134: =일위대가목록!E25 -> 21330 | F134: =TRUNC(E134*D134, 0) -> 1366826 | G134: =일위대가목록!F25 -> 17145 | H134: =TRUNC(G134*D134, 0) -> 1098651 | J134: =TRUNC(I134*D134, 0) -> 0 | K134: =TRUNC(E134+G134+I134, 0) -> 38475 | L134: =TRUNC(F134+H134+J134, 0) -> 2465477 | M134: 호표 19 | N134: 5B5A8683BE92665E35D2D33D3BF463 | Q134: 010301 | R134: T | S134: F | T134: F | AU134: 0103015B5A8683BE92665E35D2D33D3BF463 | AV134: 72
A135: 컬러유리설치 | B135: 컬러유리 5mm | C135: M2 | D135: =수량산출서!H51 -> 8.64 | E135: =일위대가목록!E29 -> 114717 | F135: =TRUNC(E135*D135, 0) -> 991154 | G135: =일위대가목록!F29 -> 64050 | H135: =TRUNC(G135*D135, 0) -> 553392 | I135: =일위대가목록!G29 -> 378 | J135: =TRUNC(I135*D135, 0) -> 3265 | K135: =TRUNC(E135+G135+I135, 0) -> 179145 | L135: =TRUNC(F135+H135+J135, 0) -> 1547811 | M135: 호표23 | N135: 5B5AB63FB8920692B9E2237C1EFB46 | Q135: 010301 | R135: T | S135: F | T135: F | AU135: 0103015B5AB63FB8920692B9E2237C1EFB46 | AV135: 127
K136: =TRUNC(E136+G136+I136, 0) -> 0 | L136: =TRUNC(F136+H136+J136, 0) -> 0 | N136: 5B5AF6570A22861A44E2833966EFBF | Q136: 010301 | R136: T | S136: F | T136: F | AU136: 0103015B5AF6570A22861A44E2833966EFBF | AV136: 128
N138: 5AED96AB8AA2A613B6F233C1B7FAE2FD867295 | Q138: 010301 | R138: F | S138: F | T138: T | AU138: 0103015AED96AB8AA2A613B6F233C1B7FAE2FD867295 | AV138: 129
A150: [ 합 계 ] | F150: =SUM(F127:F149) -> 3693349 | H150: =SUM(H127:H149) -> 3966225 | J150: =SUM(J127:J149) -> 31582 | L150: =SUM(L127:L149) -> 7691156 | N150: TOTAL
A151: 010107 칠 공 사 | B151: 항공실습실 | Q151: 010304
A152: 바탕만들기+비닐페인트 롤러칠(오염방지,반광) | B152: 내부천장, 2회, G.B.면 올퍼티, 친환경(진품) | C152: M2 | D152: =수량산출서!H54 -> 76.896 | E152: =TRUNC(일위대가목록!E28,0) -> 3140 | F152: =TRUNC(E152*D152, 0) -> 241453 | G152: =TRUNC(일위대가목록!F28,0) -> 31960 | H152: =TRUNC(G152*D152, 0) -> 2457596 | I152: =TRUNC(일위대가목록!G28,0) -> 0 | J152: =TRUNC(I152*D152, 0) -> 0 | K152: =TRUNC(E152+G152+I152, 0) -> 35100 | L152: =TRUNC(F152+H152+J152, 0) -> 2699049 | M152: =일위대가목록!I28 -> 호표 22 | N152: 5B5A96EA1872D60D531283E0755CF092 | Q152: 010304 | R152: T | S152: F | T152: F | AU152: 0103045B5A96EA1872D60D531283E0755CF092 | AV152: 104
A153: 바탕만들기+수성페인트 롤러칠(오염방지,반광) | B153: 내부, 2회, G.B.면 올퍼티, 친환경(진품) | C153: M2 | D153: =수량산출서!H55 -> 22.56 | E153: =TRUNC(일위대가목록!E26,0) -> 2557 | F153: =TRUNC(E153*D153, 0) -> 57685 | G153: =TRUNC(일위대가목록!F26,0) -> 27816 | H153: =TRUNC(G153*D153, 0) -> 627528 | I153: =TRUNC(일위대가목록!G26,0) -> 0 | J153: =TRUNC(I153*D153, 0) -> 0 | K153: =TRUNC(E153+G153+I153, 0) -> 30373 | L153: =TRUNC(F153+H153+J153, 0) -> 685213 | M153: =일위대가목록!I26 -> 호표 20 | N153: 5B5A96EA1872D60D5312235937EE57 | Q153: 010304 | R153: T | S153: F | T153: F | AU153: 0103045B5A96EA1872D60D5312235937EE57 | AV153: 130
A154: 바탕만들기 (석고보드면) | B154: 벽체면 올퍼티 2회 | C154: M2 | D154: =수량산출서!H56 -> 22.56 | E154: =일위대가목록!E43 -> 828 | F154: =TRUNC(E154*D154, 0) -> 18679 | G154: =일위대가목록!F43 -> 20720 | H154: =TRUNC(G154*D154, 0) -> 467443 | K154: =TRUNC(E154+G154+I154, 0) -> 21548 | L154: =TRUNC(F154+H154+J154, 0) -> 486122 | M154: 호표 37
A155: 락카페인트(내벽) | B155: 금속 및 목재면 4회 | C155: M2 | D155: =수량산출서!H57 -> 39.672 | E155: =일위대가목록!E46 -> 11452.1 | F155: =TRUNC(E155*D155, 0) -> 454327 | G155: =일위대가목록!F46 -> 29406.6 | H155: =TRUNC(G155*D155, 0) -> 1166618 | J155: =TRUNC(I155*D155, 0) -> 0 | K155: =TRUNC(E155+G155+I155, 0) -> 40858 | L155: =TRUNC(F155+H155+J155, 0) -> 1620945 | M155: =일위대가목록!I46 -> 호표 40 | N155: 5AED96AB8AA2A613B6F233C1B7FAE2FD867296 | Q155: 010304 | R155: F | S155: F | T155: T | AU155: 0103045AED96AB8AA2A613B6F233C1B7FAE2FD867296 | AV155: 133
A176: [ 합 계 ] | F176: =SUM(F152:F175) -> 772144 | H176: =SUM(H152:H175) -> 4719185 | J176: =SUMIF(Q152:Q175,"010304",J152:J175) -> 0 | L176: =SUM(L152:L158) -> 5491329 | N176: TOTAL
A177: 010108 항공기물 제작및 설치 | B177: 항공실습실
A178: 더미도어 제작설치 | B178: =수량산출서!D60 -> A320 | C178: SET | D178: =수량산출서!H60 -> 1 | E178: =단가대비표!M88 -> 3800000 | F178: =SUM(E178*D178) -> 3800000 | G178: =단가대비표!P88 -> 250000 | H178: =SUM(G178*D178) -> 250000 | I178: =단가대비표!U88 -> 440000 | J178: =SUM(I178*D178) -> 440000 | K178: =TRUNC(E178+G178+I178, 0) -> 4490000 | L178: =TRUNC(F178+H178+J178, 0) -> 4490000 | M178: =단가대비표!W88 -> 자재 69
A179: 비즈니스좌석 | B179: 코쿤타입 / 실물 | C179: 조 | D179: =수량산출서!H61 -> 1 | E179: =단가대비표!M90 -> 4760000 | F179: =SUM(E179*D179) -> 4760000 | G179: =단가대비표!P90 -> 248000 | H179: =SUM(G179*D179) -> 248000 | J179: =SUM(I179*D179) -> 0 | K179: =TRUNC(E179+G179+I179, 0) -> 5008000 | L179: =TRUNC(F179+H179+J179, 0) -> 5008000 | M179: =단가대비표!W90 -> 자재 71
A180: 이코노미좌석 | B180: 2인석 / 이동설치 | C180: 조 | D180: =수량산출서!H62 -> 12 | E180: 145000 | F180: =SUM(E180*D180) -> 1740000 | G180: 42000 | H180: =SUM(G180*D180) -> 504000 | I180: 5000 | J180: =SUM(I180*D180) -> 60000 | K180: =TRUNC(E180+G180+I180, 0) -> 192000 | L180: =TRUNC(F180+H180+J180, 0) -> 2304000 | M180: =단가대비표!W91 -> 자재 72
A181: 승무원 좌석 (점프시트) | B181: 1인석 , 바닥형 / 실물 | C181: 조 | D181: =수량산출서!H63 -> 2 | E181: =단가대비표!M92 -> 3480000 | F181: =SUM(E181*D181) -> 6960000 | G181: =단가대비표!P92 -> 248000 | H181: =SUM(G181*D181) -> 496000 | J181: =SUM(I181*D181) -> 0 | K181: =TRUNC(E181+G181+I181, 0) -> 3728000 | L181: =TRUNC(F181+H181+J181, 0) -> 7456000 | M181: =단가대비표!W92 -> 자재 73
A182: 오버해드빈 | B182: 1050*1450 / (PSU포함)작동 | C182: SET | D182: =수량산출서!H64 -> 4 | E182: =단가대비표!M95 -> 942400 | F182: =SUM(E182*D182) -> 3769600 | G182: =단가대비표!P95 -> 223200 | H182: =SUM(G182*D182) -> 892800 | I182: =단가대비표!U95 -> 140000 | J182: =SUM(I182*D182) -> 560000 | K182: =TRUNC(E182+G182+I182, 0) -> 1305600 | L182: =TRUNC(F182+H182+J182, 0) -> 5222400 | M182: =단가대비표!W95 -> 자재 76
A183: 항공실습실 산소마스크 드랍장치 | B183: 산소마스크 드랍시스템 | C183: 개소 | D183: =수량산출서!H66 -> 2 | E183: =단가대비표!M82 -> 860000 | F183: =TRUNC(E183*D183, 0) -> 1720000 | G183: =단가대비표!P82 -> 254000 | H183: =TRUNC(G183*D183, 0) -> 508000 | K183: =TRUNC(E183+G183+I183, 0) -> 1114000 | L183: =TRUNC(F183+H183+J183, 0) -> 2228000 | M183: =단가대비표!W82 -> 자재 63
A202: [ 합 계 ] | F202: =SUM(F178:F201) -> 22749600 | H202: =SUM(H178:H201) -> 2898800 | J202: =SUM(J178:J201) -> 1060000 | L202: =SUM(L178:L183) -> 26708400
A203: 010109 싸 인 공 사 | B203: 항공실습실 | Q203: 010305
A204: LOGO MARK | B204: 600*600mm, 학교로고 | C204: 식 | D204: 1 | E204: =단가대비표!M100 -> 120000 | F204: =TRUNC(E204*D204, 0) -> 120000 | G204: =TRUNC(단가대비표!P100,0) -> 86000 | H204: =TRUNC(G204*D204, 0) -> 86000 | I204: =TRUNC(단가대비표!V101,0) -> 0 | J204: =TRUNC(I204*D204, 0) -> 0 | K204: =TRUNC(E204+G204+I204, 0) -> 206000 | L204: =TRUNC(F204+H204+J204, 0) -> 206000 | M204: =단가대비표!W100 -> 자재 80 | N204: 5AED96AB8AA2A613B6F233C1B7FAE2FD867291 | Q204: 010305 | R204: F | S204: F | T204: T | AU204: 0103055AED96AB8AA2A613B6F233C1B7FAE2FD867291 | AV204: 160
A205: EMERGENCY Follow line | B205: 야광라인 | C205: M | D205: =수량산출서!H70 -> 17 | E205: =단가대비표!M101 -> 5000 | F205: =TRUNC(E205*D205, 0) -> 85000 | G205: =TRUNC(단가대비표!P101,0) -> 15000 | H205: =TRUNC(G205*D205, 0) -> 255000 | I205: =TRUNC(단가대비표!V104,0) -> 0 | J205: =TRUNC(I205*D205, 0) -> 0 | K205: =TRUNC(E205+G205+I205, 0) -> 20000 | L205: =TRUNC(F205+H205+J205, 0) -> 340000 | M205: =단가대비표!W101 -> 자재 83 | N205: 5AED96AB8AA2A613B6F233C1B7FAE2FD867292 | Q205: 010305 | R205: F | S205: F | T205: T | AU205: 0103055AED96AB8AA2A613B6F233C1B7FAE2FD867292 | AV205: 163
A206: 동체실사그래픽 | B206: 지정디자인 | C206: M2 | D206: 4 | E206: =단가대비표!M102 -> 45000 | F206: =TRUNC(E206*D206, 0) -> 180000 | G206: =TRUNC(단가대비표!P102,0) -> 58000 | H206: =TRUNC(G206*D206, 0) -> 232000 | I206: =TRUNC(단가대비표!V105,0) -> 0 | J206: =TRUNC(I206*D206, 0) -> 0 | K206: =TRUNC(E206+G206+I206, 0) -> 103000 | L206: =TRUNC(F206+H206+J206, 0) -> 412000 | M206: =단가대비표!W102 -> 자재 84 | N206: 5AED96AB8AA2A613B6F233C1B7FAE2FD86729D | Q206: 010305 | R206: F | S206: F | T206: T | AU206: 0103055AED96AB8AA2A613B6F233C1B7FAE2FD86729D | AV206: 164
A207: 데칼스티커 | B207: 항공기 데칼 | C207: 식 | D207: =수량산출서!H72 -> 1 | E207: =단가대비표!M103 -> 300000 | F207: =TRUNC(E207*D207, 0) -> 300000 | H207: =TRUNC(G207*D207, 0) -> 0 | I207: =TRUNC(단가대비표!V107,0) -> 0 | K207: =TRUNC(E207+G207+I207, 0) -> 300000 | L207: =TRUNC(F207+H207+J207, 0) -> 300000 | M207: =단가대비표!W103 -> 자재 85
A208: 좌석표시 | B208: 항공기 좌석표시 | C208: SET | D208: =수량산출서!H73 -> 1 | E208: =단가대비표!M104 -> 45000 | F208: =TRUNC(E208*D208, 0) -> 45000 | G208: =TRUNC(단가대비표!P104,0) -> 0 | K208: =TRUNC(E208+G208+I208, 0) -> 45000 | L208: =TRUNC(F208+H208+J208, 0) -> 45000 | M208: =단가대비표!W104 -> 자재 86
A209: 구름이미지 | B209: 지정 이미지 | C209: SET | D209: =수량산출서!H74 -> 10 | E209: =단가대비표!M105 -> 18000 | F209: =TRUNC(E209*D209, 0) -> 180000 | G209: =TRUNC(단가대비표!P108,0) -> 0 | I209: =TRUNC(단가대비표!V108,0) -> 0 | K209: =TRUNC(E209+G209+I209, 0) -> 18000 | L209: =TRUNC(F209+H209+J209, 0) -> 180000 | M209: =단가대비표!W105 -> 자재 87
A210: 상부돌출싸인 | B210: 아크릴스카시/지정도장 | C210: 식 | D210: 1 | E210: =단가대비표!M106 -> 356000 | F210: =TRUNC(E210*D210, 0) -> 356000 | G210: =단가대비표!P106 -> 481000 | H210: =TRUNC(G210*D210, 0) -> 481000 | K210: =TRUNC(E210+G210+I210, 0) -> 837000 | L210: =TRUNC(F210+H210+J210, 0) -> 837000 | M210: =단가대비표!W106 -> 자재 88
A227: [ 합 계 ] | F227: =SUM(F204:F214) -> 1266000 | H227: =SUM(H204:H214) -> 1054000 | J227: =SUMIF(Q204:Q226,"010305",J204:J226) -> 0 | L227: =SUM(L204:L214) -> 2320000 | N227: TOTAL
A228: 010110 기타공사 | B228: 항공실습실 | Q228: 010306
A229: 비즈니스의자 커버제작 | B229: 지정디자인 | C229: 야드 | D229: =수량산출서!H77 -> 10 | E229: =단가대비표!O114 -> 32000 | F229: =TRUNC(E229*D229, 0) -> 320000 | G229: =단가대비표!P114 -> 3000 | H229: =TRUNC(G229*D229, 0) -> 30000 | I229: =TRUNC(단가대비표!V88,0) -> 0 | J229: =TRUNC(I229*D229, 0) -> 0 | K229: =TRUNC(E229+G229+I229, 0) -> 35000 | L229: =TRUNC(F229+H229+J229, 0) -> 350000 | M229: =단가대비표!W114 -> 자재 95 | N229: 5AED96AB8AA2A613B6F233C1B7FAE2FD86756C | Q229: 010306 | R229: F | S229: F | T229: T | AU229: 0103065AED96AB8AA2A613B6F233C1B7FAE2FD86756C | AV229: 123
A230: 이코노미의자 커버제작 | B230: 지정디자인 | C230: 야드 | D230: =수량산출서!H78 -> 96 | E230: =단가대비표!O115 -> 30000 | F230: =TRUNC(E230*D230, 0) -> 2880000 | G230: =단가대비표!P115 -> 3000 | H230: =TRUNC(G230*D230, 0) -> 288000 | I230: =TRUNC(단가대비표!V89,0) -> 0 | J230: =TRUNC(I230*D230, 0) -> 0 | K230: =TRUNC(E230+G230+I230, 0) -> 33000 | L230: =TRUNC(F230+H230+J230, 0) -> 3168000 | M230: =단가대비표!W115 -> 자재 96 | N230: 5AED96AB8AA2A613B6F233C1B7FAE2FD86756D | Q230: 010306 | R230: F | S230: F | T230: T | AU230: 0103065AED96AB8AA2A613B6F233C1B7FAE2FD86756D | AV230: 124
A231: 점프시트 커버제작 | B231: 지정디자인 | C231: 야드 | D231: =수량산출서!H79 -> 8 | E231: =단가대비표!O116 -> 35000 | F231: =TRUNC(E231*D231, 0) -> 280000 | G231: =단가대비표!P116 -> 2800 | H231: =TRUNC(G231*D231, 0) -> 22400 | I231: =TRUNC(단가대비표!V90,0) -> 0 | J231: =TRUNC(I231*D231, 0) -> 0 | K231: =TRUNC(E231+G231+I231, 0) -> 37800 | L231: =TRUNC(F231+H231+J231, 0) -> 302400 | M231: =단가대비표!W116 -> 자재 97 | N231: 5AED96AB8AA2A613B6F233C1B7FAE2FD867562 | Q231: 010306 | R231: F | S231: F | T231: T | AU231: 0103065AED96AB8AA2A613B6F233C1B7FAE2FD867562 | AV231: 125
A232: 헤드레스트 제작 (학교로고) | B232: 지정디자인 | C232: SET | D232: =수량산출서!H80 -> 26 | E232: =단가대비표!O117 -> 26000 | F232: =TRUNC(E232*D232, 0) -> 676000 | G232: =단가대비표!P117 -> 1800 | H232: =TRUNC(G232*D232, 0) -> 46800 | K232: =TRUNC(E232+G232+I232, 0) -> 27800 | L232: =TRUNC(F232+H232+J232, 0) -> 722800 | M232: =단가대비표!W117 -> 자재 98
A252: [ 합 계 ] | F252: =SUM(F229:F233) -> 4156000 | H252: =SUM(H229:H233) -> 387200 | J252: =SUMIF(Q229:Q251,"010306",J229:J251) -> 0 | L252: =SUM(L229:L233) -> 4543200 | N252: TOTAL

Sheet 일위대가목록
B1: 일 위 대 가 목 록
B2: =갑지!D6 -> 강원도립대학교 RISE사업 현장기반형 산학연계 교육환경개선 공사 (호텔관광과)
A3: 코 드 | B3: 품 명 | C3: 규 격 | D3: 단위 | E3: 재 료 비 | F3: 노 무 비 | G3: 경 비 | H3: 합 계 | I3: 번 호 | J3: 비 고 | K3: 노임계수 | L3: 할증 | M3: 품셈개요 | N3: 장비일위
A4: 5B5A66B52F826694E9D28373DDBC8A | B4: 강관 조립말비계(이동식)설치 및 해체 | C4: 높이 2m, 3개월 | D4: 대 | E4: =일위대가!F15 -> 14835 | F4: =일위대가!H15 -> 94574 | G4: =일위대가!J15 -> 0 | H4: =E4+F4+G4 -> 109409 | I4: 호표 1 | M4: 공통 2-7-4, 2-2-5
B5: 먹메김 | C5: 구조부일반 | D5: M2 | E5: =일위대가!F19 -> 0 | F5: =일위대가!H19 -> 1396.335 | G5: =일위대가!J19 -> 0 | H5: =E5+F5+G5 -> 1396.335 | I5: 호표 2
A6: 5B5A66B0A8C2B69DBC32D31910A832 | B6: 건축물보양 | C6: 플라베니아(PVC골판지) | D6: M2 | E6: =일위대가!F25 -> 2796 | F6: =일위대가!H25 -> 1720 | G6: =일위대가!J25 -> 0 | H6: =E6+F6+G6 -> 4516 | I6: 호표 3
A7: 5B5A66B0AB9296D6C9B2E35DB1E02A | B7: 건축물 현장정리 | C7: 리모델링 | D7: M2 | E7: =일위대가!F29 -> 0 | F7: =일위대가!H29 -> 22368 | G7: =일위대가!J29 -> 0 | H7: =E7+F7+G7 -> 22368 | I7: 호표 4
B8: 소운반 | C8: 3층,인력 | D8: M2 | E8: =일위대가!F34 -> 0 | F8: =일위대가!H34 -> 7743 | G8: =일위대가!J34 -> 0 | H8: =E8+F8+G8 -> 7743 | I8: 호표 5
B9: 이코노미석(사이드월)해체및 운반 | C9: 인력운반 | D9: M2 | E9: =일위대가!F39 -> 0 | F9: =일위대가!H39 -> 13190 | G9: =일위대가!J39 -> 0 | H9: =E9+F9+G9 -> 13190 | I9: 호표 5-1
A10: 5B5A66B0AE5256D2F56283A7947F00 | B10: 준공청소 | C10: 보통인부 | D10: M2 | E10: =일위대가!F46 -> 0 | F10: =일위대가!H46 -> 3441 | G10: =일위대가!J46 -> 0 | H10: =E10+F10+G10 -> 3441 | I10: 호표 6 | M10: 공통 2-11-3
A11: 5B5A66B0AE5256D2F56283A68D0D29 | B11: 입주청소 | C11: 보통인부 | D11: M2 | E11: =일위대가!F50 -> 0 | F11: =일위대가!H50 -> 5162 | G11: =일위대가!J50 -> 0 | H11: =E11+F11+G11 -> 5162 | I11: 호표 7 | M11: 공통 2-11-4
B12: 폐기물운반및처리 | C12: 건설폐재류 / 폐벽돌외 | D12: TON | E12: =일위대가!F55 -> 0 | F12: =일위대가!H55 -> 0 | G12: =일위대가!K53 -> 49571 | H12: =E12+F12+G12 -> 49571 | I12: 호표 8
C13: 운반비 | D13: TON | G13: =일위대가!K54 -> 40900 | H13: =E13+F13+G13 -> 40900
B14: 폐기물운반및처리 | C14: 혼합폐기물 / 불연성+가연성 | D14: TON | E14: =일위대가!F60 -> 0 | F14: =일위대가!H60 -> 0 | G14: =일위대가!K58 -> 72721 | H14: =E14+F14+G14 -> 72721 | I14: 호표 9
C15: 운반비 | D15: TON | G15: =일위대가!K59 -> 40900 | H15: =E15+F15+G15 -> 40900
A16: 5B5B6621ECD266052AE2E341B252E9 | B16: 목조, 칸막이벽 철거 | C16: 해체재 재사용 안 함 | D16: M2 | E16: =일위대가!F65 -> 0 | F16: =일위대가!H65 -> 15157 | G16: =일위대가!J65 -> 0 | H16: =E16+F16+G16 -> 15157 | I16: 호표 10 | M16: 건축 12-2-1
A17: 5B5B6621ECD26607D922C3A3D2D7F1 | B17: 석고보드 철거(벽) | C17: 2겹 | D17: M2 | E17: =일위대가!F69 -> 0 | F17: =일위대가!H69 -> 10632 | G17: =일위대가!J69 -> 212 | H17: =E17+F17+G17 -> 10844 | I17: 호표 11
A18: 5B5B6621ECD26607D922C3A3D3FFA4 | B18: 조적벽 철거 | D18: M3 | E18: =일위대가!F73 -> 0 | F18: =일위대가!H73 -> 146267 | G18: =일위대가!J73 -> 2925 | H18: =E18+F18+G18 -> 149192 | I18: 호표 12 | M18: 유지관리 3-2-4
A19: 5B5B6621ECD2660630325374F9BFE6 | B19: 텍스, 합판 철거(천장) | C19: 해체재 재사용 안 함 | D19: M2 | E19: =일위대가!F78 -> 0 | F19: =일위대가!H78 -> 7660 | G19: =일위대가!J78 -> 0 | H19: =E19+F19+G19 -> 7660 | I19: 호표 13 | M19: 유지관리 3-2-2
A20: 5B5B6621ECD26601B25243D6CB849F | B20: 경량철골천정틀 철거 | D20: M2 | E20: =일위대가!F82 -> 0 | F20: =일위대가!H82 -> 6688 | G20: =일위대가!J82 -> 133 | H20: =E20+F20+G20 -> 6821 | I20: 호표 14 | M20: 유지관리 3-2-3
A21: 5B5B6621E5A256898C72531006346B | B21: 마루틀 및 마루널 철거 | C21: 해체재 재사용 안 함 | D21: M2 | E21: =일위대가!F87 -> 0 | F21: =일위대가!H87 -> 50523 | G21: =일위대가!J87 -> 0 | H21: =E21+F21+G21 -> 50523 | I21: 호표 15 | M21: 건축 12-2-1
A22: 5B5B6621E5A256898C725313D323E6 | B22: 비닐계타일 철거 | C22: 바닥 및 수장 부분 | D22: M2 | E22: =일위대가!F91 -> 0 | F22: =일위대가!H91 -> 5162 | G22: =일위대가!J91 -> 0 | H22: =E22+F22+G22 -> 5162 | I22: 호표 16 | M22: 건축 12-2-1 준용
A23: 5B5A8681F3D2A6C2150263AC9F4DB6 | B23: 흡음텍스 설치 | D23: M2 | E23: =일위대가!F97 -> 0 | F23: =일위대가!H97 -> 15088 | G23: =일위대가!J97 -> 452 | H23: =E23+F23+G23 -> 15540 | I23: 호표 17 | M23: 건축 5-2-1
A24: 5B5AE668FB0286C2F432532CA496CE | B24: 벽체틀 설치 | C24: 미송, ㅁ-30*30,@300 | D24: M2 | E24: =일위대가!F102 -> 2506 | F24: =일위대가!H102 -> 9733 | G24: =일위대가!J102 -> 194 | H24: =E24+F24+G24 -> 12433 | I24: 호표 18
A25: 5B5A8683BE92665E35D2D33D3BF463 | B25: 비닐타일 깔기 | C25: 비닐타일, 3*600*600mm, 데코타일 | D25: M2 | E25: =일위대가!F107 -> 21330 | F25: =일위대가!H107 -> 17145 | G25: =일위대가!J107 -> 0 | H25: =E25+F25+G25 -> 38475 | I25: 호표 19 | M25: 건축 5-1-1
A26: 5B5A96EA1872D60D5312235937EE57 | B26: 바탕만들기+수성페인트 롤러칠(오염방지,반광) | C26: 벽, 2회, 올퍼티, 친환경(진품) | D26: M2 | E26: =일위대가!F113 -> 2557 | F26: =일위대가!H113 -> 27816 | G26: =일위대가!J113 -> 0 | H26: =E26+F26+G26 -> 30373 | I26: 호표 20
A27: 5B5A96EA1872D60D531283E0755D9C | B27: 바탕만들기+수성페인트 롤러칠(오염방지,반광) | C27: 내천장 2회, G.B.면 올퍼티, 친환경 | D27: M2 | E27: =일위대가!F119 -> 2874 | F27: =일위대가!H119 -> 31960 | G27: =일위대가!J119 -> 0 | H27: =E27+F27+G27 -> 34834 | I27: 호표 21 | M27: 건축 11-1-2,-2-2
A28: 5B5A96EA1872D60D531283E0755CF092 | B28: 바탕만들기+비닐페인트 롤러칠(오염방지,반광) | C28: 내부천장, 2회, G.B.면 올퍼티, 친환경(진품) | D28: M2 | E28: =일위대가!F125 -> 3140 | F28: =일위대가!H125 -> 31960 | G28: =일위대가!J125 -> 0 | H28: =E28+F28+G28 -> 35100 | I28: 호표 22
B29: 방습거울설치 | C29: 5mm이하 | D29: M2 | E29: =일위대가!F137 -> 114717 | F29: =일위대가!H137 -> 64050 | G29: =일위대가!J137 -> 378 | H29: =E29+F29+G29 -> 179145 | I29: 호표 23
B30: 기둥벽체조성 | C30: =공종별내역서!#REF! -> #REF! | D30: M2 | E30: =일위대가!F145 -> 11428.3 | F30: =일위대가!H145 -> 27916.9 | G30: =일위대가!J145 -> 558.3 | H30: =E30+F30+G30 -> 39903.5 | I30: 호표 24
B31: 동체벽체조성 | C31: =공종별내역서!B127 -> MDF 18T CNC + MDF 6T 2P | D31: M2 | E31: =일위대가!F154 -> 17606.3 | F31: =일위대가!H154 -> 27916.9 | G31: =일위대가!J154 -> 558.3 | H31: =E31+F31+G31 -> 46081.5 | I31: 호표 25
B32: 갤리벽체조성 | C32: =공종별내역서!B128 -> 각재+석고9.5T 2P | D32: M2 | E32: =일위대가!F162 -> 7337.8 | F32: =일위대가!H162 -> 58293.6 | G32: =일위대가!J162 -> 0 | I32: 호표 26
A33: 5B5AE66B49223627C152635FA4C55F | B33: 내수합판 설치(반자틀보강대) | C33: 5T | D33: M2 | E33: =일위대가!F168 -> 6526 | F33: =일위대가!H168 -> 18183 | G33: =일위대가!J168 -> 363 | H33: =E33+F33+G33 -> 25072 | I33: 호표 27
A34: 5B5AE668FB0286C2F5D2B34E6D5FFF | B34: 천정 반자틀 설치(기내실습실) | C34: 천정, ㅁ-30*30@300, 외송각재 | D34: M2 | E34: =일위대가!F173 -> 1936 | F34: =일위대가!H173 -> 9733 | G34: =일위대가!J173 -> 194 | H34: =E34+F34+G34 -> 11863 | I34: 호표 28
A35: 5B5AE668FB0286C2F432532CA496CA | B35: 천정 반자틀 보강대(기내실습실) | C35: ㅁ-30*30@600 외송각재 | D35: M2 | E35: =일위대가!F178 -> 1249 | F35: =일위대가!H178 -> 11192 | G35: =일위대가!J178 -> 223 | H35: =E35+F35+G35 -> 12664 | I35: 호표 29
A36: 5B5A8681F002569F87B283B8F8DB6B | B36: 석고판 설치 | C36: 벽체, 일반9.5t*2겹 (자재포함) | D36: M2 | E36: =일위대가!F183 -> 6351 | F36: =일위대가!H183 -> 22889 | G36: =일위대가!J183 -> 228 | H36: =E36+F36+G36 -> 29468 | I36: 호표 30
A37: 5B5A8681F002569C33B2A346E8AD73 | B37: 석고판 설치 | C37: 천장, 일반9.5t*2겹 (자재포함) | D37: M2 | E37: =일위대가!F188 -> 6351 | F37: =일위대가!H188 -> 27433 | G37: =일위대가!J188 -> 274 | H37: =E37+F37+G37 -> 34058 | I37: 호표 31
B38: 플로어힌지설치 | C38: 재료비별도 | D38: M2 | F38: =일위대가!H194 -> 31989 | G38: =일위대가!J193 -> 639.7 | H38: =E38+F38+G38 -> 32628.7 | I38: 호표 32
A39: 5B5AD60D31C2E699CC520343B4B910 | B39: 경량철골천정틀 | C39: M-BAR, H:1m미만. 인써트 유 | D39: M2 | E39: =일위대가!F209 -> 7151 | F39: =일위대가!H209 -> 11402 | G39: =일위대가!J209 -> 684 | H39: =E39+F39+G39 -> 19237 | I39: 호표 33
A40: 5B5AB631DF12561B81B2F3BF0118C1 | B40: 창호유리설치 / 판유리 | C40: 유리두께 12mm 이하 | D40: M2 | E40: =일위대가!F214 -> 0 | F40: =일위대가!H214 -> 34363 | G40: =일위대가!J214 -> 0 | H40: =E40+F40+G40 -> 34363 | I40: 호표 34 | M40: 건축 10-3-1
A41: 5B5AF6570BC2D694FFA29308E21F37 | B41: 수밀코킹(실리콘) | C41: 삼각, 10mm, 창호주위 | D41: M | E41: =일위대가!F219 -> 270 | F41: =일위대가!H219 -> 5228 | G41: =일위대가!J219 -> 0 | H41: =E41+F41+G41 -> 5498 | I41: 호표 35 | M41: 건축 6-6-1
A42: 5B5AF6570A22861A44E2833966EFBF | B42: 유리주위 코킹 | C42: 5*5, 실리콘 | D42: M | E42: =일위대가!F222 -> 120 | F42: =일위대가!H222 -> 156 | G42: =일위대가!J222 -> 0 | H42: =E42+F42+G42 -> 276 | I42: 호표 36 | M42: 건축 6-6-1
A43: 5B5A96FAA4926659B772236AB8A323 | B43: 석고보드면 바탕만들기 | C43: 올퍼티 친환경 노무비 | D43: M2 | E43: =일위대가!F228 -> 828 | F43: =일위대가!H228 -> 20720 | G43: =일위대가!J228 -> 0 | H43: =E43+F43+G43 -> 21548 | I43: 호표 37 | M43: 건축 11-1-2
A44: 5B5A96FAA4926659B772236ABB76FB | B44: 석고보드면 바탕만들기 | C44: 올퍼티 천장 친환경, 노무비 | D44: M2 | E44: =일위대가!F235 -> 828 | F44: =일위대가!H235 -> 24864 | G44: =일위대가!J235 -> 0 | H44: =E44+F44+G44 -> 25692 | I44: 호표 38 | M44: 건축 11-1-2
A45: 5B5A96EA1872D60D5162132C452095 | B45: 수성페인트 롤러칠 | C45: 천장 2회 노무비 | D45: M2 | E45: =일위대가!F241 -> 141 | F45: =일위대가!H241 -> 7096 | G45: =일위대가!J241 -> 0 | H45: =E45+F45+G45 -> 7237 | I45: 호표 39 | M45: 건축 11-2-2
A46: 5B5A96EB3E6206CCDAA2231DAEE631 | B46: 락카페인트 마감 | C46: 목재면 4회 | D46: M2 | E46: =일위대가!F247 -> 11452.1 | F46: =일위대가!H247 -> 29406.6 | G46: =일위대가!J349 -> 0 | H46: =E46+F46+G46 -> 40858.7 | I46: 호표 40 | M46: 건축 11-2-4
A47: 5B5AD60957024654D3A2E37C6496EB | B47: 잡철물 제작 및 설치 | C47: 현장제작 설치, 일반철재 | D47: kg | E47: =일위대가!F253 -> 1690 | F47: =일위대가!H253 -> 5328 | G47: =일위대가!J253 -> 266 | H47: =E47+F47+G47 -> 7284 | I47: 호표 41 | M47: 건축 8-3-1
A49: 5B5A8680EA328625910233D1526C85 | B49: 인테리어 필름 | C49: 벽체(방염) | D49: M2 | E49: =일위대가!F263 -> 41000 | F49: =일위대가!H263 -> 0 | G49: =일위대가!J263 -> 0 | H49: =E49+F49+G49 -> 41000 | I49: 호표 42
A50: 5B5A66B52F826694E9D2837236721A | B50: 강관 조립말비계(이동식)설치 및 해체 | C50: 높이 2m, 노무비 | D50: 대 | E50: =일위대가!F274 -> 0 | F50: =일위대가!H274 -> 94574 | G50: =일위대가!J274 -> 0 | H50: =E50+F50+G50 -> 94574 | I50: 호표 43 | M50: 공통 2-7-4
A51: 5B5A8681F6A2D69AC422F3D2AC6485 | B51: 벽체합판 설치 | C51: 합판 별도 | D51: M2 | E51: =일위대가!F280 -> 0 | F51: =일위대가!H280 -> 18183 | G51: =일위대가!J280 -> 363 | H51: =E51+F51+G51 -> 18546 | I51: 호표 44 | M51: 건축 4-2-3
A52: 5B5AE668FB0296E98022C3776068B5 | B52: 벽체틀 설치 | C52: 자재 별도 | D52: M2 | E52: =일위대가!F287 -> 0 | F52: =일위대가!H287 -> 9733 | G52: =일위대가!J287 -> 194 | H52: =E52+F52+G52 -> 9927 | I52: 호표 45 | M52: 건축 4-2-1
A53: 5B5AE668FB0296E98022C3776068B0 | B53: 천정틀 설치 | C53: 자재 별도 | D53: M2 | E53: =일위대가!F294 -> 0 | F53: =일위대가!H294 -> 9733 | G53: =일위대가!J294 -> 194 | H53: =E53+F53+G53 -> 9927 | I53: 호표 46 | M53: 건축 4-2-1
A54: 5B5A8683BE92665E316223166ECC00 | B54: PVC계 바닥재 설치 - 타일형 | C54: 주재료 제외 | D54: M2 | E54: =일위대가!F300 -> 1380 | F54: =일위대가!H300 -> 17145 | G54: =일위대가!J300 -> 0 | H54: =E54+F54+G54 -> 18525 | I54: 호표 47 | M54: 건축 5-1-1
A55: 5B5A8681F002569F87B283B8F8DB63 | B55: 석고판 설치(나사고정) - 치장용 | C55: 벽, 바탕용(1겹) + 치장용(1겹) | D55: M2 | E55: =일위대가!F306 -> 0 | F55: =일위대가!H306 -> 22889 | G55: =일위대가!J306 -> 228 | H55: =E55+F55+G55 -> 23117 | I55: 호표 48 | M55: 건축 5-3-1
A56: 5B5A8681F002569C33B2A346E8AD02 | B56: 석고판 설치(나사고정) - 치장용 | C56: 천장, 바탕용(1겹) + 치장용(1겹) | D56: M2 | E56: =일위대가!F312 -> 0 | F56: =일위대가!H312 -> 27433 | G56: =일위대가!J312 -> 274 | H56: =E56+F56+G56 -> 27707 | I56: 호표 49 | M56: 건축 5-2-3
A57: 5B5AD60D31C2E699CF2253C99D0626 | B57: 경량천장철골틀 설치 | C57: BAR 간격 300mm | D57: M2 | E57: =일위대가!F318 -> 0 | F57: =일위대가!H318 -> 11402 | G57: =일위대가!J318 -> 684 | H57: =E57+F57+G57 -> 12086 | I57: 호표 50 | M57: 건축 8-2-4
A58: 5B5AD60957024654D3A2E37C6496EB | B58: 잡철물 제작 및 설치 | C58: 현장제작 설치, 일반철재 | D58: kg | E58: =일위대가!F327 -> 159 | F58: =일위대가!H327 -> 5328 | G58: =일위대가!J327 -> 266 | H58: =E58+F58+G58 -> 5753 | I58: 호표 51 | M58: 건축 8-3-1
A59: 5B5A96EB3E6206CCDAA2231933DC48 | B59: 유성페인트 붓칠(재료비 미포함) | C59: 철재면, 2회 1급 | D59: M2 | E59: =일위대가!F335 -> 11452 | F59: =일위대가!H335 -> 29406 | G59: =일위대가!J335 -> 0 | H59: =E59+F59+G59 -> 40858 | I59: 호표 52 | M59: 건축 11-2-4
A60: 5B5A868BF572F6ACDAD293142CF31B | B60: 몰딩 설치 | D60: M | E60: =일위대가!F354 -> 0 | F60: =일위대가!H354 -> 8990 | G60: =일위대가!J354 -> 359 | H60: =E60+F60+G60 -> 9349 | I60: 호표 53 | M60: 건축 8-1-5
A61: 5B5AF6570872B646169273DDE81511 | B61: 수밀코킹 | C61: 재료비 별도 | D61: M | E61: =일위대가!F358 -> 0 | F61: =일위대가!H358 -> 5228 | G61: =일위대가!J358 -> 0 | H61: =E61+F61+G61 -> 5228 | I61: 호표 54 | M61: 건축 6-6-1
A62: 5B5A96EB3CB226543772B3B7CF27D3 | B62: 걸레받이용 페인트칠 | C62: 붓칠 2회 노무비 | D62: M2 | E62: =일위대가!F364 -> 395 | F62: =일위대가!H364 -> 19782 | G62: =일위대가!J364 -> 0 | H62: =E62+F62+G62 -> 20177 | I62: 호표 55 | M62: 건축 11-2-10
A63: 5B5A96EA1872D60D56E243CC7A5FA3 | B63: 수성페인트 롤러칠 | C63: 2회 노무비 | D63: M2 | E63: =일위대가!F379 -> 141 | F63: =일위대가!H379 -> 7096 | G63: =일위대가!J379 -> 0 | H63: =E63+F63+G63 -> 7237 | I63: 호표 56 | M63: 건축 11-2-2
A64: 5B5B6621E5A256898D12A3D2C06205 | B64: 석고판 해체 | C64: 벽 | D64: M2 | E64: =일위대가!F385 -> 0 | F64: =일위대가!H385 -> 5316 | G64: =일위대가!J385 -> 106 | H64: =E64+F64+G64 -> 5422 | I64: 호표 57 | M64: 유지 3-2-6
A65: 5B5B6621E5A256898D128324A5F072 | B65: 조적벽 해체 | C65: H=3.6m 이하 | D65: M3 | E65: =일위대가!F391 -> 0 | F65: =일위대가!H391 -> 146267 | G65: =일위대가!J391 -> 2925 | H65: =E65+F65+G65 -> 149192 | I65: 호표 58 | M65: 유지 3-2-4
A66: 5B5B6621E5A256898D12F3541BC5E5 | B66: 경량천장철골틀 해체 | D66: M2 | E66: =일위대가!F412 -> 0 | F66: =일위대가!H412 -> 6688 | G66: =일위대가!J412 -> 133 | H66: =E66+F66+G66 -> 6821 | I66: 호표 59 | M66: 유지 3-2-3
A67: 5B5B6621E5A256898C725316AD2B09 | B67: 아스타일 떼내기 | C67: 바닥 및 수장 부분 | D67: M2 | E67: =일위대가!F422 -> 0 | F67: =일위대가!H422 -> 5162 | G67: =일위대가!J422 -> 0 | H67: =E67+F67+G67 -> 5162 | I67: 호표 60 | M67: 건축 12-2-1 준용
A68: 5B5B6621E5A256898C725313D4C908 | B68: 리노륨 철거 - 22-1/4삭제 | C68: 바닥 및 수장 부분 | D68: M2 | E68: =일위대가!F426 -> 0 | F68: =일위대가!H426 -> 5162 | G68: =일위대가!J426 -> 0 | H68: =E68+F68+G68 -> 5162 | I68: 호표 61 | M68: 건축 12-2-1
A69: 5B5AB631DF12561B81B2F3BF011F70 | B69: 창호유리설치 / 판유리 | C69: 유리두께 12mm 이하 | D69: M2 | E69: =일위대가!F431 -> 0 | F69: =일위대가!H431 -> 34363 | G69: =일위대가!J431 -> 0 | H69: =E69+F69+G69 -> 34363 | I69: 호표 62 | M69: 건축 10-3-1
A70: 5B7F1641A962460E0222B3C80F3939 | B70: 콘크리트 균열 보수 | C70: 주입공법 | D70: M | E70: =일위대가!F437 -> 0 | F70: =일위대가!H437 -> 22249 | G70: =일위대가!J437 -> 444 | H70: =E70+F70+G70 -> 22693 | I70: 호표 63 | M70: 유지관리 공통 1-3-2
A71: 5B5AD60957024654D3A2C34E691C54 | B71: 잡철물 제작 및 설치 | C71: 현장제작 설치, 경량철재 | D71: kg | E71: =일위대가!F446 -> 138 | F71: =일위대가!H446 -> 6925 | G71: =일위대가!J446 -> 277 | H71: =E71+F71+G71 -> 7340 | I71: 호표 64 | M71: 건축 8-3-1

Sheet 일위대가
A1: =갑지!D6 -> 강원도립대학교 RISE사업 현장기반형 산학연계 교육환경개선 공사 (호텔관광과)
A2: 품 명 | B2: 규 격 | C2: 단위 | D2: 수량 | E2: 재 료 비 | G2: 노 무 비 | I2: 경 비 | K2: 합 계 | M2: 비 고 | N2: 일위대가 | O2: 품목코드 | P2: 일위 | Q2: 단산 | R2: 자재 | S2: 손료적용 | T2: 손료저장 | U2: 적용율 | V2: JUK1 | W2: JUK2 | X2: JUK3 | Y2: JUK4 | Z2: JUK5 | AA2: JUK6 | AB2: JUK7 | AC2: JUK8 | AD2: JUK9 | AE2: JUK10 | AF2: JUK11 | AG2: JUK12 | AH2: JUK13 | AI2: JUK14 | AJ2: JUK15 | AK2: JUK16 | AL2: JUK17 | AM2: JUK18 | AN2: JUK19 | AO2: JUK20 | AP2: 할증적용 | AQ2: 할증저장 | AR2: 할증율 | AS2: HAL1 | AT2: HAL2 | AU2: HAL3 | AV2: 자재구분 | AW2: 일위대가+자재 | AX2: 장비일위 | AY2: 설정 | AZ2: 할증체크
E3: 단 가 | F3: 금 액 | G3: 단 가 | H3: 금 액 | I3: 단 가 | J3: 금 액 | K3: 단 가 | L3: 금 액
A4: 강관 조립말비계(이동식)설치 및 해체 높이 2m, 3개월 대 공통 2-7-4, 2-2-5 | M4: 호표-01 | N4: 5B5A66B52F826694E9D28373DDBC8A
A5: 비계안정장치 | B5: 비계안정장치, 비계기본틀, 기둥, 1.2*1.7m | C5: 개 | D5: 0.12 | E5: =단가대비표!O32 -> 4500 | F5: =TRUNC(E5*D5,1) -> 540 | G5: =단가대비표!P32 -> 0 | H5: =TRUNC(G5*D5,1) -> 0 | I5: =단가대비표!V32 -> 0 | J5: =TRUNC(I5*D5,1) -> 0 | K5: =TRUNC(E5+G5+I5,1) -> 4500 | L5: =TRUNC(F5+H5+J5,1) -> 540 | M5: 자재 37 | N5: 5B5A66B52F826694E9D28373DDBC8A | O5: 5C71065FD562C66E9F5223ADF6D43F34B7C755 | P5: F | Q5: F | R5: T | AW5: 5B5A66B52F826694E9D28373DDBC8A5C71065FD562C66E9F5223ADF6D43F34B7C755
A6: 비계안정장치 | B6: 비계안정장치, 가새, 1.2*1.9m | C6: 개 | D6: 0.12 | E6: =단가대비표!O33 -> 1350 | F6: =TRUNC(E6*D6,1) -> 162 | G6: =단가대비표!P33 -> 0 | H6: =TRUNC(G6*D6,1) -> 0 | I6: =단가대비표!V33 -> 0 | J6: =TRUNC(I6*D6,1) -> 0 | K6: =TRUNC(E6+G6+I6,1) -> 1350 | L6: =TRUNC(F6+H6+J6,1) -> 162 | M6: 자재 38 | N6: 5B5A66B52F826694E9D28373DDBC8A | O6: 5C71065FD562C66E9F5223ADF6D43F34B7C75B | P6: F | Q6: F | R6: T | AW6: 5B5A66B52F826694E9D28373DDBC8A5C71065FD562C66E9F5223ADF6D43F34B7C75B
A7: 비계안정장치 | B7: 비계안정장치, 수평띠장, 1829mm | C7: 개 | D7: 0.24 | E7: =단가대비표!O34 -> 4500 | F7: =TRUNC(E7*D7,1) -> 1080 | G7: =단가대비표!P34 -> 0 | H7: =TRUNC(G7*D7,1) -> 0 | I7: =단가대비표!V34 -> 0 | J7: =TRUNC(I7*D7,1) -> 0 | K7: =TRUNC(E7+G7+I7,1) -> 4500 | L7: =TRUNC(F7+H7+J7,1) -> 1080 | M7: 자재 39 | N7: 5B5A66B52F826694E9D28373DDBC8A | O7: 5C71065FD562C66E9F5223ADF6D43F34B7C87B | P7: F | Q7: F | R7: T | AW7: 5B5A66B52F826694E9D28373DDBC8A5C71065FD562C66E9F5223ADF6D43F34B7C87B
A8: 비계안정장치 | B8: 비계안정장치, 손잡이기둥 | C8: 개 | D8: 0.24 | E8: =단가대비표!O37 -> 15000 | F8: =TRUNC(E8*D8,1) -> 3600 | G8: =단가대비표!P37 -> 0 | H8: =TRUNC(G8*D8,1) -> 0 | I8: =단가대비표!V37 -> 0 | J8: =TRUNC(I8*D8,1) -> 0 | K8: =TRUNC(E8+G8+I8,1) -> 15000 | L8: =TRUNC(F8+H8+J8,1) -> 3600 | M8: 자재 42 | N8: 5B5A66B52F826694E9D28373DDBC8A | O8: 5C71065FD562C66E9F5223ADF6D43F34B7BE74 | P8: F | Q8: F | R8: T | AW8: 5B5A66B52F826694E9D28373DDBC8A5C71065FD562C66E9F5223ADF6D43F34B7BE74
A9: 비계안정장치 | B9: 비계안정장치, 손잡이, 1229mm | C9: 개 | D9: 0.12 | E9: =단가대비표!O38 -> 8000 | F9: =TRUNC(E9*D9,1) -> 960 | G9: =단가대비표!P38 -> 0 | H9: =TRUNC(G9*D9,1) -> 0 | I9: =단가대비표!V38 -> 0 | J9: =TRUNC(I9*D9,1) -> 0 | K9: =TRUNC(E9+G9+I9,1) -> 8000 | L9: =TRUNC(F9+H9+J9,1) -> 960 | M9: 자재 43 | N9: 5B5A66B52F826694E9D28373DDBC8A | O9: 5C71065FD562C66E9F5223ADF6D43F34B7BE77 | P9: F | Q9: F | R9: T | AW9: 5B5A66B52F826694E9D28373DDBC8A5C71065FD562C66E9F5223ADF6D43F34B7BE77
A10: 비계안정장치 | B10: 비계안정장치, 손잡이, 1829mm | C10: 개 | D10: 0.24 | E10: =단가대비표!O39 -> 10000 | F10: =TRUNC(E10*D10,1) -> 2400 | G10: =단가대비표!P39 -> 0 | H10: =TRUNC(G10*D10,1) -> 0 | I10: =단가대비표!V39 -> 0 | J10: =TRUNC(I10*D10,1) -> 0 | K10: =TRUNC(E10+G10+I10,1) -> 10000 | L10: =TRUNC(F10+H10+J10,1) -> 2400 | M10: 자재 44 | N10: 5B5A66B52F826694E9D28373DDBC8A | O10: 5C71065FD562C66E9F5223ADF6D43F34B7BE76 | P10: F | Q10: F | R10: T | AW10: 5B5A66B52F826694E9D28373DDBC8A5C71065FD562C66E9F5223ADF6D43F34B7BE76
A11: 비계안정장치 | B11: 비계안정장치, 바퀴 | C11: 개 | D11: 0.36 | E11: =단가대비표!O35 -> 500 | F11: =TRUNC(E11*D11,1) -> 180 | G11: =단가대비표!P35 -> 0 | H11: =TRUNC(G11*D11,1) -> 0 | I11: =단가대비표!V35 -> 0 | J11: =TRUNC(I11*D11,1) -> 0 | K11: =TRUNC(E11+G11+I11,1) -> 500 | L11: =TRUNC(F11+H11+J11,1) -> 180 | M11: 자재 40 | N11: 5B5A66B52F826694E9D28373DDBC8A | O11: 5C71065FD562C66E9F5223ADF6D43F34B7C87F | P11: F | Q11: F | R11: T | AW11: 5B5A66B52F826694E9D28373DDBC8A5C71065FD562C66E9F5223ADF6D43F34B7C87F
A12: 비계안정장치 | B12: 비계안정장치, 쟈키 | C12: 개 | D12: 0.36 | E12: =단가대비표!O36 -> 11000 | F12: =TRUNC(E12*D12,1) -> 3960 | G12: =단가대비표!P36 -> 0 | H12: =TRUNC(G12*D12,1) -> 0 | I12: =단가대비표!V36 -> 0 | J12: =TRUNC(I12*D12,1) -> 0 | K12: =TRUNC(E12+G12+I12,1) -> 11000 | L12: =TRUNC(F12+H12+J12,1) -> 3960 | M12: 자재 41 | N12: 5B5A66B52F826694E9D28373DDBC8A | O12: 5C71065FD562C66E9F5223ADF6D43F34B7C87E | P12: F | Q12: F | R12: T | AW12: 5B5A66B52F826694E9D28373DDBC8A5C71065FD562C66E9F5223ADF6D43F34B7C87E
A13: 비계안정장치 | B13: 비계안정장치, 발판, 40*200*2000 | C13: 장 | D13: 0.63 | E13: =단가대비표!O40 -> 3100 | F13: =TRUNC(E13*D13,1) -> 1953 | G13: =단가대비표!P40 -> 0 | H13: =TRUNC(G13*D13,1) -> 0 | I13: =단가대비표!V40 -> 0 | J13: =TRUNC(I13*D13,1) -> 0 | K13: =TRUNC(E13+G13+I13,1) -> 3100 | L13: =TRUNC(F13+H13+J13,1) -> 1953 | M13: 자재 45 | N13: 5B5A66B52F826694E9D28373DDBC8A | O13: 5C71065FD562C66E9F5223ADF42B01826813D3 | P13: F | Q13: F | R13: T | AW13: 5B5A66B52F826694E9D28373DDBC8A5C71065FD562C66E9F5223ADF42B01826813D3
A14: 강관 조립말비계(이동식)설치 및 해체 | B14: 높이 2m, 노무비 | C14: 대 | D14: 1 | E14: =일위대가목록!E50 -> 0 | F14: =TRUNC(E14*D14,1) -> 0 | G14: =일위대가목록!F50 -> 94574 | H14: =TRUNC(G14*D14,1) -> 94574 | I14: =일위대가목록!G50 -> 0 | J14: =TRUNC(I14*D14,1) -> 0 | K14: =TRUNC(E14+G14+I14,1) -> 94574 | L14: =TRUNC(F14+H14+J14,1) -> 94574 | M14: 호표 51 | N14: 5B5A66B52F826694E9D28373DDBC8A | O14: 5B5A66B52F826694E9D2837236721A | P14: T | Q14: F | R14: F | AW14: 5B5A66B52F826694E9D28373DDBC8A5B5A66B52F826694E9D2837236721A
A15: [ 합 계 ] | F15: =TRUNC(SUMIF(N5:N14, N4, F5:F14),0) -> 14835 | H15: =TRUNC(SUMIF(N5:N14, N4, H5:H14),0) -> 94574 | J15: =TRUNC(SUMIF(N5:N14, N4, J5:J14),0) -> 0 | L15: =F15+H15+J15 -> 109409 | N15: TOTAL | O15: TOTAL
A17: 먹메김 구조부 일반 | C17: M2 | M17: 호표-02
A18: 노무비 | B18: 건축목공 | C18: 인 | D18: 0.005 | E18: 0 | F18: 0 | G18: 279267 | H18: =SUM(G18*D18) -> 1396.335 | I18: 0 | J18: 0 | K18: =TRUNC(E18+G18+I18,1) -> 279267 | L18: =TRUNC(F18+H18+J18,1) -> 1396.3 | N18: 56930133020 | O18: 54400547091 | P18: F | Q18: F | R18: T
A19: [ 합 계 ] | E19: 0 | F19: =SUM(F18:F18) -> 0 | G19: 0 | H19: =SUM(H18:H18) -> 1396.335 | I19: 0 | J19: =SUM(J18:J18) -> 0 | L19: =F19+H19+J19 -> 1396.335 | N19: TOTAL | O19: TOTAL
A21: 건축물보양 플라베니아(PVC골판지) / 공통 2-11-1 | C21: M2 | M21: 호표-03 | N21: 5B5A66B0A8C2B69DBC32D31910A832
A22: PVC골판지 | B22: 보양재 | C22: M2 | D22: 1.2 | E22: =단가대비표!O10 -> 2330 | F22: =TRUNC(E22*D22,1) -> 2796 | G22: =단가대비표!P10 -> 0 | H22: =TRUNC(G22*D22,1) -> 0 | I22: =단가대비표!V10 -> 0 | J22: =TRUNC(I22*D22,1) -> 0 | K22: =TRUNC(E22+G22+I22,1) -> 2330 | L22: =TRUNC(F22+H22+J22,1) -> 2796 | M22: 자재 10 | N22: 5B5A66B0A8C2B69DBC32D31910A832 | O22: 5C60D6C646D286BA4F32839833DF9EA78448C4 | P22: F | Q22: F | R22: T | AW22: 5B5A66B0A8C2B69DBC32D31910A8325C60D6C646D286BA4F32839833DF9EA78448C4
A23: 합성풀 | B23: 합성풀, 건설용 | C23: kg | D23: 0.06 | F23: =TRUNC(E23*D23,1) -> 0 | G23: =단가대비표!P46 -> 0 | H23: =TRUNC(G23*D23,1) -> 0 | I23: =단가대비표!V46 -> 0 | J23: =TRUNC(I23*D23,1) -> 0 | K23: =TRUNC(E23+G23+I23,1) -> 0 | L23: =TRUNC(F23+H23+J23,1) -> 0 | M23: 자재 52 | N23: 5B5A66B0A8C2B69DBC32D31910A832 | O23: 5C711666CE525618E912A3F4FDE2DAFD9A7B39 | P23: F | Q23: F | R23: T | AW23: 5B5A66B0A8C2B69DBC32D31910A8325C711666CE525618E912A3F4FDE2DAFD9A7B39
A24: 보통인부 | B24: 일반공사 직종 | C24: 인 | D24: 0.01 | E24: =단가대비표!O57 -> 0 | F24: =TRUNC(E24*D24,1) -> 0 | G24: =단가대비표!P57 -> 172068 | H24: =TRUNC(G24*D24,1) -> 1720.6 | I24: =단가대비표!V57 -> 0 | J24: =TRUNC(I24*D24,1) -> 0 | K24: =TRUNC(E24+G24+I24,1) -> 172068 | L24: =TRUNC(F24+H24+J24,1) -> 1720.6 | M24: 노임 1 | N24: 5B5A66B0A8C2B69DBC32D31910A832 | O24: 5B8AB68EFFC2567EE6E2D35706BB18BD60C199 | P24: F | Q24: F | R24: T | AW24: 5B5A66B0A8C2B69DBC32D31910A8325B8AB68EFFC2567EE6E2D35706BB18BD60C199
A25: [ 합 계 ] | F25: =TRUNC(SUMIF(N22:N24, N21, F22:F24),0) -> 2796 | H25: =TRUNC(SUMIF(N22:N24, N21, H22:H24),0) -> 1720 | J25: =TRUNC(SUMIF(N22:N24, N21, J22:J24),0) -> 0 | L25: =F25+H25+J25 -> 4516 | N25: TOTAL | O25: TOTAL
A27: 건축물 현장정리 철근콘크리트조 / 공통 2-11-2 | C27: M2 | M27: 호표-04 | N27: 5B5A66B0AB9296D6C9B2E35DB1E02A
A28: 보통인부 | B28: 일반공사 직종 | C28: 인 | D28: 0.13 | E28: =단가대비표!O57 -> 0 | F28: =TRUNC(E28*D28,1) -> 0 | G28: =단가대비표!P57 -> 172068 | H28: =TRUNC(G28*D28,1) -> 22368.8 | I28: =단가대비표!V57 -> 0 | J28: =TRUNC(I28*D28,1) -> 0 | K28: =TRUNC(E28+G28+I28,1) -> 172068 | L28: =TRUNC(F28+H28+J28,1) -> 22368.8 | M28: 노임 1 | N28: 5B5A66B0AB9296D6C9B2E35DB1E02A | O28: 5B8AB68EFFC2567EE6E2D35706BB18BD60C199 | P28: F | Q28: F | R28: T | AW28: 5B5A66B0AB9296D6C9B2E35DB1E02A5B8AB68EFFC2567EE6E2D35706BB18BD60C199
A29: [ 합 계 ] | F29: =TRUNC(SUMIF(N28:N28, N27, F28:F28),0) -> 0 | H29: =TRUNC(SUMIF(N28:N28, N27, H28:H28),0) -> 22368 | J29: =TRUNC(SUMIF(N28:N28, N27, J28:J28),0) -> 0 | L29: =F29+H29+J29 -> 22368 | N29: TOTAL | O29: TOTAL
A31: 자재소운반 3층,인력 / 일반 1-2-7 | C31: M2 | M31: 호표-05
A32: 노무비 | B32: 보통인부 | C32: 인 | D32: 0.045 | E32: =[1]단가대비표!Q172 -> 0 | F32: =TRUNC(E32*D32,1) -> 0 | G32: =G28 -> 172068 | H32: =TRUNC(G32*D32,1) -> 7743 | J32: =TRUNC(I32*D32,1) -> 0 | K32: =TRUNC(E32+G32+I32,1) -> 172068 | L32: =TRUNC(F32+H32+J32,1) -> 7743 | N32: 56930570040 | O32: 56900017041 | P32: F | Q32: F | R32: T
A34: [ 합 계 ] | E34: 0 | F34: =TRUNC(SUM(F32:F32),0) -> 0 | G34: 0 | H34: =TRUNC(SUM(H32:H32),0) -> 7743 | I34: 0 | J34: =TRUNC(SUM(J32:J32),0) -> 0 | L34: =F34+H34+J34 -> 7743 | N34: TOTAL | O34: TOTAL
A36: 인력운반 인력 / 일반 1-2-7 | M36: 호표-05 - 1
A37: 이코노미석헤체 및 운반 | B37: 보통인부 | C37: 인 | D37: =1.05/18 -> 0.058333333 | F37: =TRUNC(E37*D37,1) -> 0 | G37: =단가대비표!P58 -> 226122 | H37: =TRUNC(G37*D37,1) -> 13190.4 | J37: =TRUNC(I37*D37,1) -> 0 | K37: =TRUNC(E37+G37+I37,1) -> 226122 | L37: =TRUNC(F37+H37+J37,1) -> 13190.4 | N37: 56930570040 | O37: 56900017041 | P37: F | Q37: F | R37: T
A38: 사이드월 해체 및 운반 | J38: =TRUNC(I38*D38,1) -> 0 | K38: =TRUNC(E38+G38+I38,1) -> 0 | L38: =TRUNC(F38+H38+J38,1) -> 0
A39: [ 합 계 ] | E39: 0 | F39: =TRUNC(SUM(F37:F37),0) -> 0 | G39: 0 | H39: =TRUNC(SUM(H37:H37),0) -> 13190 | I39: 0 | J39: =TRUNC(SUM(J37:J37),0) -> 0 | L39: =F39+H39+J39 -> 13190 | N39: TOTAL | O39: TOTAL
A40: 산출근거 | B40: Q=N * q / N=VT/120L+Vt | C40: (1일 운반횟수) N=450분/(2400/1000)+2 = | G40: =400/((2400/1000)+3) -> 74.074074 | H40: (1일운반량)'Q=74회*25kg= | J40: =74*25 -> 1850 | K40: kg
B41: 소요인력(품) = 총중량 / 1일운반량 | C41: 50kg*13개 / 1850kg = | F41: =(50*13)/1850 -> 0.35135135 | G41: 품*해체할증 50% *2인1조 = | I41: =F41*1.5*2 -> 1.0540541 | J41: / 18세트 = 0.58
A42: Q : 1일 운반량(㎥ 또는 ㎏) , N : 1일 운반횟수 , q : 1회 운반량(㎥ 또는 ㎏) , T : 1일 실작업시간(480분-30분) , L : 운반거리(m) , t : 적재적하 시간(분) , V : 평균왕복속도(m / hr)
M43: 호표-06
A44: 준공청소 M2 공통 2-11-3 ( 호표 4 ) | N44: 5B5A66B0AE5256D2F56283A7947F00
A45: 보통인부 | B45: 일반공사 직종 | C45: 인 | D45: 0.02 | E45: =단가대비표!O57 -> 0 | F45: =TRUNC(E45*D45,1) -> 0 | G45: =단가대비표!P57 -> 172068 | H45: =TRUNC(G45*D45,1) -> 3441.3 | I45: =단가대비표!V57 -> 0 | J45: =TRUNC(I45*D45,1) -> 0 | K45: =TRUNC(E45+G45+I45,1) -> 172068 | L45: =TRUNC(F45+H45+J45,1) -> 3441.3 | M45: 노임 1 | N45: 5B5A66B0AE5256D2F56283A7947F00 | O45: 5B8AB68EFFC2567EE6E2D35706BB18BD60C199 | P45: F | Q45: F | R45: T | AW45: 5B5A66B0AE5256D2F56283A7947F005B8AB68EFFC2567EE6E2D35706BB18BD60C199
A46: [ 합 계 ] | F46: =TRUNC(SUMIF(N45:N45, N44, F45:F45),0) -> 0 | H46: =TRUNC(SUMIF(N45:N45, N44, H45:H45),0) -> 3441 | J46: =TRUNC(SUMIF(N45:N45, N44, J45:J45),0) -> 0 | L46: =F46+H46+J46 -> 3441 | N46: TOTAL | O46: TOTAL
A48: 입주청소 M2 공통 2-11-4 ( 호표 5 ) | M48: 호표-07 | N48: 5B5A66B0AE5256D2F56283A68D0D29
A49: 보통인부 | B49: 일반공사 직종 | C49: 인 | D49: 0.03 | E49: =단가대비표!O57 -> 0 | F49: =TRUNC(E49*D49,1) -> 0 | G49: =단가대비표!P57 -> 172068 | H49: =TRUNC(G49*D49,1) -> 5162 | I49: =단가대비표!V57 -> 0 | J49: =TRUNC(I49*D49,1) -> 0 | K49: =TRUNC(E49+G49+I49,1) -> 172068 | L49: =TRUNC(F49+H49+J49,1) -> 5162 | M49: 노임 1 | N49: 5B5A66B0AE5256D2F56283A68D0D29 | O49: 5B8AB68EFFC2567EE6E2D35706BB18BD60C199 | P49: F | Q49: F | R49: T | AW49: 5B5A66B0AE5256D2F56283A68D0D295B8AB68EFFC2567EE6E2D35706BB18BD60C199
A50: [ 합 계 ] | F50: =TRUNC(SUMIF(N49:N49, N48, F49:F49),0) -> 0 | H50: =TRUNC(SUMIF(N49:N49, N48, H49:H49),0) -> 5162 | J50: =TRUNC(SUMIF(N49:N49, N48, J49:J49),0) -> 0 | L50: =F50+H50+J50 -> 5162 | N50: TOTAL | O50: TOTAL
A52: 폐기물운반및처리 (건설폐재류) | C52: ton | M52: 호표-08
A53: 건설폐재류처리 | B53: 폐벽돌외 | C53: TON | D53: 1 | I53: =단가대비표!V52 -> 49571 | J53: =TRUNC(I53*D53,1) -> 49571 | K53: =TRUNC(E53+G53+I53,1) -> 49571 | L53: =TRUNC(F53+H53+J53,1) -> 49571
A54: 건설폐재류 운반비 | B54: 암롤트럭 | C54: TON | D54: 1 | I54: =단가대비표!V54 -> 40900 | J54: =TRUNC(I54*D54,1) -> 40900 | K54: =TRUNC(E54+G54+I54,1) -> 40900 | L54: =TRUNC(F54+H54+J54,1) -> 40900
A55: [ 합 계 ] | E55: 0 | F55: =TRUNC(SUM(F53:F54),0) -> 0 | G55: 0 | H55: =TRUNC(SUM(H53:H54),0) -> 0 | I55: 0 | J55: =TRUNC(SUM(J53:J54),0) -> 90471 | L55: =F55+H55+J55 -> 90471
A57: 폐기물운반및처리 (혼합폐기물) | C57: ton | M57: 호표-09
A58: 혼합건설폐기물 | B58: 불연성+가연성 | C58: TON | D58: 1 | I58: =단가대비표!U53 -> 72721 | J58: =TRUNC(I58*D58,1) -> 72721 | K58: =TRUNC(E58+G58+I58,1) -> 72721 | L58: =TRUNC(F58+H58+J58,1) -> 72721
A59: 혼합건설폐기물 운반비 | B59: 암롤트럭 | C59: TON | D59: 1 | I59: =단가대비표!U55 -> 40900 | J59: =TRUNC(I59*D59,1) -> 40900 | K59: =TRUNC(E59+G59+I59,1) -> 40900 | L59: =TRUNC(F59+H59+J59,1) -> 40900
A60: [ 합 계 ] | E60: 0 | F60: =TRUNC(SUM(F58:F59),0) -> 0 | G60: 0 | H60: =TRUNC(SUM(H58:H59),0) -> 0 | I60: 0 | J60: =TRUNC(SUM(J58:J59),0) -> 113621 | L60: =F60+H60+J60 -> 113621
A62: 목조, 칸막이벽 철거 해체재 재사용 안 함 M2 건축 12-2-1 | M62: 호표-10 | N62: 5B5B6621ECD266052AE2E341B252E9
A63: 건축목공 | B63: 일반공사 직종 | C63: 인 | D63: 0.036 | E63: =단가대비표!O64 -> 0 | F63: =TRUNC(E63*D63,1) -> 0 | G63: =단가대비표!P64 -> 277642 | H63: =TRUNC(G63*D63,1) -> 9995.1 | I63: =단가대비표!V64 -> 0 | J63: =TRUNC(I63*D63,1) -> 0 | K63: =TRUNC(E63+G63+I63,1) -> 277642 | L63: =TRUNC(F63+H63+J63,1) -> 9995.1 | M63: 노임 7 | N63: 5B5B6621ECD266052AE2E341B252E9 | O63: 5B8AB68EFFC2567EE6E2D35706BB18BD60C34B | P63: F | Q63: F | R63: T | AW63: 5B5B6621ECD266052AE2E341B252E95B8AB68EFFC2567EE6E2D35706BB18BD60C34B
A64: 보통인부 | B64: 일반공사 직종 | C64: 인 | D64: 0.03 | E64: =단가대비표!O57 -> 0 | F64: =TRUNC(E64*D64,1) -> 0 | G64: =단가대비표!P57 -> 172068 | H64: =TRUNC(G64*D64,1) -> 5162 | I64: =단가대비표!V57 -> 0 | J64: =TRUNC(I64*D64,1) -> 0 | K64: =TRUNC(E64+G64+I64,1) -> 172068 | L64: =TRUNC(F64+H64+J64,1) -> 5162 | M64: 노임 1 | N64: 5B5B6621ECD266052AE2E341B252E9 | O64: 5B8AB68EFFC2567EE6E2D35706BB18BD60C199 | P64: F | Q64: F | R64: T | AW64: 5B5B6621ECD266052AE2E341B252E95B8AB68EFFC2567EE6E2D35706BB18BD60C199
A65: [ 합 계 ] | F65: =TRUNC(SUMIF(N63:N64, N62, F63:F64),0) -> 0 | H65: =TRUNC(SUMIF(N63:N64, N62, H63:H64),0) -> 15157 | J65: =TRUNC(SUMIF(N63:N64, N62, J63:J64),0) -> 0 | L65: =F65+H65+J65 -> 15157 | N65: TOTAL | O65: TOTAL
A67: 석고보드 철거(벽) 2겹 M2 | M67: 호표-11 | N67: 5B5B6621ECD26607D922C3A3D2D7F1
A68: 석고판 해체 | B68: 벽 | C68: M2 | D68: 2 | E68: =일위대가목록!E64 -> 0 | F68: =TRUNC(E68*D68,1) -> 0 | G68: =일위대가목록!F64 -> 5316 | H68: =TRUNC(G68*D68,1) -> 10632 | I68: =일위대가목록!G64 -> 106 | J68: =TRUNC(I68*D68,1) -> 212 | K68: =TRUNC(E68+G68+I68,1) -> 5422 | L68: =TRUNC(F68+H68+J68,1) -> 10844 | M68: 호표 74 | N68: 5B5B6621ECD26607D922C3A3D2D7F1 | O68: 5B5B6621E5A256898D12A3D2C06205 | P68: T | Q68: F | R68: F | AW68: 5B5B6621ECD26607D922C3A3D2D7F15B5B6621E5A256898D12A3D2C06205
A69: [ 합 계 ] | F69: =TRUNC(SUMIF(N68:N68, N67, F68:F68),0) -> 0 | H69: =TRUNC(SUMIF(N68:N68, N67, H68:H68),0) -> 10632 | J69: =TRUNC(SUMIF(N68:N68, N67, J68:J68),0) -> 212 | L69: =F69+H69+J69 -> 10844 | N69: TOTAL | O69: TOTAL
A71: 조적벽 철거 M3 | M71: 호표-12 | N71: 5B5B6621ECD26607D922C3A3D3FFA4
A72: 조적벽 해체 | B72: H=3.6m 이하 | C72: M3 | D72: 1 | E72: =일위대가목록!E65 -> 0 | F72: =TRUNC(E72*D72,1) -> 0 | G72: =일위대가목록!F65 -> 146267 | H72: =TRUNC(G72*D72,1) -> 146267 | I72: =일위대가목록!G65 -> 2925 | J72: =TRUNC(I72*D72,1) -> 2925 | K72: =TRUNC(E72+G72+I72,1) -> 149192 | L72: =TRUNC(F72+H72+J72,1) -> 149192 | M72: 호표 75 | N72: 5B5B6621ECD26607D922C3A3D3FFA4 | O72: 5B5B6621E5A256898D128324A5F072 | P72: T | Q72: F | R72: F | AW72: 5B5B6621ECD26607D922C3A3D3FFA45B5B6621E5A256898D128324A5F072
A73: [ 합 계 ] | F73: =TRUNC(SUMIF(N72:N72, N71, F72:F72),0) -> 0 | H73: =TRUNC(SUMIF(N72:N72, N71, H72:H72),0) -> 146267 | J73: =TRUNC(SUMIF(N72:N72, N71, J72:J72),0) -> 2925 | L73: =F73+H73+J73 -> 149192 | N73: TOTAL | O73: TOTAL
A75: 텍스, 합판 철거(천장) 해체재 재사용 안 함 M2 건축 12-2-1 | M75: 호표-13 | N75: 5B5B6621ECD2660630325374F9BFE6
A76: 건축목공 | B76: 일반공사 직종 | C76: 인 | D76: 0.009 | E76: =단가대비표!O64 -> 0 | F76: =TRUNC(E76*D76,1) -> 0 | G76: =단가대비표!P64 -> 277642 | H76: =TRUNC(G76*D76,1) -> 2498.7 | I76: =단가대비표!V64 -> 0 | J76: =TRUNC(I76*D76,1) -> 0 | K76: =TRUNC(E76+G76+I76,1) -> 277642 | L76: =TRUNC(F76+H76+J76,1) -> 2498.7 | M76: 노임 7 | N76: 5B5B6621ECD2660630325374F9BFE6 | O76: 5B8AB68EFFC2567EE6E2D35706BB18BD60C34B | P76: F | Q76: F | R76: T | AW76: 5B5B6621ECD2660630325374F9BFE65B8AB68EFFC2567EE6E2D35706BB18BD60C34B
A77: 보통인부 | B77: 일반공사 직종 | C77: 인 | D77: 0.03 | E77: =단가대비표!O57 -> 0 | F77: =TRUNC(E77*D77,1) -> 0 | G77: =단가대비표!P57 -> 172068 | H77: =TRUNC(G77*D77,1) -> 5162 | I77: =단가대비표!V57 -> 0 | J77: =TRUNC(I77*D77,1) -> 0 | K77: =TRUNC(E77+G77+I77,1) -> 172068 | L77: =TRUNC(F77+H77+J77,1) -> 5162 | M77: 노임 1 | N77: 5B5B6621ECD2660630325374F9BFE6 | O77: 5B8AB68EFFC2567EE6E2D35706BB18BD60C199 | P77: F | Q77: F | R77: T | AW77: 5B5B6621ECD2660630325374F9BFE65B8AB68EFFC2567EE6E2D35706BB18BD60C199
A78: [ 합 계 ] | F78: =TRUNC(SUMIF(N76:N77, N75, F76:F77),0) -> 0 | H78: =TRUNC(SUMIF(N76:N77, N75, H76:H77),0) -> 7660 | J78: =TRUNC(SUMIF(N76:N77, N75, J76:J77),0) -> 0 | L78: =F78+H78+J78 -> 7660 | N78: TOTAL | O78: TOTAL
A80: 경량철골천정틀 철거 M2 | M80: 호표-14 | N80: 5B5B6621ECD26601B25243D6CB849F
A81: 경량천장철골틀 해체 | C81: M2 | D81: 1 | E81: =일위대가목록!E66 -> 0 | F81: =TRUNC(E81*D81,1) -> 0 | G81: =일위대가목록!F66 -> 6688 | H81: =TRUNC(G81*D81,1) -> 6688 | I81: =일위대가목록!G66 -> 133 | J81: =TRUNC(I81*D81,1) -> 133 | K81: =TRUNC(E81+G81+I81,1) -> 6821 | L81: =TRUNC(F81+H81+J81,1) -> 6821 | M81: 호표 78 | N81: 5B5B6621ECD26601B25243D6CB849F | O81: 5B5B6621E5A256898D12F3541BC5E5 | P81: T | Q81: F | R81: F | AW81: 5B5B6621ECD26601B25243D6CB849F5B5B6621E5A256898D12F3541BC5E5
A82: [ 합 계 ] | F82: =TRUNC(SUMIF(N81:N81, N80, F81:F81),0) -> 0 | H82: =TRUNC(SUMIF(N81:N81, N80, H81:H81),0) -> 6688 | J82: =TRUNC(SUMIF(N81:N81, N80, J81:J81),0) -> 133 | L82: =F82+H82+J82 -> 6821 | N82: TOTAL | O82: TOTAL
A84: 마루틀 및 마루널 철거 해체재 재사용 안 함 M2 건축 12-2-1 | M84: 호표-15 | N84: 5B5B6621E5A256898C72531006346B
A85: 건축목공 | B85: 일반공사 직종 | C85: 인 | D85: 0.12 | E85: =단가대비표!O64 -> 0 | F85: =TRUNC(E85*D85,1) -> 0 | G85: =단가대비표!P64 -> 277642 | H85: =TRUNC(G85*D85,1) -> 33317 | I85: =단가대비표!V64 -> 0 | J85: =TRUNC(I85*D85,1) -> 0 | K85: =TRUNC(E85+G85+I85,1) -> 277642 | L85: =TRUNC(F85+H85+J85,1) -> 33317 | M85: 노임 7 | N85: 5B5B6621E5A256898C72531006346B | O85: 5B8AB68EFFC2567EE6E2D35706BB18BD60C34B | P85: F | Q85: F | R85: T | AW85: 5B5B6621E5A256898C72531006346B5B8AB68EFFC2567EE6E2D35706BB18BD60C34B
A86: 보통인부 | B86: 일반공사 직종 | C86: 인 | D86: 0.1 | E86: =단가대비표!O57 -> 0 | F86: =TRUNC(E86*D86,1) -> 0 | G86: =단가대비표!P57 -> 172068 | H86: =TRUNC(G86*D86,1) -> 17206.8 | I86: =단가대비표!V57 -> 0 | J86: =TRUNC(I86*D86,1) -> 0 | K86: =TRUNC(E86+G86+I86,1) -> 172068 | L86: =TRUNC(F86+H86+J86,1) -> 17206.8 | M86: 노임 1 | N86: 5B5B6621E5A256898C72531006346B | O86: 5B8AB68EFFC2567EE6E2D35706BB18BD60C199 | P86: F | Q86: F | R86: T | AW86: 5B5B6621E5A256898C72531006346B5B8AB68EFFC2567EE6E2D35706BB18BD60C199
A87: [ 합 계 ] | F87: =TRUNC(SUMIF(N85:N86, N84, F85:F86),0) -> 0 | H87: =TRUNC(SUMIF(N85:N86, N84, H85:H86),0) -> 50523 | J87: =TRUNC(SUMIF(N85:N86, N84, J85:J86),0) -> 0 | L87: =F87+H87+J87 -> 50523 | N87: TOTAL | O87: TOTAL
A89: 비닐계타일 철거 바닥 및 수장 부분 M2 건축 12-2-1 준용 | M89: 호표-16 | N89: 5B5B6621E5A256898C725313D323E6
A90: 리노륨 철거 - 22-1/4삭제 | B90: 바닥 및 수장 부분 | C90: M2 | D90: 1 | E90: =일위대가목록!E68 -> 0 | F90: =TRUNC(E90*D90,1) -> 0 | G90: =일위대가목록!F68 -> 5162 | H90: =TRUNC(G90*D90,1) -> 5162 | I90: =일위대가목록!G68 -> 0 | J90: =TRUNC(I90*D90,1) -> 0 | K90: =TRUNC(E90+G90+I90,1) -> 5162 | L90: =TRUNC(F90+H90+J90,1) -> 5162 | M90: 호표 81 | N90: 5B5B6621E5A256898C725313D323E6 | O90: 5B5B6621E5A256898C725313D4C908 | P90: T | Q90: F | R90: F | AW90: 5B5B6621E5A256898C725313D323E65B5B6621E5A256898C725313D4C908
A91: [ 합 계 ] | F91: =TRUNC(SUMIF(N90:N90, N89, F90:F90),0) -> 0 | H91: =TRUNC(SUMIF(N90:N90, N89, H90:H90),0) -> 5162 | J91: =TRUNC(SUMIF(N90:N90, N89, J90:J90),0) -> 0 | L91: =F91+H91+J91 -> 5162 | N91: TOTAL | O91: TOTAL
A93: 흡음텍스 설치 M2 건축 5-2-1 | M93: 호표-17 | N93: 5B5A8681F3D2A6C2150263AC9F4DB6
A94: 내장공 | B94: 일반공사 직종 | C94: 인 | D94: 0.044 | E94: =단가대비표!O68 -> 0 | F94: =TRUNC(E94*D94,1) -> 0 | G94: =단가대비표!P68 -> 256883 | H94: =TRUNC(G94*D94,1) -> 11302.8 | I94: =단가대비표!V68 -> 0 | J94: =TRUNC(I94*D94,1) -> 0 | K94: =TRUNC(E94+G94+I94,1) -> 256883 | L94: =TRUNC(F94+H94+J94,1) -> 11302.8 | M94: 노임 13 | N94: 5B5A8681F3D2A6C2150263AC9F4DB6 | O94: 5B8AB68EFFC2567EE6E2D35706BB18BD60C2A2 | P94: F | Q94: F | R94: T | V94: 1 | AW94: 5B5A8681F3D2A6C2150263AC9F4DB65B8AB68EFFC2567EE6E2D35706BB18BD60C2A2
A95: 보통인부 | B95: 일반공사 직종 | C95: 인 | D95: 0.022 | E95: =단가대비표!O57 -> 0 | F95: =TRUNC(E95*D95,1) -> 0 | G95: =단가대비표!P57 -> 172068 | H95: =TRUNC(G95*D95,1) -> 3785.4 | I95: =단가대비표!V57 -> 0 | J95: =TRUNC(I95*D95,1) -> 0 | K95: =TRUNC(E95+G95+I95,1) -> 172068 | L95: =TRUNC(F95+H95+J95,1) -> 3785.4 | M95: 노임 1 | N95: 5B5A8681F3D2A6C2150263AC9F4DB6 | O95: 5B8AB68EFFC2567EE6E2D35706BB18BD60C199 | P95: F | Q95: F | R95: T | V95: 1 | AW95: 5B5A8681F3D2A6C2150263AC9F4DB65B8AB68EFFC2567EE6E2D35706BB18BD60C199
A96: 공구손료 | B96: 인력품의 3% | C96: 식 | D96: 1 | E96: 0 | F96: =TRUNC(E96*D96,1) -> 0 | G96: 0 | H96: =TRUNC(G96*D96,1) -> 0 | I96: =TRUNC(SUMIF(V94:V96, RIGHTB(O96, 1), H94:H96)*U96, 2) -> 452.64 | J96: =TRUNC(I96*D96,1) -> 452.6 | K96: =TRUNC(E96+G96+I96,1) -> 452.6 | L96: =TRUNC(F96+H96+J96,1) -> 452.6 | N96: 5B5A8681F3D2A6C2150263AC9F4DB6 | O96: 5A4C464749C2E6A02F3253242E3F001 | P96: F | Q96: F | R96: F | S96: 1 | T96: 2 | U96: 0.03 | AW96: 5B5A8681F3D2A6C2150263AC9F4DB65A4C464749C2E6A02F3253242E3F001
A97: [ 합 계 ] | F97: =TRUNC(SUMIF(N94:N96, N93, F94:F96),0) -> 0 | H97: =TRUNC(SUMIF(N94:N96, N93, H94:H96),0) -> 15088 | J97: =TRUNC(SUMIF(N94:N96, N93, J94:J96),0) -> 452 | L97: =F97+H97+J97 -> 15540 | N97: TOTAL | O97: TOTAL
A99: 벽체틀 설치 미송, ㅁ-30*30,@300 M2 | M99: 호표-18 | N99: 5B5AE668FB0286C2F432532CA496CE
A100: 각재 | B100: 각재, 미송, 30*30@300 | C100: M3 | D100: 0.00315 | E100: =단가대비표!O16 -> 795771.5 | F100: =TRUNC(E100*D100,1) -> 2506.6 | G100: =단가대비표!P16 -> 0 | H100: =TRUNC(G100*D100,1) -> 0 | I100: =단가대비표!V16 -> 0 | J100: =TRUNC(I100*D100,1) -> 0 | K100: =TRUNC(E100+G100+I100,1) -> 795771.5 | L100: =TRUNC(F100+H100+J100,1) -> 2506.6 | M100: 자재 17 | N100: 5B5AE668FB0286C2F432532CA496CE | O100: 5C71065FDC92F694F42203024CFEA9D1CB0F99 | P100: F | Q100: F | R100: T | AW100: 5B5AE668FB0286C2F432532CA496CE5C71065FDC92F694F42203024CFEA9D1CB0F99
A101: 벽체틀 설치 | B101: 자재 별도 | C101: M2 | D101: 1 | E101: =일위대가목록!E52 -> 0 | F101: =TRUNC(E101*D101,1) -> 0 | G101: =일위대가목록!F52 -> 9733 | H101: =TRUNC(G101*D101,1) -> 9733 | I101: =일위대가목록!G52 -> 194 | J101: =TRUNC(I101*D101,1) -> 194 | K101: =TRUNC(E101+G101+I101,1) -> 9927 | L101: =TRUNC(F101+H101+J101,1) -> 9927 | M101: 호표 53 | N101: 5B5AE668FB0286C2F432532CA496CE | O101: 5B5AE668FB0296E98022C3776068B5 | P101: T | Q101: F | R101: F | AW101: 5B5AE668FB0286C2F432532CA496CE5B5AE668FB0296E98022C3776068B5
A102: [ 합 계 ] | F102: =TRUNC(SUMIF(N100:N101, N99, F100:F101),0) -> 2506 | H102: =TRUNC(SUMIF(N100:N101, N99, H100:H101),0) -> 9733 | J102: =TRUNC(SUMIF(N100:N101, N99, J100:J101),0) -> 194 | L102: =F102+H102+J102 -> 12433 | N102: TOTAL | O102: TOTAL
A104: 비닐타일 깔기 비닐타일, 3*600*600mm, 데코타일 M2 건축 5-1-1 | M104: 호표-19 | N104: 5B5A8683BE92665E35D2D33D3BF463
A105: 비닐타일 | B105: 비닐타일, 3*600*600mm, 데코타일 | C105: M2 | D105: 1.05 | E105: =단가대비표!O29 -> 19000 | F105: =TRUNC(E105*D105,1) -> 19950 | G105: =단가대비표!P29 -> 0 | H105: =TRUNC(G105*D105,1) -> 0 | I105: =단가대비표!V29 -> 0 | J105: =TRUNC(I105*D105,1) -> 0 | K105: =TRUNC(E105+G105+I105,1) -> 19000 | L105: =TRUNC(F105+H105+J105,1) -> 19950 | M105: 자재 33 | N105: 5B5A8683BE92665E35D2D33D3BF463 | O105: 5C71065FDAE2E6655D32930D64D2703E42D780 | P105: F | Q105: F | R105: T | AW105: 5B5A8683BE92665E35D2D33D3BF4635C71065FDAE2E6655D32930D64D2703E42D780
A106: PVC계 바닥재 설치 - 타일형 | B106: 주재료 제외 | C106: M2 | D106: 1 | E106: =일위대가목록!E54 -> 1380 | F106: =TRUNC(E106*D106,1) -> 1380 | G106: =일위대가목록!F54 -> 17145 | H106: =TRUNC(G106*D106,1) -> 17145 | I106: =일위대가목록!G54 -> 0 | J106: =TRUNC(I106*D106,1) -> 0 | K106: =TRUNC(E106+G106+I106,1) -> 18525 | L106: =TRUNC(F106+H106+J106,1) -> 18525 | M106: 호표 55 | N106: 5B5A8683BE92665E35D2D33D3BF463 | O106: 5B5A8683BE92665E316223166ECC00 | P106: T | Q106: F | R106: F | AW106: 5B5A8683BE92665E35D2D33D3BF4635B5A8683BE92665E316223166ECC00
A107: [ 합 계 ] | F107: =TRUNC(SUMIF(N105:N106, N104, F105:F106),0) -> 21330 | H107: =TRUNC(SUMIF(N105:N106, N104, H105:H106),0) -> 17145 | J107: =TRUNC(SUMIF(N105:N106, N104, J105:J106),0) -> 0 | L107: =F107+H107+J107 -> 38475 | N107: TOTAL | O107: TOTAL
A109: 바탕만들기+수성페인트 롤러칠(오염방지,반광) 내부, 2회, G.B.면 올퍼티, 친환경(진품) M2 | M109: 호표-20 | N109: 5B5A96EA1872D60D5312235937EE57
A110: 수성페인트 | B110: 수성페인트, 친환경, 내부 | C110: L | D110: 0.197 | E110: =단가대비표!O49 -> 8062.5 | F110: =TRUNC(E110*D110,1) -> 1588.3 | G110: =단가대비표!P49 -> 0 | H110: =TRUNC(G110*D110,1) -> 0 | I110: =단가대비표!V49 -> 0 | J110: =TRUNC(I110*D110,1) -> 0 | K110: =TRUNC(E110+G110+I110,1) -> 8062.5 | L110: =TRUNC(F110+H110+J110,1) -> 1588.3 | M110: 자재 55 | N110: 5B5A96EA1872D60D5312235937EE57 | O110: 5C711666CF72B6048502F39F61474EAB23FDC9 | P110: F | Q110: F | R110: T | AW110: 5B5A96EA1872D60D5312235937EE575C711666CF72B6048502F39F61474EAB23FDC9
A111: 수성페인트 롤러칠 | B111: 1회 노무비 | C111: M2 | D111: 1 | E111: =일위대가목록!E63 -> 141 | F111: =TRUNC(E111*D111,1) -> 141 | G111: =일위대가목록!F63 -> 7096 | H111: =TRUNC(G111*D111,1) -> 7096 | I111: =일위대가목록!G63 -> 0 | J111: =TRUNC(I111*D111,1) -> 0 | K111: =TRUNC(E111+G111+I111,1) -> 7237 | L111: =TRUNC(F111+H111+J111,1) -> 7237 | M111: 호표 70 | N111: 5B5A96EA1872D60D5312235937EE57 | O111: 5B5A96EA1872D60D56E243CC7A5FA3 | P111: T | Q111: F | R111: F | AW111: 5B5A96EA1872D60D5312235937EE575B5A96EA1872D60D56E243CC7A5FA3
A112: 석고보드면 바탕만들기 | B112: 올퍼티 친환경 노무비 | C112: M2 | D112: 1 | E112: =일위대가목록!E43 -> 828 | F112: =TRUNC(E112*D112,1) -> 828 | G112: =일위대가목록!F43 -> 20720 | H112: =TRUNC(G112*D112,1) -> 20720 | I112: =일위대가목록!G43 -> 0 | J112: =TRUNC(I112*D112,1) -> 0 | K112: =TRUNC(E112+G112+I112,1) -> 21548 | L112: =TRUNC(F112+H112+J112,1) -> 21548 | M112: 호표 71 | N112: 5B5A96EA1872D60D5312235937EE57 | O112: 5B5A96FAA4926659B772236AB8A323 | P112: T | Q112: F | R112: F | AW112: 5B5A96EA1872D60D5312235937EE575B5A96FAA4926659B772236AB8A323
A113: [ 합 계 ] | F113: =TRUNC(SUMIF(N110:N112, N109, F110:F112),0) -> 2557 | H113: =TRUNC(SUMIF(N110:N112, N109, H110:H112),0) -> 27816 | J113: =TRUNC(SUMIF(N110:N112, N109, J110:J112),0) -> 0 | L113: =F113+H113+J113 -> 30373 | N113: TOTAL | O113: TOTAL
A115: 바탕만들기+수성페인트 롤러칠(오염방지,반광) 내천장 2회, G.B.면 올퍼티, 친환경 M2 건축 11-1-2,-2-2 | M115: 호표-21 | N115: 5B5A96EA1872D60D531283E0755D9C
A116: 석고보드면 바탕만들기 | B116: 올퍼티 천장 친환경, 노무비 | C116: M2 | D116: 1 | E116: =일위대가목록!E44 -> 828 | F116: =TRUNC(E116*D116,1) -> 828 | G116: =일위대가목록!F44 -> 24864 | H116: =TRUNC(G116*D116,1) -> 24864 | I116: =일위대가목록!G44 -> 0 | J116: =TRUNC(I116*D116,1) -> 0 | K116: =TRUNC(E116+G116+I116,1) -> 25692 | L116: =TRUNC(F116+H116+J116,1) -> 25692 | M116: 호표 72 | N116: 5B5A96EA1872D60D531283E0755D9C | O116: 5B5A96FAA4926659B772236ABB76FB | P116: T | Q116: F | R116: F | AW116: 5B5A96EA1872D60D531283E0755D9C5B5A96FAA4926659B772236ABB76FB
A117: 수성페인트 롤러칠 | B117: 천장 2회 노무비 | C117: M2 | D117: 1 | E117: =일위대가목록!E45 -> 141 | F117: =TRUNC(E117*D117,1) -> 141 | G117: =일위대가목록!F45 -> 7096 | H117: =TRUNC(G117*D117,1) -> 7096 | I117: =일위대가목록!G45 -> 0 | J117: =TRUNC(I117*D117,1) -> 0 | K117: =TRUNC(E117+G117+I117,1) -> 7237 | L117: =TRUNC(F117+H117+J117,1) -> 7237 | M117: 호표 73 | N117: 5B5A96EA1872D60D531283E0755D9C | O117: 5B5A96EA1872D60D5162132C452095 | P117: T | Q117: F | R117: F | AW117: 5B5A96EA1872D60D531283E0755D9C5B5A96EA1872D60D5162132C452095
A118: 수성페인트 | B118: 수성페인트, 친환경, 내부 | C118: L | D118: 0.2364 | E118: =단가대비표!O49 -> 8062.5 | F118: =TRUNC(E118*D118,1) -> 1905.9 | G118: =단가대비표!P49 -> 0 | H118: =TRUNC(G118*D118,1) -> 0 | I118: =단가대비표!V49 -> 0 | J118: =TRUNC(I118*D118,1) -> 0 | K118: =TRUNC(E118+G118+I118,1) -> 8062.5 | L118: =TRUNC(F118+H118+J118,1) -> 1905.9 | M118: 자재 55 | N118: 5B5A96EA1872D60D531283E0755D9C | O118: 5C711666CF72B6048502F39F61474EAB23FDC9 | P118: F | Q118: F | R118: T | AW118: 5B5A96EA1872D60D531283E0755D9C5C711666CF72B6048502F39F61474EAB23FDC9
A119: [ 합 계 ] | F119: =TRUNC(SUMIF(N116:N118, N115, F116:F118),0) -> 2874 | H119: =TRUNC(SUMIF(N116:N118, N115, H116:H118),0) -> 31960 | J119: =TRUNC(SUMIF(N116:N118, N115, J116:J118),0) -> 0 | L119: =F119+H119+J119 -> 34834 | N119: TOTAL | O119: TOTAL
A121: 바탕만들기+비닐페인트 롤러칠(오염방지,반광) 내부천장, 2회, G.B.면 올퍼티, 친환경(진품) M2 | M121: 호표-22 | N121: 5B5A96EA1872D60D531283E0755CF092
A122: 석고보드면 바탕만들기 | B122: 올퍼티 천장 친환경, 노무비 | C122: M2 | D122: 1 | E122: =일위대가목록!E44 -> 828 | F122: =TRUNC(E122*D122,1) -> 828 | G122: =일위대가목록!F44 -> 24864 | H122: =TRUNC(G122*D122,1) -> 24864 | I122: =일위대가목록!G44 -> 0 | J122: =TRUNC(I122*D122,1) -> 0 | K122: =TRUNC(E122+G122+I122,1) -> 25692 | L122: =TRUNC(F122+H122+J122,1) -> 25692 | M122: 호표 72 | N122: 5B5A96EA1872D60D531283E0755CF092 | O122: 5B5A96FAA4926659B772236ABB76FB | P122: T | Q122: F | R122: F | AW122: 5B5A96EA1872D60D531283E0755CF0925B5A96FAA4926659B772236ABB76FB
...

Sheet 중기단가목록
B1: 중 기 단 가 목 록
B2: [ [2024학년도 자율혁신지원사업] 창의적 환경개선공사(2차) 중 항공서비스학과 실습실 ]
A3: 코 드 | B3: 품 명 | C3: 규 격 | D3: 단위 | E3: 재 료 비 | F3: 노 무 비 | G3: 경 비 | H3: 합 계 | I3: 번 호 | J3: 비 고 | K3: START | L3: 품셈개요

Sheet 중기단가산출서
A1: 중 기 단 가 산 출 서
A2: [ [2024학년도 자율혁신지원사업] 창의적 환경개선공사(2차) 중 항공서비스학과 실습실 ]
A3: 산 출 내 역 | B3: 재 료 비 | C3: 노 무 비 | D3: 경 비 | E3: 합 계 | F3: 비 고 | G3: START | H3: 코드 | I3: 품명 | J3: 규격 | K3: 단위 | L3: 수량 | M3: 변수 | N3: 값 | O3: 소계 | P3: 소계 | Q3: 소계 | R3: 소계 | S3: 소계 | T3: 총계
A4: ( )
A6: 총 계 | E6: 0

Sheet 단가대비표
A1: 단 가 대 비 표
A2: =갑지!D6 -> 강원도립대학교 RISE사업 현장기반형 산학연계 교육환경개선 공사 (호텔관광과)
A3: 코 드 | B3: 품 명 | C3: 규격 | D3: 단위 | E3: 재 료 비 | P3: 노 무 비 | Q3: 경 비 | W3: 번 호 | X3: 품목구분 | Y3: 노임구분 | Z3: 소수점처리 | AA3: 자재구분
E4: 물가정보 | F4: PAGE | G4: 거래가격 | H4: PAGE | I4: 유통물가 | J4: PAGE | K4: 조사가격1 | L4: PAGE | M4: 조사가격2 | N4: PAGE | O4: 적용단가 | Q4: 조달청가격 | R4: 거래가격 | S4: 유통물가 | T4: 조사가격1 | U4: 조사가격2 | V4: 적용단가
A5: 5C5626E31EB2569255028394A8AC18C1AFDBBB | B5: 보통합판 | C5: 보통합판, 1급, 12*1220*2440mm | D5: M2 | E5: 32700 | F5: 587 | G5: 34500 | H5: 667 | I5: 33700 | J5: 407 | K5: 0 | M5: 0 | O5: =SMALL(E5:M5,COUNTIF(E5:M5,0)+1)/2.88 -> 11354.167 | P5: 0 | Q5: 0 | R5: 0 | S5: 0 | T5: 0 | U5: 0 | V5: 0 | W5: 자재 1
B6: 보통합판 | C6: 보통합판, 준내수, 4.8*1220*2440mm | D6: M2 | E6: 17600 | F6: 587 | G6: 14900 | H6: 667 | I6: 13900 | J6: 407 | O6: =SMALL(E6:M6,COUNTIF(E6:M6,0)+1)/2.88 -> 4826.3889 | W6: 자재 2
B7: 중밀도섬유판(MDF) | C7: 9*1220*2440mm | D7: M2 | E7: 13700 | F7: 588 | G7: 17600 | H7: 668 | I7: 14400 | J7: 409 | O7: =SMALL(E7:M7,COUNTIF(E7:M7,0)+1)/2.88 -> 4756.9444 | W7: 자재 3
A8: 5C71065FDAE2E6670B920354AA38B445066473 | B8: 석고보드 | C8: 석고보드, 평보드, 9.5*900*1800mm(㎡) | D8: M2 | E8: 5000 | F8: 588 | G8: 4900 | H8: 668 | I8: 5280 | J8: 408 | K8: 0 | M8: 0 | O8: =SMALL(E8:M8,COUNTIF(E8:M8,0)+1) -> 4900 | P8: 0 | Q8: 0 | R8: 0 | S8: 0 | T8: 0 | U8: 0 | V8: 0 | W8: 자재 4
A9: 5C5626E31EB2569255028394A8AC18C1AFDF15 | B9: 내수합판 | C9: 내수합판, 1급, 12*910*1820mm | D9: M2 | E9: 24900 | F9: 587 | G9: 19200 | H9: 677 | I9: 17900 | J9: 407 | K9: 0 | M9: 0 | O9: =SMALL(E9:M9,COUNTIF(E9:M9,0)+1)/2.88 -> 6215.2778 | P9: 0 | Q9: 0 | R9: 0 | S9: 0 | T9: 0 | U9: 0 | V9: 0 | W9: 자재 5
A10: 5C60D6C646D286BA4F32839833DF9EA78448C4 | B10: PVC골판지 | C10: 플라스틱골판지 3T*900*1800 | D10: M2 | E10: 2376 | F10: 69 | G10: 5500 | H10: 1472 | I10: 2330 | J10: 1196 | K10: 0 | O10: =SMALL(E10:M10,COUNTIF(E10:M10,0)+1) -> 2330 | P10: 0 | Q10: 0 | R10: 0 | S10: 0 | T10: 0 | U10: 0 | V10: 0 | W10: 자재 6
A11: 5C71065FDC92E689100223C564D8E702754BF7 | B11: 아연도강판 | C11: 1.00＜T≤1.20, 29.10㎏/매 | D11: 매 | E11: 44560 | F11: 16 | K11: 0 | M11: 0 | O11: =SMALL(E11:M11,COUNTIF(E11:M11,0)+1) -> 44560 | P11: 0 | Q11: 0 | R11: 0 | S11: 0 | T11: 0 | U11: 0 | V11: 0 | W11: 자재 7
A12: 5C71065FDC92F694F42203024CFEA9D1CB097C | B12: 각재 | C12: 각재, 외송 / 1M3 = 299.5재 | D12: M3 | E12: =E16 -> 0 | G12: =G16 -> 838600 | I12: =I16 -> 795771.5 | K12: 0 | M12: 0 | O12: =SMALL(E12:M12,COUNTIF(E12:M12,0)+1) -> 795771.5 | P12: 0 | Q12: 0 | R12: 0 | S12: 0 | T12: 0 | U12: 0 | V12: 0 | W12: 자재 8
C13: 각재, 외송(뉴송) / 재=개 | D13: 재 | E13: 2520 | F13: 85 | G13: 2220 | H13: 147 | I13: 2059 | J13: 73 | O13: =SMALL(E13:M13,COUNTIF(E13:M13,0)+1) -> 2059 | W13: 자재 9
A14: 5C71065FDC92F694F42203024CFEA9D1CB097D | B14: 각재 | C14: 각재, 미송 | D14: 재 | G14: 2800 | H14: 147 | I14: 2657 | J14: 73 | K14: 0 | M14: 0 | O14: =SMALL(E14:M14,COUNTIF(E14:M14,0)+1) -> 2657 | P14: 0 | Q14: 0 | R14: 0 | S14: 0 | T14: 0 | U14: 0 | V14: 0 | W14: 자재 10
A15: 5C71065FDC92F694F42203024CFEA9D1CB0905 | B15: 각재 | C15: 각재, 외송, 30*30@300 | D15: M3 | E15: =SUM(E13)*299.5 -> 754740 | G15: =SUM(G13)*299.5 -> 664890 | I15: =SUM(I13)*299.5 -> 616670.5 | K15: 0 | M15: 0 | O15: =SMALL(E15:M15,COUNTIF(E15:M15,0)+1) -> 616670.5 | P15: 0 | Q15: 0 | R15: 0 | S15: 0 | T15: 0 | U15: 0 | V15: 0 | W15: 자재 11
A16: 5C71065FDC92F694F42203024CFEA9D1CB0F99 | B16: 각재 | C16: 각재, 미송, 30*30@300 | D16: M3 | E16: =SUM(E14)*299.5 -> 0 | G16: =SUM(G14)*299.5 -> 838600 | I16: =SUM(I14)*299.5 -> 795771.5 | K16: 0 | M16: 0 | O16: =SMALL(E16:M16,COUNTIF(E16:M16,0)+1) -> 795771.5 | P16: 0 | Q16: 0 | R16: 0 | S16: 0 | T16: 0 | U16: 0 | V16: 0 | W16: 자재 12
A17: 5C71065FDAE2E664B752E3C7E0C6B9839E3C33 | B17: 경량철골천장틀 | C17: 경량철골천장틀, M-BAR, 50*19*0.5mm | D17: M | E17: 1619 | F17: 641 | G17: 1160 | H17: 673 | I17: 910 | J17: 420 | K17: 0 | M17: 0 | O17: =SMALL(E17:M17,COUNTIF(E17:M17,0)+1) -> 910 | P17: 0 | Q17: 0 | R17: 0 | S17: 0 | T17: 0 | U17: 0 | V17: 0 | W17: 자재 13
A18: 5C71065FDAE2E664B752E3C7E0C6B9839E3B16 | B18: 경량철골천장틀 | C18: 경량철골천장틀, 달대볼트, 상6*500mm | D18: 개 | E18: 1866 | F18: 641 | G18: 860 | H18: 673 | I18: 1150 | J18: 420 | K18: 0 | M18: 0 | O18: =SMALL(E18:M18,COUNTIF(E18:M18,0)+1) -> 860 | P18: 0 | Q18: 0 | R18: 0 | S18: 0 | T18: 0 | U18: 0 | V18: 0 | W18: 자재 14
A19: 5C71065FDAE2E664B752E3C7E0C6B9839E385C | B19: 경량철골천장틀 | C19: 경량철골천장틀, 캐링찬넬, 38*12*1.2mm | D19: M | E19: 2288 | F19: 641 | G19: 1560 | H19: 673 | I19: 1290 | J19: 420 | K19: 0 | M19: 0 | O19: =SMALL(E19:M19,COUNTIF(E19:M19,0)+1) -> 1290 | P19: 0 | Q19: 0 | R19: 0 | S19: 0 | T19: 0 | U19: 0 | V19: 0 | W19: 자재 15
A20: 5C71065FDAE2E664B752E3C7E0C6B9839E385D | B20: 경량철골천장틀 | C20: 경량철골천장틀, 마이너찬넬, 19*10*1.2mm | D20: M | E20: 1390 | F20: 641 | G20: 980 | H20: 673 | I20: 800 | J20: 420 | K20: 0 | M20: 0 | O20: =SMALL(E20:M20,COUNTIF(E20:M20,0)+1) -> 800 | P20: 0 | Q20: 0 | R20: 0 | S20: 0 | T20: 0 | U20: 0 | V20: 0 | W20: 자재 16
A21: 5C71065FDAE2E664B752E3C7E0C6B9839E385E | B21: 경량철골천장틀 | C21: 경량철골천장틀, 행가및핀, 110*23*18*2.3mm | D21: 개 | E21: 53 | F21: 641 | G21: 310 | H21: 673 | I21: 350 | J21: 420 | K21: 0 | M21: 0 | O21: =SMALL(E21:M21,COUNTIF(E21:M21,0)+1) -> 53 | P21: 0 | Q21: 0 | R21: 0 | S21: 0 | T21: 0 | U21: 0 | V21: 0 | W21: 자재 17
A22: 5C71065FDAE2E664B752E3C7E0C6B9839E385F | B22: 경량철골천장틀 | C22: 경량철골천장틀, 찬넬크립, 37*30*10*1.2mm | D22: 조 | E22: 0 | G22: 0 | I22: 0 | K22: 0 | M22: 111 | O22: =SMALL(E22:M22,COUNTIF(E22:M22,0)+1) -> 111 | P22: 0 | Q22: 0 | R22: 0 | S22: 0 | T22: 0 | U22: 0 | V22: 0 | W22: 자재 18
A23: 5C71065FDAE2E664B752E3C7E0C6B9839E3858 | B23: 경량철골천장틀 | C23: 경량철골천장틀, 캐링조인트, 90*40*13*0.5mm | D23: 조 | E23: 334 | F23: 641 | G23: 0 | I23: 0 | K23: 0 | O23: =SMALL(E23:M23,COUNTIF(E23:M23,0)+1) -> 334 | P23: 0 | Q23: 0 | R23: 0 | S23: 0 | T23: 0 | U23: 0 | V23: 0 | W23: 자재 19
A24: 5C71065FDAE2E664B752E3C7E0C6B9839E3859 | B24: 경량철골천장틀 | C24: 경량철골천장틀, BAR크립, | D24: 개 | E24: 158 | F24: 641 | G24: 0 | I24: 90 | J24: 420 | K24: 0 | O24: =SMALL(E24:M24,COUNTIF(E24:M24,0)+1) -> 90 | P24: 0 | Q24: 0 | R24: 0 | S24: 0 | T24: 0 | U24: 0 | V24: 0 | W24: 자재 20
A25: 5C71065FDAE2E664B752E3C7E0C6B9839E385B | B25: 경량철골천장틀 | C25: 경량철골천장틀, BAR조인트, | D25: 개 | E25: 211 | F25: 641 | G25: 0 | I25: 120 | J25: 420 | K25: 0 | O25: =SMALL(E25:M25,COUNTIF(E25:M25,0)+1) -> 120 | P25: 0 | Q25: 0 | R25: 0 | S25: 0 | T25: 0 | U25: 0 | V25: 0 | W25: 자재 21
A26: 5C71065FDAE2E664B752E3C7E0C6B9839E3965 | B26: 경량철골천장틀 | C26: 경량철골천장틀, 피스, 3*16mm | D26: 개 | E26: 0 | G26: 0 | I26: 0 | K26: 0 | M26: 0 | O26: 0 | P26: 0 | Q26: 0 | R26: 0 | S26: 0 | T26: 0 | U26: 0 | V26: 0 | W26: 자재 22
A27: 5C71065FDAE2E664B752E3C7E0C6B9839E36AB | B27: 경량철골천장틀 | C27: 경량철골천장틀, 몰딩(알루미늄), W형, 15*15*15*15*1.0mm | D27: M | E27: 3432 | F27: 641 | G27: 2480 | H27: 673 | I27: 2480 | J27: 420 | K27: 0 | M27: 0 | O27: =SMALL(E27:M27,COUNTIF(E27:M27,0)+1) -> 2480 | P27: 0 | Q27: 0 | R27: 0 | S27: 0 | T27: 0 | U27: 0 | V27: 0 | W27: 자재 23
B28: 마이텍스 | C28: =공종별내역서!B135 -> 컬러유리 5mm | D28: M2 | E28: 10400 | F28: 590 | I28: 10400 | J28: 414 | O28: =SMALL(E28:M28,COUNTIF(E28:M28,0)+1) -> 10400 | W28: 자재 24
A29: 5C71065FDAE2E6655D32930D64D2703E42D780 | B29: 비닐타일 | C29: 비닐타일, 3*600*600mm, 데코타일 | D29: M2 | E29: 19000 | F29: 629 | G29: 19000 | H29: 712 | I29: 19000 | J29: 499 | M29: 0 | O29: =SMALL(E29:M29,COUNTIF(E29:M29,0)+1) -> 19000 | P29: 0 | Q29: 0 | R29: 0 | S29: 0 | T29: 0 | U29: 0 | V29: 0 | W29: 자재 25
A30: 5C71065FDBF27604EA62C3B9F4C873BA0A54D7 | B30: 강화도어안전문 | C30: 유리문, 12*900*2100mm, 손보호, 투명, 강화유리문 | D30: 개 | G30: 0 | I30: 290000 | J30: 449 | K30: 0 | M30: 0 | O30: =SMALL(E30:M30,COUNTIF(E30:M30,0)+1) -> 290000 | P30: 0 | Q30: 0 | R30: 0 | S30: 0 | T30: 0 | U30: 0 | V30: 0 | W30: 자재 26
A31: 5C71065FDBF27606972243AF06B4816902B880 | B31: 강화유리 | C31: 강화유리, 투명, 12mm | D31: M2 | E31: 43200 | F31: 559 | G31: 44200 | H31: 662 | I31: 48400 | J31: 463 | K31: 0 | M31: 0 | O31: =SMALL(E31:M31,COUNTIF(E31:M31,0)+1) -> 43200 | P31: 0 | Q31: 0 | R31: 0 | S31: 0 | T31: 0 | U31: 0 | V31: 0 | W31: 자재 27
A32: 5C71065FD562C66E9F5223ADF6D43F34B7C755 | B32: 조립식비계틀 | C32: 비계안정장치, 비계기본틀, 기둥, 1.2*1.7m (2개월) | D32: 개 | E32: 43000 | F32: 88 | G32: 4500 | H32: 169 | I32: 32320 | J32: 82 | K32: 0 | M32: 0 | O32: =SMALL(E32:M32,COUNTIF(E32:M32,0)+1) -> 4500 | P32: 0 | Q32: 0 | R32: 0 | S32: 0 | T32: 0 | U32: 0 | V32: 0 | W32: 자재 28
A33: 5C71065FD562C66E9F5223ADF6D43F34B7C75B | B33: 조립식비계틀 | C33: 비계안정장치, 가새, 1.2*1.9m (2개월) | D33: 개 | E33: 11700 | F33: 88 | G33: 1350 | H33: 169 | I33: 9790 | J33: 82 | K33: 0 | M33: 0 | O33: =SMALL(E33:M33,COUNTIF(E33:M33,0)+1) -> 1350 | P33: 0 | Q33: 0 | R33: 0 | S33: 0 | T33: 0 | U33: 0 | V33: 0 | W33: 자재 29
A34: 5C71065FD562C66E9F5223ADF6D43F34B7C87B | B34: 조립식비계틀 | C34: 비계안정장치, 수평띠장, 1829mm (2개월) | D34: 개 | E34: 40800 | F34: 88 | G34: 4500 | H34: 169 | I34: 28480 | J34: 82 | K34: 0 | M34: 0 | O34: =SMALL(E34:M34,COUNTIF(E34:M34,0)+1) -> 4500 | P34: 0 | Q34: 0 | R34: 0 | S34: 0 | T34: 0 | U34: 0 | V34: 0 | W34: 자재 30
A35: 5C71065FD562C66E9F5223ADF6D43F34B7C87F | B35: 조립식비계틀 | C35: 비계안정장치, 바퀴 | D35: 개 | E35: 0 | G35: 0 | I35: 0 | K35: 500 | M35: 0 | O35: =SMALL(E35:M35,COUNTIF(E35:M35,0)+1) -> 500 | P35: 0 | Q35: 0 | R35: 0 | S35: 0 | T35: 0 | U35: 0 | V35: 0 | W35: 자재 31
A36: 5C71065FD562C66E9F5223ADF6D43F34B7C87E | B36: 조립식비계틀 | C36: 비계안정장치, 쟈키 (2개월) | D36: 개 | E36: 14000 | F36: 88 | G36: 11000 | H36: 169 | I36: 11610 | J36: 82 | K36: 0 | M36: 0 | O36: =SMALL(E36:M36,COUNTIF(E36:M36,0)+1) -> 11000 | P36: 0 | Q36: 0 | R36: 0 | S36: 0 | T36: 0 | U36: 0 | V36: 0 | W36: 자재 32
A37: 5C71065FD562C66E9F5223ADF6D43F34B7BE74 | B37: 조립식비계틀 | C37: 비계안정장치, 손잡이기둥 | D37: 개 | E37: 0 | G37: 0 | I37: 0 | K37: 15000 | M37: 0 | O37: =SMALL(E37:M37,COUNTIF(E37:M37,0)+1) -> 15000 | P37: 0 | Q37: 0 | R37: 0 | S37: 0 | T37: 0 | U37: 0 | V37: 0 | W37: 자재 33
A38: 5C71065FD562C66E9F5223ADF6D43F34B7BE77 | B38: 조립식비계틀 | C38: 비계안정장치, 손잡이, 1229mm | D38: 개 | E38: 0 | G38: 0 | I38: 0 | K38: 8000 | M38: 0 | O38: =SMALL(E38:M38,COUNTIF(E38:M38,0)+1) -> 8000 | P38: 0 | Q38: 0 | R38: 0 | S38: 0 | T38: 0 | U38: 0 | V38: 0 | W38: 자재 34
A39: 5C71065FD562C66E9F5223ADF6D43F34B7BE76 | B39: 조립식비계틀 | C39: 비계안정장치, 손잡이, 1829mm | D39: 개 | E39: 0 | G39: 0 | I39: 0 | K39: 10000 | M39: 0 | O39: =SMALL(E39:M39,COUNTIF(E39:M39,0)+1) -> 10000 | P39: 0 | Q39: 0 | R39: 0 | S39: 0 | T39: 0 | U39: 0 | V39: 0 | W39: 자재 35
A40: 5C71065FD562C66E9F5223ADF42B01826813D3 | B40: 조립식비계틀 | C40: 비계안정장치, 안전발판, 400*1829 (2개월) | D40: 장 | E40: 0 | G40: 3100 | H40: 169 | I40: 0 | K40: 18500 | L40: 146 | M40: 0 | O40: =SMALL(E40:M40,COUNTIF(E40:M40,0)+1) -> 3100 | P40: 0 | Q40: 0 | R40: 0 | S40: 0 | T40: 0 | U40: 0 | V40: 0 | W40: 자재 36
A41: 5C71166521820643933273F96BC6E04B2637DF | B41: 스텐손잡이스텐 | C41: 손잡이, 강화유리문용(고급형) | D41: 개 | E41: 0 | G41: 85000 | H41: 736 | I41: 0 | K41: 0 | O41: =SMALL(E41:M41,COUNTIF(E41:M41,0)+1) -> 85000 | P41: 0 | Q41: 0 | R41: 0 | S41: 0 | T41: 0 | U41: 0 | V41: 0 | W41: 자재 37
W42: 자재 38
A43: 5C7116652E52B637DC22935CC039A5E5212064 | B43: 연마지 | C43: 연마지, #120, 230*280mm | D43: 장 | E43: 638 | F43: 1078 | G43: 530 | H43: 1337 | I43: 638 | J43: 1168 | K43: 0 | M43: 0 | O43: =SMALL(E43:M43,COUNTIF(E43:M43,0)+1) -> 530 | P43: 0 | Q43: 0 | R43: 0 | S43: 0 | T43: 0 | U43: 0 | V43: 0 | W43: 자재 39
A44: 5C711666CE525618E912A3F4FDE2DAFD9A7DE0 | B44: 초산비닐계접착제 | C44: 1액형 실리콘, 다목적건축죠인트 실링용(300ml) | D44: 개 | E44: 4500 | F44: 476 | G44: 6700 | H44: 606 | I44: 5000 | J44: 385 | K44: 0 | M44: 0 | O44: =SMALL(E44:M44,COUNTIF(E44:M44,0)+1) -> 4500 | P44: 0 | Q44: 0 | R44: 0 | S44: 0 | T44: 0 | U44: 0 | V44: 0 | W44: 자재 40
A45: 5C711666CE525618E912A3F4FDE2DAFD9A7CC3 | B45: 초산비닐계접착제 | C45: 1앵형 실리콘 유리글레이징용 | D45: 개 | E45: 4000 | F45: 473 | G45: 5400 | H45: 606 | I45: 4500 | J45: 385 | K45: 0 | M45: 0 | O45: =SMALL(E45:M45,COUNTIF(E45:M45,0)+1) -> 4000 | P45: 0 | Q45: 0 | R45: 0 | S45: 0 | T45: 0 | U45: 0 | V45: 0 | W45: 자재 41
A46: 5C711666CE525618E912A3F4FDE2DAFD9A7B39 | B46: 합성풀 | C46: 지물 및 각종도배지 접착용 접착제(800g×20봉, 16㎏) | D46: kg | E46: =23000/16 -> 1437.5 | F46: 60 | G46: 0 | I46: =23000/16 -> 1437.5 | J46: 64 | K46: 0 | M46: 0 | O46: =SMALL(E46:M46,COUNTIF(E46:M46,0)+1) -> 1437.5 | P46: 0 | Q46: 0 | R46: 0 | S46: 0 | T46: 0 | U46: 0 | V46: 0 | W46: 자재 42
A47: 5C711666CE525618E912E35389CD72FA4804AC | B47: 퍼티 | C47: 퍼티, 외부용 25KG | D47: kg | E47: =43100/25 -> 1724 | F47: 504 | G47: =48000/25 -> 1920 | H47: 622 | I47: =48000/18 -> 2666.6667 | J47: 469 | K47: 0 | M47: 0 | O47: =SMALL(E47:M47,COUNTIF(E47:M47,0)+1) -> 1724 | P47: 0 | Q47: 0 | R47: 0 | S47: 0 | T47: 0 | U47: 0 | V47: 0 | W47: 자재 43
A48: 5C711666CF72B6048502F39F61474EAB22D233 | B48: 수성페인트 | C48: 수성페인트,친환경, 외부용 18L | D48: L | E48: =147000/16 -> 9187.5 | F48: 524 | G48: =147000/16 -> 9187.5 | H48: 619 | I48: =147000/16 -> 9187.5 | J48: 468 | K48: 0 | M48: 0 | O48: =SMALL(E48:M48,COUNTIF(E48:M48,0)+1) -> 9187.5 | P48: 0 | Q48: 0 | R48: 0 | S48: 0 | T48: 0 | U48: 0 | V48: 0 | W48: 자재 44
A49: 5C711666CF72B6048502F39F61474EAB23FDC9 | B49: 수성페인트 | C49: 수성페인트, 친환경, 내부용 18L | D49: L | E49: =129000/16 -> 8062.5 | F49: 524 | G49: =129000/16 -> 8062.5 | H49: 619 | I49: =129000/16 -> 8062.5 | J49: 468 | M49: 0 | O49: =SMALL(E49:M49,COUNTIF(E49:M49,0)+1) -> 8062.5 | P49: 0 | Q49: 0 | R49: 0 | S49: 0 | T49: 0 | U49: 0 | V49: 0 | W49: 자재 45
A50: 5C711666CF72B609074243FEC8F5C0D98D5500 | B50: 시너 | C50: 시너, KSM6060, 1종 | D50: L | E50: =77000/17 -> 4529.4118 | F50: 496 | G50: =62800/18 -> 3488.8889 | H50: 614 | I50: =87100/18 -> 4838.8889 | J50: 470 | K50: 0 | M50: 0 | O50: =SMALL(E50:M50,COUNTIF(E50:M50,0)+1) -> 3488.8889 | P50: 0 | Q50: 0 | R50: 0 | S50: 0 | T50: 0 | U50: 0 | V50: 0 | W50: 자재 46
A51: 5C18E640AD02A6F2A7E213A74BB4D8ED4EE19D | B51: 거울 | C51: 거울, 1000*1000*5mm | D51: 개 | E51: 0 | G51: 30400 | H51: 666 | I51: 28400 | J51: 463 | K51: 0 | M51: 0 | O51: =SMALL(E51:M51,COUNTIF(E51:M51,0)+1) -> 28400 | P51: 0 | Q51: 0 | R51: 0 | S51: 0 | T51: 0 | U51: 0 | V51: 0 | W51: 자재 47
A52: 5B5A66B0AB92A6FC3302D3617438B7 | B52: 건설폐재류 처리비 | C52: 가연성이 제거된 재활용이 가능한 혼합물 | D52: TON | E52: 0 | G52: 0 | I52: 0 | K52: 0 | M52: 0 | O52: 0 | P52: 0 | Q52: 0 | R52: 0 | S52: 0 | T52: 0 | U52: 49571 | V52: =SMALL(Q52:U52,COUNTIF(Q52:U52,0)+1) -> 49571 | W52: 자재 48 | X52: C
A53: 5B5A66B0AB92A6FC3302D361731461 | B53: 혼합건설폐기물 처리비 | C53: 건설폐재류에 가연성 5% 이하 혼합 | D53: TON | E53: 0 | G53: 0 | I53: 0 | K53: 0 | M53: 0 | O53: 0 | P53: 0 | Q53: 0 | R53: 0 | S53: 0 | T53: 0 | U53: 72721 | V53: =SMALL(Q53:U53,COUNTIF(Q53:U53,0)+1) -> 72721 | W53: 자재 49 | X53: C
A54: 5B5A66B0AB92A6FDD882934EEE4DF9 | B54: 건설폐재류 운반비 | C54: 암롤트럭, 10km | D54: TON | E54: 0 | G54: 0 | I54: 0 | K54: 0 | M54: 0 | O54: 0 | P54: 0 | Q54: 0 | R54: 0 | S54: 0 | T54: 0 | U54: 40900 | V54: =SMALL(Q54:U54,COUNTIF(Q54:U54,0)+1) -> 40900 | W54: 자재 50 | X54: C
A55: 5B5A66B0AB92A6FDD882934EE9CBBF | B55: 혼합건설폐기물 운반비 | C55: 암롤트럭, 10km | D55: TON | E55: 0 | G55: 0 | I55: 0 | K55: 0 | M55: 0 | O55: 0 | P55: 0 | Q55: 0 | R55: 0 | S55: 0 | T55: 0 | U55: 40900 | V55: =SMALL(Q55:U55,COUNTIF(Q55:U55,0)+1) -> 40900 | W55: 자재 51 | X55: C
A57: 5B8AB68EFFC2567EE6E2D35706BB18BD60C199 | B57: 보통인부 | C57: 일반공사 직종 | D57: 인 | E57: 0 | G57: 0 | I57: 0 | K57: 0 | M57: 0 | O57: 0 | P57: 172068 | Q57: 0 | R57: 0 | S57: 0 | T57: 0 | U57: 0 | V57: 0 | W57: 노임 1 | X57: B
A58: 5B8AB68EFFC2567EE6E2D35706BB18BD60C198 | B58: 특별인부 | C58: 일반공사 직종 | D58: 인 | E58: 0 | G58: 0 | I58: 0 | K58: 0 | M58: 0 | O58: 0 | P58: 226122 | Q58: 0 | R58: 0 | S58: 0 | T58: 0 | U58: 0 | V58: 0 | W58: 노임 2 | X58: B
A59: 5B8AB68EFFC2567EE6E2D35706BB18BD60C19D | B59: 비계공 | C59: 일반공사 직종 | D59: 인 | E59: 0 | G59: 0 | I59: 0 | K59: 0 | M59: 0 | O59: 0 | P59: 281939 | Q59: 0 | R59: 0 | S59: 0 | T59: 0 | U59: 0 | V59: 0 | W59: 노임 3 | X59: B
A60: 5B8AB68EFFC2567EE6E2D35706BB18BD60C192 | B60: 철공 | C60: 일반공사 직종 | D60: 인 | E60: 0 | G60: 0 | I60: 0 | K60: 0 | M60: 0 | O60: 0 | P60: 239808 | Q60: 0 | R60: 0 | S60: 0 | T60: 0 | U60: 0 | V60: 0 | W60: 노임 4 | X60: B
A61: 5B8AB68EFFC2567EE6E2D35706BB18BD60C0F6 | B61: 용접공 | C61: 일반공사 직종 | D61: 인 | E61: 0 | G61: 0 | I61: 0 | K61: 0 | M61: 0 | O61: 0 | P61: 282536 | Q61: 0 | R61: 0 | S61: 0 | T61: 0 | U61: 0 | V61: 0 | W61: 노임 5 | X61: B
A62: 5B8AB68EFFC2567EE6E2D35706BB18BD60C0F3 | B62: 할석공 | C62: 일반공사 직종 | D62: 인 | E62: 0 | G62: 0 | I62: 0 | K62: 0 | M62: 0 | O62: 0 | P62: 241932 | Q62: 0 | R62: 0 | S62: 0 | T62: 0 | U62: 0 | V62: 0 | W62: 노임 6 | X62: B
B63: 조적공 | C63: 일반공사 직종 | D63: 인 | P63: 270807 | W63: 노임 7
A64: 5B8AB68EFFC2567EE6E2D35706BB18BD60C34B | B64: 건축목공 | C64: 일반공사 직종 | D64: 인 | E64: 0 | G64: 0 | I64: 0 | K64: 0 | M64: 0 | O64: 0 | P64: 277642 | Q64: 0 | R64: 0 | S64: 0 | T64: 0 | U64: 0 | V64: 0 | W64: 노임 8 | X64: B
A65: 5B8AB68EFFC2567EE6E2D35706BB18BD60C34C | B65: 창호공 | C65: 일반공사 직종 | D65: 인 | E65: 0 | G65: 0 | I65: 0 | K65: 0 | M65: 0 | O65: 0 | P65: 247188 | Q65: 0 | R65: 0 | S65: 0 | T65: 0 | U65: 0 | V65: 0 | W65: 노임 9 | X65: B
A66: 5B8AB68EFFC2567EE6E2D35706BB18BD60C34D | B66: 유리공 | C66: 일반공사 직종 | D66: 인 | E66: 0 | G66: 0 | I66: 0 | K66: 0 | M66: 0 | O66: 0 | P66: 253539 | Q66: 0 | R66: 0 | S66: 0 | T66: 0 | U66: 0 | V66: 0 | W66: 노임 10 | X66: B
A67: 5B8AB68EFFC2567EE6E2D35706BB18BD60C341 | B67: 도장공 | C67: 일반공사 직종 | D67: 인 | E67: 0 | G67: 0 | I67: 0 | K67: 0 | M67: 0 | O67: 0 | P67: 267017 | Q67: 0 | R67: 0 | S67: 0 | T67: 0 | U67: 0 | V67: 0 | W67: 노임 11 | X67: B
A68: 5B8AB68EFFC2567EE6E2D35706BB18BD60C2A2 | B68: 내장공 | C68: 일반공사 직종 | D68: 인 | E68: 0 | G68: 0 | I68: 0 | K68: 0 | M68: 0 | O68: 0 | P68: 256883 | Q68: 0 | R68: 0 | S68: 0 | T68: 0 | U68: 0 | V68: 0 | W68: 노임 12 | X68: B
B69: 코킹공 | C69: 기타직종 | D69: 인 | P69: 209131 | W69: 노임 13
B70: 철거공 | C70: 기타직공 | P70: 266743 | W70: 노임 14
A72: 5AED96AB8AA2A613B6F233C1B7FAE2FD867444 | B72: 실내기 이전 | C72: 천장형 4way | D72: EA | E72: 0 | G72: 0 | I72: 0 | K72: 0 | M72: 1765000 | O72: =SMALL(E72:M72,COUNTIF(E72:M72,0)+1) -> 1765000 | Q72: 0 | R72: 0 | S72: 0 | T72: 0 | U72: 0 | V72: 0 | W72: 자재 51
A73: 5AED96AB8AA2A613B6F233C1B7FAE2FD867568 | B73: 항공실습실 배선,배관 | C73: 2.5mm / SF배관 | D73: M2 | E73: 0 | G73: 0 | I73: 0 | K73: 0 | M73: 811000 | O73: =SMALL(E73:M73,COUNTIF(E73:M73,0)+1) -> 811000 | P73: 1599000 | Q73: 0 | R73: 0 | S73: 0 | T73: 0 | U73: 0 | V73: 0 | W73: 자재 52
B74: 4인치 매입등 | C74: LED 주백색 | D74: EA | M74: 3380 | N74: 인터넷 | O74: =SMALL(E74:M74,COUNTIF(E74:M74,0)+1) -> 3380 | W74: 자재 53
B75: 6인치 매입등 | C75: LED 주백색 | D75: EA | M75: 3980 | N75: 인터넷 | O75: =SMALL(E75:M75,COUNTIF(E75:M75,0)+1) -> 3980 | W75: 자재 54
B76: T5 간접등 - 1200 | C76: LED 주백색 | D76: EA | E76: 11990 | F76: 1289 | O76: =SMALL(E76:M76,COUNTIF(E76:M76,0)+1) -> 11990 | W76: 자재 55
B77: 스위치설치 | C77: 1구 | D77: EA | E77: 3266 | F77: 1280 | G77: 3920 | H77: 1098 | I77: 10667 | J77: 930 | O77: =SMALL(E77:M77,COUNTIF(E77:M77,0)+1) -> 3266 | W77: 자재 56
C78: 2구 | D78: EA | E78: 5064 | F78: 1280 | G78: 5500 | H78: 1098 | I78: 11834 | J78: 930 | O78: =SMALL(E78:M78,COUNTIF(E78:M78,0)+1) -> 5064 | W78: 자재 57
C79: 3구 | D79: EA | E79: 6731 | F79: 1280 | G79: 7070 | H79: 1098 | I79: 14934 | J79: 930 | O79: =SMALL(E79:M79,COUNTIF(E79:M79,0)+1) -> 6731 | W79: 자재 58
B80: 콘센트설치 | C80: 2구 | D80: EA | E80: 3182 | F80: 1280 | G80: 7967 | H80: 1099 | I80: 7969 | J80: 930 | O80: =SMALL(E80:M80,COUNTIF(E80:M80,0)+1) -> 3182 | W80: 자재 59
B81: 항공실습실 PA 시스템 | C81: 승무원 통화, 방송시스템 | D81: 개소 | M81: =2780000+300000 -> 3080000 | O81: =SMALL(E81:M81,COUNTIF(E81:M81,0)+1) -> 3080000 | P81: 720000 | W81: 자재 61
B82: 항공실습실 산소마스크 드랍장치 | C82: 산소마스크 드랍시스템 | D82: 개소 | M82: 860000 | O82: =SMALL(E82:M82,COUNTIF(E82:M82,0)+1) -> 860000 | P82: 254000 | W82: 자재 63
B83: 이미지메이킹 실습실 등교체 | C83: LED 엣지등 / 300*1200 | D83: EA | M83: 19000 | N83: 인터넷 | O83: =SMALL(E83:M83,COUNTIF(E83:M83,0)+1) -> 19000 | W83: 자재 64
A84: 5AED96AB8AA2A613B6F233C1B7FAE2FD867569 | B84: 로고사인 | C84: 학교로고 디자인 | D84: 식 | E84: 0 | G84: 0 | I84: 0 | K84: 0 | M84: 150000 | O84: =SMALL(E84:M84,COUNTIF(E84:M84,0)+1) -> 150000 | P84: 80000 | Q84: 0 | R84: 0 | S84: 0 | T84: 0 | U84: 0 | V84: 0 | W84: 자재 65
A85: 5AED96AB8AA2A613B6F233C1B7FAE2FD86756E | B85: 도어 사인 | C85: 지정디자인 | D85: 식 | E85: 0 | G85: 0 | I85: 0 | K85: 0 | M85: 345000 | O85: =SMALL(E85:M85,COUNTIF(E85:M85,0)+1) -> 345000 | P85: 180000 | Q85: 0 | R85: 0 | S85: 0 | T85: 0 | U85: 0 | V85: 0 | W85: 자재 66
A86: 5AED96AB8AA2A613B6F233C1B7FAE2FD867292 | B86: 워킹라인 | C86: 바닥 지정 디자인 | D86: 식 | E86: 0 | G86: 0 | I86: 0 | K86: 0 | M86: 85000 | O86: =SMALL(E86:M86,COUNTIF(E86:M86,0)+1) -> 85000 | P86: 120000 | Q86: 0 | R86: 0 | S86: 0 | T86: 0 | U86: 0 | V86: 0 | W86: 자재 67
W87: 자재 68
A88: 5AED96AB8AA2A613B6F233C1B7FAE2FD86756C | B88: 더미도어 제작설치 | C88: A320 | D88: SET | E88: 0 | G88: 0 | I88: 0 | K88: 0 | M88: 3800000 | O88: =SMALL(E88:M88,COUNTIF(E88:M88,0)+1) -> 3800000 | P88: 250000 | R88: 0 | S88: 0 | T88: 0 | U88: 440000 | V88: 0 | W88: 자재 69
A89: 5AED96AB8AA2A613B6F233C1B7FAE2FD86756D | B89: 오버윙 엑시트 도어 | C89: B737-DUMMY | D89: SET | E89: 0 | G89: 0 | I89: 0 | K89: 0 | M89: 1530000 | O89: =SMALL(E89:M89,COUNTIF(E89:M89,0)+1) -> 1530000 | P89: 540000 | R89: 0 | S89: 0 | T89: 0 | V89: 0 | W89: 자재 70
A90: 5AED96AB8AA2A613B6F233C1B7FAE2FD867562 | B90: 비즈니스좌석 | C90: 코쿤타입 / 실물 | D90: 조 | E90: 0 | G90: 0 | I90: 0 | K90: 0 | M90: 4760000 | O90: =SMALL(E90:M90,COUNTIF(E90:M90,0)+1) -> 4760000 | P90: 248000 | R90: 0 | S90: 0 | T90: 0 | V90: 0 | W90: 자재 71
B91: 이코노미좌석 | C91: 3인석 / 실물 | D91: 조 | M91: 2940000 | O91: =SMALL(E91:M91,COUNTIF(E91:M91,0)+1) -> 2940000 | P91: 280000 | U91: 180000 | W91: 자재 72
B92: 승무원 좌석 (점프시트) | C92: 1인석 , 바닥형 / 실물 | D92: 조 | M92: 3480000 | O92: =SMALL(E92:M92,COUNTIF(E92:M92,0)+1) -> 3480000 | P92: 248000 | W92: 자재 73
B93: 갤리 | C93: 1670*2040 / 실물 | D93: SET | M93: 10260000 | O93: =SMALL(E93:M93,COUNTIF(E93:M93,0)+1) -> 10260000 | P93: 810000 | W93: 자재 74
B94: 화장실 | C94: 980*2040 / 실물 | D94: SET | M94: 5208000 | O94: =SMALL(E94:M94,COUNTIF(E94:M94,0)+1) -> 5208000 | P94: 744000 | W94: 자재 75
B95: 오버해드빈 | C95: 1050*1450 / 실물 (PUS포함) | D95: SET | M95: =942400 -> 942400 | O95: =SMALL(E95:M95,COUNTIF(E95:M95,0)+1) -> 942400 | P95: 223200 | U95: 140000 | W95: 자재 76
B96: 사이드월 | C96: 1050*1640 / 제작 | D96: SET | M96: 496000 | O96: =SMALL(E96:M96,COUNTIF(E96:M96,0)+1) -> 496000 | P96: 223200 | W96: 자재 77
A97: 5AED96AB8AA2A613B6F233C1B7FAE2FD867295 | B97: 커튼 | C97: 방염,800*2100 지정색 | D97: 개소 | E97: 0 | G97: 0 | I97: 0 | K97: 0 | M97: 150000 | O97: =SMALL(E97:M97,COUNTIF(E97:M97,0)+1) -> 150000 | P97: 80000 | Q97: 0 | R97: 0 | S97: 0 | T97: 0 | U97: 0 | V97: 0 | W97: 자재 78
A98: 5AED96AB8AA2A613B6F233C1B7FAE2FD867563 | B98: 인테리어 필름 | C98: 방염 | D98: M2 | E98: 41000 | F98: 633 | G98: 0 | I98: 41000 | J98: 413 | K98: 0 | M98: =E98 -> 41000 | O98: =SMALL(E98:M98,COUNTIF(E98:M98,0)+1) -> 41000 | P98: 0 | Q98: 0 | R98: 0 | S98: 0 | T98: 0 | U98: 0 | V98: 0 | W98: 자재 79
A100: 5AED96AB8AA2A613B6F233C1B7FAE2FD867291 | B100: SHEET LOGO MARK | C100: 4800*400mm, 지정색 | D100: 식 | E100: 0 | G100: 0 | I100: 0 | K100: 0 | M100: 120000 | O100: =SMALL(E100:M100,COUNTIF(E100:M100,0)+1) -> 120000 | P100: 86000 | Q100: 0 | R100: 0 | S100: 0 | T100: 0 | U100: 0 | V100: 0 | W100: 자재 80
A101: 5AED96AB8AA2A613B6F233C1B7FAE2FD867291 | B101: EMERGENCY Follow line | C101: 야광라인 | D101: M | E101: 0 | G101: 0 | I101: 0 | K101: 0 | M101: 5000 | O101: =SMALL(E101:M101,COUNTIF(E101:M101,0)+1) -> 5000 | P101: 15000 | Q101: 0 | R101: 0 | S101: 0 | T101: 0 | U101: 0 | V101: 0 | W101: 자재 83
A102: 5AED96AB8AA2A613B6F233C1B7FAE2FD8673BD | B102: 동체실사그래픽 | C102: 지정디자인 | D102: M2 | E102: 0 | G102: 0 | I102: 0 | K102: 0 | M102: 45000 | O102: =SMALL(E102:M102,COUNTIF(E102:M102,0)+1) -> 45000 | P102: 58000 | Q102: 0 | R102: 0 | S102: 0 | T102: 0 | U102: 0 | V102: 0 | W102: 자재 84
A103: 5AED96AB8AA2A613B6F233C1B7FAE2FD8673BD | B103: 데칼스티커 | C103: 항공기 데칼 | D103: set | E103: 0 | G103: 0 | I103: 0 | K103: 0 | M103: 300000 | O103: =SMALL(E103:M103,COUNTIF(E103:M103,0)+1) -> 300000 | Q103: 0 | R103: 0 | S103: 0 | T103: 0 | U103: 0 | V103: 0 | W103: 자재 85
...

Sheet 수량산출서
B1: 수 량 산 출 서
B2: 구분 | C2: 품 명 | D2: 규 격(실 명) | E2: 도면번호 | F2: 단위 | G2: 산 출 내 역 | H2: 수량
B3: ○ | C3: =갑지!D6 -> 강원도립대학교 RISE사업 현장기반형 산학연계 교육환경개선 공사 (호텔관광과)
C4: 전체면적 | H4: =H6 -> 0
B6: A | C6: 바닥수량산출 | D6: 전체면적(공사범위)
C7: 01. 전체바닥면적 | F7: M2 | H7: =SUM(H8:H9) -> 137.43
C8: 0101 복도 | F8: =F7 -> M2 | G8: (17.25*3)+(7.2*3) | H8: =(17.25*3)+(7.2*3) -> 73.35
C9: 0102 항공실습실 | F9: =F8 -> M2 | G9: (7.2*8.9) | H9: =(7.2*8.9) -> 64.08
C11: 0101. 가 설 공 사
B12: 1 | C12: 먹매김(마무리용) | D12: 전체면적 | F12: M2 | G12: (7.2*8.9) | H12: =(7.2*8.9) -> 64.08
B13: 2 | C13: 보양 | D13: 플러베이어외 | F13: M2 | G13: (17.25*3)+(7.2*3)+(7.2*8.9) | H13: =(17.25*3)+(7.2*3)+(7.2*8.9)+15 -> 152.43
B14: 4 | C14: 자재소운반 | D14: 3층, 인력 | F14: M2 | G14: (17.25*3)+(7.2*3)+(7.2*8.9) | H14: =H13 -> 152.43
B15: 5 | C15: 현장정리 | D15: 2개월기준 | F15: M2 | G15: (7.2*8.9) | H15: =(7.2*8.9) -> 64.08
B16: 6 | C16: 준공청소 | D16: 1회기준 | F16: M2 | G16: (17.25*3)+(7.2*3)+(7.2*8.9) | H16: =(17.25*3)+(7.2*3)+(7.2*8.9) -> 137.43
B17: 7 | C17: 폐기물운반및처리 | H17: =SUM(H18:H19) -> 4.4
D18: (혼합폐기물) | F18: ton | G18: 2 | H18: =G18 -> 2
D19: (혼합폐기물) | F19: ton | G19: 2.4 | H19: =G19 -> 2.4
B20: 1
C21: 0102. 철거공사(폐기물)
B22: 1 | C22: 이코노미 의자탈거및 이동설치 | D22: 해체재 재사용 | F22: SET | G22: 13 | H22: 13
C23: 사이드월탈거및 이동설치 | D23: 해체재 재사용 | F23: SET | G23: 5 | H23: 5
C24: 교실벽체철거 | D24: 해체재 재사용 안 함 | F24: M2 | G24: 8.9*2.4*1.2 | H24: =8.9*2.4*1.2 -> 25.632
C25: 복도벽철거 | D25: 해체재 재사용 안 함 | F25: M2 | G25: 7.2*2.7*1.2 | H25: =7.2*2.7*1.2 -> 23.328
C26: 천정 등박스 철거 | D26: 해체재 재사용 안 함 | F26: M2 | G26: 3.6*4.5*1.2 | H26: =3.6*4.5*1.2 -> 19.44
C27: 건설폐기물 운반및 처리 | D27: 혼합폐기물 / 가연성+불연성 | F27: TON | G27: 2.5 | H27: 2.5
C29: 0103. 에어컨이설
B30: 1 | C30: 실내기 이전 | D30: 천장형 4way | F30: 대 | G30: 1 | H30: 1
C32: 0104. 베선및 등기구교체
B33: 1 | C33: 항공실습실 배선,배관 | D33: 2.5mm / SF배관 | F33: M2 | G33: (7.2*8.9) | H33: =(7.2*8.9) -> 64.08
C34: 4인치 매입등 | D34: LED 주백색 | F34: EA | G34: 23 | H34: 23
C35: 6인치 매입등 | D35: LED 주백색 | F35: EA | G35: 10 | H35: 10
C36: T5 간접등 - 1200 | D36: LED 주백색 | F36: EA | G36: 5 | H36: 5
C37: 스위치설치 | D37: 1구,2구,6구 | F37: EA | G37: 4 | H37: 4
C38: 콘센트설치 | D38: 2구 | F38: EA | G38: 4 | H38: 4
B39: 3 | C39: 빔프로젝트, 전동스크린 이설 | D39: 기존제품 사용 | F39: 개소 | G39: 2 | H39: 2
C41: 02. 항공실습실
C42: 0201. 목공사및 수장공사
C43: 동체 벽체조성 | D43: MDF 18T CNC + MDF 6T 2P | F43: =공종별내역서!C127 -> M2 | G43: (1.7+0.9)*2.7 | H43: =(1.7+0.9)*2.7 -> 7.02
C44: 갤리벽체 조성 | D44: 각재+석고9.5T 2P*양면 | F44: =공종별내역서!C128 -> M2 | G44: 8.9*2.7*2 | H44: =8.9*2.7*2 -> 48.06
C45: 내수합판 설치(반자틀보강대) | D45: 5T | F45: =공종별내역서!C129 -> M2 | G45: (0.45*7.2)*3 | H45: =(0.45*7.2)*3 -> 9.72
C46: 천정 반자틀 설치(기내실습실) | D46: 천정, ㅁ-30*30@300, 외송각재 | F46: =공종별내역서!C130 -> M2 | G46: (0.45*7.2)*3 | H46: =(0.45*7.2)*3 -> 9.72
B47: 2 | C47: 천정 반자틀 보강대(기내실습실) | D47: ㅁ-30*30@600 외송각재 | F47: =공종별내역서!C131 -> M2 | G47: ((0.45*7.2)*3)/2 | H47: =(0.45*7.2)*3/2 -> 4.86
C48: 석고판 설치 | D48: 천장, 일반9.5t*2겹 (자재포함) | F48: =공종별내역서!C132 -> M2 | G48: 7.2*2.4 | H48: =7.2*2.4 -> 17.28
C49: 인테리어 필름 | D49: 벽체(방염) | F49: =공종별내역서!C133 -> M2 | G49: 7.2*2.4 | H49: =7.2*2.4 -> 17.28
C50: 비닐타일 깔기 | D50: 비닐타일, 3*600*600mm, 데코타일 | F50: =공종별내역서!C134 -> M2 | G50: (7.2*8.9) | H50: =(7.2*8.9) -> 64.08
C51: 컬러유리설치 | F51: =공종별내역서!C135 -> M2 | G51: 7.2*2.4/2 | H51: =7.2*2.4/2 -> 8.64
C53: =공종별내역서!A151 -> 010107 칠 공 사
C54: =공종별내역서!A152 -> 바탕만들기+비닐페인트 롤러칠(오염방지,반광) | D54: =공종별내역서!B152 -> 내부천장, 2회, G.B.면 올퍼티, 친환경(진품) | F54: =공종별내역서!C152 -> M2 | G54: (7.2*8.9) | H54: =(7.2*8.9)*1.2 -> 76.896
C55: =공종별내역서!A153 -> 바탕만들기+수성페인트 롤러칠(오염방지,반광) | D55: =공종별내역서!B153 -> 내부, 2회, G.B.면 올퍼티, 친환경(진품) | F55: =공종별내역서!C153 -> M2 | G55: 8.9*2.4*1.2 | H55: =8.9*2.4+1.2 -> 22.56
C56: =공종별내역서!A154 -> 바탕만들기 (석고보드면) | D56: =공종별내역서!B154 -> 벽체면 올퍼티 2회 | F56: =공종별내역서!C154 -> M2 | G56: 8.9*2.4*1.2 | H56: =8.9*2.4+1.2 -> 22.56
C57: =공종별내역서!A155 -> 락카페인트(내벽) | D57: =공종별내역서!B155 -> 금속 및 목재면 4회 | F57: =공종별내역서!C155 -> M2 | G57: ((1.7+0.9)*2.7)*2+8.9*2.4*1.2 | H57: =((1.7+0.9)*2.7)*2+8.9*2.4*1.2 -> 39.672
C59: =공종별내역서!A177 -> 010108 항공기물 제작및 설치
C60: =공종별내역서!A178 -> 더미도어 제작설치 | D60: A320 | F60: SET | G60: 1 | H60: 1
C61: =공종별내역서!A179 -> 비즈니스좌석 | D61: =공종별내역서!B179 -> 코쿤타입 / 실물 | F61: 조 | G61: 1 | H61: 1
C62: =공종별내역서!A180 -> 이코노미좌석 | D62: =공종별내역서!B180 -> 2인석 / 이동설치 | F62: 조 | G62: 12 | H62: 12
C63: =공종별내역서!A181 -> 승무원 좌석 (점프시트) | D63: =공종별내역서!B181 -> 1인석 , 바닥형 / 실물 | F63: 조 | G63: 2 | H63: 2
C64: =공종별내역서!A182 -> 오버해드빈 | D64: =공종별내역서!B182 -> 1050*1450 / (PSU포함)작동 | F64: SET | G64: 4 | H64: 4
C65: 항공실습실 PA 시스템 | D65: 승무원 통화, 방송시스템,FAP더미 | F65: SET | G65: 2 | H65: 2
C66: 항공실습실 산소마스크 드랍장치 | D66: 산소마스크 드랍시스템 | F66: SET | G66: 2 | H66: 2
C68: =공종별내역서!A203 -> 010109 싸 인 공 사
C69: =공종별내역서!A204 -> LOGO MARK | D69: =공종별내역서!B204 -> 600*600mm, 학교로고 | F69: =공종별내역서!C204 -> 식 | G69: 1 | H69: 1
C70: =공종별내역서!A205 -> EMERGENCY Follow line | D70: =공종별내역서!B205 -> 야광라인 | F70: =공종별내역서!C205 -> M | G70: 17 | H70: 17
C71: =공종별내역서!A206 -> 동체실사그래픽 | D71: =공종별내역서!B206 -> 지정디자인 | F71: =공종별내역서!C206 -> M2 | G71: (1.7+0.8)*1.5 | H71: =(1.7+0.8)*1.5 -> 3.75
C72: =공종별내역서!A207 -> 데칼스티커 | D72: =공종별내역서!B207 -> 항공기 데칼 | F72: =공종별내역서!C207 -> 식 | G72: 1 | H72: 1
C73: =공종별내역서!A208 -> 좌석표시 | D73: =공종별내역서!B208 -> 항공기 좌석표시 | F73: =공종별내역서!C208 -> SET | G73: 1 | H73: 1
C74: =공종별내역서!A209 -> 구름이미지 | D74: =공종별내역서!B209 -> 지정 이미지 | F74: =공종별내역서!C209 -> SET | G74: 10 | H74: 10
C76: =공종별내역서!A228 -> 010110 기타공사
C77: =공종별내역서!A229 -> 비즈니스의자 커버제작 | D77: =공종별내역서!B229 -> 지정디자인 | F77: 야드 | G77: 2*5 | H77: 10
C78: =공종별내역서!A230 -> 이코노미의자 커버제작 | D78: =공종별내역서!B230 -> 지정디자인 | F78: 야드 | G78: 24*4 | H78: =24*4 -> 96
C79: =공종별내역서!A231 -> 점프시트 커버제작 | D79: =공종별내역서!B231 -> 지정디자인 | F79: 야드 | G79: 2*4 | H79: 8
C80: =공종별내역서!A232 -> 헤드레스트 제작 (학교로고) | D80: =공종별내역서!B232 -> 지정디자인 | F80: SET | G80: 24+2 | H80: 26

Sheet 안전관리비세부내역
B1: 건설기술진흥법에 따른 안전관리비 세부내역
B5: ① 공사장 주변의 통행안전관리대책 비용 | J5: =SUM(J12+J6) -> 568926
B6: PE안전휀스 1.5×0.9 | D6: 58 | E6: m | F6: * | G6: ='[2]3.PE휀스단가산출(참고)'!CX33 -> 4449 | H6: 원 | I6: = | J6: =INT(D6*G6) -> 258042 | K6: 원
B7: 단수정리 | C7: 천원단위 절상 | J7: =10000-RIGHT((SUM(J6)),4) -> 1958 | K7: 원
I8: 합계 | J8: =J7+J6 -> 260000 | K8: 원
B9: ※ 소규모 사업으로 공사장 내 출입 등을 고려하여 PE휀스로 안전통로를 설치하는 기준으로 산정
B10: ※ 공사 현장 여건을 감안하여 조정 적용
B12: ※ 건설기술자 노임단가(고급) | D12: 310884 | E12: 원 | J12: =D12 -> 310884
B13: ② 안전관리계획의 작성 및 검토 비용 | J13: =J21+J24 -> 3650000 | K13: 원
B14: 안전관리계획서 작성비
B15: 직접인건비 | D15: =D12 -> 310884 | E15: 원 | F15: * | G15: 3 | H15: 일 | I15: = | J15: =INT(D15*G15) -> 932652 | K15: 원
B16: 직접경비 | C16: 인쇄비(800page기준) | D16: =80*800 -> 64000 | E16: 원 | F16: * | G16: 3 | H16: 부 | I16: = | J16: =INT(D16*G16) -> 192000 | K16: 원
C17: 제본비 | D17: 3 | E17: 부 | F17: * | G17: 20000 | H17: 원 | I17: = | J17: =INT(D17*G17) -> 60000 | K17: 원
B18: 제경비 | C18: 직접인건비의 110%~120% | D18: =J15 -> 932652 | E18: 원 | F18: * | G18: 1.1 | I18: = | J18: =INT(D18*G18) -> 1025917 | K18: 원
B19: 기술료 | C19: (직접인건비+제경비)의 20%~40% | D19: =J18+J15 -> 1958569 | E19: 원 | F19: * | G19: 0.2 | I19: = | J19: =INT(D19*G19) -> 391713 | K19: 원
B20: 단수정리 | C20: 천원단위 절사 | J20: =-RIGHT((SUM(J15:J19)),4) -> -2282 | K20: 원
G21: (회당) | I21: 합계 | J21: =SUM(J15:J20) -> 2600000 | K21: 원
B23: 안전관리계획서 검토비
B24: 검토비 | C24: 300억미만 | D24: 1050000 | E24: 원 | F24: * | G24: 1 | H24: 회 | I24: = | J24: =D24*G24 -> 1050000 | K24: 원
B26: ③ 안전점검 비용 | J26: =J34 -> 2550000 | K26: 원
B27: 정기안전점검비
B28: 직접인건비 | D28: =D12 -> 310884 | E28: 원 | F28: * | G28: 3 | H28: 인 | I28: = | J28: =INT(D28*G28) -> 932652 | K28: 원 | L28: 외업2인,내업1인
B29: 제경비 | C29: 직접인건비의 110%~120% | D29: =J28 -> 932652 | E29: 원 | F29: * | G29: 1.1 | I29: = | J29: =INT(D29*G29) -> 1025917 | K29: 원
B30: 기술료 | C30: (직접인건비+제경비)의 20%~40% | D30: =J29+J28 -> 1958569 | E30: 원 | F30: * | G30: 0.2 | I30: = | J30: =INT(D30*G30) -> 391713 | K30: 원
B31: 직접경비 | C31: 여비 | D31: 2 | E31: 인 | F31: * | G31: 50000 | H31: 원/일 | I31: = | J31: =INT(D31*G31) -> 100000 | K31: 원
C32: 인쇄비 | D32: 100000 | E32: 원 | F32: * | G32: 1 | H32: 식 | I32: = | J32: =INT(D32*G32) -> 100000 | K32: 원
B33: 단수정리 | C33: 천원단위 절사 | J33: =-RIGHT((SUM(J28:J32)),4) -> -282 | K33: 원
G34: (회당) | I34: 합계 | J34: =SUM(J28:J33) -> 2550000 | K34: 원
B36: ④ 가설구조물의 구조적 안전성 확인에 필요한 비용 | J36: =J42 -> 2350000 | K36: 원
B37: 가설구조물의 구조적 안전성 확인
B38: 직접인건비 | D38: =D12 -> 310884 | E38: 원 | F38: * | G38: 3 | H38: 인 | I38: = | J38: =INT(D38*G38) -> 932652 | K38: 원 | L38: 상세도 작성 및 구조계산 기준
B39: 제경비 | C39: 직접인건비의 110%~120% | D39: =J38 -> 932652 | E39: 원 | F39: * | G39: 1.1 | I39: = | J39: =INT(D39*G39) -> 1025917 | K39: 원
B40: 기술료 | C40: (직접인건비+제경비)의 20%~40% | D40: =J39+J38 -> 1958569 | E40: 원 | F40: * | G40: 0.2 | I40: = | J40: =INT(D40*G40) -> 391713 | K40: 원
B41: 단수정리 | C41: 천원단위 절사 | J41: =-RIGHT((SUM(J38:J40)),4) -> -282 | K41: 원
G42: (회당) | I42: 합계 | J42: =SUM(J38:J41) -> 2350000 | K42: 원
B43: ※ 건설기술진흥법시행령 제100조에 따른 『타워크레인』에 대한 안전점검은 국토교통부령으로 정하는 자격요건을 갖춘 사람으로 하여금 책임기술인의 감독하에 안전점검을 실시해야 함. 따라서 이에대한 추가 비용산정을 고려

Sheet PE휀스자재
B1: 단가산출
B3: 산 출 근 거 | C3: 합 계 | D3: 재료비 | E3: 노무비 | F3: 경 비 | CX3: 합 계 | CY3: 재료비 | CZ3: 노무비 | DA3: 경 비
B4: 1.PE안전휀스(1.5×0.9) [M] | CX4: =CX33 -> 4449 | CY4: =CY33 -> 711 | CZ4: =CZ33 -> 2,973 | DA4: =DA33 -> 765
D6: 1. | G6: 자재대 | N6: : | P6: 15 | R6: 회
G8: PE안전휀스 | T8: (1.5*0.9*0.41) | AK8: 16000 | AT8: ÷ | AW8: =TEXT(15,"#,##0.#######") -> 15. | AY8: 회 | BB8: ÷ | BE8: =TEXT(1.5,"#,##0.#######") -> 1.5 | BH8: m | BJ8: = | BL8: =TEXT(TRUNC(AK8/AW8/BE8,1),"#,##0.#") -> 711.1 | CX8: =CZ8+CY8+DA8 -> 711.1 | CY8: =BL8 -> 711.1 | DB8: 물가자료(26.01.)167p
G10: 윙카등 | O10: (GS-575) | Z10: 1500 | AH10: × | AL10: m | AN10: = | AP10: =TEXT(TRUNC(Z10*AK10,1),"#,##0.#") -> 0. | CX10: =CZ10+CY10+DA10 -> 0 | CY10: =AP10 -> 0. | DB10: 물가자료(25.05.)165p
D12: 2. | G12: 설치및 | N12: 해체 | S12: : | U12: 2 | V12: 인 | Y12: 100 | AB12: 개
G14: 보통인부 | R14: : | T14: 172068 | AD14: × | AG14: =TEXT(0.02,"#,##0.#######") -> 0.02 | AK14: 인 | AN14: ÷ | AQ14: =TEXT(1.5,"#,##0.#######") -> 1.5 | AT14: m | AV14: = | AX14: =TEXT(TRUNC(T14*AG14/AQ14,1),"#,##0.#") -> 2,294.2 | CX14: =CZ14+CY14+DA14 -> 2294.2 | CZ14: =AX14 -> 2,294.2
D16: 3. | G16: 운 | K16: 반
E18: 가 | G18: . | I18: 적재및 | P18: 적하 | U18: : | W18: 2.5 | Z18: Ton | AD18: 통운요율적용 | AQ18: 30 | AS18: 개 | AV18: 적재기준
G20: 보통인부 | P20: 4 | Q20: 인 | T20: ( | U20: 지상 | Y20: 2 | Z20: 인 | AC20: 차상 | AG20: 2 | AH20: 인 | AJ20: ) | AL20: : | AN20: 20 | AP20: 분 | AR20: ( | AS20: 적재 | AW20: 10 | AY20: 분 | BA20: , | BC20: 적하 | BG20: 10 | BI20: 분 | BK20: )
G22: 보통인부 | R22: : | T22: =T14 -> 172068 | AD22: × | AG22: =TEXT(4,"#,##0.#######") -> 4. | AH22: 인 | AK22: × | AN22: =TEXT(20,"#,##0.#######") -> 20. | AQ22: ÷ | AT22: =TEXT(450,"#,##0.#######") -> 450. | AX22: ÷ | BA22: =TEXT(30,"#,##0.#######") -> 30. | BC22: 개 | BF22: ÷ | BI22: =TEXT(1.5,"#,##0.#######") -> 1.5 | BL22: m | BN22: = | BP22: =TEXT(TRUNC(T22*AG22*AN22/AT22/BA22/BI22,1),"#,##0.#") -> 679.7 | CX22: =CZ22+CY22+DA22 -> 679.7 | CZ22: =BP22 -> 679.7
E24: 나 | G24: . | I24: 운반 | M24: ( | N24: 구역화물 | W24: 2.5 | Z24: Ton | AD24: 적용 | AH24: )
G26: 구역화물 | Q26: (2.5톤,10km) | AF26: 34440 | AO26: ÷ | AR26: =TEXT(30,"#,##0.#######") -> 30. | AU26: ÷ | AX26: =TEXT(1.5,"#,##0.#######") -> 1.5 | BA26: m | BC26: = | BE26: =TEXT(TRUNC(AF26/AR26/AX26,1),"#,##0.#") -> 765.3 | CX26: =CZ26+CY26+DA26 -> 765.3 | DA26: =BE26 -> 765.3 | DB26: 물가정보 부189(06.1) | DD26: =45.9*10*2.5 -> 1147.5
DB27: 98年고시단가(경비)
D28: 4. | G28: 합 | K28: 계
H30: 노무비 | O30: : | Q30: =TEXT(CZ14,"#,###.##") -> 2,294.2 | Y30: + | AA30: =TEXT(CZ22,"#,###.##") -> 679.7 | AG30: = | AJ30: =TEXT(TRUNC(CZ14+CZ22,0),"#,##0") -> 2,973
H31: 재료비 | O31: : | Q31: =TEXT(CY8,"#,###.##") -> 711.1 | W31: + | Y31: =TEXT(CY10,"#,###.##") -> . | AE31: = | AH31: =TEXT(TRUNC(CY8+CY10,0),"#,##0") -> 711
H32: 경 | L32: 비 | O32: : | Q32: =TEXT(TRUNC(DA26,0),"#,##0") -> 765
J33: 계 | O33: : | R33: =TEXT(AJ30+AH31+Q32,"#,##0") -> 4,449 | CX33: =CZ33+CY33+DA33 -> 4449 | CY33: =TEXT(AH31,"#,##0") -> 711 | CZ33: =TEXT(AJ30,"#,##0") -> 2,973 | DA33: =TEXT(Q32,"#,##0") -> 765

Sheet  공사설정 
A1: 이 Sheet는 수정하지 마십시요
A2: 공사구분 | B2: A | C2: 타이틀
A3: 확정내역 | B3: 원내역
A4: 자재단가적용 | B4: 5
A5: 경비단가적용 | B5: 5
A6: 품목코드형식 | B6: XXXX-XXXXXXXXXXXXX
A7: 내역금액소수점처리 | B7: C | C7: T
A8: 일위대가내역소수점처리 | B8: C | C8: 2
A9: 단가명 | B9: 조달청가격 | C9: 거래가격 | D9: 유통물가 | E9: 조사가격1 | F9: 조사가격2 | G9: TTTTT
A10: 환율 | B10: 1289 | C10: 0 | D10: 0
A11: 시간당작업량 | B11: R | C11: 4
A12: 1회 사이클시간 | B12: R | C12: 4
A13: 시간당 작업사이클 | B13: R | C13: 3
A14: 일반변수 | B14: R | C14: 5
A15: 시간당 노임산출 계수 | B15: A | C15: 1/8*16/12*25/20 | D15: 1/8*16/12*25/20 | E15: 1/8*16/12*25/20 | F15: 1
A16: 재료비 할증 계수 | B16: 0 | C16: 0
A17: 노무비 할증 계수 | B17: 0 | C17: 0 | D17: 0 | E17: 0 | F17: 0 | G17: 0 | H17: 0 | I17: 0 | J17: 0 | K17: 0 | L17: 0 | M17: 0
A18: 경비 할증 계수 | B18: 0 | C18: 0
A19: 내역,일위대가 품명,규격,단위 따로적용
A20: 내역단가 소수점처리 | C20: 1
A21: 코드 | B21: 공종구분명 | C21: 원가비목코드
A22: 1 | B22: 작 업 부 산 물 | C22: A3
A23: 2 | B23: 운 반 비 | C23: C1
A24: 3 | B24: 관 급 자 재 비 | C24: DJ
A25: 4 | B25: 사 급 자 재 비 | C25: D3
A26: 5 | B26: 외 자 재
A27: 6 | B27: ...
A28: 7 | B28: ...
A29: 8 | B29: ...
A30: 9 | B30: ...
A31: A | B31: ....
A32: B | B32: .....
A33: C | B33: ....
A34: D | B34: ....
A35: E | B35: ....
A36: F | B36: ....
A37: G | B37: ....
A38: H | B38: ....
A39: I | B39: ....
A40: J | B40: ....
A43: 단가 순서 | B43: 1234

Sheet Sheet1
