Workbook
Name __?Crite: #REF!
Name __?Criteria: #REF!
Name ______________PB1: #REF!
Name _____________DOG1: #REF!
Name _____________DOG2: #REF!
Name _____________DOG22: #REF!
Name _____________DOG3: #REF!
Name _____________DOG33: #REF!
Name _____________DOG4: #REF!
Name _____________IL1: #REF!
Name _____________PB1: #REF!
Name _____________PI48: #REF!
Name _____________PI60: #REF!
Name _____________RO110: #REF!
Name _____________RO22: #REF!
Name _____________RO35: #REF!
Name _____________RO45: #REF!
Name _____________RO60: #REF!
Name _____________RO80: #REF!
Name _____________TON1: #REF!
Name _____________TON2: #REF!
Name _____________WW2: #REF!
Name _____________WW3: #REF!
Name _____________WW6: #REF!
Name _____________WW7: #REF!
Name _____________WW8: #REF!
Name ____________DOG1: #REF!
Name ____________DOG2: #REF!
Name ____________DOG22: #REF!
Name ____________DOG3: #REF!
Name ____________DOG33: #REF!
Name ____________DOG4: #REF!
Name ____________IL1: #REF!
Name ____________PB1: #REF!
Name ____________PI48: #REF!
Name ____________PI60: #REF!
Name ____________RO110: #REF!
Name ____________RO22: #REF!
Name ____________RO35: #REF!
Name ____________RO45: #REF!
Name ____________RO60: #REF!
Name ____________RO80: #REF!
Name ____________TON1: #REF!
Name ____________TON2: #REF!
Name ____________WW2: #REF!
Name ____________WW3: #REF!
Name ____________WW6: #REF!
Name ____________WW7: #REF!
Name ____________WW8: #REF!
Name ___________DOG1: #REF!
Name ___________DOG2: #REF!
Name ___________DOG22: #REF!
Name ___________DOG3: #REF!
Name ___________DOG33: #REF!
Name ___________DOG4: #REF!
Name ___________IL1: #REF!
Name ___________PB1: #REF!
Name ___________PI48: #REF!
Name ___________PI60: #REF!
Name ___________RO110: #REF!

Sheet 집계표
B2: 과 장 | H2: 팀 장 | N2: 주무관 | T2: 설계자 | Z2: 2025년 07월 일 설계
B3: 2025년도
C5: 사업명 : | G5: 가압펌프(설비) AI기반 예방진단 모니터링 시스템 구축 | Y5: 설계내역서
C7: 구 분 | F7: 금 액 | AA7: 비 고
C8: 총 사 업 비 | F8: =U8 -> #REF! | U8: =INT(U11) -> #REF!
C9: 관 | D9: 공 급 가 액 | F9: =U9 -> #REF! | U9: =INT(#REF!+원가계산서!E27) -> #REF! | AA9: 제조원가+설치원가
C10: 급 | D10: 부가가치세 | F10: =U10 -> #REF! | U10: =INT(#REF!+원가계산서!E28) -> #REF!
C11: 비 | D11: 소계(품대) | F11: =U11 -> #REF! | U11: =U10+U9 -> #REF!

Sheet 갑지 
B2: 과 장 | H2: 팀 장 | N2: 심사자 | T2: 설계자 | Z2: 2026년 8월
B4: 2026년
C5: 사업명 : | G5: 상수도 가압장 안전 보안 시스템구축 사업[계측제어]
C6: 구 분 | H6: 금 액 | AA6: 비 고
C7: 총 사 업 비 | H7: =U7 -> 54516000 | U7: =U11 -> 54516000
C8: 관 | D8: 총 액 | H8: =U8 -> 54516000 | U8: =U11 -> 54516000
D9: 공 급 가 액 | H9: =U9 -> 49560000 | U9: =원가계산서!E27 -> 49560000
C10: 급 | D10: 부가가치세 | H10: =U10 -> 4956000 | U10: =원가계산서!E28 -> 4956000
D11: 소 계(품대) | H11: =U11 -> 54516000 | U11: =U10+U9 -> 54516000

Sheet 원가계산서
B2: [설치원가계산서]
B3: 사업명 : 상수도 가압장 안전 보완 시스템구축 사업 | J3: (단위:원)
B4: 비 목 | E4: 금 액 | G4: 요 율 | H4: 2025.04.01 원가계산제비율(토목_조경_산업환경설비) 적용
B5: 1. 순 공사원가 | E5: =INT(SUM(E6,E7,E10)) -> 42213927
B6: 가. 재료비 | E6: =총괄표!F11 -> 29164503
B7: 나. 노무비 | E7: =SUM(E8:F9) -> 9052323.9
B8: 나-1 직접노무비 | E8: =총괄표!H11 -> 7600607.9
B9: 나-2 간접노무비 | E9: =INT(E8*G9) -> 1451716 | G9: 0.191 | H9: (나-1)*요율
B10: 다. 경비 | E10: =SUM(E11:F20) -> 3997101
B11: 다-1 산재보험료 | E11: =INT(E7*G11) -> 322262 | G11: 0.0356 | H11: (나)*요율
B12: 다-2 고용보험료 | E12: =INT(E7*G12) -> 91428 | G12: 0.0101 | H12: (나)*요율
B13: 다-3 연금보험료 | E13: =INT(E8*G13) -> 273241 | G13: 0.03595 | H13: (나-1)*요율
B14: 다-4 건강보험료 | E14: =INT(E8*G14) -> 361028 | G14: 0.0475 | H14: (나-1)*요율
B15: 다-5 노인장기보험료 | E15: =INT(E14*G15) -> 47439 | G15: 0.1314 | H15: (다-4)*요율
B16: 다-6 퇴직공제부금비 | E16: =INT(E8*G16) -> 0 | H16: (나-1)*요율 추정금액 1억원 이상 건설공사 | K16: 0.023
B17: 다-7 산업안전보건관리비 | E17: =INT((E6+E7)*G17) -> 791088 | G17: 0.0207 | H17: (가+나)*요율
B18: 다-8 석면분담금 | E18: =INT(E7*G18) -> 543 | G18: 6e-05 | H18: (나)*요율
B19: 다-9 임금채권부담금 | E19: =INT(E7*G19) -> 8147 | G19: 0.0009 | H19: (나)*요율
B20: 다-10 기타경비 | E20: =INT((E6+E7)*G20) -> 2101925 | G20: 0.055 | H20: [1의 (가)+(나)]*요율
B21: 2. 일반관리비 | E21: =INT(E5*G21) -> 3377114 | G21: 0.08 | H21: [1]*요율
B22: 3. 이 윤 | E22: =INT(((E7+E10)+E21)*G22)-667 -> 2463313 | G22: 0.15 | H22: [1의 (나)+(다)+2]*요율
B23: 4. 총 원 가 | E23: =SUM(E5,E21,E22)-2085 -> 48052269 | H23: [1+2+3]
B24: 5. S/W FEE | E24: ='S W FEE'!F20 -> 909100
B25: 6. 시운전 및 교육비 | E25: ='시운전 및 교육비'!F14 -> 598631
B26: 7. 공사손해보험료
B27: 8. 소 계 | E27: =SUM(E23:F26) -> 49560000 | H27: [4+5]
B28: 8. 부가가치세 | E28: =E27*10% -> 4956000 | H28: [6]의*10%
B29: 10. 총 계 | E29: =SUM(E27:F28) -> 54516000

Sheet 총괄표
B2: [설치총괄표]
B3: =원가계산서!B3 -> 사업명 : 상수도 가압장 안전 보완 시스템구축 사업 | I3: (금액단위:원)
B4: 공 종 명 | C4: 수량 | D4: 단위 | E4: 재 료 비 | G4: 노 무 비 | I4: 합 계
E5: 단 가 | F5: 금 액 | G5: 단 가 | H5: 금 액
B6: 상수도 가압장 안전 보안 시스템구축 사업[계측제어] | C6: 1 | D6: 식 | F6: =내역서!G10 -> 29164503 | H6: =내역서!I10 -> 7600607.9 | I6: =SUM(F6,H6) -> 36765111
B11: 공종 합계 | F11: =SUM(F6:F10) -> 29164503 | H11: =SUM(H6:H10) -> 7600607.9 | I11: =F11+H11 -> 36765111 | XFB11: =SUM(F11:XFA11) -> 73530221

Sheet 내역서
B2: [설치명세서]
B3: =총괄표!B3 -> 사업명 : 상수도 가압장 안전 보완 시스템구축 사업 | J3: (금액단위:원)
B4: 품 명 | C4: 규 격 | D4: 수량 | E4: 단위 | F4: 재 료 비 | H4: 노 무 비 | J4: 합 계
F5: 단 가 | G5: 금 액 | H5: 단 가 | I5: 금 액
B6: =B12 -> 1. 현장제어반 공종 현황 | D6: 3 | E6: 식 | F6: =G12 -> 1149000 | G6: =D6*F6 -> 3447000 | H6: =I12 -> 1269237.1 | I6: =D6*H6 -> 3807711.4 | J6: =SUM(I6,G6) -> 7254711.4
B7: =B31 -> 2. 기존 TM/TC제어반 터치PC 공종 현황 | D7: 3 | E7: 식 | F7: =G31 -> 4780000 | G7: =D7*F7 -> 14340000 | H7: =I31 -> 358170.08 | I7: =D7*H7 -> 1074510.2 | J7: =SUM(I7,G7) -> 15414510
B8: =B39 -> 3. 카메라 및 금속기동 공종 현황 | D8: 3 | E8: 식 | F8: =G39 -> 3792500.9 | G8: =D8*F8 -> 11377503 | H8: =I39 -> 906128.75 | I8: =D8*H8 -> 2718386.3 | J8: =SUM(I8,G8) -> 14095889
B10: 공종 합계 | G10: =SUM(G6:G9) -> 29164503 | I10: =SUM(I6:I9) -> 7600607.9 | J10: =SUM(I10,G10) -> 36765111
B12: 1. 현장제어반 공종 현황 | G12: =SUM(G13:G30) -> 1149000 | I12: =SUM(I13:I30) -> 1269237.1 | J12: =SUM(I12,G12) -> 2418237.1
B13: 현장제어반(2중도어) | C13: W350XH500XD250,SUS304 | D13: 1 | E13: 면 | F13: =단가비교표!L5 -> 800000 | G13: =D13*F13 -> 800000 | J13: =G13+I13 -> 800000
B14: 누전차단기 | C14: 2P 460V 30AF | D14: 3 | E14: EA | F14: =단가비교표!L6 -> 34200 | G14: =D14*F14 -> 102600 | J14: =G14+I14 -> 102600
B15: 전자접촉기 | C15: AC440V/3KW | D15: 1 | E15: EA | F15: =단가비교표!L7 -> 13300 | G15: =D15*F15 -> 13300 | J15: =G15+I15 -> 13300
B16: RECTIFIER | C16: AC 220V/ DC 24V, 3.5A | D16: 1 | E16: EA | F16: =단가비교표!L8 -> 180000 | G16: =D16*F16 -> 180000 | J16: =G16+I16 -> 180000
B17: PBL(푸쉬버튼스위치) | C17: 220V 1A1B | D17: 2 | E17: EA | F17: =단가비교표!L9 -> 3200 | G17: =D17*F17 -> 6400 | J17: =G17+I17 -> 6400
B18: CONSENT(콘센트) | C18: 접지형 | D18: 1 | E18: EA | F18: =단가비교표!L10 -> 4040 | G18: =D18*F18 -> 4040 | J18: =G18+I18 -> 4040
B19: 조립식 TB | C19: 15A 조립식 | D19: 10 | E19: EA | F19: =단가비교표!L11 -> 240 | G19: =D19*F19 -> 2400 | J19: =G19+I19 -> 2400
B20: 고정식단자대 | C20: 3P 30A | D20: 3 | E20: EA | F20: =단가비교표!L12 -> 1380 | G20: =D20*F20 -> 4140 | J20: =G20+I20 -> 4140
B21: DUCT(전선덕트) | C21: 40 x 30 | D21: 1 | E21: EA | F21: =단가비교표!L13 -> 5000 | G21: =D21*F21 -> 5000 | J21: =G21+I21 -> 5000
B22: 쉴드 WIRE(쉴드 이면배선) | C22: 20# 0.5㎟ 2C | D22: 10 | E22: M | F22: =단가비교표!L14 -> 719 | G22: =D22*F22 -> 7190 | J22: =G22+I22 -> 7190
B23: WIRE(이면배선) | C23: KIV 2.5㎟ | D23: 20 | E23: M | F23: =단가비교표!L15 -> 644 | G23: =D23*F23 -> 12880 | J23: =G23+I23 -> 12880
B24: WIRE(이면배선) | C24: GV 2.5㎟ | D24: 10 | E24: M | F24: =단가비교표!L16 -> 1105 | G24: =D24*F24 -> 11050 | J24: =G24+I24 -> 11050
B25: 노무비 | C25: ='공량산출(제조)'!G2 -> 전기기계 조립원 | D25: ='공량산출(제조)'!G17 -> 2.38 | E25: 인 | H25: =제조노임!I10 -> 118695 | I25: =D25*H25 -> 282494.1 | J25: =G25+I25 -> 282494.1
B26: 노무비 | C26: ='공량산출(제조)'!H2 -> 통신기계 조립원 | D26: ='공량산출(제조)'!H17 -> 0.989 | E26: 인 | H26: =제조노임!I14 -> 101423 | I26: =D26*H26 -> 100307.35 | J26: =G26+I26 -> 100307.35
B27: 노무비 | C27: ='공량산출(제조)'!J2 -> 전자제품조립원 | D27: ='공량산출(제조)'!J17 -> 0.195 | E27: 인 | H27: =제조노임!I9 -> 95832 | I27: =D27*H27 -> 18687.24 | J27: =G27+I27 -> 18687.24
B28: 노무비 | C28: ='공량산출(설치)'!H2 -> 보통인부 | D28: ='공량산출(설치)'!H17 -> 1.33 | E28: 인 | H28: =공사노임!C3 -> 172068 | I28: =D28*H28 -> 228850.44 | J28: =G28+I28 -> 228850.44
B29: 노무비 | C29: ='공량산출(설치)'!N2 -> 계장공 | D29: ='공량산출(설치)'!N17 -> 2 | E29: 인 | H29: =공사노임!I5 -> 319449 | I29: =D29*H29 -> 638898 | J29: =G29+I29 -> 638898
B31: 2. 기존 TM/TC제어반 터치PC 공종 현황 | G31: =SUM(G32:G38) -> 4780000 | I31: =SUM(I32:I38) -> 358170.08 | J31: =SUM(I31,G31) -> 5138170.1
B32: 터치PC | C32: 12인치, i3, Touch Pane | D32: 1 | E32: SET | F32: =단가비교표!L19 -> 4550000 | G32: =D32*F32 -> 4550000 | J32: =G32+I32 -> 4550000
B33: 스위칭허브 | C33: UTP4PORT(10/100/1000Mbps),POE | D33: 1 | E33: EA | F33: =단가비교표!L20 -> 80000 | G33: =D33*F33 -> 80000 | J33: =G33+I33 -> 80000
B34: 터치스크린 고정브라켓트 | C34: W300XH300XD50MM이내,SUS304 | D34: 1 | E34: EA | F34: =단가비교표!L21 -> 150000 | G34: =D34*F34 -> 150000 | J34: =G34+I34 -> 150000
B35: 노무비 | C35: ='공량산출(설치)'!M2 -> 내선전공 | D35: ='공량산출(설치)'!M23 -> 0.02 | E35: 인 | H35: =공사노임!F36 -> 273676 | I35: =D35*H35 -> 5473.52 | J35: =G35+I35 -> 5473.52
B36: 노무비 | C36: ='공량산출(설치)'!P2 -> S/W시험사 | D36: ='공량산출(설치)'!P23 -> 0.57 | E36: 인 | H36: =공사노임!I28 -> 446358 | I36: =D36*H36 -> 254424.06 | J36: =G36+I36 -> 254424.06
B37: 노무비 | C37: ='공량산출(설치)'!Q2 -> H/W시험사 | D37: ='공량산출(설치)'!Q23 -> 0.25 | E37: 인 | H37: =공사노임!I27 -> 393090 | I37: =D37*H37 -> 98272.5 | J37: =G37+I37 -> 98272.5
B39: 3. 카메라 및 금속기동 공종 현황 | G39: =SUM(G40:G58) -> 3792500.9 | I39: =SUM(I40:I58) -> 906128.75 | J39: =SUM(I39,G39) -> 4698629.6
B40: 금속기둥 | C40: 3M,몸체:알류미늄합금,LED50W | D40: 1 | E40: SET | F40: =단가비교표!L24 -> 450000 | G40: =D40*F40 -> 450000
B41: 적외선 IP카메라 | C41: 200만화소,촬용소자 1/2.8" | D41: 1 | E41: EA | F41: =단가비교표!L25 -> 1662000 | G41: =D41*F41 -> 1662000
B42: 시그널 혼 | C42: DC24V, 알람63음,MP3음성지원,음압110dB,SD카드 | D42: 1 | E42: EA | F42: =단가비교표!L26 -> 650000 | G42: =D42*F42 -> 650000
B43: 카메라 폴 마운트 브라켓트 | C43: 각도 조정 가능 | D43: 1 | E43: EA | F43: =단가비교표!L27 -> 70000 | G43: =D43*F43 -> 70000
B44: 시그널 혼 브라켓트 | C44: L자형 브라켓트 | D44: 1 | E44: EA | F44: =단가비교표!L28 -> 70000 | G44: =D44*F44 -> 70000
B45: 슬라이딩 도어 변경 | C45: 행거레일 및 완충고무범퍼등 포함 | D45: 1 | E45: 식 | F45: =단가비교표!L29 -> 600000 | G45: =D45*F45 -> 600000
...

Sheet 공량산출(제조)
A1: 공 량 산 출 서 _ 제조
A2: 순번 | B2: 품 명 | C2: 규 격 | D2: 수량 | E2: 단위 | F2: 할증 (%) | G2: 전기기계 조립원 | H2: 통신기계 조립원 | I2: 전선원 | J2: 전자제품조립원 | K2: 컴퓨터운용사 | L2: 단순노무 종사원 | M2: S/W시험사 | N2: H/W시험사 | O2: 비 고
A3: 1. 제작
A4: 1.1 | B4: =내역서!B12 -> 1. 현장제어반 공종 현황
B5: =내역서!B13 -> 현장제어반(2중도어) | C5: =내역서!C13 -> W350XH500XD250,SUS304 | D5: =내역서!D13 -> 1 | E5: =내역서!E13 -> 면
B6: =내역서!B14 -> 누전차단기 | C6: =내역서!C14 -> 2P 460V 30AF | D6: =내역서!D14 -> 3 | E6: =내역서!E14 -> EA | F6: 0.7 | H6: =D6*F6*0.19 -> 0.399 | O6: 통신11-7-5-1 | P6: 2P 70%
B7: =내역서!B15 -> 전자접촉기 | C7: =내역서!C15 -> AC440V/3KW | D7: =내역서!D15 -> 1 | E7: =내역서!E15 -> EA | F7: 0.7 | H7: =D7*F7*0.3 -> 0.21 | O7: 통신11-7-5-1 | P7: 2P 70%
B8: =내역서!B16 -> RECTIFIER | C8: =내역서!C16 -> AC 220V/ DC 24V, 3.5A | D8: =내역서!D16 -> 1 | E8: =내역서!E16 -> EA | G8: =D8*0.18 -> 0.18 | H8: =D8*0.38 -> 0.38 | O8: 전3-34
B9: =내역서!B17 -> PBL(푸쉬버튼스위치) | C9: =내역서!C17 -> 220V 1A1B | D9: =내역서!D17 -> 2 | E9: =내역서!E17 -> EA | J9: =D9*0.065 -> 0.13 | O9: 전기5-23-2
B10: =내역서!B18 -> CONSENT(콘센트) | C10: =내역서!C18 -> 접지형 | D10: =내역서!D18 -> 1 | E10: =내역서!E18 -> EA | J10: =D10*0.065 -> 0.065 | O10: 전기 5-23-1
B11: =내역서!B19 -> 조립식 TB | C11: =내역서!C19 -> 15A 조립식 | D11: =내역서!D19 -> 10 | E11: =내역서!E19 -> EA
B12: =내역서!B20 -> 고정식단자대 | C12: =내역서!C20 -> 3P 30A | D12: =내역서!D20 -> 3 | E12: =내역서!E20 -> EA
B13: =내역서!B21 -> DUCT(전선덕트) | C13: =내역서!C21 -> 40 x 30 | D13: =내역서!D21 -> 1 | E13: =내역서!E21 -> EA
B14: =내역서!B22 -> 쉴드 WIRE(쉴드 이면배선) | C14: =내역서!C22 -> 20# 0.5㎟ 2C | D14: =내역서!D22 -> 10 | E14: =내역서!E22 -> M | G14: =D14*0.055 -> 0.55 | O14: 전3-34
B15: =내역서!B23 -> WIRE(이면배선) | C15: =내역서!C23 -> KIV 2.5㎟ | D15: =내역서!D23 -> 20 | E15: =내역서!E23 -> M | G15: =D15*0.055 -> 1.1 | O15: 전3-34
B16: =내역서!B24 -> WIRE(이면배선) | C16: =내역서!C24 -> GV 2.5㎟ | D16: =내역서!D24 -> 10 | E16: =내역서!E24 -> M | G16: =D16*0.055 -> 0.55 | O16: 전3-34
B17: 공량계 | G17: =SUM(G5:G16) -> 2.38 | H17: =SUM(H5:H16) -> 0.989 | J17: =SUM(J5:J16) -> 0.195
B19: =내역서!B31 -> 2. 기존 TM/TC제어반 터치PC 공종 현황
B20: =내역서!B32 -> 터치PC | C20: =내역서!C32 -> 12인치, i3, Touch Pane | D20: =내역서!D32 -> 1 | E20: =내역서!E32 -> SET
B21: =내역서!B33 -> 스위칭허브 | C21: =내역서!C33 -> UTP4PORT(10/100/1000Mbps),POE | D21: =내역서!D33 -> 1 | E21: =내역서!E33 -> EA
B22: =내역서!B34 -> 터치스크린 고정브라켓트 | C22: =내역서!C34 -> W300XH300XD50MM이내,SUS304 | D22: =내역서!D34 -> 1 | E22: =내역서!E34 -> EA
B24: =내역서!B39 -> 3. 카메라 및 금속기동 공종 현황
B25: =내역서!B40 -> 금속기둥 | C25: =내역서!C40 -> 3M,몸체:알류미늄합금,LED50W | D25: =내역서!D40 -> 1 | E25: =내역서!E40 -> SET
B26: =내역서!B41 -> 적외선 IP카메라 | C26: =내역서!C41 -> 200만화소,촬용소자 1/2.8" | D26: =내역서!D41 -> 1 | E26: =내역서!E41 -> EA
B27: =내역서!B42 -> 시그널 혼 | C27: =내역서!C42 -> DC24V, 알람63음,MP3음성지원,음압110dB,SD카드 | D27: =내역서!D42 -> 1 | E27: =내역서!E42 -> EA
B28: =내역서!B43 -> 카메라 폴 마운트 브라켓트 | C28: =내역서!C43 -> 각도 조정 가능 | D28: =내역서!D43 -> 1 | E28: =내역서!E43 -> EA
B29: =내역서!B44 -> 시그널 혼 브라켓트 | C29: =내역서!C44 -> L자형 브라켓트 | D29: =내역서!D44 -> 1 | E29: =내역서!E44 -> EA
B30: =내역서!B45 -> 슬라이딩 도어 변경 | C30: =내역서!C45 -> 행거레일 및 완충고무범퍼등 포함 | D30: =내역서!D45 -> 1 | E30: =내역서!E45 -> 식
B31: =내역서!B46 -> 전기도어 마그네틱 자석스위치 | C31: =내역서!C46 -> 접점신호 출력 | D31: =내역서!D46 -> 1 | E31: =내역서!E46 -> EA
B32: =내역서!B47 -> 안전표지판 | C32: =내역서!C47 -> 카메라 설치 안내 | D32: =내역서!D47 -> 1 | E32: =내역서!E47 -> EA
B33: =내역서!B48 -> 전선관 | C33: =내역서!C48 -> FLEX 28C | D33: =내역서!D48 -> 4.12 | E33: =내역서!E48 -> M
B34: =내역서!B49 -> 전선관 콘넥타 | C34: =내역서!C49 -> 28C | D34: =내역서!D49 -> 2 | E34: =내역서!E49 -> EA
B35: =내역서!B50 -> 케이블 | C35: =내역서!C50 -> F-CV 4sq-2C | D35: =내역서!D50 -> 8.4 | E35: =내역서!E50 -> M
B36: =내역서!B51 -> UTP케이블(UTPCAT.6E) | C36: =내역서!C51 -> 24AWAGX4Pr | D36: =내역서!D51 -> 8.4 | E36: =내역서!E51 -> M
B37: =내역서!B52 -> 폴 콘크리트 기초 | C37: =내역서!C52 -> 400(UP)X636(DOWN)X600(H)정방향 | D37: =내역서!D52 -> 1 | E37: =내역서!E52 -> 식

Sheet 공량산출(설치)
A1: 공 량 산 출 서 _ 설치
A2: 순번 | B2: 품 명 | C2: 규 격 | D2: 수량 | E2: 단위 | F2: 할증 (%) | G2: 통신관련산업기사 | H2: 보통인부 | I2: 통신설비공 | J2: 통신내선공 | K2: 통신외선공 | L2: 통신케이블공 | M2: 내선전공 | N2: 계장공 | O2: 특별인부 | P2: S/W시험사 | Q2: H/W시험사 | R2: 비 고
A3: 2. 설치
B4: =내역서!B12 -> 1. 현장제어반 공종 현황
B5: =내역서!B13 -> 현장제어반(2중도어) | C5: =내역서!C13 -> W350XH500XD250,SUS304 | D5: =내역서!D13 -> 1 | E5: =내역서!E13 -> 면 | H5: =D5*1.33 -> 1.33 | N5: =D5*2 -> 2 | R5: 전기6-1
B6: =내역서!B14 -> 누전차단기 | C6: =내역서!C14 -> 2P 460V 30AF | D6: =내역서!D14 -> 3 | E6: =내역서!E14 -> EA
B7: =내역서!B15 -> 전자접촉기 | C7: =내역서!C15 -> AC440V/3KW | D7: =내역서!D15 -> 1 | E7: =내역서!E15 -> EA
B8: =내역서!B16 -> RECTIFIER | C8: =내역서!C16 -> AC 220V/ DC 24V, 3.5A | D8: =내역서!D16 -> 1 | E8: =내역서!E16 -> EA
B9: =내역서!B17 -> PBL(푸쉬버튼스위치) | C9: =내역서!C17 -> 220V 1A1B | D9: =내역서!D17 -> 2 | E9: =내역서!E17 -> EA
B10: =내역서!B18 -> CONSENT(콘센트) | C10: =내역서!C18 -> 접지형 | D10: =내역서!D18 -> 1 | E10: =내역서!E18 -> EA
B11: =내역서!B19 -> 조립식 TB | C11: =내역서!C19 -> 15A 조립식 | D11: =내역서!D19 -> 10 | E11: =내역서!E19 -> EA
B12: =내역서!B20 -> 고정식단자대 | C12: =내역서!C20 -> 3P 30A | D12: =내역서!D20 -> 3 | E12: =내역서!E20 -> EA
B13: =내역서!B21 -> DUCT(전선덕트) | C13: =내역서!C21 -> 40 x 30 | D13: =내역서!D21 -> 1 | E13: =내역서!E21 -> EA
B14: =내역서!B22 -> 쉴드 WIRE(쉴드 이면배선) | C14: =내역서!C22 -> 20# 0.5㎟ 2C | D14: =내역서!D22 -> 10 | E14: =내역서!E22 -> M
B15: =내역서!B23 -> WIRE(이면배선) | C15: =내역서!C23 -> KIV 2.5㎟ | D15: =내역서!D23 -> 20 | E15: =내역서!E23 -> M
B16: =내역서!B24 -> WIRE(이면배선) | C16: =내역서!C24 -> GV 2.5㎟ | D16: =내역서!D24 -> 10 | E16: =내역서!E24 -> M
B17: 공량계 | G17: =SUM(G5:G16) -> 0 | H17: =SUM(H5:H16) -> 1.33 | I17: =SUM(I5:I16) -> 0 | J17: =SUM(J5:J16) -> 0 | K17: =SUM(K5:K16) -> 0 | L17: =SUM(L5:L16) -> 0 | M17: =SUM(M5:M16) -> 0 | N17: =SUM(N5:N16) -> 2 | ... Q17: =SUM(Q5:Q16) -> 0
B19: =내역서!B31 -> 2. 기존 TM/TC제어반 터치PC 공종 현황
B20: =내역서!B32 -> 터치PC | C20: =내역서!C32 -> 12인치, i3, Touch Pane | D20: =내역서!D32 -> 1 | E20: =내역서!E32 -> SET | P20: =D20*0.21 -> 0.21 | Q20: =D20*0.03 -> 0.03 | R20: 통신8-1-1
B21: =내역서!B33 -> 스위칭허브 | C21: =내역서!C33 -> UTP4PORT(10/100/1000Mbps),POE | D21: =내역서!D33 -> 1 | E21: =내역서!E33 -> EA | P21: =D21*0.36 -> 0.36 | Q21: =D21*0.22 -> 0.22 | R21: 통신8-1-1
B22: =내역서!B34 -> 터치스크린 고정브라켓트 | C22: =내역서!C34 -> W300XH300XD50MM이내,SUS304 | D22: =내역서!D34 -> 1 | E22: =내역서!E34 -> EA | M22: =D22*0.02 -> 0.02 | R22: 전기5-29
B23: 공량계 | G23: =SUM(G19:G22) -> 0 | H23: =SUM(H19:H22) -> 0 | I23: =SUM(I19:I22) -> 0 | J23: =SUM(J19:J22) -> 0 | K23: =SUM(K19:K22) -> 0 | L23: =SUM(L19:L22) -> 0 | M23: =SUM(M19:M22) -> 0.02 | N23: =SUM(N19:N22) -> 0 | ... Q23: =SUM(Q19:Q22) -> 0.25
B25: =내역서!B39 -> 3. 카메라 및 금속기동 공종 현황
B26: =내역서!B40 -> 금속기둥 | C26: =내역서!C40 -> 3M,몸체:알류미늄합금,LED50W | D26: =내역서!D40 -> 1 | E26: =내역서!E40 -> SET | H26: =D26*0.56 -> 0.56 | K26: =D26*0.29 -> 0.29 | R26: 통신9-2-1-3
B27: =내역서!B41 -> 적외선 IP카메라 | C27: =내역서!C41 -> 200만화소,촬용소자 1/2.8" | D27: =내역서!D41 -> 1 | E27: =내역서!E41 -> EA | I27: =D27*0.18 -> 0.18 | O27: =D27*0.18 -> 0.18 | R27: 통신9-2-1-1
B28: =내역서!B42 -> 시그널 혼 | C28: =내역서!C42 -> DC24V, 알람63음,MP3음성지원,음압110dB,SD카드 | D28: =내역서!D42 -> 1 | E28: =내역서!E42 -> EA | I28: =D28*0.17 -> 0.17 | J28: =D28*0.18 -> 0.18 | R28: 통신9-2-4-3
B29: =내역서!B43 -> 카메라 폴 마운트 브라켓트 | C29: =내역서!C43 -> 각도 조정 가능 | D29: =내역서!D43 -> 1 | E29: =내역서!E43 -> EA | H29: =D29*0.23 -> 0.23 | I29: =D29*0.23 -> 0.23 | R29: 통신9-2-1-1
B30: =내역서!B44 -> 시그널 혼 브라켓트 | C30: =내역서!C44 -> L자형 브라켓트 | D30: =내역서!D44 -> 1 | E30: =내역서!E44 -> EA | I30: =D30*0.11 -> 0.11 | R30: 통신7-11-2-3
B31: =내역서!B45 -> 슬라이딩 도어 변경 | C31: =내역서!C45 -> 행거레일 및 완충고무범퍼등 포함 | D31: =내역서!D45 -> 1 | E31: =내역서!E45 -> 식
B32: =내역서!B46 -> 전기도어 마그네틱 자석스위치 | C32: =내역서!C46 -> 접점신호 출력 | D32: =내역서!D46 -> 1 | E32: =내역서!E46 -> EA | I32: =D32*0.1 -> 0.1 | J32: =D32*0.24 -> 0.24 | R32: 통신9-2-4-3
B33: =내역서!B47 -> 안전표지판 | C33: =내역서!C47 -> 카메라 설치 안내 | D33: =내역서!D47 -> 1 | E33: =내역서!E47 -> EA | H33: =D33*0.09 -> 0.09 | I33: =D33*0.09 -> 0.09 | R33: 통신9-2-1-1
B34: =내역서!B48 -> 전선관 | C34: =내역서!C48 -> FLEX 28C | D34: =내역서!D48 -> 4.12 | E34: =내역서!E48 -> M | J34: =(D34*0.72)/10 -> 0.29664 | R34: 통신3-1-1
B35: =내역서!B49 -> 전선관 콘넥타 | C35: =내역서!C49 -> 28C | D35: =내역서!D49 -> 2 | E35: =내역서!E49 -> EA
B36: =내역서!B50 -> 케이블 | C36: =내역서!C50 -> F-CV 4sq-2C | D36: =내역서!D50 -> 8.4 | E36: =내역서!E50 -> M | L36: =(D36*0.16)/10 -> 0.1344 | R36: 통신4-4-1
B37: =내역서!B51 -> UTP케이블(UTPCAT.6E) | C37: =내역서!C51 -> 24AWAGX4Pr | D37: =내역서!D51 -> 8.4 | E37: =내역서!E51 -> M | L37: =(D37*0.15)/10 -> 0.126 | R37: 통신4-3-1
B38: =내역서!B52 -> 폴 콘크리트 기초 | C38: =내역서!C52 -> 400(UP)X636(DOWN)X600(H)정방향 | D38: =내역서!D52 -> 1 | E38: =내역서!E52 -> 식
B39: 공량계 | G39: =SUM(G26:G38) -> 0 | H39: =SUM(H26:H38) -> 0.88 | I39: =SUM(I26:I38) -> 0.88 | J39: =SUM(J26:J38) -> 0.71664 | K39: =SUM(K26:K38) -> 0.29 | L39: =SUM(L26:L38) -> 0.2604 | M39: =SUM(M26:M38) -> 0 | N39: =SUM(N26:N38) -> 0 | ... Q39: =SUM(Q26:Q38) -> 0

Sheet S W FEE
B2: [S/W FEE]
B3: =내역서!B3 -> 사업명 : 상수도 가압장 안전 보완 시스템구축 사업 | F3: (금액단위:원)
B4: 품 명 / 규 격 | C4: 수량 | D4: 단위 | E4: 단 가 | F4: 금 액
B5: 4. 중앙제어실 감시제어설비 추가수정 및 PLC Engineering Fee
B6: 4-1. 가압시설물 출입통제관리 시스템 Engineering Fee
B7: OPS#1 Engineering Fee , 표준화면 | C7: 0.1 | D7: 화면 | E7: =단가비교표!L40 -> 1138000 | F7: =INT(C7*E7) -> 113800
B8: OPS#1 Engineering Fee , 트랜드화면 | C8: 0.1 | D8: 화면 | E8: =단가비교표!L41 -> 1391000 | F8: =INT(C8*E8) -> 139100
B9: OPS#1 Engineering Fee , 알람화면 | C9: 0.1 | D9: 화면 | E9: =단가비교표!L42 -> 1391000 | F9: =INT(C9*E9) -> 139100
B10: OPS#1 Engineering Fee , 레포트화면 | C10: 0.1 | D10: 화면 | E10: =단가비교표!L43 -> 1391000 | F10: =INT(C10*E10) -> 139100
B11: 2-2. 용인정수장 Gateway Engineering Fee
B12: ETOS Engineering Fee, DI/DO | C12: 3 | D12: POINT | E12: =단가비교표!L45 -> 63000 | F12: =INT(C12*E12) -> 189000
B13: 2-3. 현장 PLC Engineering Fee
B14: PLC Engineering Fee, DI/DO | C14: 3 | D14: POINT | E14: =단가비교표!L47 -> 63000 | F14: =INT(C14*E14) -> 189000
B20: 합 계 | F20: =SUM(F5:F19) -> 909100

Sheet 시운전 및 교육비
B2: [시운전 및 교육비]
B3: ='S W FEE'!B3 -> 사업명 : 상수도 가압장 안전 보완 시스템구축 사업 | F3: (금액단위:원)
B4: 품 명 / 규 격 | C4: 수량 | D4: 단위 | E4: 단 가 | F4: 금 액
B5: 5. 종함시험 및 시운전 | F5: =INT(C5*E5) -> 0
B6: 종함시험 및 시운전/중급기술자 | C6: 1 | D6: M/D | E6: =공사노임!I41 -> 283343 | F6: =INT(C6*E6) -> 283343
B7: 종함시험 및 시운전/고급기술자 | C7: 1 | D7: M/D | E7: =공사노임!I40 -> 315288 | F7: =INT(C7*E7) -> 315288
B14: 합 계 | F14: =SUM(F5:F13) -> 598631

Sheet 단가비교표
B1: ='시운전 및 교육비'!B3 -> 사업명 : 상수도 가압장 안전 보완 시스템구축 사업
B2: 품 명 | C2: 규 격 | D2: 단위 | E2: 물자자료(6월) | G2: 물가정보 (6월) | I2: 조사가격1 | J2: 조사가격2 | K2: 조사가격3 | L2: 적용단가 | M2: 비고
E3: PAGE | F3: 금 액 | G3: PAGE | H3: 금 액 | I3: 금 액 | J3: 금 액 | K3: 금 액
B4: =내역서!B12 -> 1. 현장제어반 공종 현황
B5: =내역서!B13 -> 현장제어반(2중도어) | C5: =내역서!C13 -> W350XH500XD250,SUS304 | D5: =내역서!E13 -> 면 | I5: 800000 | J5: =ROUNDDOWN(I5*1.05,-3) -> 840000 | K5: =ROUNDDOWN(I5*1.12,-4) -> 890000 | L5: =MIN(F5,H5,I5,J5,K5) -> 800000
B6: =내역서!B14 -> 누전차단기 | C6: =내역서!C14 -> 2P 460V 30AF | D6: =내역서!E14 -> EA | E6: 1162 | F6: 34200 | G6: 1236 | H6: 34200 | L6: =MIN(F6,H6,I6,J6,K6) -> 34200
B7: =내역서!B15 -> 전자접촉기 | C7: =내역서!C15 -> AC440V/3KW | D7: =내역서!E15 -> EA | E7: 1145 | F7: 13300 | G7: 1243 | H7: 15500 | L7: =MIN(F7,H7,I7,J7,K7) -> 13300
B8: =내역서!B16 -> RECTIFIER | C8: =내역서!C16 -> AC 220V/ DC 24V, 3.5A | D8: =내역서!E16 -> EA | I8: 180000 | J8: =ROUNDDOWN(I8*1.05,-3) -> 189000 | K8: =ROUNDDOWN(I8*1.12,-4) -> 200000 | L8: =MIN(F8,H8,I8,J8,K8) -> 180000
B9: =내역서!B17 -> PBL(푸쉬버튼스위치) | C9: =내역서!C17 -> 220V 1A1B | D9: =내역서!E17 -> EA | E9: 1203 | F9: 3200 | G9: 1252 | H9: 3200 | L9: =MIN(F9,H9,I9,J9,K9) -> 3200
B10: =내역서!B18 -> CONSENT(콘센트) | C10: =내역서!C18 -> 접지형 | D10: =내역서!E18 -> EA | E10: 1205 | F10: 4040 | G10: 1280 | H10: 4057 | L10: =MIN(F10,H10,I10,J10,K10) -> 4040
B11: =내역서!B19 -> 조립식 TB | C11: =내역서!C19 -> 15A 조립식 | D11: =내역서!E19 -> EA | G11: 1200 | H11: 240 | L11: =MIN(F11,H11,I11,J11,K11) -> 240
B12: =내역서!B20 -> 고정식단자대 | C12: =내역서!C20 -> 3P 30A | D12: =내역서!E20 -> EA | G12: 1200 | H12: 1380 | L12: =MIN(F12,H12,I12,J12,K12) -> 1380
B13: =내역서!B21 -> DUCT(전선덕트) | C13: =내역서!C21 -> 40 x 30 | D13: =내역서!E21 -> EA | G13: 1206 | H13: 5000 | L13: =MIN(F13,H13,I13,J13,K13) -> 5000
B14: =내역서!B22 -> 쉴드 WIRE(쉴드 이면배선) | C14: =내역서!C22 -> 20# 0.5㎟ 2C | D14: =내역서!E22 -> M | E14: 1080 | F14: 719 | G14: 1175 | H14: 1191 | L14: =MIN(F14,H14,I14,J14,K14) -> 719
B15: =내역서!B23 -> WIRE(이면배선) | C15: =내역서!C23 -> KIV 2.5㎟ | D15: =내역서!E23 -> M | E15: 1075 | F15: 644 | G15: 1167 | H15: 769 | L15: =MIN(F15,H15,I15,J15,K15) -> 644
B16: =내역서!B24 -> WIRE(이면배선) | C16: =내역서!C24 -> GV 2.5㎟ | D16: =내역서!E24 -> M | E16: 1075 | F16: 1299 | G16: 1165 | H16: 1105 | L16: =MIN(F16,H16,I16,J16,K16) -> 1105
B18: =내역서!B31 -> 2. 기존 TM/TC제어반 터치PC 공종 현황
B19: =내역서!B32 -> 터치PC | C19: =내역서!C32 -> 12인치, i3, Touch Pane | D19: =내역서!E32 -> SET | E19: 1183 | F19: 4550000 | G19: 1259 | H19: 4550000 | L19: =MIN(F19,H19,I19,J19,K19) -> 4550000
B20: =내역서!B33 -> 스위칭허브 | C20: =내역서!C33 -> UTP4PORT(10/100/1000Mbps),POE | D20: =내역서!E33 -> EA | E20: 1260 | F20: 300000 | G20: 1416 | H20: 300000 | I20: 80000 | J20: =ROUNDDOWN(I20*1.05,-3) -> 84000 | K20: =ROUNDDOWN(I20*1.12,-4) -> 80000 | L20: =MIN(F20,H20,I20,J20,K20) -> 80000
B21: =내역서!B34 -> 터치스크린 고정브라켓트 | C21: =내역서!C34 -> W300XH300XD50MM이내,SUS304 | D21: =내역서!E34 -> EA | I21: 150000 | J21: =ROUNDDOWN(I21*1.05,-3) -> 157000 | K21: =ROUNDDOWN(I21*1.12,-4) -> 160000 | L21: =MIN(F21,H21,I21,J21,K21) -> 150000
B23: =내역서!B39 -> 3. 카메라 및 금속기동 공종 현황
B24: =내역서!B40 -> 금속기둥 | C24: =내역서!C40 -> 3M,몸체:알류미늄합금,LED50W | D24: =내역서!E40 -> SET | I24: 450000 | J24: =ROUNDDOWN(I24*1.05,-3) -> 472000 | K24: =ROUNDDOWN(I24*1.12,-4) -> 500000 | L24: =MIN(F24,H24,I24,J24,K24) -> 450000
B25: =내역서!B41 -> 적외선 IP카메라 | C25: =내역서!C41 -> 200만화소,촬용소자 1/2.8" | D25: =내역서!E41 -> EA | E25: 1266 | F25: 1662000 | G25: 1410 | H25: 1662000 | L25: =MIN(F25,H25,I25,J25,K25) -> 1662000
B26: =내역서!B42 -> 시그널 혼 | C26: =내역서!C42 -> DC24V, 알람63음,MP3음성지원,음압110dB,SD카드 | D26: =내역서!E42 -> EA | I26: 650000 | J26: =ROUNDDOWN(I26*1.05,-3) -> 682000 | K26: =ROUNDDOWN(I26*1.12,-4) -> 720000 | L26: =MIN(F26,H26,I26,J26,K26) -> 650000
B27: =내역서!B43 -> 카메라 폴 마운트 브라켓트 | C27: =내역서!C43 -> 각도 조정 가능 | D27: =내역서!E43 -> EA | I27: 70000 | J27: =ROUNDDOWN(I27*1.05,-3) -> 73000 | K27: =ROUNDDOWN(I27*1.12,-4) -> 70000 | L27: =MIN(F27,H27,I27,J27,K27) -> 70000
B28: =내역서!B44 -> 시그널 혼 브라켓트 | C28: =내역서!C44 -> L자형 브라켓트 | D28: =내역서!E44 -> EA | I28: 70000 | J28: =ROUNDDOWN(I28*1.05,-3) -> 73000 | K28: =ROUNDDOWN(I28*1.12,-4) -> 70000 | L28: =MIN(F28,H28,I28,J28,K28) -> 70000
B29: =내역서!B45 -> 슬라이딩 도어 변경 | C29: =내역서!C45 -> 행거레일 및 완충고무범퍼등 포함 | D29: =내역서!E45 -> 식 | I29: 600000 | J29: =ROUNDDOWN(I29*1.05,-3) -> 630000 | K29: =ROUNDDOWN(I29*1.12,-4) -> 670000 | L29: =MIN(F29,H29,I29,J29,K29) -> 600000
B30: =내역서!B46 -> 전기도어 마그네틱 자석스위치 | C30: =내역서!C46 -> 접점신호 출력 | D30: =내역서!E46 -> EA | I30: 80000 | J30: =ROUNDDOWN(I30*1.05,-3) -> 84000 | K30: =ROUNDDOWN(I30*1.12,-4) -> 80000 | L30: =MIN(F30,H30,I30,J30,K30) -> 80000
B31: =내역서!B47 -> 안전표지판 | C31: =내역서!C47 -> 카메라 설치 안내 | D31: =내역서!E47 -> EA | I31: 15000 | J31: 15500 | K31: =ROUNDDOWN(I31*1.12,-3) -> 16000 | L31: =MIN(F31,H31,I31,J31,K31) -> 15000
B32: =내역서!B48 -> 전선관 | C32: =내역서!C48 -> FLEX 28C | D32: =내역서!E48 -> M | E32: 1103 | F32: 4680 | G32: 1203 | H32: 2184 | L32: =MIN(F32,H32,I32,J32,K32) -> 2184
B33: =내역서!B49 -> 전선관 콘넥타 | C33: =내역서!C49 -> 28C | D33: =내역서!E49 -> EA | E33: 1103 | F33: 3980 | G33: 1205 | H33: 1485 | L33: =MIN(F33,H33,I33,J33,K33) -> 1485
B34: =내역서!B50 -> 케이블 | C34: =내역서!C50 -> F-CV 4sq-2C | D34: =내역서!E50 -> M | E34: 1075 | F34: 2333 | G34: 1168 | H34: 2746 | L34: =MIN(F34,H34,I34,J34,K34) -> 2333
B35: =내역서!B51 -> UTP케이블(UTPCAT.6E) | C35: =내역서!C51 -> 24AWAGX4Pr | D35: =내역서!E51 -> M | E35: 1083 | F35: 2680 | G35: 1176 | H35: 1659 | L35: =MIN(F35,H35,I35,J35,K35) -> 1659
B36: =내역서!B52 -> 폴 콘크리트 기초 | C36: =내역서!C52 -> 400(UP)X636(DOWN)X600(H)정방향 | D36: =내역서!E52 -> 식 | E36: 1262 | F36: 150000 | L36: =MIN(F36,H36,I36,J36,K36) -> 150000
B38: ='S W FEE'!B5 -> 4. 중앙제어실 감시제어설비 추가수정 및 PLC Engineering Fee | L38: =MIN(F38,H38,I38,J38,K38) -> 0
B39: ='S W FEE'!B6 -> 4-1. 가압시설물 출입통제관리 시스템 Engineering Fee | L39: =MIN(F39,H39,I39,J39,K39) -> 0
B40: ='S W FEE'!B7 -> OPS#1 Engineering Fee , 표준화면 | D40: ='S W FEE'!D7 -> 화면 | E40: 1180 | F40: 1138000 | G40: 1257 | H40: 1138000 | L40: =MIN(F40,H40,I40,J40,K40) -> 1138000
B41: ='S W FEE'!B8 -> OPS#1 Engineering Fee , 트랜드화면 | D41: ='S W FEE'!D8 -> 화면 | E41: 1180 | F41: 1391000 | G41: 1257 | H41: 1391000 | L41: =MIN(F41,H41,I41,J41,K41) -> 1391000
B42: ='S W FEE'!B9 -> OPS#1 Engineering Fee , 알람화면 | D42: ='S W FEE'!D9 -> 화면 | E42: 1180 | F42: 1391000 | G42: 1257 | H42: 1391000 | L42: =MIN(F42,H42,I42,J42,K42) -> 1391000
B43: ='S W FEE'!B10 -> OPS#1 Engineering Fee , 레포트화면 | D43: ='S W FEE'!D10 -> 화면 | E43: 1180 | F43: 1391000 | G43: 1257 | H43: 1391000 | L43: =MIN(F43,H43,I43,J43,K43) -> 1391000
...

Sheet 제조노임
A1: 코드 | B1: 인력명 | C1: 2025년 하반기 | D1: 코드 | E1: 인력명 | F1: 2025년 하반기 | G1: 코드 | H1: 인력명 | I1: 2025년 하반기
A2: 1 | B2: CAD설계사(기계) | C2: 151886 | D2: 46 | E2: 판금원 | F2: 111071 | G2: 91 | H2: 일반기계수리원 | I2: 136467
A3: 2 | B3: CAD설계사(회로) | C3: 131950 | D3: 47 | E3: 제관원 | F3: 112480 | G3: 92 | H3: 전기및정밀기기수리원 | I3: 116708
A4: 3 | B4: 컴퓨터웹디자이너 | C4: 117967 | D4: 48 | E4: 단조원 | F4: 106838 | G4: 93 | H4: 공업배관원 | I4: 130206
A5: 4 | B5: 컴퓨터운용사 | C5: 150580 | D5: 49 | E5: 주물(주조)원 | F5: 107510 | G5: 94 | H5: 폐수처리장치조작원 | I5: 134555
A6: 5 | B6: 제과제빵떡제조원 | C6: 85030 | D6: 50 | E6: 용접원 | F6: 119919 | G6: 95 | H6: 전기기사 | I6: 146027
A7: 6 | B7: 식품가공원 | C7: 93222 | D7: 51 | E7: 목형원 | F7: 115027 | G7: 96 | H7: 전기산업기사 | I7: 133046
A8: 7 | B8: 식품가공기계조작원 | C8: 101732 | D8: 52 | E8: 금형원 | F8: 119545 | G8: 97 | H8: 전기기능사 | I8: 128287
A9: 8 | B9: 귀금속보석세공원 | C9: 124889 | D9: 53 | E9: 다이캐스트원 | F9: 91601 | G9: 98 | H9: 전자제품조립원 | I9: 95832
A10: 9 | B10: 목재가공기계조작원 | C10: 105912 | D10: 54 | E10: 조형원 | F10: 112019 | G10: 99 | H10: 전기기계조립원 | I10: 118695
A11: 10 | B11: 목재건조기계조작원 | C11: 128299 | D11: 55 | E11: 절곡원 | F11: 115341 | G11: 100 | H11: 고무플라스틱제품조립원 | I11: 87208
A12: 11 | B12: 펄프종이제조장치조작원 | C12: 128939 | D12: 56 | E12: 압연원 | F12: 103011 | G12: 101 | H12: 경기계조립원 | I12: 126765
A13: 12 | B13: 합판제조원 | C13: 103154 | D13: 57 | E13: 열처리원 | F13: 109071 | G13: 102 | H13: 중기계조립원 | I13: 126881
... A40: 39 | B40: 재단사 | C40: 107532 | D40: 84 | E40: 머쉬닝센터조작원 | F40: 121656 | G40: 129 | H40: 작업반장 | I40: 138737
A41: 40 | B41: 패턴사 | C41: 144168 | D41: 85 | E41: 기타공작기계조작원 | F41: 107604
A42: 41 | B42: 재봉사 | C42: 102109 | D42: 86 | E42: 기계기술자 | F42: 141305
A43: 42 | B43: 재봉기능원 | C43: 87489 | D43: 87 | E43: 로봇기술자 | F43: 130513
A44: 43 | B44: 모피가죽제조원 | C44: 98952 | D44: 88 | E44: 기계장치정비원 | F44: 131589
A45: 44 | B45: 제화원 | C45: 94162 | D45: 89 | E45: 보일러설치정비원 | F45: 109288
A46: 45 | B46: 신발제조기조작원 | C46: 86601 | D46: 90 | E46: 전기전자설비정비원 | F46: 126037

Sheet 공사노임
A1: 코드 | B1: 인력명 | C1: 2026상반기 | D1: 코드 | E1: 인력명 | F1: 2026상반기 | G1: 코드 | H1: 인력명 | I1: 2026상반기
A2: 1 | B2: 작업반장 | C2: 215907 | D2: 41 | E2: 보일러공 | F2: 240120 | G2: 81 | H2: 배전전공 | I2: 414968
A3: 2 | B3: 보통인부 | C3: 172068 | D3: 42 | E3: 위생공 | F3: 218908 | G3: 82 | H3: 배전활선전공 | I3: 562439
A4: 3 | B4: 특별인부 | C4: 226122 | D4: 43 | E4: 덕트공 | F4: 202472 | G4: 83 | H4: 플랜트전공 | I4: 269759
A5: 4 | B5: 조력공 | C5: 179028 | D5: 44 | E5: 보온공 | F5: 217012 | G5: 84 | H5: 계장공 | I5: 319449
A6: 5 | B6: 제도사 | C6: 237324 | D6: 45 | E6: 인력운반공 | F6: 180193 | G6: 85 | H6: 철도신호공 | I6: 310041
A7: 6 | B7: 비계공 | C7: 281939 | D7: 46 | E7: 궤도공 | F7: 218933 | G7: 86 | H7: 통신내선공 | I7: 284880
A8: 7 | B8: 형틀목공 | C8: 275790 | D8: 47 | E8: 건설기계조장 | F8: 210909 | G8: 87 | H8: 통신설비공 | I8: 315528
A9: 8 | B9: 철근공 | C9: 268187 | D9: 48 | E9: 건설기계운전사 | F9: 283297 | G9: 88 | H9: 통신외선공 | I9: 408942
A10: 9 | B10: 철공 | C10: 239808 | D10: 49 | E10: 화물차운전사 | F10: 238936 | G10: 89 | H10: 통신케이블공 | I10: 436224
A11: 10 | B11: 철판공 | C11: 221481 | D11: 50 | E11: 일반기계운전사 | F11: 173995 | G11: 90 | H11: 무선안테나공 | I11: 356809
A12: 11 | B12: 철골공 | C12: 252641 | D12: 51 | E12: 기계설비공 | F12: 241698 | G12: 91 | H12: 석면해체공 | I12: 204181
A13: 12 | B13: 용접공 | C13: 282536 | D13: 52 | E13: 준설선선장 | F13: -
A14: 13 | B14: 콘크리트공 | C14: 273540 | D14: 53 | E14: 준설선기관사 | F14: -
A15: 14 | B15: 보링공 | C15: 232562 | D15: 54 | E15: 준설선운전사 | F15: -
A16: 15 | B16: 착암공 | C16: 222306 | D16: 55 | E16: 선원 | F16: -
A17: 16 | B17: 화약취급공 | C17: 272448 | D17: 56 | E17: 플랜트배관공 | F17: 320480
A18: 17 | B18: 할석공 | C18: 241932 | D18: 57 | E18: 플랜트제관공 | F18: 266029
A19: 18 | B19: 포설공 | C19: 221015 | D19: 58 | E19: 플랜트용접공 | F19: 292640
A20: 19 | B20: 포장공 | C20: 273308 | D20: 59 | E20: 플랜트특수용접공
A21: 20 | B21: 잠수부 | C21: 387342 | D21: 60 | E21: 플랜트기계설치공 | F21: 230376
A22: 21 | B22: 조적공 | C22: 270807 | D22: 61 | E22: 플랜트특별인부 | F22: 213074
A23: 22 | B23: 견출공 | C23: 250903 | D23: 62 | E23: 플랜트케이블전공 | F23: 264269
A24: 23 | B24: 건축목공 | C24: 277642 | D24: 63 | E24: 플랜트계장공 | F24: 204377
A25: 24 | B25: 창호공 | C25: 247188 | D25: 64 | E25: 플랜트덕트공 | F25: -
A26: 25 | B26: 유리공 | C26: 253539 | D26: 65 | E26: 플랜트보온공 | F26: 250140 | G26: A-1 | H26: 광케이블설치사 | I26: 471349
A27: 26 | B27: 방수공 | C27: 228286 | D27: 66 | E27: 제철축로공 | F27: 362985 | G27: A-2 | H27: H/W시험사 | I27: 393090
A28: 27 | B28: 미장공 | C28: 277276 | D28: 67 | E28: 비파괴시험공 | F28: 214553 | G28: A-3 | H28: S/W시험사 | I28: 446358
A29: 28 | B29: 타일공 | C29: 290939 | D29: 68 | E29: 특급품질관리원 | F29: 199588 | G29: A-4 | H29: CPU시험사 | I29: -
A30: 29 | B30: 도장공 | C30: 263017 | D30: 69 | E30: 고급품질관리원 | F30: 197788 | G30: A-5 | H30: 광통신설치사 | I30: -
A31: 30 | B31: 내장공 | C31: 256883 | D31: 70 | E31: 중급품질관리원 | F31: 177841 | G31: A-6 | H31: H/W설치사 | I31: -
A32: 31 | B32: 도배공 | C32: 227614 | D32: 71 | E32: 초급품질관리원 | F32: 149081 | G32: B-1 | H32: 통신관련기사 | I32: 320449
A33: 32 | B33: 연마공 | C33: - | D33: 72 | E33: 지적기사 | F33: 275711 | G33: B-2 | H33: 통신관련산업기사 | I33: 304509
A34: 33 | B34: 석공 | C34: 268908 | D34: 73 | E34: 지적산업기사 | F34: 245000 | G34: B-3 | H34: 통신관련기능사 | I34: 249822
A35: 34 | B35: 줄눈공 | C35: 211653 | D35: 74 | E35: 지적기능사 | F35: 178874 | G35: B-4 | H35: 전기공사기사 | I35: 335319
A36: 35 | B36: 판넬조립공 | C36: 243121 | D36: 75 | E36: 내선전공 | F36: 273676 | G36: B-5 | H36: 전기공사산업기사 | I36: 294135
A37: 36 | B37: 지붕잇기공 | C37: 233250 | D37: 76 | E37: 특고압케이블전공 | F37: 440616 | G37: B-6 | H37: 변전전공 | I37: 485075
A38: 37 | B38: 벌목부 | C38: 253243 | D38: 77 | E38: 고압케이블전공 | F38: 373640 | G38: B-7 | H38: 코킹공 | I38: 209131
A39: 38 | B39: 조경공 | C39: 235204 | D39: 78 | E39: 저압케이블전공 | F39: 304156 | G39: B-8 | H39: 노즐공 | I39: -
A40: 39 | B40: 배관공 | C40: 247897 | D40: 79 | E40: 송전전공 | F40: 638460 | G40: C-1 | H40: 고급기술자 | I40: 315288
...

Sheet 입출력
A1: I/O POINT LIST
A2: 감시제어 대상 설비 | B2: 고유 번호 | C2: 통신 | G2: A/I INPUT | K2: D/I INPUT | AA2: D/O OUTPUT | AI2: 계 | AJ2: 비 고
K3: 술라이딩 도어 출입
A4: [가압장]
A5: 가압장 출입문 | K5: 1 | AI5: =SUM(C5:AH5) -> 1
A20: 계 | K20: =SUM(K5:K19) -> 1 | AI20: =SUM(C20:AH20) -> 1
A21: 소 계 | K21: =SUM(K20:Z20) -> 1

Sheet 산출수량 집계
A1: 수량 산출 집계표
A2: =내역서!B3 -> 사업명 : 상수도 가압장 안전 보완 시스템구축 사업
A4: 품 목 | B4: 규 격 | C4: 수 량 | D4: 할증 | E4: 내역수량 | F4: 단위 | H4: 수 량 집 계 | I4: 비 고
A5: =수량!A10 -> <가압장 >
A6: =수량!E11 -> 케이블 | B6: =수량!F11 -> F-CV 4sq-2C | C6: =H6 -> 8 | D6: 0.05 | E6: =C6+(C6*D6) -> 8.4 | F6: =수량!H11 -> M | H6: =수량!I11 -> 8
A7: =수량!E12 -> 케이블 | B7: =수량!F12 -> UTP CAT 6.4P | C7: =H7 -> 8 | D7: 0.05 | E7: =C7+(C7*D7) -> 8.4 | F7: =수량!H12 -> M | H7: =수량!I12 -> 8
A8: =수량!E13 -> 전선관 | B8: =수량!F13 -> FLEX 28C | C8: =H8 -> 4 | D8: 0.03 | E8: =C8+(C8*D8) -> 4.12 | F8: =수량!H13 -> M | H8: =수량!K13 -> 4
A9: =수량!E14 -> 전선관 콘넥타 | B9: =수량!F14 -> 28C | C9: =H9 -> 2 | E9: =C9+(C9*D9) -> 2 | F9: =수량!H14 -> EA | H9: =수량!L14 -> 2

Sheet 수량
I1: L : LENGTH FOR JOINT
I2: T : TRAY OR TRENCH
I3: H : HI-PVC | M3: 전선관
I4: F : FLEXIBLE CONDUIT
I5: S : STEEL CONDUIT | K5: TG : 케이블 트로프
I6: G : ELP 및 옥외 | L6: (을)
A7: 번호 | B7: 부 하 명 | C7: 시 점 | D7: 종 점 | E7: 품 명 | F7: 규 격 | G7: 산 출 근 거 | H7: 단위 | I7: 전 선 | K7: 전선관 | L7: 비 고 | BV7: 17
I8: 옥내 | J8: 옥외
A9: ='산출수량 집계'!A2 -> 사업명 : 상수도 가압장 안전 보완 시스템구축 사업
A10: <가압장 >
A11: 1 | B11: 카메라 및 시그널혼 스피커 | C11: TM/TC반 | D11: 금속기둥 현장제어반 | E11: 케이블 | F11: F-CV 4sq-2C | G11: 2L+4F+2L | H11: M | I11: 8
E12: 케이블 | F12: UTP CAT 6.4P | G12: 2L+4F+2L | H12: M | I12: 8
E13: 전선관 | F13: FLEX 28C | G13: 4 | H13: M | K13: 4
E14: 전선관 콘넥타 | F14: 28C | G14: 2 | H14: EA | L14: 2
