Workbook

Sheet 표지
F7: 2026년도
D20: 석적읍 | W20: 우방아파트 | BB20: 일원 | BP20: 급수관로 | CO20: 설치공사

Sheet 갑지
C3: 과 | U3: 계 | AM3: 심 | BE3: 설
AM5: 사 | BE5: 계 | BX5: 2026년도
C7: 장 | U7: 장 | AM7: 자 | BE7: 자
G11: 2026년도
U20: 석적읍 | AO20: 우방아파트 | BS20: 일원 | CG20: 급수관로
BD21: 설치공사
F26: 공사개요 | O26: :
F31: 공사금액 | O31: :

Sheet 원가계산서
B1: 원가계산서
B3: 비 목 | E3: 구분 | F3: 금 액 | G3: 요율 | H3: 산 출 근 거
C4: 재 | D4: 직 접 재 료 비 | E4: 1
C5: 료 | D5: 간 접 재 료 비 | E5: 2 | F5: =내역서!L161 -> 0
C6: 비 | D6: 작업설.부산물등(△) | E6: 3
D7: 소 계 | E7: A | F7: =TRUNC((F4+F5+F6),0) -> 0 | H7: (1 + 2 + 3 )
C8: 노 | D8: 직 접 노 무 비 | E8: 4 | F8: =내역서!J161 -> 0
B9: 순 | C9: 무 | D9: 간 접 노 무 비 | E9: 5 | F9: =TRUNC(F8*0.191,0) -> 0 | G9: 19.1% | H9: 4 × 0.191
C10: 비 | D10: 소 계 | E10: B | F10: =TRUNC((F8+F9),0) -> 0 | H10: ( 4 + 5 )
B11: 공 | D11: 산 출 경 비 | E11: 6 | F11: =내역서!N161 -> 0
D12: 산 재 보 험 료 | E12: 7 | F12: =TRUNC(F10*0.0356,0) -> 0 | G12: 3.56% | H12: B × 0.0356
B13: 사 | D13: 고 용 보 험 료 | E13: 8 | F13: =TRUNC(F10*0.0101,0) -> 0 | G13: 1.01% | H13: B × 0.0101
C14: 경 | D14: 건 강 보 험 료 | E14: 9 | F14: =TRUNC(F8*0.03595,0) -> 0 | G14: 3.595% | H14: 4 × 0.03595
B15: 원 | D15: 연 금 보 험 료 | E15: 10 | F15: =TRUNC(F8*0.0475,0) -> 0 | G15: 4.75% | H15: 4 × 0.0475
D16: 노인장기요양 보 험 료 | E16: 11 | F16: =TRUNC(F14*0.1314,0) -> 0 | G16: 13.14% | H16: 9 × 0.1314
B17: 가 | D17: 퇴 직 공 제 부 금 비 | E17: 12 | F17: =TRUNC(F8*0.023,0) -> 0 | G17: 2.3% | H17: 4 × 0.023
D18: 건설기계대여금지급보증서발급액 | E18: 13 | F18: =TRUNC((F7+F8+F11)*0.0051,0) -> 0 | G18: 0.51% | H18: (A + 4 + 6) × 0.0051
D19: 산 업 안 전 보건관리비 | E19: 14 | F19: =TRUNC((F7+F8)*0.0315*1.2,0) -> 0 | G19: 3.15% | H19: (A + 4) × 0.0315 × 1.2
D20: 환 경 보 전 비 | E20: 15 | F20: =TRUNC((F7+F8+F11)*0.005,0) -> 0 | G20: 0.5% | H20: (A + 4 + 6) ×0.005
D21: 공 사 이 행 보증수수료 | E21: 16
C22: 비 | D22: 하도급대금지급보증수수료 | E22: 17 | F22: =TRUNC((F7+F8+F11)*0,0) -> 0 | G22: 0% | H22: (A + 4 + 6) ×0.0
D23: 석 면 분 담 금 | E23: 18 | F23: =TRUNC(F10*0.00006,0) -> 0 | G23: 0.006% | H23: B × 0.00006
D24: 임 금 채 권 부 담 금 | E24: 19 | F24: =TRUNC(F10*0.0009,0) -> 0 | G24: 0.09% | H24: B × 0.0009
D25: 기 타 경 비 | E25: 20 | F25: =TRUNC((F7+F10)*0.055,0) -> 0 | G25: 5.5% | H25: (A + B) × 0.055
D26: 소 계 | E26: C | F26: =TRUNC((F11+F12+F13+F14+F15+F16+F17+F18+F19+F20+F21+F22+F23+F24+F25),0) -> 0 | H26: (6:20)
D27: 순 공 사 원 가 | E27: D | F27: =TRUNC((F7+F10+F26),0) -> 0 | H27: (A + B + C)
D28: 일 반 관 리 비 | E28: E | F28: =TRUNC(F27*0.08,0) -> 0 | G28: 8% | H28: D × 0.08
D29: 이 윤 | E29: F | F29: =TRUNC((F10+F26+F28)*0.1463,0) -> 0 | G29: 14.63% | H29: (B + C + E) ×0.1463
D30: 총 원 가 | E30: G | F30: =TRUNC((F27+F28+F29),0) -> 0 | H30: (D + E + F)
D31: 부 가 가 치 세 | E31: H | F31: =IF(L52<> "0.9",TRUNC(F30*0.1,0),TRUNC(F30*0.1,0)+1) -> 0 | G31: 10% | H31: G × 0.1
D32: 도 급 액 | E32: I | F32: =TRUNC((F30+F31),0) -> 0 | H32: (G + H)
D33: 관 급 자 재 대(도급자) | E33: J | F33: =내역서!H189 -> 0 | L33: =내역서!H189 -> 0 | M33: =내역서!H193+내역서!H201+내역서!H217+내역서!H220+내역서!H225 -> 0
D34: 폐 기 물 처 리 비 | E34: K | F34: =내역서!H230 -> 0 | L34: =내역서!H230 -> 0
D35: 총 공 사 비 | E35: L | F35: =TRUNC((F32+F33+F34),5) -> 0 | H35: (I + J + K)
L52: =RIGHT(F30*0.1,3) -> 0

Sheet 내역서총괄표
B1: 내역서총괄표
B3: 공종 | C3: 품 명 | D3: 규 격 | E3: 수 량 | F3: 단위 | G3: 합 계 | H3: 노무비 | I3: 재료비 | J3: 경 비 | K3: 비 고
B4: ▣ | C4: 석적읍 석적로 955-9 일원 | H4: =내역서!J5 -> 0 | I4: =내역서!L5 -> 0 | J4: =내역서!N5 -> 0
B5: 1. | C5: 토 공 | H5: =내역서!J6 -> 0 | I5: =내역서!L6 -> 0 | J5: =내역서!N6 -> 0
B6: 2. | C6: 관부설공 | H6: =내역서!J22 -> 0 | I6: =내역서!L22 -> 0 | J6: =내역서!N22 -> 0
B7: 2.1 | C7: 덕타일주철관 | H7: =내역서!J23 -> 0 | I7: =내역서!L23 -> 0 | J7: =내역서!N23 -> 0
B8: 2.2 | C8: 내충격수도관 | H8: =내역서!J30 -> 0 | I8: =내역서!L30 -> 0 | J8: =내역서!N30 -> 0
B9: 2.3 | C9: 밸브및기타자재 | H9: =내역서!J36 -> 0 | I9: =내역서!L36 -> 0 | J9: =내역서!N36 -> 0
B10: 2.4 | C10: 수압시험 | H10: =내역서!J47 -> 0 | I10: =내역서!L47 -> 0 | J10: =내역서!N47 -> 0
B11: 3. | C11: 구조물공 | H11: =내역서!J50 -> 0 | I11: =내역서!L50 -> 0 | J11: =내역서!N50 -> 0
B12: 3.1 | C12: 제수변보호통 설치 | H12: =내역서!J51 -> 0 | I12: =내역서!L51 -> 0 | J12: =내역서!N51 -> 0
B13: 4. | C13: 포 장 공 | H13: =내역서!J55 -> 0 | I13: =내역서!L55 -> 0 | J13: =내역서!N55 -> 0
B14: 4.1 | C14: ASP(임시)포장 | D14: T = 15cm | H14: =내역서!J56 -> 0 | I14: =내역서!L56 -> 0 | J14: =내역서!N56 -> 0
B15: 4.2 | C15: 절삭후 ASP 덧씌우기 | D15: T = 5cm | H15: =내역서!J62 -> 0 | I15: =내역서!L62 -> 0 | J15: =내역서!N62 -> 0
B16: 4.3 | C16: CONC 포장 | D16: T = 20cm | H16: =내역서!J64 -> 0 | I16: =내역서!L64 -> 0 | J16: =내역서!N64 -> 0
B17: 4.4 | C17: 투수콘포장 | D17: T = 7cm | H17: =내역서!J67 -> 0 | I17: =내역서!L67 -> 0 | J17: =내역서!N67 -> 0
B18: 4.5 | C18: 차선도색 | H18: =내역서!J71 -> 0 | I18: =내역서!L71 -> 0 | J18: =내역서!N71 -> 0
B19: 4.6 | C19: 과속방지턱 | H19: =내역서!J78 -> 0 | I19: =내역서!L78 -> 0 | J19: =내역서!N78 -> 0
B20: 5. | C20: 부 대 공 | H20: =내역서!J86 -> 0 | I20: =내역서!L86 -> 0 | J20: =내역서!N86 -> 0
B21: 5.1 | C21: 안전시설물 | H21: =내역서!J87 -> 0 | I21: =내역서!L87 -> 0 | J21: =내역서!N87 -> 0
B22: 5.2 | C22: 기존구조물깨기 | H22: =내역서!J94 -> 0 | I22: =내역서!L94 -> 0 | J22: =내역서!N94 -> 0
B23: 5.3 | C23: 관보호공 | H23: =내역서!J99 -> 0 | I23: =내역서!L99 -> 0 | J23: =내역서!N99 -> 0
B24: 5.4 | C24: 지하매설물보호공 | H24: =내역서!J102 -> 0 | I24: =내역서!L102 -> 0 | J24: =내역서!N102 -> 0
B25: 5.5 | C25: L형측구 깨기및복구 | H25: =내역서!J105 -> 0 | I25: =내역서!L105 -> 0 | J25: =내역서!N105 -> 0
B26: 5.6 | C26: 도로경계석 깨기및복구 | H26: =내역서!J113 -> 0 | I26: =내역서!L113 -> 0 | J26: =내역서!N113 -> 0
B27: 5.7 | C27: 기존 차선규제봉 철거및복구 | H27: =내역서!J121 -> 0 | I27: =내역서!L121 -> 0 | J27: =내역서!N121 -> 0
B28: 5.8 | C28: 기존 중앙분리대 철거및복구 | H28: =내역서!J124 -> 0 | I28: =내역서!L124 -> 0 | J28: =내역서!N124 -> 0
B29: 5.9 | C29: 운 반 비 | H29: =내역서!J127 -> 0 | I29: =내역서!L127 -> 0 | J29: =내역서!N127 -> 0
B30: 6. | C30: 사급자재대 | H30: =내역서!J135 -> 0 | I30: =내역서!L135 -> 0 | J30: =내역서!N135 -> 0
B31: 6.1 | C31: 관자재대 | H31: =내역서!J136 -> 0 | I31: =내역서!L136 -> 0 | J31: =내역서!N136 -> 0
B32: 1) | C32: 내충격수도관 | H32: =내역서!J137 -> 0 | I32: =내역서!L137 -> 0 | J32: =내역서!N137 -> 0
B33: 2) | C33: 기타관자재 | H33: =내역서!J144 -> 0 | I33: =내역서!L144 -> 0 | J33: =내역서!N144 -> 0
B34: 6.2 | C34: 기타자재대 | H34: =내역서!J148 -> 0 | I34: =내역서!L148 -> 0 | J34: =내역서!N148 -> 0
C35: 순 공 사 비 | H35: =내역서!J161 -> 0 | I35: =내역서!L161 -> 0 | J35: =내역서!N161 -> 0
C36: 간접노무비 | E36: 19.1 | F36: % | G36: =원가계산서!F9 -> 0
C37: 산재보험료 | E37: 3.56 | F37: % | G37: =원가계산서!F12 -> 0
C38: 고용보험료 | E38: 1.01 | F38: % | G38: =원가계산서!F13 -> 0
C39: 건강보험료 | E39: 3.595 | F39: % | G39: =원가계산서!F14 -> 0
C40: 연금보험료 | E40: 4.75 | F40: % | G40: =원가계산서!F15 -> 0
C41: 노인장기요양보험료 | E41: 13.14 | F41: % | G41: =원가계산서!F16 -> 0
C42: 퇴직공제부금비 | E42: 2.3 | F42: % | G42: =원가계산서!F17 -> 0
C43: 건설기계대여금지급보증서발급액 | E43: 0.51 | F43: % | G43: =원가계산서!F18 -> 0
C44: 산업안전보건관리비 | E44: 3.15 | F44: % | G44: =원가계산서!F19 -> 0
C45: 환경보전비 | E45: 0.5 | F45: % | G45: =원가계산서!F20 -> 0
C46: 하도급대금지급보증수수료 | F46: % | G46: =원가계산서!F22 -> 0
C47: 석면분담금 | E47: 0.006 | F47: % | G47: =원가계산서!F23 -> 0
C48: 임금채권부담금 | E48: 0.09 | F48: % | G48: =원가계산서!F24 -> 0
C49: 기타경비 | E49: 5.5 | F49: % | G49: =원가계산서!F25 -> 0
C50: 순공사원가 | G50: =원가계산서!F27 -> 0
C51: 일반관리비 | E51: 8 | F51: % | G51: =원가계산서!F28 -> 0
C52: 이윤 | E52: 14.63 | F52: % | G52: =원가계산서!F29 -> 0
C53: 총원가 | G53: =원가계산서!F30 -> 0
C54: 부가가치세 | E54: 10 | F54: % | G54: =원가계산서!F31 -> 0
C55: 도급액 | G55: =원가계산서!F32 -> 0
C56: 관급자재대(도급자) | G56: =원가계산서!F33 -> 0
C57: 폐기물처리비 | G57: =원가계산서!F34 -> 0
C58: 총공사비 | G58: =원가계산서!F35 -> 0

Sheet 내역서
B1: 내역서
B3: 공종 | C3: 품 명 | D3: 규 격 | E3: 수 량 | F3: 단위 | G3: 합 계 | I3: 노무비 | K3: 재료비 | M3: 경 비 | O3: 비 고
G4: 단 가 | H4: 금 액 | I4: 단 가 | J4: 금 액 | K4: 단 가 | L4: 금 액 | M4: 단 가 | N4: 금 액
B5: ▣ | C5: 석적읍 석적로 955-9 일원 | G5: =I5+K5+M5 -> 0 | H5: =J5+L5+N5 -> 0
B6: 1. | C6: 토 공 | G6: =I6+K6+M6 -> 0 | H6: =J6+L6+N6 -> 0
C7: 터파기:토사 | D7: BH 0.7 기계100% | E7: 218 | F7: ㎥ | G7: =I7+K7+M7 -> 0 | H7: =J7+L7+N7 -> 0 | J7: =TRUNC(E7*I7,0) -> 0 | L7: =TRUNC(E7*K7,0) -> 0 | N7: =TRUNC(E7*M7,0) -> 0 | O7: 단산1참조
C8: 터파기:토사 | D8: BH 0.2 기계90%+인력10% | E8: 341 | F8: ㎥ | G8: =I8+K8+M8 -> 0 | H8: =J8+L8+N8 -> 0 | J8: =TRUNC(E8*I8,0) -> 0 | L8: =TRUNC(E8*K8,0) -> 0 | N8: =TRUNC(E8*M8,0) -> 0 | O8: 단산2참조
C9: 되메우기(다짐:로울러0.7T) | D9: BH 0.7 기계100% | E9: 118 | F9: ㎥ | G9: =I9+K9+M9 -> 0 | H9: =J9+L9+N9 -> 0 | J9: =TRUNC(E9*I9,0) -> 0 | L9: =TRUNC(E9*K9,0) -> 0 | N9: =TRUNC(E9*M9,0) -> 0 | O9: 단산3참조
C10: 되메우기(다짐:로울러0.7T) | D10: BH 0.2 기계90%+인력10% | E10: 210 | F10: ㎥ | G10: =I10+K10+M10 -> 0 | H10: =J10+L10+N10 -> 0 | J10: =TRUNC(E10*I10,0) -> 0 | L10: =TRUNC(E10*K10,0) -> 0 | N10: =TRUNC(E10*M10,0) -> 0 | O10: 단산4참조
C11: 석분부설(다짐:콤팩터) | D11: BH 0.7 기계100% | E11: 52 | F11: ㎥ | G11: =I11+K11+M11 -> 0 | H11: =J11+L11+N11 -> 0 | J11: =TRUNC(E11*I11,0) -> 0 | L11: =TRUNC(E11*K11,0) -> 0 | N11: =TRUNC(E11*M11,0) -> 0 | O11: 단산5참조
C12: 석분부설(다짐:콤팩터) | D12: BH 0.2 기계90%+인력10% | E12: 78 | F12: ㎥ | G12: =I12+K12+M12 -> 0 | H12: =J12+L12+N12 -> 0 | J12: =TRUNC(E12*I12,0) -> 0 | L12: =TRUNC(E12*K12,0) -> 0 | N12: =TRUNC(E12*M12,0) -> 0 | O12: 단산6참조
C13: 사토처리:토사 | D13: BH 0.7 L=5.0km | E13: 195 | F13: ㎥ | G13: =I13+K13+M13 -> 0 | H13: =J13+L13+N13 -> 0 | J13: =TRUNC(E13*I13,0) -> 0 | L13: =TRUNC(E13*K13,0) -> 0 | N13: =TRUNC(E13*M13,0) -> 0 | O13: 단산7참조
C14: 아스팔트포장절단 | D14: 기계 | E14: 892 | F14: M | G14: =I14+K14+M14 -> 0 | H14: =J14+L14+N14 -> 0 | J14: =TRUNC(E14*I14,0) -> 0 | L14: =TRUNC(E14*K14,0) -> 0 | N14: =TRUNC(E14*M14,0) -> 0 | O14: 단산8참조
C15: 콘크리트포장절단 | D15: 기계 | E15: 22 | F15: M | G15: =I15+K15+M15 -> 0 | H15: =J15+L15+N15 -> 0 | J15: =TRUNC(E15*I15,0) -> 0 | L15: =TRUNC(E15*K15,0) -> 0 | N15: =TRUNC(E15*M15,0) -> 0 | O15: 단산9참조
C16: 아스팔트포장깨기 | D16: BH 0.7 대형브레이카 | E16: 36 | F16: ㎥ | G16: =I16+K16+M16 -> 0 | H16: =J16+L16+N16 -> 0 | J16: =TRUNC(E16*I16,0) -> 0 | L16: =TRUNC(E16*K16,0) -> 0 | N16: =TRUNC(E16*M16,0) -> 0 | O16: 단산10참조
C17: 콘크리트포장깨기 | D17: BH 0.2 대형브레이카 | E17: 2 | F17: ㎥ | G17: =I17+K17+M17 -> 0 | H17: =J17+L17+N17 -> 0 | J17: =TRUNC(E17*I17,0) -> 0 | L17: =TRUNC(E17*K17,0) -> 0 | N17: =TRUNC(E17*M17,0) -> 0 | O17: 단산11참조
C18: 투수콘포장깨기 | D18: BH 0.2 대형브레이카 | E18: 23 | F18: ㎥ | G18: =I18+K18+M18 -> 0 | H18: =J18+L18+N18 -> 0 | J18: =TRUNC(E18*I18,0) -> 0 | L18: =TRUNC(E18*K18,0) -> 0 | N18: =TRUNC(E18*M18,0) -> 0 | O18: 단산12참조
... C20: 파쇄물상차(폐기물) | D20: BH 0.7 | E20: 61 | F20: ㎥ | G20: =I20+K20+M20 -> 0 | H20: =J20+L20+N20 -> 0 | J20: =TRUNC(E20*I20,0) -> 0 | L20: =TRUNC(E20*K20,0) -> 0 | N20: =TRUNC(E20*M20,0) -> 0 | O20: 단산14참조
G21: =I21+K21+M21 -> 0 | H21: =J21+L21+N21 -> 0
B22: 2. | C22: 관부설공 | G22: =I22+K22+M22 -> 0 | H22: =J22+L22+N22 -> 0
B23: 2.1 | C23: 덕타일주철관 | G23: =I23+K23+M23 -> 0 | H23: =J23+L23+N23 -> 0
C24: KP 메커니컬 접합 및 부설 | D24: D200 | E24: 5 | F24: 개소 | G24: =I24+K24+M24 -> 0 | H24: =J24+L24+N24 -> 0 | I24: =일위대가총괄표!G4 -> 0 | J24: =TRUNC(E24*I24,0) -> 0 | K24: =일위대가총괄표!H4 -> 0 | L24: =TRUNC(E24*K24,0) -> 0 | M24: =일위대가총괄표!I4 -> 0 | N24: =TRUNC(E24*M24,0) -> 0 | O24: 일위1참조
C25: KP 메커니컬 접합 및 부설(인력) | D25: D100,인력 | E25: 1 | F25: 개소 | G25: =I25+K25+M25 -> 0 | H25: =J25+L25+N25 -> 0 | I25: =일위대가총괄표!G5 -> 0 | J25: =TRUNC(E25*I25,0) -> 0 | K25: =일위대가총괄표!H5 -> 0 | L25: =TRUNC(E25*K25,0) -> 0 | M25: =일위대가총괄표!I5 -> 0 | N25: =TRUNC(E25*M25,0) -> 0 | O25: 일위2참조
C26: KP 메커니컬 접합 및 부설 | D26: D80,인력 | E26: 65 | F26: 개소 | G26: =I26+K26+M26 -> 0 | H26: =J26+L26+N26 -> 0 | I26: =일위대가총괄표!G6 -> 0 | J26: =TRUNC(E26*I26,0) -> 0 | K26: =일위대가총괄표!H6 -> 0 | L26: =TRUNC(E26*K26,0) -> 0 | M26: =일위대가총괄표!I6 -> 0 | N26: =TRUNC(E26*M26,0) -> 0 | O26: 일위3참조
C27: KP 메커니컬 접합 및 부설(이탈) | D27: D80,인력 | E27: 19 | F27: 개소 | G27: =I27+K27+M27 -> 0 | H27: =J27+L27+N27 -> 0 | I27: =일위대가총괄표!G7 -> 0 | J27: =TRUNC(E27*I27,0) -> 0 | K27: =일위대가총괄표!H7 -> 0 | L27: =TRUNC(E27*K27,0) -> 0 | M27: =일위대가총괄표!I7 -> 0 | N27: =TRUNC(E27*M27,0) -> 0 | O27: 일위4참조
C28: 주철관절단 | D28: D200 | E28: 1 | F28: 개소 | G28: =I28+K28+M28 -> 0 | H28: =J28+L28+N28 -> 0 | I28: =일위대가총괄표!G8 -> 0 | J28: =TRUNC(E28*I28,0) -> 0 | K28: =일위대가총괄표!H8 -> 0 | L28: =TRUNC(E28*K28,0) -> 0 | M28: =일위대가총괄표!I8 -> 0 | N28: =TRUNC(E28*M28,0) -> 0 | O28: 일위5참조
C29: 주철관절단 | D29: D80 | E29: 19 | F29: 개소 | G29: =I29+K29+M29 -> 0 | H29: =J29+L29+N29 -> 0 | I29: =일위대가총괄표!G9 -> 0 | J29: =TRUNC(E29*I29,0) -> 0 | K29: =일위대가총괄표!H9 -> 0 | L29: =TRUNC(E29*K29,0) -> 0 | M29: =일위대가총괄표!I9 -> 0 | N29: =TRUNC(E29*M29,0) -> 0 | O29: 일위6참조
B30: 2.2 | C30: 내충격수도관 | G30: =I30+K30+M30 -> 0 | H30: =J30+L30+N30 -> 0
C31: 내충격PVC수도관 부설및접합 | D31: D50 | E31: 31 | F31: 본 | G31: =I31+K31+M31 -> 0 | H31: =J31+L31+N31 -> 0 | I31: =일위대가총괄표!G10 -> 0 | J31: =TRUNC(E31*I31,0) -> 0 | K31: =일위대가총괄표!H10 -> 0 | L31: =TRUNC(E31*K31,0) -> 0 | M31: =일위대가총괄표!I10 -> 0 | N31: =TRUNC(E31*M31,0) -> 0 | O31: 일위7참조
C32: 내충격수도관 이탈방지클램프설치 | D32: D50 | E32: 16 | F32: 개소 | G32: =I32+K32+M32 -> 0 | H32: =J32+L32+N32 -> 0 | I32: =일위대가총괄표!G11 -> 0 | J32: =TRUNC(E32*I32,0) -> 0 | K32: =일위대가총괄표!H11 -> 0 | L32: =TRUNC(E32*K32,0) -> 0 | M32: =일위대가총괄표!I11 -> 0 | N32: =TRUNC(E32*M32,0) -> 0 | O32: 일위8참조
C33: 내충격수도관 이형관부설 | D33: D50 | E33: 9 | F33: 개소 | G33: =I33+K33+M33 -> 0 | H33: =J33+L33+N33 -> 0 | I33: =일위대가총괄표!G13 -> 0 | J33: =TRUNC(E33*I33,0) -> 0 | K33: =일위대가총괄표!H13 -> 0 | L33: =TRUNC(E33*K33,0) -> 0 | M33: =일위대가총괄표!I13 -> 0 | N33: =TRUNC(E33*M33,0) -> 0 | O33: 일위10참조
C34: 내충격수도관 이형관접합 | D34: D50 | E34: 41 | F34: 개소 | G34: =I34+K34+M34 -> 0 | H34: =J34+L34+N34 -> 0 | I34: =일위대가총괄표!G14 -> 0 | J34: =TRUNC(E34*I34,0) -> 0 | K34: =일위대가총괄표!H14 -> 0 | L34: =TRUNC(E34*K34,0) -> 0 | M34: =일위대가총괄표!I14 -> 0 | N34: =TRUNC(E34*M34,0) -> 0 | O34: 일위11참조
C35: 내충격수도관절단 | D35: D50 | E35: 21 | F35: 개소 | G35: =I35+K35+M35 -> 0 | H35: =J35+L35+N35 -> 0 | I35: =일위대가총괄표!G15 -> 0 | J35: =TRUNC(E35*I35,0) -> 0 | K35: =일위대가총괄표!H15 -> 0 | L35: =TRUNC(E35*K35,0) -> 0 | M35: =일위대가총괄표!I15 -> 0 | N35: =TRUNC(E35*M35,0) -> 0 | O35: 일위12참조
B36: 2.3 | C36: 밸브및기타자재 | G36: =I36+K36+M36 -> 0 | H36: =J36+L36+N36 -> 0
C37: 나사조임식접합 | D37: D50 | E37: 6 | F37: 개소 | G37: =I37+K37+M37 -> 0 | H37: =J37+L37+N37 -> 0 | I37: =일위대가총괄표!G16 -> 0 | J37: =TRUNC(E37*I37,0) -> 0 | K37: =일위대가총괄표!H16 -> 0 | L37: =TRUNC(E37*K37,0) -> 0 | M37: =일위대가총괄표!I16 -> 0 | N37: =TRUNC(E37*M37,0) -> 0 | O37: 일위13참조
C38: 제수밸브 부설및접합 | D38: D200 | E38: 1 | F38: 개소 | G38: =I38+K38+M38 -> 0 | H38: =J38+L38+N38 -> 0 | I38: =일위대가총괄표!G17 -> 0 | J38: =TRUNC(E38*I38,0) -> 0 | K38: =일위대가총괄표!H17 -> 0 | L38: =TRUNC(E38*K38,0) -> 0 | M38: =일위대가총괄표!I17 -> 0 | N38: =TRUNC(E38*M38,0) -> 0 | O38: 일위14참조
C39: 제수밸브 부설및접합 | D39: D80,인력 | E39: 5 | F39: 개소 | G39: =I39+K39+M39 -> 0 | H39: =J39+L39+N39 -> 0 | I39: =일위대가총괄표!G18 -> 0 | J39: =TRUNC(E39*I39,0) -> 0 | K39: =일위대가총괄표!H18 -> 0 | L39: =TRUNC(E39*K39,0) -> 0 | M39: =일위대가총괄표!I18 -> 0 | N39: =TRUNC(E39*M39,0) -> 0 | O39: 일위15참조
C40: 밸브류설치 | D40: D32~50 | E40: 2 | F40: 개소 | G40: =I40+K40+M40 -> 0 | H40: =J40+L40+N40 -> 0 | I40: =일위대가총괄표!G19 -> 0 | J40: =TRUNC(E40*I40,0) -> 0 | K40: =일위대가총괄표!H19 -> 0 | L40: =TRUNC(E40*K40,0) -> 0 | M40: =일위대가총괄표!I19 -> 0 | N40: =TRUNC(E40*M40,0) -> 0 | O40: 일위16참조
C41: 부단수할정자관 부설및접합 | D41: D300 | E41: 1 | F41: 개소 | G41: =I41+K41+M41 -> 0 | H41: =J41+L41+N41 -> 0 | I41: =일위대가총괄표!G20 -> 0 | J41: =TRUNC(E41*I41,0) -> 0 | K41: =일위대가총괄표!H20 -> 0 | L41: =TRUNC(E41*K41,0) -> 0 | M41: =일위대가총괄표!I20 -> 0 | N41: =TRUNC(E41*M41,0) -> 0 | O41: 일위17참조
C42: 부단수할정자관 부설및접합 | D42: D200 | E42: 1 | F42: 개소 | G42: =I42+K42+M42 -> 0 | H42: =J42+L42+N42 -> 0 | I42: =일위대가총괄표!G21 -> 0 | J42: =TRUNC(E42*I42,0) -> 0 | K42: =일위대가총괄표!H21 -> 0 | L42: =TRUNC(E42*K42,0) -> 0 | M42: =일위대가총괄표!I21 -> 0 | N42: =TRUNC(E42*M42,0) -> 0 | O42: 일위18참조
C43: 부단수할정자관 부설및접합 | D43: D80 | E43: 1 | F43: 개소 | G43: =I43+K43+M43 -> 0 | H43: =J43+L43+N43 -> 0 | I43: =일위대가총괄표!G22 -> 0 | J43: =TRUNC(E43*I43,0) -> 0 | K43: =일위대가총괄표!H22 -> 0 | L43: =TRUNC(E43*K43,0) -> 0 | M43: =일위대가총괄표!I22 -> 0 | N43: =TRUNC(E43*M43,0) -> 0 | O43: 일위19참조
C44: 부단수천공 분기점분기 | D44: D300×80 | E44: 1 | F44: 개소 | G44: =I44+K44+M44 -> 0 | H44: =J44+L44+N44 -> 0 | I44: =일위대가총괄표!G23 -> 0 | J44: =TRUNC(E44*I44,0) -> 0 | K44: =일위대가총괄표!H23 -> 0 | L44: =TRUNC(E44*K44,0) -> 0 | M44: =일위대가총괄표!I23 -> 0 | N44: =TRUNC(E44*M44,0) -> 0 | O44: 일위20참조
C45: 부단수천공 분기점분기 | D45: D200×200 | E45: 1 | F45: 개소 | G45: =I45+K45+M45 -> 0 | H45: =J45+L45+N45 -> 0 | I45: =일위대가총괄표!G24 -> 0 | J45: =TRUNC(E45*I45,0) -> 0 | K45: =일위대가총괄표!H24 -> 0 | L45: =TRUNC(E45*K45,0) -> 0 | M45: =일위대가총괄표!I24 -> 0 | N45: =TRUNC(E45*M45,0) -> 0 | O45: 일위21참조
C46: 부단수천공 분기점분기 | D46: D80×80 | E46: 1 | F46: 개소 | G46: =I46+K46+M46 -> 0 | H46: =J46+L46+N46 -> 0 | I46: =일위대가총괄표!G25 -> 0 | J46: =TRUNC(E46*I46,0) -> 0 | K46: =일위대가총괄표!H25 -> 0 | L46: =TRUNC(E46*K46,0) -> 0 | M46: =일위대가총괄표!I25 -> 0 | N46: =TRUNC(E46*M46,0) -> 0 | O46: 일위22참조
B47: 2.4 | C47: 수압시험 | G47: =I47+K47+M47 -> 0 | H47: =J47+L47+N47 -> 0
C48: 수압시험비 | D48: (Φ80mm:300m당1회) | E48: 1 | F48: 회 | G48: =I48+K48+M48 -> 0 | H48: =J48+L48+N48 -> 0 | J48: =TRUNC(E48*I48,0) -> 0 | L48: =TRUNC(E48*K48,0) -> 0 | M48: =일위대가총괄표!G26+일위대가총괄표!H26+일위대가총괄표!I26 -> 0 | N48: =TRUNC(E48*M48,0) -> 0 | O48: 일위23참조
G49: =I49+K49+M49 -> 0 | H49: =J49+L49+N49 -> 0
B50: 3. | C50: 구조물공 | G50: =I50+K50+M50 -> 0 | H50: =J50+L50+N50 -> 0
B51: 3.1 | C51: 제수변보호통 설치 | G51: =I51+K51+M51 -> 0 | H51: =J51+L51+N51 -> 0
C52: 제수변보호통 설치 | D52: 1호,재료비포함 | E52: 7 | F52: 개소 | G52: =I52+K52+M52 -> 0 | H52: =J52+L52+N52 -> 0 | I52: =일위대가총괄표!G30 -> 0 | J52: =TRUNC(E52*I52,0) -> 0 | K52: =일위대가총괄표!H30 -> 0 | L52: =TRUNC(E52*K52,0) -> 0 | M52: =일위대가총괄표!I30 -> 0 | N52: =TRUNC(E52*M52,0) -> 0 | O52: 일위27참조
C53: 제수변보호통 설치 | D53: 3호,재료비포함 | E53: 1 | F53: 개소 | G53: =I53+K53+M53 -> 0 | H53: =J53+L53+N53 -> 0 | I53: =일위대가총괄표!G33 -> 0 | J53: =TRUNC(E53*I53,0) -> 0 | K53: =일위대가총괄표!H33 -> 0 | L53: =TRUNC(E53*K53,0) -> 0 | M53: =일위대가총괄표!I33 -> 0 | N53: =TRUNC(E53*M53,0) -> 0 | O53: 일위30참조
G54: =I54+K54+M54 -> 0 | H54: =J54+L54+N54 -> 0
B55: 4. | C55: 포 장 공 | G55: =I55+K55+M55 -> 0 | H55: =J55+L55+N55 -> 0
B56: 4.1 | C56: ASP(임시)포장 | D56: T = 15cm | G56: =I56+K56+M56 -> 0 | H56: =J56+L56+N56 -> 0
C57: 아스팔트 임시포장층 포설및다짐 | D57: 소형장비,t=5~7cm | E57: 244 | F57: ㎡ | G57: =I57+K57+M57 -> 0 | H57: =J57+L57+N57 -> 0 | J57: =TRUNC(E57*I57,0) -> 0 | L57: =TRUNC(E57*K57,0) -> 0 | N57: =TRUNC(E57*M57,0) -> 0 | O57: 단산15참조
C58: 아스팔트 기층 포설및다짐 | D58: 소형장비,t=8~10cm | E58: 244 | F58: ㎡ | G58: =I58+K58+M58 -> 0 | H58: =J58+L58+N58 -> 0 | J58: =TRUNC(E58*I58,0) -> 0 | L58: =TRUNC(E58*K58,0) -> 0 | N58: =TRUNC(E58*M58,0) -> 0 | O58: 단산16참조
C59: 텍코팅(인력식) | D59: 아스팔트스프레이어400ℓ | E59: 244 | F59: ㎡ | G59: =I59+K59+M59 -> 0 | H59: =J59+L59+N59 -> 0 | J59: =TRUNC(E59*I59,0) -> 0 | L59: =TRUNC(E59*K59,0) -> 0 | N59: =TRUNC(E59*M59,0) -> 0 | O59: 단산17참조
C60: 프라임코팅(인력식) | D60: 아스팔트스프레이어400ℓ | E60: 244 | F60: ㎡ | G60: =I60+K60+M60 -> 0 | H60: =J60+L60+N60 -> 0 | J60: =TRUNC(E60*I60,0) -> 0 | L60: =TRUNC(E60*K60,0) -> 0 | N60: =TRUNC(E60*M60,0) -> 0 | O60: 단산18참조
C61: 보조기층포설및다짐 | D61: 인력식 소규모 장비사용 시공 | E61: 45 | F61: ㎥ | G61: =I61+K61+M61 -> 0 | H61: =J61+L61+N61 -> 0 | J61: =TRUNC(E61*I61,0) -> 0 | L61: =TRUNC(E61*K61,0) -> 0 | N61: =TRUNC(E61*M61,0) -> 0 | O61: 단산19참조
B62: 4.2 | C62: 절삭후 ASP 덧씌우기 | D62: T = 5cm | G62: =I62+K62+M62 -> 0 | H62: =J62+L62+N62 -> 0
C63: 아스팔트 포장 절삭후 아스팔트 덧씌우기 | D63: B-Type (1회절삭,1회포장) | E63: 1105 | F63: ㎡ | G63: =I63+K63+M63 -> 0 | H63: =J63+L63+N63 -> 0 | J63: =TRUNC(E63*I63,0) -> 0 | L63: =TRUNC(E63*K63,0) -> 0 | N63: =TRUNC(E63*M63,0) -> 0 | O63: 단산20참조
B64: 4.3 | C64: CONC 포장 | D64: T = 20cm | G64: =I64+K64+M64 -> 0 | H64: =J64+L64+N64 -> 0
C65: 콘크리트포장(인력) | D65: B-TYPE, t=20cm | E65: 13 | F65: ㎡ | G65: =I65+K65+M65 -> 0 | H65: =J65+L65+N65 -> 0 | J65: =TRUNC(E65*I65,0) -> 0 | L65: =TRUNC(E65*K65,0) -> 0 | N65: =TRUNC(E65*M65,0) -> 0 | O65: 단산21참조
C66: 보조기층포설및다짐 | D66: 인력식 소규모 장비사용 시공 | E66: 2 | F66: ㎥ | G66: =I66+K66+M66 -> 0 | H66: =J66+L66+N66 -> 0 | J66: =TRUNC(E66*I66,0) -> 0 | L66: =TRUNC(E66*K66,0) -> 0 | N66: =TRUNC(E66*M66,0) -> 0 | O66: 단산19참조
B67: 4.4 | C67: 투수콘포장 | D67: T = 7cm | G67: =I67+K67+M67 -> 0 | H67: =J67+L67+N67 -> 0
C68: 투수콘포장 | D68: t=7cm | E68: 332 | F68: ㎡ | G68: =I68+K68+M68 -> 0 | H68: =J68+L68+N68 -> 0 | J68: =TRUNC(E68*I68,0) -> 0 | L68: =TRUNC(E68*K68,0) -> 0 | N68: =TRUNC(E68*M68,0) -> 0 | O68: 단산22참조
C69: 보조기층포설및다짐 | D69: 인력식 소규모 장비사용 시공 | E69: 47 | F69: ㎥ | G69: =I69+K69+M69 -> 0 | H69: =J69+L69+N69 -> 0 | J69: =TRUNC(E69*I69,0) -> 0 | L69: =TRUNC(E69*K69,0) -> 0 | N69: =TRUNC(E69*M69,0) -> 0 | O69: 단산19참조
C70: 보조기층소운반 | D70: 가적취장⇒현장:L=0.1km | E70: 47 | F70: ㎥ | G70: =I70+K70+M70 -> 0 | H70: =J70+L70+N70 -> 0 | J70: =TRUNC(E70*I70,0) -> 0 | L70: =TRUNC(E70*K70,0) -> 0 | N70: =TRUNC(E70*M70,0) -> 0 | O70: 단산23참조
B71: 4.5 | C71: 차선도색 | G71: =I71+K71+M71 -> 0 | H71: =J71+L71+N71 -> 0
C72: 차선도색(융착식,일반형)-운행도로,차량부분통제 | D72: 수동식,백색파선 | E72: 7 | F72: ㎡ | G72: =I72+K72+M72 -> 0 | H72: =J72+L72+N72 -> 0 | J72: =TRUNC(E72*I72,0) -> 0 | L72: =TRUNC(E72*K72,0) -> 0 | N72: =TRUNC(E72*M72,0) -> 0 | O72: 단산24참조
C73: 차선도색(융착식,일반형)-운행도로,차량부분통제 | D73: 수동식,백색실선 | E73: 7 | F73: ㎡ | G73: =I73+K73+M73 -> 0 | H73: =J73+L73+N73 -> 0 | J73: =TRUNC(E73*I73,0) -> 0 | L73: =TRUNC(E73*K73,0) -> 0 | N73: =TRUNC(E73*M73,0) -> 0 | O73: 단산25참조
C74: 차선도색(융착식,일반형)-운행도로,차량부분통제 | D74: 수동식,황색파선 | E74: 2 | F74: ㎡ | G74: =I74+K74+M74 -> 0 | H74: =J74+L74+N74 -> 0 | J74: =TRUNC(E74*I74,0) -> 0 | L74: =TRUNC(E74*K74,0) -> 0 | N74: =TRUNC(E74*M74,0) -> 0 | O74: 단산26참조
C75: 차선도색(융착식,일반형)-운행도로,차량부분통제 | D75: 수동식,황색실선 | E75: 29 | F75: ㎡ | G75: =I75+K75+M75 -> 0 | H75: =J75+L75+N75 -> 0 | J75: =TRUNC(E75*I75,0) -> 0 | L75: =TRUNC(E75*K75,0) -> 0 | N75: =TRUNC(E75*M75,0) -> 0 | O75: 단산27참조
C76: 차선도색(융착식,일반형)-운행도로,차량부분통제 | D76: 수동식,횡단보도.주차장 | E76: 66 | F76: ㎡ | G76: =I76+K76+M76 -> 0 | H76: =J76+L76+N76 -> 0 | J76: =TRUNC(E76*I76,0) -> 0 | L76: =TRUNC(E76*K76,0) -> 0 | N76: =TRUNC(E76*M76,0) -> 0 | O76: 단산28참조
C77: 차선도색(융착식,일반형)-운행도로,차량부분통제 | D77: 수동식,문자.기호 | E77: 18 | F77: ㎡ | G77: =I77+K77+M77 -> 0 | H77: =J77+L77+N77 -> 0 | J77: =TRUNC(E77*I77,0) -> 0 | L77: =TRUNC(E77*K77,0) -> 0 | N77: =TRUNC(E77*M77,0) -> 0 | O77: 단산29참조
B78: 4.6 | C78: 과속방지턱 | G78: =I78+K78+M78 -> 0 | H78: =J78+L78+N78 -> 0
C79: 아스팔트포장깨기 | D79: BH 0.7 대형브레이카 | E79: 2 | F79: ㎥ | G79: =I79+K79+M79 -> 0 | H79: =J79+L79+N79 -> 0 | J79: =TRUNC(E79*I79,0) -> 0 | L79: =TRUNC(E79*K79,0) -> 0 | N79: =TRUNC(E79*M79,0) -> 0 | O79: 단산10참조
C80: 파쇄물상차(폐기물) | D80: BH 0.7 | E80: 2 | F80: ㎥ | G80: =I80+K80+M80 -> 0 | H80: =J80+L80+N80 -> 0 | J80: =TRUNC(E80*I80,0) -> 0 | L80: =TRUNC(E80*K80,0) -> 0 | N80: =TRUNC(E80*M80,0) -> 0 | O80: 단산14참조
C81: 아스팔트 표층 포설및다짐 | D81: 소형장비,t=5~7cm | E81: 15 | F81: ㎡ | G81: =I81+K81+M81 -> 0 | H81: =J81+L81+N81 -> 0 | J81: =TRUNC(E81*I81,0) -> 0 | L81: =TRUNC(E81*K81,0) -> 0 | N81: =TRUNC(E81*M81,0) -> 0 | O81: 단산30참조
C82: 텍코팅(인력식) | D82: 아스팔트스프레이어400ℓ | E82: 15 | F82: ㎡ | G82: =I82+K82+M82 -> 0 | H82: =J82+L82+N82 -> 0 | J82: =TRUNC(E82*I82,0) -> 0 | L82: =TRUNC(E82*K82,0) -> 0 | N82: =TRUNC(E82*M82,0) -> 0 | O82: 단산17참조
C83: 차선도색(융착식,일반형)-운행도로,차량부분통제 | D83: 수동식,백색실선 | E83: 16 | F83: ㎡ | G83: =I83+K83+M83 -> 0 | H83: =J83+L83+N83 -> 0 | J83: =TRUNC(E83*I83,0) -> 0 | L83: =TRUNC(E83*K83,0) -> 0 | N83: =TRUNC(E83*M83,0) -> 0 | O83: 단산25참조
C84: 차선도색(융착식,일반형)-운행도로,차량부분통제 | D84: 수동식,황색실선 | E84: 16 | F84: ㎡ | G84: =I84+K84+M84 -> 0 | H84: =J84+L84+N84 -> 0 | J84: =TRUNC(E84*I84,0) -> 0 | L84: =TRUNC(E84*K84,0) -> 0 | N84: =TRUNC(E84*M84,0) -> 0 | O84: 단산27참조
G85: =I85+K85+M85 -> 0 | H85: =J85+L85+N85 -> 0
B86: 5. | C86: 부 대 공 | G86: =I86+K86+M86 -> 0 | H86: =J86+L86+N86 -> 0
B87: 5.1 | C87: 안전시설물 | G87: =I87+K87+M87 -> 0 | H87: =J87+L87+N87 -> 0
C88: 교통안전시설 설치및철거 | D88: PE안전휀스(1.5×0.9) | E88: 454 | F88: M | G88: =I88+K88+M88 -> 0 | H88: =J88+L88+N88 -> 0 | J88: =TRUNC(E88*I88,0) -> 0 | L88: =TRUNC(E88*K88,0) -> 0 | N88: =TRUNC(E88*M88,0) -> 0 | O88: 단산31참조
C89: 공사설명판 | D89: 1.5 X 1.2 | E89: 1 | F89: 개 | G89: =I89+K89+M89 -> 0 | H89: =J89+L89+N89 -> 0 | J89: =TRUNC(E89*I89,0) -> 0 | L89: =TRUNC(E89*K89,0) -> 0 | N89: =TRUNC(E89*M89,0) -> 0 | O89: 단산32참조
C90: 우회표지판 | D90: 0.6 X 1.2 | E90: 4 | F90: EA | G90: =I90+K90+M90 -> 0 | H90: =J90+L90+N90 -> 0 | J90: =TRUNC(E90*I90,0) -> 0 | L90: =TRUNC(E90*K90,0) -> 0 | N90: =TRUNC(E90*M90,0) -> 0 | O90: 단산34참조
C91: 교통신호수 | D91: 2인1조 | E91: 7 | F91: 일 | G91: =I91+K91+M91 -> 0 | H91: =J91+L91+N91 -> 0 | J91: =TRUNC(E91*I91,0) -> 0 | L91: =TRUNC(E91*K91,0) -> 0 | N91: =TRUNC(E91*M91,0) -> 0 | O91: 단산36참조
C92: 관로표시테이프 | D92: 폭30cm×1m | E92: 448 | F92: M | G92: =I92+K92+M92 -> 0 | H92: =J92+L92+N92 -> 0 | J92: =TRUNC(E92*I92,0) -> 0 | L92: =TRUNC(E92*K92,0) -> 0 | N92: =TRUNC(E92*M92,0) -> 0
C93: 관로표시못 설치 | D93: B-Type | E93: 6 | F93: 개소 | G93: =I93+K93+M93 -> 0 | H93: =J93+L93+N93 -> 0 | J93: =TRUNC(E93*I93,0) -> 0 | L93: =TRUNC(E93*K93,0) -> 0 | N93: =TRUNC(E93*M93,0) -> 0 | O93: 단산37참조
B94: 5.2 | C94: 기존구조물깨기 | G94: =I94+K94+M94 -> 0 | H94: =J94+L94+N94 -> 0
C95: 콘크리트구멍뚫기(벽체) | D95: D80(200),T=150 | E95: 1 | F95: 개소 | G95: =I95+K95+M95 -> 0 | H95: =J95+L95+N95 -> 0 | I95: =일위대가총괄표!G34 -> 0 | J95: =TRUNC(E95*I95,0) -> 0 | K95: =일위대가총괄표!H34 -> 0 | L95: =TRUNC(E95*K95,0) -> 0 | M95: =일위대가총괄표!I34 -> 0 | N95: =TRUNC(E95*M95,0) -> 0 | O95: 일위31참조
C96: 콘크리트구멍뚫기(벽체) | D96: D50(200),T=150 | E96: 1 | F96: 개소 | G96: =I96+K96+M96 -> 0 | H96: =J96+L96+N96 -> 0 | I96: =일위대가총괄표!G35 -> 0 | J96: =TRUNC(E96*I96,0) -> 0 | K96: =일위대가총괄표!H35 -> 0 | L96: =TRUNC(E96*K96,0) -> 0 | M96: =일위대가총괄표!I35 -> 0 | N96: =TRUNC(E96*M96,0) -> 0 | O96: 일위32참조
C97: 몰 탈 | D97: 1:3 (재료포함) | E97: 0.006 | F97: ㎥ | G97: =I97+K97+M97 -> 0 | H97: =J97+L97+N97 -> 0 | I97: =일위대가총괄표!G36 -> 0 | J97: =TRUNC(E97*I97,0) -> 0 | K97: =일위대가총괄표!H36 -> 0 | L97: =TRUNC(E97*K97,0) -> 0 | M97: =일위대가총괄표!I36 -> 0 | N97: =TRUNC(E97*M97,0) -> 0 | O97: 일위33참조
C98: 관지수링 | D98: 수팽창고무,2005 | E98: 1.21 | F98: m | G98: =I98+K98+M98 -> 0 | H98: =J98+L98+N98 -> 0 | I98: =일위대가총괄표!G37 -> 0 | J98: =TRUNC(E98*I98,0) -> 0 | K98: =일위대가총괄표!H37 -> 0 | L98: =TRUNC(E98*K98,0) -> 0 | M98: =일위대가총괄표!I37 -> 0 | N98: =TRUNC(E98*M98,0) -> 0 | O98: 일위34참조
B99: 5.3 | C99: 관보호공 | G99: =I99+K99+M99 -> 0 | H99: =J99+L99+N99 -> 0
C100: 레미콘타설(장비사용타설) | D100: 무근구조물 | E100: 1.26 | F100: ㎥ | G100: =I100+K100+M100 -> 0 | H100: =J100+L100+N100 -> 0 | I100: =일위대가총괄표!G31 -> 0 | J100: =TRUNC(E100*I100,0) -> 0 | K100: =일위대가총괄표!H31 -> 0 | L100: =TRUNC(E100*K100,0) -> 0 | M100: =일위대가총괄표!I31 -> 0 | N100: =TRUNC(E100*M100,0) -> 0 | O100: 일위28참조
C101: 유로폼 | D101: 간단,0~7m | E101: 5.52 | F101: ㎡ | G101: =I101+K101+M101 -> 0 | H101: =J101+L101+N101 -> 0 | I101: =일위대가총괄표!G32 -> 0 | J101: =TRUNC(E101*I101,0) -> 0 | K101: =일위대가총괄표!H32 -> 0 | L101: =TRUNC(E101*K101,0) -> 0 | M101: =일위대가총괄표!I32 -> 0 | N101: =TRUNC(E101*M101,0) -> 0 | O101: 일위29참조
B102: 5.4 | C102: 지하매설물보호공 | G102: =I102+K102+M102 -> 0 | H102: =J102+L102+N102 -> 0
...

Sheet 일위대가총괄표
B1: 일위대가총괄표
B3: 호 표 | C3: 품 명 | D3: 규 격 | E3: 단위 | F3: 합 계 | G3: 노무비 | H3: 재료비 | I3: 경 비 | J3: 비 고 | Z3: 당초합계 | AA3: 당초노무비 | AB3: 당초재료비 | AC3: 당초경비
B4: 제1호표 | C4: KP 메커니컬 접합 및 부설 | D4: D200 | E4: 개소 | F4: =G4+H4+I4 -> 0 | G4: =일위대가!J5 -> 0 | H4: =일위대가!L5 -> 0 | I4: =일위대가!N5 -> 0 | Z4: 138627 | AA4: 106297 | AB4: 7002 | AC4: 25328
B5: 제2호표 | C5: KP 메커니컬 접합 및 부설(인력) | D5: D100,인력 | E5: 개소 | F5: =G5+H5+I5 -> 0 | G5: =일위대가!J12 -> 0 | H5: =일위대가!L12 -> 0 | I5: =일위대가!N12 -> 0 | Z5: 83179 | AA5: 79980 | AC5: 3199
B6: 제3호표 | C6: KP 메커니컬 접합 및 부설 | D6: D80,인력 | E6: 개소 | F6: =G6+H6+I6 -> 0 | G6: =일위대가!J18 -> 0 | H6: =일위대가!L18 -> 0 | I6: =일위대가!N18 -> 0 | Z6: 76781 | AA6: 73828 | AC6: 2953
B7: 제4호표 | C7: KP 메커니컬 접합 및 부설(이탈) | D7: D80,인력 | E7: 개소 | F7: =G7+H7+I7 -> 0 | G7: =일위대가!J24 -> 0 | H7: =일위대가!L24 -> 0 | I7: =일위대가!N24 -> 0 | Z7: 99815 | AA7: 95976 | AC7: 3839
B8: 제5호표 | C8: 주철관절단 | D8: D200 | E8: 개소 | F8: =G8+H8+I8 -> 0 | G8: =일위대가!J31 -> 0 | H8: =일위대가!L31 -> 0 | I8: =일위대가!N31 -> 0 | Z8: 33084 | AA8: 31509 | AB8: 1575
B9: 제6호표 | C9: 주철관절단 | D9: D80 | E9: 개소 | F9: =G9+H9+I9 -> 0 | G9: =일위대가!J35 -> 0 | H9: =일위대가!L35 -> 0 | I9: =일위대가!N35 -> 0 | Z9: 22056 | AA9: 21006 | AC9: 1050
B10: 제7호표 | C10: 내충격PVC수도관 부설및접합 | D10: D50 | E10: 본 | F10: =G10+H10+I10 -> 0 | G10: =일위대가!J39 -> 0 | H10: =일위대가!L39 -> 0 | I10: =일위대가!N39 -> 0 | Z10: 25767 | AA10: 25262 | AB10: 505
B11: 제8호표 | C11: 내충격수도관 이탈방지클램프설치 | D11: D50 | E11: 개소 | F11: =G11+H11+I11 -> 0 | G11: =일위대가!J44 -> 0 | H11: =일위대가!L44 -> 0 | I11: =일위대가!N44 -> 0 | Z11: 11440 | AA11: 11440
B12: 제9호표 | C12: 내충격수도관 편수접합 | D12: D50 | E12: 개소 | F12: =G12+H12+I12 -> 0 | G12: =일위대가!J48 -> 0 | H12: =일위대가!L48 -> 0 | I12: =일위대가!N48 -> 0 | Z12: 8800 | AA12: 8800
B13: 제10호표 | C13: 내충격수도관 이형관부설 | D13: D50 | E13: 개소 | F13: =G13+H13+I13 -> 0 | G13: =일위대가!J52 -> 0 | H13: =일위대가!L52 -> 0 | I13: =일위대가!N52 -> 0 | Z13: 2401 | AA13: 2401
B14: 제11호표 | C14: 내충격수도관 이형관접합 | D14: D50 | E14: 개소 | F14: =G14+H14+I14 -> 0 | G14: =일위대가!J56 -> 0 | H14: =일위대가!L56 -> 0 | I14: =일위대가!N56 -> 0 | Z14: 8004 | AA14: 8004
B15: 제12호표 | C15: 내충격수도관절단 | D15: D50 | E15: 개소 | F15: =G15+H15+I15 -> 0 | G15: =일위대가!J60 -> 0 | H15: =일위대가!L60 -> 0 | I15: =일위대가!N60 -> 0 | Z15: 5445 | AA15: 5251 | AB15: 157 | AC15: 37
B16: 제13호표 | C16: 나사조임식접합 | D16: D50 | E16: 개소 | F16: =G16+H16+I16 -> 0 | G16: =일위대가!J65 -> 0 | H16: =일위대가!L65 -> 0 | I16: =일위대가!N65 -> 0 | Z16: 34489 | AA16: 30522 | AC16: 3967
B17: 제14호표 | C17: 제수밸브 부설및접합 | D17: D200 | E17: 개소 | F17: =G17+H17+I17 -> 0 | G17: =일위대가!J73 -> 0 | H17: =일위대가!L73 -> 0 | I17: =일위대가!N73 -> 0 | Z17: 117226 | AA17: 101579 | AB17: 8533 | AC17: 7114
B18: 제15호표 | C18: 제수밸브 부설및접합 | D18: D80,인력 | E18: 개소 | F18: =G18+H18+I18 -> 0 | G18: =일위대가!J79 -> 0 | H18: =일위대가!L79 -> 0 | I18: =일위대가!N79 -> 0 | Z18: 53109 | AA18: 52068 | AB18: 1041
B19: 제16호표 | C19: 밸브류설치 | D19: D32~50 | E19: 개소 | F19: =G19+H19+I19 -> 0 | G19: =일위대가!J84 -> 0 | H19: =일위대가!L84 -> 0 | I19: =일위대가!N84 -> 0 | Z19: 18710 | AA19: 18344 | AC19: 366
B20: 제17호표 | C20: 부단수할정자관 부설및접합 | D20: D300 | E20: 개소 | F20: =G20+H20+I20 -> 0 | G20: =일위대가!J88 -> 0 | H20: =일위대가!L88 -> 0 | I20: =일위대가!N88 -> 0 | Z20: 94594 | AA20: 88777 | AB20: 3705 | AC20: 2112
B21: 제18호표 | C21: 부단수할정자관 부설및접합 | D21: D200 | E21: 개소 | F21: =G21+H21+I21 -> 0 | G21: =일위대가!J94 -> 0 | H21: =일위대가!L94 -> 0 | I21: =일위대가!N94 -> 0 | Z21: 77691 | AA21: 73249 | AB21: 2886 | AC21: 1556
B22: 제19호표 | C22: 부단수할정자관 부설및접합 | D22: D80 | E22: 개소 | F22: =G22+H22+I22 -> 0 | G22: =일위대가!J100 -> 0 | H22: =일위대가!L100 -> 0 | I22: =일위대가!N100 -> 0 | Z22: 69362 | AA22: 68002 | AB22: 1360
B23: 제20호표 | C23: 부단수천공 분기점분기 | D23: D300×80 | E23: 개소 | F23: =G23+H23+I23 -> 0 | G23: =일위대가!J105 -> 0 | H23: =일위대가!L105 -> 0 | I23: =일위대가!N105 -> 0 | Z23: 204711 | AA23: 171653 | AB23: 20607 | AC23: 12451
B24: 제21호표 | C24: 부단수천공 분기점분기 | D24: D200×200 | E24: 개소 | F24: =G24+H24+I24 -> 0 | G24: =일위대가!J111 -> 0 | H24: =일위대가!L111 -> 0 | I24: =일위대가!N111 -> 0 | Z24: 271809 | AA24: 228918 | AB24: 15953 | AC24: 26938
B25: 제22호표 | C25: 부단수천공 분기점분기 | D25: D80×80 | E25: 개소 | F25: =G25+H25+I25 -> 0 | G25: =일위대가!J117 -> 0 | H25: =일위대가!L117 -> 0 | I25: =일위대가!N117 -> 0 | Z25: 204711 | AA25: 171653 | AB25: 20607 | AC25: 12451
B26: 제23호표 | C26: 수압시험비 | D26: (Φ80mm:300m당1회) | E26: 회 | F26: =G26+H26+I26 -> 0 | G26: =일위대가!J123 -> 0 | H26: =일위대가!L123 -> 0 | I26: =일위대가!N123 -> 0 | J26: (경비) | Z26: 624127 | AA26: 545893 | AB26: 63008 | AC26: 15226
B27: 제24호표 | C27: 수압시험재료비(D80) | D27: (10회사용) | E27: 회당 | F27: =G27+H27+I27 -> 0 | G27: =일위대가!J131 -> 0 | H27: =일위대가!L131 -> 0 | I27: =일위대가!N131 -> 0 | Z27: 29990 | AB27: 29990
B28: 제25호표 | C28: 주철관부설(이형관) | D28: D80 | E28: 개소 | F28: =G28+H28+I28 -> 0 | G28: =일위대가!J141 -> 0 | H28: =일위대가!L141 -> 0 | I28: =일위대가!N141 -> 0 | Z28: 49746 | AA28: 35849 | AB28: 6759 | AC28: 7138
B29: 제26호표 | C29: 플랜지접합 | D29: D80mm이하 | E29: 개소 | F29: =G29+H29+I29 -> 0 | G29: =일위대가!J146 -> 0 | H29: =일위대가!L146 -> 0 | I29: =일위대가!N146 -> 0 | Z29: 21791 | AA29: 16570 | AB29: 4890 | AC29: 331
B30: 제27호표 | C30: 제수변보호통 설치 | D30: 1호,재료비포함 | E30: 개소 | F30: =G30+H30+I30 -> 0 | G30: =일위대가!J152 -> 0 | H30: =일위대가!L152 -> 0 | I30: =일위대가!N152 -> 0 | Z30: 230842 | AA30: 21711 | AB30: 208890 | AC30: 241
B31: 제28호표 | C31: 레미콘타설(장비사용타설) | D31: 무근구조물 | E31: ㎥ | F31: =G31+H31+I31 -> 0 | G31: =일위대가!J159 -> 0 | H31: =일위대가!L159 -> 0 | I31: =일위대가!N159 -> 0 | Z31: 30334 | AA31: 23247 | AB31: 3644 | AC31: 3443
B32: 제29호표 | C32: 유로폼 | D32: 간단,0~7m | E32: ㎡ | F32: =G32+H32+I32 -> 0 | G32: =일위대가!J166 -> 0 | H32: =일위대가!L166 -> 0 | I32: =일위대가!N166 -> 0 | Z32: 36064 | AA32: 31880 | AB32: 4184
B33: 제30호표 | C33: 제수변보호통 설치 | D33: 3호,재료비포함 | E33: 개소 | F33: =G33+H33+I33 -> 0 | G33: =일위대가!J175 -> 0 | H33: =일위대가!L175 -> 0 | I33: =일위대가!N175 -> 0 | Z33: 284144 | AA33: 24666 | AB33: 259272 | AC33: 206
B34: 제31호표 | C34: 콘크리트구멍뚫기(벽체) | D34: D80(200),T=150 | E34: 개소 | F34: =G34+H34+I34 -> 0 | G34: =일위대가!J182 -> 0 | H34: =일위대가!L182 -> 0 | I34: =일위대가!N182 -> 0 | Z34: 129526 | AA34: 126987 | AC34: 2539
B35: 제32호표 | C35: 콘크리트구멍뚫기(벽체) | D35: D50(200),T=150 | E35: 개소 | F35: =G35+H35+I35 -> 0 | G35: =일위대가!J188 -> 0 | H35: =일위대가!L188 -> 0 | I35: =일위대가!N188 -> 0 | Z35: 129526 | AA35: 126987 | AC35: 2539
B36: 제33호표 | C36: 몰 탈 | D36: 1:3 (재료포함) | E36: ㎥ | F36: =G36+H36+I36 -> 0 | G36: =일위대가!J194 -> 0 | H36: =일위대가!L194 -> 0 | I36: =일위대가!N194 -> 0 | Z36: 247294 | AA36: 113564 | AB36: 133730
B37: 제34호표 | C37: 관지수링 | D37: 수팽창고무,2005 | E37: m | F37: =G37+H37+I37 -> 0 | G37: =일위대가!J200 -> 0 | H37: =일위대가!L200 -> 0 | I37: =일위대가!N200 -> 0 | Z37: 1365 | AB37: 1300 | AC37: 65
B38: 제35호표 | C38: 강관설치및철거 | D38: D150mm | E38: M | F38: =G38+H38+I38 -> 0 | G38: =일위대가!J204 -> 0 | H38: =일위대가!L204 -> 0 | I38: =일위대가!N204 -> 0 | Z38: 16053 | AA38: 16053
B39: 제36호표 | C39: 강관설치및철거 | D39: D150mm, 인력 | E39: 본 | F39: =G39+H39+I39 -> 0 | G39: =일위대가!J207 -> 0 | H39: =일위대가!L207 -> 0 | I39: =일위대가!N207 -> 0 | Z39: 96358 | AA39: 96358
B40: 제37호표 | C40: 차선규제봉철거 | E40: 개소 | F40: =G40+H40+I40 -> 0 | G40: =일위대가!J210 -> 0 | H40: =일위대가!L210 -> 0 | I40: =일위대가!N210 -> 0 | Z40: 3277 | AA40: 3121 | AB40: 156
B41: 제38호표 | C41: 중앙분리대철거 | E41: M | F41: =G41+H41+I41 -> 0 | G41: =일위대가!J214 -> 0 | H41: =일위대가!L214 -> 0 | I41: =일위대가!N214 -> 0 | Z41: 27918 | AA41: 21559 | AB41: 3746 | AC41: 2613

Sheet 일위대가
B1: 일위대가
B3: 호 표 | C3: 품 명 | D3: 규 격 | E3: 수 량 | F3: 단위 | G3: 합 계 | I3: 노무비 | K3: 재료비 | M3: 경 비 | O3: 비 고
G4: 단 가 | H4: 금 액 | I4: 단 가 | J4: 금 액 | K4: 단 가 | L4: 금 액 | M4: 단 가 | N4: 금 액
B5: 제1호표 | C5: KP 메커니컬 접합 및 부설 | D5: D200 | F5: 개소 | J5: =TRUNC(J10) -> 0 | L5: =TRUNC(L10) -> 0 | N5: =TRUNC(N10) -> 0
C6: 배 관 공(수도) | E6: 2 | F6: 인 | J6: =TRUNC(E6*I6,0) -> 0 | L6: =TRUNC(E6*K6,0) -> 0 | N6: =TRUNC(E6*M6,0) -> 0
C7: 보 통 인 부 | E7: 1 | F7: 인 | J7: =TRUNC(E7*I7,0) -> 0 | L7: =TRUNC(E7*K7,0) -> 0 | N7: =TRUNC(E7*M7,0) -> 0
C8: 공구손료 및 경장비의 기계경비 | D8: 노무비의 | E8: 4 | F8: % | J8: =TRUNC(E8*1/100*I8,0) -> 0 | L8: =TRUNC(E8*1/100*K8,0) -> 0 | M8: =J7+J6 -> 0 | N8: =TRUNC(E8*1/100*M8,0) -> 0
C9: 크레인(타이어) | D9: 10Ton | E9: 8 | F9: hr | J9: =TRUNC(E9*I9,0) -> 0 | L9: =TRUNC(E9*K9,0) -> 0 | N9: =TRUNC(E9*M9,0) -> 0 | O9: 장비13참조
C10: =>본당 적용값 | D10: 소계÷11본 | E10: 0.0909 | F10: 식 | I10: =J9+J8+J7+J6 -> 0 | J10: =TRUNC(E10*I10,0) -> 0 | K10: =L9+L8+L7+L6 -> 0 | L10: =TRUNC(E10*K10,0) -> 0 | M10: =N9+N8+N7+N6 -> 0 | N10: =TRUNC(E10*M10,0) -> 0
J11: =TRUNC(E11*I11,0) -> 0 | L11: =TRUNC(E11*K11,0) -> 0 | N11: =TRUNC(E11*M11,0) -> 0
B12: 제2호표 | C12: KP 메커니컬 접합 및 부설(인력) | D12: D100,인력 | F12: 개소 | J12: =TRUNC(J16) -> 0 | L12: =TRUNC(L16) -> 0 | N12: =TRUNC(N16) -> 0
C13: 배 관 공(수도) | E13: 3 | F13: 인 | J13: =TRUNC(E13*I13,0) -> 0 | L13: =TRUNC(E13*K13,0) -> 0 | N13: =TRUNC(E13*M13,0) -> 0
C14: 보 통 인 부 | E14: 1 | F14: 인 | J14: =TRUNC(E14*I14,0) -> 0 | L14: =TRUNC(E14*K14,0) -> 0 | N14: =TRUNC(E14*M14,0) -> 0
C15: 공구손료 및 경장비의 기계경비 | D15: 노무비의 | E15: 4 | F15: % | J15: =TRUNC(E15*1/100*I15,0) -> 0 | L15: =TRUNC(E15*1/100*K15,0) -> 0 | M15: =J14+J13 -> 0 | N15: =TRUNC(E15*1/100*M15,0) -> 0
C16: =>본당 적용값 | D16: 소계÷12본 | E16: 0.08333 | F16: 식 | I16: =J15+J14+J13 -> 0 | J16: =TRUNC(E16*I16,0) -> 0 | K16: =L15+L14+L13 -> 0 | L16: =TRUNC(E16*K16,0) -> 0 | M16: =N15+N14+N13 -> 0 | N16: =TRUNC(E16*M16,0) -> 0
J17: =TRUNC(E17*I17,0) -> 0 | L17: =TRUNC(E17*K17,0) -> 0 | N17: =TRUNC(E17*M17,0) -> 0
B18: 제3호표 | C18: KP 메커니컬 접합 및 부설 | D18: D80,인력 | F18: 개소 | J18: =TRUNC(J22) -> 0 | L18: =TRUNC(L22) -> 0 | N18: =TRUNC(N22) -> 0
C19: 배 관 공(수도) | E19: 3 | F19: 인 | J19: =TRUNC(E19*I19,0) -> 0 | L19: =TRUNC(E19*K19,0) -> 0 | N19: =TRUNC(E19*M19,0) -> 0
C20: 보 통 인 부 | E20: 1 | F20: 인 | J20: =TRUNC(E20*I20,0) -> 0 | L20: =TRUNC(E20*K20,0) -> 0 | N20: =TRUNC(E20*M20,0) -> 0
C21: 공구손료 및 경장비의 기계경비 | D21: 노무비의 | E21: 4 | F21: % | J21: =TRUNC(E21*1/100*I21,0) -> 0 | L21: =TRUNC(E21*1/100*K21,0) -> 0 | M21: =J20+J19 -> 0 | N21: =TRUNC(E21*1/100*M21,0) -> 0
C22: =>본당 적용값 | D22: 소계÷13본 | E22: 0.07692 | F22: 식 | I22: =J21+J20+J19 -> 0 | J22: =TRUNC(E22*I22,0) -> 0 | K22: =L21+L20+L19 -> 0 | L22: =TRUNC(E22*K22,0) -> 0 | M22: =N21+N20+N19 -> 0 | N22: =TRUNC(E22*M22,0) -> 0
J23: =TRUNC(E23*I23,0) -> 0 | L23: =TRUNC(E23*K23,0) -> 0 | N23: =TRUNC(E23*M23,0) -> 0
B24: 제4호표 | C24: KP 메커니컬 접합 및 부설(이탈) | D24: D80,인력 | F24: 개소 | J24: =TRUNC(J29) -> 0 | L24: =TRUNC(L29) -> 0 | N24: =TRUNC(N29) -> 0
C25: 배 관 공(수도) | E25: 3 | F25: 인 | J25: =TRUNC(E25*I25,0) -> 0 | L25: =TRUNC(E25*K25,0) -> 0 | N25: =TRUNC(E25*M25,0) -> 0
C26: 보 통 인 부 | E26: 1 | F26: 인 | J26: =TRUNC(E26*I26,0) -> 0 | L26: =TRUNC(E26*K26,0) -> 0 | N26: =TRUNC(E26*M26,0) -> 0
C27: 공구손료 및 경장비의 기계경비 | D27: 노무비의 | E27: 4 | F27: % | J27: =TRUNC(E27*1/100*I27,0) -> 0 | L27: =TRUNC(E27*1/100*K27,0) -> 0 | M27: =J26+J25 -> 0 | N27: =TRUNC(E27*1/100*M27,0) -> 0
C28: 할증(이탈방지압륜사용시) | D28: 비목별 | E28: 30 | F28: % | G28: =H27+H26+H25 -> 0 | I28: =J27+J26+J25 -> 0 | J28: =TRUNC(E28*1/100*I28,0) -> 0 | K28: =L27+L26+L25 -> 0 | L28: =TRUNC(E28*1/100*K28,0) -> 0 | M28: =N27+N26+N25 -> 0 | N28: =TRUNC(E28*1/100*M28,0) -> 0
C29: =>본당 적용값 | D29: 소계÷13본 | E29: 0.07692 | F29: 식 | I29: =J28+J27+J26+J25 -> 0 | J29: =TRUNC(E29*I29,0) -> 0 | K29: =L28+L27+L26+L25 -> 0 | L29: =TRUNC(E29*K29,0) -> 0 | M29: =N28+N27+N26+N25 -> 0 | N29: =TRUNC(E29*M29,0) -> 0
J30: =TRUNC(E30*I30,0) -> 0 | L30: =TRUNC(E30*K30,0) -> 0 | N30: =TRUNC(E30*M30,0) -> 0
B31: 제5호표 | C31: 주철관절단 | D31: D200 | F31: 개소 | J31: =TRUNC(J32+J33) -> 0 | L31: =TRUNC(L32+L33) -> 0 | N31: =TRUNC(N32+N33) -> 0
C32: 배 관 공(수도) | E32: 0.12 | F32: 인 | J32: =TRUNC(E32*I32,0) -> 0 | L32: =TRUNC(E32*K32,0) -> 0 | N32: =TRUNC(E32*M32,0) -> 0
C33: 공구손료 및 경장비 | D33: 노무비의 | E33: 5 | F33: % | J33: =TRUNC(E33*1/100*I33,0) -> 0 | K33: =J32 -> 0 | L33: =TRUNC(E33*1/100*K33,0) -> 0 | N33: =TRUNC(E33*1/100*M33,0) -> 0
J34: =TRUNC(E34*I34,0) -> 0 | L34: =TRUNC(E34*K34,0) -> 0 | N34: =TRUNC(E34*M34,0) -> 0
B35: 제6호표 | C35: 주철관절단 | D35: D80 | F35: 개소 | J35: =TRUNC(J36+J37) -> 0 | L35: =TRUNC(L36+L37) -> 0 | N35: =TRUNC(N36+N37) -> 0
C36: 배 관 공(수도) | E36: 0.08 | F36: 인 | J36: =TRUNC(E36*I36,0) -> 0 | L36: =TRUNC(E36*K36,0) -> 0 | N36: =TRUNC(E36*M36,0) -> 0
C37: 공구손료및경장비 | D37: 노무비의 | E37: 5 | F37: % | J37: =TRUNC(E37*1/100*I37,0) -> 0 | L37: =TRUNC(E37*1/100*K37,0) -> 0 | M37: =J36 -> 0 | N37: =TRUNC(E37*1/100*M37,0) -> 0
J38: =TRUNC(E38*I38,0) -> 0 | L38: =TRUNC(E38*K38,0) -> 0 | N38: =TRUNC(E38*M38,0) -> 0
B39: 제7호표 | C39: 내충격PVC수도관 부설및접합 | D39: D50 | F39: 본 | J39: =TRUNC(J40+J41+J42) -> 0 | L39: =TRUNC(L40+L41+L42) -> 0 | N39: =TRUNC(N40+N41+N42) -> 0
C40: 배 관 공(수도) | E40: 0.07 | F40: 인 | J40: =TRUNC(E40*I40,0) -> 0 | L40: =TRUNC(E40*K40,0) -> 0 | N40: =TRUNC(E40*M40,0) -> 0
C41: 보통인부 | E41: 0.04 | F41: 인 | J41: =TRUNC(E41*I41,0) -> 0 | L41: =TRUNC(E41*K41,0) -> 0 | N41: =TRUNC(E41*M41,0) -> 0
C42: 공구손료 및 경장비(전동드릴 등) | D42: 노무비의 | E42: 2 | F42: % | J42: =TRUNC(E42*1/100*I42,0) -> 0 | K42: =J41+J40 -> 0 | L42: =TRUNC(E42*1/100*K42,0) -> 0 | N42: =TRUNC(E42*1/100*M42,0) -> 0
J43: =TRUNC(E43*I43,0) -> 0 | L43: =TRUNC(E43*K43,0) -> 0 | N43: =TRUNC(E43*M43,0) -> 0
B44: 제8호표 | C44: 내충격수도관 이탈방지클램프설치 | D44: D50 | F44: 개소 | J44: =TRUNC(J45+J46) -> 0 | L44: =TRUNC(L45+L46) -> 0 | N44: =TRUNC(N45+N46) -> 0
C45: ※ 편수접합품의 130%적용 | J45: =TRUNC(E45*I45,0) -> 0 | L45: =TRUNC(E45*K45,0) -> 0 | N45: =TRUNC(E45*M45,0) -> 0
C46: 내충격수도관 편수접합 | D46: D50 | E46: 1.3 | F46: 개소 | I46: =일위대가총괄표!G12 -> 0 | J46: =TRUNC(E46*I46,0) -> 0 | K46: =일위대가총괄표!H12 -> 0 | L46: =TRUNC(E46*K46,0) -> 0 | M46: =일위대가총괄표!I12 -> 0 | N46: =TRUNC(E46*M46,0) -> 0 | O46: 일위9참조
J47: =TRUNC(E47*I47,0) -> 0 | L47: =TRUNC(E47*K47,0) -> 0 | N47: =TRUNC(E47*M47,0) -> 0
B48: 제9호표 | C48: 내충격수도관 편수접합 | D48: D50 | F48: 개소 | J48: =TRUNC(J49+J50) -> 0 | L48: =TRUNC(L49+L50) -> 0 | N48: =TRUNC(N49+N50) -> 0
C49: 배 관 공(수도) | E49: 0.025 | F49: 인 | J49: =TRUNC(E49*I49,0) -> 0 | L49: =TRUNC(E49*K49,0) -> 0 | N49: =TRUNC(E49*M49,0) -> 0
C50: 보통인부 | E50: 0.013 | F50: 인 | J50: =TRUNC(E50*I50,0) -> 0 | L50: =TRUNC(E50*K50,0) -> 0 | N50: =TRUNC(E50*M50,0) -> 0
J51: =TRUNC(E51*I51,0) -> 0 | L51: =TRUNC(E51*K51,0) -> 0 | N51: =TRUNC(E51*M51,0) -> 0
B52: 제10호표 | C52: 내충격수도관 이형관부설 | D52: D50 | F52: 개소 | J52: =TRUNC(J53+J54) -> 0 | L52: =TRUNC(L53+L54) -> 0 | N52: =TRUNC(N53+N54) -> 0
C53: ※이형관 접합품의 30% 적용 | J53: =TRUNC(E53*I53,0) -> 0 | L53: =TRUNC(E53*K53,0) -> 0 | N53: =TRUNC(E53*M53,0) -> 0
C54: 내충격수도관 이형관접합 | D54: D50 | E54: 0.3 | F54: 개소 | I54: =일위대가총괄표!G14 -> 0 | J54: =TRUNC(E54*I54,0) -> 0 | K54: =일위대가총괄표!H14 -> 0 | L54: =TRUNC(E54*K54,0) -> 0 | M54: =일위대가총괄표!I14 -> 0 | N54: =TRUNC(E54*M54,0) -> 0 | O54: 일위11참조
J55: =TRUNC(E55*I55,0) -> 0 | L55: =TRUNC(E55*K55,0) -> 0 | N55: =TRUNC(E55*M55,0) -> 0
B56: 제11호표 | C56: 내충격수도관 이형관접합 | D56: D50 | F56: 개소 | J56: =TRUNC(J57+J58) -> 0 | L56: =TRUNC(L57+L58) -> 0 | N56: =TRUNC(N57+N58) -> 0
C57: 배 관 공(수도) | E57: 0.02 | F57: 인 | J57: =TRUNC(E57*I57,0) -> 0 | L57: =TRUNC(E57*K57,0) -> 0 | N57: =TRUNC(E57*M57,0) -> 0
C58: 보통인부 | E58: 0.016 | F58: 인 | J58: =TRUNC(E58*I58,0) -> 0 | L58: =TRUNC(E58*K58,0) -> 0 | N58: =TRUNC(E58*M58,0) -> 0
J59: =TRUNC(E59*I59,0) -> 0 | L59: =TRUNC(E59*K59,0) -> 0 | N59: =TRUNC(E59*M59,0) -> 0
B60: 제12호표 | C60: 내충격수도관절단 | D60: D50 | F60: 개소 | J60: =TRUNC(J61+J62+J63) -> 0 | L60: =TRUNC(L61+L62+L63) -> 0 | N60: =TRUNC(N61+N62+N63) -> 0
C61: 배 관 공(수도) | E61: 0.02 | F61: 인 | J61: =TRUNC(E61*I61,0) -> 0 | L61: =TRUNC(E61*K61,0) -> 0 | N61: =TRUNC(E61*M61,0) -> 0
C62: 절단기 | D62: 5.08~15.24cm | E62: 0.095 | F62: hr | J62: =TRUNC(E62*I62,0) -> 0 | L62: =TRUNC(E62*K62,0) -> 0 | N62: =TRUNC(E62*M62,0) -> 0 | O62: 장비14참조
C63: 잡재료비 | D63: 노무비의 | E63: 3 | F63: % | J63: =TRUNC(E63*1/100*I63,0) -> 0 | K63: =J62+J61 -> 0 | L63: =TRUNC(E63*1/100*K63,0) -> 0 | N63: =TRUNC(E63*1/100*M63,0) -> 0
J64: =TRUNC(E64*I64,0) -> 0 | L64: =TRUNC(E64*K64,0) -> 0 | N64: =TRUNC(E64*M64,0) -> 0
B65: 제13호표 | C65: 나사조임식접합 | D65: D50 | F65: 개소 | J65: =TRUNC(J71) -> 0 | L65: =TRUNC(L71) -> 0 | N65: =TRUNC(N71) -> 0
C66: 품4편 1-1-3 | J66: =TRUNC(E66*I66,0) -> 0 | L66: =TRUNC(E66*K66,0) -> 0 | N66: =TRUNC(E66*M66,0) -> 0
C67: 배 관 공 | E67: 3 | F67: 인 | J67: =TRUNC(E67*I67,0) -> 0 | L67: =TRUNC(E67*K67,0) -> 0 | N67: =TRUNC(E67*M67,0) -> 0
C68: 보통인부 | E68: 1 | F68: 인 | J68: =TRUNC(E68*I68,0) -> 0 | L68: =TRUNC(E68*K68,0) -> 0 | N68: =TRUNC(E68*M68,0) -> 0
C69: 옥외배관(암거 내) | D69: 노무비의 | E69: 11 | F69: % | J69: =TRUNC(E69*1/100*I69,0) -> 0 | L69: =TRUNC(E69*1/100*K69,0) -> 0 | M69: =J68+J67+J66 -> 0 | N69: =TRUNC(E69*1/100*M69,0) -> 0
C70: 공구손료 및 경장비 | D70: 노무비의 | E70: 2 | F70: % | J70: =TRUNC(E70*1/100*I70,0) -> 0 | L70: =TRUNC(E70*1/100*K70,0) -> 0 | M70: =J69+J68+J67+J66 -> 0 | N70: =TRUNC(E70*1/100*M70,0) -> 0
C71: =>M당 적용값 | D71: 소계÷30M | E71: 0.03333 | F71: 식 | I71: =J70+J69+J68+J67+J66 -> 0 | J71: =TRUNC(E71*I71,0) -> 0 | K71: =L70+L69+L68+L67+L66 -> 0 | L71: =TRUNC(E71*K71,0) -> 0 | M71: =N70+N69+N68+N67+N66 -> 0 | N71: =TRUNC(E71*M71,0) -> 0
J72: =TRUNC(E72*I72,0) -> 0 | L72: =TRUNC(E72*K72,0) -> 0 | N72: =TRUNC(E72*M72,0) -> 0
B73: 제14호표 | C73: 제수밸브 부설및접합 | D73: D200 | F73: 개소 | J73: =TRUNC(J74+J75+J76+J77) -> 0 | L73: =TRUNC(L74+L75+L76+L77) -> 0 | N73: =TRUNC(N74+N75+N76+N77) -> 0
C74: 배관공(수도) | E74: 0.2 | F74: 인 | J74: =TRUNC(E74*I74,0) -> 0 | L74: =TRUNC(E74*K74,0) -> 0 | N74: =TRUNC(E74*M74,0) -> 0
C75: 보통인부 | E75: 0.1 | F75: 인 | J75: =TRUNC(E75*I75,0) -> 0 | L75: =TRUNC(E75*K75,0) -> 0 | N75: =TRUNC(E75*M75,0) -> 0
C76: 공구손료 및 잡재료 | D76: 노무비의 | E76: 2 | F76: % | J76: =TRUNC(E76*1/100*I76,0) -> 0 | K76: =J75+J74 -> 0 | L76: =TRUNC(E76*1/100*K76,0) -> 0 | N76: =TRUNC(E76*1/100*M76,0) -> 0
C77: 트럭탑재형크레인 | D77: 5Ton | E77: 0.64 | F77: hr | J77: =TRUNC(E77*I77,0) -> 0 | L77: =TRUNC(E77*K77,0) -> 0 | N77: =TRUNC(E77*M77,0) -> 0 | O77: 장비15참조
J78: =TRUNC(E78*I78,0) -> 0 | L78: =TRUNC(E78*K78,0) -> 0 | N78: =TRUNC(E78*M78,0) -> 0
B79: 제15호표 | C79: 제수밸브 부설및접합 | D79: D80,인력 | F79: 개소 | J79: =TRUNC(J80+J81+J82) -> 0 | L79: =TRUNC(L80+L81+L82) -> 0 | N79: =TRUNC(N80+N81+N82) -> 0
C80: 배 관 공(수도) | E80: 0.1 | F80: 인 | J80: =TRUNC(E80*I80,0) -> 0 | L80: =TRUNC(E80*K80,0) -> 0 | N80: =TRUNC(E80*M80,0) -> 0
C81: 보통인부 | E81: 0.15 | F81: 인 | J81: =TRUNC(E81*I81,0) -> 0 | L81: =TRUNC(E81*K81,0) -> 0 | N81: =TRUNC(E81*M81,0) -> 0
C82: 공구손료및경장비 | D82: 노무비의 | E82: 2 | F82: % | J82: =TRUNC(E82*1/100*I82,0) -> 0 | K82: =J81+J80 -> 0 | L82: =TRUNC(E82*1/100*K82,0) -> 0 | N82: =TRUNC(E82*1/100*M82,0) -> 0
J83: =TRUNC(E83*I83,0) -> 0 | L83: =TRUNC(E83*K83,0) -> 0 | N83: =TRUNC(E83*M83,0) -> 0
B84: 제16호표 | C84: 밸브류설치 | D84: D32~50 | F84: 개소 | J84: =TRUNC(J85+J86) -> 0 | L84: =TRUNC(L85+L86) -> 0 | N84: =TRUNC(N85+N86) -> 0
C85: 배 관 공 | E85: 0.074 | F85: 인 | J85: =TRUNC(E85*I85,0) -> 0 | L85: =TRUNC(E85*K85,0) -> 0 | N85: =TRUNC(E85*M85,0) -> 0
C86: 공구손료 및 경장비 | D86: 노무비의 | E86: 2 | F86: % | J86: =TRUNC(E86*1/100*I86,0) -> 0 | L86: =TRUNC(E86*1/100*K86,0) -> 0 | M86: =J85 -> 0 | N86: =TRUNC(E86*1/100*M86,0) -> 0
J87: =TRUNC(E87*I87,0) -> 0 | L87: =TRUNC(E87*K87,0) -> 0 | N87: =TRUNC(E87*M87,0) -> 0
B88: 제17호표 | C88: 부단수할정자관 부설및접합 | D88: D300 | F88: 개소 | J88: =TRUNC(J89+J90+J91+J92) -> 0 | L88: =TRUNC(L89+L90+L91+L92) -> 0 | N88: =TRUNC(N89+N90+N91+N92) -> 0
C89: 배 관 공(수도) | E89: 0.23 | F89: 인 | J89: =TRUNC(E89*I89,0) -> 0 | L89: =TRUNC(E89*K89,0) -> 0 | N89: =TRUNC(E89*M89,0) -> 0
C90: 보통인부 | E90: 0.11 | F90: 인 | J90: =TRUNC(E90*I90,0) -> 0 | L90: =TRUNC(E90*K90,0) -> 0 | N90: =TRUNC(E90*M90,0) -> 0
C91: 공구손료 및 잡재료비 | D91: 노무비의 | E91: 2 | F91: % | J91: =TRUNC(E91*1/100*I91,0) -> 0 | K91: =J90+J89 -> 0 | L91: =TRUNC(E91*1/100*K91,0) -> 0 | N91: =TRUNC(E91*1/100*M91,0) -> 0
C92: 트럭탑재형크레인 | D92: 5Ton | E92: 0.19 | F92: hr | J92: =TRUNC(E92*I92,0) -> 0 | L92: =TRUNC(E92*K92,0) -> 0 | N92: =TRUNC(E92*M92,0) -> 0 | O92: 장비15참조
J93: =TRUNC(E93*I93,0) -> 0 | L93: =TRUNC(E93*K93,0) -> 0 | N93: =TRUNC(E93*M93,0) -> 0
B94: 제18호표 | C94: 부단수할정자관 부설및접합 | D94: D200 | F94: 개소 | J94: =TRUNC(J95+J96+J97+J98) -> 0 | L94: =TRUNC(L95+L96+L97+L98) -> 0 | N94: =TRUNC(N95+N96+N97+N98) -> 0
C95: 배 관 공(수도) | E95: 0.2 | F95: 인 | J95: =TRUNC(E95*I95,0) -> 0 | L95: =TRUNC(E95*K95,0) -> 0 | N95: =TRUNC(E95*M95,0) -> 0
C96: 보통인부 | E96: 0.08 | F96: 인 | J96: =TRUNC(E96*I96,0) -> 0 | L96: =TRUNC(E96*K96,0) -> 0 | N96: =TRUNC(E96*M96,0) -> 0
C97: 공구손료 및 잡재료비 | D97: 노무비의 | E97: 2 | F97: % | J97: =TRUNC(E97*1/100*I97,0) -> 0 | K97: =J96+J95 -> 0 | L97: =TRUNC(E97*1/100*K97,0) -> 0 | N97: =TRUNC(E97*1/100*M97,0) -> 0
C98: 트럭탑재형크레인 | D98: 5Ton | E98: 0.14 | F98: hr | J98: =TRUNC(E98*I98,0) -> 0 | L98: =TRUNC(E98*K98,0) -> 0 | N98: =TRUNC(E98*M98,0) -> 0 | O98: 장비15참조
J99: =TRUNC(E99*I99,0) -> 0 | L99: =TRUNC(E99*K99,0) -> 0 | N99: =TRUNC(E99*M99,0) -> 0
B100: 제19호표 | C100: 부단수할정자관 부설및접합 | D100: D80 | F100: 개소 | J100: =TRUNC(J101+J102+J103) -> 0 | L100: =TRUNC(L101+L102+L103) -> 0 | N100: =TRUNC(N101+N102+N103) -> 0
C101: 배 관 공(수도) | E101: 0.2 | F101: 인 | J101: =TRUNC(E101*I101,0) -> 0 | L101: =TRUNC(E101*K101,0) -> 0 | N101: =TRUNC(E101*M101,0) -> 0
...

Sheet 기계경비적용기준
B1: 기계경비적용기준
C4: 환 율 (/￦) | G4: 기본재료비
C6: 화 폐 | D6: 환 율 | E6: 비 고 | G6: No | H6: 품 명 | I6: 규 격 | J6: 단위 | K6: 단 가
C7: 달러($) | D7: 1503.2 | E7: 2026.6.1. 매매기준율
C8: 엔(100￥) | D8: 943.21 | E8: 2026.6.1. 매매기준율
C9: 유로(E) | D9: 1752.05 | E9: 2026.6.1. 매매기준율
C10: 마르크(M)
C11: 파운드(L) | D11: 2021.8 | E11: 2026.6.1. 매매기준율
C18: 노임계수 | G18: 계산결과값 자리수
C20: No | D20: 노임계수 | E20: 계산값
C21: 1 | D21: 1/8*16/12*25/20 | E21: =1/8*16/12*25/20 -> 0.20833333
C22: 2 | D22: 1/8*16/12*25/20*24/15 | E22: =1/8*16/12*25/20*24/15 -> 0.33333333 | G22: 경 비 소수 1 미만 절하
C23: 3 | D23: 1/8*16/12*25/20*12/10 | E23: =1/8*16/12*25/20*12/10 -> 0.25
C24: 4 | D24: 1/8*16/12*25/20*14/12 | E24: =1/8*16/12*25/20*14/12 -> 0.24305556 | G24: 재료비 소수 1 미만 절하
C25: 5 | D25: 1/8*16/12*25/20*24/5 | E25: =1/8*16/12*25/20*24/5 -> 1
G26: 노무비 소수 1 미만 절하
