Workbook
Name dsgd: '[1]공세173-1'!$BV$18:$BV$19
Name 급수관경: 설계카드!$BV$3:$BV$8
Name 급수종류: 설계카드!$BW$2:$BW$5
Name 급수종별: 설계카드!$BW$2:$BW$4
Name ㄴㅇㄻㄶㅁ: #REF!
Name ㄴㅇㄻㄶㅁ: #REF!
Name ㄴㅇㄻㄶㅁ: #REF!
Name 도로점용: 설계카드!$BV$20:$BV$21
Name ㄹㅎ: #REF!
Name ㄹㅎ: #REF!
Name ㄹㅎ: #REF!
Name ㅀ: #REF!
Name ㅀ: #REF!
Name ㅀ: #REF!
Name 마북동3171212: [2]서천351!#REF!
Name 마북동3171212: [2]서천351!#REF!
Name 마북동3171212: [2]서천351!#REF!
Name 시설분담금: [3]설계카드!$BV$60:$BV$61
Name 시설분담금: [3]설계카드!$BV$60:$BV$61
Name 시설분담금: [4]설계카드!$BV$60:$BV$61
Name 시설분담금: 설계카드!$BV$60:$BV$61
Name ㅇ: #REF!
Name ㅇ: #REF!
Name ㅇ: #REF!
Name ㅇㄴ: #REF!
Name ㅇㄴ: #REF!
Name ㅇㄴ: #REF!
Name ㅇㄹㄴㅇ: #REF!
Name ㅇㄹㄴㅇ: #REF!
Name ㅇㄹㄴㅇ: #REF!
Name ㅇㄹㅀ: #REF!
Name ㅇㄹㅀ: #REF!
Name ㅇㄹㅀ: #REF!
Name 장비운반: 설계카드!$BV$45:$BV$46
Name 포장두께: [3]설계카드!$BV$15:$BV$16
Name 포장두께: [3]설계카드!$BV$15:$BV$16
Name 포장두께: [4]설계카드!$BV$15:$BV$16
Name 포장두께: 설계카드!$BV$15:$BV$16
Name 해당지역: [3]설계카드!$BV$10:$BV$12
Name 해당지역: [3]설계카드!$BV$10:$BV$12
Name 해당지역: [4]설계카드!$BV$10:$BV$12
Name 해당지역: 설계카드!$BV$10:$BV$12
Name ㅣㅏ널: #REF!
Name ㅣㅏ널: #REF!
Name ㅣㅏ널: #REF!

Sheet 설계카드
A1: 급 수 공 사 설 계 카 드
A2: 급수 번호 | D2: 제 | H2: 5 | P2: 호 | R2: 승인 일자 | U2: 2026 | Y2: 년 | AB2: 월 | AF2: 일 | AH2: 설 계 | AK2: 계량기 번호/지침 | BF2: 수 압 | BM2: 비 고 | BV2: 0 | BW2: 0
BV3: 13 | BW3: 가정용
A4: 급수 종별 | D4: 일반용 | H4: 40 | L4: mm | N4: =IF(H4>0,1,0) -> 1 | P4: EA | R4: 공사 착공 | U4: 2026 | Y4: 년 | AB4: 월 | AF4: 일 | BV4: 20 | BW4: 일반용
D5: 0 | H5: 0 | L5: mm | N5: =IF(H5>0,1,0) -> 0 | P5: EA | BV5: 25 | BW5: 일반용
A6: 급수 목적 | D6: 생 활 용 수 | R6: 공사 준공 | U6: 2026 | Y6: 년 | AB6: 월 | AF6: 일 | BV6: 32 | BW6: 일반용
BV7: 40 | BW7: 일반용
A8: 공사 종별 | D8: 신설 | BV8: 50
A10: 공사 장소 | D10: 주 소: | H10: 용인시 기흥구 | P10: 보정동 675-3 | BM10: 수도정보팀(GIS) | BV10: 용인시 처인구
D11: 성 명: | H11: ㈜수일개발 | P11: 전화번호 | U11: 건축주 : | Y11: 0 10-5273-4675 | AH11: 현장 : | AL11: 0 10-3156-2725 | AW11: 생년월일 : | BB11: 53.07.23 | BV11: 용인시 기흥구
A12: 명 칭 | H12: 설 계 | AH12: 명 칭 | AO12: 설 계 | BM12: 성복3 | BU12: =LEFT(BM12,2) -> 성복 | BV12: 용인시 수지구
H13: 규 격 | P13: 수량 | S13: 단위 | U13: 단 가 | AA13: 금 액 | AO13: 규 격 | AW13: 수량 | AZ13: 단 가 | BF13: 금 액
A14: 토 공 | H14: 1 | J14: x | K14: 0.77 | M14: x | N14: 68 | P14: =H14*K14*N14 -> 52.36 | S14: ㎥ | U14: =IF(P14>0,IF(P14>10,일위대가!$G$92,일위대가!$G$90),0) -> 1141 | AA14: =SUM(P14*U14) -> 59742.76 | AH14: 토 공 | AO14: =H14 -> 1 | AQ14: x | AR14: =K14 -> 0.77 | AT14: x | AU14: =N14 -> 68 | AW14: =P14 -> 52.36 | AZ14: =IF(AW14>0,IF(AW14>10,일위대가!$E$92,일위대가!$E$90),0) -> 34411 | BF14: =SUM(AW14*AZ14) -> 1801760
A15: 아스콘 절단 | H15: 2 | K15: x | M15: 58 | P15: =H15*M15 -> 116 | S15: m | U15: =IF(P15>0,일위대가!$G$93,0) -> 640 | AA15: =SUM(P15*U15) -> 74240 | AH15: 아스콘 절단 | AO15: =H15 -> 2 | AR15: x | AT15: =M15 -> 58 | AW15: =P15 -> 116 | AZ15: =IF(AW15>0,일위대가!$E$93,0) -> 1530 | BF15: =SUM(AW15*AZ15) -> 177480 | BV15: 0.05
A16: 아스콘 깨기 | H16: 1 | J16: x | K16: =M15 -> 58 | M16: x | N16: 0.2 | P16: =H16*K16*N16 -> 11.6 | S16: ㎥ | U16: =IF(P16>0,일위대가!$G$95,0) -> 2545 | AA16: =SUM(P16*U16) -> 29522 | AH16: 아스콘 깨기 | AO16: =H16 -> 1 | AQ16: x | AR16: =K16 -> 58 | AT16: x | AU16: =N16 -> 0.2 | AW16: =P16 -> 11.6 | AZ16: =IF(AW16>0,일위대가!$E$95,0) -> 11670 | BF16: =SUM(AW16*AZ16) -> 135372 | BM16: 대 | BO16: 0104 | BV16: 0.2
A18: 아스콘 복구 | H18: =H16 -> 1 | J18: x | K18: 58 | M18: x | N18: 0.2 | P18: =H18*K18 -> 58 | S18: ㎡ | U18: =IF(P18>0,IF(P18>10,일위대가!$G$102,일위대가!$G$100),0) -> 56335 | AA18: =SUM(P18*U18) -> 3267430 | AH18: 아스콘 복구 | AO18: =H18 -> 1 | AQ18: x | AR18: =K18 -> 58 | AT18: x | AU18: =N18 -> 0.2 | AW18: =P18 -> 58 | AZ18: =IF(AW18>0,IF(AW18>10,일위대가!$E$102,일위대가!$E$100),0) -> 77662 | BF18: =SUM(AW18*AZ18) -> 4504396 | BM18: 소 | BO18: `0403
A19: 아스콘 파쇄복구 | H19: 3 | J19: x | M19: x | N19: 0.05 | P19: =H19*K19 -> 0 | S19: ㎡ | U19: =IF(P19>0,IF(P19>10,일위대가!$G$103,일위대가!$G$101),0) -> 0 | AA19: =SUM(P19*U19) -> 0 | AH19: 아스콘 파쇄복구 | AO19: =H19 -> 3 | AQ19: x | AR19: =K19 -> 0 | AT19: x | AU19: =N19 -> 0.05 | AW19: =P19 -> 0 | AZ19: =IF(AW19>0,IF(AW19>10,일위대가!$E$103,일위대가!$E$101),0) -> 0 | BF19: =SUM(AW19*AZ19) -> 0
A20: 콘크리트 절단 | H20: 2 | K20: x | P20: =H20*M20 -> 0 | S20: m | U20: =IF(P20>0,일위대가!$G$94,0) -> 0 | AA20: =SUM(P20*U20) -> 0 | AH20: 콘크리트 절단 | AO20: =H20 -> 2 | AR20: x | AT20: =M20 -> 0 | AW20: =P20 -> 0 | AZ20: =IF(AW20>0,일위대가!$E$94,0) -> 0 | BF20: =SUM(AW20*AZ20) -> 0 | BM20: 공 사 감 독 | BV20: 2.4
A21: 콘크리트 깨기 | H21: 1 | J21: x | K21: =M20 -> 0 | M21: x | N21: 0.2 | P21: =H21*K21*N21 -> 0 | S21: ㎥ | U21: =IF(P21>0,일위대가!$G$98,0) -> 0 | AA21: =SUM(P21*U21) -> 0 | AH21: 콘크리트 깨기 | AO21: =H21 -> 1 | AQ21: x | AR21: =K21 -> 0 | AT21: x | AU21: =N21 -> 0.2 | AW21: =P21 -> 0 | AZ21: =IF(AW21>0,일위대가!$E$98,0) -> 0 | BF21: =SUM(AW21*AZ21) -> 0 | BV21: 3
A22: 콘크리트 복구 | H22: 1 | J22: x | K22: =K21 -> 0 | M22: x | N22: 0.2 | P22: =IF($M$20<10,$H$22*$K$22*$N$22,$H$22*$K$22) -> 0 | S22: =IF($M$20<10,"㎥","㎡") -> ㎥ | U22: =IF(P22>0,IF(M20<10,일위대가!$G$104,일위대가!$G$105),0) -> 0 | AA22: =SUM(P22*U22) -> 0 | AH22: 콘크리트 복구 | AO22: =H22 -> 1 | AQ22: x | AR22: =K22 -> 0 | AT22: x | AU22: =N22 -> 0.2 | AW22: =P22 -> 0 | AZ22: =IF(AW22>0,IF(AR22>=10,일위대가!$E$105,일위대가!$E$104),0) -> 0 | BF22: =SUM(AW22*AZ22) -> 0
A23: 보도블럭해체복구 | H23: 2 | K23: x | M23: 0 | P23: =H23*M23 -> 0 | S23: ㎡ | U23: =IF(P23>0,일위대가!G106,0) -> 0 | AA23: =SUM(P23*U23) -> 0 | AH23: 보도블럭해체복구 | AO23: =H23 -> 2 | AR23: x | AT23: =M23 -> 0 | AW23: =P23 -> 0 | AZ23: =IF(AW23>0,일위대가!$E$106,0) -> 0 | BF23: =SUM(AW23*AZ23) -> 0 | BV23: 0
A24: 폐기물집토및적사 | H24: =IF(P24>0,"1식",0) -> 1식 | P24: =P16+P17*0.05+P21 -> 11.6 | S24: ㎥ | U24: =IF($P$24>0,일위대가!$G$107,0) -> 2845 | AA24: =SUM(P24*U24) -> 33002 | AH24: 폐기물집토및적사 | AO24: =IF(AW24>0,"1식",0) -> 1식 | AW24: =P24 -> 11.6 | AZ24: =IF(AW24>0,일위대가!$E$107,0) -> 20906 | BF24: =SUM(AW24*AZ24) -> 242509.6 | BV24: 20
BV25: 25
A26: STS(304)관 | H26: =H4 -> 40 | P26: =N14 -> 68 | S26: m | U26: =IF(P26>0,IF(H26=일위대가!$D$2,일위대가!$D$71,IF(H26=일위대가!$E$2,일위대가!$E$71,IF(H26=일위대가!$F$2,일위대가!$F$71,IF(H26=일위대가!$G$2,일위대가!$G$71,IF(H26=일위대가!$H$2,일위대가!$H$71,IF(H26=일위대가!$I$2,일위대가!$I$71,0)))))),0) -> 6970 | AA26: =SUM(P26*U26) -> 473960 | AH26: STS관 접합 | AO26: =IF(P26>0,H26,0) -> 40 | AR26: =IF(P27>0,H27,0) -> 0 | AU26: =IF(P28>0,H28,0) -> 0 | AW26: =IF(OR(AO26>0,AR26>0,AU26>0),1&"식",0) -> 1식 | AZ26: =IF(P26>0,IF(AO26=일위대가!$D$2,일위대가!$D$72,IF(AO26=일위대가!$E$2,일위대가!$E$72,IF(AO26=일위대가!$F$2,일위대가!$F$72,IF(AO26=일위대가!$G$2,일위대가!$G$72,IF(AO26=일위대가!$H$2,일위대가!$H$72,IF(AO26=일위대가!$I$2,일위대가!$I$72,0)))))),0)*P26+IF(P27>0,IF(AR26=일위대가!$D$2,일위대가!$D$72,IF(AR26=일위대가!$E$2,일위대가!$E$72,IF(AR26=일위대가!$F$2,일위대가!$F$72,IF(AR26=일위대가!$G$2,일위대가!$G$72,IF(AR26=일위대가!$H$2,일위대가!$H$72,IF(AR26=일위대가!$I$2,일위대가!$I$72,0)))))))*P27+IF(P28>0,IF(AU26=일위대가!$D$2,일위대가!$D$72,IF(AU26=일위대가!$E$2,일위대가!$E$72,IF(AU26=일위대가!$F$2,일위대가!$F$72,IF(AU26=일위대가!$G$2,일위대가!$G$72,IF(AU26=일위대가!$H$2,일위대가!$H$72,IF(AU26=일위대가!$I$2,일위대가!$I$72,0)))))))*P28 -> 1634856 | BF26: =AZ26 -> 1634856 | BV26: 32
A27: STS(304)관 | H27: =H5 -> 0 | S27: m | U27: =IF(P27>0,IF(H27=일위대가!$D$2,일위대가!$D$71,IF(H27=일위대가!$E$2,일위대가!$E$71,IF(H27=일위대가!$F$2,일위대가!$F$71,IF(H27=일위대가!$G$2,일위대가!$G$71,IF(H27=일위대가!$H$2,일위대가!$H$71,IF(H27=일위대가!$I$2,일위대가!$I$71,0)))))),0) -> 0 | AA27: =SUM(P27*U27) -> 0 | AH27: 나사관 접합 | AO27: =IF(P26>0,H26,0) -> 40 | AS27: =IF(P27>0,H27,0) -> 0 | AW27: =IF(OR(AO27>0,AS27>0),1&"식",0) -> 1식 | AZ27: =IF(P26>0,IF(AO27=일위대가!$D$2,일위대가!$D$82,IF(AO27=일위대가!$E$2,일위대가!$E$82,IF(AO27=일위대가!$F$2,일위대가!$F$82,IF(AO27=일위대가!$G$2,일위대가!$G$82,IF(AO27=일위대가!$H$2,일위대가!$H$82,IF(AO27=일위대가!$I$2,일위대가!$I$82,0))))))+IF(AS27=일위대가!$D$2,일위대가!$D$82,IF(AS27=일위대가!$E$2,일위대가!$E$82,IF(AS27=일위대가!$F$2,일위대가!$F$82,IF(AS27=일위대가!$G$2,일위대가!$G$82,IF(AS27=일위대가!$H$2,일위대가!$H$82,IF(AS27=일위대가!$I$2,일위대가!$I$82,0)))))),0) -> 22144 | BF27: =AZ27 -> 22144 | BV27: 40
A28: STS(304)관 | S28: m | U28: =IF(P28>0,IF(H28=일위대가!$D$2,일위대가!$D$71,IF(H28=일위대가!$E$2,일위대가!$E$71,IF(H28=일위대가!$F$2,일위대가!$F$71,IF(H28=일위대가!$G$2,일위대가!$G$71,IF(H28=일위대가!$H$2,일위대가!$H$71,IF(H28=일위대가!$I$2,일위대가!$I$71,0)))))),0) -> 0 | AA28: =SUM(P28*U28) -> 0 | AH28: 계량기및보호통설치 | AO28: =IF(P26>0,H4,0) -> 40 | AS28: =IF(P27>0,H5,0) -> 0 | AW28: =IF(OR(AO28>0,AS28>0),1&"식",0) -> 1식 | AZ28: =IF(P26>0,IF(AO28=일위대가!$D$2,일위대가!$D$58,IF(AO28=일위대가!$E$2,일위대가!$E$58,IF(AO28=일위대가!$F$2,일위대가!$F$58,IF(AO28=일위대가!$G$2,일위대가!$G$58,IF(AO28=일위대가!$H$2,일위대가!$H$58,IF(AO28=일위대가!$I$2,일위대가!$I$58,0)))))),0)+IF(P27>0,IF(AS28=일위대가!$D$2,일위대가!$D$58,IF(AS28=일위대가!$E$2,일위대가!$E$58,IF(AS28=일위대가!$F$2,일위대가!$F$58,IF(AS28=일위대가!$G$2,일위대가!$G$58,IF(AS28=일위대가!$H$2,일위대가!$H$58,IF(AS28=일위대가!$I$2,일위대가!$I$58,0)))))),0) -> 167967 | BF28: =AZ28 -> 167967 | BM28: 시 공 자 | BV28: 50
A29: STS소켓 | H29: =H26 -> 40 | P29: 11 | S29: 개 | U29: =IF(P29>0,IF(H29=일위대가!$D$2,일위대가!$D$68,IF(H29=일위대가!$E$2,일위대가!$E$68,IF(H29=일위대가!$F$2,일위대가!$F$68,IF(H29=일위대가!$G$2,일위대가!$G$68,IF(H29=일위대가!$H$2,일위대가!$H$68,IF(H29=일위대가!$I$2,일위대가!$I$68,0)))))),0) -> 8150 | AA29: =SUM(P29*U29) -> 89650 | AH29: 감압변및보호통설치 | AO29: =$H$55 -> 0 | AS29: =$L$55 -> 0 | AW29: =IF(OR(AO29>0,AS29>0),1&"식",0) -> 0 | AZ29: =IF($AO$29>0,HLOOKUP($AO$29,일위대가!$D$45:$I$47,3,FALSE),0)+IF($AS$29>0,HLOOKUP(AS29,일위대가!$D$45:$I$47,3,FALSE),0) -> 0 | BF29: =AZ29 -> 0 | BV29: 125427
A30: STS소켓 | H30: =IF(P28>0,H28,H27) -> 0 | S30: 개 | U30: =IF(P30>0,IF(H30=일위대가!$D$2,일위대가!$D$68,IF(H30=일위대가!$E$2,일위대가!$E$68,IF(H30=일위대가!$F$2,일위대가!$F$68,IF(H30=일위대가!$G$2,일위대가!$G$68,IF(H30=일위대가!$H$2,일위대가!$H$68,IF(H30=일위대가!$I$2,일위대가!$I$68,0)))))),0) -> 0 | AA30: =SUM(P30*U30) -> 0 | AH30: 새들분수전 분기 | AO30: =H41 -> 150*40 | AS30: =H42 -> 0 | AW30: =IF(OR(AO30>0,AS30>0),1&"식",0) -> 1식 | AZ30: =IF($P$41>0,HLOOKUP($AO$30,일위대가!$D$7:$CA$10,4,FALSE),0)*$P$41+IF($P$42>0,HLOOKUP($AS$30,일위대가!$D$7:$CA$10,4,FALSE),0)*$P$42 -> 127480 | BF30: =AZ30 -> 127480
A31: STS엘보(45°,90°) | H31: 40 | P31: 1 | S31: 개 | U31: =IF(P31>0,IF(H31=일위대가!$D$2,일위대가!$D$69,IF(H31=일위대가!$E$2,일위대가!$E$69,IF(H31=일위대가!$F$2,일위대가!$F$69,IF(H31=일위대가!$H$2,일위대가!$H$69,IF(H31=일위대가!$I$2,일위대가!$I$69,0))))),0) -> 10810 | AA31: =SUM(P31*U31) -> 10810 | AH31: 지수전 설치 | AO31: =$H$43 -> 40 | AS31: =$L$43 -> 0 | AW31: =IF(OR(AO31>0,AS31>0),1&"식",0) -> 1식 | AZ31: =IF($AO$31>0,HLOOKUP($AO$31,일위대가!$D$86:$I$88,2,FALSE),0)*$P$43+IF($AS$31>0,HLOOKUP($AS$31,일위대가!$D$86:$I$88,2,FALSE),0)*$P$43 -> 141554 | BF31: =AZ31 -> 141554
A32: STS엘보(45°,90°) | H32: =H5 -> 0 | S32: 개 | U32: =IF(P32>0,IF(H32=일위대가!$D$2,일위대가!$D$70,IF(H32=일위대가!$E$2,일위대가!$E$70,IF(H32=일위대가!$F$2,일위대가!$F$70,IF(H32=일위대가!$H$2,일위대가!$H$70,IF(H32=일위대가!$I$2,일위대가!$I$70,0))))),0) -> 0 | AA32: =SUM(P32*U32) -> 0 | AH32: 보온재 설치 | AO32: =AO26 -> 40 | AR32: =AR26 -> 0 | AU32: =AU26 -> 0 | AW32: =IF(OR(AO32>0,AR32>0,AU32>0),1&"식",0) -> 1식 | AZ32: =IF($P$26>0,IF(AO32=일위대가!$D$2,일위대가!$D$65,IF(AO32=일위대가!$E$2,일위대가!$E$65,IF(AO32=일위대가!$F$2,일위대가!$F$65,IF(AO32=일위대가!$G$2,일위대가!$G$65,IF(AO32=일위대가!$H$2,일위대가!$H$65,IF(AO32=일위대가!$I$2,일위대가!$I$65,0)))))),0)*P26+IF(P27>0,IF(AR32=일위대가!$D$2,일위대가!$D$65,IF(AR32=일위대가!$E$2,일위대가!$E$65,IF(AR32=일위대가!$F$2,일위대가!$F$65,IF(AR32=일위대가!$G$2,일위대가!$G$65,IF(AR32=일위대가!$H$2,일위대가!$H$65,IF(AR32=일위대가!$I$2,일위대가!$I$65,0)))))),0)*P27+IF(P28>0,IF(AU32=일위대가!$D$2,일위대가!$D$65,IF(AU32=일위대가!$E$2,일위대가!$E$65,IF(AU32=일위대가!$F$2,일위대가!$F$65,IF(AU32=일위대가!$G$2,일위대가!$G$65,IF(AU32=일위대가!$H$2,일위대가!$H$65,IF(AU32=일위대가!$I$2,일위대가!$I$65,0)))))),0)*P28 -> 1005176 | BF32: =AZ32 -> 1005176
A33: 단열이중보온관 | H33: 0 | S33: m | U33: =IF(P33>0,IF(H33=일위대가!$D$2,일위대가!$D$16,IF(H33=일위대가!$E$2,일위대가!$E$16,IF(H33=일위대가!$F$2,일위대가!$F$16,IF(H33=일위대가!$G$2,일위대가!$G$16,IF(H33=일위대가!$H$2,일위대가!$H$16,IF(H33=일위대가!$I$2,일위대가!$I$16,0)))))),0) -> 0 | AA33: =SUM(P33*U33) -> 0 | AH33: 경고테이프 설치 | AO33: =H49 -> 300 | AW33: =IF(AO33>0,1&"식",0) -> 1식 | AZ33: =IF($AW$33>0,일위대가!$E$89,0)*($P$26+$P$27+$P$28) -> 15164 | BF33: =AZ33 -> 15164
A34: 단열이중관엘보 | H34: =$H$33 -> 0 | S34: 개 | U34: =IF(P34>0,IF(H34=일위대가!$D$2,일위대가!$D$17,IF(H34=일위대가!$E$2,일위대가!$E$17,IF(H34=일위대가!$F$2,일위대가!$F$17,IF(H34=일위대가!$G$2,일위대가!$G$17,IF(H34=일위대가!$H$2,일위대가!$H$17,IF(H34=일위대가!$I$2,일위대가!$I$17,0)))))),0) -> 0 | AA34: =SUM(P34*U34) -> 0 | AH34: 단열이중관 접합 | AO34: =H33 -> 0 | AW34: =IF(AO34>0,1&"식",0) -> 0 | AZ34: =IF($AW$34>0,IF(AO34=일위대가!$D$2,일위대가!$D$18,IF(AO34=일위대가!$E$2,일위대가!$E$18,IF(AO34=일위대가!$F$2,일위대가!$F$18,IF(AO34=일위대가!$G$2,일위대가!$G$18,IF(AO34=일위대가!$H$2,일위대가!$H$18,IF(AO34=일위대가!$I$2,일위대가!$I$18,0)))))),0)*P33 -> 0 | BF34: =AZ34 -> 0
A35: 어댑터소켓(M/F) | H35: =H4 -> 40 | P35: 1 | S35: 개 | U35: =IF(P35>0,IF(H35=일위대가!$D$2,일위대가!$D$76,IF(H35=일위대가!$E$2,일위대가!$E$76,IF(H35=일위대가!$F$2,일위대가!$F$76,IF(H35=일위대가!$G$2,일위대가!$G$76,IF(H35=일위대가!$H$2,일위대가!$H$76,IF(H35=일위대가!$I$2,일위대가!$I$76,0)))))),0) -> 13905 | AA35: =SUM(P35*U35) -> 13905 | AH35: RF센서 설치 | AO35: =H56 -> 0 | AW35: =P56 -> 0 | AZ35: =IF($AW$35>0,일위대가!$E$115,0)*($N$4+$N$5) -> 0 | BF35: =AZ35 -> 0
A36: 어댑터소켓(M/F) | H36: =H5 -> 0 | S36: 개 | U36: =IF(P36>0,IF(H36=일위대가!$D$2,일위대가!$D$67,IF(H36=일위대가!$E$2,일위대가!$E$67,IF(H36=일위대가!$F$2,일위대가!$F$67,IF(H36=일위대가!$G$2,일위대가!$G$67,IF(H36=일위대가!$H$2,일위대가!$H$67,IF(H36=일위대가!$I$2,일위대가!$I$67,0)))))),0) -> 0 | AA36: =SUM(P36*U36) -> 0 | AH36: 소 계 | AO36: 노 무 비 | BF36: =SUM($BF$14:$BL$35) -> 9975858.6
A37: 주름마디연결관 | H37: =IF(P41>0,RIGHT(H41,2),0) -> 40 | P37: =IF(P26>0,IF(P41>0,1,0),0) -> 1 | S37: 개 | U37: =IF(P37>0,IF(H37="13",일위대가!$D$79,IF(H37="20",일위대가!$E$79,IF(H37="25",일위대가!$F$79,IF(H37="32",일위대가!$G$79,IF(H37="40",일위대가!$H$79,IF(H37="50",일위대가!$I$79,0)))))),0) -> 47170 | AA37: =SUM(P37*U37) -> 47170 | AH37: 기 계 경 비 | AK37: 아스콘 | AO37: 토공및다짐 | AT37: A콘 절단 | AX37: A콘 깨기 | BB37: A콘 복구 | BF37: =SUM(AO38:BE38) -> 745264.84
A38: 주름마디연결관 | H38: =IF(P42>0,RIGHT(H42,2),0) -> 0 | P38: =IF(P26>0,IF(P42>0,1,0),0) -> 0 | S38: 개 | U38: =IF(P38>0,IF(H38="13",일위대가!$D$79,IF(H38="20",일위대가!$E$79,IF(H38="25",일위대가!$F$79,IF(H38="32",일위대가!$G$79,IF(H38="40",일위대가!$H$79,IF(H38="50",일위대가!$I$79,0)))))),0) -> 0 | AA38: =SUM(P38*U38) -> 0 | AO38: =IF($P$14>10,$P$14*일위대가!$I$92+$P$25*일위대가!$I$66,$P$14*일위대가!$I$90+P25*일위대가!$I$66) -> 54925.64 | AT38: =SUM($P$15*일위대가!$I$93) -> 7540 | AX38: =IF($P$16>0,$P$16*일위대가!$I$95,0)+IF($P$17>0,$P$17*일위대가!$I$96,0) -> 38709.2 | BB38: =IF($P$18>0,$P$18*일위대가!$I$100,0)+IF($P$19>0,$P$19*일위대가!$I$101,0) -> 644090
A39: STS 이경소켓 | P39: =IF(H39>0,1,0) -> 0 | S39: 개 | U39: =IF(H39>0,HLOOKUP(H39,일위대가!$D$3:$R$4,2,FALSE),0) -> 0 | AA39: =SUM(P39*U39) -> 0 | AK39: 콘크리트 | AO39: 폐기물 적사 | AT39: 콘 절단 | AX39: 콘 깨기 | BB39: 보도블럭 | BF39: =SUM(AO40:BE40) -> 73486
A40: STS 이경티 | P40: =IF(H40>0,1,0) -> 0 | S40: 개 | U40: =IF(H40>0,HLOOKUP(H40,일위대가!$D$5:$Q$6,2,FALSE),0) -> 0 | AA40: =SUM(P40*U40) -> 0 | AO40: =$P$24*일위대가!$I$107 -> 73486 | AT40: =$P$20*일위대가!$I$94 -> 0 | AX40: =IF($M$21>0,$P$21*일위대가!$I$98,0) -> 0 | BB40: =IF($M$20>10,$P$22*일위대가!$I$105,0)+설계카드!$P$23*일위대가!$I$106 -> 0
A41: 새들분수전 | H41: 150*40 | P41: =IF(H41>0,1,0) -> 1 | S41: 개 | U41: =IF(H41>0,HLOOKUP(H41,일위대가!$D$7:$CA$9,2,FALSE),0) -> 191122 | AA41: =SUM(P41*U41) -> 191122 | AH41: 순공사비 소계 | AO41: 재료비+노무비+경비 | BF41: =$AA$57+$BF$36+$BF$37+$BF$39 -> 15721928 | BV41: 1개월 미만 | BW41: 1000 미만
A42: 새들분수전 | P42: =IF(H42>0,1,0) -> 0 | S42: 개 | U42: =IF(H42>0,HLOOKUP(H42,일위대가!$D$7:$CA$9,2,FALSE),0) -> 0 | AA42: =SUM(P42*U42) -> 0 | AH42: 간접노무비 | AO42: 직노의 19.1% | BF42: =BF36*19.1% -> 1905389 | BV42: 1개월 이상 | BW42: 1000 이상
A43: 소형지수전 | H43: 40 | P43: =IF(OR($H$43>0,$L$43>0),IF(OR($H$43>0,$L$43>0),1,0),0) -> 1 | S43: set | U43: =IF($H$43>0,HLOOKUP($H$43,일위대가!$D$86:$I$88,3,FALSE),0)+IF($L$43>0,HLOOKUP($L$43,일위대가!$D$86:$I$88,3,FALSE),0) -> 285209 | AA43: =SUM(P43*U43) -> 285209 | AH43: 산재및고용보험 | AO43: 노무비의 4.57% | BF43: =(BF36+$BF$42)*4.57% -> 542973.01
A44: 관보온재 | H44: =H26 -> 40 | P44: =P26 -> 68 | S44: m | U44: =IF(P44>0,IF(H44=일위대가!$D$2,일위대가!$D$64,IF(H44=일위대가!$E$2,일위대가!$E$64,IF(H44=일위대가!$F$2,일위대가!$F$64,IF(H44=일위대가!$G$2,일위대가!$G$64,IF(H44=일위대가!$H$2,일위대가!$H$64,IF(H44=일위대가!$I$2,일위대가!$I$64,0)))))),0) -> 4918 | AA44: =SUM(P44*U44) -> 334424 | AH44: 기타경비 | AO44: 재료+직노+간노의 5.5% | BF44: =($AA$57+$BF$36+$BF$42)*5.5% -> 924471.15 | BM44: 1개월 미만 | BV44: 0
A45: 관보온재 | H45: =H27 -> 0 | P45: =P27 -> 0 | S45: m | U45: =IF(P45>0,IF(H45=일위대가!$D$2,일위대가!$D$64,IF(H45=일위대가!$E$2,일위대가!$E$64,IF(H45=일위대가!$F$2,일위대가!$F$64,IF(H45=일위대가!$G$2,일위대가!$G$64,IF(H45=일위대가!$H$2,일위대가!$H$64,IF(H45=일위대가!$I$2,일위대가!$I$64,0)))))),0) -> 0 | AA45: =SUM(P45*U45) -> 0 | AH45: 석면분담금및임금채권부담금 | AO45: 노무비의 (0.006+0.09)=0.096% | BF45: =(BF36+$BF$42)*0.096% -> 11405.998 | BV45: 15km 이내
A46: 관보온재 | H46: =H28 -> 0 | P46: =P28 -> 0 | S46: m | U46: =IF(P46>0,IF(H46=일위대가!$D$2,일위대가!$D$64,IF(H46=일위대가!$E$2,일위대가!$E$64,IF(H46=일위대가!$F$2,일위대가!$F$64,IF(H46=일위대가!$G$2,일위대가!$G$64,IF(H46=일위대가!$H$2,일위대가!$H$64,IF(H46=일위대가!$I$2,일위대가!$I$64,0)))))),0) -> 0 | AA46: =SUM(P46*U46) -> 0 | AH46: 건강및연금보험 | AO46: 직노의 8.345% | BF46: =IF(BM44="1개월 미만",0,IF(BM44="1개월 이상",BF36*8.345%,0)) -> 0 | BU46: =IF(AO63<10000000,"1000만원 미만","1000만원 이상") -> 1000만원 이상 | BV46: 20km 이내
A47: 동파방지팩 | H47: =H4 -> 40 | P47: =IF(P26>0,1,0) -> 1 | S47: 개 | U47: =IF(P47>0,IF(H47=일위대가!$D$2,일위대가!$D$81,IF(H47=일위대가!$E$2,일위대가!$E$81,IF(H47=일위대가!$F$2,일위대가!$F$81,IF(H47=일위대가!$G$2,일위대가!$G$81,IF(H47=일위대가!$H$2,일위대가!$H$81,IF(H47=일위대가!$I$2,일위대가!$I$81,0)))))),0) -> 7000 | AA47: =SUM(P47*U47) -> 7000 | AH47: 산업안전보건관리비 | AO47: 재료비+직노의 3.15% | BF47: =IF(BM47=" 1000 미만",0,IF(BM47="1000 이상",(AA57+BF36)*3.15%,0)) -> 469450.09 | BM47: 1000 이상
A48: 동파방지팩 | H48: =H5 -> 0 | S48: 개 | U48: =IF(P48>0,IF(H48=일위대가!$D$2,일위대가!$D$81,IF(H48=일위대가!$E$2,일위대가!$E$81,IF(H48=일위대가!$F$2,일위대가!$F$81,IF(H48=일위대가!$G$2,일위대가!$G$81,IF(H48=일위대가!$H$2,일위대가!$H$81,IF(H48=일위대가!$I$2,일위대가!I$81,0)))))),0) -> 0 | AA48: =SUM(P48*U48) -> 0 | AH48: 중기및자재운반 | AO48: 20km 이내 | BF48: =IF($AO$48>0,IF(P19>0,HLOOKUP($AO$48,일위대가!$D$11:$E$14,4,FALSE)*2,HLOOKUP($AO$48,일위대가!$D$11:$E$14,4,FALSE)),0) -> 222733.03
A49: 경고테이프 | H49: =IF(P49>0,300,0) -> 300 | P49: =IF(P26>0,P26+P27+P28,0) -> 68 | S49: m | U49: =IF($P$49>0,일위대가!$G$89,0) -> 149 | AA49: =SUM(P49*U49) -> 10132 | AH49: 소 계 | BF49: =SUM($BF$41:$BL$48) -> 19798350
A50: 청동게이트밸브 | S50: 개 | U50: =IF(H50=일위대가!$D$2,일위대가!$D$73,IF(H50=일위대가!$E$2,일위대가!$E$73,IF(H50=일위대가!$F$2,일위대가!$F$73,IF(H50=일위대가!$G$2,일위대가!$G$73,IF(H50=일위대가!$H$2,일위대가!$H$73,IF(H50=일위대가!$I$2,일위대가!$I$73,0)))))) -> 0 | AA50: =SUM(P50*U50) -> 0 | AH50: 일반관리비 | AO50: 재료+직노+간노+경비+보험료의 8% | BF50: =$BF$49*8% -> 1583868 | BV50: 아스콘 물량 | BW50: =AO53*AU53 -> 0
A51: 청동게이트밸브 | S51: 개 | U51: =IF(H51=일위대가!$D$2,일위대가!$D$73,IF(H51=일위대가!$E$2,일위대가!$E$73,IF(H51=일위대가!$F$2,일위대가!$F$73,IF(H51=일위대가!$G$2,일위대가!$G$73,IF(H51=일위대가!$H$2,일위대가!$H$73,IF(H51=일위대가!$I$2,일위대가!$I$73,0)))))) -> 0 | AA51: =SUM(P51*U51) -> 0 | AH51: 이 윤 | AO51: 직노+간노+경비+일반관리비의 10% | BF51: =($BF$49+$BF$50-$AA$57)*10% -> 1645490
A52: 원격계량기 | AA52: ` | AH52: 폐아스콘 처리 | AO52: =P16 -> 11.6 | AT52: x | AU52: =IF(AO52>0,2.35,0) -> 2.35 | AZ52: =IF(AO52>0,38000,0) -> 38000 | BF52: =SUM(AO52*AU52*AZ52) -> 1035880
A53: 원격계량기 | AH53: =IF(BW50>5,"재활용아스콘운반",AH52&"(파쇄)") -> 폐아스콘 처리(파쇄) | AO53: =N19*P19 -> 0 | AT53: x | AU53: =IF(AO53>0,2.35,0) -> 0 | AZ53: =IF(P19=0,0,IF(BW50>5,10000,29000)) -> 0 | BF53: =SUM(AO53*AU53*AZ53) -> 0 | BW53: =BM55 -> 26469947
A54: 상수관로 표지핀 | H54: Φ75*115 | S54: 개 | U54: =IF(P54>0,일위대가!K113,0) -> 0 | AA54: =SUM(P54*U54) -> 0 | AH54: 폐콘크리트 처리 | AO54: =P21 -> 0 | AT54: x | AU54: =IF(AO54>0,2.3,0) -> 0 | AZ54: =IF(AO54>0,36000,0) -> 0 | BF54: =SUM(AO54*AU54*AZ54) -> 0
A55: 감압밸브 | H55: 0 | L55: 0 | P55: =IF(OR($H$55>0,$L$55>0),IF(OR($H$55>0,$L$55>0),1,0),0) -> 0 | S55: set | U55: =IF(H55>0,HLOOKUP($H$55,일위대가!$D$45:$I$47,2,FALSE),0)+IF(L55>0,HLOOKUP($L$55,일위대가!$D$45:$I$47,2,FALSE),0) -> 0 | AA55: =SUM(P55*U55) -> 0 | AH55: 총 원 가(A) | AO55: =SUM($BF$49:$BL$54) -> 24063588 | AZ55: . | BF55: =AO55 -> 24063588 | BM55: =BF55+BF56 -> 26469947
A56: 원터치밸브소켓 | H56: 0 | S56: 개 | U56: =IF(H56>0,HLOOKUP($H$56,일위대가!$D$45:$I$81,34,FALSE),0) -> 0 | AA56: =U56*P56 -> 0 | AH56: 부 가 세(B) | AO56: =$BF$55 -> 24063588 | AZ56: 0.1 | BF56: =BF55*10% -> 2406358.8
A57: 소 계 | H57: 재 료 비 | AA57: =SUM($AA$14:$AG$56) -> 4927318.8 | AH57: 공사비합계 (C) | AO57: (A + B) | BF57: =ROUNDDOWN(BM55,-1) -> 26469940
A58: 재료검사수수료 | H58: =H4 -> 40 | L58: =H5 -> 0 | P58: =IF(P26>0,1,0) -> 1 | S58: 식 | U58: =IF(P58>0,IF(H58<40,일위대가!E117,일위대가!H117),0)+IF(L58>0,IF(L58<40,일위대가!E117,일위대가!H117),0) -> 8000 | AA58: =SUM(P58*U58) -> 8000 | BM58: 천단위미만 절사
A59: 준공검사수수료 | H59: =H58 -> 40 | L59: =L58 -> 0 | P59: =IF(P26>0,1,0) -> 1 | S59: 식 | U59: =IF(P59>0,IF(H59<40,일위대가!E118,일위대가!H118),0)+IF(L59>0,IF(L59<40,일위대가!E118,일위대가!H118),0) -> 8000 | AA59: =SUM(P59*U59) -> 8000 | AH59: 계량기대(디지털) | AO59: =H4 -> 40 | AS59: m/m | AU59: =IF($N$4>0,IF($P$52>0,0,1),0) -> 1 | AX59: 개 | AZ59: =IF(AU59>0,IF(설계카드!AO59=일위대가!$D$2,일위대가!D55,IF(설계카드!AO59=일위대가!$E$2,일위대가!E55,IF(설계카드!AO59=일위대가!$F$2,일위대가!F55,IF(설계카드!AO59=일위대가!$G$2,일위대가!G55,IF(설계카드!AO59=일위대가!$H$2,일위대가!H55,IF(설계카드!AO59=일위대가!$I$2,일위대가!I55,0)))))),0) -> 151590 | BF59: =SUM(AZ59*AU59) -> 151590
A60: 설계수수료 | P60: =IF(P26>0,1,0) -> 1 | S60: 식 | U60: =ROUNDDOWN(IF(BF57>0,BF57/100,0),-2) -> 264600 | AA60: =SUM(P60*U60) -> 264600 | AH60: 계량기대(디지털) | AO60: =H5 -> 0 | AS60: m/m | AU60: =IF($N$5>0,IF($P$53>0,0,1),0) -> 0 | AX60: 개 | AZ60: =IF(AU60>0,IF(설계카드!AO60=일위대가!$D$2,일위대가!D55,IF(설계카드!AO60=일위대가!$E$2,일위대가!E55,IF(설계카드!AO60=일위대가!$F$2,일위대가!F55,IF(설계카드!AO60=일위대가!$G$2,일위대가!G55,IF(설계카드!AO60=일위대가!$H$2,일위대가!H55,IF(설계카드!AO60=일위대가!$I$2,일위대가!I55,0)))))),0) -> 0 | BF60: =SUM(AZ60*AU60) -> 0 | BV60: 0
A61: 소 계 | H61: 수수료 | AA61: =SUM($AA$58:$AG$60) -> 280600 | AH61: 계량기보호통대 | AO61: =AO59 -> 40 | AS61: m/m | AU61: =IF($N$4>0,IF($P$52>0,1,IF($AU$59>0,1,0)),0)+IF($H$55>25,IF($H$55=$AO$61,1,0)) -> 1 | AX61: 개 | AZ61: =IF(AU61>0,IF(설계카드!AO61=일위대가!$D$2,일위대가!D57,IF(설계카드!AO61=일위대가!$E$2,일위대가!E57,IF(설계카드!AO61=일위대가!$F$2,일위대가!F57,IF(설계카드!AO61=일위대가!$G$2,일위대가!G57,IF(설계카드!AO61=일위대가!$H$2,일위대가!H57,IF(설계카드!AO61=일위대가!$I$2,일위대가!I57,0)))))),0) -> 350000 | BF61: =SUM(AZ61*AU61) -> 350000 | BV61: 1
AH62: 계량기보호통대 | AO62: =AO60 -> 0 | AS62: m/m | AU62: =IF($N$5>0,IF($P$53>0,1,IF($AU$60>0,1,0)),0)+IF($L$55>25,IF($L$55=$AO$61,1,0)) -> 0 | AX62: 개 | AZ62: =IF(AU62>0,IF(설계카드!AO62=일위대가!$D$2,일위대가!D57,IF(설계카드!AO62=일위대가!$E$2,일위대가!E57,IF(설계카드!AO62=일위대가!$F$2,일위대가!F57,IF(설계카드!AO62=일위대가!$G$2,일위대가!G57,IF(설계카드!AO62=일위대가!$H$2,일위대가!H57,IF(설계카드!AO62=일위대가!$I$2,일위대가!I57,0)))))),0) -> 0 | BF62: =SUM(AZ62*AU62) -> 0
AH63: 합 계 | AO63: 24853590 | AX63: 원 | AZ63: 수도미터번호
A64: 시설분담금 | H64: =H4 -> 40 | P64: 1 | S64: 식 | U64: 0 | AA64: =IF(P64>0,$P$64*$U$64,0) -> 0 | AH64: 총 합 계 | AO64: 25134190 | AX64: 원 | AZ64: 수도미터번호

Sheet 급수배관상세축도
A1: 본 전 지 | D1: 급 수 배 관 상 세 축 도
A2: 명 칭 | B2: 본 전 | C2: 지 전
D3: 150*40
A4: 구 경 | B4: 150 | C4: 40
B5: mm | C5: mm
A6: 원 수
A9: 비 고
A11: ㈜수일개발 보정동 675-3

Sheet 급수배관상세축도 (2)
A1: 본 전 지 | D1: 급 수 배 관 상 세 축 도
A2: 명 칭 | B2: 본 전 | C2: 지 전
D3: 300*40
A4: 구 경
B5: mm | C5: mm
A6: 원 수
A9: 비 고
A11: ㈜수일개발 보정동 675-3

Sheet 일위대가
D1: 급수관 구경
A2: 구분 | B2: 항목 | C2: 단위 | D2: 13 | E2: 20 | F2: 25 | G2: 32 | H2: 40 | I2: 50 | J2: 80 | K2: 100 | L2: 150 | M2: 200 | N2: 250 | O2: 300 | P2: 350 | Q2: 400 | R2: 450 | S2: 500 | T2: 600 | U2: 700
A3: 이경소켓(레듀샤) | C3: 규격 | D3: 20*13 | E3: 25*13 | F3: 25*20 | G3: 32*13 | H3: 32*20 | I3: 32*25 | J3: 40*13 | K3: 40*20 | L3: 40*25 | M3: 40*32 | N3: 50*13 | O3: 50*20 | P3: 50*25 | Q3: 50*32 | R3: 50*40 | CB3: 물가정보707
A4: 이경소켓(레듀샤) | B4: 재료비 | D4: 4796 | E4: 7637 | F4: 7637 | G4: 8014 | H4: 10205 | I4: 10742 | J4: 11699 | K4: 12400 | L4: 12540 | M4: 13906 | N4: 14495 | O4: 15451 | P4: 16076 | Q4: 16922 | R4: 16922
A5: 이경티 | C5: 규격 | D5: 20*13 | E5: 25*13 | F5: 25*20 | G5: 32*13 | H5: 32*20 | I5: 32*25 | J5: 40*13 | K5: 40*20 | L5: 40*25 | M5: 40*32 | N5: 50*13 | O5: 50*20 | P5: 50*25 | Q5: 50*32 | R5: 50*40 | CB5: 물가정보710
A6: 이경티(원터치삽입식) | B6: 재료비 | D6: 16440 | E6: 19660 | F6: 20720 | G6: 27700 | H6: 28120 | I6: 28780 | J6: 35970 | K6: 36850 | L6: 37890 | M6: 39560 | N6: 47850 | O6: 49410 | P6: 50800 | Q6: 51670 | R6: 52910
A7: 새들붙이분수전 | C7: 규격 | D7: 40*13 | E7: 40*20 | F7: 50*13 | G7: 50*20 | H7: 50*25 | I7: 80*13 | J7: 80*20 | K7: 80*25 | L7: 80*32 | M7: 80*40 | N7: 80*50 | O7: 100*13 | P7: 100*20 | Q7: 100*25 | R7: 100*32 | S7: 100*40 | T7: 100*50 | U7: 150*13 | V7: 150*20 | W7: 150*25 | X7: 150*32 | Y7: 150*40 | Z7: 150*50 | AA7: 200*13 | AB7: 200*20 | AC7: 200*25 | AD7: 200*32 | AE7: 200*40 | AF7: 200*50 | AG7: 250*13 | AH7: 250*20 | AI7: 250*25 | AJ7: 250*32 | AK7: 250*40 | AL7: 250*50 | AM7: 300*13 | AN7: 300*20 | AO7: 300*25 | AP7: 300*32 | AQ7: 300*40 | AR7: 300*50 | CB7: 물가자료870
A8: 새들붙이분수전(강관)SP | B8: 재료비 | D8: 53764 | E8: 61212 | F8: 54850 | G8: 64175 | H8: 82758 | I8: 56921 | J8: 68450 | K8: 86075 | L8: 129931 | M8: 167863 | N8: 276700 | O8: 62658 | P8: 72036 | Q8: 89263 | R8: 137745 | S8: 188738 | T8: 251043 | U8: 74363 | V8: 80304 | W8: 98211 | X8: 150679 | Y8: 191122 | Z8: 255042 | AA8: 110031 | AB8: 119157 | AC8: 135806 | AD8: 200833 | AE8: 244806 | AF8: 303320 | AG8: 131000 | AH8: 137320 | AI8: 153737 | AJ8: 241904 | AK8: 289369 | AL8: 336967 | AM8: 148921 | AN8: 151675 | AO8: 166741 | AP8: 265917 | AQ8: 310150 | AR8: 365517
A9: 새들붙이분수전(주철관)DCIP | B9: 재료비 | I9: 55368 | J9: 65514 | K9: 85605 | L9: 128061 | M9: 170395 | N9: 286600 | O9: 59725 | P9: 70271 | Q9: 89936 | R9: 139768 | S9: 184356 | T9: 249395 | U9: 71156 | V9: 82528 | W9: 99362 | X9: 153968 | Y9: 196702 | Z9: 258511 | AA9: 105888 | AB9: 117394 | AC9: 133262 | AD9: 204615 | AE9: 243644 | AF9: 295993 | AG9: 124348 | AH9: 131862 | AI9: 149787 | AJ9: 241531 | AK9: 277957 | AL9: 327070 | AM9: 138389 | AN9: 145585 | AO9: 166781 | AP9: 271696 | AQ9: 311797 | AR9: 365959
A10: 새들분수전 설치(관분기포함) | B10: 노무비 | C10: 개소 | F10: 67094 | G10: 67094 | H10: 80513 | I10: 80513 | J10: 80513 | K10: 93932 | L10: 93932 | M10: 114061 | N10: 114061 | O10: 84717 | P10: 84717 | Q10: 98236 | R10: 98136 | S10: 120770 | T10: 120770 | U10: 88921 | V10: 88921 | W10: 102340 | X10: 102340 | Y10: 127480 | Z10: 127480 | AA10: 93125 | AB10: 93125 | AC10: 109049 | AD10: 109049 | AE10: 134189 | AF10: 134189 | AG10: 97328 | AH10: 97328 | AI10: 115759 | AJ10: 115759 | AK10: 140899 | AL10: 104899 | AM10: 101532 | AN10: 101532 | AO10: 122468 | AP10: 122468 | AQ10: 147608 | AR10: 147608 | CB10: 일위대가 | CC10: 부단수천공새들분수전분기점분기
A11: 장비운반 | C11: 규격 | D11: 15km 이내 | E11: 20km 이내
A12: 장비운반(일반자재) | B12: 경비 | C12: 1식 | D12: 8033 | E12: 13659 | K12: 처인구 | U12: 기흥구 | AE12: 수지구 | CB12: d2881, 2882
A13: 장비운반(철근,주철관 소량) | B13: 경비 | C13: 1식 | D13: 79745 | E13: 111240 | F13: 포곡읍 | G13: 모현면 | H13: 남사면 | I13: 이동면 | J13: 원삼면 | K13: 백암면 | L13: 양지면 | M13: 중앙동 | N13: 역삼동 | O13: 유림동 | P13: 동부동 | Q13: 신갈동 | R13: 영덕동 | S13: 구갈동 | T13: 상갈동 | U13: 기흥동 | V13: 서농동 | W13: 구성동 | X13: 마북동 | Y13: 동백동 | Z13: 상하동 | AA13: 보정동 | AB13: 풍덕천1동 | AC13: 풍덕천2동 | AD13: 신봉동 | AE13: 죽전1동 | AF13: 죽전2동 | AG13: 동천동 | AH13: 상현1동 | AI13: 상현2동 | AJ13: 성복동 | CB13: s336구역화물)
A14: 장비운반(중기) | B14: 경비 | C14: 1식 | D14: =중기운반비!K7 -> 178861.37 | E14: =중기운반비!K9 -> 222733.03 | F14: 8.6km | G14: 15km | H14: 17.9km | I14: 13.9km | J14: 16.9km | K14: 23km | L14: 10.2km | M14: 3km | N14: 1.7km | O14: 4.9km | P14: 4.3km | Q14: 9.3km | R14: 11.9km | S14: 6.2km | T14: 8.4km | U14: 8.2km | V14: 10.5km | W14: 9.3km | X14: 10.3km | Y14: 5km | Z14: 5.7km | AA14: 12.5km | AB14: 14km | AC14: 13.8km | AD14: 14.4km | AE14: 13km | AF14: 13.4km | AG14: 15.6km | AH14: 13.6km | AI14: 13.6km | AJ14: 15.4km
A15: 관매달기(D150mm) | B15: 노무비 | C15: 개소 | D15: 노무비 | E15: 177178 | F15: 재료비 | G15: 188319 | H15: 경비 | I15: 8703 | J15: 계 | K15: =E15+G15+I15 -> 374200 | CB15: d1114
A16: 단열이중보온관 | B16: 재료비 | E16: 57820 | F16: 62270 | G16: 70910 | H16: 83130 | I16: 101440 | J16: 145770 | K16: 185980 | L16: 255960 | M16: 397880 | CB16: 물가정보-265-679
A17: 단열이중보온관 엘보(90도) | B17: 재료비 | E17: 98130 | F17: 124010 | G17: 156810 | H17: 194390 | I17: 262500 | J17: 414750 | K17: 609920 | L17: 1011420 | M17: 1720640
A18: 단열이중관 부설 및 접합 | B18: 노무비 | E18: 11105 | F18: 15684 | G18: 18927 | H18: 20759 | I18: 22580 | J18: 31510 | K18: 45471 | L18: 78411 | M18: 109916 | CB18: d2006~d1934
A19: 이중보온관 연결부(150mm) | B19: 노무비 | D19: 노무비 | E19: 58593 | F19: 재료비 | G19: 48500 | H19: 경비 | J19: 계 | K19: =E19+G19+I19 -> 107093 | CB19: d01117
A20: HI-VP편수관(6m) | B20: 재료비 | I20: 26319 | J20: 52650 | K20: 79844 | L20: 156709 | M20: 219735 | N20: 330248 | O20: 481650 | CB20: 물가자료 26-713
A21: 밸크립 | B21: 재료비 | I21: 22525 | J21: 30762 | K21: 36812 | L21: 69435 | M21: 92798 | N21: 177265 | O21: 202628 | CB21: 물가자료 26-714
A22: DK 맹판 | B22: 재료비 | J22: 28808 | K22: 34423 | L22: 57635 | M22: 88058 | N22: 135288 | O22: 192115 | CB22: 물가자료 26-714
A23: 90도 DK 엘보 | B23: 재료비 | J23: 54635 | K23: 80904 | L23: 212038 | M23: 309173 | N23: 513750 | O23: 657692 | CB23: 물가자료 26-714
A24: 45도 DK 엘보 | B24: 재료비 | J24: 50423 | K24: 75462 | L24: 180846 | M24: 250269 | N24: 517404 | O24: 600538 | CB24: 물가자료 26-714
A25: 22도 DK 엘보 | B25: 재료비 | J25: 48000 | K25: 68077 | L25: 183558 | M25: 249962 | N25: 495038 | O25: 599558 | CB25: 물가자료 26-714
A26: DK 플랜지소켓 | B26: 재료비 | J26: 47346 | K26: 61385 | L26: 126615 | M26: 190115 | N26: 317788 | O26: 388154 | CB26: 물가자료 26-714
A27: DK이음관 | D27: 80*50 | E27: 100*50 | F27: 100*80 | G27: 150*50 | H27: 150*80 | I27: 150*100 | J27: 200*80 | K27: 200*100 | L27: 200*150 | CB27: 물가자료 26-714
A28: DK 이경소켓 | D28: 47120 | E28: 60720 | F28: 58712 | G28: 115673 | H28: 115673 | I28: 123885 | J28: 162500 | K28: 162500 | L28: 203173 | CB28: 물가자료 26-714
A29: DK 이경티 | D29: 79000 | E29: 101680 | F29: 116827 | G29: 225519 | H29: 225519 | I29: 245231 | J29: 288288 | K29: 320192 | L29: 375577 | CB29: 물가자료 26-714
A30: DK이형관 접합 | B30: 노무비 | I30: 8004 | J30: 12024 | K30: 12722 | L30: 18825 | M30: 22736 | N30: 34598 | O30: 40013 | CB30: b3301~b3305
A31: 내충격수도관절단 | B31: 노무비 | I31: 6533 | J31: 7912 | K31: 8728 | L31: 12698 | M31: 15956 | N31: 24108 | O31: 27118 | CB31: b3259~b3271
A32: 내충격수도관접합 | B32: 노무비 | I32: 31481 | J32: 43652 | K32: 49432 | L32: 70789 | M32: 83083 | N32: 101242 | O32: 115329 | CB32: b3023~b3029
A33: 플랜지 조인트관 접합 | B33: 노무비 | J33: 16570 | K33: 25263 | L33: 32235 | M33: 39207 | N33: 48805 | O33: 48805 | CB33: b3040~b3071
B34: 재료비 | J34: 4890 | K34: 9180 | L34: 14790 | M34: 16000 | N34: 25010 | O34: 25870
A35: KP 부설 및 접합 | B35: 노무비 | J35: 76784 | K35: 64468 | L35: 78246 | M35: 99586 | N35: 109545 | O35: 136931 | CB35: b00911-
B36: 재료비 | J36: 0 | K36: 8003 | L36: 9718 | M36: 12368 | N36: 13605 | O36: 17007
B37: 경비 | J37: 2835 | K37: 12838 | L37: 15589 | M37: 19840 | N37: 21824 | O37: 27281
A38: KP 주철관 절단 | B38: 노무비 | J38: 22056 | K38: 22056 | L38: 27570 | M38: 33084 | N38: 38599 | O38: 44112 | CB38: b908~
A39: 주철이형관 부설 및 접합 | B39: 노무비 | J39: 32219 | K39: 32219 | L39: 39123 | M39: 49793 | N39: 54772 | O39: 68465 | CB39: b919~
B40: 재료비 | J40: 4001 | K40: 4001 | L40: 4859 | M40: 6184 | N40: 6802 | O40: 8503
B41: 경비 | J41: 6419 | K41: 6419 | L41: 7794 | M41: 9920 | N41: 10912 | O41: 13640
A42: 주철이형관 부설 및 접합 (이탈방지압륜) | B42: 노무비 | J42: 41884 | K42: 41884 | L42: 50860 | M42: 64731 | N42: 71204 | O42: 89005 | CB42: b914~
B43: 재료비 | J43: 5202 | K43: 5202 | L43: 6315 | M43: 8039 | N43: 8843 | O43: 11054
B44: 경비 | J44: 8344 | K44: 8344 | L44: 10131 | M44: 12896 | N44: 14186 | O44: 17732
A45: 감압밸브 설치 (13~25mm 앵글밸브 일체형) (80~200mm 감압및압력유지밸브) | B45: 구분 | D45: 13 | E45: 20 | F45: 25 | G45: 32 | H45: 40 | I45: 50 | J45: 80 | K45: 100 | L45: 150 | M45: 200 | N45: 250 | O45: 300 | CB45: 가격정보 적용, 물가자료833, 844
B46: 재료비 | D46: 47900 | E46: 54900 | F46: 410000 | G46: 561000 | H46: 650000 | I46: 1100000 | J46: 1745000 | K46: 2233000 | L46: 4711000 | M46: 7043000
B47: 노무비 | D47: 12394 | E47: 12394 | F47: 12394 | G47: 18710 | H47: 18710 | I47: 18710 | J47: 1801404 | K47: 2111868 | L47: 288026 | M47: 3566836 | CB47: b2663~b1721
A48: 스테인리스 제수밸브 | B48: 재료비 | I48: 360000 | J48: 462000 | K48: 594000 | L48: 1035000 | M48: 1320000 | N48: 2120000 | O48: 3105000 | CB48: 물가자료843
A49: 제수변 부설 | B49: 노무비 | C49: 개소 | I49: 36845 | J49: 49430 | K49: 57261 | L49: 68850 | M49: 101580 | N49: 107420 | O49: 115388 | CB49: b3665~3117
B50: 재료비 | C50: 개소 | I50: 2694 | J50: 3199 | K50: 3789 | L50: 4126 | M50: 5389 | N50: 5642 | O50: 5810 | CB50: b3665~3117
B51: 경비 | C51: 개소 | I51: 4294 | J51: 5213 | K51: 6147 | L51: 6824 | M51: 9146 | N51: 9596 | O51: 9978
A52: 밸브 개폐비 | B52: 노무비 | J52: 21106 | K52: 21106 | L52: 26246 | M52: 30283 | N52: 34321 | O52: 37625 | P52: 44967 | Q52: 54144 | R52: 55979 | S52: 63321 | T52: 74333 | U52: 90851 | CB52: d2158~
A53: 스트레이너 | B53: 재료비 | J53: 616000 | K53: 740000 | L53: 1035000 | M53: 1373000 | N53: 1720000 | O53: 2048000 | CB53: 유통물가-614
A54: 스트레이너 설치 | B54: 노무비 | J54: 57463 | K54: 67446 | L54: 80201 | M54: 116872 | N54: 123472 | O54: 130489 | CB54: b2082~
A55: 계량기 | B55: 재료비 | C55: 디지털계량기 | D55: 56410 | E55: 69250 | F55: 82710 | G55: 99890 | H55: 151590 | I55: 188760 | J55: 504190 | K55: 625500 | L55: 940280 | M55: 1062280 | N55: 2432500 | O55: 2742180 | CB55: 효성테크(d13~d50) 경성제닉스(d80~200) 대한계전(d250~300)
A56: 원격계량기 | B56: 재료비 | D56: =58000+135000 -> 193000 | E56: =67500+135000 -> 202500 | F56: =84800+135000 -> 219800 | G56: =105900+135000 -> 240900 | H56: =152300+135000 -> 287300 | I56: =200000+135000 -> 335000 | K56: 13(30,900) | L56: 20(41,990) | M56: 25(57,380) | N56: 32(74,950) | O56: 40(116,290) | P56: 50(111,760) | Q56: 80(410,000) | R56: 100(546,400) | S56: (기계식계량기) | CB56: 원격계량기(효성테크, 케이스마트피아)24185452~, 25001285
A57: 계량기보호통 | B57: 재료비 | D57: 145000 | E57: 195200 | F57: 210000 | G57: 259000 | H57: 350000 | I57: 428500 | CB57: 케이큐 주식회사
A58: 계량기 및 보호통설치 | B58: 노무비 | C58: 개소 | D58: =D59+D60 -> 102645 | E58: =E59+E60 -> 127671 | F58: =F59+F60 -> 127671 | G58: =G59+G60 -> 127671 | H58: =H59+H60 -> 167967 | I58: =I59+I60 -> 167967 | J58: =J59+J60 -> 1406838 | K58: =K59+K60 -> 2225685 | ... O58: =O59+O60 -> 2359578 | CB58: b1686
A59: 계량기 설치 | B59: 노무비 | C59: 개소 | D59: 39870 | E59: 47929 | F59: 47929 | G59: 47929 | H59: 60654 | I59: 60654 | J59: 195790 | K59: 233983 | L59: 233983 | M59: 367876 | N59: 367876 | O59: 367876 | CB59: b1680-1685
A60: 보호통 설치 | B60: 노무비 | C60: 개소 | D60: 62775 | E60: 79742 | F60: 79742 | G60: 79742 | H60: 107313 | I60: 107313 | J60: 1211048 | K60: 1991702 | L60: 1991702 | M60: 1991702 | N60: 1991702 | O60: 1991702 | CB60: b1686~3705
B61: 재료비 | C61: 개소 | J61: 2720611 | K61: 6324281 | L61: 6324281 | M61: 6324281 | N61: 6324281 | O61: 6324281
B62: 경비 | C62: 개소 | J62: 44561 | K62: 56806 | L62: 56806 | M62: 56806 | N62: 56806 | O62: 56806
A63: 공동주택 수전분리(D13mm) | B63: 노무비 | C63: 개소 | D63: 53556 | E63: 계량기 교체 | F63: 53109 | CB63: b-1689,1207
A64: 관보온 | B64: 재료비 | C64: m | D64: 3855 | E64: 3990 | F64: 4301 | G64: 4596 | H64: 4918 | I64: 5184 | J64: 6388 | K64: 7641 | CB64: 대가3655~3654
A65: 관보온 | B65: 노무비 | C65: m | D65: 9183 | E65: 10449 | F65: 10823 | G65: 12626 | H65: 14782 | I65: 17316 | J65: 20899 | K65: 24243
A66: 혼합골재 부설 | B66: 노무비 | C66: ㎥ | D66: 노무비 | E66: 11649 | F66: 재료비 | G66: 1539 | H66: 경비 | I66: 1620 | J66: 계 | K66: =E66+G66+I66 -> 14808 | CB66: d3028
A67: STS 티 | B67: 재료비 | D67: 8910 | E67: 11210 | F67: 13910 | G67: 16870 | H67: 21730 | I67: 29100 | CB67: 자료26-751
A68: STS소켓(프레스식) | B68: 재료비 | D68: 3200 | E68: 3480 | F68: 5090 | G68: 6290 | H68: 8150 | I68: 12200
A69: STS엘보(90도) | B69: 재료비 | D69: 3510 | E69: 5000 | F69: 5850 | G69: 8740 | H69: 10810 | I69: 14400
A70: STS엘보(45도) | B70: 재료비 | D70: 3510 | E70: 5000 | F70: 5850 | G70: 8740 | H70: 10810 | I70: 14400
A71: STS관 | B71: 재료비 | D71: 1930 | E71: 3220 | F71: 4020 | G71: 5690 | H71: 6970 | I71: 8040 | CB71: 물자26-744
A72: STS관 접합 | B72: 노무비 | D72: 10518 | E72: 14025 | F72: 16830 | G72: 21037 | H72: 24042 | I72: 26296 | CB72: 대가1154~1160
A73: 게이트밸브 | B73: 재료비 | D73: 15830 | E73: 21700 | F73: 31150 | G73: 44220 | H73: 58810 | I73: 87830 | CB73: 물자 822
A74: 수전티 | B74: 재료비 | D74: 10005 | E74: 11499 | F74: 14858 | G74: 17550 | H74: 22950 | I74: 29700 | CB74: 물정25-701
A75: 캡 | B75: 재료비 | D75: 4694 | E75: 4973 | F75: 6473 | G75: 8240 | H75: 11552 | I75: 12802 | CB75: 물정25-701
A76: 어댑터소켓(M/F) | B76: 재료비 | D76: 6693 | E76: 8012 | F76: 9589 | G76: 9894 | H76: 13905 | I76: 20925 | CB76: 물정25-701
A77: 볼밸브(황동) | B77: 재료비 | D77: 5130 | E77: 6720 | F77: 11990 | G77: 18950 | H77: 27650 | I77: 39630 | CB77: 물자823
A78: 밸브소켓(원터치) | B78: 재료비 | D78: 6320 | E78: 8000 | F78: 11880 | G78: 13590 | H78: 18930 | I78: 23490 | CB78: 물자743
A79: 주름마디분수전연결관 | B79: 재료비 | D79: 14660 | E79: 20400 | F79: 23580 | G79: 31870 | H79: 47170 | I79: 59920 | CB79: 거래25-783
A80: 베어소켓 | B80: 재료비 | D80: 3500 | E80: 4600 | F80: 6610 | G80: 7670 | H80: 11210 | I80: 13010 | CB80: 물자25-751
A81: 동파방지팩 | B81: 재료비 | D81: 5000 | E81: 6000 | F81: 6000 | G81: 6000 | H81: 7000 | I81: 7000 | CB81: 유통25-628
A82: 나사관 접합 | B82: 노무비 | D82: 12020 | E82: 13572 | F82: 16830 | G82: 20034 | H82: 22144 | I82: 28050 | CB82: b924~
A83: 소형 철개설치 | B83: 노무비 | C83: 개소 | D83: 노무비 | E83: 4148 | F83: 재료비 | G83: 82960 | H83: 경비 | I83: 0 | J83: 계 | K83: =E83+G83+I83 -> 87108 | CB83: d600
A84: 제수변실 설치 | B84: 1.2*1.2*1.2 | C84: 개소 | D84: 노무비 | E84: 479257 | F84: 재료비 | G84: 2193183 | H84: 경비 | I84: 108539 | J84: 계 | K84: =E84+G84+I84 -> 2780979 | CB84: b3667
B85: 1.5*1.5*1.5 | C85: 개소 | D85: 노무비 | E85: 590481 | F85: 재료비 | G85: 2749434 | H85: 경비 | I85: 137718 | J85: 계 | K85: =E85+G85+I85 -> 3477633 | CB85: b3668
A86: 지수전실 설치 | B86: 구분 | D86: 13 | E86: 20 | F86: 25 | G86: 32 | H86: 40 | I86: 50 | CB86: 대가3639~2479
B87: 노무비 | D87: 131629 | E87: 133150 | F87: 136344 | G87: 139486 | H87: 141554 | I87: 144320
B88: 재료비 | D88: 232789 | E88: 239429 | F88: 251569 | G88: 258189 | H88: 285209 | I88: 300003
A89: 경고테이프 | B89: 노무비 | C89: m | D89: 노무비 | E89: 223 | F89: 재료비 | G89: 149 | H89: 경비 | I89: 0 | J89: 계 | K89: =E89+G89+I89 -> 372 | CB89: 대가1656
A90: 소규모 토공(터파기+되메우기, 70:30) | B90: 노무비 | C90: 10㎥미만 | D90: 노무비 | E90: 47612 | F90: 재료비 | G90: 1047 | H90: 경비 | I90: 950 | J90: 계 | K90: =E90+G90+I90 -> 49609 | CB90: b3651
A91: 토공(인력, 경질토사) | B91: 노무비 | C91: ㎥ | D91: 노무비 | E91: 77430 | F91: 재료비 | G91: 0 | H91: 경비 | I91: 0 | J91: 계 | K91: =E91+G91+I91 -> 77430 | CB91: b3648
A92: 토공(기계80, 인력20) | B92: 노무비 | C92: ㎥ | D92: 노무비 | E92: 34411 | F92: 재료비 | G92: 1141 | H92: 경비 | I92: 1049 | J92: 계 | K92: =E92+G92+I92 -> 36601 | CB92: b3650
A93: 아스팔트절단 | B93: 노무비 | C93: m | D93: 노무비 | E93: 1530 | F93: 재료비 | G93: 640 | H93: 경비 | I93: 65 | J93: 계 | K93: =E93+G93+I93 -> 2235 | CB93: d2952
A94: 콘크리트절단 | B94: 노무비 | C94: m | D94: 노무비 | E94: 1683 | F94: 재료비 | G94: 661 | H94: 경비 | I94: 69 | J94: 계 | K94: =E94+G94+I94 -> 2413 | CB94: d2953
A95: 아스팔트깨기(인력+굴삭기0.4㎥) | B95: 노무비 | C95: ㎥ | D95: 노무비 | E95: 11670 | F95: 재료비 | G95: 2545 | H95: 경비 | I95: 3337 | J95: 계 | K95: =E95+G95+I95 -> 17552 | CB95: d2948
A96: 아스팔트파쇄(로더타이어 0.95㎥) | B96: 노무비 | C96: ㎡ | D96: 노무비 | E96: 12677 | F96: 재료비 | G96: 2663 | H96: 경비 | I96: 4300 | J96: 계 | K96: =E96+G96+I96 -> 19640 | CB96: d2819
A97: 아스팔트깨기(소형브레이커+공기압축기) | B97: 노무비 | C97: ㎥ | D97: 노무비 | E97: 258232 | F97: 재료비 | G97: 2582 | H97: 경비 | I97: 686 | J97: 계 | K97: =E97+G97+I97 -> 261500 | CB97: d3005
A98: 콘크리트깨기(인력+굴삭기0.4㎥) | B98: 노무비 | C98: ㎥ | D98: 노무비 | E98: 46016 | F98: 재료비 | G98: 10034 | H98: 경비 | I98: 13158 | J98: 계 | K98: =E98+G98+I98 -> 69208 | CB98: d3020
A99: 콘크리트깨기(소형브레이커+공기압축기) | B99: 노무비 | C99: ㎥ | D99: 노무비 | E99: 258232 | F99: 재료비 | G99: 2582 | H99: 경비 | I99: 686 | J99: 계 | K99: =E99+G99+I99 -> 261500 | CB99: d2951
A100: 아스콘포장복구(10㎡ 미만)B-TYPE | B100: 노무비 | C100: ㎡ | D100: 노무비 | E100: 87756 | F100: 재료비 | G100: 57097 | H100: 경비 | I100: 11105 | J100: 계 | K100: =E100+G100+I100 -> 155958 | CB100: b2623
...

Sheet 중기운반비
A1: 중기 운반비 산정(10.5톤 덤프트럭 기준)
A3: 구분 | B3: 2차로 교외 포장도로(2,000대/일 이상) | J3: 합계 | L3: 재료비 | N3: 노무비 | P3: 경비 | R3: 비고
B4: L(km) | C4: Cm(hr) | D4: 상차 t1 (hr) | E4: 운반 t2 (hr) | F4: 하차 t3 (hr) | G4: 적재시 V1 (km/hr) | H4: 공차시 V2 (km/hr) | I4: 적재대수 Q | J4: 단가 | K4: 금액 | L4: 단가 | M4: 금액 | N4: 단가 | O4: 금액 | P4: 단가 | Q4: 금액
A5: 10km 이내 | B5: 10 | C5: =$D$6+E5+$F$6 -> 0.95238095 | D5: =5/60 -> 0.083333333 | E5: =(B5/$G$6+B5/$H$6) -> 0.61904762 | F5: =5/60 -> 0.083333333 | G5: 30 | H5: 35 | I5: 1 | J5: =L5+N5+P5 -> 88587 | K5: =(M5+O5+Q5)*0.8 -> 134989.71 | L5: 26774 | M5: =L5*C5*2*I5 -> 50998.095 | N5: 49778 | O5: =N5*C5*2*I5 -> 94815.238 | P5: 12035 | Q5: =P5*C5*2*I5 -> 22923.81 | R5: 백호(80%적용)
A6: 10km 이내 | B6: 10 | C6: =$D$6+E6+$F$6 -> 0.95238095 | D6: =10/60 -> 0.16666667 | E6: =(B6/$G$6+B6/$H$6) -> 0.61904762 | F6: =10/60 -> 0.16666667 | G6: 30 | H6: 35 | I6: 2 | J6: =L6+N6+P6 -> 88587 | K6: =(M6+O6+Q6)*0.8 -> 269979.43 | L6: =L5 -> 26774 | M6: =L6*C6*2*I6 -> 101996.19 | N6: =N5 -> 49778 | O6: =N6*C6*2*I6 -> 189630.48 | P6: =P5 -> 12035 | Q6: =P6*C6*2*I6 -> 45847.619 | R6: 백호,로더(80%적용)
A7: 15km 이내 | B7: 15 | C7: =$D$6+E7+$F$6 -> 1.2619048 | D7: =5/60 -> 0.083333333 | E7: =(B7/$G$6+B7/$H$6) -> 0.92857143 | F7: =5/60 -> 0.083333333 | G7: 30 | H7: 35 | I7: 1 | J7: =L7+N7+P7 -> 88587 | K7: =(M7+O7+Q7)*0.8 -> 178861.37 | L7: =L5 -> 26774 | M7: =L7*C7*2*I7 -> 67572.476 | N7: =N5 -> 49778 | O7: =N7*C7*2*I7 -> 125630.19 | P7: =P5 -> 12035 | Q7: =P7*C7*2*I7 -> 30374.048 | R7: 백호(80%적용)
A8: 15km 이내 | B8: 15 | C8: =$D$6+E8+$F$6 -> 1.2619048 | D8: =10/60 -> 0.16666667 | E8: =(B8/$G$6+B8/$H$6) -> 0.92857143 | F8: =10/60 -> 0.16666667 | G8: 30 | H8: 35 | I8: 2 | J8: =L8+N8+P8 -> 88587 | K8: =(M8+O8+Q8)*0.8 -> 357722.74 | L8: =L5 -> 26774 | M8: =L8*C8*2*I8 -> 135144.95 | N8: =N5 -> 49778 | O8: =N8*C8*2*I8 -> 251260.38 | P8: =P5 -> 12035 | Q8: =P8*C8*2*I8 -> 60748.095 | R8: 백호,로더(80%적용)
A9: 20km 이내 | B9: 20 | C9: =$D$6+E9+$F$6 -> 1.5714286 | D9: =5/60 -> 0.083333333 | E9: =(B9/$G$6+B9/$H$6) -> 1.2380952 | F9: =5/60 -> 0.083333333 | G9: 30 | H9: 35 | I9: 1 | J9: =L9+N9+P9 -> 88587 | K9: =(M9+O9+Q9)*0.8 -> 222733.03 | L9: =L5 -> 26774 | M9: =L9*C9*2*I9 -> 84146.857 | N9: =N5 -> 49778 | O9: =N9*C9*2*I9 -> 156445.14 | P9: =P5 -> 12035 | Q9: =P9*C9*2*I9 -> 37824.286 | R9: 백호(80%적용)
A10: 20km 이내 | B10: 20 | C10: =$D$6+E10+$F$6 -> 1.5714286 | D10: =10/60 -> 0.16666667 | E10: =(B10/$G$6+B10/$H$6) -> 1.2380952 | F10: =10/60 -> 0.16666667 | G10: 30 | H10: 35 | I10: 2 | J10: =L10+N10+P10 -> 88587 | K10: =(M10+O10+Q10)*0.8 -> 445466.06 | L10: =L5 -> 26774 | M10: =L10*C10*2*I10 -> 168293.71 | N10: =N5 -> 49778 | O10: =N10*C10*2*I10 -> 312890.29 | P10: =P5 -> 12035 | Q10: =P10*C10*2*I10 -> 75648.571 | R10: 백호,로더(80%적용)

Sheet 블랙윔즈코드
A1: 대블록코드 | E1: 소블록코드 | I1: 소블록코드 | M1: 소블록코드
A2: 광역상수도 | B2: 고기 | C2: 0101 | E2: 고기(01) | F2: 고기1 | G2: 0101 | I2: 청덕(10) | J2: 청덕1 | K2: 1001 | M2: 유림(13) | N2: 유림1 | O2: 1301
B3: 동천 | C3: 0102 | E3: 동천(02) | F3: 동천1 | G3: 0201 | J3: 청덕2 | K3: 1002 | N3: 유림2 | O3: 1302
B4: 신봉 | C4: 0103 | F4: 동천2 | G4: 0202 | I4: 기흥(11) | J4: 기흥1 | K4: 1101 | N4: 유림3 | O4: 1303
B5: 성복 | C5: 0104 | F5: 동천3 | G5: 0203 | J5: 기흥2 | K5: 1102 | N5: 유림4 | O5: 1304
B6: 상현 | C6: 0105 | F6: 동천4 | G6: 0204 | J6: 기흥3 | K6: 1103 | N6: 유림5 | O6: 1305
B7: 오산 | C7: 0106 | F7: 동천5 | G7: 0205 | J7: 기흥4 | K7: 1104 | N7: 유림6 | O7: 1306
B8: 죽전 | C8: 0107 | E8: 신봉(03) | F8: 신봉1 | G8: 0301 | J8: 기흥5 | K8: 1105 | N8: 유림7 | O8: 1307
B9: 구성 | C9: 0108 | F9: 신봉2 | G9: 0302 | J9: 기흥6 | K9: 1106 | N9: 유림8 | O9: 1308
B10: 용인 | C10: 0109 | F10: 신봉3 | G10: 0303 | J10: 기흥7 | K10: 1107 | N10: 유림9 | O10: 1309
B11: 청덕 | C11: 0110 | F11: 신봉4 | G11: 0304 | J11: 기흥8 | K11: 1108 | N11: 유림10 | O11: 1310
B12: 기흥 | C12: 0111 | E12: 성복(04) | F12: 성복1 | G12: 0401 | J12: 기흥9 | K12: 1109 | N12: 유림11 | O12: 1311
A13: 지방상수도 | B13: 유림 | C13: 0201 | F13: 성복2 | G13: 0402 | J13: 기흥10 | K13: 1110 | N13: 유림12 | O13: 1312
B14: 남사 | C14: 0202 | F14: 성복3 | G14: 0403 | J14: 기흥11 | K14: 1111 | N14: 유림13 | O14: 1313
B15: 평창 | C15: 0203 | F15: 성복4 | G15: 0404 | J15: 기흥12 | K15: 1112 | N15: 유림14 | O15: 1314
E16: 상현(05) | F16: 상현1 | G16: 0501 | J16: 기흥13 | K16: 1113 | N16: 유림15 | O16: 1315
E17: 오산(06) | F17: 오산1 | G17: 0601 | J17: 기흥14 | K17: 1114 | N17: 유림16 | O17: 1316
F18: 오산2 | G18: 0602 | J18: 기흥15 | K18: 1115 | N18: 유림17 | O18: 1317
F19: 오산3 | G19: 0603 | J19: 기흥16 | K19: 1116 | N19: 유림18 | O19: 1318
E20: 죽전(07) | F20: 죽전1 | G20: 0701 | J20: 기흥2-1 | K20: 1117 | N20: 유림19 | O20: 1319
F21: 죽전2 | G21: 0702 | J21: 기흥2-2 | K21: 1118 | N21: 유림20 | O21: 1320
F22: 죽전3 | G22: 0703 | J22: 기흥2-3 | K22: 1119 | N22: 유림21 | O22: 1321
F23: 죽전4 | G23: 0704 | J23: 기흥2-4 | K23: 1120 | N23: 유림22 | O23: 1322
E24: 구성(08) | F24: 구성1 | G24: 0801 | J24: 기흥2-5 | K24: 1121 | N24: 유림23 | O24: 1323
E25: 용인(09) | F25: 용인1 | G25: 0901 | J25: 기흥2-6 | K25: 1122 | N25: 유림24 | O25: 1324
F26: 용인2 | G26: 0902 | J26: 기흥2-7 | K26: 1123 | N26: 유림25 | O26: 1325
F27: 용인3 | G27: 0903 | J27: 기흥2-8 | K27: 1124 | M27: 남사(14) | N27: 남사1 | O27: 1401
F28: 용인4 | G28: 0904 | J28: 기흥2-9 | K28: 1125 | N28: 남사2 | O28: 1402
F29: 용인5 | G29: 0905 | N29: 남사3 | O29: 1403
F30: 용인6 | G30: 0906 | N30: 남사4 | O30: 1404
F31: 용인7 | G31: 0907 | M31: 평창(15) | N31: 평창1 | O31: 1501
F32: 용인8 | G32: 0908 | N32: 평창2 | O32: 1502
F33: 용인9 | G33: 0909 | N33: 평창3 | O33: 1503
F34: 용인10(계발계획) | G34: 0910 | N34: 평창4 | O34: 1504
E35: 청덕(10) | F35: 청덕1 | G35: 1001 | N35: 평창5 | O35: 1505
F36: 청덕2 | G36: 1002
E37: 기흥(11) | F37: 기흥1 | G37: 1101
F38: 기흥2 | G38: 1102
F39: 기흥3 | G39: 1103
F40: 기흥4 | G40: 1104
F41: 기흥5 | G41: 1105
F42: 기흥6 | G42: 1106
F43: 기흥7 | G43: 1107
F44: 기흥8 | G44: 1108
F45: 기흥9 | G45: 1109
F46: 기흥10 | G46: 1110
F47: 기흥11 | G47: 1111
F48: 기흥12 | G48: 1112
F49: 기흥13 | G49: 1113
... F61: 기흥2-9 | G61: 1125
E62: 유림(13) | F62: 유림1 | G62: 1301
F63: 유림2 | G63: 1302
F64: 유림3 | G64: 1303
F65: 유림4 | G65: 1304
F66: 유림5 | G66: 1305
F67: 유림6 | G67: 1306
F68: 유림7 | G68: 1307
F69: 유림8 | G69: 1308
F70: 유림9 | G70: 1309
F71: 유림10 | G71: 1310
F72: 유림11 | G72: 1311
F73: 유림12 | G73: 1312
F74: 유림13 | G74: 1313
... F86: 유림25 | G86: 1325
E87: 남사(14) | F87: 남사1 | G87: 1401
F88: 남사2 | G88: 1402
F89: 남사3 | G89: 1403
F90: 남사4 | G90: 1404
E91: 평창(15) | F91: 평창1 | G91: 1501
F92: 평창2 | G92: 1502
F93: 평창3 | G93: 1503
F94: 평창4 | G94: 1504
F95: 평창5 | G95: 1505
