Workbook
Name __1_3_0Crite: #REF!
Name __2_3_0Criteria: #REF!
Name __3G_0Extr: #REF!
Name __4G_0Extract: #REF!
Name __5단: #REF!
Name __alm1: #REF!
Name __alm2: #REF!
Name __DOG1: #REF!
Name __DOG2: #REF!
Name __DOG3: #REF!
Name __DOG4: #REF!
Name __PH1: #REF!
Name __PI48: #REF!
Name __PI60: #REF!
Name __RO110: #REF!
Name __RO22: #REF!
Name __RO35: #REF!
Name __RO60: #REF!
Name __RO80: #REF!
Name __TON1: #REF!
Name __TON2: #REF!
Name __WW2: #REF!
Name __WW6: #REF!
Name _0: [1]직재!#REF!
Name _1: [2]I一般比!#REF!
Name _1._PANEL_BD.__LP___1: #REF!
Name _1._PANEL_BD.__LP___1: #REF!
Name _1_3_0Crite: #REF!
Name _1_3_0Crite: #REF!
Name _10A_: [3]연돌일위집계!#REF!
Name _10A_: [3]연돌일위집계!#REF!
Name _10A_1: [3]연돌일위집계!#REF!
Name _10A_1: [3]연돌일위집계!#REF!
Name _10A_10: [3]연돌일위집계!#REF!
Name _10A_10: [3]연돌일위집계!#REF!
Name _10A_11: [3]연돌일위집계!#REF!
Name _10A_11: [3]연돌일위집계!#REF!
Name _10A_12: [3]연돌일위집계!#REF!
Name _10A_12: [3]연돌일위집계!#REF!
Name _10A_13: [3]연돌일위집계!#REF!
Name _10A_14: [3]연돌일위집계!#REF!
Name _10A_15: [3]연돌일위집계!#REF!
Name _10A_16: [3]연돌일위집계!#REF!
Name _10A_17: [3]연돌일위집계!#REF!
Name _10A_18: [3]연돌일위집계!#REF!
Name _10A_19: [3]연돌일위집계!#REF!
Name _10A_2: [3]연돌일위집계!#REF!
Name _10A_20: [3]연돌일위집계!#REF!
Name _10A_21: [3]연돌일위집계!#REF!
Name _10A_22: [3]연돌일위집계!#REF!
Name _10A_23: [3]연돌일위집계!#REF!
Name _10A_24: [3]연돌일위집계!#REF!
Name _10A_25: [3]연돌일위집계!#REF!
Name _10A_26: [3]연돌일위집계!#REF!
Name _10A_27: [3]연돌일위집계!#REF!
Name _10A_28: [3]연돌일위집계!#REF!
Name _10A_29: [3]연돌일위집계!#REF!
Name _10A_3: [3]연돌일위집계!#REF!
Name _10A_30: [3]연돌일위집계!#REF!
Name _10A_31: [3]연돌일위집계!#REF!

Sheet 내역서표지
A2: 2026년 성읍저수지 활용 성산읍 농업용수관로 구축 밸브제어반 제조구매(삼달리 2093)
A3: 설계내역서
A6: 2026. 06.
A10: 한국농어촌공사 제주지역본부

Sheet 갑지
A1: 2026년 06월 일 설계 | C1: 담당자 | E1: 과장 | G1: 부장 | I1: 본부장
B3: 2 0 2 6 년도
A5: =내역서표지!A2 -> 2026년 성읍저수지 활용 성산읍 농업용수관로 구축 밸브제어반 제조구매(삼달리 2093)
D7: □ 설 치 위 치
D8: - 제주특별자치도 내
D10: □ 물 품 개 요
D11: - 중앙모니터링 | H11: 1식
D12: - 밸브제어반 | H12: 1식
A17: ="○ 설계금액 : 일금"&NUMBERSTRING(H17,1)&"원" -> ○ 설계금액 : 일금이천칠백삼십만오천원 | H17: ='1. 표지 '!H11 -> 27305000

Sheet 1. 표지 
A2: 관 급 내 역 서
A4: ="납품명 : " & TEXT(내역서표지!A2,"#") -> 납품명 : 2026년 성읍저수지 활용 성산읍 농업용수관로 구축 밸브제어반 제조구매(삼달리 2093)
C6: 구 분 | F6: 금 액
C7: 총 공 사 비 | F7: ="금 "&NUMBERSTRING(H11,1)&"원 " -> 금 이천칠백삼십만오천원
C8: 관급자재 | D8: 계장제어장치 | F8: =제조원가계산서!G25 -> 27305000
D10: 소 계 | F10: =F9+F8 -> 27305000
C11: 합 계 | H11: =ROUNDDOWN(SUM(F10),-3) -> 27305000
A14: =내역서표지!A6 -> 2026. 06.
A17: =내역서표지!A10 -> 한국농어촌공사 제주지역본부

Sheet 제조원가계산서
A2: 주요자재 제조원가 계산서(밸브제어반)
A3: 일금 | B3: =G25 -> 27305000 | D3: 원 | I3: [ 단위 : 원 ]
A4: 구 분 공 종 별 | G4: 금 액 | H4: 구 성 비 | I4: 비 고
B5: 재 | C5: 직접재료비 | G5: =집계표!F28 -> 14174850
A6: 순 | B6: 료 | C6: 간접재료비 | D6: ( | E6: 0.0103 | F6: ) | G6: =INT(G5*$E6) -> 146000 | H6: 직.재 x 1.03%
B7: 비 | C7: 계 | G7: =SUM(G5:G6) -> 14320850
B8: 노 | C8: 산출노무비 | G8: =집계표!H28 -> 3352748
A9: 공 | B9: 무 | C9: 직접노무비 | D9: ( | E9: 1.2453 | F9: ) | G9: =INT(G8*$E9) -> 4175177 | H9: 산.노 x 124.53%
C10: 간접노무비 | D10: ( | E10: 0.3493 | F10: ) | G10: =INT(G9*$E10) -> 1458389 | H10: 직.노 x 34.93%
B11: 비 | C11: 계 | G11: =SUM(G9:G10) -> 5633566
A12: 사 | C12: 경 비 | D12: ( | E12: 0.0895 | F12: ) | G12: =INT(G7*$E12) -> 1281716 | H12: 재료비 x 8.95%
B13: 경 | C13: 산재보험료 | D13: ( | F13: )
C14: 고용보험료 | D14: ( | F14: )
C15: 안전관리비 | D15: ( | F15: )
A17: 비 | B17: 비 | C17: 기타경비 | D17: ( | F17: )
C18: 계 | G18: =SUM(G12:G17) -> 1281716
A19: 합 계 | G19: =G7+G11+G18 -> 21236132
A20: 일 반 관 리 비 | D20: ( | E20: 0.07 | F20: ) | G20: =INT(G19*$E20) -> 1486529 | H20: 제조원가 x 7.0%
A21: 계 | G21: =G20+G19 -> 22722661
A22: 이 윤 | D22: ( | E22: 0.25 | F22: ) | G22: =INT((G11+G18+G20)*E22) -> 2100452 | H22: (노+경+일.관) x 25%
A23: 총 원 가 | G23: =G21+G22 -> 24823113
A24: 부 가 가 치 세 | G24: =TRUNC(G23*0.1) -> 2482311 | H24: (총원가) x 10%
A25: 총 계 | G25: =ROUNDDOWN(G23+G24,-3) -> 27305000 | H25: 총원가 + 부가세 | I25: 천미만절사

Sheet 원가계산서
A4: 납 품 명 : | C4: =내역서표지!A2 -> 2026년 성읍저수지 활용 성산읍 농업용수관로 구축 밸브제어반 제조구매(삼달리 2093)
A5: 비 목 | C5: 구 분 | D5: 금 액 | E5: 구 성 비 | F5: 비 고 | H5: 농어촌공사
A6: 제조원가 | B6: 재료비 | C6: 직접재료비 | D6: =집계표!F28 -> 14174850
C7: 간접재료비 | D7: =ROUNDDOWN(D6*$H$7,0) -> 146000 | E7: ="(재료비)×" & TEXT(H7,"#0.##00%") -> (재료비)×1.0300% | H7: 0.0103
C8: 소계 | D8: =ROUNDDOWN(SUM(D6:D7),0) -> 14320850
B9: 노무비 | C9: 산출노무비 | D9: =집계표!H28 -> 3352748
C10: 직접노무비 | D10: =ROUNDDOWN(D9*$H$10,0) -> 4175177 | E10: ="(산출노무비)×" & TEXT(H10,"#0.##00%") -> (산출노무비)×124.5300% | H10: 1.2453
C11: 간접노무비 | D11: =ROUNDDOWN(D10*$H$11,0) -> 1458389 | E11: ="(직접노무비)×" & TEXT(H11,"#0.##00%") -> (직접노무비)×34.9300% | H11: 0.3493
C12: 소계 | D12: =ROUNDDOWN(SUM(D10:D11),0) -> 5633566
B13: 경비 | C13: 경비 | D13: =ROUNDDOWN(D8*H13,0) -> 1281716 | E13: ="(재료비)×" & TEXT(H13,"#0.##00%") -> (재료비)×8.9500% | H13: 0.0895
C14: 산재보험료
C15: 고용보험료
C16: 안전관리비
C18: 기타경비
C19: 소계 | D19: =ROUNDDOWN(SUM(D13:D18),0) -> 1281716
A20: 합계 | D20: =ROUNDDOWN(SUM(D8,D12,D19),0) -> 21236132
A21: 일반관리비 | D21: =ROUNDDOWN(SUM(D20)*H21,0) -> 1486529 | E21: ="(제조원가)×" & TEXT(H21,"#0.##00%") -> (제조원가)×7.00% | H21: 0.07
A22: 소계 | D22: =ROUNDDOWN(SUM(D20:D21),0) -> 22722661
A23: 이윤 | D23: =ROUNDDOWN(SUM(D12,D19,D21)*H23,0) -> 2100452 | E23: ="(노무비＋경비＋일반관리비)×" & TEXT(H23,"#0.##00%") -> (노무비＋경비＋일반관리비)×25.00% | H23: 0.25
A24: 총원가 | D24: =ROUNDDOWN(SUM(D22,D23),0) -> 24823113
A25: 부가가치세 | D25: =ROUNDDOWN(D24*H25,0) -> 2482311 | E25: (총원가) x 10% | H25: 0.1
A26: 총계 | D26: =ROUNDDOWN(SUM(D24,D25),-3) -> 27305000 | E26: 총원가 + 부가가치세 | F26: 천미만절사

Sheet 집계표
A1: 공종 코드 | B1: 명 칭 | C1: 단위 | D1: 수량 | E1: 재 료 비 | G1: 노 무 비 | I1: 경 비 | K1: 계 | L1: 비고
E2: 단 가 | F2: 금 액 | G2: 단 가 | H2: 금 액 | I2: 단 가 | J2: 금 액
B3: ='1. 중앙모니터링 내역서'!A3 -> 1. 중앙모니터링 | C3: 식 | D3: 1 | E3: ='1. 중앙모니터링 내역서'!F32 -> 1095000 | F3: =ROUNDDOWN(D3*E3,0) -> 1095000 | G3: ='1. 중앙모니터링 내역서'!H32 -> 0 | H3: =ROUNDDOWN(D3*G3,0) -> 0 | K3: =ROUNDDOWN(SUM(F3,H3,J3),0) -> 1095000
B4: 2. 성산읍 삼달리 2093 | C4: 식 | D4: 1 | E4: ='2. 밸브제어반 내역서'!F66 -> 13079850 | F4: =ROUNDDOWN(D4*E4,0) -> 13079850 | G4: ='2. 밸브제어반 내역서'!H66 -> 3352748 | H4: =ROUNDDOWN(D4*G4,0) -> 3352748 | K4: =ROUNDDOWN(SUM(F4,H4,J4),0) -> 16432598
B28: 합 계 | F28: =ROUNDDOWN(SUM(F3:F27),0) -> 14174850 | H28: =ROUNDDOWN(SUM(H3:H27),0) -> 3352748 | J28: =ROUNDDOWN(SUM(J3:J27),0) -> 0 | K28: =ROUNDDOWN(SUM(F28,H28,J28),0) -> 17527598

Sheet 1. 중앙모니터링 내역서
A1: 명 칭 | B1: 규 격 | C1: 단위 | D1: 수량 | E1: 재 료 비 | G1: 노 무 비 | I1: 경 비 | K1: 계 | L1: 비고
E2: 단 가 | F2: 금 액 | G2: 단 가 | H2: 금 액 | I2: 단 가 | J2: 금 액
A3: ='1. 중앙모니터링 산출근거'!A3 -> 1. 중앙모니터링
A4: ='1. 중앙모니터링 산출근거'!A4 -> 운전화면 | B4: ='1. 중앙모니터링 산출근거'!B4 -> 표준화면 | C4: ='1. 중앙모니터링 산출근거'!C4 -> 화면 | D4: 1 | E4: =단가비교표!O3 -> 524000 | F4: =ROUNDDOWN(D4*E4,0) -> 524000 | K4: =ROUNDDOWN(SUM(F4,H4,J4),0) -> 524000
A5: ='1. 중앙모니터링 산출근거'!A5 -> 운전화면 | B5: ='1. 중앙모니터링 산출근거'!B5 -> 트렌드화면 | C5: ='1. 중앙모니터링 산출근거'!C5 -> 화면 | D5: 1 | E5: =단가비교표!O4 -> 571000 | F5: =ROUNDDOWN(D5*E5,0) -> 571000 | K5: =ROUNDDOWN(SUM(F5,H5,J5),0) -> 571000
A32: 합 계 | F32: =ROUNDDOWN(SUM(F3:F31),0) -> 1095000 | H32: =ROUNDDOWN(SUM(H3:H31),0) -> 0 | K32: =ROUNDDOWN(SUM(F32,H32,J32),0) -> 1095000

Sheet 2. 밸브제어반 내역서
A1: 명 칭 | B1: 규 격 | C1: 단위 | D1: 수량 | E1: 재 료 비 | G1: 노 무 비 | I1: 경 비 | K1: 계 | L1: 비고
E2: 단 가 | F2: 금 액 | G2: 단 가 | H2: 금 액 | I2: 단 가 | J2: 금 액
A3: ='2. 밸브제어반 산출근거'!A3 -> 2. 밸브제어반 (700*1600*500)
A4: ='2. 밸브제어반 산출근거'!A4 -> 옥내자립형 PANEL (연강2.0T) | B4: ='2. 밸브제어반 산출근거'!B4 -> 700*1600*500 | C4: ='2. 밸브제어반 산출근거'!C4 -> 면 | D4: ='2. 밸브제어반 산출근거'!D4 -> 1 | E4: =단가비교표!O7 -> 1150000 | F4: =ROUNDDOWN(D4*E4,0) -> 1150000 | K4: =ROUNDDOWN(SUM(F4,H4,J4),0) -> 1150000
A5: ='2. 밸브제어반 산출근거'!A5 -> NAME PLATE | B5: ='2. 밸브제어반 산출근거'!B5 -> 아크릴 W500*H70*3t | C5: ='2. 밸브제어반 산출근거'!C5 -> 개 | D5: ='2. 밸브제어반 산출근거'!D5 -> 1 | E5: =단가비교표!O8 -> 15000 | F5: =ROUNDDOWN(D5*E5,0) -> 15000 | K5: =ROUNDDOWN(SUM(F5,H5,J5),0) -> 15000
A6: ='2. 밸브제어반 산출근거'!A6 -> NAME PLATE | B6: ='2. 밸브제어반 산출근거'!B6 -> 아크릴 50*20 | C6: ='2. 밸브제어반 산출근거'!C6 -> 개 | D6: ='2. 밸브제어반 산출근거'!D6 -> 2 | E6: =단가비교표!O9 -> 4000 | F6: =ROUNDDOWN(D6*E6,0) -> 8000 | K6: =ROUNDDOWN(SUM(F6,H6,J6),0) -> 8000
A7: ='2. 밸브제어반 산출근거'!A7 -> NAME PLATE | B7: ='2. 밸브제어반 산출근거'!B7 -> 아크릴 원형25mm | C7: ='2. 밸브제어반 산출근거'!C7 -> 개 | D7: ='2. 밸브제어반 산출근거'!D7 -> 6 | E7: =단가비교표!O10 -> 3000 | F7: =ROUNDDOWN(D7*E7,0) -> 18000 | K7: =ROUNDDOWN(SUM(F7,H7,J7),0) -> 18000
A8: ='2. 밸브제어반 산출근거'!A8 -> DOOR HANDLE | B8: ='2. 밸브제어반 산출근거'!B8 -> W/KEY (L) | C8: ='2. 밸브제어반 산출근거'!C8 -> 개 | D8: ='2. 밸브제어반 산출근거'!D8 -> 2 | E8: =단가비교표!O11 -> 40000 | F8: =ROUNDDOWN(D8*E8,0) -> 80000 | K8: =ROUNDDOWN(SUM(F8,H8,J8),0) -> 80000
A9: ='2. 밸브제어반 산출근거'!A9 -> 잠금장치 | B9: ='2. 밸브제어반 산출근거'!B9 -> 잠금형 매미고리 | C9: ='2. 밸브제어반 산출근거'!C9 -> 개 | D9: 2 | E9: =단가비교표!O12 -> 25000 | F9: =ROUNDDOWN(D9*E9,0) -> 50000 | K9: =ROUNDDOWN(SUM(F9,H9,J9),0) -> 50000
A10: ='2. 밸브제어반 산출근거'!A10 -> 전원모듈 | B10: ='2. 밸브제어반 산출근거'!B10 -> 220V입력전용/DC5V,8.5A, G3코팅 | C10: ='2. 밸브제어반 산출근거'!C10 -> 개 | D10: ='2. 밸브제어반 산출근거'!D10 -> 1 | E10: =단가비교표!O13 -> 238000 | F10: =ROUNDDOWN(D10*E10,0) -> 238000 | K10: =ROUNDDOWN(SUM(F10,H10,J10),0) -> 238000
A11: ='2. 밸브제어반 산출근거'!A11 -> CPU모듈 | B11: ='2. 밸브제어반 산출근거'!B11 -> I/O:3,072점, P/G용량:128kst데 | C11: ='2. 밸브제어반 산출근거'!C11 -> 개 | D11: ='2. 밸브제어반 산출근거'!D11 -> 1 | E11: =단가비교표!O14 -> 1146000 | F11: =ROUNDDOWN(D11*E11,0) -> 1146000 | K11: =ROUNDDOWN(SUM(F11,H11,J11),0) -> 1146000
A12: ='2. 밸브제어반 산출근거'!A12 -> 입력모듈 | B12: ='2. 밸브제어반 산출근거'!B12 -> 16점DC24V입력(싱크/소스타입) | C12: ='2. 밸브제어반 산출근거'!C12 -> 개 | D12: ='2. 밸브제어반 산출근거'!D12 -> 1 | E12: =단가비교표!O15 -> 157000 | F12: =ROUNDDOWN(D12*E12,0) -> 157000 | K12: =ROUNDDOWN(SUM(F12,H12,J12),0) -> 157000
A13: ='2. 밸브제어반 산출근거'!A13 -> 출력모듈 | B13: ='2. 밸브제어반 산출근거'!B13 -> 16점릴레이출력, 2A용 | C13: ='2. 밸브제어반 산출근거'!C13 -> 개 | D13: ='2. 밸브제어반 산출근거'!D13 -> 1 | E13: =단가비교표!O16 -> 251000 | F13: =ROUNDDOWN(D13*E13,0) -> 251000 | K13: =ROUNDDOWN(SUM(F13,H13,J13),0) -> 251000
A14: ='2. 밸브제어반 산출근거'!A14 -> 기본베이스 | B14: ='2. 밸브제어반 산출근거'!B14 -> 입출력 6모듈장착용 | C14: ='2. 밸브제어반 산출근거'!C14 -> 개 | D14: ='2. 밸브제어반 산출근거'!D14 -> 1 | E14: =단가비교표!O17 -> 263000 | F14: =ROUNDDOWN(D14*E14,0) -> 263000 | K14: =ROUNDDOWN(SUM(F14,H14,J14),0) -> 263000
A15: ='2. 밸브제어반 산출근거'!A15 -> AD변환모듈 | B15: ='2. 밸브제어반 산출근거'!B15 -> 전압,전류형, 8채널 | C15: ='2. 밸브제어반 산출근거'!C15 -> 개 | D15: ='2. 밸브제어반 산출근거'!D15 -> 1 | E15: =단가비교표!O18 -> 1002000 | F15: =ROUNDDOWN(D15*E15,0) -> 1002000 | K15: =ROUNDDOWN(SUM(F15,H15,J15),0) -> 1002000
A16: ='2. 밸브제어반 산출근거'!A16 -> CNET모듈 | B16: ='2. 밸브제어반 산출근거'!B16 -> RS-422 2ch | C16: ='2. 밸브제어반 산출근거'!C16 -> 개 | D16: ='2. 밸브제어반 산출근거'!D16 -> 1 | E16: =단가비교표!O19 -> 491000 | F16: =ROUNDDOWN(D16*E16,0) -> 491000 | K16: =ROUNDDOWN(SUM(F16,H16,J16),0) -> 491000
A17: ='2. 밸브제어반 산출근거'!A17 -> ENET모듈 | B17: ='2. 밸브제어반 산출근거'!B17 -> 전기, Master, 100/100Mbps, RJ-45 | C17: ='2. 밸브제어반 산출근거'!C17 -> 개 | D17: ='2. 밸브제어반 산출근거'!D17 -> 1 | E17: =단가비교표!O20 -> 1162000 | F17: =ROUNDDOWN(D17*E17,0) -> 1162000 | K17: =ROUNDDOWN(SUM(F17,H17,J17),0) -> 1162000
A18: ='2. 밸브제어반 산출근거'!A18 -> 더미모듈 | B18: ='2. 밸브제어반 산출근거'!B18 -> 슬롯방진용 | C18: ='2. 밸브제어반 산출근거'!C18 -> 개 | D18: ='2. 밸브제어반 산출근거'!D18 -> 1 | E18: =단가비교표!O21 -> 11000 | F18: =ROUNDDOWN(D18*E18,0) -> 11000 | K18: =ROUNDDOWN(SUM(F18,H18,J18),0) -> 11000
A19: ='2. 밸브제어반 산출근거'!A19 -> PLC PROGRAMMING | B19: ='2. 밸브제어반 산출근거'!B19 -> ANALOGUE POINT | C19: ='2. 밸브제어반 산출근거'!C19 -> POINT | D19: ='2. 밸브제어반 산출근거'!D19 -> 3 | E19: =단가비교표!O22 -> 126000 | F19: =ROUNDDOWN(D19*E19,0) -> 378000 | K19: =ROUNDDOWN(SUM(F19,H19,J19),0) -> 378000
A20: ='2. 밸브제어반 산출근거'!A20 -> PLC PROGRAMMING | B20: ='2. 밸브제어반 산출근거'!B20 -> DIGITAL POINT | C20: ='2. 밸브제어반 산출근거'!C20 -> POINT | D20: 7 | E20: =단가비교표!O23 -> 63000 | F20: =ROUNDDOWN(D20*E20,0) -> 441000 | K20: =ROUNDDOWN(SUM(F20,H20,J20),0) -> 441000
A21: ='2. 밸브제어반 산출근거'!A21 -> PLC PROGRAMMING | B21: ='2. 밸브제어반 산출근거'!B21 -> 통신 POINT | C21: ='2. 밸브제어반 산출근거'!C21 -> POINT | D21: 1 | E21: =단가비교표!O24 -> 379000 | F21: =ROUNDDOWN(D21*E21,0) -> 379000 | K21: =ROUNDDOWN(SUM(F21,H21,J21),0) -> 379000
A22: ='2. 밸브제어반 산출근거'!A22 -> PLC PROGRAMMING | B22: ='2. 밸브제어반 산출근거'!B22 -> 종합시운전 | C22: ='2. 밸브제어반 산출근거'!C22 -> 개소 | D22: ='2. 밸브제어반 산출근거'!D22 -> 1 | E22: =단가비교표!O25 -> 0 | F22: =ROUNDDOWN(D22*E22,0) -> 0 | K22: =ROUNDDOWN(SUM(F22,H22,J22),0) -> 0 | L22: 노임적용
A23: ='2. 밸브제어반 산출근거'!A23 -> 디지털 판넬 메터 | B23: ='2. 밸브제어반 산출근거'!B23 -> 전압, 전류, 역률(통신기능 내장) | C23: ='2. 밸브제어반 산출근거'!C23 -> 개 | D23: ='2. 밸브제어반 산출근거'!D23 -> 1 | E23: =단가비교표!O26 -> 434600 | F23: =ROUNDDOWN(D23*E23,0) -> 434600 | K23: =ROUNDDOWN(SUM(F23,H23,J23),0) -> 434600
A24: ='2. 밸브제어반 산출근거'!A24 -> 무선전송장치 | B24: ='2. 밸브제어반 산출근거'!B24 -> ENET 2PORT, RS232 1PORT | C24: ='2. 밸브제어반 산출근거'!C24 -> 개 | D24: ='2. 밸브제어반 산출근거'!D24 -> 1 | E24: =단가비교표!O27 -> 910000 | F24: =ROUNDDOWN(D24*E24,0) -> 910000 | K24: =ROUNDDOWN(SUM(F24,H24,J24),0) -> 910000
A25: ='2. 밸브제어반 산출근거'!A25 -> 전자식유량계 | B25: ='2. 밸브제어반 산출근거'!B25 -> 변환기 설치 | C25: ='2. 밸브제어반 산출근거'!C25 -> 개 | D25: ='2. 밸브제어반 산출근거'!D25 -> 1 | E25: =단가비교표!O28 -> 0 | F25: =ROUNDDOWN(D25*E25,0) -> 0 | K25: =ROUNDDOWN(SUM(F25,H25,J25),0) -> 0 | L25: 노임적용
A26: ='2. 밸브제어반 산출근거'!A26 -> 초음파수위계 | B26: ='2. 밸브제어반 산출근거'!B26 -> 10M, 1CH | C26: ='2. 밸브제어반 산출근거'!C26 -> 개 | D26: ='2. 밸브제어반 산출근거'!D26 -> 1 | E26: =단가비교표!O29 -> 3000000 | F26: =ROUNDDOWN(D26*E26,0) -> 3000000 | K26: =ROUNDDOWN(SUM(F26,H26,J26),0) -> 3000000
A27: ='2. 밸브제어반 산출근거'!A27 -> 초음파수위계 | B27: ='2. 밸브제어반 산출근거'!B27 -> 변환기 및 센서 설치 | C27: ='2. 밸브제어반 산출근거'!C27 -> 개 | D27: ='2. 밸브제어반 산출근거'!D27 -> 1 | E27: =단가비교표!O30 -> 0 | F27: =ROUNDDOWN(D27*E27,0) -> 0 | K27: =ROUNDDOWN(SUM(F27,H27,J27),0) -> 0 | L27: 노임적용
A28: ='2. 밸브제어반 산출근거'!A28 -> 배선용차단기 | B28: ='2. 밸브제어반 산출근거'!B28 -> 460V 18kA 15~50 4P | C28: ='2. 밸브제어반 산출근거'!C28 -> 개 | D28: ='2. 밸브제어반 산출근거'!D28 -> 1 | E28: =단가비교표!O31 -> 72300 | F28: =ROUNDDOWN(D28*E28,0) -> 72300 | K28: =ROUNDDOWN(SUM(F28,H28,J28),0) -> 72300
A29: ='2. 밸브제어반 산출근거'!A29 -> 배선용차단기 | B29: ='2. 밸브제어반 산출근거'!B29 -> 460V 18kA 15~50 2P | C29: ='2. 밸브제어반 산출근거'!C29 -> 개 | D29: ='2. 밸브제어반 산출근거'!D29 -> 1 | E29: =단가비교표!O32 -> 43300 | F29: =ROUNDDOWN(D29*E29,0) -> 43300 | K29: =ROUNDDOWN(SUM(F29,H29,J29),0) -> 43300
A30: ='2. 밸브제어반 산출근거'!A30 -> 누전차단기 | B30: ='2. 밸브제어반 산출근거'!B30 -> 3P 15~50(정격) 18kA(차단) | C30: ='2. 밸브제어반 산출근거'!C30 -> 개 | D30: ='2. 밸브제어반 산출근거'!D30 -> 1 | E30: =단가비교표!O33 -> 147200 | F30: =ROUNDDOWN(D30*E30,0) -> 147200 | K30: =ROUNDDOWN(SUM(F30,H30,J30),0) -> 147200
A31: ='2. 밸브제어반 산출근거'!A31 -> 누전차단기 | B31: ='2. 밸브제어반 산출근거'!B31 -> 2P 15~50(정격) 14kA(차단) | C31: ='2. 밸브제어반 산출근거'!C31 -> 개 | D31: ='2. 밸브제어반 산출근거'!D31 -> 3 | E31: =단가비교표!O34 -> 93500 | F31: =ROUNDDOWN(D31*E31,0) -> 280500 | K31: =ROUNDDOWN(SUM(F31,H31,J31),0) -> 280500
A32: ='2. 밸브제어반 산출근거'!A32 -> 분기용 차단기 | B32: ='2. 밸브제어반 산출근거'!B32 -> 220V 10KA 6A 2P | C32: ='2. 밸브제어반 산출근거'!C32 -> 개 | D32: ='2. 밸브제어반 산출근거'!D32 -> 3 | E32: =단가비교표!O35 -> 11900 | F32: =ROUNDDOWN(D32*E32,0) -> 35700 | K32: =ROUNDDOWN(SUM(F32,H32,J32),0) -> 35700
A33: ='2. 밸브제어반 산출근거'!A33 -> 서지보호기 | B33: ='2. 밸브제어반 산출근거'!B33 -> 380V 삼상 40KA 5mode | C33: ='2. 밸브제어반 산출근거'!C33 -> 개 | D33: ='2. 밸브제어반 산출근거'!D33 -> 1 | E33: =단가비교표!O36 -> 276600 | F33: =ROUNDDOWN(D33*E33,0) -> 276600 | K33: =ROUNDDOWN(SUM(F33,H33,J33),0) -> 276600
A34: ='2. 밸브제어반 산출근거'!A34 -> SMPS | B34: ='2. 밸브제어반 산출근거'!B34 -> 120W | C34: ='2. 밸브제어반 산출근거'!C34 -> 개 | D34: ='2. 밸브제어반 산출근거'!D34 -> 1 | E34: =단가비교표!O37 -> 185000 | F34: =ROUNDDOWN(D34*E34,0) -> 185000 | K34: =ROUNDDOWN(SUM(F34,H34,J34),0) -> 185000
A35: ='2. 밸브제어반 산출근거'!A35 -> 노이즈 필터 | B35: ='2. 밸브제어반 산출근거'!B35 -> 10A | C35: ='2. 밸브제어반 산출근거'!C35 -> 개 | D35: ='2. 밸브제어반 산출근거'!D35 -> 1 | E35: =단가비교표!O38 -> 15000 | F35: =ROUNDDOWN(D35*E35,0) -> 15000 | K35: =ROUNDDOWN(SUM(F35,H35,J35),0) -> 15000
A36: ='2. 밸브제어반 산출근거'!A36 -> 로터리스위치 | B36: ='2. 밸브제어반 산출근거'!B36 -> 25Ø 2단 | C36: ='2. 밸브제어반 산출근거'!C36 -> 개 | D36: ='2. 밸브제어반 산출근거'!D36 -> 2 | E36: =단가비교표!O39 -> 5800 | F36: =ROUNDDOWN(D36*E36,0) -> 11600 | K36: =ROUNDDOWN(SUM(F36,H36,J36),0) -> 11600
A37: ='2. 밸브제어반 산출근거'!A37 -> 25Ø 조광형 누름 스위치 AC | B37: ='2. 밸브제어반 산출근거'!B37 -> AC 220V LED | C37: ='2. 밸브제어반 산출근거'!C37 -> 개 | D37: ='2. 밸브제어반 산출근거'!D37 -> 4 | E37: =단가비교표!O40 -> 5800 | F37: =ROUNDDOWN(D37*E37,0) -> 23200 | K37: =ROUNDDOWN(SUM(F37,H37,J37),0) -> 23200
A38: ='2. 밸브제어반 산출근거'!A38 -> 변류기 | B38: ='2. 밸브제어반 산출근거'!B38 -> 1CT 30/5A | C38: ='2. 밸브제어반 산출근거'!C38 -> 개 | D38: ='2. 밸브제어반 산출근거'!D38 -> 3 | E38: =단가비교표!O41 -> 8000 | F38: =ROUNDDOWN(D38*E38,0) -> 24000 | K38: =ROUNDDOWN(SUM(F38,H38,J38),0) -> 24000
A39: ='2. 밸브제어반 산출근거'!A39 -> 릴레이 | B39: ='2. 밸브제어반 산출근거'!B39 -> 14PIN | C39: ='2. 밸브제어반 산출근거'!C39 -> 개 | D39: ='2. 밸브제어반 산출근거'!D39 -> 16 | E39: =단가비교표!O42 -> 4000 | F39: =ROUNDDOWN(D39*E39,0) -> 64000 | K39: =ROUNDDOWN(SUM(F39,H39,J39),0) -> 64000
... A52: ='2. 밸브제어반 산출근거'!A52 -> 조작전선 | B52: ='2. 밸브제어반 산출근거'!B52 -> UL전선 1.0mm | C52: ='2. 밸브제어반 산출근거'!C52 -> M | D52: ='2. 밸브제어반 산출근거'!D52 -> 80 | E52: =단가비교표!O55 -> 600 | F52: =ROUNDDOWN(D52*E52,0) -> 48000 | K52: =ROUNDDOWN(SUM(F52,H52,J52),0) -> 48000
A53: ='2. 밸브제어반 산출근거'!A53 -> 노무비 | B53: ='2. 밸브제어반 산출근거'!B53 -> 전기기계조립원 | C53: ='2. 밸브제어반 산출근거'!C53 -> 인 | D53: ='2. 밸브제어반 산출근거'!D53 -> 9.758 | G53: =단가비교표!O56 -> 122522 | H53: =ROUNDDOWN(D53*G53,0) -> 1195569 | K53: =ROUNDDOWN(SUM(F53,H53,J53),0) -> 1195569
A54: ='2. 밸브제어반 산출근거'!A54 -> 노무비 | B54: ='2. 밸브제어반 산출근거'!B54 -> 통신기계조립원 | C54: ='2. 밸브제어반 산출근거'!C54 -> 인 | D54: ='2. 밸브제어반 산출근거'!D54 -> 2.69 | G54: =단가비교표!O57 -> 100701 | H54: =ROUNDDOWN(D54*G54,0) -> 270885 | K54: =ROUNDDOWN(SUM(F54,H54,J54),0) -> 270885
A55: ='2. 밸브제어반 산출근거'!A55 -> 노무비 | B55: ='2. 밸브제어반 산출근거'!B55 -> 컴퓨터운용사(H/W) | C55: ='2. 밸브제어반 산출근거'!C55 -> 인 | D55: ='2. 밸브제어반 산출근거'!D55 -> 4.37 | G55: =단가비교표!O58 -> 144458 | H55: =ROUNDDOWN(D55*G55,0) -> 631281 | K55: =ROUNDDOWN(SUM(F55,H55,J55),0) -> 631281
A56: ='2. 밸브제어반 산출근거'!A56 -> 노무비 | B56: ='2. 밸브제어반 산출근거'!B56 -> 컴퓨터운용사(S/W) | C56: ='2. 밸브제어반 산출근거'!C56 -> 인 | D56: ='2. 밸브제어반 산출근거'!D56 -> 5.83 | G56: =단가비교표!O59 -> 144458 | H56: =ROUNDDOWN(D56*G56,0) -> 842190 | K56: =ROUNDDOWN(SUM(F56,H56,J56),0) -> 842190
A57: ='2. 밸브제어반 산출근거'!A57 -> 노무비 | B57: ='2. 밸브제어반 산출근거'!B57 -> 전선원 | C57: ='2. 밸브제어반 산출근거'!C57 -> 인 | D57: ='2. 밸브제어반 산출근거'!D57 -> 2.61 | G57: =단가비교표!O60 -> 99248 | H57: =ROUNDDOWN(D57*G57,0) -> 259037 | K57: =ROUNDDOWN(SUM(F57,H57,J57),0) -> 259037
A58: ='2. 밸브제어반 산출근거'!A58 -> 노무비 | B58: ='2. 밸브제어반 산출근거'!B58 -> 전기전자설비정비원 | C58: ='2. 밸브제어반 산출근거'!C58 -> 인 | D58: ='2. 밸브제어반 산출근거'!D58 -> 0.81 | G58: =단가비교표!O61 -> 128279 | H58: =ROUNDDOWN(D58*G58,0) -> 103905 | K58: =ROUNDDOWN(SUM(F58,H58,J58),0) -> 103905
A59: ='2. 밸브제어반 산출근거'!A59 -> 노무비 | B59: ='2. 밸브제어반 산출근거'!B59 -> 단순노무종사원 | C59: ='2. 밸브제어반 산출근거'!C59 -> 인 | D59: ='2. 밸브제어반 산출근거'!D59 -> 0.55 | G59: =단가비교표!O62 -> 90694 | H59: =ROUNDDOWN(D59*G59,0) -> 49881 | K59: =ROUNDDOWN(SUM(F59,H59,J59),0) -> 49881
A66: 합 계 | F66: =ROUNDDOWN(SUM(F3:F65),0) -> 13079850 | H66: =ROUNDDOWN(SUM(H3:H65),0) -> 3352748 | K66: =ROUNDDOWN(SUM(F66,H66,J66),0) -> 16432598

Sheet 단가표지
A2: =내역서표지!A2 -> 2026년 성읍저수지 활용 성산읍 농업용수관로 구축 밸브제어반 제조구매(삼달리 2093)
A3: 단가비교표
A6: =내역서표지!A6 -> 2026. 06.
A10: =내역서표지!A10 -> 한국농어촌공사 제주지역본부

Sheet 단가비교표
A1: 코드 | B1: 명 칭 | C1: 규 격 | D1: 단위 | G1: 물가정보 (2026.06) | I1: 중소기업 | K1: 견적서 1 | M1: 견적서 2 | O1: 적용단가
E2: 단 가 | F2: Page | G2: 단 가 | H2: Page | I2: 단 가 | J2: Page | K2: 단 가 | L2: 업체명 | M2: 단 가 | N2: 업체명
B3: 운전화면 | C3: 표준화면 | D3: 화면 | G3: 1138000 | H3: 1257 | I3: 524000 | J3: 농어촌공사 | O3: =MIN(E3,G3,I3,K3,M3) -> 524000
B4: 운전화면 | C4: 트랜드화면 | D4: 화면 | G4: 1391000 | H4: 1257 | I4: 571000 | J4: 농어촌공사 | O4: =MIN(E4,G4,I4,K4,M4) -> 571000
B5: 운전화면 | C5: 레포트화면 | D5: 화면 | G5: 1391000 | H5: 1257 | I5: 572000 | J5: 농어촌공사 | O5: =MIN(E5,G5,I5,K5,M5) -> 572000
B6: 운전화면 | C6: 알람화면 | D6: 화면 | G6: 1391000 | H6: 1257 | I6: 572000 | J6: 농어촌공사 | O6: =MIN(E6,G6,I6,K6,M6) -> 572000
B7: 옥외자립형 PANEL (연강2.0T) | C7: 700*1600*500 | D7: 면 | K7: 1150000 | L7: 테크원시스템 | M7: 1400000 | N7: 코리아파워 | O7: =MIN(E7,G7,I7,K7,M7) -> 1150000
B8: NAME PLATE | C8: 아크릴 W500*H70*3t | D8: 개 | K8: 15000 | L8: 테크원시스템 | M8: 16000 | N8: 코리아파워 | O8: =MIN(E8,G8,I8,K8,M8) -> 15000
B9: NAME PLATE | C9: 아크릴 50*20 | D9: 개 | K9: 4000 | L9: 테크원시스템 | M9: 4500 | N9: 코리아파워 | O9: =MIN(E9,G9,I9,K9,M9) -> 4000
B10: NAME PLATE | C10: 아크릴 원형25mm | D10: 개 | K10: 3000 | L10: 테크원시스템 | M10: 3500 | N10: 코리아파워 | O10: =MIN(E10,G10,I10,K10,M10) -> 3000
B11: DOOR HANDLE | C11: W/KEY (L) | D11: 개 | K11: 40000 | L11: 테크원시스템 | M11: 42000 | N11: 코리아파워 | O11: =MIN(E11,G11,I11,K11,M11) -> 40000
B12: 잠금장치 | C12: 잠금형 매미고리 | D12: 개 | K12: 25000 | L12: 테크원시스템 | M12: 26500 | N12: 코리아파워 | O12: =MIN(E12,G12,I12,K12,M12) -> 25000
B13: 전원모듈 | C13: 220V입력전용/DC5V,8.5A, G3코팅 | D13: 개 | G13: 238000 | H13: 1258 | O13: =MIN(E13,G13,I13,K13,M13) -> 238000
B14: CPU모듈 | C14: I/O:3,072점, P/G용량:128kstep | D14: 개 | G14: 1146000 | H14: 1258 | O14: =MIN(E14,G14,I14,K14,M14) -> 1146000
B15: 입력모듈 | C15: 16점DC24V입력(싱크/소스타입) | D15: 개 | G15: 157000 | H15: 1258 | O15: =MIN(E15,G15,I15,K15,M15) -> 157000
B16: 출력모듈 | C16: 16점릴레이출력, 2A용 | D16: 개 | G16: 251000 | H16: 1258 | O16: =MIN(E16,G16,I16,K16,M16) -> 251000
B17: 기본베이스 | C17: 입출력 6모듈장착용 | D17: 개 | G17: 263000 | H17: 1258 | O17: =MIN(E17,G17,I17,K17,M17) -> 263000
B18: AD변환모듈 | C18: 전압,전류형, 8채널 | D18: 개 | G18: 1002000 | H18: 1258 | O18: =MIN(E18,G18,I18,K18,M18) -> 1002000
B19: CNET모듈 | C19: RS-422 2ch | D19: 개 | G19: 491000 | H19: 1258 | O19: =MIN(E19,G19,I19,K19,M19) -> 491000
B20: ENET모듈 | C20: 전기, Master, 100/100Mbps, RJ-45 | D20: 개 | G20: 1162000 | H20: 1258 | O20: =MIN(E20,G20,I20,K20,M20) -> 1162000
B21: 더미모듈 | C21: 슬롯방진용 | D21: 개 | G21: 11000 | H21: 1258 | O21: =MIN(E21,G21,I21,K21,M21) -> 11000
B22: PLC PROGRAMMING | C22: ANALOGUE POINT | D22: POINT | G22: 126000 | H22: 1257 | O22: =MIN(E22,G22,I22,K22,M22) -> 126000
B23: PLC PROGRAMMING | C23: DIGITAL POINT | D23: POINT | G23: 63000 | H23: 1257 | O23: =MIN(E23,G23,I23,K23,M23) -> 63000
B24: PLC PROGRAMMING | C24: 통신 POINT | D24: POINT | G24: 379000 | H24: 1257 | O24: =MIN(E24,G24,I24,K24,M24) -> 379000
B25: PLC PROGRAMMING | C25: 종합시운전 | D25: 개소 | O25: =MIN(E25,G25,I25,K25,M25) -> 0
B26: 디지털 판넬 메터 | C26: 전압, 전류, 역률(통신기능 내장) | D26: 개 | G26: 434600 | H26: 1251 | O26: =MIN(E26,G26,I26,K26,M26) -> 434600
B27: 무선전송장치 | C27: ENET 2PORT, RS232 1PORT | D27: 개 | G27: 910000 | H27: 1255 | O27: =MIN(E27,G27,I27,K27,M27) -> 910000
B28: 전자식유량계 | C28: 변환기 설치 | D28: 개 | O28: =MIN(E28,G28,I28,K28,M28) -> 0
B29: 초음파수위계 | C29: 10M, 1CH | D29: 개 | G29: 3600000 | H29: 1060 | K29: 3000000 | M29: 3200000 | O29: =MIN(E29,G29,I29,K29,M29) -> 3000000
B30: 초음파수위계 | C30: 변환기 및 센서 설치 | D30: 개 | O30: =MIN(E30,G30,I30,K30,M30) -> 0
B31: 배선용차단기 | C31: 460V 18kA 15~50 4P | D31: 개 | G31: 72300 | H31: 1237 | O31: =MIN(E31,G31,I31,K31,M31) -> 72300
B32: 배선용차단기 | C32: 460V 18kA 15~50 2P | D32: 개 | G32: 43300 | H32: 1237 | O32: =MIN(E32,G32,I32,K32,M32) -> 43300
B33: 누전차단기 | C33: 3P 15~50(정격) 18kA(차단) | D33: 개 | G33: 147200 | H33: 1236 | O33: =MIN(E33,G33,I33,K33,M33) -> 147200
B34: 누전차단기 | C34: 2P 15~50(정격) 14kA(차단) | D34: 개 | G34: 93500 | H34: 1236 | O34: =MIN(E34,G34,I34,K34,M34) -> 93500
B35: 분기용 차단기 | C35: 220V 10KA 6A 2P | D35: 개 | G35: 11900 | H35: 1238 | O35: =MIN(E35,G35,I35,K35,M35) -> 11900
B36: 서지보호기 | C36: 380V 삼상 40KA 5mode | D36: 개 | G36: 276600 | H36: 1273 | O36: =MIN(E36,G36,I36,K36,M36) -> 276600
B37: SMPS | C37: 120W | D37: 개 | K37: 185000 | L37: 테크원시스템 | M37: 200000 | N37: 코리아파워 | O37: =MIN(E37,G37,I37,K37,M37) -> 185000
B38: 노이즈 필터 | C38: 10A | D38: 개 | K38: 15000 | L38: 테크원시스템 | M38: 16000 | N38: 코리아파워 | O38: =MIN(E38,G38,I38,K38,M38) -> 15000
B39: 로터리스위치 | C39: 25Ø 2단 | D39: 개 | K39: 5800 | L39: 테크원시스템 | M39: 6100 | N39: 코리아파워 | O39: =MIN(E39,G39,I39,K39,M39) -> 5800
B40: 25Ø 조광형 누름 스위치 AC | C40: AC 220V LED | D40: 개 | K40: 5800 | L40: 테크원시스템 | M40: 6100 | N40: 코리아파워 | O40: =MIN(E40,G40,I40,K40,M40) -> 5800
B41: 변류기 | C41: 1CT 30/5A | D41: 개 | K41: 8000 | L41: 테크원시스템 | M41: 10000 | N41: 코리아파워 | O41: =MIN(E41,G41,I41,K41,M41) -> 8000
B42: 릴레이 | C42: 14PIN | D42: 개 | K42: 4000 | L42: 테크원시스템 | M42: 4200 | N42: 코리아파워 | O42: =MIN(E42,G42,I42,K42,M42) -> 4000
B43: 릴레이 소켓 | C43: 14PIN | D43: 개 | K43: 1000 | L43: 테크원시스템 | M43: 1100 | N43: 코리아파워 | O43: =MIN(E43,G43,I43,K43,M43) -> 1000
B44: 콘센트 | C44: 노출형 2P | D44: 개 | K44: 3000 | L44: 테크원시스템 | M44: 3200 | N44: 코리아파워 | O44: =MIN(E44,G44,I44,K44,M44) -> 3000
B45: FAN | C45: AC 220V 120mm*120mm | D45: 개 | K45: 15000 | L45: 테크원시스템 | M45: 16000 | N45: 코리아파워 | O45: =MIN(E45,G45,I45,K45,M45) -> 15000
B46: FAN 필터 | C46: AC 220V 120mm/80mm 겸용 | D46: 개 | K46: 3000 | L46: 테크원시스템 | M46: 3100 | N46: 코리아파워 | O46: =MIN(E46,G46,I46,K46,M46) -> 3000
B47: 판넬용전등(LED) | C47: 10W LED | D47: 개 | K47: 16000 | L47: 테크원시스템 | M47: 17000 | N47: 코리아파워 | O47: =MIN(E47,G47,I47,K47,M47) -> 16000
B48: 리미트스위치 | C48: AC220V 1a1b | D48: 개 | K48: 2000 | L48: 테크원시스템 | M48: 2100 | N48: 코리아파워 | O48: =MIN(E48,G48,I48,K48,M48) -> 2000
B49: 온도조절기 | C49: 0~90℃ | D49: 개 | K49: 15500 | L49: 테크원시스템 | M49: 16500 | N49: 코리아파워 | O49: =MIN(E49,G49,I49,K49,M49) -> 15500
B50: 조립식단자대 | C50: 1P 25A | D50: 개 | G50: 300 | H50: 1200 | O50: =MIN(E50,G50,I50,K50,M50) -> 300
B51: 세퍼레이터 | C51: 25A | D51: 개 | G51: 100 | H51: 1200 | O51: =MIN(E51,G51,I51,K51,M51) -> 100
B52: 스토퍼 | C52: 볼트 STS | D52: 개 | G52: 290 | H52: 1200 | O52: =MIN(E52,G52,I52,K52,M52) -> 290
B53: 닥트 | C53: 60*60 | D53: 개 | K53: 19500 | L53: 테크원시스템 | M53: 20500 | N53: 코리아파워 | O53: =MIN(E53,G53,I53,K53,M53) -> 19500
B54: 450/750V 기기용비닐절연전선 | C54: KIV 4㎟ | D54: M | G54: 1189 | H54: 1167 | O54: =MIN(E54,G54,I54,K54,M54) -> 1189
B55: 조작전선 | C55: UL전선 1.0mm | D55: M | K55: 600 | L55: 테크원시스템 | M55: 650 | N55: 코리아파워 | O55: =MIN(E55,G55,I55,K55,M55) -> 600
B56: 노무비 | C56: 전기기계조립원 | D56: 인 | I56: 122522 | J56: 2026/상 | O56: =MIN(E56,G56,I56,K56,M56) -> 122522
B57: 노무비 | C57: 통신기계조립원 | D57: 인 | I57: 100701 | J57: 2026/상 | O57: =MIN(E57,G57,I57,K57,M57) -> 100701
B58: 노무비 | C58: 컴퓨터운용사(H/W) | D58: 인 | I58: 144458 | J58: 2026/상 | O58: =MIN(E58,G58,I58,K58,M58) -> 144458
B59: 노무비 | C59: 컴퓨터운용사(S/W) | D59: 인 | I59: 144458 | J59: 2026/상 | O59: =MIN(E59,G59,I59,K59,M59) -> 144458
B60: 노무비 | C60: 전선원 | D60: 인 | I60: 99248 | J60: 2026/상 | O60: =MIN(E60,G60,I60,K60,M60) -> 99248
B61: 노무비 | C61: 전기전자설비정비원 | D61: 인 | I61: 128279 | J61: 2026/상 | O61: =MIN(E61,G61,I61,K61,M61) -> 128279
B62: 노무비 | C62: 단순노무종사원 | D62: 인 | I62: 90694 | J62: 2026/상 | O62: =MIN(E62,G62,I62,K62,M62) -> 90694

Sheet 노무비표지
A2: =내역서표지!A2 -> 2026년 성읍저수지 활용 성산읍 농업용수관로 구축 밸브제어반 제조구매(삼달리 2093)
A3: 노무비산출근거
A6: =내역서표지!A6 -> 2026. 06.
A10: =내역서표지!A10 -> 한국농어촌공사 제주지역본부

Sheet 1. 중앙모니터링 산출근거
A1: 명 칭 | B1: 규 격 | C1: 단위 | D1: 수량 | E1: 노임할증 | F1: 품셈목록 | G1: 전기기계조립원 | I1: 통신기계조립원 | K1: 컴퓨터운용사(H/W) | M1: 컴퓨터운용사(S/W) | O1: 전선원 | Q1: 전기전자설비정비원 | S1: 단순노무종사원
G2: 공량 | H2: 계 | I2: 공량 | J2: 계 | K2: 공량 | L2: 계 | M2: 공량 | N2: 계 | O2: 공량 | P2: 계 | Q2: 공량 | R2: 계 | S2: 공량 | T2: 계
A3: 1. 중앙모니터링
A4: 운전화면 | B4: 표준화면 | C4: 화면 | D4: 1
A5: 운전화면 | B5: 트렌드화면 | C5: 화면 | D5: 1
A34: 합 계

Sheet 2. 밸브제어반 산출근거
A1: 명 칭 | B1: 규 격 | C1: 단위 | D1: 수량 | E1: 노임할증 | F1: 품셈목록 | G1: 전기기계조립원 | I1: 통신기계조립원 | K1: 컴퓨터운용사(H/W) | M1: 컴퓨터운용사(S/W) | O1: 전선원 | Q1: 전기전자설비정비원 | S1: 단순노무종사원
G2: 공량 | H2: 계 | I2: 공량 | J2: 계 | K2: 공량 | L2: 계 | M2: 공량 | N2: 계 | O2: 공량 | P2: 계 | Q2: 공량 | R2: 계 | S2: 공량 | T2: 계
A3: 2. 밸브제어반 (700*1600*500)
A4: 옥내자립형 PANEL (연강2.0T) | B4: 700*1600*500 | C4: 면 | D4: 1 | F4: 통신9-3-1 | O4: 0.16 | P4: =O4*D4 -> 0.16 | Q4: 0.38 | R4: =$D4*Q4 -> 0.38 | S4: 0.29 | T4: =$D4*S4 -> 0.29
A5: NAME PLATE | B5: 아크릴 W500*H70*3t | C5: 개 | D5: 1
A6: NAME PLATE | B6: 아크릴 50*20 | C6: 개 | D6: 2
A7: NAME PLATE | B7: 아크릴 원형25mm | C7: 개 | D7: 6
A8: DOOR HANDLE | B8: W/KEY (L) | C8: 개 | D8: 2
A9: 잠금장치 | B9: 잠금형 매미고리 | C9: 개 | D9: 2
A10: 전원모듈 | B10: 220V입력전용/DC5V,8.5A, G3코팅 | C10: 개 | D10: 1 | F10: 통신8-1-1 | I10: 0.16 | J10: =$D10*I10 -> 0.16 | K10: 0.26 | L10: =$D10*K10 -> 0.26
A11: CPU모듈 | B11: I/O:3,072점, P/G용량:128kst데 | C11: 개 | D11: 1 | F11: 통신8-1-1 | I11: 0.42 | J11: =$D11*I11 -> 0.42 | K11: 2.24 | L11: =$D11*K11 -> 2.24 | M11: 1.96 | N11: =$D11*M11 -> 1.96
A12: 입력모듈 | B12: 16점DC24V입력(싱크/소스타입) | C12: 개 | D12: 1 | F12: 통신8-1-1 | I12: 0.16 | J12: =$D12*I12 -> 0.16 | K12: 0.26 | L12: =$D12*K12 -> 0.26
A13: 출력모듈 | B13: 16점릴레이출력, 2A용 | C13: 개 | D13: 1 | F13: 통신8-1-1 | I13: 0.16 | J13: =$D13*I13 -> 0.16 | K13: 0.26 | L13: =$D13*K13 -> 0.26
A14: 기본베이스 | B14: 입출력 6모듈장착용 | C14: 개 | D14: 1 | F14: 통신8-1-1 | I14: 0.16 | J14: =$D14*I14 -> 0.16
A15: AD변환모듈 | B15: 전압,전류형, 8채널 | C15: 개 | D15: 1 | F15: 통신8-1-1 | I15: 0.16 | J15: =$D15*I15 -> 0.16 | K15: 0.26 | L15: =$D15*K15 -> 0.26
A16: CNET모듈 | B16: RS-422 2ch | C16: 개 | D16: 1 | F16: 통신8-1-1 | I16: 0.16 | J16: =$D16*I16 -> 0.16 | K16: 0.26 | L16: =$D16*K16 -> 0.26
A17: ENET모듈 | B17: 전기, Master, 100/100Mbps, RJ-45 | C17: 개 | D17: 1 | F17: 통신8-1-1 | I17: 0.16 | J17: =$D17*I17 -> 0.16 | K17: 0.26 | L17: =$D17*K17 -> 0.26
A18: 더미모듈 | B18: 슬롯방진용 | C18: 개 | D18: 1
A19: PLC PROGRAMMING | B19: ANALOGUE POINT | C19: POINT | D19: 3
A20: PLC PROGRAMMING | B20: DIGITAL POINT | C20: POINT | D20: 7
A21: PLC PROGRAMMING | B21: 통신 POINT | C21: POINT | D21: 1
A22: PLC PROGRAMMING | B22: 종합시운전 | C22: 개소 | D22: 1 | F22: 통신8-4-7-1-6 | M22: 3.04 | N22: =$D22*M22 -> 3.04
A23: 디지털 판넬 메터 | B23: 전압, 전류, 역률(통신기능 내장) | C23: 개 | D23: 1 | F23: 통신8-4-5 | G23: 0.296 | H23: =$D23*G23 -> 0.296 | I23: 0.01 | J23: =$D23*I23 -> 0.01 | M23: 0.07 | N23: =$D23*M23 -> 0.07
A24: 무선전송장치 | B24: ENET 2PORT, RS232 1PORT | C24: 개 | D24: 1 | F24: 통신8-4-7-3-9 | I24: 0.45 | J24: =$D24*I24 -> 0.45 | K24: 0.57 | L24: =$D24*K24 -> 0.57 | M24: 0.76 | N24: =$D24*M24 -> 0.76
A25: 전자식유량계 | B25: 변환기 설치 | C25: 개 | D25: 1 | F25: 통신9-3-2-2 | I25: 0.26 | J25: =$D25*I25 -> 0.26 | S25: 0.26 | T25: =S25*D25 -> 0.26
A26: 초음파수위계 | B26: 10M, 1CH | C26: 개 | D26: 1
A27: 초음파수위계 | B27: 변환기 및 센서 설치 | C27: 개 | D27: 1 | F27: 통신9-3-2-1 | I27: 0.43 | J27: =$D27*I27 -> 0.43 | Q27: 0.43 | R27: =$D27*Q27 -> 0.43
A28: 배선용차단기 | B28: 460V 18kA 15~50 4P | C28: 개 | D28: 1 | F28: 전기5-19 | G28: 0.338 | H28: =$D28*G28 -> 0.338
A29: 배선용차단기 | B29: 460V 18kA 15~50 2P | C29: 개 | D29: 1 | F29: 전기5-19 | G29: 0.182 | H29: =$D29*G29 -> 0.182
A30: 누전차단기 | B30: 3P 15~50(정격) 18kA(차단) | C30: 개 | D30: 1 | F30: 전기5-19 | G30: 0.26 | H30: =$D30*G30 -> 0.26
A31: 누전차단기 | B31: 2P 15~50(정격) 14kA(차단) | C31: 개 | D31: 3 | F31: 전기5-19 | G31: 0.182 | H31: =$D31*G31 -> 0.546
A32: 분기용 차단기 | B32: 220V 10KA 6A 2P | C32: 개 | D32: 3 | F32: 전기5-19 | G32: 0.133 | H32: =$D32*G32 -> 0.399
A33: 서지보호기 | B33: 380V 삼상 40KA 5mode | C33: 개 | D33: 1 | F33: 전기5-45-2 | G33: 0.24 | H33: =$D33*G33 -> 0.24
A34: SMPS | B34: 120W | C34: 개 | D34: 1 | F34: 전기6-2 | G34: 0.3 | H34: =$D34*G34 -> 0.3
A35: 노이즈 필터 | B35: 10A | C35: 개 | D35: 1 | F35: 전기3-34 | G35: 0.2 | H35: =$D35*G35 -> 0.2
A36: 로터리스위치 | B36: 25Ø 2단 | C36: 개 | D36: 2 | F36: 전기5-23-2 | G36: 0.1 | H36: =$D36*G36 -> 0.2
A37: 25Ø 조광형 누름 스위치 AC | B37: AC 220V LED | C37: 개 | D37: 4 | F37: 전기5-23-2 | G37: 0.065 | H37: =$D37*G37 -> 0.26
A38: 변류기 | B38: 1CT 30/5A | C38: 개 | D38: 3 | F38: 전기5-21 | G38: 0.4 | H38: =$D38*G38 -> 1.2
A39: 릴레이 | B39: 14PIN | C39: 개 | D39: 16 | F39: 전기3-34 | G39: 0.2 | H39: =$D39*G39 -> 3.2
A40: 릴레이 소켓 | B40: 14PIN | C40: 개 | D40: 16
A41: 콘센트 | B41: 노출형 2P | C41: 개 | D41: 1 | F41: 전기5-23-1 | G41: 0.08 | H41: =$D41*G41 -> 0.08
A42: FAN | B42: AC 220V 120mm*120mm | C42: 개 | D42: 1 | F42: 전기3-34 | G42: 0.2 | H42: =$D42*G42 -> 0.2
A43: FAN 필터 | B43: AC 220V 120mm/80mm 겸용 | C43: 개 | D43: 1
A44: 판넬용전등(LED) | B44: 10W LED | C44: 개 | D44: 1 | F44: 전기5-23-3 | G44: 0.117 | H44: =$D44*G44 -> 0.117
A45: 리미트스위치 | B45: AC220V 1a1b | C45: 개 | D45: 1
A46: 온도조절기 | B46: 0~90℃ | C46: 개 | D46: 1 | F46: 전기6-2 | G46: 0.3 | H46: =$D46*G46 -> 0.3
A47: 조립식단자대 | B47: 1P 25A | C47: 개 | D47: 20
A48: 세퍼레이터 | B48: 25A | C48: 개 | D48: 1
A49: 스토퍼 | B49: 볼트 STS | C49: 개 | D49: 2
A50: 닥트 | B50: 60*60 | C50: 개 | D50: 8 | F50: 전기5-9 | G50: 0.18 | H50: =$D50*G50 -> 1.44
A51: 450/750V 기기용비닐절연전선 | B51: KIV 4㎟ | C51: M | D51: 30 | F51: 전기3-34 | O51: 0.055 | P51: =$D51*O51 -> 1.65
A52: 조작전선 | B52: UL전선 1.0mm | C52: M | D52: 80 | F52: 전기5-13 | O52: 0.01 | P52: =$D52*O52 -> 0.8
A53: 노무비 | B53: =$G$1 -> 전기기계조립원 | C53: 인 | D53: =$H$66 -> 9.758
A54: 노무비 | B54: =$I$1 -> 통신기계조립원 | C54: 인 | D54: =$J$66 -> 2.69
A55: 노무비 | B55: =$K$1 -> 컴퓨터운용사(H/W) | C55: 인 | D55: =$L$66 -> 4.37
A56: 노무비 | B56: =$M$1 -> 컴퓨터운용사(S/W) | C56: 인 | D56: =$N$66 -> 5.83
A57: 노무비 | B57: =$O$1 -> 전선원 | C57: 인 | D57: =$P$66 -> 2.61
A58: 노무비 | B58: =$Q$1 -> 전기전자설비정비원 | C58: 인 | D58: =$R$66 -> 0.81
A59: 노무비 | B59: =$S$1 -> 단순노무종사원 | C59: 인 | D59: =$T$66 -> 0.55
A66: 합 계 | H66: =SUM(H3:H65) -> 9.758 | J66: =SUM(J3:J65) -> 2.69 | L66: =SUM(L3:L65) -> 4.37 | N66: =SUM(N3:N65) -> 5.83 | P66: =SUM(P3:P65) -> 2.61 | R66: =SUM(R3:R65) -> 0.81 | T66: =SUM(T3:T65) -> 0.55

Sheet 테크원시스템
A2: DATE | B2: 견 적 서 | M2: No.
A3: 2026년 06월 | M3: 202606-01
A5: 수 신 : | B5: 한국농어촌공사 제주지역본부 | E5: 귀하
H6: 상호명 | I6: 주식회사 테크원시스템
H7: 등록번호 | I7: 750-86-01239 | L7: 대표이사 | M7: 고좌환, 양갑비 | O7: (인)
A8: 참 조 : | E8: 귀하 | H8: 주소 | I8: 제주특별자치도 제주시 첨단로 213-3
A9: 제 출 일 : | B9: 2026년 06월 | I9: 스마트빌딩 401호
A10: 아래와 같이 견적을 제출합니다. | H10: TEL | I10: 064-745-1711 | L10: FAX | M10: 064-745-1712
A11: 건 명 | B11: 2026년 성읍저수지 활용 성산읍 농업용수관로 구축 밸브제어반 제조구매(삼달리 2093)
A12: 합계금액 (V.A.T별도) | C12: 일금 | D12: =K12 -> 4536000 | J12: 원정 | K12: =K40 -> 4536000
A14: 품명 | B14: 규격/사양 | E14: 단위 | H14: 수량 | J14: 단가 | M14: 금액
A15: 옥내자립형 PANEL (연강2.0T) | B15: 700*1600*500 | E15: 면 | H15: 1 | J15: 1150000 | M15: =H15*J15 -> 1150000
A16: NAME PLATE | B16: 아크릴 W500*H70*3t | E16: 개 | H16: 1 | J16: 15000 | M16: =H16*J16 -> 15000
A17: NAME PLATE | B17: 아크릴 50*20 | E17: 개 | H17: 1 | J17: 4000 | M17: =H17*J17 -> 4000
A18: NAME PLATE | B18: 아크릴 원형25mm | E18: 개 | H18: 1 | J18: 3000 | M18: =H18*J18 -> 3000
A19: DOOR HANDLE | B19: W/KEY (L) | E19: 개 | H19: 1 | J19: 40000 | M19: =H19*J19 -> 40000
A20: 잠금장치 | B20: 잠금형 매미고리 | E20: 개 | H20: 1 | J20: 25000 | M20: =H20*J20 -> 25000
A21: 초음파수위계 | B21: 10M, 1CH | E21: 개 | H21: 1 | J21: 3000000 | M21: =H21*J21 -> 3000000
A22: SMPS | B22: 120W | E22: 개 | H22: 1 | J22: 185000 | M22: =H22*J22 -> 185000
A23: 노이즈 필터 | B23: 10A | E23: 개 | H23: 1 | J23: 15000 | M23: =H23*J23 -> 15000
A24: 로터리스위치 | B24: 25Ø 2단 | E24: 개 | H24: 1 | J24: 5800 | M24: =H24*J24 -> 5800
A25: 25Ø 조광형 누름 스위치 AC | B25: AC 220V LED | E25: 개 | H25: 1 | J25: 5800 | M25: =H25*J25 -> 5800
A26: 변류기 | B26: 1CT 30/5A | E26: 개 | H26: 1 | J26: 8000 | M26: =H26*J26 -> 8000
... A36: 조작전선 | B36: UL전선 1.0mm | E36: M | H36: 1 | J36: 600 | M36: =H36*J36 -> 600
A37: - 비 고 | H37: 소 계 | K37: =SUM(M15:O36) -> 4536200
A38: * 천원미만 절사
H40: 합계금액 | K40: =ROUNDDOWN(K37+K38,-3) -> 4536000
A42: - 사업내용
A43: 설비자동제어공사, 전력감시제어공사, 조명제어공사, RF무선제어공사, 자동제어반제작
A44: DDC반제작, 무선제어반제작, PLC, 인버터, HMI, 유량계, 수위계

Sheet 코리아파워
A1: 견 적 서
A5: 건 명 | B5: 2026년 성읍저수지 활용 성산읍 농업용수관로 구축 밸브제어반 제조구매(삼달리 2093) | G5: 제주시 남광로 132(이도2동)
A6: 견적일자 | B6: 2026년 6월 | G6: 대표이사: 변 광 섭, 김 정 민
A7: 발 주 처 | B7: 한국농어촌공사 제주지역본부 귀중 | G7: 전 화 : 064-726-6897
A8: 담 당 | G8: 팩 스 : 064-726-6898
A9: 전화번호 | G9: Homepage : www.kups.co.kr
A10: 팩스번호 | G10: 정보통신공사업 제640033호
A12: 견적가 | B12: =G40 -> 5015000 | D12: (VAT별도)
A13: 아래와 같이 견적하오니 검토하여 주시기 바랍니다. (견적서 유효기간은 30일 입니다.)
A14: 품 명 | C14: 규 격 | F14: 단위 | G14: 수량 | H14: 단 가 | I14: 금 액
A15: 옥내자립형 PANEL (연강2.0T) | C15: 700*1600*500 | F15: 면 | G15: 1 | H15: 1400000 | I15: =SUM(H15*G15) -> 1400000
A16: NAME PLATE | C16: 아크릴 W500*H70*3t | F16: 개 | G16: 1 | H16: 16000 | I16: =SUM(H16*G16) -> 16000
A17: NAME PLATE | C17: 아크릴 50*20 | F17: 개 | G17: 1 | H17: 4500 | I17: =SUM(H17*G17) -> 4500
A18: NAME PLATE | C18: 아크릴 원형25mm | F18: 개 | G18: 1 | H18: 3500 | I18: =SUM(H18*G18) -> 3500
A19: DOOR HANDLE | C19: W/KEY (L) | F19: 개 | G19: 1 | H19: 42000 | I19: =SUM(H19*G19) -> 42000
A20: 잠금장치 | C20: 잠금형 매미고리 | F20: 개 | G20: 1 | H20: 26500 | I20: =SUM(H20*G20) -> 26500
A21: 초음파수위계 | C21: 10M, 1CH | F21: 개 | G21: 1 | H21: 3200000 | I21: =SUM(H21*G21) -> 3200000
A22: SMPS | C22: 120W | F22: 개 | G22: 1 | H22: 200000 | I22: =SUM(H22*G22) -> 200000
A23: 노이즈 필터 | C23: 10A | F23: 개 | G23: 1 | H23: 16000 | I23: =SUM(H23*G23) -> 16000
A24: 로터리스위치 | C24: 25Ø 2단 | F24: 개 | G24: 1 | H24: 6100 | I24: =SUM(H24*G24) -> 6100
A25: 25Ø 조광형 누름 스위치 AC | C25: AC 220V LED | F25: 개 | G25: 1 | H25: 6100 | I25: =SUM(H25*G25) -> 6100
A26: 변류기 | C26: 1CT 30/5A | F26: 개 | G26: 1 | H26: 10000 | I26: =SUM(H26*G26) -> 10000
... A36: 조작전선 | C36: UL전선 1.0mm | F36: M | G36: 1 | H36: 650 | I36: =SUM(H36*G36) -> 650
I37: =SUM(H37*G37) -> 0
A38: 공 급 금 액 | G38: =SUM(I15:I37) -> 5015050
A40: 견 적 합 계 금 액 | G40: =ROUNDDOWN(G38+G39,-3) -> 5015000
A42: *주 요 업 무*
A43: ㅇ. 정보통신 공사 ,자동제어
A44: ㅇ. UPS/AVR,산업용 축전지,항온항습기 유지보수
A45: ㅇ. 자동차 밧데리 설치 납품
A46: ㅇ. 각종 네트웍 장비 및 통신장비 판매,유,무선 LAN 설비 및 유지보수
A47: ㅇ. 방송,음향시스템공사
A48: ㅇ. 감시카메라/컴퓨터감시시스템,호텔객실관리시스템
