Workbook
Name __A81620: [3]취수탑!#REF!
Name _1: [4]총괄표!$AA$113:$IV$2009
Name _15A: [9]금액내역서!$D$3:$D$10
Name _2: [4]총괄표!$AA$1:$BA$407
Name _3: [4]총괄표!$AC$181:$BA$407
Name _4: [4]총괄표!$A$288:$O$330
Name _5: [4]총괄표!$S$408:$AG$450
Name _9_0수: [11]Sheet2!#REF!
Name _A81620: #REF!
Name _av1: '[12]공사비예산서(토목분)'!#REF!
Name ¤±8529: '[16]일위대가(가설)'!#REF!
Name \0: [4]총괄표!$AQ$1943
Name \a: #N/A
Name \b: #REF!
Name \c: #REF!
Name \d: #REF!
Name \i: [17]가락화장을지!#REF!
Name \p: #REF!
Name \x: [18]내역!#REF!
Name \z: #N/A
Name ▣1.다단펌프설치: #REF!
Name ▣1.펌프설치: #REF!
Name ▣2.감속기설치: #REF!
Name ▣3.천정주행기중기설치: #REF!
Name A: [4]총괄표!$IV$2009:$IV$16384
Name A1.1000: #REF!
Name AA: [4]총괄표!$A$183:$AI$209
Name aaa: #REF!,#REF!
Name AV: #REF!
Name B: [4]총괄표!$AC$122:$IV$2009
Name BB: [4]총괄표!$AI$183:$BK$209
Name Criteria_MI: [18]내역!#REF!
Name D: #REF!
Name Database_MI: #REF!
Name Extract_MI: #REF!
Name fdgz: #REF!
Name GAB: #N/A
Name HI3P관접합부설: #REF!
Name HI3R이형관접합: #REF!
Name HIGP이형관접합: #REF!
Name K.P메카니칼죠인트관부설및접합: #REF!
Name kkkk: #REF!
Name KP메카니칼죠인트관접합: #REF!
Name LAST: #REF!
Name lll: #REF!
Name NUMBER: #REF!
Name PE관융착접합: #REF!
Name PE관접합조임식: #REF!
Name PRINT_AREA_MI: #N/A
Name PRINT_AREA_MI1: #REF!
Name Print_Titles_MI: [26]지급자재대!$A$3:$IV$4
Name prints_title: #REF!
Name PVC관고무링접합: #REF!
Name PVC관접합: #REF!
Name QLQL: #REF!
Name TIT: #REF!
Name TOP: [4]총괄표!$AQ$1945:$AR$1948
Name WON: [17]가락화장을지!#REF!
Name Z: #REF!
Name 가설경비: [30]가설공사비!$L$22

Sheet 표지
B2: 2026년도
B4: 성평지구 자연재해위험개선지구 정비사업 전기공사 재해예방지도기술용역 산출내역서
C7: 전체: | D7: =" 금"&TEXT('내역서(총괄)'!F4,"#,#")&"원" -> 금7,826,000원 | F7: ="(금"&NUMBERSTRING('내역서(총괄)'!F4,1)&"원)" -> (금칠백팔십이만육천원)
D9: 2026. 7.
B11: 한국농어촌공사 논산지사

Sheet 내역서(총괄)
A1: 내역서
A2: 공 종 명 | B2: 규 격 | C2: 수량 | D2: 단위 | E2: 합 계 | G2: 계약 금액 | I2: 비 고
E3: 단 가 | F3: 금 액 | G3: 단 가 | H3: 금 액
A4: 성평지구 자연재해위험개선지구 정비사업 전기공사 (재해예방지도기술용역) | C4: 1 | D4: 식 | F4: =H4 -> 7826000 | H4: =SUM(H6:H7) -> 7826000 | I4: VAT 포함
A6: ■ 기술지도비(총차분) | C6: =C9+C10 -> 23 | D6: 회 | E6: =E9 -> 340269.6 | F6: =H6 -> 7826000 | G6: =G9 -> 340269.6 | H6: =H9+H10 -> 7826000
A9: □ 기술지도비(2026년도) | C9: ='산출내역(지도횟수)'!B6 -> 8 | D9: 회 | E9: ='단가 산정표'!E17 -> 340269.6 | F9: =H9 -> 2722000 | G9: =E9 -> 340269.6 | H9: =TRUNC(G9*C9,-3) -> 2722000 | I9: VAT 포함
A10: □ 기술지도비(2027년도) | C10: ='산출내역(지도횟수)'!B10 -> 15 | D10: 회 | E10: =E9 -> 340269.6 | F10: =H10 -> 5104000 | G10: =E10 -> 340269.6 | H10: =TRUNC(G10*C10,-3) -> 5104000 | I10: VAT 포함
A17: □ 기술지도비(2025년도) | C17: ='산출내역(지도횟수)'!B18 -> 0 | D17: 회 | E17: =#REF!/1.1 -> #REF! | F17: =H17 -> #REF! | G17: =E17 -> #REF! | H17: =TRUNC(G17*C17,0) -> #REF! | I17: VAT 별도
F18: =H18 -> #REF! | H18: =H17*0.1 -> #REF! | I18: VAT
A20: □ 기술지도비(2025년도) | C20: ='산출내역(지도횟수)'!B22 -> 0 | D20: 회 | E20: =#REF!/1.1 -> #REF! | F20: =H20 -> #REF! | G20: =E20 -> #REF! | H20: =TRUNC(G20*C20,0) -> #REF! | I20: VAT 별도
F21: =H21 -> #REF! | H21: =H20*0.1 -> #REF! | I21: VAT

Sheet 일위대가목록
A1: 일위대가목록
A2: 공 종 명 | B2: 규 격 | C2: 수 량 | D2: 단 위 | E2: 합 계 | F2: 재 료 비 | G2: 노 무 비 | H2: 경 비 | I2: 비 고 | T2: 재료비 | U2: 노무비 | V2: 경 비 | W2: 합 계 | Y2: 비교검토
A3: #1 폐기물 운반(폐콘크리트) | B3: 덤프 24ton | C3: 1 | D3: ㎥ | E3: =F3+G3+H3 -> 11310 | F3: 2716 | G3: 5091 | H3: 3503 | K3: SA02200 | L3: F | W3: 11310 | Y3: =EXACT($E3,$W3) -> TRUE
A4: #2 폐기물 운반(폐아스콘) | B4: 덤프 24ton | C4: 1 | D4: ㎥ | E4: =F4+G4+H4 -> 11480 | F4: 2775 | G4: 5157 | H4: 3548 | K4: SA02300 | L4: F | W4: 11480 | Y4: =EXACT($E4,$W4) -> TRUE
A5: #3 폐기물 운반(혼합폐기물) | B5: 덤프 24ton | C5: 1 | D5: ㎥ | E5: =F5+G5+H5 -> 7533 | F5: 1389 | G5: 3640 | H5: 2504 | K5: SA02400 | L5: F | W5: 7533 | Y5: =EXACT($E5,$W5) -> TRUE
A6: #4 폐기물 운반(건설폐재류) | B6: 덤프 24ton | C6: 1 | D6: ㎥ | E6: =F6+G6+H6 -> 10644 | F6: 2481 | G6: 4836 | H6: 3327 | K6: SA02500 | L6: F | W6: 10644 | Y6: =EXACT($E6,$W6) -> TRUE

Sheet 일위대가_호표
A1: 일위대가_호표
A2: 공 종 명 | B2: 규 격 | C2: 수량 | D2: 단위 | E2: 합 계 | G2: 재 료 비 | I2: 노 무 비 | K2: 경 비 | M2: 비 고
E3: 단 가 | F3: 금 액 | G3: 단 가 | H3: 금 액 | I3: 단 가 | J3: 금 액 | K3: 단 가 | L3: 금 액 | S3: 할 증 | T3: 화폐변환 | U3: OP값 | V3: EQ | W3: LA | X3: MA | Y3: 금액계상

Sheet 일위대가_산근
A1: 일위대가_산근
A2: 산 출 근 거 | B2: 합 계 | C2: 재 료 비 | D2: 노 무 비 | E2: 경 비 | F2: 비 고
A4: #1 폐기물 운반(폐콘크리트) | 덤프 24ton|㎥ | B4: 11310 | C4: 2716 | D4: 5091 | E4: 3503 | H4: SA02200 | K4: 1
I6: 10 | K6: F
A7: ○ 폐기물처리장 : L = 10.2 Km | K7: '○ 폐기물처리장 : 'L = 10.2 'Km'
K8: .L1=0.1, L3=0.1, L2={L}-{L1}-{L3}
A10: 1. 적재 (백호우 0.70 ㎥) - 본공사에서 계상 | K10: '1. 적재 (백호우 0.70 ㎥) - 본공사에서 계상'
A12: q0 = 0.70 , K = 0.55 , f = 1 / 1.5 =0.67 | K12: q0 = 0.70 , K = 0.55 , f = 1 / 1.5 =?
A14: E0 = 0.45 | K14: E0 = 0.45
A16: cm = 18 sec(90) | K16: cm = 18 'sec(90)'
A18: 2.운반 (덤프트럭24ton) | K18: '2.운반 (덤프트럭24ton)'
A20: 가. 덤프트럭 운반 | K20: 가. 덤프트럭 운반
A22: L1=0.1 km , L2=10 km , L3=0.1 km | K22: L1={L1}'km', L2={L2}'km', L3={L3}'km'
A23: 현장중심 ----> 현장입구 ---> 포장도 ----> 처리장 | K23: 현장중심 ----> 현장입구 ---> 포장도 ----> 처리장
A24: V1=10/15 V2=35/35 V3=10/15 | K24: 'V1=10/15 V2=35/35 V3=10/15',
A26: E = 0.9 , f = 1 / 1.5 = 0.67 | K26: E = 0.9 , f = 1 / 1.5 = ?
A28: q = 24 / 2.3 * 1.50 = 15.65 | K28: q = 24 / 2.3 * 1.50 = ?
A30: N = 15.65 / (0.70 * 0.55) =40.65 | K30: N = {q} / (0.70 * {K}) =?
... A43: (표준품셈 8-1-3 운반기계의 유류산정 기준) | K43: (표준품셈 8-1-3 운반기계의 유류산정 기준)
A45: 경 비 : 30,024/8.7 = 3,451 | B45: 3451 | E45: 3451 | F45: EQ("E00000602024000000") | K45: '경 비 : '~E00000602024000000.E~/{Q} = ?EQ+
A47: 재 료 비 : 40,484/8.7 * ((cm-t1)/cm) = 2,716 | B47: 2716 | C47: 2716 | F47: MA("E00000602024000000") | K47: '재 료 비 : '~E00000602024000000.M~/{Q} * ((cm-t1)/cm) = ?MA+
A49: 노 무 비 : 44,299/8.7 = 5,091 | B49: 5091 | D49: 5091 | F49: LA("E00000602024000000") | K49: '노 무 비 : '~E00000602024000000.L~/{Q} = ?LA+
A51: 소 계 : | B51: 11258 | C51: 2716 | D51: 5091 | E51: 3451 | K51: > '소 계 : '
A53: 2) 자동덮개 | K53: 2) 자동덮개
A55: 자동덮개 : 459 / 8.7 =52 | B55: 52 | E55: 52 | F55: EQ("E00000610024000000") | K55: '자동덮개 :' ~E00000610024000000.E~ / {q} =?eq+
A57: 소 계 : | B57: 52 | E57: 52 | K57: > '소 계 : '
A59: 계 : | B59: 11310 | C59: 2716 | D59: 5091 | E59: 3503 | K59: >>' 계 : '
A63: 전체 합계 | B63: 11310 | C63: 2716 | D63: 5091 | E63: 3503
A65: #2 폐기물 운반(폐아스콘) | 덤프 24ton|㎥ | B65: 11480 | C65: 2775 | D65: 5157 | E65: 3548 | H65: SA02300 | K65: 1
I67: 10 | K67: F
A68: <공통품셈 9-8 덤프트럭> | K68: <공통품셈 9-8 덤프트럭>
A70: ○ 처리장 : L = 10.2 Km | K70: '○ 처리장 : 'L = 10.2 'Km'
K71: .L1=0.1, L3=0.1, L2={L}-{L1}-{L3}
A73: 1. 적재 (백호우 0.70 ㎥) - 본공사에서 계상 | K73: '1. 적재 (백호우 0.70 ㎥) - 본공사에서 계상'
A75: q0 = 0.70 , K = 0.55 , f = 1 / 1.5 =0.67 | K75: q0 = 0.70 , K = 0.55 , f = 1 / 1.5 =?
A77: E0 = 0.45 | K77: E0 = 0.45
A79: cm = 18 sec(90) | K79: cm = 18 'sec(90)'
A81: 2.운반 (덤프트럭24ton) | K81: '2.운반 (덤프트럭24ton)'
A83: 가. 덤프트럭 운반 | K83: 가. 덤프트럭 운반
A85: L1=0.1 km , L2=10 km , L3=0.1 km | K85: L1={L1}'km', L2={L2}'km', L3={L3}'km'
A86: 현장중심 ----> 현장입구 ---> 포장도 ----> 처리장 | K86: 현장중심 ----> 현장입구 ---> 포장도 ----> 처리장
A87: V1=10/15 V2=35/35 V3=10/15 | K87: 'V1=10/15 V2=35/35 V3=10/15',
A89: E = 0.9 , f = 0.67 | K89: E = 0.9 , f = 0.67
A91: q = 24 / 2.35 * 1.50 = 15.32 | K91: q = 24 / 2.35 * 1.50 = ?
A93: N = 15.32 / (0.70 * 0.55) =39.79 | K93: N = {q} / (0.70 * {K}) =?
... A106: (표준품셈 8-1-3 운반기계의 유류산정 기준) | K106: (표준품셈 8-1-3 운반기계의 유류산정 기준)
A108: 경 비 : 30,024/8.59 = 3,495 | B108: 3495 | E108: 3495 | F108: EQ("E00000602024000000") | K108: '경 비 : '~E00000602024000000.E~/{Q} = ?EQ+
A110: 재 료 비 : 40,484/8.59 * ((cm-t1)/cm) = 2,775 | B110: 2775 | C110: 2775 | F110: MA("E00000602024000000") | K110: '재 료 비 : '~E00000602024000000.M~/{Q} * ((cm-t1)/cm) = ?MA+
A112: 노 무 비 : 44,299/8.59 = 5,157 | B112: 5157 | D112: 5157 | F112: LA("E00000602024000000") | K112: '노 무 비 : '~E00000602024000000.L~/{Q} = ?LA+
A114: 소 계 : | B114: 11427 | C114: 2775 | D114: 5157 | E114: 3495 | K114: > '소 계 : '
A116: 2) 자동덮개 | K116: 2) 자동덮개
A118: 자동덮개 : 459 / 8.59 =53 | B118: 53 | E118: 53 | F118: EQ("E00000610024000000") | K118: '자동덮개 :' ~E00000610024000000.E~ / {q} =?eq+
A120: 소 계 : | B120: 53 | E120: 53 | K120: > '소 계 : '
A122: 계 : | B122: 11480 | C122: 2775 | D122: 5157 | E122: 3548 | K122: >>' 계 : '
A126: 전체 합계 | B126: 11480 | C126: 2775 | D126: 5157 | E126: 3548
A128: #3 폐기물 운반(혼합폐기물) | 덤프 24ton|㎥ | B128: 7533 | C128: 1389 | D128: 3640 | E128: 2504 | H128: SA02400 | K128: 1
I130: 10 | K130: F
A131: <공통품셈 9-8 덤프트럭> | K131: <공통품셈 9-8 덤프트럭>
A133: ○ 처리장 : L = 10.2 Km | K133: '○ 처리장 : 'L = 10.2 'Km'
K134: .L1=0.1, L3=0.1, L2={L}-{L1}-{L3}
A136: 1. 적재 (백호우 0.70 ㎥) - 본공사에서 계상 | K136: '1. 적재 (백호우 0.70 ㎥) - 본공사에서 계상'
A138: q0 = 0.70 , K = 0.55 , f = 1 / 1.5 =0.67 | K138: q0 = 0.70 , K = 0.55 , f = 1 / 1.5 =?
A140: E0 = 0.45 | K140: E0 = 0.45
A142: cm = 18 sec(90) | K142: cm = 18 'sec(90)'
A144: 2.운반 (덤프트럭24ton) | K144: '2.운반 (덤프트럭24ton)'
A146: 가. 덤프트럭 운반 | K146: 가. 덤프트럭 운반
A148: L1=0.1 km , L2=10 km , L3=0.1 km | K148: L1={L1}'km', L2={L2}'km', L3={L3}'km'
A149: 현장중심 ----> 현장입구 ---> 포장도 ----> 처리장 | K149: 현장중심 ----> 현장입구 ---> 포장도 ----> 처리장
A150: V1=10/15 V2=35/35 V3=10/15 | K150: 'V1=10/15 V2=35/35 V3=10/15',
A152: E = 0.9 , f = 0.67 | K152: E = 0.9 , f = 0.67
A154: q = 24 / 1 * 1.275 = 30.60 | K154: q = 24 / 1 * 1.275 = ?
A156: N = 30.6 / (0.70 * 0.55) =79.48 | K156: N = {q} / (0.70 * {K}) =?
... A169: (표준품셈 8-1-3 운반기계의 유류산정 기준) | K169: (표준품셈 8-1-3 운반기계의 유류산정 기준)
A171: 경 비 : 30,024/12.17 = 2,467 | B171: 2467 | E171: 2467 | F171: EQ("E00000602024000000") | K171: '경 비 : '~E00000602024000000.E~/{Q} = ?EQ+
A173: 재 료 비 : 40,484/12.17 * ((cm-t1)/cm) = 1,389 | B173: 1389 | C173: 1389 | F173: MA("E00000602024000000") | K173: '재 료 비 : '~E00000602024000000.M~/{Q} * ((cm-t1)/cm) = ?MA+
A175: 노 무 비 : 44,299/12.17 = 3,640 | B175: 3640 | D175: 3640 | F175: LA("E00000602024000000") | K175: '노 무 비 : '~E00000602024000000.L~/{Q} = ?LA+
A177: 소 계 : | B177: 7496 | C177: 1389 | D177: 3640 | E177: 2467 | K177: > '소 계 : '
A179: 2) 자동덮개 | K179: 2) 자동덮개
A181: 자동덮개 : 459 / 12.17 =37 | B181: 37 | E181: 37 | F181: EQ("E00000610024000000") | K181: '자동덮개 :' ~E00000610024000000.E~ / {q} =?eq+
A183: 소 계 : | B183: 37 | E183: 37 | K183: > '소 계 : '
A185: 계 : | B185: 7533 | C185: 1389 | D185: 3640 | E185: 2504 | K185: >>' 계 : '
A189: 전체 합계 | B189: 7533 | C189: 1389 | D189: 3640 | E189: 2504
A191: #4 폐기물 운반(건설폐재류) | 덤프 24ton|㎥ | B191: 10644 | C191: 2481 | D191: 4836 | E191: 3327 | H191: SA02500 | K191: 1
I193: 10 | K193: F
A194: <공통품셈 9-8 덤프트럭> | K194: <공통품셈 9-8 덤프트럭>
A196: ○ 처리장 : L = 10.2 Km | K196: '○ 처리장 : 'L = 10.2 'Km'
K197: .L1=0.1, L3=0.1, L2={L}-{L1}-{L3}
A199: 1. 적재 (백호우 0.70 ㎥) - 본공사에서 계상 | K199: '1. 적재 (백호우 0.70 ㎥) - 본공사에서 계상'
A201: q0 = 0.70 , K = 0.55 , f = 1 / 1.5 =0.67 | K201: q0 = 0.70 , K = 0.55 , f = 1 / 1.5 =?
A203: E0 = 0.45 | K203: E0 = 0.45
A205: cm = 18 sec(90) | K205: cm = 18 'sec(90)'
A207: 2.운반 (덤프트럭24ton) | K207: '2.운반 (덤프트럭24ton)'
A209: 가. 덤프트럭 운반 | K209: 가. 덤프트럭 운반
A211: L1=0.1 km , L2=10 km , L3=0.1 km | K211: L1={L1}'km', L2={L2}'km', L3={L3}'km'
A212: 현장중심 ----> 현장입구 ---> 포장도 ----> 처리장 | K212: 현장중심 ----> 현장입구 ---> 포장도 ----> 처리장
A213: V1=10/15 V2=35/35 V3=10/15 | K213: 'V1=10/15 V2=35/35 V3=10/15',
A215: E = 0.9 , f = 0.67 | K215: E = 0.9 , f = 0.67
A217: q = 24 / 1.4 * 1 = 17.14 | K217: q = 24 / 1.4 * 1 = ?
A219: N = 17.14 / (0.70 * 0.55) =44.52 | K219: N = {q} / (0.70 * {K}) =?
... A232: (표준품셈 8-1-3 운반기계의 유류산정 기준) | K232: (표준품셈 8-1-3 운반기계의 유류산정 기준)
...

Sheet 중기사용료목록
A1: 중기사용료목록
A2: 공 종 명 | B2: 규 격 | C2: 수 량 | D2: 단 위 | E2: 재 료 비 | F2: 노 무 비 | G2: 경 비 | H2: 합 계 | I2: 비 고
A3: 덤프트럭 | B3: 24 Ton | C3: 1 | D3: HR | E3: 40484 | F3: 44299 | G3: 30024 | H3: =E3+F3+G3 -> 114807 | K3: E00000602024000000
A4: 덤프트럭 자동덮개시설 | B4: 24 Ton | C4: 1 | D4: HR | E4: 0 | F4: 0 | G4: 459 | H4: =E4+F4+G4 -> 459 | K4: E00000610024000000

Sheet 중기사용료
A1: 중기사용료
A3: 중 기 명 | B3: 덤프트럭 24 Ton | J3: E00000602024000000
A4: 중기가격 | B4: 134,700 천원
A5: 명 칭 | C5: 규 격 | D5: 수 량 | E5: 단 위 | F5: 단 가 | G5: 금 액 | H5: 비 고
A6: 경 비 | B6: 덤프트럭 | C6: 24 Ton | D6: =(900 + 650 + 679)*10^-4 -> 0.2229 | E6: 천원 | F6: =중기기초자료!F4 -> 134700 | G6: =TRUNC(F6*D6, 1) -> 30024.6 | K6: 10 | M6: G0000060202400000 | N6: .sang=900, jung=650, kwan=679 | AG6: =HYPERLINK("#중기기초자료!A4","G0000060202400000 →") -> G0000060202400000 →
B7: 소 계 | G7: =TRUNC(G6, 0) -> 30024
A8: 재 료 비 | B8: 경 유 | D8: 23 | E8: L | F8: =중기기초자료!D8 -> 1275.5 | G8: =TRUNC(F8*D8, 1) -> 29336.5 | K8: 30 | M8: M1510150520282163 | AG8: =HYPERLINK("#중기기초자료!A8","M1510150520282163 →") -> M1510150520282163 →
B9: 잡 품 | D9: 38 | E9: % | F9: 0 | G9: =TRUNC((G8) * D9/100, 1) -> 11147.8 | K9: 40 | M9: F/M1
B10: 소 계 | G10: =TRUNC(G8+G9, 0) -> 40484
A11: 노 무 비

Sheet 중기기초자료
A1: 중기기초자료
A2: 명 칭 | B2: 규 격 | C2: 단 위 | D2: 재 료 비 | E2: 노 무 비 | F2: 경 비 | G2: 합 계 | H2: 비 고
A3: 덤프트럭 | B3: 15 Ton | C3: 천원 | D3: 0 | E3: 0 | F3: 82425 | G3: 82425 | J3: G0000060201500000
A4: 덤프트럭 | B4: 24 Ton | C4: 천원 | D4: 0 | E4: 0 | F4: 134700 | G4: 134700 | J4: G0000060202400000
A5: 덤프트럭 자동덮개시설 | B5: 15 Ton | C5: 천원 | D5: 0 | E5: 0 | F5: 1475 | G5: 1475 | J5: G0000061001500000
A6: 덤프트럭 자동덮개시설 | B6: 24 Ton | C6: 천원 | D6: 0 | E6: 0 | F6: 1712 | G6: 1712 | J6: G0000061002400000
A7: 건설기계운전사 | B7: 일반공사 직종 | C7: 인 | D7: 0 | E7: 212637 | F7: 0 | G7: 212637 | J7: L001010101000048
A8: 경 유 | B8: 저유황 | C8: L | D8: 1275.5 | E8: 0 | F8: 0 | G8: 1275.5 | J8: M1510150520282163

Sheet 노임
A1: 노임
A2: 명 칭 | B2: 규 격 | C2: 단 위 | D2: 단 가 | E2: 비 고

Sheet 자재조서
A1: 자재조서
A2: 코 드 | B2: 명 칭 | C2: 규 격 | D2: 단위 | E2: 적용단가 | F2: 가격정보 | H2: 물가정보 | J2: 물가자료 | L2: 견적단가 | U2: 202105
F3: 단가 | G3: Page | H3: 단가 | I3: Page | J3: 단가 | K3: Page | L3: 단가 | M3: Page | U3: 1
U4: 0
U11: 0
U12: 0
U13: 0
U14: 0
U15: 0
U16: 0
U21: 가격정보
U22: 물가정보
U23: 물가자료
U24: 견적단가
U31: 0
... U36: 0

Sheet 재해예방기술지도비용
B2: 건설공사 재해예방 기술지도 비용
B4: 1. 근거 : 산업안전보건법 제73조(건설공사의 산업재해 예방 지도)
B6: 2. 대상 : 공사금액 1억 이상 ~ 120억 미만(토목 150억)
B8: 3. 계약시기 : 본공사 착공 전일까지 계약 체결
B10: 4. 지도횟수: 월 2회
B12: 5. 기술지도 1회당 단가("적정 계약금액에 관한 정책연구" 적용)
B14: 공종 | C14: 순공사비(천원) | D14: 관급자재대(천원) | E14: 공사금액(천원) | F14: 횟수 | G14: 단가(원) | H14: 재해예방 기술지도 비용(원) | I14: 비고
B15: 토목,건축,기계
B16: 전기 | C16: 570515 | D16: 0 | E16: =C16+D16 -> 570515 | F16: ='산출내역(지도횟수)'!B24 -> 23 | G16: ='단가 산정표'!E17 -> 340269.6 | H16: =ROUNDDOWN(F16*G16,-3) -> 7826000
B17: 계 | H17: =H15+H16 -> 7826000
F19: 48 | G19: 374000 | H19: =F19*G19 -> 17952000
F20: 24 | G20: 528000 | H20: =F20*G20 -> 12672000
B21: 건설공사 재해예방기술지도 단가 산정표
B23: □ 기술지도 1인당 일 방문 현장 수 & 직접 인건비 (금액단위: 원)
B24: 항목 | D24: 3억원 미만 | E24: 3억원 이상 ~20억원 미만 | F24: 20억원 이상 ~40억원 미만 | G24: 40억원 이상 | H24: 비고
B25: 기술자 노임단가 (한국엔지니어링협회 임금실태조사, 2022) | D25: 261571 | E25: 261571 | F25: 282545 | G25: =Y21 -> 0 | H25: ▷3억미만:중급 ▷3~20억:중급 ▷20~40억:고급 ▷40억 이상: (고급7회+기술사1회)/8
B26: 일 기술지도 현장 수 | D26: 4개 (=80개소 /20일) | E26: 3.00 (=60개소 /20일) | F26: 2.50 (=50개소 /20일) | G26: 2.00 (=40개소 /20일) | H26: ▷월 최대 80개소 ▷일 최대 4개소
B27: 1회당 직접인건비 | D27: =D25/4 -> 65392.75 | E27: =E25/3 -> 87190.333 | F27: =F25/2.5 -> 113018 | G27: =G25/2 -> 0
B29: □ 기술지도 1회당 단가 (금액단위: 원)
B30: 항목 | D30: 3억원 미만 | E30: 3억원 이상 ~20억원 미만 | F30: 20억원 이상 ~40억원 미만 | G30: 40억원 이상 | H30: 비고
B31: 1) 직접인건비 | D31: =D27 -> 65392.75 | E31: =E27 -> 87190.333 | F31: =F27 -> 113018 | G31: =G27 -> 0
B32: 2) 직접경비 | D32: 30000 | E32: 30000 | F32: 30000 | G32: 30000 | H32: 여비 등
B33: 3) 제경비 (직접인건비의 110~120%) | D33: =D31*1.15 -> 75201.662 | E33: =E31*1.15 -> 100268.88 | F33: =F31*1.15 -> 129970.7 | G33: =G31*1.15 -> 0 | H33: 1.15
B34: 4) 기술료 (직접인건비+제경비 합의 20~40%) | D34: =(D31+D33)*0.3 -> 42178.324 | E34: =(E31+E33)*0.3 -> 56237.765 | F34: =(F31+F33)*0.3 -> 72896.61 | G34: =(G31+G33)*0.3 -> 0 | H34: 0.3
B35: 5) 합계 (1)+2)+3)+4)) | D35: =INT(SUM(D31:D34))-2772 -> 210000 | E35: =INT(SUM(E31:E34))-3696 -> 270000 | F35: =INT(SUM(F31:F34))-5885 -> 340000 | G35: =INT(SUM(G31:G34))-1041 -> 28959 | H35: 만원이하 절삭
B36: 6) 부가가치세 ( 5)*10%) | D36: =D35*0.1 -> 21000 | E36: =E35*0.1 -> 27000 | F36: =F35*0.1 -> 34000 | G36: =G35*0.1 -> 2895.9
B37: 적용단가( 5)+6) ) | D37: =INT(D35+D36) -> 231000 | E37: =E35+E36 -> 297000 | F37: =F35+F36 -> 374000 | G37: =G35+G36 -> 31854.9
B39: # (참고) 계약기간별 단가표 (금액단위: 원)
B40: 항목 | D40: 3억원 미만 | E40: 3억원 이상 ~20억원 미만 | F40: 20억원 이상 ~40억원 미만 | G40: 40억원 이상 | H40: 비고
B41: 회당단가(1회 기준) | D41: =D37 -> 231000 | E41: =E37 -> 297000 | F41: =F37 -> 374000 | G41: =G37 -> 31854.9
B42: 월별단가(2회 기준) | D42: =D41*2 -> 462000 | E42: =E41*2 -> 594000 | F42: =F41*2 -> 748000 | G42: =G41*2 -> 63709.8
B43: 연간단가(24회 기준) | D43: =D42*12 -> 5544000 | E43: =E42*12 -> 7128000 | F43: =F42*12 -> 8976000 | G43: =G42*12 -> 764517.6

Sheet 산출내역(지도횟수)
A1: ※ 기술지도 산출내역
A2: 산 출 근 거 | B2: 지도횟수(회) | C2: 비 고
E3: 구분 | F3: 1월 | G3: 2월 | H3: 3월 | I3: 4월 | J3: 5월 | K3: 6월 | L3: 7월 | M3: 8월 | N3: 9월 | O3: 10월 | P3: 11월 | Q3: 12월 | R3: 계(일)
A4: ■ 2026년 | E4: 2026년 | F4: 0 | G4: 0 | H4: 0 | I4: 0 | J4: 0 | K4: 0 | L4: 0 | M4: 31 | N4: 30 | O4: 31 | P4: 30 | Q4: 10 | R4: =SUM(F4:Q4) -> 132
A5: 1월 ~ 12월 준공 | E5: 2027년 | F5: 0 | G5: 0 | H5: 31 | I5: 30 | J5: 31 | K5: 0 | L5: 0 | M5: 31 | N5: 30 | O5: 31 | P5: 30 | Q5: 25 | R5: =SUM(F5:Q5) -> 239
A6: =132일 ÷ 15 | B6: 8 | R6: =SUM(F6:Q6) -> 0
R7: =SUM(F7:Q7) -> 0
A8: ■ 2027년 | R8: =SUM(F8:Q8) -> 0
A9: 1월 ~ 12월 준공 | E9: 계(일) | F9: =SUM(F4:F8) -> 0 | G9: =SUM(G4:G8) -> 0 | H9: =SUM(H4:H8) -> 31 | I9: =SUM(I4:I8) -> 30 | J9: =SUM(J4:J8) -> 31 | K9: =SUM(K4:K8) -> 0 | L9: =SUM(L4:L8) -> 0 | M9: =SUM(M4:M8) -> 62 | ... Q9: =SUM(Q4:Q8) -> 35 | R9: =SUM(F9:Q9) -> 371
A10: =239일 ÷ 15 | B10: 15 | E10: ※ 실제 보호해야 할 근로자가 존재하지 않는 기간 및 공사중지, 영농기 공사 휴지기간 제외 가능
A17: 2월 착공 예정 ~ 12월 준공예정
A18: 365일 ÷ 15 | B18: =ROUNDDOWN(R7/15,0) -> 0
A20: ■ 2026년
A21: 2월 착공 예정 ~ 12월 준공예정
A22: 365일 ÷ 15 | B22: =ROUNDDOWN(R8/15,0) -> 0
A24: [ 합 계 ] : | B24: =+B6+B10+B14 -> 23 | C24: 소수점이하 절사

Sheet 단가 산정표
B1: 건설공사 재해예방기술지도 단가 산정표
B3: □ 기술지도 1인당 일 방문 현장 수 & 직접 인건비 (금액단위: 원)
B4: 항목 | D4: 3억원 미만 | E4: 3억원 이상 ~20억원 미만 | F4: 20억원 이상 ~40억원 미만 | G4: 40억원 이상 | H4: 비고
B5: 기술자 노임단가 (한국엔지니어링협회 임금실태조사, 2025) | D5: 300452 | E5: 300452 | F5: 311965 | G5: =(311965*7+461459)/8 -> 330651.75 | H5: ▷3억미만:중급 ▷3~20억:중급 ▷20~40억:고급 ▷40억 이상: (고급7회+기술사1회)/8
B6: 일 기술지도 현장 수 | D6: 4개 (=80개소 /20일) | E6: 3.00 (=60개소 /20일) | F6: 2.50 (=50개소 /20일) | G6: 2.00 (=40개소 /20일) | H6: ▷월 최대 80개소 ▷일 최대 4개소
B7: 1회당 직접인건비 | D7: =D5/4 -> 75113 | E7: =E5/3 -> 100150.67 | F7: =F5/2.5 -> 124786 | G7: =G5/2 -> 165325.88
B9: □ 기술지도 1회당 단가 (금액단위: 원)
B10: 항목 | D10: 3억원 미만 | E10: 3억원 이상 ~20억원 미만 | F10: 20억원 이상 ~40억원 미만 | G10: 40억원 이상 | H10: 비고
B11: 1) 직접인건비 | D11: =D7 -> 75113 | E11: =E7 -> 100150.67 | F11: =F7 -> 124786 | G11: =G7 -> 165325.88
B12: 2) 직접경비 | D12: 30000 | E12: 30000 | F12: 30000 | G12: 30000 | H12: 여비 등
B13: 3) 제경비 (직접인건비의 110~120%) | D13: =D11*1.15 -> 86379.95 | E13: =E11*1.15 -> 115173.27 | F13: =F11*1.15 -> 143503.9 | G13: =G11*1.15 -> 190124.76 | H13: 1.15
B14: 4) 기술료 (직접인건비+제경비 합의 20~40%) | D14: =(D11+D13)*0.3 -> 48447.885 | E14: =(E11+E13)*0.3 -> 64597.18 | F14: =(F11+F13)*0.3 -> 80486.97 | G14: =(G11+G13)*0.3 -> 106635.19 | H14: 0.3
B15: 5) 합계 (1)+2)+3)+4)) | D15: =INT(SUM(D11:D14))-439 -> 239501 | E15: =INT(SUM(E11:E14))-585 -> 309336 | F15: =INT(SUM(F11:F14))-438 -> 378338 | G15: =INT(SUM(G11:G14)) -> 492085 | H15: 만원이하 절삭
B16: 6) 부가가치세 ( 5)*10%) | D16: =D15*0.1 -> 23950.1 | E16: =E15*0.1 -> 30933.6 | F16: =F15*0.1 -> 37833.8 | G16: =G15*0.1 -> 49208.5 | H16: 0.1
B17: 적용단가( 5)+6) ) | D17: =D15+D16 -> 263451.1 | E17: =E15+E16 -> 340269.6 | F17: =F15+F16 -> 416171.8 | G17: =G15+G16 -> 541293.5
B19: # (참고) 계약기간별 단가표 (금액단위: 원)
B20: 항목 | D20: 3억원 미만 | E20: 3억원 이상 ~20억원 미만 | F20: 20억원 이상 ~40억원 미만 | G20: 40억원 이상 | H20: 비고
B21: 회당단가(1회 기준) | D21: =D17 -> 263451.1 | E21: =E17 -> 340269.6 | F21: =F17 -> 416171.8 | G21: =G17 -> 541293.5
B22: 월별단가(2회 기준) | D22: =D21*2 -> 526902.2 | E22: =E21*2 -> 680539.2 | F22: =F21*2 -> 832343.6 | G22: =G21*2 -> 1082587
B23: 연간단가(24회 기준) | D23: =D22*12 -> 6322826.4 | E23: =E22*12 -> 8166470.4 | F23: =F22*12 -> 9988123.2 | G23: =G22*12 -> 12991044
