Workbook

Sheet 설명서및일반시방서
A2: 설 계 설 명 서
B4: 1. 공사명 : 2026년 하반기 도로시설물 정비 연간단가(포장)
B6: 2. 사업량 : 아스팔트덧씌우기 등 40종
B8: 3. 위 치 : 관 내
B10: 4. 목 적 : 본 공사는 도로노면 파손으로 인한 민원사항 발생시 신속히 정비하여 시민불편을 최소화하고 도로시설물을 안전하게 정비하고자 함
B12: 5. 본 공사의 공사기간은 착공일로부터 2026.12.31일까지로 한다. 단, 천재지변 등으로 지연되는 기간은 그 기간만큼 연기조치할 수 있음.
B14: 6. 적용규정
B15: 가. 토목공사 일반 표준시방서
B16: 나. 철근콘크리트 표준시방서
B17: 다. 건설공사 관계법령 및 규정
B18: 라. 한국공업규격
B19: 마. 도로설계기준 및 도로공사 표준시방서
B21: 7. 본 공사의 설계변경 조건은 다음과 같다
... B37: 가. 본 공사의 준공 후 또는 공사 중 공사전반에 걸쳐 공사 설계 및 공사시공 감독의 확인 검사 시 지적사항이 발견될 시는 급자 부담으로 실액 변상 또는 재시공한다.
A42: 일 반 시 방 서
B44: 1. 현장확인
B45: 도급자는 공사, 착공과 동시에 본 설계도서 내용과 현장 확인하여 이상유무를 즉시 보고 후 감독관의 지시에 따라 시공하여야 함
B47: 2. 공사의 착수
B48: 도급자는 공사 착수 전에 다음사항을 구비하여야 한다.
B49: 가. 현장대리인 지정
B50: 현장대리인은 본 공사수행에 필요한 제반지식과 충분한 경험이 있는 자로서 법에 명시한 적법한 면허소지자로 한다.
B51: 나. 기술자 확보
B52: 공사현장에 본 공사에 적합한 기술자가 상주하게 한다.
B53: 다. 자료 제출
B54: 도급자는 공사 착수 전에 착공계, 현장대리인계, 공사 도급내역서, 예정공정 및 기타 당시 규정에 의한 제반서류를 제출하여야 하며 산업안전보건법 제48조에 의한 유해 방지계획을 작성 비치하여야 한다.
B56: 3. 사전검토
B57: 도급자는 공사 전에 반드시 모든 구조물의 안전여부를 검토하여 감독관의 승인을 득한 후 공사에 착수하여야 한다.
... B93: ○ 도급자는 공사기간 중 현장을 철저히 정리 시공하여야 한다.

Sheet 내역서
A1: 내 역 서
A2: 공 종 명 | B2: 규 격 | C2: 수량 | D2: 단위 | E2: 합 계 | G2: 재 료 비 | I2: 노 무 비 | K2: 경 비 | M2: 비 고
E3: 단 가 | F3: 금 액 | G3: 단 가 | H3: 금 액 | I3: 단 가 | J3: 금 액 | K3: 단 가 | L3: 금 액 | T3: 화폐변환 | U3: OP값 | V3: EQ | W3: LA | X3: MA | Y3: 금액계상
A4: ▧ 2026년 하반기 도로시설물 정비 연간단가(포장) ▧ | C4: 0
A5: 1. 배 수 공 | C5: 1 | D5: 식 | BI5: =HYPERLINK("#내역서!A34","A010 →") -> A010 →
A6: 2. 포 장 공 | C6: 1 | D6: 식 | BI6: =HYPERLINK("#내역서!A38","A020 →") -> A020 →
A7: 3. 철 거 공 | C7: 1 | D7: 식 | BI7: =HYPERLINK("#내역서!A65","A030 →") -> A030 →
A8: 4. 부 대 공 | C8: 1 | D8: 식 | BI8: =HYPERLINK("#내역서!A72","A040 →") -> A040 →
A9: 5. 사 급 자 재 대 | C9: 1 | D9: 식 | AA9: MA+ = | AB9: =(내역서!H5+내역서!H6+내역서!H7+내역서!H8+내역서!H9) -> 0 | AC9: MA = | AD9: =$AB9 -> 0 | BI9: =HYPERLINK("#내역서!A93","A050 →") -> A050 →
A10: 직 접 공 사 비 | X10: .MA=MA(10,0,60)_x000D_ .LA=LA(10,0,60)_x000D_ .EQ=EQ(10,0,60)_x000D_ | AA10: LA+ = | AB10: =(내역서!J5+내역서!J6+내역서!J7+내역서!J8+내역서!J9) -> 0 | AC10: LA = | AD10: =$AB10 -> 0
AA11: LA+ = | AB11: =TRUNC(내역서!J10*(19.1/100),0) -> 0 | AC11: LA = | AD11: =$AB11 -> 0
A12: 6. 간 접 노 무 비 | B12: (직노) x 19.10% | C12: 1 | D12: 식 | X12: .LA=CUT(LA(70)*(19.10/100),0)_x000D_ | AA12: EQ+ = | AB12: =TRUNC(내역서!J10*(3.595/100),0) -> 0 | AC12: EQ = | AD12: =$AB12 -> 0
A13: 7. 건 강 보 험 료 | B13: (직노) x 3.595% | C13: 1 | D13: 식 | X13: .EQ=CUT(LA(70)*(3.595/100),0)_x000D_ | AA13: EQ+ = | AB13: =TRUNC(내역서!J10*(4.75/100),0) -> 0 | AC13: EQ = | AD13: =$AB13 -> 0
A14: 8. 연 금 보 험 료 | B14: (직노) x 4.75% | C14: 1 | D14: 식 | X14: .EQ=CUT(LA(70)*(4.75/100),0)_x000D_ | AA14: EQ+ = | AB14: =TRUNC(내역서!J10*(2.3/100),0) -> 0 | AC14: EQ = | AD14: =$AB14 -> 0
A15: 9. 퇴직공제부금비 | B15: (직노) x 2.30% | C15: 1 | D15: 식 | X15: .EQ=CUT(LA(70)*(2.30/100),0)_x000D_ | AA15: EQ+ = | AB15: =TRUNC((내역서!H13+내역서!J13+내역서!L13)*(13.14/100),0) -> 0 | AC15: EQ = | AD15: =$AB15 -> 0
A16: 10. 노인요양보험료 | B16: (건보) x 13.14% | C16: 1 | D16: 식 | X16: .EQ=CUT(TOT(100)*(13.14/100),0)_x000D_ | AA16: EQ+ = | AB16: =TRUNC((내역서!J10+(내역서!H12+내역서!J12+내역서!L12))*(3.56/100),0) -> 0 | AC16: EQ = | AD16: =$AB16 -> 0
A17: 11. 산 재 보 험 료 | B17: (직노+간노) x 3.56% | C17: 1 | D17: 식 | X17: .EQ=CUT((LA(70)+TOT(90))*(3.56/100),0)_x000D_ | AA17: EQ+ = | AB17: =TRUNC((내역서!J10+(내역서!H12+내역서!J12+내역서!L12))*(1.01/100),0) -> 0 | AC17: EQ = | AD17: =$AB17 -> 0
A18: 12. 고 용 보 험 료 | B18: (직노+간노) x 1.01% | C18: 1 | D18: 식 | X18: .EQ=CUT((LA(70)+TOT(90))*(1.01/100),0)_x000D_ | AA18: A+ = | AB18: =TRUNC(((내역서!H10+내역서!J10)*3.15/100+0)*1.2,0) -> 0 | AC18: A = | AD18: =$AB18 -> 0 | AE18: 18_1_1+ = | AF18: =TRUNC(((내역서!H10+내역서!J10)*3.15/100+0)*1.2,0) -> 0 | AG18: 18_1_1 = | AH18: =$AF18 -> 0
A19: 13. 산 업 안 전 보 관 리 비 | B19: ((재료비+직노)x3.15%)x1.20 | C19: 1 | D19: 식 | X19: A=CUT(((MA(70)+LA(70))*3.15/100+0)*1.20,0)=?_x000D_ B=CUT(((MA(70)+LA(70)+~A060~/1.10)*3.15/100+0),0)=?_x000D_ C=MIN({A},{B})=?EQ+_x000D_ | AA19: EQ+ = | AB19: =TRUNC((내역서!H10+내역서!J10+(내역서!H12+내역서!J12+내역서!L12+F31))*(3.15/100),0) -> 0 | AC19: EQ = | AD19: =$AB19 -> 0 | AE19: 19_1_1+ = | AF19: =TRUNC(((내역서!H10+내역서!J10+0/1.1)*3.15/100+0),0) -> 0 | AG19: 19_1_1 = | AH19: =$AF19 -> 0
A20: 14. 기 타 경 비 | B20: (재료비+직노+간노) x 5.5% | C20: 1 | D20: 식 | X20: .EQ=CUT((MA(70)+LA(70)+TOT(90))*(5.50/100),0)_x000D_ | AA20: EQ+ = | AB20: =TRUNC((H10+J10)*(3.15/100)*1.2,0) -> 0 | AC20: EQ = | AD20: =$AB20 -> 0 | AE20: 20_1_2+ = | AF20: =$AD19 -> 0 | AG20: 20_1_2 = | AH20: =$AF20 -> 0 | AI20: C+ = | AJ20: =TRUNC(MIN($AD20,$AH20),0) -> 0 | AK20: C = | AL20: =$AJ20 -> 0 | AM20: EQ+ = | AN20: =$AL20 -> 0 | AO20: EQ = | AP20: =$AN20 -> 0
A21: 15. 환 경 보 전 비 | B21: (재료비+직노+산경) x 0.90% | C21: 1 | D21: 식 | X21: .EQ=CUT((MA(70)+LA(70)+EQ(70))*(0.90/100),0)_x000D_ | AA21: EQ+ = | AB21: =TRUNC((내역서!H10+내역서!J10+내역서!L10)*(0.4/100),0) -> 0 | AC21: EQ = | AD21: =$AB21 -> 0
A22: 16. 건설기계대여금수수료 | B22: (재료비+직노+산경) x 0.68% | C22: 1 | D22: 식 | X22: .EQ=CUT((MA(70)+LA(70)+EQ(70))*(0.40/100),0)_x000D_ | AA22: EQ+ = | AB22: =TRUNC((내역서!J10+내역서!J12)*(0.006/100),0) -> 0 | AC22: EQ = | AD22: =$AB22 -> 0
A23: 17.석면부담 | B23: (직노+간노) x 0.006% | C23: 1 | D23: 식 | X23: .EQ=CUT((LA(70)+LA(90))*(0.006/100),0)_x000D_ | AA23: EQ+ = | AB23: =TRUNC((내역서!J10+내역서!J12)*(0.09/100),0) -> 0 | AC23: EQ = | AD23: =$AB23 -> 0
A24: 18.임금채권부담 | B24: (직노+간노) x 0.09% | C24: 1 | D24: 식 | X24: .EQ=CUT((LA(70)+LA(90))*(0.09/100),0) | AA24: EQ+ = | AB24: =((내역서!H10+내역서!J10+내역서!L10)+(내역서!H12+내역서!J12+내역서!L12)+(내역서!H13+내역서!J13+내역서!L13)+(내역서!H14+내역서!J14+내역서!L14)+(내역서!H15+내역서!J15+내역서!L15)+(내역서!H16+내역서!J16+내역서!L16)+(내역서!H17+내역서!J17+내역서!L17)+(내역서!H18+내역서!J18+내역서!L18)+(내역서!H19+내역서!J19+내역서!L19)+(내역서!H20+내역서!J20+내역서!L20)+(내역서!H21+내역서!J21+내역서!L21)+(내역서!H22+내역서!J22+내역서!L22)+(내역서!H23+내역서!J23+내역서!L23)+(내역서!H24+내역서!J24+내역서!L24)) -> 0 | AC24: EQ = | AD24: =$AB24 -> 0
A25: 순 공 사 원 가 | X25: .EQ=TOT(70,0,205)_x000D_ | AA25: EQ+ = | AB25: =TRUNC((내역서!H25+내역서!J25+내역서!L25)*(8/100),0) -> 0 | AC25: EQ = | AD25: =$AB25 -> 0
A26: 17. 일 반 관 리 비 | B26: (순공사원가) x 8.00% | C26: 1 | D26: 식 | X26: .EQ=CUT(TOT(210)*(8.00/100),0)_x000D_ | AA26: EQ+ = | AB26: =TRUNC((내역서!J10+내역서!L10+((내역서!H12+내역서!J12+내역서!L12)+(내역서!H13+내역서!J13+내역서!L13)+(내역서!H14+내역서!J14+내역서!L14)+(내역서!H15+내역서!J15+내역서!L15)+(내역서!H16+내역서!J16+내역서!L16)+(내역서!H17+내역서!J17+내역서!L17)+(내역서!H18+내역서!J18+내역서!L18)+(내역서!H19+내역서!J19+내역서!L19)+(내역서!H20+내역서!J20+내역서!L20)+(내역서!H21+내역서!J21+내역서!L21)+(내역서!H22+내역서!J22+내역서!L22)+(내역서!H23+내역서!J23+내역서!L23))+(내역서!H26+내역서!J26+내역서!L26))*(15/100),0)-690 -> -690 | AC26: EQ = | AD26: =$AB26 -> -690
A27: 18. 이 윤 | B27: (노무비+총경비+일관) x 15.00% | C27: 1 | D27: 식 | X27: .EQ=CUT((LA(70)+EQ(70)+TOT(90,0,200)+TOT(220))*(15.00/100),0)-690_x000D_ | AA27: EQ+ = | AB27: =((내역서!H25+내역서!J25+내역서!L25)+(내역서!H26+내역서!J26+내역서!L26)+(내역서!H27+내역서!J27+내역서!L27)) -> 0 | AC27: EQ = | AD27: =$AB27 -> 0
A28: 총 공 사 원 가 | X28: .EQ=TOT(210,0,230)_x000D_ | AA28: EQ+ = | AB28: =TRUNC(((내역서!H28+내역서!J28+내역서!L28))*(10/100),0) -> 0 | AC28: EQ = | AD28: =$AB28 -> 0
A29: 19. 부 가 가 치 세 | B29: (총공사원가) x 10.00% | C29: 1 | D29: 식 | X29: .EQ=CUT((TOT(240))*(10.00/100),0)_x000D_ | AA29: EQ+ = | AB29: =((내역서!H28+내역서!J28+내역서!L28)+(내역서!H29+내역서!J29+내역서!L29)) -> 0 | AC29: EQ = | AD29: =$AB29 -> 0
A30: 도 급 금 액 | X30: .EQ=TOT(240,0,250)_x000D_
A31: 20. 관 급 자 재 대 | C31: 1 | D31: 식 | AA31: EQ+ = | AB31: =((내역서!H30+내역서!J30+내역서!L30)+(내역서!H31+내역서!J31+내역서!L31)) -> 0 | AC31: EQ = | AD31: =$AB31 -> 0 | BI31: =HYPERLINK("#내역서!A100","A060 →") -> A060 →
A32: 총 공 사 비 | X32: .EQ=TOT(260,0,270)_x000D_
A34: 1. 배 수 공 | C34: 1 | D34: 식
A35: 1). 맨홀
A36: 맨홀보수(하수도) | B36: Ø 648, H=50mm | C36: 5 | D36: 개소 | T36: F | BI36: =HYPERLINK("#일위대가목록!A3","SE09900 →") -> SE09900 →
A38: 2. 포 장 공 | C38: 1 | D38: 식
A39: 1). 아스팔트포장
A40: 아스팔트 덧씌우기 | B40: t=70㎜ 이하(소규모 포장) | C40: 250 | D40: ㎡ | T40: F | BI40: =HYPERLINK("#일위대가목록!A4","SE04600 →") -> SE04600 →
A41: 아스팔트 포장 절삭 후 아스팔트덧 씌우기 | B41: t=70㎜ 이하(1회절삭,1회포장), A-Type | C41: 220 | D41: ㎡ | T41: F | BI41: =HYPERLINK("#일위대가목록!A5","SE04200 →") -> SE04200 →
A42: 아스팔트 포장 절삭 후 아스팔트덧 씌우기 | B42: t=70㎜ 이하(1회절삭,1회포장), B-Type | C42: 220 | D42: ㎡ | T42: F | BI42: =HYPERLINK("#일위대가목록!A6","SE04300 →") -> SE04300 →
...

Sheet 전역변수
A1: 전역변수
A2: 변 수 명 | B2: 형 식 | C2: 값 | D2: 비 고 | E2: 적용단위

Sheet 중기전역변수
A1: 중기전역변수
A2: 변 수 명 | B2: 형 식 | C2: 값 | D2: 비 고
A3: QCODE | B3: 문자 | C3: 100000000001
A4: QUS2WON | B4: 숫자 | C4: 1507 | D4: 환율(장비가격10만불이하)
A5: QUS2WON1 | B5: 숫자 | C5: 1507 | D5: 환율(장비가격10만불이상)
A6: QYEN2WON | B6: 숫자 | C6: 0 | D6: 환율(엔화)
A7: QDM2WON | B7: 숫자 | C7: 0 | D7: 환율(마르크화)
A8: QSDR2WON | B8: 숫자 | C8: 0 | D8: 환율(IMF특별인출권)
A9: QECU2WON | B9: 숫자 | C9: 0 | D9: 환율(유로화)
A10: QEQTY1 | B10: 문자 | C10: (SANG + JUNG + KWAN)*10^-4 | D10: 중기주간경비산출계수
A11: QEQTY2 | B11: 문자 | C11: (SANG + JUNG + KWAN)*10^-4 | D11: 중기야간경비산출계수
A12: QEQTY3 | B12: 문자 | C12: (SANG + JUNG + int(KWAN/3))*10^-4 | D12: 중기주야간경비산출계수
A13: QEINC2 | B13: 숫자 | C13: 1.25 | D13: 중기야간할증계수
A14: QEINC3 | B14: 숫자 | C14: 1.071 | D14: 중기주야간할증계수
A15: QDECPEQ | B15: 문자 | C15: 0 | D15: 경비단가소숫점
A16: QDECCEQ | B16: 문자 | C16: 0 | D16: 경비금액소숫점
A17: QDECEQ | B17: 문자 | C17: 0 | D17: 경비계금액소숫점
A18: QH1 | B18: 문자 | C18: =25/20 * 16/12 * 1/8 -> 0.20833333 | D18: 시간당노임산출계수(일반구간)
A19: QH2 | B19: 문자 | C19: =25/20 * 16/12 * 1/8 -> 0.20833333 | D19: 시간당노임산출계수(터널구간)
A20: QH21 | B20: 문자 | C20: =25/20 * 16/12 * 1/8 -> 0.20833333 | D20: 시간당노임산출계수(장대터널)
A21: QH31 | B21: 문자 | C21: =25/20 * 16/12 * 1/8 -> 0.20833333 | D21: 시간당노임산출계수(해상장비:펌프준설선)
A22: QH32 | B22: 문자 | C22: =25/20 * 16/12 * 1/8 -> 0.20833333 | D22: 시간당노임산출계수(해상장비:GRAB준설선)
A23: QH33 | B23: 문자 | C23: =25/20 * 16/12 * 1/8 -> 0.20833333 | D23: 시간당노임산출계수(해상장비:버켓준설선)
A24: QLINC1 | B24: 숫자 | C24: 1 | D24: 노임할증계수(일반구간:주간)
A25: QLINC2 | B25: 숫자 | C25: 1.875 | D25: 노임할증계수(일반구간:야간)
A26: QLINC3 | B26: 숫자 | C26: 1.25 | D26: 노임할증계수(일반구간:주야간)
A27: QLINCA | B27: 숫자 | C27: 1 | D27: 노임할증계수(터널구간:주간)
A28: QLINCB | B28: 숫자 | C28: 1.875 | D28: 노임할증계수(터널구간:야간)
A29: QLINCC | B29: 숫자 | C29: 1.25 | D29: 노임할증계수(터널구간:주야간)
A30: QLINCD | B30: 숫자 | C30: 1 | D30: 노임할증계수(장대터널:주간)
A31: QLINCE | B31: 숫자 | C31: 1.875 | D31: 노임할증계수(장대터널:야간)
A32: QLINCF | B32: 숫자 | C32: 1.25 | D32: 노임할증계수(장대터널:주야간)
A33: QLINCX | B33: 숫자 | C33: 1 | D33: 노임할증계수(해상장비:주간)
A34: QLINCY | B34: 숫자 | C34: 1 | D34: 노임할증계수(해상장비:야간)
A35: QLINCZ | B35: 숫자 | C35: 1 | D35: 노임할증계수(해상장비:주야간)
A36: QDECPLA | B36: 문자 | C36: 0 | D36: 노임단가소숫점
A37: QDECCLA | B37: 문자 | C37: 0 | D37: 노임금액소숫점
A38: QDECLA | B38: 문자 | C38: 0 | D38: 노임계금액소숫점
A39: QMINC2 | B39: 숫자 | C39: 1.25 | D39: 재료비할증계수(야간)
A40: QMINC3 | B40: 숫자 | C40: 1.071 | D40: 재료비할증계수(주야간)
...

Sheet Sheet3
