Workbook

Sheet 원가계산서
B1: 원가 계산서
B2: 공사명 : 식물병해충연구동리모델링공사설계용역 | G2: ="금액: "&NUMBERSTRING(H2,1) & "원" -> #REF! | H2: =F34 -> #REF!
B3: 비 목 | E3: 적용 요율 | F3: 금 액 | G3: 구 성 비 | H3: 비 고 | J3: 1차공사분 | K3: 2차공사분 | L3: 합계
A4: A1 | B4: 순 공 사 원 가 | C4: 재 료 비 | D4: 직 접 재 료 비 | F4: =공종별집계표!F5 -> #REF! | I4: 353583968 | J4: =#REF! -> #REF! | K4: =[1]원가계산서!$E$4 -> 70249030 | L4: =SUM(J4:K4) -> #REF!
A5: A2 | D5: 간 접 재 료 비 | J5: =#REF! -> #REF! | K5: =[1]원가계산서!$E$5 -> #REF! | L5: =SUM(J5:K5) -> #REF!
A6: A3 | D6: 작업설, 부산물(△) | J6: =#REF! -> #REF! | K6: =[1]원가계산서!$E$6 -> #REF! | L6: =SUM(J6:K6) -> #REF!
A7: AS | D7: [ 소 계 ] | F7: =F4-F6 -> #REF! | I7: 353583968 | J7: =#REF! -> #REF! | K7: =[1]원가계산서!$E$7 -> 70249030 | L7: =SUM(J7:K7) -> #REF!
A8: B1 | C8: 노 무 비 | D8: 직 접 노 무 비 | F8: =공종별집계표!H5 -> #REF! | I8: 106089272 | J8: =#REF! -> #REF! | K8: =[1]원가계산서!$E$8 -> 21460239 | L8: =SUM(J8:K8) -> #REF!
A9: B2 | D9: 간 접 노 무 비 | E9: 17.5 | F9: =TRUNC(F8*E9/100, 0) -> #REF! | G9: =E9 -> 17.5 | I9: 9972391 | J9: =#REF! -> #REF! | K9: =[1]원가계산서!$E$9 -> 2017262 | L9: =SUM(J9:K9) -> #REF!
A10: BS | D10: [ 소 계 ] | F10: =TRUNC(F8+F9, 0) -> #REF! | I10: 116061663 | J10: =#REF! -> #REF! | K10: =[1]원가계산서!$E$10 -> 23477501 | L10: =SUM(J10:K10) -> #REF!
A11: C2 | C11: 경 비 | D11: 기 계 경 비 | F11: =공종별집계표!J5 -> #REF! | I11: 256932 | J11: =#REF! -> #REF! | K11: =[1]원가계산서!$E$11 -> 0 | L11: =SUM(J11:K11) -> #REF!
A12: C4 | D12: 산 재 보 험 료 | E12: 3.56 | F12: =TRUNC(F10*E12%, 0) -> #REF! | G12: =E12 -> 3.56 | I12: 4178219 | J12: =#REF! -> #REF! | K12: =[1]원가계산서!$E$12 -> 845190 | L12: =SUM(J12:K12) -> #REF!
A13: C5 | D13: 고 용 보 험 료 | E13: 1.01 | F13: =TRUNC(F10*E13%, 0) -> #REF! | G13: =E13 -> 1.01 | I13: 916887 | J13: =#REF! -> #REF! | K13: =[1]원가계산서!$E$13 -> 185472 | L13: =SUM(J13:K13) -> #REF!
A14: C6 | D14: 국민 건강 보험료 | E14: 3.595 | F14: =TRUNC(F8*E14%, 0) -> #REF! | G14: =E14 -> 3.595 | I14: 1803517 | J14: =#REF! -> #REF! | K14: =[1]원가계산서!$E$14 -> 364824 | L14: =SUM(J14:K14) -> #REF!
A15: C7 | D15: 국민 연금 보험료 | E15: 4.75 | F15: =TRUNC(F8*E15%, 0) -> #REF! | G15: =E15 -> 4.75 | I15: 2641622 | J15: =#REF! -> #REF! | K15: =[1]원가계산서!$E$15 -> 534359 | L15: =SUM(J15:K15) -> #REF!
A16: CB | D16: 노인장기요양보험료 | E16: 13.14 | F16: =TRUNC(F14*E16%, 0) -> #REF! | G16: =E16 -> 13.14 | I16: 118130 | J16: =#REF! -> #REF! | K16: =[1]원가계산서!$E$16 -> 23895 | L16: =SUM(J16:K16) -> #REF!
D17: 퇴직 공제 부금비 | E17: 2.3 | F17: =TRUNC(F8*E17%, 0) -> #REF! | G17: =E17 -> 2.3
D18: 석 면 분 담 금 | E18: 0.006 | F18: =TRUNC(F8*E18%, 0) -> #REF! | G18: =E18 -> 0.006
A19: C8 | D19: 임 금 채 권 부 담 금 | E19: 0.09 | F19: =TRUNC(F8*E19%, 0) -> #REF! | G19: =E19 -> 0.09 | I19: 2440053 | J19: =#REF! -> #REF! | K19: =[1]원가계산서!$E$17 -> 493585 | L19: =SUM(J19:K19) -> #REF!
A20: CA | D20: 산업안전보건관리비 | E20: 3.11 | F20: =TRUNC(((F4+F8))*E20%,0) -> #REF! | G20: =E20 -> 3.11 | I20: 11614085 | J20: =#REF! -> #REF! | K20: =[1]원가계산서!$E$18 -> 1659937 | L20: =SUM(J20:K20) -> #REF!
A21: CC | D21: 환 경 보 전 비 | E21: 0.5 | F21: =INT(F7+F8+F11)*E21% -> #REF! | G21: =E21 -> 0.5 | I21: 1751778 | J21: =#REF! -> #REF! | K21: =[1]원가계산서!$E$19 -> 349599 | L21: =SUM(J21:K21) -> #REF!
A22: CG | D22: 기 타 경 비 | E22: 5 | F22: =TRUNC((F7+F10)*E22%, 0) -> #REF! | G22: =E22 -> 5 | I22: 26896605 | J22: =#REF! -> #REF! | K22: =[1]원가계산서!$E$21 -> 5367718 | L22: =SUM(J22:K22) -> #REF!
A23: CG | D23: 하도급지급보증수수료 | E23: 0.081 | F23: =TRUNC((F7+F8+F11)*E23%, 0) -> #REF! | G23: =E23 -> 0.081 | I23: 26896605 | J23: =#REF! -> #REF! | K23: =[1]원가계산서!$E$21 -> 5367718 | L23: =SUM(J23:K23) -> #REF!
A24: CG | D24: 건설기계대여금 지금보증서 발급수수료 | E24: 0.1 | F24: =TRUNC((F7+F8+F11)*E24%, 0) -> #REF! | G24: =E24 -> 0.1 | I24: 26896605 | J24: =#REF! -> #REF! | K24: =[1]원가계산서!$E$21 -> 5367718 | L24: =SUM(J24:K24) -> #REF!
A25: CS | D25: [ 소 계 ] | F25: =TRUNC(F11+F12+F13+F14+F15+F19+F20+F16+F21+F22+F23+F24+F17+F18, 0) -> #REF! | I25: 52617828 | J25: =#REF! -> #REF! | K25: =[1]원가계산서!$E$22 -> 9824579 | L25: =SUM(J25:K25) -> #REF!
A26: S1 | B26: 계 | F26: =TRUNC(F7+F10+F25, 0) -> #REF! | I26: 522263459 | J26: =#REF! -> #REF! | K26: =[1]원가계산서!$E$23 -> 103551110 | L26: =SUM(J26:K26) -> #REF!
A27: D1 | B27: 일 반 관 리 비 | E27: 8 | F27: =TRUNC(F26*E27%, 0) -> #REF! | G27: =E27 -> 8 | I27: 26113172 | J27: =#REF! -> #REF! | K27: =[1]원가계산서!$E$24 -> 5177555 | L27: =SUM(J27:K27) -> #REF!
A28: D2 | B28: 이 윤 | E28: 15 | F28: =INT(F10+F25+F27)*E28%-995/1.101 -> #REF! | G28: =E28 -> 15 | I28: 29218824 | J28: =#REF! -> #REF! | K28: =[1]원가계산서!$E$25 -> 5772244 | L28: =SUM(J28:K28) -> #REF!
A30: D9 | B30: 공 급 가 액 | F30: =TRUNC(F26+F27+F28+F29, 0) -> #REF! | I30: 577595455 | J30: =#REF! -> #REF! | K30: =[1]원가계산서!$E$26 -> 114500909 | L30: =SUM(J30:K30) -> #REF!
A31: DB | B31: 부 가 가 치 세 | E31: 10 | F31: =F30*0.1 -> #REF! | G31: =E31 -> 10 | I31: 57759545 | J31: =#REF! -> #REF! | K31: =[1]원가계산서!$E$27 -> 11450091 | L31: =SUM(J31:K31) -> #REF!
A32: DH | B32: 도 급 액 | F32: =F30+F31 -> #REF! | I32: 635355000 | J32: =#REF! -> #REF! | K32: =[1]원가계산서!$E$28 -> 125951000 | L32: =SUM(J32:K32) -> #REF!
A34: S2 | B34: 총 공 사 비 | F34: =F32+F33 -> #REF! | J34: =#REF! -> #REF! | K34: =[1]원가계산서!$E$29 -> 125951000 | L34: =SUM(J34:K34) -> #REF!

Sheet 공종별집계표
A1: 공 종 별 집 계 표
A2: [ 식물병해충연구동리모델링공사설계용역 ]
A3: 품 명 | B3: 규 격 | C3: 단위 | D3: 수량 | E3: 재 료 비 | G3: 노 무 비 | I3: 경 비 | K3: 합 계 | M3: 비 고 | N3: 공종코드 | O3: 변수 | P3: 상위공종 | Q3: 공종구분 | R3: 공종레벨 | S3: 공종소계 | T3: 원가계산서 연결금액
E4: 단 가 | F4: 금 액 | G4: 단 가 | H4: 금 액 | I4: 단 가 | J4: 금 액 | K4: 단 가 | L4: 금 액
A5: 식물병해충연구동리모델링공사설계용역 | D5: 1 | E5: =F6 -> #REF! | F5: =E5*D5 -> #REF! | G5: =H6 -> #REF! | H5: =G5*D5 -> #REF! | I5: =J6 -> #REF! | J5: =I5*D5 -> #REF! | K5: =E5+G5+I5 -> #REF! | L5: =F5+H5+J5 -> #REF! | N5: 01 | R5: 1
A6: 1.기계설비공사 | D6: 1 | E6: =F7+F8+F9+F10+F11+F12+F13 -> #REF! | F6: =E6*D6 -> #REF! | G6: =H7+H8+H9+H10+H11+H12+H13 -> #REF! | H6: =G6*D6 -> #REF! | I6: =J7+J8+J9+J10+J11+J12+J13 -> #REF! | J6: =I6*D6 -> #REF! | K6: =E6+G6+I6 -> #REF! | L6: =F6+H6+J6 -> #REF! | N6: 0101 | P6: 01 | R6: 2
A7: 1-1.장비 설치공사 | D7: 1 | E7: =공종별내역서!F27 -> #REF! | F7: =E7*D7 -> #REF! | G7: =공종별내역서!H27 -> #REF! | H7: =G7*D7 -> #REF! | I7: =공종별내역서!J27 -> #REF! | J7: =I7*D7 -> #REF! | K7: =E7+G7+I7 -> #REF! | L7: =F7+H7+J7 -> #REF! | N7: 010101 | P7: 0101 | R7: 3
A8: 1-2.위생기구 설치공사 | D8: 1 | E8: =공종별내역서!F51 -> #REF! | F8: =E8*D8 -> #REF! | G8: =공종별내역서!H51 -> #REF! | H8: =G8*D8 -> #REF! | I8: =공종별내역서!J51 -> #REF! | J8: =I8*D8 -> #REF! | K8: =E8+G8+I8 -> #REF! | L8: =F8+H8+J8 -> #REF! | N8: 010102 | P8: 0101 | R8: 3
A9: 1-3.위생배관 설치공사 | D9: 1 | E9: =공종별내역서!F75 -> #REF! | F9: =E9*D9 -> #REF! | G9: =공종별내역서!H75 -> #REF! | H9: =G9*D9 -> #REF! | I9: =공종별내역서!J75 -> #REF! | J9: =I9*D9 -> #REF! | K9: =E9+G9+I9 -> #REF! | L9: =F9+H9+J9 -> #REF! | N9: 010103 | P9: 0101 | R9: 3
A10: 1-4.항온항습기배관 설치공사 | D10: 1 | E10: =공종별내역서!F99 -> #REF! | F10: =E10*D10 -> #REF! | G10: =공종별내역서!H99 -> #REF! | H10: =G10*D10 -> #REF! | I10: =공종별내역서!J99 -> #REF! | J10: =I10*D10 -> #REF! | K10: =E10+G10+I10 -> #REF! | L10: =F10+H10+J10 -> #REF! | N10: 010104 | P10: 0101 | R10: 3
A11: 1-5.환기배관 설치공사 | D11: 1 | E11: =공종별내역서!F123 -> #REF! | F11: =E11*D11 -> #REF! | G11: =공종별내역서!H123 -> #REF! | H11: =G11*D11 -> #REF! | I11: =공종별내역서!J123 -> #REF! | J11: =I11*D11 -> #REF! | K11: =E11+G11+I11 -> #REF! | L11: =F11+H11+J11 -> #REF! | N11: 010105 | P11: 0101 | R11: 3
A12: 1-6.냉방기 설치공사 | D12: 1 | E12: =공종별내역서!F147 -> #REF! | F12: =E12*D12 -> #REF! | G12: =공종별내역서!H147 -> #REF! | H12: =G12*D12 -> #REF! | I12: =공종별내역서!J147 -> #REF! | J12: =I12*D12 -> #REF! | K12: =E12+G12+I12 -> #REF! | L12: =F12+H12+J12 -> #REF! | N12: 010106 | P12: 0101 | R12: 3
A13: 1-7.철거 | D13: 1 | E13: =공종별내역서!F171 -> #REF! | F13: =E13*D13 -> #REF! | G13: =공종별내역서!H171 -> #REF! | H13: =G13*D13 -> #REF! | I13: =공종별내역서!J171 -> #REF! | J13: =I13*D13 -> #REF! | K13: =E13+G13+I13 -> #REF! | L13: =F13+H13+J13 -> #REF! | N13: 010107 | P13: 0101 | R13: 3
A27: [ 합 계 ] | F27: =F5 -> #REF! | H27: =H5 -> #REF! | J27: =J5 -> #REF! | L27: =L5 -> #REF!

Sheet 공종별내역서
A1: [ 식물병해충연구동리모델링공사설계용역 ]
A2: 품 명 | B2: 규 격 | C2: 단위 | D2: 수량 | E2: 재 료 비 | G2: 노 무 비 | I2: 경 비 | K2: 합 계 | M2: 비 고 | N2: 품목코드 | O2: 변수 | P2: 설정 | Q2: 공종코드 | R2: 일위 | S2: 단산 | T2: 자재 | U2: 손료적용 | V2: 손료저장 | W2: 적용율 | X2: JUK1 | Y2: JUK2 | Z2: JUK3 | AA2: JUK4 | AB2: JUK5 | AC2: JUK6 | AD2: JUK7 | AE2: JUK8 | AF2: JUK9 | AG2: JUK10 | AH2: JUK11 | AI2: JUK12 | AJ2: JUK13 | AK2: JUK14 | AL2: JUK15 | AM2: JUK16 | AN2: JUK17 | AO2: JUK18 | AP2: JUK19 | AQ2: JUK20 | AR2: 자재구분 | AS2: 공종구분 | AT2: 공종레벨 | AU2: 공종+자재 | AV2: 고유번호
E3: 단 가 | F3: 금 액 | G3: 단 가 | H3: 금 액 | I3: 단 가 | J3: 금 액 | K3: 단 가 | L3: 금 액
A4: 1-1.장비 설치공사 | Q4: 010101
A5: 환풍기(벽부형) | B5: 자동개폐형, 8CMM, D200 | C5: 대 | D5: 2 | E5: =TRUNC(#REF!,0) -> #REF! | F5: =TRUNC(E5*D5, 0) -> #REF! | G5: =TRUNC(#REF!,0) -> #REF! | H5: =TRUNC(G5*D5, 0) -> #REF! | I5: =TRUNC(#REF!,0) -> #REF! | J5: =TRUNC(I5*D5, 0) -> #REF! | K5: =TRUNC(E5+G5+I5, 0) -> #REF! | L5: =TRUNC(F5+H5+J5, 0) -> #REF! | M5: 호표 1 | N5: 50BE0179447D61288B15503E3E432B | Q5: 010101 | R5: T | S5: F | T5: F | AU5: 01010150BE0179447D61288B15503E3E432B | AV5: 6
A6: 항온항습기 | B6: 항온항습기, 3RT, 공냉식, 패키지, 실외기 일체 포함(설치도) | C6: 대 | D6: 1 | E6: =TRUNC(#REF!,0) -> #REF! | F6: =TRUNC(E6*D6, 0) -> #REF! | G6: =TRUNC(#REF!,0) -> #REF! | H6: =TRUNC(G6*D6, 0) -> #REF! | I6: =TRUNC(#REF!,0) -> #REF! | J6: =TRUNC(I6*D6, 0) -> #REF! | K6: =TRUNC(E6+G6+I6, 0) -> #REF! | L6: =TRUNC(F6+H6+J6, 0) -> #REF! | N6: 5762C17D5AF5012D86268DDA5EADC7E88E7C11 | Q6: 010101 | R6: F | S6: F | T6: T | AU6: 0101015762C17D5AF5012D86268DDA5EADC7E88E7C11 | AV6: 5
Q7: 010101
Q8: 010101
Q9: 010101
Q10: 010101
Q11: 010101
Q12: 010101
Q13: 010101
Q14: 010101
Q15: 010101
Q16: 010101
Q17: 010101
Q18: 010101
... Q26: 010101
A27: [ 합 계 ] | F27: =SUMIF(Q5:Q26,"010101",F5:F26) -> #REF! | H27: =SUMIF(Q5:Q26,"010101",H5:H26) -> #REF! | J27: =SUMIF(Q5:Q26,"010101",J5:J26) -> #REF! | L27: =SUMIF(Q5:Q26,"010101",L5:L26) -> #REF! | N27: TOTAL
A28: 1-2.위생기구 설치공사 | Q28: 010102
A29: 비상샤워 | B29: 일체형비상샤워기 분사손잡이 및 긴급발판 포함 등 필요부속품 일체 | D29: 1 | E29: =TRUNC(#REF!,0) -> #REF! | F29: =TRUNC(E29*D29, 0) -> #REF! | G29: =TRUNC(#REF!,0) -> #REF! | H29: =TRUNC(G29*D29, 0) -> #REF! | I29: =TRUNC(#REF!,0) -> #REF! | J29: =TRUNC(I29*D29, 0) -> #REF! | K29: =TRUNC(E29+G29+I29, 0) -> #REF! | L29: =TRUNC(F29+H29+J29, 0) -> #REF! | M29: 호표 2 | N29: 50BE0179447D61288B15503E3E4786 | Q29: 010102 | R29: T | S29: F | T29: F | AU29: 01010250BE0179447D61288B15503E3E4786 | AV29: 13
A30: 씽크수전 | B30: 싱글레버식(절수 1등급) | C30: 개 | D30: 1 | E30: =TRUNC(#REF!,0) -> #REF! | F30: =TRUNC(E30*D30, 0) -> #REF! | G30: =TRUNC(#REF!,0) -> #REF! | H30: =TRUNC(G30*D30, 0) -> #REF! | I30: =TRUNC(#REF!,0) -> #REF! | J30: =TRUNC(I30*D30, 0) -> #REF! | K30: =TRUNC(E30+G30+I30, 0) -> #REF! | L30: =TRUNC(F30+H30+J30, 0) -> #REF! | M30: 호표 3 | N30: 50BE0179447D61288B15503E3DBC59 | Q30: 010102 | R30: T | S30: F | T30: F | AU30: 01010250BE0179447D61288B15503E3DBC59 | AV30: 10
A31: 3구수전 | B31: 실험실꼭지 3구 화학수전, 대붙이 | C31: 개 | D31: 1 | E31: =TRUNC(#REF!,0) -> #REF! | F31: =TRUNC(E31*D31, 0) -> #REF! | G31: =TRUNC(#REF!,0) -> #REF! | H31: =TRUNC(G31*D31, 0) -> #REF! | I31: =TRUNC(#REF!,0) -> #REF! | J31: =TRUNC(I31*D31, 0) -> #REF! | K31: =TRUNC(E31+G31+I31, 0) -> #REF! | L31: =TRUNC(F31+H31+J31, 0) -> #REF! | M31: 호표 4 | N31: 50BE0179447D61288B15503E3DB255 | Q31: 010102 | R31: T | S31: F | T31: F | AU31: 01010250BE0179447D61288B15503E3DB255 | AV31: 12
A32: 일반수전(청소용) | B32: 15mm, 카플링형 | C32: 개 | D32: 1 | E32: =TRUNC(#REF!,0) -> #REF! | F32: =TRUNC(E32*D32, 0) -> #REF! | G32: =TRUNC(#REF!,0) -> #REF! | H32: =TRUNC(G32*D32, 0) -> #REF! | I32: =TRUNC(#REF!,0) -> #REF! | J32: =TRUNC(I32*D32, 0) -> #REF! | K32: =TRUNC(E32+G32+I32, 0) -> #REF! | L32: =TRUNC(F32+H32+J32, 0) -> #REF! | M32: 호표 5 | N32: 50BE0179447D61288B15503E3DB37C | Q32: 010102 | R32: T | S32: F | T32: F | AU32: 01010250BE0179447D61288B15503E3DB37C | AV32: 11
A33: 급수필터 | B33: 라인형 STS | C33: 개 | D33: 1 | E33: =TRUNC(#REF!,0) -> #REF! | F33: =TRUNC(E33*D33, 0) -> #REF! | G33: =TRUNC(#REF!,0) -> #REF! | H33: =TRUNC(G33*D33, 0) -> #REF! | I33: =TRUNC(#REF!,0) -> #REF! | J33: =TRUNC(I33*D33, 0) -> #REF! | K33: =TRUNC(E33+G33+I33, 0) -> #REF! | L33: =TRUNC(F33+H33+J33, 0) -> #REF! | N33: 571AB17A3C77912A88BB6E25C7BC89425F668D | Q33: 010102 | R33: F | S33: F | T33: T | AU33: 010102571AB17A3C77912A88BB6E25C7BC89425F668D | AV33: 14
Q34: 010102
Q35: 010102
Q36: 010102
Q37: 010102
Q38: 010102
Q39: 010102
Q40: 010102
Q41: 010102
Q42: 010102
Q43: 010102
Q44: 010102
Q45: 010102
... Q50: 010102
A51: [ 합 계 ] | F51: =SUMIF(Q29:Q50,"010102",F29:F50) -> #REF! | H51: =SUMIF(Q29:Q50,"010102",H29:H50) -> #REF! | J51: =SUMIF(Q29:Q50,"010102",J29:J50) -> #REF! | L51: =SUMIF(Q29:Q50,"010102",L29:L50) -> #REF! | N51: TOTAL
...
