Workbook

Sheet 원가계산서
B1: 원가 계산서
B2: 공사명 : 식물병해충연구동리모델링공사설계용역 | G2: ="금액: "&NUMBERSTRING(H2,1) & "원" -> #REF! | H2: =F34 -> #REF!
B3: 비 목 | E3: 적용 요율 | F3: 금 액 | G3: 구 성 비 | H3: 비 고 | J3: 1차공사분 | K3: 2차공사분 | L3: 합계
A4: A1 | B4: 순 공 사 원 가 | C4: 재 료 비 | D4: 직 접 재 료 비 | F4: =공종별집계표!F5 -> #REF! | I4: 353583968 | J4: =#REF! -> #REF! | K4: =[1]원가계산서!$E$4 -> 70249030 | L4: =SUM(J4:K4) -> #REF!
A5: A2 | D5: 간 접 재 료 비 | J5: =#REF! -> #REF! | K5: =[1]원가계산서!$E$5 -> #REF! | L5: =SUM(J5:K5) -> #REF!
A6: A3 | D6: 작업설, 부산물(△) | J6: =#REF! -> #REF! | K6: =[1]원가계산서!$E$6 -> #REF! | L6: =SUM(J6:K6) -> #REF!
A7: AS | D7: [ 소 계 ] | F7: =F4-F6 -> #REF! | I7: 353583968 | J7: =#REF! -> #REF! | K7: =[1]원가계산서!$E$7 -> 70249030 | L7: =SUM(J7:K7) -> #REF!
A8: B1 | C8: 노 무 비 | D8: 직 접 노 무 비 | F8: =공종별집계표!H5 -> #REF! | I8: 106089272 | J8: =#REF! -> #REF! | K8: =[1]원가계산서!$E$8 -> 21460239 | L8: =SUM(J8:K8) -> #REF!
A9: B2 | D9: 간 접 노 무 비 | E9: 17.5 | F9: =TRUNC(F8*E9/100, 0) -> #REF! | G9: =E9 -> 17.5 | I9: 9972391 | J9: =#REF! -> #REF! | K9: =[1]원가계산서!$E$9 -> 2017262 | L9: =SUM(J9:K9) -> #REF!
A10: BS | D10: [ 소 계 ] | F10: =TRUNC(F8+F9, 0) -> #REF! | I10: 116061663 | J10: =#REF! -> #REF! | K10: =[1]원가계산서!$E$10 -> 23477501 | L10: =SUM(J10:K10) -> #REF!
A11: C2 | C11: 경 비 | D11: 기 계 경 비 | F11: =공종별집계표!J5 -> #REF! | I11: 256932 | J11: =#REF! -> #REF! | K11: =[1]원가계산서!$E$11 -> 0 | L11: =SUM(J11:K11) -> #REF!
A12: C4 | D12: 산 재 보 험 료 | E12: 3.56 | F12: =TRUNC(F10*E12%, 0) -> #REF! | G12: =E12 -> 3.56 | I12: 4178219 | J12: =#REF! -> #REF! | K12: =[1]원가계산서!$E$12 -> 845190 | L12: =SUM(J12:K12) -> #REF!
A13: C5 | D13: 고 용 보 험 료 | E13: 1.01 | F13: =TRUNC(F10*E13%, 0) -> #REF! | G13: =E13 -> 1.01 | I13: 916887 | J13: =#REF! -> #REF! | K13: =[1]원가계산서!$E$13 -> 185472 | L13: =SUM(J13:K13) -> #REF!
A14: C6 | D14: 국민 건강 보험료 | E14: 3.595 | F14: =TRUNC(F8*E14%, 0) -> #REF! | G14: =E14 -> 3.595 | I14: 1803517 | J14: =#REF! -> #REF! | K14: =[1]원가계산서!$E$14 -> 364824 | L14: =SUM(J14:K14) -> #REF!
A15: C7 | D15: 국민 연금 보험료 | E15: 4.75 | F15: =TRUNC(F8*E15%, 0) -> #REF! | G15: =E15 -> 4.75 | I15: 2641622 | J15: =#REF! -> #REF! | K15: =[1]원가계산서!$E$15 -> 534359 | L15: =SUM(J15:K15) -> #REF!
A16: CB | D16: 노인장기요양보험료 | E16: 13.14 | F16: =TRUNC(F14*E16%, 0) -> #REF! | G16: =E16 -> 13.14 | I16: 118130 | J16: =#REF! -> #REF! | K16: =[1]원가계산서!$E$16 -> 23895 | L16: =SUM(J16:K16) -> #REF!
D17: 퇴직 공제 부금비 | E17: 2.3 | F17: =TRUNC(F8*E17%, 0) -> #REF! | G17: =E17 -> 2.3
D18: 석 면 분 담 금 | E18: 0.006 | F18: =TRUNC(F8*E18%, 0) -> #REF! | G18: =E18 -> 0.006
A19: C8 | D19: 임 금 채 권 부 담 금 | E19: 0.09 | F19: =TRUNC(F8*E19%, 0) -> #REF! | G19: =E19 -> 0.09 | I19: 2440053 | J19: =#REF! -> #REF! | K19: =[1]원가계산서!$E$17 -> 493585 | L19: =SUM(J19:K19) -> #REF!
A20: CA | D20: 산업안전보건관리비 | E20: 3.11 | F20: =TRUNC(((F4+F8))*E20%,0) -> #REF! | G20: =E20 -> 3.11 | I20: 11614085 | J20: =#REF! -> #REF! | K20: =[1]원가계산서!$E$18 -> 1659937 | L20: =SUM(J20:K20) -> #REF!
A21: CC | D21: 환 경 보 전 비 | E21: 0.5 | F21: =INT(F7+F8+F11)*E21% -> #REF! | G21: =E21 -> 0.5 | I21: 1751778 | J21: =#REF! -> #REF! | K21: =[1]원가계산서!$E$19 -> 349599 | L21: =SUM(J21:K21) -> #REF!
A22: CG | D22: 기 타 경 비 | E22: 5 | F22: =TRUNC((F7+F10)*E22%, 0) -> #REF! | G22: =E22 -> 5 | I22: 26896605 | J22: =#REF! -> #REF! | K22: =[1]원가계산서!$E$21 -> 5367718 | L22: =SUM(J22:K22) -> #REF!
A23: CG | D23: 하도급지급보증수수료 | E23: 0.081 | F23: =TRUNC((F7+F8+F11)*E23%, 0) -> #REF! | G23: =E23 -> 0.081 | I23: 26896605 | J23: =#REF! -> #REF! | K23: =[1]원가계산서!$E$21 -> 5367718 | L23: =SUM(J23:K23) -> #REF!
A24: CG | D24: 건설기계대여금 지금보증서 발급수수료 | E24: 0.1 | F24: =TRUNC((F7+F8+F11)*E24%, 0) -> #REF! | G24: =E24 -> 0.1 | I24: 26896605 | J24: =#REF! -> #REF! | K24: =[1]원가계산서!$E$21 -> 5367718 | L24: =SUM(J24:K24) -> #REF!
A25: CS | D25: [ 소 계 ] | F25: =TRUNC(F11+F12+F13+F14+F15+F19+F20+F16+F21+F22+F23+F24+F17+F18, 0) -> #REF! | I25: 52617828 | J25: =#REF! -> #REF! | K25: =[1]원가계산서!$E$22 -> 9824579 | L25: =SUM(J25:K25) -> #REF!
A26: S1 | B26: 계 | F26: =TRUNC(F7+F10+F25, 0) -> #REF! | I26: 522263459 | J26: =#REF! -> #REF! | K26: =[1]원가계산서!$E$23 -> 103551110 | L26: =SUM(J26:K26) -> #REF!
A27: D1 | B27: 일 반 관 리 비 | E27: 8 | F27: =TRUNC(F26*E27%, 0) -> #REF! | G27: =E27 -> 8 | I27: 26113172 | J27: =#REF! -> #REF! | K27: =[1]원가계산서!$E$24 -> 5177555 | L27: =SUM(J27:K27) -> #REF!
A28: D2 | B28: 이 윤 | E28: 15 | F28: =INT(F10+F25+F27)*E28%-995/1.101 -> #REF! | G28: =E28 -> 15 | I28: 29218824 | J28: =#REF! -> #REF! | K28: =[1]원가계산서!$E$25 -> 5772244 | L28: =SUM(J28:K28) -> #REF!
A30: D9 | B30: 공 급 가 액 | F30: =TRUNC(F26+F27+F28+F29, 0) -> #REF! | I30: 577595455 | J30: =#REF! -> #REF! | K30: =[1]원가계산서!$E$26 -> 114500909 | L30: =SUM(J30:K30) -> #REF!
A31: DB | B31: 부 가 가 치 세 | E31: 10 | F31: =F30*0.1 -> #REF! | G31: =E31 -> 10 | I31: 57759545 | J31: =#REF! -> #REF! | K31: =[1]원가계산서!$E$27 -> 11450091 | L31: =SUM(J31:K31) -> #REF!
A32: DH | B32: 도 급 액 | F32: =F30+F31 -> #REF! | I32: 635355000 | J32: =#REF! -> #REF! | K32: =[1]원가계산서!$E$28 -> 125951000 | L32: =SUM(J32:K32) -> #REF!
A34: S2 | B34: 총 공 사 비 | F34: =F32+F33 -> #REF! | J34: =#REF! -> #REF! | K34: =[1]원가계산서!$E$29 -> 125951000 | L34: =SUM(J34:K34) -> #REF!

Sheet 공종별집계표
A1: 공 종 별 집 계 표
A2: [ 식물병해충연구동리모델링공사설계용역 ]
A3: 품 명 | B3: 규 격 | C3: 단위 | D3: 수량 | E3: 재 료 비 | G3: 노 무 비 | I3: 경 비 | K3: 합 계 | M3: 비 고 | N3: 공종코드 | O3: 변수 | P3: 상위공종 | Q3: 공종구분 | R3: 공종레벨 | S3: 공종소계 | T3: 원가계산서 연결금액
E4: 단 가 | F4: 금 액 | G4: 단 가 | H4: 금 액 | I4: 단 가 | J4: 금 액 | K4: 단 가 | L4: 금 액
A5: 식물병해충연구동리모델링공사설계용역 | D5: 1 | E5: =F6 -> #REF! | F5: =E5*D5 -> #REF! | G5: =H6 -> #REF! | H5: =G5*D5 -> #REF! | I5: =J6 -> #REF! | J5: =I5*D5 -> #REF! | K5: =E5+G5+I5 -> #REF! | L5: =F5+H5+J5 -> #REF! | N5: 01 | R5: 1
A6: 1.기계설비공사 | D6: 1 | E6: =F7+F8+F9+F10+F11+F12+F13 -> #REF! | F6: =E6*D6 -> #REF! | G6: =H7+H8+H9+H10+H11+H12+H13 -> #REF! | H6: =G6*D6 -> #REF! | I6: =J7+J8+J9+J10+J11+J12+J13 -> #REF! | J6: =I6*D6 -> #REF! | K6: =E6+G6+I6 -> #REF! | L6: =F6+H6+J6 -> #REF! | N6: 0101 | P6: 01 | R6: 2
A7: 1-1.장비 설치공사 | D7: 1 | E7: =공종별내역서!F27 -> #REF! | F7: =E7*D7 -> #REF! | G7: =공종별내역서!H27 -> #REF! | H7: =G7*D7 -> #REF! | I7: =공종별내역서!J27 -> #REF! | J7: =I7*D7 -> #REF! | K7: =E7+G7+I7 -> #REF! | L7: =F7+H7+J7 -> #REF! | N7: 010101 | P7: 0101 | R7: 3
A8: 1-2.위생기구 설치공사 | D8: 1 | E8: =공종별내역서!F51 -> #REF! | F8: =E8*D8 -> #REF! | G8: =공종별내역서!H51 -> #REF! | H8: =G8*D8 -> #REF! | I8: =공종별내역서!J51 -> #REF! | J8: =I8*D8 -> #REF! | K8: =E8+G8+I8 -> #REF! | L8: =F8+H8+J8 -> #REF! | N8: 010102 | P8: 0101 | R8: 3
A9: 1-3.위생배관 설치공사 | D9: 1 | E9: =공종별내역서!F75 -> #REF! | F9: =E9*D9 -> #REF! | G9: =공종별내역서!H75 -> #REF! | H9: =G9*D9 -> #REF! | I9: =공종별내역서!J75 -> #REF! | J9: =I9*D9 -> #REF! | K9: =E9+G9+I9 -> #REF! | L9: =F9+H9+J9 -> #REF! | N9: 010103 | P9: 0101 | R9: 3
A10: 1-4.항온항습기배관 설치공사 | D10: 1 | E10: =공종별내역서!F99 -> #REF! | F10: =E10*D10 -> #REF! | G10: =공종별내역서!H99 -> #REF! | H10: =G10*D10 -> #REF! | I10: =공종별내역서!J99 -> #REF! | J10: =I10*D10 -> #REF! | K10: =E10+G10+I10 -> #REF! | L10: =F10+H10+J10 -> #REF! | N10: 010104 | P10: 0101 | R10: 3
A11: 1-5.환기배관 설치공사 | D11: 1 | E11: =공종별내역서!F123 -> #REF! | F11: =E11*D11 -> #REF! | G11: =공종별내역서!H123 -> #REF! | H11: =G11*D11 -> #REF! | I11: =공종별내역서!J123 -> #REF! | J11: =I11*D11 -> #REF! | K11: =E11+G11+I11 -> #REF! | L11: =F11+H11+J11 -> #REF! | N11: 010105 | P11: 0101 | R11: 3
A12: 1-6.냉방기 설치공사 | D12: 1 | E12: =공종별내역서!F147 -> #REF! | F12: =E12*D12 -> #REF! | G12: =공종별내역서!H147 -> #REF! | H12: =G12*D12 -> #REF! | I12: =공종별내역서!J147 -> #REF! | J12: =I12*D12 -> #REF! | K12: =E12+G12+I12 -> #REF! | L12: =F12+H12+J12 -> #REF! | N12: 010106 | P12: 0101 | R12: 3
A13: 1-7.철거 | D13: 1 | E13: =공종별내역서!F171 -> #REF! | F13: =E13*D13 -> #REF! | G13: =공종별내역서!H171 -> #REF! | H13: =G13*D13 -> #REF! | I13: =공종별내역서!J171 -> #REF! | J13: =I13*D13 -> #REF! | K13: =E13+G13+I13 -> #REF! | L13: =F13+H13+J13 -> #REF! | N13: 010107 | P13: 0101 | R13: 3
A27: [ 합 계 ] | F27: =F5 -> #REF! | H27: =H5 -> #REF! | J27: =J5 -> #REF! | L27: =L5 -> #REF!

Sheet 공종별내역서
A1: [ 식물병해충연구동리모델링공사설계용역 ]
A2: 품 명 | B2: 규 격 | C2: 단위 | D2: 수량 | E2: 재 료 비 | G2: 노 무 비 | I2: 경 비 | K2: 합 계 | M2: 비 고 | N2: 품목코드 | O2: 변수 | P2: 설정 | Q2: 공종코드 | R2: 일위 | S2: 단산 | T2: 자재 | U2: 손료적용 | V2: 손료저장 | W2: 적용율 | X2: JUK1 | Y2: JUK2 | Z2: JUK3 | AA2: JUK4 | AB2: JUK5 | AC2: JUK6 | AD2: JUK7 | AE2: JUK8 | AF2: JUK9 | AG2: JUK10 | AH2: JUK11 | AI2: JUK12 | AJ2: JUK13 | AK2: JUK14 | AL2: JUK15 | AM2: JUK16 | AN2: JUK17 | AO2: JUK18 | AP2: JUK19 | AQ2: JUK20 | AR2: 자재구분 | AS2: 공종구분 | AT2: 공종레벨 | AU2: 공종+자재 | AV2: 고유번호
E3: 단 가 | F3: 금 액 | G3: 단 가 | H3: 금 액 | I3: 단 가 | J3: 금 액 | K3: 단 가 | L3: 금 액
A4: 1-1.장비 설치공사 | Q4: 010101
A5: 환풍기(벽부형) | B5: 자동개폐형, 8CMM, D200 | C5: 대 | D5: 2 | E5: =TRUNC(#REF!,0) -> #REF! | F5: =TRUNC(E5*D5, 0) -> #REF! | G5: =TRUNC(#REF!,0) -> #REF! | H5: =TRUNC(G5*D5, 0) -> #REF! | I5: =TRUNC(#REF!,0) -> #REF! | J5: =TRUNC(I5*D5, 0) -> #REF! | K5: =TRUNC(E5+G5+I5, 0) -> #REF! | L5: =TRUNC(F5+H5+J5, 0) -> #REF! | M5: 호표 1 | N5: 50BE0179447D61288B15503E3E432B | Q5: 010101 | R5: T | S5: F | T5: F | AU5: 01010150BE0179447D61288B15503E3E432B | AV5: 6
A6: 항온항습기 | B6: 항온항습기, 3RT, 공냉식, 패키지, 실외기 일체 포함(설치도) | C6: 대 | D6: 1 | E6: =TRUNC(#REF!,0) -> #REF! | F6: =TRUNC(E6*D6, 0) -> #REF! | G6: =TRUNC(#REF!,0) -> #REF! | H6: =TRUNC(G6*D6, 0) -> #REF! | I6: =TRUNC(#REF!,0) -> #REF! | J6: =TRUNC(I6*D6, 0) -> #REF! | K6: =TRUNC(E6+G6+I6, 0) -> #REF! | L6: =TRUNC(F6+H6+J6, 0) -> #REF! | N6: 5762C17D5AF5012D86268DDA5EADC7E88E7C11 | Q6: 010101 | R6: F | S6: F | T6: T | AU6: 0101015762C17D5AF5012D86268DDA5EADC7E88E7C11 | AV6: 5
Q7: 010101
Q8: 010101
Q9: 010101
Q10: 010101
Q11: 010101
Q12: 010101
Q13: 010101
Q14: 010101
Q15: 010101
Q16: 010101
Q17: 010101
Q18: 010101
... Q26: 010101
A27: [ 합 계 ] | F27: =SUMIF(Q5:Q26,"010101",F5:F26) -> #REF! | H27: =SUMIF(Q5:Q26,"010101",H5:H26) -> #REF! | J27: =SUMIF(Q5:Q26,"010101",J5:J26) -> #REF! | L27: =SUMIF(Q5:Q26,"010101",L5:L26) -> #REF! | N27: TOTAL
A28: 1-2.위생기구 설치공사 | Q28: 010102
A29: 비상샤워 | B29: 일체형비상샤워기 분사손잡이 및 긴급발판 포함 등 필요부속품 일체 | D29: 1 | E29: =TRUNC(#REF!,0) -> #REF! | F29: =TRUNC(E29*D29, 0) -> #REF! | G29: =TRUNC(#REF!,0) -> #REF! | H29: =TRUNC(G29*D29, 0) -> #REF! | I29: =TRUNC(#REF!,0) -> #REF! | J29: =TRUNC(I29*D29, 0) -> #REF! | K29: =TRUNC(E29+G29+I29, 0) -> #REF! | L29: =TRUNC(F29+H29+J29, 0) -> #REF! | M29: 호표 2 | N29: 50BE0179447D61288B15503E3E4786 | Q29: 010102 | R29: T | S29: F | T29: F | AU29: 01010250BE0179447D61288B15503E3E4786 | AV29: 13
A30: 씽크수전 | B30: 싱글레버식(절수 1등급) | C30: 개 | D30: 1 | E30: =TRUNC(#REF!,0) -> #REF! | F30: =TRUNC(E30*D30, 0) -> #REF! | G30: =TRUNC(#REF!,0) -> #REF! | H30: =TRUNC(G30*D30, 0) -> #REF! | I30: =TRUNC(#REF!,0) -> #REF! | J30: =TRUNC(I30*D30, 0) -> #REF! | K30: =TRUNC(E30+G30+I30, 0) -> #REF! | L30: =TRUNC(F30+H30+J30, 0) -> #REF! | M30: 호표 3 | N30: 50BE0179447D61288B15503E3DBC59 | Q30: 010102 | R30: T | S30: F | T30: F | AU30: 01010250BE0179447D61288B15503E3DBC59 | AV30: 10
A31: 3구수전 | B31: 실험실꼭지 3구 화학수전, 대붙이 | C31: 개 | D31: 1 | E31: =TRUNC(#REF!,0) -> #REF! | F31: =TRUNC(E31*D31, 0) -> #REF! | G31: =TRUNC(#REF!,0) -> #REF! | H31: =TRUNC(G31*D31, 0) -> #REF! | I31: =TRUNC(#REF!,0) -> #REF! | J31: =TRUNC(I31*D31, 0) -> #REF! | K31: =TRUNC(E31+G31+I31, 0) -> #REF! | L31: =TRUNC(F31+H31+J31, 0) -> #REF! | M31: 호표 4 | N31: 50BE0179447D61288B15503E3DB255 | Q31: 010102 | R31: T | S31: F | T31: F | AU31: 01010250BE0179447D61288B15503E3DB255 | AV31: 12
A32: 일반수전(청소용) | B32: 15mm, 카플링형 | C32: 개 | D32: 1 | E32: =TRUNC(#REF!,0) -> #REF! | F32: =TRUNC(E32*D32, 0) -> #REF! | G32: =TRUNC(#REF!,0) -> #REF! | H32: =TRUNC(G32*D32, 0) -> #REF! | I32: =TRUNC(#REF!,0) -> #REF! | J32: =TRUNC(I32*D32, 0) -> #REF! | K32: =TRUNC(E32+G32+I32, 0) -> #REF! | L32: =TRUNC(F32+H32+J32, 0) -> #REF! | M32: 호표 5 | N32: 50BE0179447D61288B15503E3DB37C | Q32: 010102 | R32: T | S32: F | T32: F | AU32: 01010250BE0179447D61288B15503E3DB37C | AV32: 11
A33: 급수필터 | B33: 라인형 STS | C33: 개 | D33: 1 | E33: =TRUNC(#REF!,0) -> #REF! | F33: =TRUNC(E33*D33, 0) -> #REF! | G33: =TRUNC(#REF!,0) -> #REF! | H33: =TRUNC(G33*D33, 0) -> #REF! | I33: =TRUNC(#REF!,0) -> #REF! | J33: =TRUNC(I33*D33, 0) -> #REF! | K33: =TRUNC(E33+G33+I33, 0) -> #REF! | L33: =TRUNC(F33+H33+J33, 0) -> #REF! | N33: 571AB17A3C77912A88BB6E25C7BC89425F668D | Q33: 010102 | R33: F | S33: F | T33: T | AU33: 010102571AB17A3C77912A88BB6E25C7BC89425F668D | AV33: 14
Q34: 010102
Q35: 010102
Q36: 010102
Q37: 010102
Q38: 010102
Q39: 010102
Q40: 010102
Q41: 010102
Q42: 010102
Q43: 010102
Q44: 010102
Q45: 010102
... Q50: 010102
A51: [ 합 계 ] | F51: =SUMIF(Q29:Q50,"010102",F29:F50) -> #REF! | H51: =SUMIF(Q29:Q50,"010102",H29:H50) -> #REF! | J51: =SUMIF(Q29:Q50,"010102",J29:J50) -> #REF! | L51: =SUMIF(Q29:Q50,"010102",L29:L50) -> #REF! | N51: TOTAL
A52: 1-3.위생배관 설치공사 | Q52: 010103
A53: 일반배관용스테인리스강관 | B53: 일반배관용스테인리스강관, K형, ∮13mm | C53: M | D53: 26 | E53: =TRUNC(#REF!,0) -> #REF! | F53: =TRUNC(E53*D53, 0) -> #REF! | G53: =TRUNC(#REF!,0) -> #REF! | H53: =TRUNC(G53*D53, 0) -> #REF! | I53: =TRUNC(#REF!,0) -> #REF! | J53: =TRUNC(I53*D53, 0) -> #REF! | K53: =TRUNC(E53+G53+I53, 0) -> #REF! | L53: =TRUNC(F53+H53+J53, 0) -> #REF! | M53: 호표 6 | N53: 50BE0179447D61288B15503E3E4057 | Q53: 010103 | R53: T | S53: F | T53: F | AU53: 01010350BE0179447D61288B15503E3E4057 | AV53: 18
A54: 일반용경질폴리염화비닐관(접착제) | B54: 일반용경질폴리염화비닐관, ∮50mm, VG1 | C54: M | D54: 3 | E54: =TRUNC(#REF!,0) -> #REF! | F54: =TRUNC(E54*D54, 0) -> #REF! | G54: =TRUNC(#REF!,0) -> #REF! | H54: =TRUNC(G54*D54, 0) -> #REF! | I54: =TRUNC(#REF!,0) -> #REF! | J54: =TRUNC(I54*D54, 0) -> #REF! | K54: =TRUNC(E54+G54+I54, 0) -> #REF! | L54: =TRUNC(F54+H54+J54, 0) -> #REF! | M54: 호표 7 | N54: 50BE0179447D61288B15503E3E417D | Q54: 010103 | R54: T | S54: F | T54: F | AU54: 01010350BE0179447D61288B15503E3E417D | AV54: 19
A55: 일반배관용스테인리스강관관이음쇠 | B55: ∮13mm, 엘보90°, 프레스 | C55: 개 | D55: 23 | E55: =TRUNC(#REF!,0) -> #REF! | F55: =TRUNC(E55*D55, 0) -> #REF! | G55: =TRUNC(#REF!,0) -> #REF! | H55: =TRUNC(G55*D55, 0) -> #REF! | I55: =TRUNC(#REF!,0) -> #REF! | J55: =TRUNC(I55*D55, 0) -> #REF! | K55: =TRUNC(E55+G55+I55, 0) -> #REF! | L55: =TRUNC(F55+H55+J55, 0) -> #REF! | N55: 5762C17D5ABF4129899D70EB70D08203CE5550 | Q55: 010103 | R55: F | S55: F | T55: T | AU55: 0101035762C17D5ABF4129899D70EB70D08203CE5550 | AV55: 20
A56: 일반배관용스테인리스강관관이음쇠 | B56: ∮13*13mm, 티, 프레스 | C56: 개 | D56: 6 | E56: =TRUNC(#REF!,0) -> #REF! | F56: =TRUNC(E56*D56, 0) -> #REF! | G56: =TRUNC(#REF!,0) -> #REF! | H56: =TRUNC(G56*D56, 0) -> #REF! | I56: =TRUNC(#REF!,0) -> #REF! | J56: =TRUNC(I56*D56, 0) -> #REF! | K56: =TRUNC(E56+G56+I56, 0) -> #REF! | L56: =TRUNC(F56+H56+J56, 0) -> #REF! | N56: 5762C17D5ABF4129899D70EB70D0820073205E | Q56: 010103 | R56: F | S56: F | T56: T | AU56: 0101035762C17D5ABF4129899D70EB70D0820073205E | AV56: 21
A57: 일반배관용스테인리스강관관이음쇠 | B57: ∮13*12.7mm, K-유니언, 프레스 | C57: 개 | D57: 7 | E57: =TRUNC(#REF!,0) -> #REF! | F57: =TRUNC(E57*D57, 0) -> #REF! | G57: =TRUNC(#REF!,0) -> #REF! | H57: =TRUNC(G57*D57, 0) -> #REF! | I57: =TRUNC(#REF!,0) -> #REF! | J57: =TRUNC(I57*D57, 0) -> #REF! | K57: =TRUNC(E57+G57+I57, 0) -> #REF! | L57: =TRUNC(F57+H57+J57, 0) -> #REF! | N57: 5762C17D5ABF4129899D70EB70D0820076FEFD | Q57: 010103 | R57: F | S57: F | T57: T | AU57: 0101035762C17D5ABF4129899D70EB70D0820076FEFD | AV57: 22
A58: 일반배관용스테인리스강관관이음쇠 | B58: ∮13mm, 소켓, 프레스 | C58: 개 | D58: 3 | E58: =TRUNC(#REF!,0) -> #REF! | F58: =TRUNC(E58*D58, 0) -> #REF! | G58: =TRUNC(#REF!,0) -> #REF! | H58: =TRUNC(G58*D58, 0) -> #REF! | I58: =TRUNC(#REF!,0) -> #REF! | J58: =TRUNC(I58*D58, 0) -> #REF! | K58: =TRUNC(E58+G58+I58, 0) -> #REF! | L58: =TRUNC(F58+H58+J58, 0) -> #REF! | N58: 5762C17D5ABF4129899D70EB70D0820075D7D0 | Q58: 010103 | R58: F | S58: F | T58: T | AU58: 0101035762C17D5ABF4129899D70EB70D0820075D7D0 | AV58: 23
A59: 일반배관용스테인리스강관관이음쇠 | B59: ∮13*12.7mm, 숫어댑터소켓, 프레스 | C59: 개 | D59: 7 | E59: =TRUNC(#REF!,0) -> #REF! | F59: =TRUNC(E59*D59, 0) -> #REF! | G59: =TRUNC(#REF!,0) -> #REF! | H59: =TRUNC(G59*D59, 0) -> #REF! | I59: =TRUNC(#REF!,0) -> #REF! | J59: =TRUNC(I59*D59, 0) -> #REF! | K59: =TRUNC(E59+G59+I59, 0) -> #REF! | L59: =TRUNC(F59+H59+J59, 0) -> #REF! | N59: 5762C17D5ABF4129899D70EB70D0820075D14F | Q59: 010103 | R59: F | S59: F | T59: T | AU59: 0101035762C17D5ABF4129899D70EB70D0820075D14F | AV59: 24
A60: 일반배관용스테인리스강관관이음쇠 | B60: ∮13*12.7mm, 수전엘보, 프레스 | C60: 개 | D60: 5 | E60: =TRUNC(#REF!,0) -> #REF! | F60: =TRUNC(E60*D60, 0) -> #REF! | G60: =TRUNC(#REF!,0) -> #REF! | H60: =TRUNC(G60*D60, 0) -> #REF! | I60: =TRUNC(#REF!,0) -> #REF! | J60: =TRUNC(I60*D60, 0) -> #REF! | K60: =TRUNC(E60+G60+I60, 0) -> #REF! | L60: =TRUNC(F60+H60+J60, 0) -> #REF! | N60: 5762C17D5ABF4129899D70EB70D249630846DF | Q60: 010103 | R60: F | S60: F | T60: T | AU60: 0101035762C17D5ABF4129899D70EB70D249630846DF | AV60: 25
A61: 일반용경질폴리염화비닐이음관 | B61: 일반용경질폴리염화비닐이음관, ∮50mm, 90˚단곡관, (DTS) | C61: 개 | D61: 2 | E61: =TRUNC(#REF!,0) -> #REF! | F61: =TRUNC(E61*D61, 0) -> #REF! | G61: =TRUNC(#REF!,0) -> #REF! | H61: =TRUNC(G61*D61, 0) -> #REF! | I61: =TRUNC(#REF!,0) -> #REF! | J61: =TRUNC(I61*D61, 0) -> #REF! | K61: =TRUNC(E61+G61+I61, 0) -> #REF! | L61: =TRUNC(F61+H61+J61, 0) -> #REF! | N61: 5762C17D5ABF4129899C69F5DE8CED7F9E2974 | Q61: 010103 | R61: F | S61: F | T61: T | AU61: 0101035762C17D5ABF4129899C69F5DE8CED7F9E2974 | AV61: 26
A62: 일반용경질폴리염화비닐이음관 | B62: 일반용경질폴리염화비닐이음관, ∮50mm, PVC소켓, (DTS) | C62: 개 | D62: 1 | E62: =TRUNC(#REF!,0) -> #REF! | F62: =TRUNC(E62*D62, 0) -> #REF! | G62: =TRUNC(#REF!,0) -> #REF! | H62: =TRUNC(G62*D62, 0) -> #REF! | I62: =TRUNC(#REF!,0) -> #REF! | J62: =TRUNC(I62*D62, 0) -> #REF! | K62: =TRUNC(E62+G62+I62, 0) -> #REF! | L62: =TRUNC(F62+H62+J62, 0) -> #REF! | N62: 5762C17D5ABF4129899C69F5DE8CED7F9D1D9A | Q62: 010103 | R62: F | S62: F | T62: T | AU62: 0101035762C17D5ABF4129899C69F5DE8CED7F9D1D9A | AV62: 27
A63: 일반용경질폴리염화비닐이음관 | B63: 일반용경질폴리염화비닐이음관, ∮50*∮50mm, PVC YT관, DTS | C63: 개 | D63: 1 | E63: =TRUNC(#REF!,0) -> #REF! | F63: =TRUNC(E63*D63, 0) -> #REF! | G63: =TRUNC(#REF!,0) -> #REF! | H63: =TRUNC(G63*D63, 0) -> #REF! | I63: =TRUNC(#REF!,0) -> #REF! | J63: =TRUNC(I63*D63, 0) -> #REF! | K63: =TRUNC(E63+G63+I63, 0) -> #REF! | L63: =TRUNC(F63+H63+J63, 0) -> #REF! | N63: 5762C17D5ABF4129899C69F5DE8CED7EF4E26A | Q63: 010103 | R63: F | S63: F | T63: T | AU63: 0101035762C17D5ABF4129899C69F5DE8CED7EF4E26A | AV63: 28
A64: 일반용경질폴리염화비닐이음관 | B64: 일반용경질폴리염화비닐이음관, ∮75mm, PVC P트랩, (DTS) | C64: 개 | D64: 1 | E64: =TRUNC(#REF!,0) -> #REF! | F64: =TRUNC(E64*D64, 0) -> #REF! | G64: =TRUNC(#REF!,0) -> #REF! | H64: =TRUNC(G64*D64, 0) -> #REF! | I64: =TRUNC(#REF!,0) -> #REF! | J64: =TRUNC(I64*D64, 0) -> #REF! | K64: =TRUNC(E64+G64+I64, 0) -> #REF! | L64: =TRUNC(F64+H64+J64, 0) -> #REF! | N64: 5762C17D5ABF4129899C69F5DE8CED7EF58190 | Q64: 010103 | R64: F | S64: F | T64: T | AU64: 0101035762C17D5ABF4129899C69F5DE8CED7EF58190 | AV64: 29
A65: 일반용경질폴리염화비닐이음관 | B65: 일반용경질폴리염화비닐이음관, ∮50mm, 45˚단곡관, (DTS) | C65: 개 | D65: 1 | E65: =TRUNC(#REF!,0) -> #REF! | F65: =TRUNC(E65*D65, 0) -> #REF! | G65: =TRUNC(#REF!,0) -> #REF! | H65: =TRUNC(G65*D65, 0) -> #REF! | I65: =TRUNC(#REF!,0) -> #REF! | J65: =TRUNC(I65*D65, 0) -> #REF! | K65: =TRUNC(E65+G65+I65, 0) -> #REF! | L65: =TRUNC(F65+H65+J65, 0) -> #REF! | N65: 5762C17D5ABF4129899C69F5DE849E322ABBA3 | Q65: 010103 | R65: F | S65: F | T65: T | AU65: 0101035762C17D5ABF4129899C69F5DE849E322ABBA3 | AV65: 30
A66: 일반용경질폴리염화비닐이음관 | B66: 일반용경질폴리염화비닐이음관, ∮50mm, P트랩 | C66: 개 | D66: 1 | E66: =TRUNC(#REF!,0) -> #REF! | F66: =TRUNC(E66*D66, 0) -> #REF! | G66: =TRUNC(#REF!,0) -> #REF! | H66: =TRUNC(G66*D66, 0) -> #REF! | I66: =TRUNC(#REF!,0) -> #REF! | J66: =TRUNC(I66*D66, 0) -> #REF! | K66: =TRUNC(E66+G66+I66, 0) -> #REF! | L66: =TRUNC(F66+H66+J66, 0) -> #REF! | N66: 5762C17D5ABF4129899C69F5DE849E322AB1AA | Q66: 010103 | R66: F | S66: F | T66: T | AU66: 0101035762C17D5ABF4129899C69F5DE849E322AB1AA | AV66: 31
A67: 유가 | B67: STS, D75 | D67: 1 | E67: =TRUNC(#REF!,0) -> #REF! | F67: =TRUNC(E67*D67, 0) -> #REF! | G67: =TRUNC(#REF!,0) -> #REF! | H67: =TRUNC(G67*D67, 0) -> #REF! | I67: =TRUNC(#REF!,0) -> #REF! | J67: =TRUNC(I67*D67, 0) -> #REF! | K67: =TRUNC(E67+G67+I67, 0) -> #REF! | L67: =TRUNC(F67+H67+J67, 0) -> #REF! | N67: 5762C17D5ABF4129899C6F02457F4FF78C62EA | Q67: 010103 | R67: F | S67: F | T67: T | AU67: 0101035762C17D5ABF4129899C6F02457F4FF78C62EA | AV67: 33
A68: 배수용경질염화비닐이음관 | B68: 바닥배수트랩(욕실), D50 | C68: 개 | D68: 1 | E68: =TRUNC(#REF!,0) -> #REF! | F68: =TRUNC(E68*D68, 0) -> #REF! | G68: =TRUNC(#REF!,0) -> #REF! | H68: =TRUNC(G68*D68, 0) -> #REF! | I68: =TRUNC(#REF!,0) -> #REF! | J68: =TRUNC(I68*D68, 0) -> #REF! | K68: =TRUNC(E68+G68+I68, 0) -> #REF! | L68: =TRUNC(F68+H68+J68, 0) -> #REF! | M68: 호표 8 | N68: 50BE0179447D61288B15503E3E46FF | Q68: 010103 | R68: T | S68: F | T68: F | AU68: 01010350BE0179447D61288B15503E3E46FF | AV68: 32
A69: 기존벽 철거 마감 | C69: M | D69: 8 | E69: =TRUNC(#REF!,0) -> #REF! | F69: =TRUNC(E69*D69, 0) -> #REF! | G69: =TRUNC(#REF!,0) -> #REF! | H69: =TRUNC(G69*D69, 0) -> #REF! | I69: =TRUNC(#REF!,0) -> #REF! | J69: =TRUNC(I69*D69, 0) -> #REF! | K69: =TRUNC(E69+G69+I69, 0) -> #REF! | L69: =TRUNC(F69+H69+J69, 0) -> #REF! | M69: 호표 9 | N69: 50F0117A6D9BD12686BA70CF8C0E2C | Q69: 010103 | R69: T | S69: F | T69: F | AU69: 01010350F0117A6D9BD12686BA70CF8C0E2C | AV69: 34
A70: 볼밸브(스텐, 10kg) | B70: D15 | C70: 개 | D70: 1 | E70: =TRUNC(#REF!,0) -> #REF! | F70: =TRUNC(E70*D70, 0) -> #REF! | G70: =TRUNC(#REF!,0) -> #REF! | H70: =TRUNC(G70*D70, 0) -> #REF! | I70: =TRUNC(#REF!,0) -> #REF! | J70: =TRUNC(I70*D70, 0) -> #REF! | K70: =TRUNC(E70+G70+I70, 0) -> #REF! | L70: =TRUNC(F70+H70+J70, 0) -> #REF! | M70: 호표 10 | N70: 50F0317EF016A12188B9DB1C4EEC18 | Q70: 010103 | R70: T | S70: F | T70: F | AU70: 01010350F0317EF016A12188B9DB1C4EEC18 | AV70: 35
A71: 절연행가(달대볼트) | B71: D15 | C71: 개소 | D71: 6 | E71: =TRUNC(#REF!,0) -> #REF! | F71: =TRUNC(E71*D71, 0) -> #REF! | G71: =TRUNC(#REF!,0) -> #REF! | H71: =TRUNC(G71*D71, 0) -> #REF! | I71: =TRUNC(#REF!,0) -> #REF! | J71: =TRUNC(I71*D71, 0) -> #REF! | K71: =TRUNC(E71+G71+I71, 0) -> #REF! | L71: =TRUNC(F71+H71+J71, 0) -> #REF! | M71: 호표 11 | N71: 50F0D17F5012012781C85ACB23932D | Q71: 010103 | R71: T | S71: F | T71: F | AU71: 01010350F0D17F5012012781C85ACB23932D | AV71: 36
A72: 관보온(아티론)-매립 | B72: 5t*D15 | C72: M | D72: 6 | E72: =TRUNC(#REF!,0) -> #REF! | F72: =TRUNC(E72*D72, 0) -> #REF! | G72: =TRUNC(#REF!,0) -> #REF! | H72: =TRUNC(G72*D72, 0) -> #REF! | I72: =TRUNC(#REF!,0) -> #REF! | J72: =TRUNC(I72*D72, 0) -> #REF! | K72: =TRUNC(E72+G72+I72, 0) -> #REF! | L72: =TRUNC(F72+H72+J72, 0) -> #REF! | M72: 호표 12 | N72: 50F0117A27DA712B8C8E0DA6DEFEAD | Q72: 010103 | R72: T | S72: F | T72: F | AU72: 01010350F0117A27DA712B8C8E0DA6DEFEAD | AV72: 37
A73: 관보온(고무발포, 매직테프) | B73: 25t*D15 | C73: M | D73: 20 | E73: =TRUNC(#REF!,0) -> #REF! | F73: =TRUNC(E73*D73, 0) -> #REF! | G73: =TRUNC(#REF!,0) -> #REF! | H73: =TRUNC(G73*D73, 0) -> #REF! | I73: =TRUNC(#REF!,0) -> #REF! | J73: =TRUNC(I73*D73, 0) -> #REF! | K73: =TRUNC(E73+G73+I73, 0) -> #REF! | L73: =TRUNC(F73+H73+J73, 0) -> #REF! | M73: 호표 13 | N73: 50F0117A16A8212886EFB6446F3F31 | Q73: 010103 | R73: T | S73: F | T73: F | AU73: 01010350F0117A16A8212886EFB6446F3F31 | AV73: 38
Q74: 010103
A75: [ 합 계 ] | F75: =SUMIF(Q53:Q74,"010103",F53:F74) -> #REF! | H75: =SUMIF(Q53:Q74,"010103",H53:H74) -> #REF! | J75: =SUMIF(Q53:Q74,"010103",J53:J74) -> #REF! | L75: =SUMIF(Q53:Q74,"010103",L53:L74) -> #REF! | N75: TOTAL
A76: 1-4.항온항습기배관 설치공사 | Q76: 010104
A77: ㄱ형강 | B77: ㄱ형강, 등변, 25*25*3mm | C77: kg | D77: 101 | E77: =TRUNC(#REF!,0) -> #REF! | F77: =TRUNC(E77*D77, 0) -> #REF! | G77: =TRUNC(#REF!,0) -> #REF! | H77: =TRUNC(G77*D77, 0) -> #REF! | I77: =TRUNC(#REF!,0) -> #REF! | J77: =TRUNC(I77*D77, 0) -> #REF! | K77: =TRUNC(E77+G77+I77, 0) -> #REF! | L77: =TRUNC(F77+H77+J77, 0) -> #REF! | N77: 571AA179BCE4E1208C6783C773208FA4AC075C | Q77: 010104 | R77: F | S77: F | T77: T | AU77: 010104571AA179BCE4E1208C6783C773208FA4AC075C | AV77: 41
A78: 전산볼트 | B78: 전산볼트, 탄소강, M10*1000mm | C78: 개 | D78: 226 | E78: =TRUNC(#REF!,0) -> #REF! | F78: =TRUNC(E78*D78, 0) -> #REF! | G78: =TRUNC(#REF!,0) -> #REF! | H78: =TRUNC(G78*D78, 0) -> #REF! | I78: =TRUNC(#REF!,0) -> #REF! | J78: =TRUNC(I78*D78, 0) -> #REF! | K78: =TRUNC(E78+G78+I78, 0) -> #REF! | L78: =TRUNC(F78+H78+J78, 0) -> #REF! | N78: 571AB17A07400125852CDA36482910F05F835C | Q78: 010104 | R78: F | S78: F | T78: T | AU78: 010104571AB17A07400125852CDA36482910F05F835C | AV78: 42
A79: STS 밴드 | B79: D125 | C79: 개 | D79: 40 | E79: =TRUNC(#REF!,0) -> #REF! | F79: =TRUNC(E79*D79, 0) -> #REF! | G79: =TRUNC(#REF!,0) -> #REF! | H79: =TRUNC(G79*D79, 0) -> #REF! | I79: =TRUNC(#REF!,0) -> #REF! | J79: =TRUNC(I79*D79, 0) -> #REF! | K79: =TRUNC(E79+G79+I79, 0) -> #REF! | L79: =TRUNC(F79+H79+J79, 0) -> #REF! | N79: 5762C17D5ABF712687EB95C3F7FB925C1A01DB | Q79: 010104 | R79: F | S79: F | T79: T | AU79: 0101045762C17D5ABF712687EB95C3F7FB925C1A01DB | AV79: 44
A80: 디퓨저 | B80: 디퓨저, 사각, ∮125mm, 스틸 | C80: 개 | D80: 20 | E80: =TRUNC(#REF!,0) -> #REF! | F80: =TRUNC(E80*D80, 0) -> #REF! | G80: =TRUNC(#REF!,0) -> #REF! | H80: =TRUNC(G80*D80, 0) -> #REF! | I80: =TRUNC(#REF!,0) -> #REF! | J80: =TRUNC(I80*D80, 0) -> #REF! | K80: =TRUNC(E80+G80+I80, 0) -> #REF! | L80: =TRUNC(F80+H80+J80, 0) -> #REF! | M80: 호표 14 | N80: 50BE0179447D61288B15503E3E4204 | Q80: 010104 | R80: T | S80: F | T80: F | AU80: 01010450BE0179447D61288B15503E3E4204 | AV80: 43
A81: 잡철물 제작 및 설치 | B81: 현장제작 설치, 일반철재 | C81: kg | D81: 101 | E81: =TRUNC(#REF!,0) -> #REF! | F81: =TRUNC(E81*D81, 0) -> #REF! | G81: =TRUNC(#REF!,0) -> #REF! | H81: =TRUNC(G81*D81, 0) -> #REF! | I81: =TRUNC(#REF!,0) -> #REF! | J81: =TRUNC(I81*D81, 0) -> #REF! | K81: =TRUNC(E81+G81+I81, 0) -> #REF! | L81: =TRUNC(F81+H81+J81, 0) -> #REF! | M81: 호표 15 | N81: 50F0C17FBE8E5129886D63A254135F | Q81: 010104 | R81: T | S81: F | T81: F | AU81: 01010450F0C17FBE8E5129886D63A254135F | AV81: 45
A82: 녹막이 페인트칠 | B82: 철재면, 2회, 1종 | C82: M2 | D82: 9 | E82: =TRUNC(#REF!,0) -> #REF! | F82: =TRUNC(E82*D82, 0) -> #REF! | G82: =TRUNC(#REF!,0) -> #REF! | H82: =TRUNC(G82*D82, 0) -> #REF! | I82: =TRUNC(#REF!,0) -> #REF! | J82: =TRUNC(I82*D82, 0) -> #REF! | K82: =TRUNC(E82+G82+I82, 0) -> #REF! | L82: =TRUNC(F82+H82+J82, 0) -> #REF! | M82: 호표 16 | N82: 5033A1762821E1228454634B09C627 | Q82: 010104 | R82: T | S82: F | T82: F | AU82: 0101045033A1762821E1228454634B09C627 | AV82: 46
A83: 조합페인트칠 | B83: 철재면, 2회, 1급 | C83: M2 | D83: 9 | E83: =TRUNC(#REF!,0) -> #REF! | F83: =TRUNC(E83*D83, 0) -> #REF! | G83: =TRUNC(#REF!,0) -> #REF! | H83: =TRUNC(G83*D83, 0) -> #REF! | I83: =TRUNC(#REF!,0) -> #REF! | J83: =TRUNC(I83*D83, 0) -> #REF! | K83: =TRUNC(E83+G83+I83, 0) -> #REF! | L83: =TRUNC(F83+H83+J83, 0) -> #REF! | M83: 호표 17 | N83: 5033A1761FAA412386919AAC4FB741 | Q83: 010104 | R83: T | S83: F | T83: F | AU83: 0101045033A1761FAA412386919AAC4FB741 | AV83: 47
A84: 각형닥트 설치 | B84: 0.5t | C84: M2 | D84: 52 | E84: =TRUNC(#REF!,0) -> #REF! | F84: =TRUNC(E84*D84, 0) -> #REF! | G84: =TRUNC(#REF!,0) -> #REF! | H84: =TRUNC(G84*D84, 0) -> #REF! | I84: =TRUNC(#REF!,0) -> #REF! | J84: =TRUNC(I84*D84, 0) -> #REF! | K84: =TRUNC(E84+G84+I84, 0) -> #REF! | L84: =TRUNC(F84+H84+J84, 0) -> #REF! | M84: 호표 18 | N84: 50F061723A8DE12B89075FD44A3464 | Q84: 010104 | R84: T | S84: F | T84: F | AU84: 01010450F061723A8DE12B89075FD44A3464 | AV84: 48
A85: 각형닥트 설치 | B85: 0.6t | C85: M2 | D85: 44 | E85: =TRUNC(#REF!,0) -> #REF! | F85: =TRUNC(E85*D85, 0) -> #REF! | G85: =TRUNC(#REF!,0) -> #REF! | H85: =TRUNC(G85*D85, 0) -> #REF! | I85: =TRUNC(#REF!,0) -> #REF! | J85: =TRUNC(I85*D85, 0) -> #REF! | K85: =TRUNC(E85+G85+I85, 0) -> #REF! | L85: =TRUNC(F85+H85+J85, 0) -> #REF! | M85: 호표 19 | N85: 50F061723A8DE12B8A2E69BDF23758 | Q85: 010104 | R85: T | S85: F | T85: F | AU85: 01010450F061723A8DE12B8A2E69BDF23758 | AV85: 49
A86: 공조덕트(플렉시블) | B86: AL, D125 | C86: M | D86: 20 | E86: =TRUNC(#REF!,0) -> #REF! | F86: =TRUNC(E86*D86, 0) -> #REF! | G86: =TRUNC(#REF!,0) -> #REF! | H86: =TRUNC(G86*D86, 0) -> #REF! | I86: =TRUNC(#REF!,0) -> #REF! | J86: =TRUNC(I86*D86, 0) -> #REF! | K86: =TRUNC(E86+G86+I86, 0) -> #REF! | L86: =TRUNC(F86+H86+J86, 0) -> #REF! | M86: 호표 20 | N86: 50F061723AE6A12B891FF3BAF5D648 | Q86: 010104 | R86: T | S86: F | T86: F | AU86: 01010450F061723AE6A12B891FF3BAF5D648 | AV86: 50
A87: 역풍방지댐퍼(B.D.D) | B87: 500*250 | C87: EA | D87: 4 | E87: =TRUNC(#REF!,0) -> #REF! | F87: =TRUNC(E87*D87, 0) -> #REF! | G87: =TRUNC(#REF!,0) -> #REF! | H87: =TRUNC(G87*D87, 0) -> #REF! | I87: =TRUNC(#REF!,0) -> #REF! | J87: =TRUNC(I87*D87, 0) -> #REF! | K87: =TRUNC(E87+G87+I87, 0) -> #REF! | L87: =TRUNC(F87+H87+J87, 0) -> #REF! | M87: 호표 21 | N87: 5182F176C839812386DF333A69D774 | Q87: 010104 | R87: T | S87: F | T87: F | AU87: 0101045182F176C839812386DF333A69D774 | AV87: 51
A88: V.D | B88: 500*250 | C88: EA | D88: 4 | E88: =TRUNC(#REF!,0) -> #REF! | F88: =TRUNC(E88*D88, 0) -> #REF! | G88: =TRUNC(#REF!,0) -> #REF! | H88: =TRUNC(G88*D88, 0) -> #REF! | I88: =TRUNC(#REF!,0) -> #REF! | J88: =TRUNC(I88*D88, 0) -> #REF! | K88: =TRUNC(E88+G88+I88, 0) -> #REF! | L88: =TRUNC(F88+H88+J88, 0) -> #REF! | M88: 호표 22 | N88: 5182F176C839812386DF333A69D772 | Q88: 010104 | R88: T | S88: F | T88: F | AU88: 0101045182F176C839812386DF333A69D772 | AV88: 52
A89: V.D | B89: 400*200 | C89: EA | D89: 1 | E89: =TRUNC(#REF!,0) -> #REF! | F89: =TRUNC(E89*D89, 0) -> #REF! | G89: =TRUNC(#REF!,0) -> #REF! | H89: =TRUNC(G89*D89, 0) -> #REF! | I89: =TRUNC(#REF!,0) -> #REF! | J89: =TRUNC(I89*D89, 0) -> #REF! | K89: =TRUNC(E89+G89+I89, 0) -> #REF! | L89: =TRUNC(F89+H89+J89, 0) -> #REF! | M89: 호표 23 | N89: 5182F176C839812386DF333A69D771 | Q89: 010104 | R89: T | S89: F | T89: F | AU89: 0101045182F176C839812386DF333A69D771 | AV89: 53
A90: V.D | B90: 350*200 | C90: EA | D90: 1 | E90: =TRUNC(#REF!,0) -> #REF! | F90: =TRUNC(E90*D90, 0) -> #REF! | G90: =TRUNC(#REF!,0) -> #REF! | H90: =TRUNC(G90*D90, 0) -> #REF! | I90: =TRUNC(#REF!,0) -> #REF! | J90: =TRUNC(I90*D90, 0) -> #REF! | K90: =TRUNC(E90+G90+I90, 0) -> #REF! | L90: =TRUNC(F90+H90+J90, 0) -> #REF! | M90: 호표 24 | N90: 5182F176C839812386DF333A69D770 | Q90: 010104 | R90: T | S90: F | T90: F | AU90: 0101045182F176C839812386DF333A69D770 | AV90: 54
A91: V.D | B91: 200*200 | C91: EA | D91: 5 | E91: =TRUNC(#REF!,0) -> #REF! | F91: =TRUNC(E91*D91, 0) -> #REF! | G91: =TRUNC(#REF!,0) -> #REF! | H91: =TRUNC(G91*D91, 0) -> #REF! | I91: =TRUNC(#REF!,0) -> #REF! | J91: =TRUNC(I91*D91, 0) -> #REF! | K91: =TRUNC(E91+G91+I91, 0) -> #REF! | L91: =TRUNC(F91+H91+J91, 0) -> #REF! | M91: 호표 25 | N91: 5182F176C839812386DF333A69D77F | Q91: 010104 | R91: T | S91: F | T91: F | AU91: 0101045182F176C839812386DF333A69D77F | AV91: 55
A92: V.D | B92: 200*150 | C92: EA | D92: 10 | E92: =TRUNC(#REF!,0) -> #REF! | F92: =TRUNC(E92*D92, 0) -> #REF! | G92: =TRUNC(#REF!,0) -> #REF! | H92: =TRUNC(G92*D92, 0) -> #REF! | I92: =TRUNC(#REF!,0) -> #REF! | J92: =TRUNC(I92*D92, 0) -> #REF! | K92: =TRUNC(E92+G92+I92, 0) -> #REF! | L92: =TRUNC(F92+H92+J92, 0) -> #REF! | M92: 호표 26 | N92: 5182F176C839812386DF333A69D77E | Q92: 010104 | R92: T | S92: F | T92: F | AU92: 0101045182F176C839812386DF333A69D77E | AV92: 56
Q93: 010104
Q94: 010104
Q95: 010104
Q96: 010104
Q97: 010104
Q98: 010104
A99: [ 합 계 ] | F99: =SUMIF(Q77:Q98,"010104",F77:F98) -> #REF! | H99: =SUMIF(Q77:Q98,"010104",H77:H98) -> #REF! | J99: =SUMIF(Q77:Q98,"010104",J77:J98) -> #REF! | L99: =SUMIF(Q77:Q98,"010104",L77:L98) -> #REF! | N99: TOTAL
A100: 1-5.환기배관 설치공사 | Q100: 010105
A101: 공기순환장치, 폐열회수형 | B101: 500CMH | C101: 대 | D101: 1 | E101: =TRUNC(#REF!,0) -> #REF! | F101: =TRUNC(E101*D101, 0) -> #REF! | G101: =TRUNC(#REF!,0) -> #REF! | H101: =TRUNC(G101*D101, 0) -> #REF! | I101: =TRUNC(#REF!,0) -> #REF! | J101: =TRUNC(I101*D101, 0) -> #REF! | K101: =TRUNC(E101+G101+I101, 0) -> #REF! | L101: =TRUNC(F101+H101+J101, 0) -> #REF! | N101: 51A7C175BD9221288ED71573F4BA15EF3F01CA | Q101: 010105 | R101: F | S101: F | T101: T | AU101: 01010551A7C175BD9221288ED71573F4BA15EF3F01CA | AV101: 99
A102: 냉난방공조공사, 덕트설치 기본 | B102: 평균, 200Φ | C102: 식 | D102: 1 | E102: =TRUNC(#REF!,0) -> #REF! | F102: =TRUNC(E102*D102, 0) -> #REF! | G102: =TRUNC(#REF!,0) -> #REF! | H102: =TRUNC(G102*D102, 0) -> #REF! | I102: =TRUNC(#REF!,0) -> #REF! | J102: =TRUNC(I102*D102, 0) -> #REF! | K102: =TRUNC(E102+G102+I102, 0) -> #REF! | L102: =TRUNC(F102+H102+J102, 0) -> #REF! | N102: 51A7C175BD9221288ED71573F4BA15EF3F01C9 | Q102: 010105 | R102: F | S102: F | T102: T | AU102: 01010551A7C175BD9221288ED71573F4BA15EF3F01C9 | AV102: 100
A103: 냉난방공조공사, 스파이럴덕트 설치 | B103: 평균Φ200mm | C103: 식 | D103: 52 | E103: =TRUNC(#REF!,0) -> #REF! | F103: =TRUNC(E103*D103, 0) -> #REF! | G103: =TRUNC(#REF!,0) -> #REF! | H103: =TRUNC(G103*D103, 0) -> #REF! | I103: =TRUNC(#REF!,0) -> #REF! | J103: =TRUNC(I103*D103, 0) -> #REF! | K103: =TRUNC(E103+G103+I103, 0) -> #REF! | L103: =TRUNC(F103+H103+J103, 0) -> #REF! | N103: 51A7C175BD9221288ED71573F4BA15EF3F01C8 | Q103: 010105 | R103: F | S103: F | T103: T | AU103: 01010551A7C175BD9221288ED71573F4BA15EF3F01C8 | AV103: 101
A104: 냉난방공조공사, 플렉시블덕트설치 | B104: 평균Φ200mm | C104: 식 | D104: 12 | E104: =TRUNC(#REF!,0) -> #REF! | F104: =TRUNC(E104*D104, 0) -> #REF! | G104: =TRUNC(#REF!,0) -> #REF! | H104: =TRUNC(G104*D104, 0) -> #REF! | I104: =TRUNC(#REF!,0) -> #REF! | J104: =TRUNC(I104*D104, 0) -> #REF! | K104: =TRUNC(E104+G104+I104, 0) -> #REF! | L104: =TRUNC(F104+H104+J104, 0) -> #REF! | N104: 51A7C175BD9221288ED71573F4BA15EF3F01CF | Q104: 010105 | R104: F | S104: F | T104: T | AU104: 01010551A7C175BD9221288ED71573F4BA15EF3F01CF | AV104: 102
A105: 냉난방공조공사, 덕트보온 | B105: 평균Φ200mm | C105: 식 | D105: 10 | E105: =TRUNC(#REF!,0) -> #REF! | F105: =TRUNC(E105*D105, 0) -> #REF! | G105: =TRUNC(#REF!,0) -> #REF! | H105: =TRUNC(G105*D105, 0) -> #REF! | I105: =TRUNC(#REF!,0) -> #REF! | J105: =TRUNC(I105*D105, 0) -> #REF! | K105: =TRUNC(E105+G105+I105, 0) -> #REF! | L105: =TRUNC(F105+H105+J105, 0) -> #REF! | N105: 51A7C175BD9221288ED71573F4BA15EF3F01CE | Q105: 010105 | R105: F | S105: F | T105: T | AU105: 01010551A7C175BD9221288ED71573F4BA15EF3F01CE | AV105: 103
A106: 냉난방공조공사, 설치 디퓨져 | B106: 덕트평균, 200Φ | C106: 개 | D106: 6 | E106: =TRUNC(#REF!,0) -> #REF! | F106: =TRUNC(E106*D106, 0) -> #REF! | G106: =TRUNC(#REF!,0) -> #REF! | H106: =TRUNC(G106*D106, 0) -> #REF! | I106: =TRUNC(#REF!,0) -> #REF! | J106: =TRUNC(I106*D106, 0) -> #REF! | K106: =TRUNC(E106+G106+I106, 0) -> #REF! | L106: =TRUNC(F106+H106+J106, 0) -> #REF! | N106: 51A7C175BD9221288ED71573F4BA15EF3F01CD | Q106: 010105 | R106: F | S106: F | T106: T | AU106: 01010551A7C175BD9221288ED71573F4BA15EF3F01CD | AV106: 104
A107: 냉난방공조공사, 설치 엘보 | B107: 덕트평균, 200Φ | C107: 개 | D107: 8 | E107: =TRUNC(#REF!,0) -> #REF! | F107: =TRUNC(E107*D107, 0) -> #REF! | G107: =TRUNC(#REF!,0) -> #REF! | H107: =TRUNC(G107*D107, 0) -> #REF! | I107: =TRUNC(#REF!,0) -> #REF! | J107: =TRUNC(I107*D107, 0) -> #REF! | K107: =TRUNC(E107+G107+I107, 0) -> #REF! | L107: =TRUNC(F107+H107+J107, 0) -> #REF! | N107: 51A7C175BD9221288ED71573F4BA15EF3F01CC | Q107: 010105 | R107: F | S107: F | T107: T | AU107: 01010551A7C175BD9221288ED71573F4BA15EF3F01CC | AV107: 105
A108: 냉난방공조공사, 설치 분기관 | B108: 덕트평균, 200Φ | C108: 개 | D108: 2 | E108: =TRUNC(#REF!,0) -> #REF! | F108: =TRUNC(E108*D108, 0) -> #REF! | G108: =TRUNC(#REF!,0) -> #REF! | H108: =TRUNC(G108*D108, 0) -> #REF! | I108: =TRUNC(#REF!,0) -> #REF! | J108: =TRUNC(I108*D108, 0) -> #REF! | K108: =TRUNC(E108+G108+I108, 0) -> #REF! | L108: =TRUNC(F108+H108+J108, 0) -> #REF! | N108: 51A7C175BD9221288ED71573F4BA15EF3F01C3 | Q108: 010105 | R108: F | S108: F | T108: T | AU108: 01010551A7C175BD9221288ED71573F4BA15EF3F01C3 | AV108: 106
A109: 냉난방공조공사, 설치 리듀싱분기관 | C109: 개 | D109: 2 | E109: =TRUNC(#REF!,0) -> #REF! | F109: =TRUNC(E109*D109, 0) -> #REF! | G109: =TRUNC(#REF!,0) -> #REF! | H109: =TRUNC(G109*D109, 0) -> #REF! | I109: =TRUNC(#REF!,0) -> #REF! | J109: =TRUNC(I109*D109, 0) -> #REF! | K109: =TRUNC(E109+G109+I109, 0) -> #REF! | L109: =TRUNC(F109+H109+J109, 0) -> #REF! | N109: 51A7C175BD9221288ED71573F4BA15EF3F01C2 | Q109: 010105 | R109: F | S109: F | T109: T | AU109: 01010551A7C175BD9221288ED71573F4BA15EF3F01C2 | AV109: 107
A110: 룸컨트롤러 세트 및 설치 | C110: 개 | D110: 1 | E110: =TRUNC(#REF!,0) -> #REF! | F110: =TRUNC(E110*D110, 0) -> #REF! | G110: =TRUNC(#REF!,0) -> #REF! | H110: =TRUNC(G110*D110, 0) -> #REF! | I110: =TRUNC(#REF!,0) -> #REF! | J110: =TRUNC(I110*D110, 0) -> #REF! | K110: =TRUNC(E110+G110+I110, 0) -> #REF! | L110: =TRUNC(F110+H110+J110, 0) -> #REF! | N110: 51A7C175BD9221288ED71573F4BA15EF3F0025 | Q110: 010105 | R110: F | S110: F | T110: T | AU110: 01010551A7C175BD9221288ED71573F4BA15EF3F0025 | AV110: 108
A111: 룸컨트롤러세트용 전선및 전선관 설치 | C111: m | D111: 20 | E111: =TRUNC(#REF!,0) -> #REF! | F111: =TRUNC(E111*D111, 0) -> #REF! | G111: =TRUNC(#REF!,0) -> #REF! | H111: =TRUNC(G111*D111, 0) -> #REF! | I111: =TRUNC(#REF!,0) -> #REF! | J111: =TRUNC(I111*D111, 0) -> #REF! | K111: =TRUNC(E111+G111+I111, 0) -> #REF! | L111: =TRUNC(F111+H111+J111, 0) -> #REF! | N111: 51A7C175BD9221288ED71573F4BA15EF3F0024 | Q111: 010105 | R111: F | S111: F | T111: T | AU111: 01010551A7C175BD9221288ED71573F4BA15EF3F0024 | AV111: 109
...
