Workbook
Name B: #REF!
Name CELLNOTE4: [1]노무비!#REF!
Name CELLNOTE5: [2]노무비!#REF!
Name CELLNOTE6: [1]노무비!#REF!
Name CR: #REF!
Name CRa: #REF!
Name CRb: #REF!
Name GONGJONG: #REF!
Name Main: #REF!
Name MAINPART: #REF!
Name mf: #REF!
Name PRINT_AREA_MI: #REF!
Name SChonsei: #REF!
Name SubDic: #REF!
Name TChonsei: #REF!
Name TDeposit: #REF!
Name TRent: #REF!
Name ㄹㄴㅇㄹㄴㅇㄹ: '[3]인원계획-미화'!#REF!
Name 반대탭: [4]시설장비!#REF!
Name 연봉: '[3]인원계획-미화'!#REF!

Sheet 총괄설계서
B2: 공 사 비 총 괄 표
C4: 공사명 : 송파2동 복합청사 신축설계용역
C6: ▣ 총 공 사 비 | E6: : | F6: ="일금 "&NUMBERSTRING(K32,1)&"원정" -> #REF!
C8: ◎ 건축,기계,조경,토목,해체공사 | E8: : | F8: ="일금 "&NUMBERSTRING(K24,1)&"원정" -> 일금 일원정
C10: ◎ 전기,통신,전기소방,기계소방(별도) | E10: : | F10: ="일금 "&NUMBERSTRING(K28,1)&"원정" -> 일금 이십이억일천사백사만사천원정
C12: ◎ 폐기물처리비 (별도) | F12: ="일금 "&NUMBERSTRING(K31,1)&"원정" -> #REF!
B17: 구 분 비 목 | D17: 도 급 금 액 | H17: 관급자재비 (도급자) | I17: 관급자재비 (관급자) | J17: 분담금 / 한전불입금 | K17: 합 계 금 액
D18: 공 급 가 액 | F18: 부 가 세 | G18: 소 계 | N18: 평당
B19: 건 축 공 사 | D19: ='원가계산서(건축+기계)'!E46 -> 0 | F19: =TRUNC(D19*0.1)+1 -> 1 | G19: =SUM(D19:F19) -> 1 | H19: ='원가계산서(건축+기계)'!E49 -> 0 | I19: ='원가계산서(건축+기계)'!E50 -> 0 | J19: ='원가계산서(건축+기계)'!E51 -> 0 | K19: =SUM(G19:J19) -> 1 | M19: =K19/K32*100 -> #REF! | N19: =K19/M37 -> 0.0013468427
M20: =K20/K32*100 -> #REF! | N20: =K20/M37 -> 0
M21: =K21/K32*100 -> #REF! | N21: =K21/M37 -> 0
M22: =K22/K32*100 -> #REF! | N22: =K22/M37 -> 0
M23: =K23/K32*100 -> #REF! | N23: =K23/M37 -> 0
B24: 소 계 | D24: =SUM(D19:E23) -> 0 | F24: =SUM(F19:F23) -> 1 | G24: =SUM(D24:F24) -> 1 | H24: =SUM(H19:H23) -> 0 | I24: =SUM(I19:I23) -> 0 | J24: =SUM(J19:J23) -> 0 | K24: =SUM(G24:J24) -> 1 | N24: =K24/M37 -> 0.0013468427
B25: 전기공사 | D25: =TRUNC(632467904-694/1.1) -> 632467273 | F25: =TRUNC(D25*0.1) -> 63246727 | G25: =SUM(D25:F25) -> 695714000 | H25: 146143000 | I25: 333177000 | J25: 31117000 | K25: =SUM(G25:J25) -> 1206151000 | M25: =K25/K32*100 -> #REF! | N25: =K25/M37 -> 1624495.7
B26: 통신공사 | D26: =TRUNC(351637653-418/1.1) -> 351637273 | F26: =TRUNC(D26*0.1) -> 35163727 | G26: =SUM(D26:F26) -> 386801000 | I26: 219311000 | K26: =SUM(G26:J26) -> 606112000 | M26: =K26/K32*100 -> #REF! | N26: =K26/M37 -> 816337.55
B27: 소방공사 | D27: =TRUNC(300650000+810000-0/1.1) -> 301460000 | F27: =TRUNC(D27*0.1) -> 30146000 | G27: =SUM(D27:F27) -> 331606000 | H27: 64266000 | I27: 5909000 | K27: =SUM(G27:J27) -> 401781000 | M27: =K27/K32*100 -> #REF! | N27: =K27/M37 -> 541135.83
B28: 소 계 | D28: =SUM(D25:E27) -> 1285564546 | F28: =SUM(F25:F27) -> 128556454 | G28: =SUM(D28:F28) -> 1414121000 | H28: =SUM(H25:H27) -> 210409000 | I28: =SUM(I25:I27) -> 558397000 | J28: =SUM(J25:J27) -> 31117000 | K28: =SUM(G28:J28) -> 2214044000 | N28: =K28/M37 -> 2981969.1
B29: 건설폐기물처리비 | D29: =TRUNC(#REF!-726/1.1) -> #REF! | F29: =TRUNC(D29*0.1) -> #REF! | G29: =SUM(D29:F29) -> #REF! | K29: =SUM(G29:J29) -> #REF! | M29: =K29/K32*100 -> #REF! | N29: =K29/M37 -> #REF!
B30: 건설폐기물처리비(해체) | D30: =(#REF!-484/1.1) -> #REF! | F30: =TRUNC(D30*0.1) -> #REF! | G30: =SUM(D30:F30) -> #REF! | K30: =SUM(G30:J30) -> #REF! | M30: =K30/K32*100 -> #REF! | N30: =K30/M37 -> #REF!
B31: 소 계 | D31: =SUM(D29:D30) -> #REF! | F31: =SUM(F29:F30) -> #REF! | G31: =SUM(D31:F31) -> #REF! | H31: =SUM(H29:H30) -> 0 | I31: =SUM(I29:I30) -> 0 | J31: =SUM(J29:J30) -> 0 | K31: =SUM(G31:J31) -> #REF! | N31: =K31/M37 -> #REF!
B32: 합 계 | D32: =D24+D28+D31 -> #REF! | F32: =F24+F28+F31 -> #REF! | G32: =SUM(D32:F32) -> #REF! | H32: =H24+H28+H31 -> 210409000 | I32: =I24+I28+I31 -> 558397000 | J32: =J24+J28+J31 -> 31117000 | K32: =SUM(G32:J32) -> #REF! | M32: =SUM(M19:M31) -> #REF! | N32: =K32/M37 -> #REF!
M34: =0*0.3025 -> 0
M35: 평당
M36: =K32/(2454.47*0.3025) -> #REF!
M37: =2454.47*0.3025 -> 742.47717
J40: =K32-J41 -> #REF!
J41: 11608000000

Sheet 설계서
B2: 과 장 | D2: 담 당 | F2: 심 사 자 | H2: 설 계 자 | J2: 설 계 | K2: 2026년 월 일 | L2: 결 제
J3: 심 사 | K3: 2026년 월 일 | L3: 2026년 월 일
B5: 설 계 서
B7: 공사명 : 송파2동 복합청사 신축설계용역 (건축+기계+조경+토목)
B9: 구 분 | E9: 내 역 서 | L9: 비 고
B10: 총 공 사 비 | E10: ="일금 "&NUMBERSTRING(총괄설계서!K24,1)&"원정" -> 일금 일원정 | J10: =" \ "&TEXT(총괄설계서!K24,"#,###")&" " -> \ 1
B11: 도 | C11: 공 급 가 액 | E11: ="일금 "&NUMBERSTRING(총괄설계서!D24,1)&"원정" -> 일금 영원정 | J11: =" \ "&TEXT(총괄설계서!D24,"#,###")&" " -> \
B12: 급 | C12: 부 가 가 치 세 | E12: ="일금 "&NUMBERSTRING(총괄설계서!F24,1)&"원정" -> 일금 일원정 | J12: =" \ "&TEXT(총괄설계서!F24,"#,###")&" " -> \ 1
B13: 비 | C13: 계 | E13: =" 일금 "&NUMBERSTRING(총괄설계서!G24,1)&"원정" -> 일금 일원정 | J13: =" \ "&TEXT(총괄설계서!G24,"#,###")&" " -> \ 1
B14: 관 급 자 재 비 | E14: =" 일금 "&NUMBERSTRING(총괄설계서!H24+총괄설계서!I24,1)&"원정" -> 일금 영원정 | J14: =" \ "&TEXT(총괄설계서!H24+총괄설계서!I24,"#,###")&" " -> \
B15: 분 담 금 | E15: =" 일금 "&NUMBERSTRING(총괄설계서!J24,1)&"원정" -> 일금 영원정 | J15: =" \ "&TEXT(총괄설계서!J24,"#,###")&" " -> \

Sheet 원가계산서(건축+기계)
B1: 공 사 원 가 계 산 서
B2: 공사명 : 송파2동 복합청사 신축설계용역 - 건축+기계+조경+토목+해체
B3: 비 목 | F3: 구 성 비 | G3: 비 고
A4: A1 | B4: 순 공 사 원 가 | C4: 재 료 비 | D4: 직 접 재 료 비 | I4: 2265029038 | K4: 0
A5: A2 | D5: 간 접 재 료 비 | I5: 0 | K5: 0
A6: A3 | D6: 작업설, 부산물(△) | I6: 0 | K6: 0
A7: AS | D7: [ 소 계 ] | I7: 2265029038 | K7: 0
A8: B1 | C8: 노 무 비 | D8: 직 접 노 무 비 | I8: 2025987877 | K8: 0
A9: B2 | D9: 간 접 노 무 비 | F9: 직접노무비 * 18.1% | I9: 366703803 | K9: 2
A10: BS | D10: [ 소 계 ] | I10: 2392691680 | K10: 2
C11: 경 비 | D11: 운 반 비 | I11: 0 | K11: 0
A12: C2 | D12: 기 계 경 비 | I12: 293032329 | K12: 0
A13: C3 | D13: 가 설 비 | I13: 0 | K13: 0
A14: C4 | D14: 산 재 보 험 료 | F14: 노무비 * 3.56% | I14: 85179822 | K14: 1
A15: C5 | D15: 고 용 보 험 료 | F15: 노무비 * 1.01% | I15: 24166184 | K15: 1
A16: C6 | D16: 국민 건강 보험료 | F16: 직접노무비 * 3.595% | I16: 72834261 | K16: 3
A17: C7 | D17: 국민 연금 보험료 | F17: 직접노무비 * 4.75% | I17: 96234422 | K17: 2
A18: CB | D18: 노인장기요양보험료 | F18: 건강보험료 * 13.14% | I18: 9570419 | K18: 3
A19: C8 | D19: 퇴직 공제 부금비 | F19: 직접노무비 * 2.3% | I19: 46597719 | K19: 2
A20: CA | D20: 산업안전보건관리비 | F20: A와B중 작은 금액 | I20: 114924904 | K20: 2
F21: a. (재료비+직노+도급자관급) *2.28%+4325000 | I21: 114924904 | K21: 2
F22: b. ((재료비+직노) *2.28%+4325000)*1.2 | I22: 122592219 | K22: 3
D23: 안 전 관 리 비 | I23: 15860000 | K23: 0
I24: 0 | K24: 0
D25: 품 질 관 리 비 | I25: 2338474 | K25: 0
A26: CH | D26: 환 경 보 전 비 | F26: (재료비+직노+기계경비) * 0.5% | I26: 22920243 | K26: 3
D27: 석 면 분 담 금 | F27: 노무비 * 0.006% | I27: 143558 | K27: 3
A28: CG | D28: 임금채권 부담금 | F28: 노무비 * 0.09% | I28: 2153420 | K28: 2
D29: 기 타 경 비 | F29: (재료비+노무비) * 5.7% | I29: 265490079 | K29: 2
A30: CK | D30: 공사이행보증수수료 | I30: 0 | K30: 0
A31: CL | D31: 하도급지급보증수수료 | F31: (재료비+직노+기계경비) * 0.08% | I31: 3667236 | K31: 3
A32: CS | D32: 건설기계대여금지급보증서발급수수료 | F32: (재료비+직노+기계경비) * 0.07% | I32: 3208832 | K32: 2
A33: S1 | D33: [ 소 계 ] | I33: 1058321902 | K33: 29
A34: D1 | B34: 계 | I34: 5716042620 | K34: 31
A35: D2 | B35: 일 반 관 리 비 | F35: 계 * 6.5% | I35: 371542768 | K35: 4
B36: 이 윤 | F36: (노무비+경비+일반관리비) * 10% | G36: (절사:-2589/1.1) | I36: 458704442 | K36: -76451855
B37: 건설폐기물상차비 | I37: 10017713 | K37: 0
A38: D9 | B38: 작업부산물(해체) | I38: -3766055 | K38: 0
A39: DB | B39: 고용개선지원비(PS단가) | F39: * 주휴수당+(국민연금+건강보험료)+고용개선장려금 | I39: 181528511 | K39: 2
A40: DH | B40: * 주 휴 수 당 | F40: 직노*12.8%*50%*1.4 | I40: 181528511 | K40: 2
...

Sheet 원가계산서(전체,공사별)
B1: 공 사 원 가 계 산 서
B2: 공사명 : 송파2동 복합청사 신축설계용역 - 건축 + 기계설비 + 조경 + 토목
B3: 비 목 | E3: 전 체 | F3: 건 축 | G3: 기 계 | H3: 조 경 | I3: 토 목 | J3: 해 체 | K3: 구 성 비 | L3: 비 고
A5: A1 | B5: 순 공 사 원 가 | C5: 재 료 비 | D5: 직 접 재 료 비 | E5: =SUM(F5:J5) -> #REF! | F5: ='원가계산서(건축)'!E4 -> #REF! | G5: ='원가계산서(기계)'!E4 -> #REF! | H5: ='원가계산서(조경)'!E4 -> #REF! | I5: ='원가계산서(토목)'!E4 -> #REF! | J5: ='원가계산서(해체)'!E4 -> #REF! | N5: ='원가계산서(건축)'!E4+'원가계산서(기계)'!E4+'원가계산서(조경)'!E4+'원가계산서(토목)'!E4+'원가계산서(해체)'!E4 -> #REF! | P5: =E5-N5 -> #REF!
A6: A2 | D6: 간 접 재 료 비 | E6: =SUM(F6:J6) -> 0 | F6: ='원가계산서(건축)'!E5 -> 0 | G6: ='원가계산서(기계)'!E5 -> 0 | H6: ='원가계산서(조경)'!E5 -> 0 | I6: ='원가계산서(토목)'!E5 -> 0 | J6: ='원가계산서(해체)'!E5 -> 0 | N6: ='원가계산서(건축)'!E5+'원가계산서(기계)'!E5+'원가계산서(조경)'!E5+'원가계산서(토목)'!E5+'원가계산서(해체)'!E5 -> 0 | P6: =E6-N6 -> 0
A7: A3 | D7: 작업설, 부산물(△) | E7: =SUM(F7:J7) -> 0 | F7: ='원가계산서(건축)'!E6 -> 0 | G7: ='원가계산서(기계)'!E6 -> 0 | H7: ='원가계산서(조경)'!E6 -> 0 | I7: ='원가계산서(토목)'!E6 -> 0 | J7: ='원가계산서(해체)'!E6 -> 0 | N7: ='원가계산서(건축)'!E6+'원가계산서(기계)'!E6+'원가계산서(조경)'!E6+'원가계산서(토목)'!E6+'원가계산서(해체)'!E6 -> 0 | P7: =E7-N7 -> 0
A8: AS | D8: [ 소 계 ] | E8: =SUM(F8:J8) -> #REF! | F8: ='원가계산서(건축)'!E7 -> #REF! | G8: ='원가계산서(기계)'!E7 -> #REF! | H8: ='원가계산서(조경)'!E7 -> #REF! | I8: ='원가계산서(토목)'!E7 -> #REF! | J8: ='원가계산서(해체)'!E7 -> #REF! | N8: ='원가계산서(건축)'!E7+'원가계산서(기계)'!E7+'원가계산서(조경)'!E7+'원가계산서(토목)'!E7+'원가계산서(해체)'!E7 -> #REF! | P8: =E8-N8 -> #REF!
A9: B1 | C9: 노 무 비 | D9: 직 접 노 무 비 | E9: =SUM(F9:J9) -> #REF! | F9: ='원가계산서(건축)'!E8 -> #REF! | G9: ='원가계산서(기계)'!E8 -> #REF! | H9: ='원가계산서(조경)'!E8 -> #REF! | I9: ='원가계산서(토목)'!E8 -> #REF! | J9: ='원가계산서(해체)'!E8 -> #REF! | N9: ='원가계산서(건축)'!E8+'원가계산서(기계)'!E8+'원가계산서(조경)'!E8+'원가계산서(토목)'!E8+'원가계산서(해체)'!E8 -> #REF! | P9: =E9-N9 -> #REF!
A10: B2 | D10: 간 접 노 무 비 | E10: =SUM(F10:J10) -> #REF! | F10: =TRUNC(F9*0.181, 0) -> #REF! | G10: =TRUNC(G9*0.181, 0) -> #REF! | H10: =TRUNC(H9*0.181, 0) -> #REF! | I10: =TRUNC(I9*0.181, 0) -> #REF! | J10: =TRUNC(J9*0.181, 0) -> #REF! | K10: 직접노무비 * 18.1% | N10: ='원가계산서(건축)'!E9+'원가계산서(기계)'!E9+'원가계산서(조경)'!E9+'원가계산서(토목)'!E9+'원가계산서(해체)'!E9 -> #REF! | P10: =E10-N10 -> #REF!
A11: BS | D11: [ 소 계 ] | E11: =SUM(F11:J11) -> #REF! | F11: =TRUNC(F9+F10, 0) -> #REF! | G11: =TRUNC(G9+G10, 0) -> #REF! | H11: =TRUNC(H9+H10, 0) -> #REF! | I11: =TRUNC(I9+I10, 0) -> #REF! | J11: =TRUNC(J9+J10, 0) -> #REF! | N11: ='원가계산서(건축)'!E10+'원가계산서(기계)'!E10+'원가계산서(조경)'!E10+'원가계산서(토목)'!E10+'원가계산서(해체)'!E10 -> #REF! | P11: =E11-N11 -> #REF!
C12: 경 비 | D12: 운 반 비 | E12: =SUM(F12:J12) -> 0 | F12: ='원가계산서(건축)'!E11 -> 0 | G12: ='원가계산서(기계)'!E11 -> 0 | I12: ='원가계산서(토목)'!E11 -> 0 | J12: ='원가계산서(해체)'!E11 -> 0 | N12: ='원가계산서(건축)'!E11+'원가계산서(기계)'!E11+'원가계산서(조경)'!E11+'원가계산서(토목)'!E11+'원가계산서(해체)'!E11 -> 0
A13: C2 | D13: 기 계 경 비 | E13: =SUM(F13:J13) -> #REF! | F13: ='원가계산서(건축)'!E12 -> #REF! | G13: ='원가계산서(기계)'!E12 -> #REF! | H13: ='원가계산서(조경)'!E12 -> #REF! | I13: ='원가계산서(토목)'!E12 -> #REF! | J13: ='원가계산서(해체)'!E12 -> #REF! | N13: ='원가계산서(건축)'!E12+'원가계산서(기계)'!E12+'원가계산서(조경)'!E12+'원가계산서(토목)'!E12+'원가계산서(해체)'!E12 -> #REF! | P13: =E13-N13 -> #REF!
A14: C3 | D14: 가 설 비 | E14: =SUM(F14:J14) -> 0 | F14: ='원가계산서(건축)'!E13 -> 0 | G14: ='원가계산서(기계)'!E13 -> 0 | I14: ='원가계산서(토목)'!E13 -> 0 | J14: ='원가계산서(해체)'!E13 -> 0 | N14: ='원가계산서(건축)'!E13+'원가계산서(기계)'!E13+'원가계산서(조경)'!E13+'원가계산서(토목)'!E13+'원가계산서(해체)'!E13 -> 0 | P14: =E14-N14 -> 0
A15: C4 | D15: 산 재 보 험 료 | E15: =SUM(F15:J15) -> #REF! | F15: =TRUNC(F11*0.0356, 0) -> #REF! | G15: =TRUNC(G11*0.0356, 0) -> #REF! | H15: =TRUNC(H11*0.0356, 0) -> #REF! | I15: =TRUNC(I11*0.0356, 0) -> #REF! | J15: =TRUNC(J11*0.0356, 0) -> #REF! | K15: 노무비 * 3.56% | N15: ='원가계산서(건축)'!E14+'원가계산서(기계)'!E14+'원가계산서(조경)'!E14+'원가계산서(토목)'!E14+'원가계산서(해체)'!E14 -> #REF! | P15: =E15-N15 -> #REF!
A16: C5 | D16: 고 용 보 험 료 | E16: =SUM(F16:J16) -> #REF! | F16: =TRUNC(F11*0.0101, 0) -> #REF! | G16: =TRUNC(G11*0.0101, 0) -> #REF! | H16: =TRUNC(H11*0.0101, 0) -> #REF! | I16: =TRUNC(I11*0.0101, 0) -> #REF! | J16: =TRUNC(J11*0.0101, 0) -> #REF! | K16: 노무비 * 1.01% | N16: ='원가계산서(건축)'!E15+'원가계산서(기계)'!E15+'원가계산서(조경)'!E15+'원가계산서(토목)'!E15+'원가계산서(해체)'!E15 -> #REF! | P16: =E16-N16 -> #REF!
A17: C6 | D17: 국민 건강 보험료 | E17: =SUM(F17:J17) -> #REF! | F17: =TRUNC(F9*0.03595, 0) -> #REF! | G17: =TRUNC(G9*0.03595, 0) -> #REF! | H17: =TRUNC(H9*0.03595, 0) -> #REF! | I17: =TRUNC(I9*0.03595, 0) -> #REF! | J17: =TRUNC(J9*0.03595, 0) -> #REF! | K17: 직접노무비 * 3.595% | N17: ='원가계산서(건축)'!E16+'원가계산서(기계)'!E16+'원가계산서(조경)'!E16+'원가계산서(토목)'!E16+'원가계산서(해체)'!E16 -> #REF! | P17: =E17-N17 -> #REF!
A18: C7 | D18: 국민 연금 보험료 | E18: =SUM(F18:J18) -> #REF! | F18: =TRUNC(F9*0.0475, 0) -> #REF! | G18: =TRUNC(G9*0.0475, 0) -> #REF! | H18: =TRUNC(H9*0.0475, 0) -> #REF! | I18: =TRUNC(I9*0.0475, 0) -> #REF! | J18: =TRUNC(J9*0.0475, 0) -> #REF! | K18: 직접노무비 * 4.75% | N18: ='원가계산서(건축)'!E17+'원가계산서(기계)'!E17+'원가계산서(조경)'!E17+'원가계산서(토목)'!E17+'원가계산서(해체)'!E17 -> #REF! | P18: =E18-N18 -> #REF!
A19: CB | D19: 노인장기요양보험료 | E19: =SUM(F19:J19) -> #REF! | F19: =TRUNC(F17*0.1314, 0) -> #REF! | G19: =TRUNC(G17*0.1314, 0) -> #REF! | H19: =TRUNC(H17*0.1314, 0) -> #REF! | I19: =TRUNC(I17*0.1314, 0) -> #REF! | J19: =TRUNC(J17*0.1314, 0) -> #REF! | K19: 건강보험료 * 13.14% | N19: ='원가계산서(건축)'!E18+'원가계산서(기계)'!E18+'원가계산서(조경)'!E18+'원가계산서(토목)'!E18+'원가계산서(해체)'!E18 -> #REF! | P19: =E19-N19 -> #REF!
A20: C8 | D20: 퇴직 공제 부금비 | E20: =SUM(F20:J20) -> #REF! | F20: =TRUNC(F9*0.023, 0) -> #REF! | G20: =TRUNC(G9*0.023, 0) -> #REF! | H20: =TRUNC(H9*0.023, 0) -> #REF! | I20: =TRUNC(I9*0.023, 0) -> #REF! | J20: =TRUNC(J9*0.023, 0) -> #REF! | K20: 직접노무비 * 2.3% | N20: ='원가계산서(건축)'!E19+'원가계산서(기계)'!E19+'원가계산서(조경)'!E19+'원가계산서(토목)'!E19+'원가계산서(해체)'!E19 -> #REF! | P20: =E20-N20 -> #REF!
A21: CA | D21: 산업안전보건관리비 | E21: =SUM(F21:J21) -> #REF! | F21: =TRUNC((F8+F9+((0+F51)/1.1054))*0.0228+4325000, 0) -> #REF! | G21: =TRUNC((G8+G9+((0+G51)/1.1054))*0.0228, 0) -> #REF! | H21: =TRUNC((H8+H9+((0+H51)/1.1054))*0.0228, 0) -> #REF! | I21: =TRUNC((I8+I9+((0+I51)/1.1054))*0.0228, 0) -> #REF! | J21: =TRUNC((J8+J9+((0+J51)/1.1054))*0.0228, 0) -> #REF! | K21: A와B중 작은 금액 | N21: ='원가계산서(건축)'!E20+'원가계산서(기계)'!E20+'원가계산서(조경)'!E20+'원가계산서(토목)'!E20+'원가계산서(해체)'!E20 -> #REF! | P21: =E21-N21 -> #REF!
E22: =SUM(F22:J22) -> #REF! | F22: =TRUNC((F8+F9+((0+F51)/1.1054))*0.0228+4325000, 0) -> #REF! | G22: =TRUNC((G8+G9+((0+G51)/1.1054))*0.0228, 0) -> #REF! | H22: =TRUNC((H8+H9+((0+H51)/1.1054))*0.0228, 0) -> #REF! | I22: =TRUNC((I8+I9+((0+I51)/1.1054))*0.0228, 0) -> #REF! | J22: =TRUNC((J8+J9+((0+J51)/1.1054))*0.0228, 0) -> #REF! | K22: a. (재료비+직노+도급자관급)*2.28%+4325000 | N22: ='원가계산서(건축)'!E21+'원가계산서(기계)'!E21+'원가계산서(조경)'!E21+'원가계산서(토목)'!E21+'원가계산서(해체)'!E21 -> #REF! | P22: =E22-N22 -> #REF!
E23: =SUM(F23:J23) -> #REF! | F23: =TRUNC(((F8+F9)*0.0228+4325000)*1.2, 0) -> #REF! | G23: =TRUNC(((G8+G9)*0.0228)*1.2, 0) -> #REF! | H23: =TRUNC((H8+H9)*0.0228*1.2, 0) -> #REF! | I23: =TRUNC((I8+I9)*0.0228*1.2, 0) -> #REF! | J23: =TRUNC((J8+J9)*0.0228*1.2, 0) -> #REF! | K23: b. ((재료비+직노) * 2.28+4325000%) *1.2 | N23: ='원가계산서(건축)'!E22+'원가계산서(기계)'!E22+'원가계산서(조경)'!E22+'원가계산서(토목)'!E22+'원가계산서(해체)'!E22 -> #REF! | P23: =E23-N23 -> #REF!
D24: 안 전 관 리 비 | E24: =SUM(F24:J24) -> #REF! | F24: ='원가계산서(건축)'!E23 -> #REF! | G24: ='원가계산서(기계)'!E23 -> 0 | H24: ='원가계산서(조경)'!E23 -> 0 | I24: ='원가계산서(토목)'!E23 -> 0 | J24: ='원가계산서(해체)'!E23 -> 0 | N24: ='원가계산서(건축)'!E23+'원가계산서(기계)'!E23+'원가계산서(조경)'!E23+'원가계산서(토목)'!E23+'원가계산서(해체)'!E23 -> #REF! | P24: =E24-N24 -> #REF!
D25: 동 영 상 촬 영 비 | E25: =SUM(F25:J25) -> #REF! | F25: ='원가계산서(건축)'!E24 -> #REF! | G25: ='원가계산서(기계)'!E24 -> 0 | H25: ='원가계산서(조경)'!E24 -> 0 | I25: ='원가계산서(토목)'!E24 -> 0 | J25: ='원가계산서(해체)'!E24 -> 0 | N25: ='원가계산서(건축)'!E24+'원가계산서(기계)'!E24+'원가계산서(조경)'!E24+'원가계산서(토목)'!E24+'원가계산서(해체)'!E24 -> #REF! | P25: =E25-N25 -> #REF!
D26: 품 질 관 리 비 | E26: =SUM(F26:J26) -> #REF! | F26: ='원가계산서(건축)'!E25 -> #REF! | G26: ='원가계산서(기계)'!E25 -> 0 | H26: ='원가계산서(조경)'!E25 -> 0 | I26: ='원가계산서(토목)'!E25 -> 0 | J26: ='원가계산서(해체)'!E25 -> 0 | N26: ='원가계산서(건축)'!E25+'원가계산서(기계)'!E25+'원가계산서(조경)'!E25+'원가계산서(토목)'!E25+'원가계산서(해체)'!E25 -> #REF! | P26: =E26-N26 -> #REF!
A27: CH | D27: 환 경 보 전 비 | E27: =SUM(F27:J27) -> #REF! | F27: =TRUNC((F8+F9+F12+F13)*0.005, 0) -> #REF! | G27: =TRUNC((G8+G9+G12+G13)*0.005, 0) -> #REF! | H27: =TRUNC((H8+H9+H12+H13)*0.005, 0) -> #REF! | I27: =TRUNC((I8+I9+I12+I13)*0.005, 0) -> #REF! | J27: =TRUNC((J8+J9+J12+J13)*0.005, 0) -> #REF! | K27: (재료비+직노+기계경비) * 0.5% | N27: ='원가계산서(건축)'!E26+'원가계산서(기계)'!E26+'원가계산서(조경)'!E26+'원가계산서(토목)'!E26+'원가계산서(해체)'!E26 -> #REF! | P27: =E27-N27 -> #REF!
D28: 석 면 분 담 금 | E28: =SUM(F28:J28) -> #REF! | F28: =TRUNC(F11*0.00006, 0) -> #REF! | G28: =TRUNC(G11*0.00006, 0) -> #REF! | H28: =TRUNC(H11*0.00006, 0) -> #REF! | I28: =TRUNC(I11*0.00006, 0) -> #REF! | J28: =TRUNC(J11*0.00006, 0) -> #REF! | K28: 노무비 * 0.006% | N28: ='원가계산서(건축)'!E27+'원가계산서(기계)'!E27+'원가계산서(조경)'!E27+'원가계산서(토목)'!E27+'원가계산서(해체)'!E27 -> #REF! | P28: =E28-N28 -> #REF!
A29: CG | D29: 임금채권 부담금 | E29: =SUM(F29:J29) -> #REF! | F29: =TRUNC(F11*0.0009, 0) -> #REF! | G29: =TRUNC(G11*0.0009, 0) -> #REF! | H29: =TRUNC(H11*0.0009, 0) -> #REF! | I29: =TRUNC(I11*0.0009, 0) -> #REF! | J29: =TRUNC(J11*0.0009, 0) -> #REF! | K29: 노무비 * 0.09% | N29: ='원가계산서(건축)'!E28+'원가계산서(기계)'!E28+'원가계산서(조경)'!E28+'원가계산서(토목)'!E28+'원가계산서(해체)'!E28 -> #REF! | P29: =E29-N29 -> #REF!
A30: CG | D30: 기 타 경 비 | E30: =SUM(F30:J30) -> #REF! | F30: =TRUNC((F8+F11)*0.057, 0) -> #REF! | G30: =TRUNC((G8+G11)*0.057, 0) -> #REF! | H30: =TRUNC((H8+H11)*0.057, 0) -> #REF! | I30: =TRUNC((I8+I11)*0.057, 0) -> #REF! | J30: =TRUNC((J8+J11)*0.057, 0) -> #REF! | K30: (재료비+노무비) * 5.7% | N30: ='원가계산서(건축)'!E29+'원가계산서(기계)'!E29+'원가계산서(조경)'!E29+'원가계산서(토목)'!E29+'원가계산서(해체)'!E29 -> #REF! | P30: =E30-N30 -> #REF!
D31: 공사이행보증수수료 | E31: =SUM(F31:J31) -> 0 | N31: ='원가계산서(건축)'!E30+'원가계산서(기계)'!E30+'원가계산서(조경)'!E30+'원가계산서(토목)'!E30+'원가계산서(해체)'!E30 -> 0
A32: CK | D32: 하도급지급보증수수료 | E32: =SUM(F32:J32) -> #REF! | F32: =TRUNC((F8+F9+F12+F13)*0.0008, 0) -> #REF! | G32: =TRUNC((G8+G9+G12+G13)*0.0008, 0) -> #REF! | H32: =TRUNC((H8+H9+H12+H13)*0.0008, 0) -> #REF! | I32: =TRUNC((I8+I9+I12+I13)*0.0008, 0) -> #REF! | J32: =TRUNC((J8+J9+J12+J13)*0.0008, 0) -> #REF! | K32: (재료비+직노+기계경비) * 0.08% | N32: ='원가계산서(건축)'!E31+'원가계산서(기계)'!E31+'원가계산서(조경)'!E31+'원가계산서(토목)'!E31+'원가계산서(해체)'!E31 -> #REF! | P32: =E32-N32 -> #REF!
A33: CL | D33: 건설기계대여금지급보증서발급수수료 | E33: =SUM(F33:J33) -> #REF! | F33: =TRUNC((F8+F9+F12+F13)*0.0007, 0) -> #REF! | G33: =TRUNC((G8+G9+G12+G13)*0.0007, 0) -> #REF! | H33: =TRUNC((H8+H9+H12+H13)*0.0007, 0) -> #REF! | I33: =TRUNC((I8+I9+I12+I13)*0.0007, 0) -> #REF! | J33: =TRUNC((J8+J9+J12+J13)*0.0007, 0) -> #REF! | K33: (재료비+직노+기계경비) * 0.07% | N33: ='원가계산서(건축)'!E32+'원가계산서(기계)'!E32+'원가계산서(조경)'!E32+'원가계산서(토목)'!E32+'원가계산서(해체)'!E32 -> #REF! | P33: =E33-N33 -> #REF!
A34: CS | D34: [ 소 계 ] | E34: =SUM(F34:J34) -> #REF! | F34: =TRUNC(F12+F13+F14+F15+F16+F17+F18+F20+F21+F19+F24+F25+F26+F27+F28+F29+F30+F31+F32+F33, 0) -> #REF! | G34: =TRUNC(G12+G13+G14+G15+G16+G17+G18+G20+G21+G19+G24+G25+G26+G27+G28+G29+G30+G31+G32+G33, 0) -> #REF! | H34: =TRUNC(H12+H13+H14+H15+H16+H17+H18+H20+H21+H19+H24+H25+H26+H27+H28+H29+H30+H31+H32+H33, 0) -> #REF! | I34: =TRUNC(I12+I13+I14+I15+I16+I17+I18+I20+I21+I19+I24+I25+I26+I27+I28+I29+I30+I31+I32+I33, 0) -> #REF! | J34: =TRUNC(J12+J13+J14+J15+J16+J17+J18+J20+J21+J19+J24+J25+J26+J27+J28+J29+J30+J31+J32+J33, 0) -> #REF! | N34: ='원가계산서(건축)'!E33+'원가계산서(기계)'!E33+'원가계산서(조경)'!E33+'원가계산서(토목)'!E33+'원가계산서(해체)'!E33 -> #REF! | P34: =E34-N34 -> #REF!
A35: S1 | B35: 계 | E35: =SUM(F35:J35) -> #REF! | F35: =TRUNC(F8+F11+F34, 0) -> #REF! | G35: =TRUNC(G8+G11+G34, 0) -> #REF! | H35: =TRUNC(H8+H11+H34, 0) -> #REF! | I35: =TRUNC(I8+I11+I34, 0) -> #REF! | J35: =TRUNC(J8+J11+J34, 0) -> #REF! | N35: ='원가계산서(건축)'!E34+'원가계산서(기계)'!E34+'원가계산서(조경)'!E34+'원가계산서(토목)'!E34+'원가계산서(해체)'!E34 -> #REF! | P35: =E35-N35 -> #REF!
A36: D1 | B36: 일 반 관 리 비 | E36: =SUM(F36:J36) -> #REF! | F36: =TRUNC(F35*0.065, 0) -> #REF! | G36: =TRUNC(G35*0.065, 0) -> #REF! | H36: =TRUNC(H35*0.065, 0) -> #REF! | I36: =TRUNC(I35*0.065, 0) -> #REF! | J36: =TRUNC(J35*0.065, 0) -> #REF! | K36: 계 * 6.5% | N36: ='원가계산서(건축)'!E35+'원가계산서(기계)'!E35+'원가계산서(조경)'!E35+'원가계산서(토목)'!E35+'원가계산서(해체)'!E35 -> #REF! | P36: =E36-N36 -> #REF!
A37: D2 | B37: 이 윤 | E37: =SUM(F37:J37) -> #REF! | F37: =TRUNC((F11+F34+F36)*0.12-20/1.1, 0) -> #REF! | G37: =TRUNC((G11+G34+G36)*0.12-557/1.1, 0) -> #REF! | H37: =TRUNC((H11+H34+H36)*0.12-749/1.1, 0) -> #REF! | I37: =TRUNC((I11+I34+I36)*0.12-994/1.1, 0) -> #REF! | J37: =TRUNC((J11+J34+J36)*0.12-230/1.1, 0) -> #REF! | K37: (노무비+경비+일반관리비) * 11% | N37: ='원가계산서(건축)'!E36+'원가계산서(기계)'!E36+'원가계산서(조경)'!E36+'원가계산서(토목)'!E36+'원가계산서(해체)'!E36 -> #REF! | P37: =E37-N37 -> #REF!
B38: 건설폐기물상차비 | E38: =SUM(F38:J38) -> #REF! | F38: ='원가계산서(건축)'!E37 -> #REF! | G38: ='원가계산서(기계)'!E37 -> 0 | H38: ='원가계산서(조경)'!E37 -> 0 | I38: ='원가계산서(토목)'!E37 -> #REF! | J38: ='원가계산서(해체)'!E37 -> #REF! | N38: ='원가계산서(건축)'!E37+'원가계산서(기계)'!E37+'원가계산서(조경)'!E37+'원가계산서(토목)'!E37+'원가계산서(해체)'!E37 -> #REF! | P38: =E38-N38 -> #REF!
B39: 작업부산물(해체) | E39: =SUM(F39:J39) -> #REF! | F39: ='원가계산서(건축)'!E38 -> 0 | G39: ='원가계산서(기계)'!E38 -> 0 | H39: ='원가계산서(조경)'!E38 -> 0 | I39: ='원가계산서(토목)'!E38 -> 0 | J39: ='원가계산서(해체)'!E38 -> #REF! | N39: ='원가계산서(건축)'!E38+'원가계산서(기계)'!E38+'원가계산서(조경)'!E38+'원가계산서(토목)'!E38+'원가계산서(해체)'!E38 -> #REF! | P39: =E39-N39 -> #REF!
B40: 고용개선지원비(PS단가) | E40: =SUM(F40:J40) -> #REF! | F40: =SUM(F41+F42+F43+F44) -> #REF! | G40: =SUM(G41+G42+G43+G44) -> #REF! | H40: =SUM(H41+H42+H43+H44) -> #REF! | I40: =SUM(I41+I42+I43+I44) -> #REF! | J40: =SUM(J41+J42+J43+J44) -> #REF! | K40: * 주휴수당+(국민연금+건강보험료)+고용개선장려금 | N40: ='원가계산서(건축)'!E39+'원가계산서(기계)'!E39+'원가계산서(조경)'!E39+'원가계산서(토목)'!E39+'원가계산서(해체)'!E39 -> #REF! | P40: =E40-N40 -> #REF!
B41: * 주 휴 수 당 | E41: =SUM(F41:J41) -> #REF! | F41: =TRUNC(F9*0.128*0.5*1.4) -> #REF! | G41: =TRUNC(G9*0.128*0.5*1.4) -> #REF! | H41: =TRUNC(H9*0.128*0.5*1.4) -> #REF! | I41: =TRUNC(I9*0.128*0.5*1.4) -> #REF! | J41: =TRUNC(J9*0.128*0.5*1.4) -> #REF! | K41: 직노*12.8%*50%*1.4 | N41: ='원가계산서(건축)'!E40+'원가계산서(기계)'!E40+'원가계산서(조경)'!E40+'원가계산서(토목)'!E40+'원가계산서(해체)'!E40 -> #REF! | P41: =E41-N41 -> #REF!
...

Sheet 원가계산서(건축)
B1: 공 사 원 가 계 산 서
B2: 공사명 : 송파2동 복합청사 신축설계용역 - 건축
B3: 비 목 | F3: 구 성 비 | G3: 비 고
A4: A1 | B4: 순 공 사 원 가 | C4: 재 료 비 | D4: 직 접 재 료 비 | E4: =#REF! -> #REF!
A5: A2 | D5: 간 접 재 료 비
A6: A3 | D6: 작업설, 부산물(△) | E6: 0
A7: AS | D7: [ 소 계 ] | E7: =TRUNC(E4+E5-E6, 0) -> #REF!
A8: B1 | C8: 노 무 비 | D8: 직 접 노 무 비 | E8: =#REF! -> #REF!
A9: B2 | D9: 간 접 노 무 비 | E9: =TRUNC(E8*0.181, 0) -> #REF! | F9: 직접노무비 * 18.1%
A10: BS | D10: [ 소 계 ] | E10: =TRUNC(E8+E9, 0) -> #REF!
C11: 경 비 | D11: 운 반 비
A12: C2 | D12: 기 계 경 비 | E12: =#REF! -> #REF!
A13: C3 | D13: 가 설 비
A14: C4 | D14: 산 재 보 험 료 | E14: =TRUNC(E10*0.0356, 0) -> #REF! | F14: 노무비 * 3.56%
A15: C5 | D15: 고 용 보 험 료 | E15: =TRUNC(E10*0.0101, 0) -> #REF! | F15: 노무비 * 1.01%
A16: C6 | D16: 국민 건강 보험료 | E16: =TRUNC(E8*0.03595, 0) -> #REF! | F16: 직접노무비 * 3.595%
A17: C7 | D17: 국민 연금 보험료 | E17: =TRUNC(E8*0.0475, 0) -> #REF! | F17: 직접노무비 * 4.75%
A18: CB | D18: 노인장기요양보험료 | E18: =TRUNC(E16*0.1314, 0) -> #REF! | F18: 건강보험료 * 13.14%
A19: C8 | D19: 퇴직 공제 부금비 | E19: =TRUNC(E8*0.023, 0) -> #REF! | F19: 직접노무비 * 2.3%
A20: CA | D20: 산업안전보건관리비 | E20: =TRUNC((E7+E8+((0+E50)/1.1054))*0.0228+4325000, 0) -> #REF! | F20: A와B중 작은 금액
E21: =TRUNC((E7+E8+((0+E50)/1.1054))*0.0228+4325000, 0) -> #REF! | F21: a. (재료비+직노+도급자관급) *2.28%+4325000
E22: =TRUNC(((E7+E8)*0.0228+4325000)*1.2, 0) -> #REF! | F22: b. ((재료비+직노) *2.28%+4325000)*1.2
D23: 안 전 관 리 비 | E23: =#REF! -> #REF!
D24: 동 영 상 촬 영 비 | E24: =#REF! -> #REF!
D25: 품 질 관 리 비 | E25: =#REF! -> #REF!
A26: CH | D26: 환 경 보 전 비 | E26: =TRUNC((E7+E8+E11+E12)*0.005, 0) -> #REF! | F26: (재료비+직노+기계경비) * 0.5%
D27: 석 면 분 담 금 | E27: =TRUNC(E10*0.00006, 0) -> #REF! | F27: 노무비 * 0.006%
D28: 임금채권 부담금 | E28: =TRUNC(E10*0.0009, 0) -> #REF! | F28: 노무비 * 0.09%
A29: CG | D29: 기 타 경 비 | E29: =TRUNC((E7+E10)*0.057, 0) -> #REF! | F29: (재료비+노무비) * 5.7%
D30: 공사이행보증수수료
A31: CK | D31: 하도급지급보증수수료 | E31: =TRUNC((E7+E8+E11+E12)*0.0008, 0) -> #REF! | F31: (재료비+직노+기계경비) * 0.08%
A32: CL | D32: 건설기계대여금지급보증서발급수수료 | E32: =TRUNC((E7+E8+E11+E12)*0.0007, 0) -> #REF! | F32: (재료비+직노+기계경비) * 0.07%
A33: CS | D33: [ 소 계 ] | E33: =TRUNC(E11+E12+E13+E14+E15+E16+E17+E19+E20+E18+E23+E24+E25+E26+E27+E28+E29+E30+E31+E32, 0) -> #REF!
A34: S1 | B34: 계 | E34: =TRUNC(E7+E10+E33, 0) -> #REF!
A35: D1 | B35: 일 반 관 리 비 | E35: =TRUNC(E34*0.065, 0) -> #REF! | F35: 계 * 6.5%
A36: D2 | B36: 이 윤 | E36: =TRUNC((E10+E33+E35)*0.12-20/1.1, 0) -> #REF! | F36: (노무비+경비+일반관리비) * 11% | G36: (절사:-20/1.1)
B37: 건설폐기물상차비 | E37: =#REF! -> #REF!
B38: 작업부산물(해체)
B39: 고용개선지원비(PS단가) | E39: =SUM(E40+E41+E42+E43) -> #REF! | F39: * 주휴수당+(국민연금+건강보험료)+고용개선장려금
B40: * 주 휴 수 당 | E40: =TRUNC(E8*0.128*0.5*1.4) -> #REF! | F40: 직노*12.8%*50%*1.4
...

Sheet 원가계산서(기계)
B1: 공 사 원 가 계 산 서
B2: 공사명 : 송파2동 복합청사 신축설계용역 - 기계
B3: 비 목 | F3: 구 성 비 | G3: 비 고 | K3: 재료비 | L3: 노무비 | M3: 경비 | N3: 합계
A4: A1 | B4: 순 공 사 원 가 | C4: 재 료 비 | D4: 직 접 재 료 비 | E4: =#REF! -> #REF! | N4: =K4+L4+M4 -> 0
A5: A2 | D5: 간 접 재 료 비
A6: A3 | D6: 작업설, 부산물(△) | E6: 0
A7: AS | D7: [ 소 계 ] | E7: =TRUNC(E4+E5-E6, 0) -> #REF!
A8: B1 | C8: 노 무 비 | D8: 직 접 노 무 비 | E8: =#REF! -> #REF!
A9: B2 | D9: 간 접 노 무 비 | E9: =TRUNC(E8*0.181, 0) -> #REF! | F9: 직접노무비 * 18.1%
A10: BS | D10: [ 소 계 ] | E10: =TRUNC(E8+E9, 0) -> #REF!
C11: 경 비 | D11: 운 반 비
A12: C2 | D12: 기 계 경 비 | E12: =#REF! -> #REF!
A13: C3 | D13: 가 설 비
A14: C4 | D14: 산 재 보 험 료 | E14: =TRUNC(E10*0.0356, 0) -> #REF! | F14: 노무비 * 3.56%
A15: C5 | D15: 고 용 보 험 료 | E15: =TRUNC(E10*0.0101, 0) -> #REF! | F15: 노무비 * 1.01%
A16: C6 | D16: 국민 건강 보험료 | E16: =TRUNC(E8*0.03595, 0) -> #REF! | F16: 직접노무비 * 3.595%
A17: C7 | D17: 국민 연금 보험료 | E17: =TRUNC(E8*0.0475, 0) -> #REF! | F17: 직접노무비 * 4.75%
A18: CB | D18: 노인장기요양보험료 | E18: =TRUNC(E16*0.1314, 0) -> #REF! | F18: 건강보험료 * 13.14%
A19: C8 | D19: 퇴직 공제 부금비 | E19: =TRUNC(E8*0.023, 0) -> #REF! | F19: 직접노무비 * 2.3%
A20: CA | D20: 산업안전보건관리비 | E20: =TRUNC((E7+E8+((0+E50)/1.1054))*0.0228, 0) -> #REF! | F20: A와B중 작은 금액 | G20: 기초액은 건축에 산입함
E21: =TRUNC((E7+E8+((0+E50)/1.1054))*0.0228, 0) -> #REF! | F21: a. (재료비+직노+도급자관급) *2.28%+4325000 | G21: 기초액은 건축에 산입함
E22: =TRUNC(((E7+E8)*0.0228)*1.2, 0) -> #REF! | F22: b. ((재료비+직노) *2.28%+4325000)*1.2 | G22: 기초액은 건축에 산입함
D23: 안 전 관 리 비
D24: 동 영 상 촬 영 비
D25: 품 질 관 리 비
A26: CH | D26: 환 경 보 전 비 | E26: =TRUNC((E7+E8+E11+E12)*0.005, 0) -> #REF! | F26: (재료비+직노+기계경비) * 0.5%
D27: 석 면 분 담 금 | E27: =TRUNC(E10*0.00006, 0) -> #REF! | F27: 노무비 * 0.006%
A28: CG | D28: 임금채권 부담금 | E28: =TRUNC(E10*0.0009, 0) -> #REF! | F28: 노무비 * 0.09%
D29: 기 타 경 비 | E29: =TRUNC((E7+E10)*0.057, 0) -> #REF! | F29: (재료비+노무비) * 5.7%
A30: CK | D30: 공사이행보증수수료
A31: CL | D31: 하도급지급보증수수료 | E31: =TRUNC((E7+E8+E11+E12)*0.0008, 0) -> #REF! | F31: (재료비+직노+기계경비) * 0.08%
A32: CS | D32: 건설기계대여금지급보증서발급수수료 | E32: =TRUNC((E7+E8+E11+E12)*0.0007, 0) -> #REF! | F32: (재료비+직노+기계경비) * 0.07%
A33: S1 | D33: [ 소 계 ] | E33: =TRUNC(E11+E12+E13+E14+E15+E16+E17+E19+E20+E18+E23+E24+E25+E26+E27+E28+E29+E30+E31+E32, 0) -> #REF!
A34: D1 | B34: 계 | E34: =TRUNC(E7+E10+E33, 0) -> #REF!
A35: D2 | B35: 일 반 관 리 비 | E35: =TRUNC(E34*0.065, 0) -> #REF! | F35: 계 * 6.5%
B36: 이 윤 | E36: =TRUNC((E10+E33+E35)*0.12-557/1.1, 0) -> #REF! | F36: (노무비+경비+일반관리비) * 12% | G36: (절사:-557/1.1)
B37: 건설폐기물상차비
A38: D9 | B38: 작업부산물(해체)
A39: DB | B39: 고용개선지원비(PS단가) | E39: =SUM(E40+E41+E42+E43) -> #REF! | F39: * 주휴수당+(국민연금+건강보험료)+고용개선장려금
A40: DH | B40: * 주 휴 수 당 | E40: =TRUNC(E8*0.128*0.5*1.4) -> #REF! | F40: 직노*12.8%*50%*1.4
...

Sheet 원가계산서(조경)
B1: 공 사 원 가 계 산 서
B2: 공사명 : 송파2동 복합청사 신축설계용역 - 조경
B3: 비 목 | F3: 구 성 비 | G3: 비 고 | K3: 재료비 | L3: 노무비 | M3: 경비 | N3: 합계
A4: A1 | B4: 순 공 사 원 가 | C4: 재 료 비 | D4: 직 접 재 료 비 | E4: =#REF! -> #REF! | N4: =K4+L4+M4 -> 0
A5: A2 | D5: 간 접 재 료 비
A6: A3 | D6: 작업설, 부산물(△) | E6: 0
A7: AS | D7: [ 소 계 ] | E7: =TRUNC(E4+E5-E6, 0) -> #REF!
A8: B1 | C8: 노 무 비 | D8: 직 접 노 무 비 | E8: =#REF! -> #REF!
A9: B2 | D9: 간 접 노 무 비 | E9: =TRUNC(E8*0.181, 0) -> #REF! | F9: 직접노무비 * 18.1%
A10: BS | D10: [ 소 계 ] | E10: =TRUNC(E8+E9, 0) -> #REF!
C11: 경 비 | D11: 운 반 비
A12: C2 | D12: 기 계 경 비 | E12: =#REF! -> #REF!
A13: C3 | D13: 가 설 비
A14: C4 | D14: 산 재 보 험 료 | E14: =TRUNC(E10*0.0356, 0) -> #REF! | F14: 노무비 * 3.56%
A15: C5 | D15: 고 용 보 험 료 | E15: =TRUNC(E10*0.0101, 0) -> #REF! | F15: 노무비 * 1.01%
A16: C6 | D16: 국민 건강 보험료 | E16: =TRUNC(E8*0.03595, 0) -> #REF! | F16: 직접노무비 * 3.595%
A17: C7 | D17: 국민 연금 보험료 | E17: =TRUNC(E8*0.0475, 0) -> #REF! | F17: 직접노무비 * 4.75%
A18: CB | D18: 노인장기요양보험료 | E18: =TRUNC(E16*0.1314, 0) -> #REF! | F18: 건강보험료 * 13.14%
A19: C8 | D19: 퇴직 공제 부금비 | E19: =TRUNC(E8*0.023, 0) -> #REF! | F19: 직접노무비 * 2.3%
A20: CA | D20: 산업안전보건관리비 | E20: =TRUNC((E7+E8+((0+E50)/1.1054))*0.0228, 0) -> #REF! | F20: A와B중 작은 금액 | G20: 기초액은 건축에 산입함
E21: =TRUNC((E7+E8+((0+E50)/1.1054))*0.0228, 0) -> #REF! | F21: a. (재료비+직노+도급자관급) *2.28%+4325000 | G21: 기초액은 건축에 산입함
E22: =TRUNC(((E7+E8)*0.0228)*1.2, 0) -> #REF! | F22: b. ((재료비+직노) *2.28%+4325000)*1.2 | G22: 기초액은 건축에 산입함
D23: 안 전 관 리 비
D24: 동 영 상 촬 영 비
D25: 품 질 관 리 비
A26: CH | D26: 환 경 보 전 비 | E26: =TRUNC((E7+E8+E11+E12)*0.005, 0) -> #REF! | F26: (재료비+직노+기계경비) * 0.5%
D27: 석 면 분 담 금 | E27: =TRUNC(E10*0.00006, 0) -> #REF! | F27: 노무비 * 0.006%
A28: CG | D28: 임금채권 부담금 | E28: =TRUNC(E10*0.0009, 0) -> #REF! | F28: 노무비 * 0.09%
D29: 기 타 경 비 | E29: =TRUNC((E7+E10)*0.057, 0) -> #REF! | F29: (재료비+노무비) * 5.7%
A30: CK | D30: 공사이행보증수수료
A31: CL | D31: 하도급지급보증수수료 | E31: =TRUNC((E7+E8+E11+E12)*0.0008, 0) -> #REF! | F31: (재료비+직노+기계경비) * 0.08%
A32: CS | D32: 건설기계대여금지급보증서발급수수료 | E32: =TRUNC((E7+E8+E11+E12)*0.0007, 0) -> #REF! | F32: (재료비+직노+기계경비) * 0.07%
A33: S1 | D33: [ 소 계 ] | E33: =TRUNC(E11+E12+E13+E14+E15+E16+E17+E19+E20+E18+E23+E24+E25+E26+E27+E28+E29+E30+E31+E32, 0) -> #REF!
A34: D1 | B34: 계 | E34: =TRUNC(E7+E10+E33, 0) -> #REF!
A35: D2 | B35: 일 반 관 리 비 | E35: =TRUNC(E34*0.065, 0) -> #REF! | F35: 계 * 6.5%
B36: 이 윤 | E36: =TRUNC((E10+E33+E35)*0.12-749/1.1, 0) -> #REF! | F36: (노무비+경비+일반관리비) * 12% | G36: (절사:-749/1.1)
B37: 건설폐기물상차비
A38: D9 | B38: 작업부산물(해체)
A39: DB | B39: 고용개선지원비(PS단가) | E39: =SUM(E40+E41+E42+E43) -> #REF! | F39: * 주휴수당+(국민연금+건강보험료)+고용개선장려금
A40: DH | B40: * 주 휴 수 당 | E40: =TRUNC(E8*0.128*0.5*1.4) -> #REF! | F40: 직노*12.8%*50%*1.4
...

Sheet 원가계산서(해체)
B1: 공 사 원 가 계 산 서
B2: 공사명 : 송파2동 복합청사 신축설계용역 - 해체공사
B3: 비 목 | F3: 구 성 비 | G3: 비 고
A4: A1 | B4: 순 공 사 원 가 | C4: 재 료 비 | D4: 직 접 재 료 비 | E4: =#REF! -> #REF!
A5: A2 | D5: 간 접 재 료 비
A6: A3 | D6: 작업설, 부산물(△) | E6: 0
A7: AS | D7: [ 소 계 ] | E7: =TRUNC(E4+E5-E6, 0) -> #REF!
A8: B1 | C8: 노 무 비 | D8: 직 접 노 무 비 | E8: =#REF! -> #REF!
A9: B2 | D9: 간 접 노 무 비 | E9: =TRUNC(E8*0.181, 0) -> #REF! | F9: 직접노무비 * 18.1%
A10: BS | D10: [ 소 계 ] | E10: =TRUNC(E8+E9, 0) -> #REF!
C11: 경 비 | D11: 운 반 비
A12: C2 | D12: 기 계 경 비 | E12: =#REF! -> #REF!
A13: C3 | D13: 가 설 비
A14: C4 | D14: 산 재 보 험 료 | E14: =TRUNC(E10*0.0356, 0) -> #REF! | F14: 노무비 * 3.56%
A15: C5 | D15: 고 용 보 험 료 | E15: =TRUNC(E10*0.0101, 0) -> #REF! | F15: 노무비 * 1.01%
A16: C6 | D16: 국민 건강 보험료 | E16: =TRUNC(E8*0.03595, 0) -> #REF! | F16: 직접노무비 * 3.595%
A17: C7 | D17: 국민 연금 보험료 | E17: =TRUNC(E8*0.0475, 0) -> #REF! | F17: 직접노무비 * 4.75%
A18: CB | D18: 노인장기요양보험료 | E18: =TRUNC(E16*0.1314, 0) -> #REF! | F18: 건강보험료 * 13.14%
A19: C8 | D19: 퇴직 공제 부금비 | E19: =TRUNC(E8*0.023, 0) -> #REF! | F19: 직접노무비 * 2.3%
A20: CA | D20: 산업안전보건관리비 | E20: =TRUNC((E7+E8+((0+E50)/1.1054))*0.0228, 0) -> #REF! | F20: A와B중 작은 금액 | G20: 기초액은 건축에 산입함
E21: =TRUNC((E7+E8+((0+E50)/1.1054))*0.0228, 0) -> #REF! | F21: a. (재료비+직노+도급자관급) *2.28%+4325000 | G21: 기초액은 건축에 산입함
E22: =TRUNC(((E7+E8)*0.0228)*1.2, 0) -> #REF! | F22: b. ((재료비+직노) *2.28%+4325000)*1.2 | G22: 기초액은 건축에 산입함
D23: 안 전 관 리 비
D24: 동 영 상 촬 영 비
D25: 품 질 관 리 비
A26: CH | D26: 환 경 보 전 비 | E26: =TRUNC((E7+E8+E11+E12)*0.005, 0) -> #REF! | F26: (재료비+직노+기계경비) * 0.5%
D27: 석 면 분 담 금 | E27: =TRUNC(E10*0.00006, 0) -> #REF! | F27: 노무비 * 0.006%
D28: 임금채권 부담금 | E28: =TRUNC(E10*0.0009, 0) -> #REF! | F28: 노무비 * 0.09%
A29: CG | D29: 기 타 경 비 | E29: =TRUNC((E7+E10)*0.057, 0) -> #REF! | F29: (재료비+노무비) * 5.7%
D30: 공사이행보증수수료
A31: CK | D31: 하도급지급보증수수료 | E31: =TRUNC((E7+E8+E11+E12)*0.0008, 0) -> #REF! | F31: (재료비+직노+기계경비) * 0.08%
A32: CL | D32: 건설기계대여금지급보증서발급수수료 | E32: =TRUNC((E7+E8+E11+E12)*0.0007, 0) -> #REF! | F32: (재료비+직노+기계경비) * 0.07%
A33: CS | D33: [ 소 계 ] | E33: =TRUNC(E11+E12+E13+E14+E15+E16+E17+E19+E20+E18+E23+E24+E25+E26+E27+E28+E29+E30+E31+E32, 0) -> #REF!
A34: S1 | B34: 계 | E34: =TRUNC(E7+E10+E33, 0) -> #REF!
A35: D1 | B35: 일 반 관 리 비 | E35: =TRUNC(E34*0.065, 0) -> #REF! | F35: 계 * 6.5%
A36: D2 | B36: 이 윤 | E36: =TRUNC((E10+E33+E35)*0.12-230/1.1, 0) -> #REF! | F36: (노무비+경비+일반관리비) * 12% | G36: (절사:-230/1.1)
B37: 건설폐기물상차비 | E37: =#REF! -> #REF!
B38: 작업부산물(해체) | E38: =#REF! -> #REF!
B39: 고용개선지원비(PS단가) | E39: =SUM(E40+E41+E42+E43) -> #REF! | F39: * 주휴수당+(국민연금+건강보험료)+고용개선장려금
B40: * 주 휴 수 당 | E40: =TRUNC(E8*0.128*0.5*1.4) -> #REF! | F40: 직노*12.8%*50%*1.4
...

Sheet 공종별내역서(건축)
A1: [ 송파2동 복합청사 ]
A2: 품 명 | B2: 규 격 | C2: 단위 | D2: 수량 | E2: 재 료 비 | G2: 노 무 비 | I2: 경 비 | K2: 합 계 | M2: 비 고 | N2: 품목코드 | O2: 변수 | P2: 설정 | Q2: 공종코드 | R2: 일위 | S2: 단산 | T2: 자재 | U2: 손료적용 | V2: 손료저장 | W2: 적용율 | X2: JUK1 | Y2: JUK2 | Z2: JUK3 | AA2: JUK4 | AB2: JUK5 | AC2: JUK6 | AD2: JUK7 | AE2: JUK8 | AF2: JUK9 | AG2: JUK10 | AH2: JUK11 | AI2: JUK12 | AJ2: JUK13 | AK2: JUK14 | AL2: JUK15 | AM2: JUK16 | AN2: JUK17 | AO2: JUK18 | AP2: JUK19 | AQ2: JUK20 | AR2: 자재구분 | AS2: 공종구분 | AT2: 공종레벨 | AU2: 공종+자재 | AV2: 고유번호
E3: 단 가 | F3: 금 액 | G3: 단 가 | H3: 금 액 | I3: 단 가 | J3: 금 액 | K3: 단 가 | L3: 금 액
A4: 공통 가설 공사 | B4: ■ 건 축 공 사 ■ | Q4: 010101
A5: 가설울타리 설치 및 해체 | B5: RPP, 6m, 23개월 | C5: M | D5: 107 | M5: 호표 22 | N5: 59F40596CA69DDB380C1CB0F7AF9C6 | Q5: 010101 | R5: T | S5: F | T5: F | AU5: 01010159F40596CA69DDB380C1CB0F7AF9C6 | AV5: 110
A6: 가설울타리출입구 설치 및 해체 | B6: RPP, 6m*4m, 23개월 | C6: EA | D6: 1 | M6: 호표 23 | N6: 59F40596CA69DDB380C1CB0F7AF976 | Q6: 010101 | R6: T | S6: F | T6: F | AU6: 01010159F40596CA69DDB380C1CB0F7AF976 | AV6: 111
A7: 콘테이너형 가설사무소 설치 및 해체 | B7: 3.0*6.0m, 22개월 | C7: 개소 | D7: 1 | M7: 호표 46 | N7: 59F40595276CC5CF854A80DA725646 | Q7: 010101 | R7: T | S7: F | T7: F | AU7: 01010159F40595276CC5CF854A80DA725646 | AV7: 112
A8: 콘테이너형 가설창고 설치 및 해체 | B8: 3.0*6.0m, 22개월 | C8: 개소 | D8: 1 | M8: 호표 48 | N8: 59F40595276CF2F48857B9607D0666 | Q8: 010101 | R8: T | S8: F | T8: F | AU8: 01010159F40595276CF2F48857B9607D0666 | AV8: 113
A9: 콘테이너형 가설실험실 설치 및 해체 | B9: 3.0*6.0m, 22개월 | C9: 개소 | D9: 1 | M9: 호표 49 | N9: 59F40595276CF2F48857B9607D0656 | Q9: 010101 | R9: T | S9: F | T9: F | AU9: 01010159F40595276CF2F48857B9607D0656 | AV9: 114
A10: 방진망 설치 및 해체 | B10: P.E, 1.5*150m | C10: M2 | D10: 107 | M10: 호표 27 | N10: 59F40596C96FCF7581F482327DC486 | Q10: 010101 | R10: T | S10: F | T10: F | AU10: 01010159F40596C96FCF7581F482327DC486 | AV10: 115
A11: 현장내 자재 상,하차비 | B11: 지게차 2.5ton | C11: 일 | D11: 5 | M11: 호표 50 | N11: 59F40595276CF2F48857B9617F93D6 | Q11: 010101 | R11: T | S11: F | T11: F | AU11: 01010159F40595276CF2F48857B9617F93D6 | AV11: 473
Q12: 010101
Q13: 010101
Q14: 010101
Q15: 010101
Q16: 010101
Q17: 010101
Q18: 010101
Q19: 010101
Q20: 010101
Q21: 010101
Q22: 010101
Q23: 010101
... Q26: 010101
A27: [ 합 계 ] | N27: TOTAL
A28: 가 설 공 사 | B28: ■ 건 축 공 사 ■ | Q28: 010102
A29: 강관 조립말비계(이동식)설치 및 해체 | B29: 높이 2m, 3개월 | C29: 대 | D29: 19 | M29: 호표 30 | N29: 59F40596C86ECA8382F03D657DBC46 | Q29: 010102 | R29: T | S29: F | T29: F | AU29: 01010259F40596C86ECA8382F03D657DBC46 | AV29: 175
A30: 강관 조립말비계(이동식)설치 및 해체 | B30: 높이 4m, 3개월 | C30: 대 | D30: 2 | M30: 호표 31 | N30: 59F40596C86ECA8382F03E0C745156 | Q30: 010102 | R30: T | S30: F | T30: F | AU30: 01010259F40596C86ECA8382F03E0C745156 | AV30: 176
A31: 시스템비계 설치 및 해체 | B31: 10m 이하, 12개월 (발판유) | C31: M2 | D31: 2113 | M31: 호표 33 | N31: 59F40596C86ECA8380C7A21F7669A6 | Q31: 010102 | R31: T | S31: F | T31: F | AU31: 01010259F40596C86ECA8380C7A21F7669A6 | AV31: 177
A32: 시스템비계 설치 및 해체 | B32: 10m 초과~20m 이하, 12개월 (발판유) | C32: M2 | D32: 992 | M32: 호표 35 | N32: 59F40596C86ECA8380C4EE587587E6 | Q32: 010102 | R32: T | S32: F | T32: F | AU32: 01010259F40596C86ECA8380C4EE587587E6 | AV32: 178
A33: 시스템비계 설치 및 해체 | B33: 20m 초과~30m 이하, 12개월 (발판유) | C33: M2 | D33: 88 | M33: 호표 37 | N33: 59F40596C86ECA8380C5F4A37A6496 | Q33: 010102 | R33: T | S33: F | T33: F | AU33: 01010259F40596C86ECA8380C5F4A37A6496 | AV33: 180
A34: 비계주위 보호막 설치 및 해체 | B34: PVC코팅, #1500, 1.8*1.8m /설치비는 비계에포함 | C34: M2 | D34: 2605 | M34: 호표 25 | N34: 59F40596C96FCF7581F487B47D5356 | Q34: 010102 | R34: T | S34: F | T34: F | AU34: 01010259F40596C96FCF7581F487B47D5356 | AV34: 179
A35: 목재 평 규준틀 설치 및 철거 | C35: 개소 | D35: 18 | M35: 호표 38 | N35: 59F40596C86ECA9D8CF1102F7F5626 | Q35: 010102 | R35: T | S35: F | T35: F | AU35: 01010259F40596C86ECA9D8CF1102F7F5626 | AV35: 181
A36: 목재 귀 규준틀 설치 및 철거 | C36: 개소 | D36: 7 | M36: 호표 39 | N36: 59F40596C86ECA9D8CF113E377B1A6 | Q36: 010102 | R36: T | S36: F | T36: F | AU36: 01010259F40596C86ECA9D8CF113E377B1A6 | AV36: 182
A37: 강관동바리 설치 및 해체 | B37: 3.5m 이하 | C37: M2 | D37: 110 | M37: 호표 40 | N37: 59F40596C86EF7E4830B19B074F1D6 | Q37: 010102 | R37: T | S37: F | T37: F | AU37: 01010259F40596C86EF7E4830B19B074F1D6 | AV37: 183
A38: 강관동바리 설치 및 해체 | B38: 3.5m~4.2m이하, 간격 0.6~0.8m이하, 55m2 | C38: M2 | D38: 2021 | M38: 호표 41 | N38: 59F40596C86EF7E4830B18A975E6C6 | Q38: 010102 | R38: T | S38: F | T38: F | AU38: 01010259F40596C86EF7E4830B18A975E6C6 | AV38: 184
A39: 시스템동바리 설치 및 해체 | B39: 5m이하 | C39: 10공M3 | D39: 6 | M39: 호표 43 | N39: 59F40596C86EF7F68E8FE5167E9D26 | Q39: 010102 | R39: T | S39: F | T39: F | AU39: 01010259F40596C86EF7F68E8FE5167E9D26 | AV39: 186
A40: 시스템동바리 설치 및 해체 | B40: 5m초과~10m 이하 | C40: 10공M3 | D40: 106 | M40: 호표 45 | N40: 59F40596C86EF7F68E8EDE25738ED6 | Q40: 010102 | R40: T | S40: F | T40: F | AU40: 01010259F40596C86EF7F68E8EDE25738ED6 | AV40: 185
A41: 건축물 현장정리 | B41: 철근콘크리트조, 철골·철근콘크리트조 | C41: M2 | D41: 2454 | M41: 호표 57 | N41: 59F405937669B0C082D208A97007D6 | Q41: 010102 | R41: T | S41: F | T41: F | AU41: 01010259F405937669B0C082D208A97007D6 | AV41: 187
A42: 구조부 먹매김 | B42: 일반 | C42: M2 | D42: 2454 | M42: 호표 58 | N42: 59F40593756F64EE83A7984671BF16 | Q42: 010102 | R42: T | S42: F | T42: F | AU42: 01010259F40593756F64EE83A7984671BF16 | AV42: 188
...

Sheet 일위대가(건축)
A1: [ 송파2동 복합청사 ]
A2: 품 명 | B2: 규 격 | C2: 단위 | D2: 수량 | E2: 재 료 비 | G2: 노 무 비 | I2: 경 비 | K2: 합 계 | M2: 비 고 | N2: 일위대가 | O2: 품목코드 | P2: 일위 | Q2: 단산 | R2: 자재 | S2: 손료적용 | T2: 손료저장 | U2: 적용율 | V2: JUK1 | W2: JUK2 | X2: JUK3 | Y2: JUK4 | Z2: JUK5 | AA2: JUK6 | AB2: JUK7 | AC2: JUK8 | AD2: JUK9 | AE2: JUK10 | AF2: JUK11 | AG2: JUK12 | AH2: JUK13 | AI2: JUK14 | AJ2: JUK15 | AK2: JUK16 | AL2: JUK17 | AM2: JUK18 | AN2: JUK19 | AO2: JUK20 | AP2: 할증적용 | AQ2: 할증저장 | AR2: 할증율 | AS2: HAL1 | AT2: HAL2 | AU2: HAL3 | AV2: 자재구분 | AW2: 일위대가+자재 | AX2: 장비일위 | AY2: 설정 | AZ2: 할증체크
E3: 단 가 | F3: 금 액 | G3: 단 가 | H3: 금 액 | I3: 단 가 | J3: 금 액 | K3: 단 가 | L3: 금 액
A4: 굴착기(무한궤도) 0.2㎥ HR 공통 8-3,4(0201) ( 호표 1 ) | N4: 5EE0559FA4622A668DE9ED827231E656E9937643
A5: 굴착기(무한궤도) | B5: 0.2㎥ | C5: 대 | D5: 0.2085 | M5: 자재 1 | N5: 5EE0559FA4622A668DE9ED827231E656E9937643 | O5: 5EE0559FA4622A668DE9ED827231E656E99376 | P5: F | Q5: F | R5: T | AW5: 5EE0559FA4622A668DE9ED827231E656E99376435EE0559FA4622A668DE9ED827231E656E99376
A6: 경유 | B6: 경유, 저유황 | C6: L | D6: 5 | M6: 자재 34 | N6: 5EE0559FA4622A668DE9ED827231E656E9937643 | O6: 5EF295D5AF650D478936B6877D07E686DA1048 | P6: F | Q6: F | R6: T | V6: 1 | AW6: 5EE0559FA4622A668DE9ED827231E656E99376435EF295D5AF650D478936B6877D07E686DA1048
A7: 잡재료 | B7: 주연료비의 21% | C7: 식 | D7: 1 | N7: 5EE0559FA4622A668DE9ED827231E656E9937643 | O7: 58EFE57DB668781985DA8D2A7606001 | P7: F | Q7: F | R7: F | S7: 0 | T7: 0 | U7: 0.21 | AW7: 5EE0559FA4622A668DE9ED827231E656E993764358EFE57DB668781985DA8D2A7606001
A8: 건설기계운전사 | B8: 일반공사 직종 | C8: 인 | D8: 1 | M8: 노임 23 | N8: 5EE0559FA4622A668DE9ED827231E656E9937643 | O8: 59279567876B2BCA8EB3AB81782F0286944A63 | P8: F | Q8: F | R8: T | AW8: 5EE0559FA4622A668DE9ED827231E656E993764359279567876B2BCA8EB3AB81782F0286944A63 | AX8: T
A9: [ 합 계 ] | N9: TOTAL | O9: TOTAL
A11: 덤프트럭 2.5ton HR 공통 8-3,4(0602) ( 호표 2 ) | N11: 5EE0559FA4622A2F828232347FE28AF6FA9B1C60
A12: 덤프트럭 | B12: 2.5ton | C12: 대 | D12: 0.2967 | M12: 자재 2 | N12: 5EE0559FA4622A2F828232347FE28AF6FA9B1C60 | O12: 5EE0559FA4622A2F828232347FE28AF6FA9B1C | P12: F | Q12: F | R12: T | AW12: 5EE0559FA4622A2F828232347FE28AF6FA9B1C605EE0559FA4622A2F828232347FE28AF6FA9B1C
A13: 경유 | B13: 경유, 저유황 | C13: L | D13: 2.9 | M13: 자재 34 | N13: 5EE0559FA4622A2F828232347FE28AF6FA9B1C60 | O13: 5EF295D5AF650D478936B6877D07E686DA1048 | P13: F | Q13: F | R13: T | V13: 1 | AW13: 5EE0559FA4622A2F828232347FE28AF6FA9B1C605EF295D5AF650D478936B6877D07E686DA1048
A14: 잡재료 | B14: 주연료비의 38% | C14: 식 | D14: 1 | N14: 5EE0559FA4622A2F828232347FE28AF6FA9B1C60 | O14: 58EFE57DB668781985DA8D2A7606001 | P14: F | Q14: F | R14: F | S14: 0 | T14: 0 | U14: 0.38 | AW14: 5EE0559FA4622A2F828232347FE28AF6FA9B1C6058EFE57DB668781985DA8D2A7606001
A15: 화물차운전사 | B15: 일반공사 직종 | C15: 인 | D15: 1 | M15: 노임 24 | N15: 5EE0559FA4622A2F828232347FE28AF6FA9B1C60 | O15: 59279567876B2BCA8EB3AB81782F0286944A62 | P15: F | Q15: F | R15: T | AW15: 5EE0559FA4622A2F828232347FE28AF6FA9B1C6059279567876B2BCA8EB3AB81782F0286944A62 | AX15: T
A16: [ 합 계 ] | N16: TOTAL | O16: TOTAL
A18: 덤프트럭 4.5ton HR 공통 8-3,4(0602) ( 호표 3 ) | N18: 5EE0559FA4622A2F828232347F8817868CA7835D
A19: 덤프트럭 | B19: 4.5ton | C19: 대 | D19: 0.2967 | M19: 자재 3 | N19: 5EE0559FA4622A2F828232347F8817868CA7835D | O19: 5EE0559FA4622A2F828232347F8817868CA783 | P19: F | Q19: F | R19: T | AW19: 5EE0559FA4622A2F828232347F8817868CA7835D5EE0559FA4622A2F828232347F8817868CA783
A20: 경유 | B20: 경유, 저유황 | C20: L | D20: 5 | M20: 자재 34 | N20: 5EE0559FA4622A2F828232347F8817868CA7835D | O20: 5EF295D5AF650D478936B6877D07E686DA1048 | P20: F | Q20: F | R20: T | V20: 1 | AW20: 5EE0559FA4622A2F828232347F8817868CA7835D5EF295D5AF650D478936B6877D07E686DA1048
A21: 잡재료 | B21: 주연료비의 38% | C21: 식 | D21: 1 | N21: 5EE0559FA4622A2F828232347F8817868CA7835D | O21: 58EFE57DB668781985DA8D2A7606001 | P21: F | Q21: F | R21: F | S21: 0 | T21: 0 | U21: 0.38 | AW21: 5EE0559FA4622A2F828232347F8817868CA7835D58EFE57DB668781985DA8D2A7606001
A22: 화물차운전사 | B22: 일반공사 직종 | C22: 인 | D22: 1 | M22: 노임 24 | N22: 5EE0559FA4622A2F828232347F8817868CA7835D | O22: 59279567876B2BCA8EB3AB81782F0286944A62 | P22: F | Q22: F | R22: T | AW22: 5EE0559FA4622A2F828232347F8817868CA7835D59279567876B2BCA8EB3AB81782F0286944A62 | AX22: T
A23: [ 합 계 ] | N23: TOTAL | O23: TOTAL
A25: 덤프트럭 8ton HR 공통 8-3,4(0602) ( 호표 4 ) | N25: 5EE0559FA4622A2F828232347F429DC6C1FDD5FC
A26: 덤프트럭 | B26: 8ton | C26: 대 | D26: 0.282 | M26: 자재 4 | N26: 5EE0559FA4622A2F828232347F429DC6C1FDD5FC | O26: 5EE0559FA4622A2F828232347F429DC6C1FDD5 | P26: F | Q26: F | R26: T | AW26: 5EE0559FA4622A2F828232347F429DC6C1FDD5FC5EE0559FA4622A2F828232347F429DC6C1FDD5
A27: 경유 | B27: 경유, 저유황 | C27: L | D27: 9.3 | M27: 자재 34 | N27: 5EE0559FA4622A2F828232347F429DC6C1FDD5FC | O27: 5EF295D5AF650D478936B6877D07E686DA1048 | P27: F | Q27: F | R27: T | V27: 1 | AW27: 5EE0559FA4622A2F828232347F429DC6C1FDD5FC5EF295D5AF650D478936B6877D07E686DA1048
A28: 잡재료 | B28: 주연료비의 38% | C28: 식 | D28: 1 | N28: 5EE0559FA4622A2F828232347F429DC6C1FDD5FC | O28: 58EFE57DB668781985DA8D2A7606001 | P28: F | Q28: F | R28: F | S28: 0 | T28: 0 | U28: 0.38 | AW28: 5EE0559FA4622A2F828232347F429DC6C1FDD5FC58EFE57DB668781985DA8D2A7606001
A29: 화물차운전사 | B29: 일반공사 직종 | C29: 인 | D29: 1 | M29: 노임 24 | N29: 5EE0559FA4622A2F828232347F429DC6C1FDD5FC | O29: 59279567876B2BCA8EB3AB81782F0286944A62 | P29: F | Q29: F | R29: T | AW29: 5EE0559FA4622A2F828232347F429DC6C1FDD5FC59279567876B2BCA8EB3AB81782F0286944A62 | AX29: T
A30: [ 합 계 ] | N30: TOTAL | O30: TOTAL
A32: 진동롤러(핸드가이드식) 0.7ton HR 공통 8-3,4(1305) ( 호표 5 ) | N32: 5EE0559FA462348585FA1AA3743760D6334CDCFF
A33: 진동롤러(핸드가이드식) | B33: 0.7ton | C33: 대 | D33: 0.2825 | M33: 자재 5 | N33: 5EE0559FA462348585FA1AA3743760D6334CDCFF | O33: 5EE0559FA462348585FA1AA3743760D6334CDC | P33: F | Q33: F | R33: T | AW33: 5EE0559FA462348585FA1AA3743760D6334CDCFF5EE0559FA462348585FA1AA3743760D6334CDC
A34: 경유 | B34: 경유, 저유황 | C34: L | D34: 2.2 | M34: 자재 34 | N34: 5EE0559FA462348585FA1AA3743760D6334CDCFF | O34: 5EF295D5AF650D478936B6877D07E686DA1048 | P34: F | Q34: F | R34: T | V34: 1 | AW34: 5EE0559FA462348585FA1AA3743760D6334CDCFF5EF295D5AF650D478936B6877D07E686DA1048
A35: 잡재료 | B35: 주연료비의 13% | C35: 식 | D35: 1 | N35: 5EE0559FA462348585FA1AA3743760D6334CDCFF | O35: 58EFE57DB668781985DA8D2A7606001 | P35: F | Q35: F | R35: F | S35: 0 | T35: 0 | U35: 0.13 | AW35: 5EE0559FA462348585FA1AA3743760D6334CDCFF58EFE57DB668781985DA8D2A7606001
A36: 일반기계운전사 | B36: 일반공사 직종 | C36: 인 | D36: 1 | M36: 노임 25 | N36: 5EE0559FA462348585FA1AA3743760D6334CDCFF | O36: 59279567876B2BCA8EB3AB81782F0286944B71 | P36: F | Q36: F | R36: T | AW36: 5EE0559FA462348585FA1AA3743760D6334CDCFF59279567876B2BCA8EB3AB81782F0286944B71 | AX36: T
A37: [ 합 계 ] | N37: TOTAL | O37: TOTAL
A39: 크레인(타이어) 10ton HR 공통 8-3,4(2104) ( 호표 6 ) | N39: 5EE0559FA4620F6C832838147EC40A8693F7479F
A40: 크레인(타이어) | B40: 10ton | C40: 대 | D40: 0.2298 | M40: 자재 6 | N40: 5EE0559FA4620F6C832838147EC40A8693F7479F | O40: 5EE0559FA4620F6C832838147EC40A8693F747 | P40: F | Q40: F | R40: T | AW40: 5EE0559FA4620F6C832838147EC40A8693F7479F5EE0559FA4620F6C832838147EC40A8693F747
A41: 경유 | B41: 경유, 저유황 | C41: L | D41: 3.8 | M41: 자재 34 | N41: 5EE0559FA4620F6C832838147EC40A8693F7479F | O41: 5EF295D5AF650D478936B6877D07E686DA1048 | P41: F | Q41: F | R41: T | V41: 1 | AW41: 5EE0559FA4620F6C832838147EC40A8693F7479F5EF295D5AF650D478936B6877D07E686DA1048
A42: 잡재료 | B42: 주연료비의 39% | C42: 식 | D42: 1 | N42: 5EE0559FA4620F6C832838147EC40A8693F7479F | O42: 58EFE57DB668781985DA8D2A7606001 | P42: F | Q42: F | R42: F | S42: 0 | T42: 0 | U42: 0.39 | AW42: 5EE0559FA4620F6C832838147EC40A8693F7479F58EFE57DB668781985DA8D2A7606001
A43: 건설기계운전사 | B43: 일반공사 직종 | C43: 인 | D43: 1 | M43: 노임 23 | N43: 5EE0559FA4620F6C832838147EC40A8693F7479F | O43: 59279567876B2BCA8EB3AB81782F0286944A63 | P43: F | Q43: F | R43: T | AW43: 5EE0559FA4620F6C832838147EC40A8693F7479F59279567876B2BCA8EB3AB81782F0286944A63 | AX43: T
A44: [ 합 계 ] | N44: TOTAL | O44: TOTAL
A46: 크레인(타이어) 15ton HR 공통 8-3,4(2104) ( 호표 7 ) | N46: 5EE0559FA4620F6C832838147EC452A6EE1746BC
...

Sheet 내역서(기계)
C1: [공사명] 송파2동 복합청사 신축공사(기계설비)
A2: 공종 | B2: 코드 | C2: 품 명 | D2: 규 격 | E2: 단위 | F2: 수량 | G2: 재 료 비 | I2: 노 무 비 | K2: 경 비 | M2: 합 계 | O2: 비고
G3: 단가 | H3: 금액 | I3: 단가 | J3: 금액 | K3: 단가 | L3: 금액 | M3: 단가 | N3: 금액
C4: 0101 장비설치공사
A5: 0101 | B5: 56958000046 | C5: P-2.급탕순환펌프(인라인) | D5: 10LPM*3M*0.1KW | E5: 대 | F5: 2 | O5: 56958000046 | T5: 0 | AC5: 1
A6: 0101 | B6: 56958000047 | C6: P-3.배수펌프(수중형) | D6: 300LPM*11M*1.5KW | E6: 대 | F6: 2 | O6: 56958000047 | T6: 0 | AC6: 1
A7: 0101 | B7: 56958000048 | C7: P-4.배수펌프(수중형) | D7: 50LPM*14M*1.1KW | E7: 대 | F7: 2 | O7: 56958000048 | T7: 0 | AC7: 1
A8: 0101 | B8: MM050162346 | C8: P-5.배수패키지펌프 | D8: 70LPM*12M*(3KW*2) | E8: SET | F8: 1 | T8: 0 | AC8: 1
A9: 0101 | B9: 56958000049 | C9: P-6.배수펌프(수중형) | D9: 100LPM*6M*0.75KW | E9: 대 | F9: 2 | O9: 56958000049 | T9: 0 | AC9: 1
A10: 0101 | B10: 56958000033 | C10: F-1.급배기휀(인라인 D450) | D10: 3,500CMH*20MMAQ*0.75KW | E10: 대 | F10: 2 | O10: 56958000033 | T10: 0 | AC10: 1
A11: 0101 | B11: 56958000034 | C11: F-2.배기휀(소형시로코 D180) | D11: 1,000CMH*20MMAQ*380W | E11: 대 | F11: 1 | O11: 56958000034 | T11: 0 | AC11: 1
A12: 0101 | B12: 56958000035 | C12: F-3.배기휀(벽부형 D300) | D12: 720CMH*38W | E12: 대 | F12: 3 | O12: 56958000035 | T12: 0 | AC12: 1
A13: 0101 | B13: 56958000036 | C13: F-4.배기휀(벽부형 D350) | D13: 1,020CMH*39W | E13: 대 | F13: 2 | O13: 56958000036 | T13: 0 | AC13: 1
A14: 0101 | B14: 56958000037 | C14: F-5.배기휀(천정형 D250) | D14: 210CMH*30W | E14: 대 | F14: 24 | O14: 56958000037 | T14: 0 | AC14: 1
A15: 0101 | B15: MM038001410 | C15: JF-1.주차장배기휀(벽부형) | D15: 12,000CMH*10MMAQ*1.5KW | E15: 대 | F15: 1 | T15: 0 | AC15: 1
A16: 0101 | B16: MM038001411 | C16: JF-2.유도휀 | D16: 3,900CMH*0.3KW | E16: 대 | F16: 2 | T16: 0 | AC16: 1
A17: 0101 | B17: 56958000032 | D17: 1.5KW | E17: 대 | F17: 11 | O17: 56958000032 | T17: 0 | AC17: 1
A18: 0101 | B18: 56958000030 | C18: B-1.캐스케이드가스온수기 | D18: 36,000KCAL/H | E18: 대 | F18: 1 | O18: 56958000030 | T18: 0 | AC18: 1
A19: 0101 | B19: MM050179954 | C19: 물탱크 고정대 및 내진구조계산 | D19: 6,000L*2,500W*4,000H | E19: 대 | F19: 1 | T19: 0 | AC19: 1
A20: 0101 | B20: MM050179955 | C20: 외부사다리 안전망 | D20: 6,000L*2,500W*4,000H | E20: 대 | F20: 1 | T20: 0 | AC20: 1
A21: 0101 | B21: MM050179956 | C21: 내진용 건식패드 | D21: 6,000L*2,500W*4,000H | E21: EA | F21: 28 | T21: 0 | AC21: 1
C29: [ 합 계 ]
C30: 0102 옥외배관공사
A31: 0102 | B31: 56958000020 | C31: 수도용 폴리에틸렌관 | D31: PE수도관(1종), D40 | E31: M | F31: 8 | O31: 56958000020 | T31: 0 | AC31: 1
A32: 0102 | B32: 47300977005 | C32: 수도용 폴리에칠렌이음관 | D32: -3766055 | E32: EA | F32: 3 | T32: 0 | AC32: 1
A33: 0102 | B33: 47300977274 | C33: 수도용 폴리에칠렌이음관 | D33: 밸브소켓(나사조임식) D40 | E33: EA | F33: 2 | T33: 0 | AC33: 1
A34: 0102 | B34: 56941535320 | C34: PEM 접합 (가스용) | D34: D40 | E34: 개소 | F34: 8 | O34: 56941535320 | T34: 0 | AC34: 1
A35: 0102 | B35: 48200167605 | C35: 게이트 밸브 | D35: 나사, 스테인리스, D40 | E35: EA | F35: 1 | T35: 0 | AC35: 1
C55: [ 합 계 ]
C56: 0103 기계실배관공사
A57: 0103 | B57: 56941820396 | C57: PVC배수용배관(VN SDR 33)DTS | D57: D100 | E57: M | F57: 12 | O57: 56941820396 | T57: 0 | AC57: 1
A58: 0103 | B58: 56941820415 | C58: PVC배수용배관(VN SDR 17)DRF | D58: D100 | E58: M | F58: 13 | O58: 56941820415 | T58: 0 | AC58: 1
A59: 0103 | B59: 56941820416 | C59: PVC배수용배관(VN SDR 17)DRF | D59: D125 | E59: M | F59: 7 | O59: 56941820416 | T59: 0 | AC59: 1
A60: 0103 | B60: 56941820432 | C60: 스테인레스배관(K-TYPE) | D60: D 20 | E60: M | F60: 5 | O60: 56941820432 | T60: 0 | AC60: 1
A61: 0103 | B61: 56941820435 | C61: 스테인레스배관(K-TYPE) | D61: D 40 | E61: M | F61: 26 | O61: 56941820435 | T61: 0 | AC61: 1
A62: 0103 | B62: 56941820436 | C62: 스테인레스배관(K-TYPE) | D62: D 50 | E62: M | F62: 8 | O62: 56941820436 | T62: 0 | AC62: 1
A63: 0103 | B63: 56941820438 | C63: 스테인레스배관(K-TYPE) | D63: D 80 | E63: M | F63: 6 | O63: 56941820438 | R63: 0 | S63: 0 | T63: 0 | AC63: 1
A64: 0103 | B64: 56941820446 | C64: 스테인레스평면배관 | D64: D 50 x 3T | E64: M | F64: 34 | O64: 56941820446 | T64: 0 | AC64: 1
A65: 0103 | B65: 56941820448 | C65: 스테인레스평면배관 | D65: D 80 x 3T | E65: M | F65: 40 | O65: 56941820448 | T65: 0 | AC65: 1
A66: 0103 | B66: 56941820449 | C66: 스테인레스평면배관 | D66: D100 x 3T | E66: M | F66: 15 | O66: 56941820449 | T66: 0 | AC66: 1
...

Sheet 일위대가(기계)
A1: [공사명] 송파2동 복합청사 신축공사(기계설비)
A2: 일위대가 | B2: 자재코드 | C2: 품 명 | D2: 규 격 | E2: 단위 | F2: 수량 | G2: 재 료 비 | I2: 노 무 비 | K2: 경 비 | M2: 합 계 | O2: 비고
G3: 단가 | H3: 금액 | I3: 단가 | J3: 금액 | K3: 단가 | L3: 금액 | M3: 단가 | N3: 금액
C4: 56940120060 강관용접 D50 개소
A5: 56940120060 | B5: 34390717011 | C5: 연강용 피복아크 용접봉 | D5: D3.2mm, CS-200 | E5: KG | F5: 0.049 | R5: 0 | S5: 0 | T5: 0 | AC5: 1
A6: 56940120060 | B6: 56102007001 | C6: 공통자재 | D6: 전력 | E6: ㎾h | F6: 0.132 | R6: 0 | S6: 0 | T6: 0 | AC6: 1
A7: 56940120060 | B7: 56900017056 | C7: 노무비 | D7: 용접공 | E7: 인 | F7: 0.085 | R7: 0 | S7: 0 | T7: 0 | W7: 3 | AC7: 1
A8: 56940120060 | B8: PPS00000003 | C8: 공구손료 | D8: 노무비의 3% | E8: 식 | F8: 1 | P8: 8 | R8: 1 | S8: 0 | T8: 0.03 | AC8: 1
C9: [ 합 계 ]
C11: 56940150050 스텐관용접 D40 개소
A12: 56940150050 | B12: 34390797121 | C12: TIG용접용 용접봉 | D12: D3.2mm, AWSER308 | E12: KG | F12: 0.04 | R12: 0 | S12: 0 | T12: 0 | AC12: 1
A13: 56940150050 | B13: 68300117001 | C13: 아르곤 가스 | D13: 건설용알곤가스 | E13: ℓ | F13: 191 | R13: 0 | S13: 0 | T13: 0 | AC13: 1
A14: 56940150050 | B14: 56900017056 | C14: 노무비 | D14: 용접공 | E14: 인 | F14: 0.084 | R14: 0 | S14: 0 | T14: 0 | W14: 3 | AC14: 1
A15: 56940150050 | B15: PPS00000003 | C15: 공구손료 | D15: 노무비의 4% | E15: 식 | F15: 1 | P15: 15 | R15: 1 | S15: 0 | T15: 0.04 | AC15: 1
C16: [ 합 계 ]
C18: 56940150060 스텐관용접 D50 개소
A19: 56940150060 | B19: 34390797121 | C19: TIG용접용 용접봉 | D19: D3.2mm, AWSER308 | E19: KG | F19: 0.055 | R19: 0 | S19: 0 | T19: 0 | AC19: 1
A20: 56940150060 | B20: 68300117001 | C20: 아르곤 가스 | D20: 건설용알곤가스 | E20: ℓ | F20: 265 | R20: 0 | S20: 0 | T20: 0 | AC20: 1
A21: 56940150060 | B21: 56900017056 | C21: 노무비 | D21: 용접공 | E21: 인 | F21: 0.099 | R21: 0 | S21: 0 | T21: 0 | W21: 3 | AC21: 1
A22: 56940150060 | B22: PPS00000003 | C22: 공구손료 | D22: 노무비의 4% | E22: 식 | F22: 1 | P22: 22 | R22: 1 | S22: 0 | T22: 0.04 | AC22: 1
C23: [ 합 계 ]
C25: 56940150070 스텐관용접 D65 개소
A26: 56940150070 | B26: 34390797121 | C26: TIG용접용 용접봉 | D26: D3.2mm, AWSER308 | E26: KG | F26: 0.168 | R26: 0 | S26: 0 | T26: 0 | AC26: 1
A27: 56940150070 | B27: 68300117001 | C27: 아르곤 가스 | D27: 건설용알곤가스 | E27: ℓ | F27: 343 | R27: 0 | S27: 0 | T27: 0 | AC27: 1
A28: 56940150070 | B28: 56900017056 | C28: 노무비 | D28: 용접공 | E28: 인 | F28: 0.119 | R28: 0 | S28: 0 | T28: 0 | W28: 3 | AC28: 1
A29: 56940150070 | B29: PPS00000003 | C29: 공구손료 | D29: 노무비의 4% | E29: 식 | F29: 1 | P29: 29 | R29: 1 | S29: 0 | T29: 0.04 | AC29: 1
C30: [ 합 계 ]
C32: 56940150080 스텐관용접 D80 개소
A33: 56940150080 | B33: 34390797121 | C33: TIG용접용 용접봉 | D33: D3.2mm, AWSER308 | E33: KG | F33: 0.213 | R33: 0 | S33: 0 | T33: 0 | AC33: 1
A34: 56940150080 | B34: 68300117001 | C34: 아르곤 가스 | D34: 건설용알곤가스 | E34: ℓ | F34: 430 | R34: 0 | S34: 0 | T34: 0 | AC34: 1
A35: 56940150080 | B35: 56900017056 | C35: 노무비 | D35: 용접공 | E35: 인 | F35: 0.135 | R35: 0 | S35: 0 | T35: 0 | W35: 3 | AC35: 1
A36: 56940150080 | B36: PPS00000003 | C36: 공구손료 | D36: 노무비의 4% | E36: 식 | F36: 1 | P36: 36 | R36: 1 | S36: 0 | T36: 0.04 | AC36: 1
C37: [ 합 계 ]
C39: 56940150090 스텐관용접 D100 개소
A40: 56940150090 | B40: 34390797121 | C40: TIG용접용 용접봉 | D40: D3.2mm, AWSER308 | E40: KG | F40: 0.313 | R40: 0 | S40: 0 | T40: 0 | AC40: 1
A41: 56940150090 | B41: 68300117001 | C41: 아르곤 가스 | D41: 건설용알곤가스 | E41: ℓ | F41: 699 | R41: 0 | S41: 0 | T41: 0 | AC41: 1
A42: 56940150090 | B42: 56900017056 | C42: 노무비 | D42: 용접공 | E42: 인 | F42: 0.167 | R42: 0 | S42: 0 | T42: 0 | W42: 3 | AC42: 1
A43: 56940150090 | B43: PPS00000003 | C43: 공구손료 | D43: 노무비의 4% | E43: 식 | F43: 1 | P43: 43 | R43: 1 | S43: 0 | T43: 0.04 | AC43: 1
C44: [ 합 계 ]
C46: 56940160010 강판용접 3MM M
...

Sheet 원가계산서(토목)
B1: 공 사 원 가 계 산 서
B2: 공사명 : 송파2동 복합청사 신축설계용역 - 토목
B3: 비 목 | F3: 구 성 비 | G3: 비 고 | K3: 재료비 | L3: 노무비 | M3: 경비 | N3: 합계
A4: A1 | B4: 순 공 사 원 가 | C4: 재 료 비 | D4: 직 접 재 료 비 | E4: =#REF! -> #REF! | N4: =K4+L4+M4 -> 0
A5: A2 | D5: 간 접 재 료 비
A6: A3 | D6: 작업설, 부산물(△) | E6: 0
A7: AS | D7: [ 소 계 ] | E7: =TRUNC(E4+E5-E6, 0) -> #REF!
A8: B1 | C8: 노 무 비 | D8: 직 접 노 무 비 | E8: =#REF! -> #REF!
A9: B2 | D9: 간 접 노 무 비 | E9: =TRUNC(E8*0.181, 0) -> #REF! | F9: 직접노무비 * 18.1%
A10: BS | D10: [ 소 계 ] | E10: =TRUNC(E8+E9, 0) -> #REF!
C11: 경 비 | D11: 운 반 비
A12: C2 | D12: 기 계 경 비 | E12: =#REF! -> #REF!
A13: C3 | D13: 가 설 비
A14: C4 | D14: 산 재 보 험 료 | E14: =TRUNC(E10*0.0356, 0) -> #REF! | F14: 노무비 * 3.56%
A15: C5 | D15: 고 용 보 험 료 | E15: =TRUNC(E10*0.0101, 0) -> #REF! | F15: 노무비 * 1.01%
A16: C6 | D16: 국민 건강 보험료 | E16: =TRUNC(E8*0.03595, 0) -> #REF! | F16: 직접노무비 * 3.595%
A17: C7 | D17: 국민 연금 보험료 | E17: =TRUNC(E8*0.0475, 0) -> #REF! | F17: 직접노무비 * 4.75%
A18: CB | D18: 노인장기요양보험료 | E18: =TRUNC(E16*0.1314, 0) -> #REF! | F18: 건강보험료 * 13.14%
A19: C8 | D19: 퇴직 공제 부금비 | E19: =TRUNC(E8*0.023, 0) -> #REF! | F19: 직접노무비 * 2.3%
A20: CA | D20: 산업안전보건관리비 | E20: =TRUNC((E7+E8+((0+E50)/1.1054))*0.0228, 0) -> #REF! | F20: A와B중 작은 금액 | G20: 기초액은 건축에 산입함
E21: =TRUNC((E7+E8+((0+E50)/1.1054))*0.0228, 0) -> #REF! | F21: a. (재료비+직노+도급자관급) *2.28%+4325000 | G21: 기초액은 건축에 산입함
E22: =TRUNC(((E7+E8)*0.0228)*1.2, 0) -> #REF! | F22: b. ((재료비+직노) *2.28%+4325000)*1.2 | G22: 기초액은 건축에 산입함
D23: 안 전 관 리 비
D24: 동 영 상 촬 영 비
D25: 품 질 관 리 비
A26: CH | D26: 환 경 보 전 비 | E26: =TRUNC((E7+E8+E11+E12)*0.005, 0) -> #REF! | F26: (재료비+직노+기계경비) * 0.5%
D27: 석 면 분 담 금 | E27: =TRUNC(E10*0.00006, 0) -> #REF! | F27: 노무비 * 0.006%
A28: CG | D28: 임금채권 부담금 | E28: =TRUNC(E10*0.0009, 0) -> #REF! | F28: 노무비 * 0.09%
D29: 기 타 경 비 | E29: =TRUNC((E7+E10)*0.057, 0) -> #REF! | F29: (재료비+노무비) * 5.7%
A30: CK | D30: 공사이행보증수수료
A31: CL | D31: 하도급지급보증수수료 | E31: =TRUNC((E7+E8+E11+E12)*0.0008, 0) -> #REF! | F31: (재료비+직노+기계경비) * 0.08%
A32: CS | D32: 건설기계대여금지급보증서발급수수료 | E32: =TRUNC((E7+E8+E11+E12)*0.0007, 0) -> #REF! | F32: (재료비+직노+기계경비) * 0.07%
A33: S1 | D33: [ 소 계 ] | E33: =TRUNC(E11+E12+E13+E14+E15+E16+E17+E19+E20+E18+E23+E24+E25+E26+E27+E28+E29+E30+E31+E32, 0) -> #REF!
A34: D1 | B34: 계 | E34: =TRUNC(E7+E10+E33, 0) -> #REF!
A35: D2 | B35: 일 반 관 리 비 | E35: =TRUNC(E34*0.065, 0) -> #REF! | F35: 계 * 6.5%
B36: 이 윤 | E36: =TRUNC((E10+E33+E35)*0.12-994/1.1, 0) -> #REF! | F36: (노무비+경비+일반관리비) * 12% | G36: (절사:-994/1.1)
B37: 건설폐기물상차비 | E37: =#REF! -> #REF!
A38: D9 | B38: 작업부산물(해체)
A39: DB | B39: 고용개선지원비(PS단가) | E39: =SUM(E40+E41+E42+E43) -> #REF! | F39: * 주휴수당+(국민연금+건강보험료)+고용개선장려금
A40: DH | B40: * 주 휴 수 당 | E40: =TRUNC(E8*0.128*0.5*1.4) -> #REF! | F40: 직노*12.8%*50%*1.4
...

Sheet 내역서(토목)
A1: 내역서
A2: 공 종 명 | B2: 규 격 | C2: 수량 | D2: 단위 | E2: 합 계 | G2: 재 료 비 | I2: 노 무 비 | K2: 경 비 | M2: 비 고
E3: 단 가 | F3: 금 액 | G3: 단 가 | H3: 금 액 | I3: 단 가 | J3: 금 액 | K3: 단 가 | L3: 금 액 | S3: 할 증 | T3: 화폐변환 | U3: OP값 | V3: EQ | W3: LA | X3: MA | Y3: 금액계상
A4: 송파2동 복합청사 | B4: 신축공사 토목공사 | C4: 1 | D4: 식 | O4: A0
A5: 1. 토 공 | C5: 1 | D5: 식 | P5: 10 | R5: A10 | BI5: A10 →
A6: 2. 우 수 공 | C6: 1 | D6: 식 | P6: 20 | R6: A20 | BI6: A20 →
A7: 3. 오 수 공 | C7: 1 | D7: 식 | P7: 30 | R7: A25 | BI7: A25 →
A8: 4. 포 장 공 | C8: 1 | D8: 식 | P8: 40 | R8: A60 | BI8: A60 →
A9: 5. 흙막이가시설공 | C9: 1 | D9: 식 | P9: 50 | R9: A70 | BI9: A70 →
A10: 6. 복 공 | C10: 1 | D10: 식 | P10: 60 | R10: A75 | BI10: A75 →
A11: 7. 운 반 공 | C11: 1 | D11: 식 | P11: 70 | R11: A80 | BI11: A80 →
A12: 8. 자 재 비 | B12: 도급자 | C12: 1 | D12: 식 | P12: 80 | R12: A83 | BI12: A83 →
A13: 소계 | P13: 90
P14: 100 | Q14: S
A15: 9. 관 급 자 재 비 | B15: 도급자 | C15: 1 | D15: 식 | P15: 110 | R15: A87 | BI15: A87 →
A16: 소계 | P16: 120
P17: 130 | Q17: S
A18: 10. 폐기물 처리비 | B18: 콘크리트 | C18: 1 | D18: 식 | P18: 140 | R18: C101 | BI18: C101 →
A19: 소계 | P19: 160
P20: 170 | Q20: S
A21: 11. 원인자분담금 | C21: 1 | D21: 식 | P21: 180 | R21: C102 | BI21: C102 →
A22: 소계 | P22: 190
P23: 200 | Q23: S
A25: 1. 토 공 | C25: 1 | D25: 식 | O25: A10
A26: 1) 철거공사 | P26: 10
A27: 폐기물상차비 | B27: 콘크리트 | C27: 115 | D27: TON | M27: GCAD150041000 | P27: 20 | R27: GCAD150041000 | BI27: GCAD150041000 →
A28: 무근콘크리트깨기 | B28: T=30CM이하 | C28: 7 | D28: M3 | M28: #.1 | P28: 30 | R28: SA0045000000 | T28: F | BI28: SA0045000000 →
A29: 철근콘크리트깨기 | B29: T=30CM이하 | C29: 18 | D29: M3 | M29: #.2 | P29: 40 | R29: SA0075000000 | T29: F | BI29: SA0075000000 →
A30: 아스콘포장깨기 | B30: T=30CM이하 | C30: 26 | D30: M3 | M30: #.3 | P30: 50 | R30: SA012000000 | T30: F | BI30: SA012000000 →
A31: 포장절단 | C31: 30 | D31: M | M31: #.4 | P31: 60 | R31: SA011000000 | T31: F | BI31: SA011000000 →
A32: 경계석철거 | B32: A-TYPE 500M | C32: 90 | D32: M | M32: No.1 | P32: 70 | R32: SE04910 | T32: T | BI32: SE04910 →
A33: 보도용블럭철거 | B33: 장비사용 A-TYPE | C33: 15 | D33: M2 | M33: No.2 | P33: 80 | R33: SE03500 | T33: T | BI33: SE03500 →
A34: 표지판이설 | B34: Ø 1000 MM | C34: 1 | D34: 개 | M34: No.3 | P34: 90 | R34: SF03400 | T34: T | BI34: SF03400 →
A35: 2) 토공사 | P35: 100
A36: 흙깍기 | C36: 8 | D36: M3 | M36: #.5 | P36: 110 | R36: S00155000000 | T36: F | BI36: S00155000000 →
A37: 흙쌓기 | B37: 다짐 | C37: 1 | D37: M3 | M37: No.4 | P37: 120 | R37: Z00103500000 | T37: T | BI37: Z00103500000 →
A38: 터파기 | B38: 토사 | C38: 4919 | D38: M3 | M38: No.5 | P38: 130 | R38: S00156000000 | T38: T | BI38: S00156000000 →
A39: 되메우기 및 다짐 | B39: 대형장비 | C39: 93 | D39: M3 | M39: No.6 | P39: 140 | R39: S00182000000 | T39: T | BI39: S00182000000 →
A40: 상차 | B40: 토사 | C40: 4832 | D40: M3 | M40: #.6 | P40: 150 | R40: S00153000000 | T40: F | BI40: S00153000000 →
A41: 클램셸 | C41: 4832 | D41: M3 | M41: #.7 | P41: 160 | R41: PH400000000 | T41: F | BI41: PH400000000 →
...

Sheet 일위대가_호표(토목)
A1: 일위대가_호표
A2: 공 종 명 | B2: 규 격 | C2: 수량 | D2: 단위 | E2: 합 계 | G2: 재 료 비 | I2: 노 무 비 | K2: 경 비 | M2: 비 고
E3: 단 가 | F3: 금 액 | G3: 단 가 | H3: 금 액 | I3: 단 가 | J3: 금 액 | K3: 단 가 | L3: 금 액 | S3: 할 증 | T3: 화폐변환 | U3: OP값 | V3: EQ | W3: LA | X3: MA | Y3: 금액계상
A4: No.1 경계석철거 | B4: A-TYPE 500M | C4: 1 | D4: M | O4: SE04910
A5: 특별인부 | C5: 0.004 | D5: 인 | P5: 10 | R5: L001010101000003 | BI5: L001010101000003 →
A6: 보통인부 | C6: 0.002 | D6: 인 | P6: 20 | R6: L001010101000002 | BI6: L001010101000002 →
A7: 덤프트럭 | B7: 2.5 톤 | C7: 0.016 | D7: HR | P7: 30 | R7: E00000602002500000
A8: 굴삭기(무한궤도) | B8: 0.4 M3 | C8: 0.016 | D8: HR | P8: 40 | R8: E00000201004000000
A10: No.2 보도용블럭철거 | B10: 장비사용 A-TYPE | C10: 1 | D10: M2 | O10: SE03500
A11: 포 장 공 | C11: 0.0016 | D11: 인 | P11: 10 | R11: L001010101000019 | BI11: L001010101000019 →
A12: 보통인부 | C12: 0.0016 | D12: 인 | P12: 20 | R12: L001010101000002 | BI12: L001010101000002 →
A13: 굴삭기(무한궤도) | B13: 0.4 M3 | C13: 0.013 | D13: HR | P13: 30 | R13: E00000201004000000
A14: 덤프트럭 | B14: 2.5 톤 | C14: 0.013 | D14: HR | P14: 40 | R14: E00000602002500000
A16: No.3 표지판이설 | B16: Ø 1000 MM | C16: 1 | D16: 개 | O16: SF03400
A17: 특별인부 | C17: 0.25 | D17: 인 | N17: 56900017118 | P17: 10 | R17: L001010101000003 | BI17: L001010101000003 →
A18: 보통인부 | C18: 0.25 | D18: 인 | N18: 56900017041 | P18: 20 | R18: L001010101000002 | BI18: L001010101000002 →
A20: No.4 흙쌓기 | B20: 다짐 일 1150M3 | C20: 1 | D20: M3 | O20: Z00103500000
A21: 특별인부 | C21: 0.00086 | D21: 인 | P21: 10 | R21: L001010101000003 | BI21: L001010101000003 →
