Workbook
Name B: #REF!
Name CELLNOTE4: [1]노무비!#REF!
Name CELLNOTE5: [2]노무비!#REF!
Name CELLNOTE6: [1]노무비!#REF!
Name CR: #REF!
Name CRa: #REF!
Name CRb: #REF!
Name GONGJONG: #REF!
Name Main: #REF!
Name MAINPART: #REF!
Name mf: #REF!
Name PRINT_AREA_MI: #REF!
Name SChonsei: #REF!
Name SubDic: #REF!
Name TChonsei: #REF!
Name TDeposit: #REF!
Name TRent: #REF!
Name ㄹㄴㅇㄹㄴㅇㄹ: '[3]인원계획-미화'!#REF!
Name 반대탭: [4]시설장비!#REF!
Name 연봉: '[3]인원계획-미화'!#REF!

Sheet 총괄설계서
B2: 공 사 비 총 괄 표
C4: 공사명 : 송파2동 복합청사 신축설계용역
C6: ▣ 총 공 사 비 | E6: : | F6: ="일금 "&NUMBERSTRING(K32,1)&"원정" -> #REF!
C8: ◎ 건축,기계,조경,토목,해체공사 | E8: : | F8: ="일금 "&NUMBERSTRING(K24,1)&"원정" -> 일금 일원정
C10: ◎ 전기,통신,전기소방,기계소방(별도) | E10: : | F10: ="일금 "&NUMBERSTRING(K28,1)&"원정" -> 일금 이십이억일천사백사만사천원정
C12: ◎ 폐기물처리비 (별도) | F12: ="일금 "&NUMBERSTRING(K31,1)&"원정" -> #REF!
B17: 구 분 비 목 | D17: 도 급 금 액 | H17: 관급자재비 (도급자) | I17: 관급자재비 (관급자) | J17: 분담금 / 한전불입금 | K17: 합 계 금 액
D18: 공 급 가 액 | F18: 부 가 세 | G18: 소 계 | N18: 평당
B19: 건 축 공 사 | D19: ='원가계산서(건축+기계)'!E46 -> 0 | F19: =TRUNC(D19*0.1)+1 -> 1 | G19: =SUM(D19:F19) -> 1 | H19: ='원가계산서(건축+기계)'!E49 -> 0 | I19: ='원가계산서(건축+기계)'!E50 -> 0 | J19: ='원가계산서(건축+기계)'!E51 -> 0 | K19: =SUM(G19:J19) -> 1 | M19: =K19/K32*100 -> #REF! | N19: =K19/M37 -> 0.0013468427
M20: =K20/K32*100 -> #REF! | N20: =K20/M37 -> 0
M21: =K21/K32*100 -> #REF! | N21: =K21/M37 -> 0
M22: =K22/K32*100 -> #REF! | N22: =K22/M37 -> 0
M23: =K23/K32*100 -> #REF! | N23: =K23/M37 -> 0
B24: 소 계 | D24: =SUM(D19:E23) -> 0 | F24: =SUM(F19:F23) -> 1 | G24: =SUM(D24:F24) -> 1 | H24: =SUM(H19:H23) -> 0 | I24: =SUM(I19:I23) -> 0 | J24: =SUM(J19:J23) -> 0 | K24: =SUM(G24:J24) -> 1 | N24: =K24/M37 -> 0.0013468427
B25: 전기공사 | D25: =TRUNC(632467904-694/1.1) -> 632467273 | F25: =TRUNC(D25*0.1) -> 63246727 | G25: =SUM(D25:F25) -> 695714000 | H25: 146143000 | I25: 333177000 | J25: 31117000 | K25: =SUM(G25:J25) -> 1206151000 | M25: =K25/K32*100 -> #REF! | N25: =K25/M37 -> 1624495.7
B26: 통신공사 | D26: =TRUNC(351637653-418/1.1) -> 351637273 | F26: =TRUNC(D26*0.1) -> 35163727 | G26: =SUM(D26:F26) -> 386801000 | I26: 219311000 | K26: =SUM(G26:J26) -> 606112000 | M26: =K26/K32*100 -> #REF! | N26: =K26/M37 -> 816337.55
B27: 소방공사 | D27: =TRUNC(300650000+810000-0/1.1) -> 301460000 | F27: =TRUNC(D27*0.1) -> 30146000 | G27: =SUM(D27:F27) -> 331606000 | H27: 64266000 | I27: 5909000 | K27: =SUM(G27:J27) -> 401781000 | M27: =K27/K32*100 -> #REF! | N27: =K27/M37 -> 541135.83
B28: 소 계 | D28: =SUM(D25:E27) -> 1285564546 | F28: =SUM(F25:F27) -> 128556454 | G28: =SUM(D28:F28) -> 1414121000 | H28: =SUM(H25:H27) -> 210409000 | I28: =SUM(I25:I27) -> 558397000 | J28: =SUM(J25:J27) -> 31117000 | K28: =SUM(G28:J28) -> 2214044000 | N28: =K28/M37 -> 2981969.1
B29: 건설폐기물처리비 | D29: =TRUNC(#REF!-726/1.1) -> #REF! | F29: =TRUNC(D29*0.1) -> #REF! | G29: =SUM(D29:F29) -> #REF! | K29: =SUM(G29:J29) -> #REF! | M29: =K29/K32*100 -> #REF! | N29: =K29/M37 -> #REF!
B30: 건설폐기물처리비(해체) | D30: =(#REF!-484/1.1) -> #REF! | F30: =TRUNC(D30*0.1) -> #REF! | G30: =SUM(D30:F30) -> #REF! | K30: =SUM(G30:J30) -> #REF! | M30: =K30/K32*100 -> #REF! | N30: =K30/M37 -> #REF!
B31: 소 계 | D31: =SUM(D29:D30) -> #REF! | F31: =SUM(F29:F30) -> #REF! | G31: =SUM(D31:F31) -> #REF! | H31: =SUM(H29:H30) -> 0 | I31: =SUM(I29:I30) -> 0 | J31: =SUM(J29:J30) -> 0 | K31: =SUM(G31:J31) -> #REF! | N31: =K31/M37 -> #REF!
B32: 합 계 | D32: =D24+D28+D31 -> #REF! | F32: =F24+F28+F31 -> #REF! | G32: =SUM(D32:F32) -> #REF! | H32: =H24+H28+H31 -> 210409000 | I32: =I24+I28+I31 -> 558397000 | J32: =J24+J28+J31 -> 31117000 | K32: =SUM(G32:J32) -> #REF! | M32: =SUM(M19:M31) -> #REF! | N32: =K32/M37 -> #REF!
M34: =0*0.3025 -> 0
M35: 평당
M36: =K32/(2454.47*0.3025) -> #REF!
M37: =2454.47*0.3025 -> 742.47717
J40: =K32-J41 -> #REF!
J41: 11608000000

Sheet 설계서
B2: 과 장 | D2: 담 당 | F2: 심 사 자 | H2: 설 계 자 | J2: 설 계 | K2: 2026년 월 일 | L2: 결 제
J3: 심 사 | K3: 2026년 월 일 | L3: 2026년 월 일
B5: 설 계 서
B7: 공사명 : 송파2동 복합청사 신축설계용역 (건축+기계+조경+토목)
B9: 구 분 | E9: 내 역 서 | L9: 비 고
B10: 총 공 사 비 | E10: ="일금 "&NUMBERSTRING(총괄설계서!K24,1)&"원정" -> 일금 일원정 | J10: =" \ "&TEXT(총괄설계서!K24,"#,###")&" " -> \ 1
B11: 도 | C11: 공 급 가 액 | E11: ="일금 "&NUMBERSTRING(총괄설계서!D24,1)&"원정" -> 일금 영원정 | J11: =" \ "&TEXT(총괄설계서!D24,"#,###")&" " -> \
B12: 급 | C12: 부 가 가 치 세 | E12: ="일금 "&NUMBERSTRING(총괄설계서!F24,1)&"원정" -> 일금 일원정 | J12: =" \ "&TEXT(총괄설계서!F24,"#,###")&" " -> \ 1
B13: 비 | C13: 계 | E13: =" 일금 "&NUMBERSTRING(총괄설계서!G24,1)&"원정" -> 일금 일원정 | J13: =" \ "&TEXT(총괄설계서!G24,"#,###")&" " -> \ 1
B14: 관 급 자 재 비 | E14: =" 일금 "&NUMBERSTRING(총괄설계서!H24+총괄설계서!I24,1)&"원정" -> 일금 영원정 | J14: =" \ "&TEXT(총괄설계서!H24+총괄설계서!I24,"#,###")&" " -> \
B15: 분 담 금 | E15: =" 일금 "&NUMBERSTRING(총괄설계서!J24,1)&"원정" -> 일금 영원정 | J15: =" \ "&TEXT(총괄설계서!J24,"#,###")&" " -> \

Sheet 원가계산서(건축+기계)
B1: 공 사 원 가 계 산 서
B2: 공사명 : 송파2동 복합청사 신축설계용역 - 건축+기계+조경+토목+해체
B3: 비 목 | F3: 구 성 비 | G3: 비 고
A4: A1 | B4: 순 공 사 원 가 | C4: 재 료 비 | D4: 직 접 재 료 비 | I4: 2265029038 | K4: 0
A5: A2 | D5: 간 접 재 료 비 | I5: 0 | K5: 0
A6: A3 | D6: 작업설, 부산물(△) | I6: 0 | K6: 0
A7: AS | D7: [ 소 계 ] | I7: 2265029038 | K7: 0
A8: B1 | C8: 노 무 비 | D8: 직 접 노 무 비 | I8: 2025987877 | K8: 0
A9: B2 | D9: 간 접 노 무 비 | F9: 직접노무비 * 18.1% | I9: 366703803 | K9: 2
A10: BS | D10: [ 소 계 ] | I10: 2392691680 | K10: 2
C11: 경 비 | D11: 운 반 비 | I11: 0 | K11: 0
A12: C2 | D12: 기 계 경 비 | I12: 293032329 | K12: 0
A13: C3 | D13: 가 설 비 | I13: 0 | K13: 0
A14: C4 | D14: 산 재 보 험 료 | F14: 노무비 * 3.56% | I14: 85179822 | K14: 1
A15: C5 | D15: 고 용 보 험 료 | F15: 노무비 * 1.01% | I15: 24166184 | K15: 1
A16: C6 | D16: 국민 건강 보험료 | F16: 직접노무비 * 3.595% | I16: 72834261 | K16: 3
A17: C7 | D17: 국민 연금 보험료 | F17: 직접노무비 * 4.75% | I17: 96234422 | K17: 2
A18: CB | D18: 노인장기요양보험료 | F18: 건강보험료 * 13.14% | I18: 9570419 | K18: 3
A19: C8 | D19: 퇴직 공제 부금비 | F19: 직접노무비 * 2.3% | I19: 46597719 | K19: 2
A20: CA | D20: 산업안전보건관리비 | F20: A와B중 작은 금액 | I20: 114924904 | K20: 2
F21: a. (재료비+직노+도급자관급) *2.28%+4325000 | I21: 114924904 | K21: 2
F22: b. ((재료비+직노) *2.28%+4325000)*1.2 | I22: 122592219 | K22: 3
D23: 안 전 관 리 비 | I23: 15860000 | K23: 0
I24: 0 | K24: 0
D25: 품 질 관 리 비 | I25: 2338474 | K25: 0
A26: CH | D26: 환 경 보 전 비 | F26: (재료비+직노+기계경비) * 0.5% | I26: 22920243 | K26: 3
D27: 석 면 분 담 금 | F27: 노무비 * 0.006% | I27: 143558 | K27: 3
A28: CG | D28: 임금채권 부담금 | F28: 노무비 * 0.09% | I28: 2153420 | K28: 2
D29: 기 타 경 비 | F29: (재료비+노무비) * 5.7% | I29: 265490079 | K29: 2
A30: CK | D30: 공사이행보증수수료 | I30: 0 | K30: 0
A31: CL | D31: 하도급지급보증수수료 | F31: (재료비+직노+기계경비) * 0.08% | I31: 3667236 | K31: 3
A32: CS | D32: 건설기계대여금지급보증서발급수수료 | F32: (재료비+직노+기계경비) * 0.07% | I32: 3208832 | K32: 2
A33: S1 | D33: [ 소 계 ] | I33: 1058321902 | K33: 29
A34: D1 | B34: 계 | I34: 5716042620 | K34: 31
A35: D2 | B35: 일 반 관 리 비 | F35: 계 * 6.5% | I35: 371542768 | K35: 4
B36: 이 윤 | F36: (노무비+경비+일반관리비) * 10% | G36: (절사:-2589/1.1) | I36: 458704442 | K36: -76451855
B37: 건설폐기물상차비 | I37: 10017713 | K37: 0
A38: D9 | B38: 작업부산물(해체) | I38: -3766055 | K38: 0
A39: DB | B39: 고용개선지원비(PS단가) | F39: * 주휴수당+(국민연금+건강보험료)+고용개선장려금 | I39: 181528511 | K39: 2
A40: DH | B40: * 주 휴 수 당 | F40: 직노*12.8%*50%*1.4 | I40: 181528511 | K40: 2
A41: DK | B41: * 국민연금 + 건강보험료 | F41: 직노*8.345%*20% | I41: 0 | K41: 0
B42: * 고용개선장려금 | F42: 직노*12.8%*50%*10% | I42: 0 | K42: 0
B43: * 전자카드단말기 | I43: 0 | K43: 0
B44: 해체계획서 작성 | I44: 14880000 | K44: 0
B45: 내부인테리어설계, 본인증용역비 | I45: 40500000
B46: 공 급 가 액 | I46: 6789449999 | K46: -76451818
A47: S2 | B47: 부 가 가 치 세 | F47: 공급가액 * 10% | I47: 678944999 | K47: -7645180
B48: 도 급 액 | I48: 7468394998 | K48: -84096998
B49: 관급자재비(관급자) | G49: (절사:-1063) | I49: 1120286000 | K49: 0
B50: 관급자재비(도급자) | G50: (절사:-1140) | I50: 618865000 | K50: 0
B51: 분 담 금 공 사 | G51: (절사:-900) | I51: 36209000 | K51: 0
B52: 총 공 사 비 | I52: 9243754998 | K52: -84096998

Sheet 원가계산서(전체,공사별)
B1: 공 사 원 가 계 산 서
B2: 공사명 : 송파2동 복합청사 신축설계용역 - 건축 + 기계설비 + 조경 + 토목
B3: 비 목 | E3: 전 체 | F3: 건 축 | G3: 기 계 | H3: 조 경 | I3: 토 목 | J3: 해 체 | K3: 구 성 비 | L3: 비 고
A5: A1 | B5: 순 공 사 원 가 | C5: 재 료 비 | D5: 직 접 재 료 비 | E5: =SUM(F5:J5) -> #REF! | F5: ='원가계산서(건축)'!E4 -> #REF! | G5: ='원가계산서(기계)'!E4 -> #REF! | H5: ='원가계산서(조경)'!E4 -> #REF! | I5: ='원가계산서(토목)'!E4 -> #REF! | J5: ='원가계산서(해체)'!E4 -> #REF! | N5: ='원가계산서(건축)'!E4+'원가계산서(기계)'!E4+'원가계산서(조경)'!E4+'원가계산서(토목)'!E4+'원가계산서(해체)'!E4 -> #REF! | P5: =E5-N5 -> #REF!
A6: A2 | D6: 간 접 재 료 비 | E6: =SUM(F6:J6) -> 0 | F6: ='원가계산서(건축)'!E5 -> 0 | G6: ='원가계산서(기계)'!E5 -> 0 | H6: ='원가계산서(조경)'!E5 -> 0 | I6: ='원가계산서(토목)'!E5 -> 0 | J6: ='원가계산서(해체)'!E5 -> 0 | N6: ='원가계산서(건축)'!E5+'원가계산서(기계)'!E5+'원가계산서(조경)'!E5+'원가계산서(토목)'!E5+'원가계산서(해체)'!E5 -> 0 | P6: =E6-N6 -> 0
A7: A3 | D7: 작업설, 부산물(△) | E7: =SUM(F7:J7) -> 0 | F7: ='원가계산서(건축)'!E6 -> 0 | G7: ='원가계산서(기계)'!E6 -> 0 | H7: ='원가계산서(조경)'!E6 -> 0 | I7: ='원가계산서(토목)'!E6 -> 0 | J7: ='원가계산서(해체)'!E6 -> 0 | N7: ='원가계산서(건축)'!E6+'원가계산서(기계)'!E6+'원가계산서(조경)'!E6+'원가계산서(토목)'!E6+'원가계산서(해체)'!E6 -> 0 | P7: =E7-N7 -> 0
A8: AS | D8: [ 소 계 ] | E8: =SUM(F8:J8) -> #REF! | F8: ='원가계산서(건축)'!E7 -> #REF! | G8: ='원가계산서(기계)'!E7 -> #REF! | H8: ='원가계산서(조경)'!E7 -> #REF! | I8: ='원가계산서(토목)'!E7 -> #REF! | J8: ='원가계산서(해체)'!E7 -> #REF! | N8: ='원가계산서(건축)'!E7+'원가계산서(기계)'!E7+'원가계산서(조경)'!E7+'원가계산서(토목)'!E7+'원가계산서(해체)'!E7 -> #REF! | P8: =E8-N8 -> #REF!
A9: B1 | C9: 노 무 비 | D9: 직 접 노 무 비 | E9: =SUM(F9:J9) -> #REF! | F9: ='원가계산서(건축)'!E8 -> #REF! | G9: ='원가계산서(기계)'!E8 -> #REF! | H9: ='원가계산서(조경)'!E8 -> #REF! | I9: ='원가계산서(토목)'!E8 -> #REF! | J9: ='원가계산서(해체)'!E8 -> #REF! | N9: ='원가계산서(건축)'!E8+'원가계산서(기계)'!E8+'원가계산서(조경)'!E8+'원가계산서(토목)'!E8+'원가계산서(해체)'!E8 -> #REF! | P9: =E9-N9 -> #REF!
A10: B2 | D10: 간 접 노 무 비 | E10: =SUM(F10:J10) -> #REF! | F10: =TRUNC(F9*0.181, 0) -> #REF! | G10: =TRUNC(G9*0.181, 0) -> #REF! | H10: =TRUNC(H9*0.181, 0) -> #REF! | I10: =TRUNC(I9*0.181, 0) -> #REF! | J10: =TRUNC(J9*0.181, 0) -> #REF! | K10: 직접노무비 * 18.1% | N10: ='원가계산서(건축)'!E9+'원가계산서(기계)'!E9+'원가계산서(조경)'!E9+'원가계산서(토목)'!E9+'원가계산서(해체)'!E9 -> #REF! | P10: =E10-N10 -> #REF!
A11: BS | D11: [ 소 계 ] | E11: =SUM(F11:J11) -> #REF! | F11: =TRUNC(F9+F10, 0) -> #REF! | G11: =TRUNC(G9+G10, 0) -> #REF! | H11: =TRUNC(H9+H10, 0) -> #REF! | I11: =TRUNC(I9+I10, 0) -> #REF! | J11: =TRUNC(J9+J10, 0) -> #REF! | N11: ='원가계산서(건축)'!E10+'원가계산서(기계)'!E10+'원가계산서(조경)'!E10+'원가계산서(토목)'!E10+'원가계산서(해체)'!E10 -> #REF! | P11: =E11-N11 -> #REF!
C12: 경 비 | D12: 운 반 비 | E12: =SUM(F12:J12) -> 0 | F12: ='원가계산서(건축)'!E11 -> 0 | G12: ='원가계산서(기계)'!E11 -> 0 | I12: ='원가계산서(토목)'!E11 -> 0 | J12: ='원가계산서(해체)'!E11 -> 0 | N12: ='원가계산서(건축)'!E11+'원가계산서(기계)'!E11+'원가계산서(조경)'!E11+'원가계산서(토목)'!E11+'원가계산서(해체)'!E11 -> 0
A13: C2 | D13: 기 계 경 비 | E13: =SUM(F13:J13) -> #REF! | F13: ='원가계산서(건축)'!E12 -> #REF! | G13: ='원가계산서(기계)'!E12 -> #REF! | H13: ='원가계산서(조경)'!E12 -> #REF! | I13: ='원가계산서(토목)'!E12 -> #REF! | J13: ='원가계산서(해체)'!E12 -> #REF! | N13: ='원가계산서(건축)'!E12+'원가계산서(기계)'!E12+'원가계산서(조경)'!E12+'원가계산서(토목)'!E12+'원가계산서(해체)'!E12 -> #REF! | P13: =E13-N13 -> #REF!
A14: C3 | D14: 가 설 비 | E14: =SUM(F14:J14) -> 0 | F14: ='원가계산서(건축)'!E13 -> 0 | G14: ='원가계산서(기계)'!E13 -> 0 | I14: ='원가계산서(토목)'!E13 -> 0 | J14: ='원가계산서(해체)'!E13 -> 0 | N14: ='원가계산서(건축)'!E13+'원가계산서(기계)'!E13+'원가계산서(조경)'!E13+'원가계산서(토목)'!E13+'원가계산서(해체)'!E13 -> 0 | P14: =E14-N14 -> 0
A15: C4 | D15: 산 재 보 험 료 | E15: =SUM(F15:J15) -> #REF! | F15: =TRUNC(F11*0.0356, 0) -> #REF! | G15: =TRUNC(G11*0.0356, 0) -> #REF! | H15: =TRUNC(H11*0.0356, 0) -> #REF! | I15: =TRUNC(I11*0.0356, 0) -> #REF! | J15: =TRUNC(J11*0.0356, 0) -> #REF! | K15: 노무비 * 3.56% | N15: ='원가계산서(건축)'!E14+'원가계산서(기계)'!E14+'원가계산서(조경)'!E14+'원가계산서(토목)'!E14+'원가계산서(해체)'!E14 -> #REF! | P15: =E15-N15 -> #REF!
A16: C5 | D16: 고 용 보 험 료 | E16: =SUM(F16:J16) -> #REF! | F16: =TRUNC(F11*0.0101, 0) -> #REF! | G16: =TRUNC(G11*0.0101, 0) -> #REF! | H16: =TRUNC(H11*0.0101, 0) -> #REF! | I16: =TRUNC(I11*0.0101, 0) -> #REF! | J16: =TRUNC(J11*0.0101, 0) -> #REF! | K16: 노무비 * 1.01% | N16: ='원가계산서(건축)'!E15+'원가계산서(기계)'!E15+'원가계산서(조경)'!E15+'원가계산서(토목)'!E15+'원가계산서(해체)'!E15 -> #REF! | P16: =E16-N16 -> #REF!
A17: C6 | D17: 국민 건강 보험료 | E17: =SUM(F17:J17) -> #REF! | F17: =TRUNC(F9*0.03595, 0) -> #REF! | G17: =TRUNC(G9*0.03595, 0) -> #REF! | H17: =TRUNC(H9*0.03595, 0) -> #REF! | I17: =TRUNC(I9*0.03595, 0) -> #REF! | J17: =TRUNC(J9*0.03595, 0) -> #REF! | K17: 직접노무비 * 3.595% | N17: ='원가계산서(건축)'!E16+'원가계산서(기계)'!E16+'원가계산서(조경)'!E16+'원가계산서(토목)'!E16+'원가계산서(해체)'!E16 -> #REF! | P17: =E17-N17 -> #REF!
A18: C7 | D18: 국민 연금 보험료 | E18: =SUM(F18:J18) -> #REF! | F18: =TRUNC(F9*0.0475, 0) -> #REF! | G18: =TRUNC(G9*0.0475, 0) -> #REF! | H18: =TRUNC(H9*0.0475, 0) -> #REF! | I18: =TRUNC(I9*0.0475, 0) -> #REF! | J18: =TRUNC(J9*0.0475, 0) -> #REF! | K18: 직접노무비 * 4.75% | N18: ='원가계산서(건축)'!E17+'원가계산서(기계)'!E17+'원가계산서(조경)'!E17+'원가계산서(토목)'!E17+'원가계산서(해체)'!E17 -> #REF! | P18: =E18-N18 -> #REF!
A19: CB | D19: 노인장기요양보험료 | E19: =SUM(F19:J19) -> #REF! | F19: =TRUNC(F17*0.1314, 0) -> #REF! | G19: =TRUNC(G17*0.1314, 0) -> #REF! | H19: =TRUNC(H17*0.1314, 0) -> #REF! | I19: =TRUNC(I17*0.1314, 0) -> #REF! | J19: =TRUNC(J17*0.1314, 0) -> #REF! | K19: 건강보험료 * 13.14% | N19: ='원가계산서(건축)'!E18+'원가계산서(기계)'!E18+'원가계산서(조경)'!E18+'원가계산서(토목)'!E18+'원가계산서(해체)'!E18 -> #REF! | P19: =E19-N19 -> #REF!
A20: C8 | D20: 퇴직 공제 부금비 | E20: =SUM(F20:J20) -> #REF! | F20: =TRUNC(F9*0.023, 0) -> #REF! | G20: =TRUNC(G9*0.023, 0) -> #REF! | H20: =TRUNC(H9*0.023, 0) -> #REF! | I20: =TRUNC(I9*0.023, 0) -> #REF! | J20: =TRUNC(J9*0.023, 0) -> #REF! | K20: 직접노무비 * 2.3% | N20: ='원가계산서(건축)'!E19+'원가계산서(기계)'!E19+'원가계산서(조경)'!E19+'원가계산서(토목)'!E19+'원가계산서(해체)'!E19 -> #REF! | P20: =E20-N20 -> #REF!
A21: CA | D21: 산업안전보건관리비 | E21: =SUM(F21:J21) -> #REF! | F21: =TRUNC((F8+F9+((0+F51)/1.1054))*0.0228+4325000, 0) -> #REF! | G21: =TRUNC((G8+G9+((0+G51)/1.1054))*0.0228, 0) -> #REF! | H21: =TRUNC((H8+H9+((0+H51)/1.1054))*0.0228, 0) -> #REF! | I21: =TRUNC((I8+I9+((0+I51)/1.1054))*0.0228, 0) -> #REF! | J21: =TRUNC((J8+J9+((0+J51)/1.1054))*0.0228, 0) -> #REF! | K21: A와B중 작은 금액 | N21: ='원가계산서(건축)'!E20+'원가계산서(기계)'!E20+'원가계산서(조경)'!E20+'원가계산서(토목)'!E20+'원가계산서(해체)'!E20 -> #REF! | P21: =E21-N21 -> #REF!
E22: =SUM(F22:J22) -> #REF! | F22: =TRUNC((F8+F9+((0+F51)/1.1054))*0.0228+4325000, 0) -> #REF! | G22: =TRUNC((G8+G9+((0+G51)/1.1054))*0.0228, 0) -> #REF! | H22: =TRUNC((H8+H9+((0+H51)/1.1054))*0.0228, 0) -> #REF! | I22: =TRUNC((I8+I9+((0+I51)/1.1054))*0.0228, 0) -> #REF! | J22: =TRUNC((J8+J9+((0+J51)/1.1054))*0.0228, 0) -> #REF! | K22: a. (재료비+직노+도급자관급)*2.28%+4325000 | N22: ='원가계산서(건축)'!E21+'원가계산서(기계)'!E21+'원가계산서(조경)'!E21+'원가계산서(토목)'!E21+'원가계산서(해체)'!E21 -> #REF! | P22: =E22-N22 -> #REF!
E23: =SUM(F23:J23) -> #REF! | F23: =TRUNC(((F8+F9)*0.0228+4325000)*1.2, 0) -> #REF! | G23: =TRUNC(((G8+G9)*0.0228)*1.2, 0) -> #REF! | H23: =TRUNC((H8+H9)*0.0228*1.2, 0) -> #REF! | I23: =TRUNC((I8+I9)*0.0228*1.2, 0) -> #REF! | J23: =TRUNC((J8+J9)*0.0228*1.2, 0) -> #REF! | K23: b. ((재료비+직노) * 2.28+4325000%) *1.2 | N23: ='원가계산서(건축)'!E22+'원가계산서(기계)'!E22+'원가계산서(조경)'!E22+'원가계산서(토목)'!E22+'원가계산서(해체)'!E22 -> #REF! | P23: =E23-N23 -> #REF!
D24: 안 전 관 리 비 | E24: =SUM(F24:J24) -> #REF! | F24: ='원가계산서(건축)'!E23 -> #REF! | G24: ='원가계산서(기계)'!E23 -> 0 | H24: ='원가계산서(조경)'!E23 -> 0 | I24: ='원가계산서(토목)'!E23 -> 0 | J24: ='원가계산서(해체)'!E23 -> 0 | N24: ='원가계산서(건축)'!E23+'원가계산서(기계)'!E23+'원가계산서(조경)'!E23+'원가계산서(토목)'!E23+'원가계산서(해체)'!E23 -> #REF! | P24: =E24-N24 -> #REF!
D25: 동 영 상 촬 영 비 | E25: =SUM(F25:J25) -> #REF! | F25: ='원가계산서(건축)'!E24 -> #REF! | G25: ='원가계산서(기계)'!E24 -> 0 | H25: ='원가계산서(조경)'!E24 -> 0 | I25: ='원가계산서(토목)'!E24 -> 0 | J25: ='원가계산서(해체)'!E24 -> 0 | N25: ='원가계산서(건축)'!E24+'원가계산서(기계)'!E24+'원가계산서(조경)'!E24+'원가계산서(토목)'!E24+'원가계산서(해체)'!E24 -> #REF! | P25: =E25-N25 -> #REF!
D26: 품 질 관 리 비 | E26: =SUM(F26:J26) -> #REF! | F26: ='원가계산서(건축)'!E25 -> #REF! | G26: ='원가계산서(기계)'!E25 -> 0 | H26: ='원가계산서(조경)'!E25 -> 0 | I26: ='원가계산서(토목)'!E25 -> 0 | J26: ='원가계산서(해체)'!E25 -> 0 | N26: ='원가계산서(건축)'!E25+'원가계산서(기계)'!E25+'원가계산서(조경)'!E25+'원가계산서(토목)'!E25+'원가계산서(해체)'!E25 -> #REF! | P26: =E26-N26 -> #REF!
A27: CH | D27: 환 경 보 전 비 | E27: =SUM(F27:J27) -> #REF! | F27: =TRUNC((F8+F9+F12+F13)*0.005, 0) -> #REF! | G27: =TRUNC((G8+G9+G12+G13)*0.005, 0) -> #REF! | H27: =TRUNC((H8+H9+H12+H13)*0.005, 0) -> #REF! | I27: =TRUNC((I8+I9+I12+I13)*0.005, 0) -> #REF! | J27: =TRUNC((J8+J9+J12+J13)*0.005, 0) -> #REF! | K27: (재료비+직노+기계경비) * 0.5% | N27: ='원가계산서(건축)'!E26+'원가계산서(기계)'!E26+'원가계산서(조경)'!E26+'원가계산서(토목)'!E26+'원가계산서(해체)'!E26 -> #REF! | P27: =E27-N27 -> #REF!
D28: 석 면 분 담 금 | E28: =SUM(F28:J28) -> #REF! | F28: =TRUNC(F11*0.00006, 0) -> #REF! | G28: =TRUNC(G11*0.00006, 0) -> #REF! | H28: =TRUNC(H11*0.00006, 0) -> #REF! | I28: =TRUNC(I11*0.00006, 0) -> #REF! | J28: =TRUNC(J11*0.00006, 0) -> #REF! | K28: 노무비 * 0.006% | N28: ='원가계산서(건축)'!E27+'원가계산서(기계)'!E27+'원가계산서(조경)'!E27+'원가계산서(토목)'!E27+'원가계산서(해체)'!E27 -> #REF! | P28: =E28-N28 -> #REF!
A29: CG | D29: 임금채권 부담금 | E29: =SUM(F29:J29) -> #REF! | F29: =TRUNC(F11*0.0009, 0) -> #REF! | G29: =TRUNC(G11*0.0009, 0) -> #REF! | H29: =TRUNC(H11*0.0009, 0) -> #REF! | I29: =TRUNC(I11*0.0009, 0) -> #REF! | J29: =TRUNC(J11*0.0009, 0) -> #REF! | K29: 노무비 * 0.09% | N29: ='원가계산서(건축)'!E28+'원가계산서(기계)'!E28+'원가계산서(조경)'!E28+'원가계산서(토목)'!E28+'원가계산서(해체)'!E28 -> #REF! | P29: =E29-N29 -> #REF!
A30: CG | D30: 기 타 경 비 | E30: =SUM(F30:J30) -> #REF! | F30: =TRUNC((F8+F11)*0.057, 0) -> #REF! | G30: =TRUNC((G8+G11)*0.057, 0) -> #REF! | H30: =TRUNC((H8+H11)*0.057, 0) -> #REF! | I30: =TRUNC((I8+I11)*0.057, 0) -> #REF! | J30: =TRUNC((J8+J11)*0.057, 0) -> #REF! | K30: (재료비+노무비) * 5.7% | N30: ='원가계산서(건축)'!E29+'원가계산서(기계)'!E29+'원가계산서(조경)'!E29+'원가계산서(토목)'!E29+'원가계산서(해체)'!E29 -> #REF! | P30: =E30-N30 -> #REF!
D31: 공사이행보증수수료 | E31: =SUM(F31:J31) -> 0 | N31: ='원가계산서(건축)'!E30+'원가계산서(기계)'!E30+'원가계산서(조경)'!E30+'원가계산서(토목)'!E30+'원가계산서(해체)'!E30 -> 0
A32: CK | D32: 하도급지급보증수수료 | E32: =SUM(F32:J32) -> #REF! | F32: =TRUNC((F8+F9+F12+F13)*0.0008, 0) -> #REF! | G32: =TRUNC((G8+G9+G12+G13)*0.0008, 0) -> #REF! | H32: =TRUNC((H8+H9+H12+H13)*0.0008, 0) -> #REF! | I32: =TRUNC((I8+I9+I12+I13)*0.0008, 0) -> #REF! | J32: =TRUNC((J8+J9+J12+J13)*0.0008, 0) -> #REF! | K32: (재료비+직노+기계경비) * 0.08% | N32: ='원가계산서(건축)'!E31+'원가계산서(기계)'!E31+'원가계산서(조경)'!E31+'원가계산서(토목)'!E31+'원가계산서(해체)'!E31 -> #REF! | P32: =E32-N32 -> #REF!
A33: CL | D33: 건설기계대여금지급보증서발급수수료 | E33: =SUM(F33:J33) -> #REF! | F33: =TRUNC((F8+F9+F12+F13)*0.0007, 0) -> #REF! | G33: =TRUNC((G8+G9+G12+G13)*0.0007, 0) -> #REF! | H33: =TRUNC((H8+H9+H12+H13)*0.0007, 0) -> #REF! | I33: =TRUNC((I8+I9+I12+I13)*0.0007, 0) -> #REF! | J33: =TRUNC((J8+J9+J12+J13)*0.0007, 0) -> #REF! | K33: (재료비+직노+기계경비) * 0.07% | N33: ='원가계산서(건축)'!E32+'원가계산서(기계)'!E32+'원가계산서(조경)'!E32+'원가계산서(토목)'!E32+'원가계산서(해체)'!E32 -> #REF! | P33: =E33-N33 -> #REF!
A34: CS | D34: [ 소 계 ] | E34: =SUM(F34:J34) -> #REF! | F34: =TRUNC(F12+F13+F14+F15+F16+F17+F18+F20+F21+F19+F24+F25+F26+F27+F28+F29+F30+F31+F32+F33, 0) -> #REF! | G34: =TRUNC(G12+G13+G14+G15+G16+G17+G18+G20+G21+G19+G24+G25+G26+G27+G28+G29+G30+G31+G32+G33, 0) -> #REF! | H34: =TRUNC(H12+H13+H14+H15+H16+H17+H18+H20+H21+H19+H24+H25+H26+H27+H28+H29+H30+H31+H32+H33, 0) -> #REF! | I34: =TRUNC(I12+I13+I14+I15+I16+I17+I18+I20+I21+I19+I24+I25+I26+I27+I28+I29+I30+I31+I32+I33, 0) -> #REF! | J34: =TRUNC(J12+J13+J14+J15+J16+J17+J18+J20+J21+J19+J24+J25+J26+J27+J28+J29+J30+J31+J32+J33, 0) -> #REF! | N34: ='원가계산서(건축)'!E33+'원가계산서(기계)'!E33+'원가계산서(조경)'!E33+'원가계산서(토목)'!E33+'원가계산서(해체)'!E33 -> #REF! | P34: =E34-N34 -> #REF!
A35: S1 | B35: 계 | E35: =SUM(F35:J35) -> #REF! | F35: =TRUNC(F8+F11+F34, 0) -> #REF! | G35: =TRUNC(G8+G11+G34, 0) -> #REF! | H35: =TRUNC(H8+H11+H34, 0) -> #REF! | I35: =TRUNC(I8+I11+I34, 0) -> #REF! | J35: =TRUNC(J8+J11+J34, 0) -> #REF! | N35: ='원가계산서(건축)'!E34+'원가계산서(기계)'!E34+'원가계산서(조경)'!E34+'원가계산서(토목)'!E34+'원가계산서(해체)'!E34 -> #REF! | P35: =E35-N35 -> #REF!
A36: D1 | B36: 일 반 관 리 비 | E36: =SUM(F36:J36) -> #REF! | F36: =TRUNC(F35*0.065, 0) -> #REF! | G36: =TRUNC(G35*0.065, 0) -> #REF! | H36: =TRUNC(H35*0.065, 0) -> #REF! | I36: =TRUNC(I35*0.065, 0) -> #REF! | J36: =TRUNC(J35*0.065, 0) -> #REF! | K36: 계 * 6.5% | N36: ='원가계산서(건축)'!E35+'원가계산서(기계)'!E35+'원가계산서(조경)'!E35+'원가계산서(토목)'!E35+'원가계산서(해체)'!E35 -> #REF! | P36: =E36-N36 -> #REF!
A37: D2 | B37: 이 윤 | E37: =SUM(F37:J37) -> #REF! | F37: =TRUNC((F11+F34+F36)*0.12-20/1.1, 0) -> #REF! | G37: =TRUNC((G11+G34+G36)*0.12-557/1.1, 0) -> #REF! | H37: =TRUNC((H11+H34+H36)*0.12-749/1.1, 0) -> #REF! | I37: =TRUNC((I11+I34+I36)*0.12-994/1.1, 0) -> #REF! | J37: =TRUNC((J11+J34+J36)*0.12-230/1.1, 0) -> #REF! | K37: (노무비+경비+일반관리비) * 11% | N37: ='원가계산서(건축)'!E36+'원가계산서(기계)'!E36+'원가계산서(조경)'!E36+'원가계산서(토목)'!E36+'원가계산서(해체)'!E36 -> #REF! | P37: =E37-N37 -> #REF!
B38: 건설폐기물상차비 | E38: =SUM(F38:J38) -> #REF! | F38: ='원가계산서(건축)'!E37 -> #REF! | G38: ='원가계산서(기계)'!E37 -> 0 | H38: ='원가계산서(조경)'!E37 -> 0 | I38: ='원가계산서(토목)'!E37 -> #REF! | J38: ='원가계산서(해체)'!E37 -> #REF! | N38: ='원가계산서(건축)'!E37+'원가계산서(기계)'!E37+'원가계산서(조경)'!E37+'원가계산서(토목)'!E37+'원가계산서(해체)'!E37 -> #REF! | P38: =E38-N38 -> #REF!
B39: 작업부산물(해체) | E39: =SUM(F39:J39) -> #REF! | F39: ='원가계산서(건축)'!E38 -> 0 | G39: ='원가계산서(기계)'!E38 -> 0 | H39: ='원가계산서(조경)'!E38 -> 0 | I39: ='원가계산서(토목)'!E38 -> 0 | J39: ='원가계산서(해체)'!E38 -> #REF! | N39: ='원가계산서(건축)'!E38+'원가계산서(기계)'!E38+'원가계산서(조경)'!E38+'원가계산서(토목)'!E38+'원가계산서(해체)'!E38 -> #REF! | P39: =E39-N39 -> #REF!
B40: 고용개선지원비(PS단가) | E40: =SUM(F40:J40) -> #REF! | F40: =SUM(F41+F42+F43+F44) -> #REF! | G40: =SUM(G41+G42+G43+G44) -> #REF! | H40: =SUM(H41+H42+H43+H44) -> #REF! | I40: =SUM(I41+I42+I43+I44) -> #REF! | J40: =SUM(J41+J42+J43+J44) -> #REF! | K40: * 주휴수당+(국민연금+건강보험료)+고용개선장려금 | N40: ='원가계산서(건축)'!E39+'원가계산서(기계)'!E39+'원가계산서(조경)'!E39+'원가계산서(토목)'!E39+'원가계산서(해체)'!E39 -> #REF! | P40: =E40-N40 -> #REF!
B41: * 주 휴 수 당 | E41: =SUM(F41:J41) -> #REF! | F41: =TRUNC(F9*0.128*0.5*1.4) -> #REF! | G41: =TRUNC(G9*0.128*0.5*1.4) -> #REF! | H41: =TRUNC(H9*0.128*0.5*1.4) -> #REF! | I41: =TRUNC(I9*0.128*0.5*1.4) -> #REF! | J41: =TRUNC(J9*0.128*0.5*1.4) -> #REF! | K41: 직노*12.8%*50%*1.4 | N41: ='원가계산서(건축)'!E40+'원가계산서(기계)'!E40+'원가계산서(조경)'!E40+'원가계산서(토목)'!E40+'원가계산서(해체)'!E40 -> #REF! | P41: =E41-N41 -> #REF!
B42: * 국민연금 + 건강보험료 | E42: =SUM(F42:J42) -> #REF! | F42: =TRUNC(F9*0.08345*0.2)*0 -> #REF! | G42: =TRUNC(G9*0.08345*0.2)*0 -> #REF! | H42: =TRUNC(H9*0.08345*0.2)*0 -> #REF! | I42: =TRUNC(I9*0.08345*0.2)*0 -> #REF! | J42: =TRUNC(J9*0.08345*0.2)*0 -> #REF! | K42: 직노*8.345%*20% | N42: ='원가계산서(건축)'!E41+'원가계산서(기계)'!E41+'원가계산서(조경)'!E41+'원가계산서(토목)'!E41+'원가계산서(해체)'!E41 -> #REF! | P42: =E42-N42 -> #REF!
B43: * 고용개선장려금 | E43: =SUM(F43:J43) -> #REF! | F43: =TRUNC(F9*0.128*0.5*0.1)*0 -> #REF! | G43: =TRUNC(G9*0.128*0.5*0.1)*0 -> #REF! | H43: =TRUNC(H9*0.128*0.5*0.1)*0 -> #REF! | I43: =TRUNC(I9*0.128*0.5*0.1)*0 -> #REF! | J43: =TRUNC(J9*0.128*0.5*0.1)*0 -> #REF! | K43: 직노*12.8%*50%*10% | N43: ='원가계산서(건축)'!E42+'원가계산서(기계)'!E42+'원가계산서(조경)'!E42+'원가계산서(토목)'!E42+'원가계산서(해체)'!E42 -> #REF! | P43: =E43-N43 -> #REF!
B44: * 전자카드단말기 | E44: =SUM(F44:J44) -> 0 | N44: ='원가계산서(건축)'!E43+'원가계산서(기계)'!E43+'원가계산서(조경)'!E43+'원가계산서(토목)'!E43+'원가계산서(해체)'!E43 -> 0 | P44: =E44-N44 -> 0
B45: 해체계획서작성 | E45: =SUM(F45:J45) -> #REF! | F45: ='원가계산서(건축)'!E44 -> 0 | G45: ='원가계산서(기계)'!E44 -> 0 | H45: ='원가계산서(조경)'!E44 -> 0 | I45: ='원가계산서(토목)'!E44 -> 0 | J45: ='원가계산서(해체)'!E44 -> #REF! | N45: ='원가계산서(건축)'!E44+'원가계산서(기계)'!E44+'원가계산서(조경)'!E44+'원가계산서(토목)'!E44+'원가계산서(해체)'!E44 -> #REF! | P45: =E45-N45 -> #REF!
B46: 내부인테리어설계비 | E46: =SUM(F46:J46) -> #REF! | F46: ='원가계산서(건축)'!E45 -> #REF! | G46: ='원가계산서(기계)'!E45 -> 0 | H46: ='원가계산서(조경)'!E45 -> 0 | I46: ='원가계산서(토목)'!E45 -> 0 | J46: ='원가계산서(해체)'!E45 -> 0 | N46: ='원가계산서(건축)'!E45+'원가계산서(기계)'!E45+'원가계산서(조경)'!E45+'원가계산서(토목)'!E45+'원가계산서(해체)'!E45 -> #REF! | P46: =E46-N46 -> #REF!
A47: D9 | B47: 공 급 가 액 | E47: =SUM(F47:J47) -> #REF! | F47: =TRUNC(F35+F36+F37+F38+F39+F40+F45+F46, 0) -> #REF! | G47: =TRUNC(G35+G36+G37+G38+G39+G40+G45+G46, 0) -> #REF! | H47: =TRUNC(H35+H36+H37+H38+H39+H40+H45+H46, 0) -> #REF! | I47: =TRUNC(I35+I36+I37+I38+I39+I40+I45+I46, 0) -> #REF! | J47: =TRUNC(J35+J36+J37+J38+J39+J40+J45+J46, 0) -> #REF! | N47: ='원가계산서(건축)'!E46+'원가계산서(기계)'!E46+'원가계산서(조경)'!E46+'원가계산서(토목)'!E46+'원가계산서(해체)'!E46 -> #REF! | P47: =E47-N47 -> #REF!
A48: DB | B48: 부 가 가 치 세 | E48: =SUM(F48:J48) -> #REF! | F48: =TRUNC(F47*0.1, 0)+1 -> #REF! | G48: =TRUNC(G47*0.1, 0) -> #REF! | H48: =TRUNC(H47*0.1, 0)+1 -> #REF! | I48: =TRUNC(I47*0.1, 0) -> #REF! | J48: =TRUNC(J47*0.1, 0) -> #REF! | K48: 공급가액 * 10% | N48: ='원가계산서(건축)'!E47+'원가계산서(기계)'!E47+'원가계산서(조경)'!E47+'원가계산서(토목)'!E47+'원가계산서(해체)'!E47 -> #REF! | P48: =E48-N48 -> #REF!
A49: DH | B49: 도 급 액 | E49: =SUM(F49:J49) -> #REF! | F49: =TRUNC(F47+F48, 0) -> #REF! | G49: =TRUNC(G47+G48, 0) -> #REF! | H49: =TRUNC(H47+H48, 0) -> #REF! | I49: =TRUNC(I47+I48, 0) -> #REF! | J49: =TRUNC(J47+J48, 0) -> #REF! | N49: ='원가계산서(건축)'!E48+'원가계산서(기계)'!E48+'원가계산서(조경)'!E48+'원가계산서(토목)'!E48+'원가계산서(해체)'!E48 -> #REF! | P49: =E49-N49 -> #REF!
A50: DK | B50: 관급자재비(관급자) | E50: =SUM(F50:J50) -> #REF! | F50: ='원가계산서(건축)'!E49 -> #REF! | G50: ='원가계산서(기계)'!E49 -> #REF! | H50: ='원가계산서(조경)'!E49 -> 0 | I50: ='원가계산서(토목)'!E49 -> 0 | J50: ='원가계산서(해체)'!E49 -> 0 | N50: ='원가계산서(건축)'!E49+'원가계산서(기계)'!E49+'원가계산서(조경)'!E49+'원가계산서(토목)'!E49+'원가계산서(해체)'!E49 -> #REF! | P50: =E50-N50 -> #REF!
B51: 관급자재비(도급자) | E51: =SUM(F51:J51) -> #REF! | F51: ='원가계산서(건축)'!E50 -> #REF! | G51: ='원가계산서(기계)'!E50 -> 0 | H51: ='원가계산서(조경)'!E50 -> 0 | I51: ='원가계산서(토목)'!E50 -> #REF! | J51: ='원가계산서(해체)'!E50 -> 0 | N51: ='원가계산서(건축)'!E50+'원가계산서(기계)'!E50+'원가계산서(조경)'!E50+'원가계산서(토목)'!E50+'원가계산서(해체)'!E50 -> #REF! | P51: =E51-N51 -> #REF!
B52: 분 담 금 공 사 | E52: =SUM(F52:J52) -> #REF! | F52: ='원가계산서(건축)'!E51 -> 0 | G52: ='원가계산서(기계)'!E51 -> #REF! | H52: ='원가계산서(조경)'!E51 -> 0 | I52: ='원가계산서(토목)'!E51 -> #REF! | J52: ='원가계산서(해체)'!E51 -> 0 | N52: ='원가계산서(건축)'!E51+'원가계산서(기계)'!E51+'원가계산서(조경)'!E51+'원가계산서(토목)'!E51+'원가계산서(해체)'!E51 -> #REF! | P52: =E52-N52 -> #REF!
A53: S2 | B53: 총 공 사 비 | E53: =SUM(F53:J53) -> #REF! | F53: =TRUNC(F49+F50+F51+F52, 0) -> #REF! | G53: =TRUNC(G49+G50+G51+G52, 0) -> #REF! | H53: =TRUNC(H49+H50+H51+H52, 0) -> #REF! | I53: =TRUNC(I49+I50+I51+I52, 0) -> #REF! | J53: =TRUNC(J49+J50+J51+J52, 0) -> #REF! | N53: ='원가계산서(건축)'!E52+'원가계산서(기계)'!E52+'원가계산서(조경)'!E52+'원가계산서(토목)'!E52+'원가계산서(해체)'!E52 -> #REF! | P53: =E53-N53 -> #REF!

Sheet 원가계산서(건축)
B1: 공 사 원 가 계 산 서
B2: 공사명 : 송파2동 복합청사 신축설계용역 - 건축
B3: 비 목 | F3: 구 성 비 | G3: 비 고
A4: A1 | B4: 순 공 사 원 가 | C4: 재 료 비 | D4: 직 접 재 료 비 | E4: =#REF! -> #REF!
A5: A2 | D5: 간 접 재 료 비
A6: A3 | D6: 작업설, 부산물(△) | E6: 0
A7: AS | D7: [ 소 계 ] | E7: =TRUNC(E4+E5-E6, 0) -> #REF!
A8: B1 | C8: 노 무 비 | D8: 직 접 노 무 비 | E8: =#REF! -> #REF!
A9: B2 | D9: 간 접 노 무 비 | E9: =TRUNC(E8*0.181, 0) -> #REF! | F9: 직접노무비 * 18.1%
A10: BS | D10: [ 소 계 ] | E10: =TRUNC(E8+E9, 0) -> #REF!
C11: 경 비 | D11: 운 반 비
A12: C2 | D12: 기 계 경 비 | E12: =#REF! -> #REF!
A13: C3 | D13: 가 설 비
A14: C4 | D14: 산 재 보 험 료 | E14: =TRUNC(E10*0.0356, 0) -> #REF! | F14: 노무비 * 3.56%
A15: C5 | D15: 고 용 보 험 료 | E15: =TRUNC(E10*0.0101, 0) -> #REF! | F15: 노무비 * 1.01%
A16: C6 | D16: 국민 건강 보험료 | E16: =TRUNC(E8*0.03595, 0) -> #REF! | F16: 직접노무비 * 3.595%
A17: C7 | D17: 국민 연금 보험료 | E17: =TRUNC(E8*0.0475, 0) -> #REF! | F17: 직접노무비 * 4.75%
A18: CB | D18: 노인장기요양보험료 | E18: =TRUNC(E16*0.1314, 0) -> #REF! | F18: 건강보험료 * 13.14%
A19: C8 | D19: 퇴직 공제 부금비 | E19: =TRUNC(E8*0.023, 0) -> #REF! | F19: 직접노무비 * 2.3%
A20: CA | D20: 산업안전보건관리비 | E20: =TRUNC((E7+E8+((0+E50)/1.1054))*0.0228+4325000, 0) -> #REF! | F20: A와B중 작은 금액
E21: =TRUNC((E7+E8+((0+E50)/1.1054))*0.0228+4325000, 0) -> #REF! | F21: a. (재료비+직노+도급자관급) *2.28%+4325000
E22: =TRUNC(((E7+E8)*0.0228+4325000)*1.2, 0) -> #REF! | F22: b. ((재료비+직노) *2.28%+4325000)*1.2
D23: 안 전 관 리 비 | E23: =#REF! -> #REF!
D24: 동 영 상 촬 영 비 | E24: =#REF! -> #REF!
D25: 품 질 관 리 비 | E25: =#REF! -> #REF!
A26: CH | D26: 환 경 보 전 비 | E26: =TRUNC((E7+E8+E11+E12)*0.005, 0) -> #REF! | F26: (재료비+직노+기계경비) * 0.5%
D27: 석 면 분 담 금 | E27: =TRUNC(E10*0.00006, 0) -> #REF! | F27: 노무비 * 0.006%
D28: 임금채권 부담금 | E28: =TRUNC(E10*0.0009, 0) -> #REF! | F28: 노무비 * 0.09%
A29: CG | D29: 기 타 경 비 | E29: =TRUNC((E7+E10)*0.057, 0) -> #REF! | F29: (재료비+노무비) * 5.7%
D30: 공사이행보증수수료
A31: CK | D31: 하도급지급보증수수료 | E31: =TRUNC((E7+E8+E11+E12)*0.0008, 0) -> #REF! | F31: (재료비+직노+기계경비) * 0.08%
A32: CL | D32: 건설기계대여금지급보증서발급수수료 | E32: =TRUNC((E7+E8+E11+E12)*0.0007, 0) -> #REF! | F32: (재료비+직노+기계경비) * 0.07%
A33: CS | D33: [ 소 계 ] | E33: =TRUNC(E11+E12+E13+E14+E15+E16+E17+E19+E20+E18+E23+E24+E25+E26+E27+E28+E29+E30+E31+E32, 0) -> #REF!
A34: S1 | B34: 계 | E34: =TRUNC(E7+E10+E33, 0) -> #REF!
A35: D1 | B35: 일 반 관 리 비 | E35: =TRUNC(E34*0.065, 0) -> #REF! | F35: 계 * 6.5%
A36: D2 | B36: 이 윤 | E36: =TRUNC((E10+E33+E35)*0.12-20/1.1, 0) -> #REF! | F36: (노무비+경비+일반관리비) * 11% | G36: (절사:-20/1.1)
B37: 건설폐기물상차비 | E37: =#REF! -> #REF!
B38: 작업부산물(해체)
B39: 고용개선지원비(PS단가) | E39: =SUM(E40+E41+E42+E43) -> #REF! | F39: * 주휴수당+(국민연금+건강보험료)+고용개선장려금
B40: * 주 휴 수 당 | E40: =TRUNC(E8*0.128*0.5*1.4) -> #REF! | F40: 직노*12.8%*50%*1.4
B41: * 국민연금 + 건강보험료 | E41: =TRUNC(E8*0.08345*0.2)*0 -> #REF! | F41: 직노*8.345%*20%
B42: * 고용개선장려금 | E42: =TRUNC(E8*0.128*0.5*0.1)*0 -> #REF! | F42: 직노*12.8%*50%*10%
B43: * 전자카드단말기
B44: 해체계획서 작성
B45: 내부인테리어설계비 | E45: =#REF! -> #REF!
A46: D9 | B46: 공 급 가 액 | E46: =TRUNC(E34+E35+E36+E37+E38+E39+E44+E45, 0) -> #REF!
A47: DB | B47: 부 가 가 치 세 | E47: =TRUNC(E46*0.1, 0)+1 -> #REF! | F47: 공급가액 * 10%
A48: DH | B48: 도 급 액 | E48: =TRUNC(E46+E47, 0) -> #REF!
A49: DK | B49: 관급자재비(관급자) | E49: =#REF!-0-846 -> #REF! | G49: (절사:-846)
B50: 관급자재비(도급자) | E50: =#REF!-682 -> #REF! | G50: (절사:-682)
B51: 분 담 금 공 사
A52: S2 | B52: 총 공 사 비 | E52: =TRUNC(E48+E49+E50+E51, 0) -> #REF!

Sheet 원가계산서(기계)
B1: 공 사 원 가 계 산 서
B2: 공사명 : 송파2동 복합청사 신축설계용역 - 기계
B3: 비 목 | F3: 구 성 비 | G3: 비 고 | K3: 재료비 | L3: 노무비 | M3: 경비 | N3: 합계
A4: A1 | B4: 순 공 사 원 가 | C4: 재 료 비 | D4: 직 접 재 료 비 | E4: =#REF! -> #REF! | N4: =K4+L4+M4 -> 0
A5: A2 | D5: 간 접 재 료 비
A6: A3 | D6: 작업설, 부산물(△) | E6: 0
A7: AS | D7: [ 소 계 ] | E7: =TRUNC(E4+E5-E6, 0) -> #REF!
A8: B1 | C8: 노 무 비 | D8: 직 접 노 무 비 | E8: =#REF! -> #REF!
A9: B2 | D9: 간 접 노 무 비 | E9: =TRUNC(E8*0.181, 0) -> #REF! | F9: 직접노무비 * 18.1%
A10: BS | D10: [ 소 계 ] | E10: =TRUNC(E8+E9, 0) -> #REF!
C11: 경 비 | D11: 운 반 비
A12: C2 | D12: 기 계 경 비 | E12: =#REF! -> #REF!
A13: C3 | D13: 가 설 비
A14: C4 | D14: 산 재 보 험 료 | E14: =TRUNC(E10*0.0356, 0) -> #REF! | F14: 노무비 * 3.56%
A15: C5 | D15: 고 용 보 험 료 | E15: =TRUNC(E10*0.0101, 0) -> #REF! | F15: 노무비 * 1.01%
A16: C6 | D16: 국민 건강 보험료 | E16: =TRUNC(E8*0.03595, 0) -> #REF! | F16: 직접노무비 * 3.595%
A17: C7 | D17: 국민 연금 보험료 | E17: =TRUNC(E8*0.0475, 0) -> #REF! | F17: 직접노무비 * 4.75%
A18: CB | D18: 노인장기요양보험료 | E18: =TRUNC(E16*0.1314, 0) -> #REF! | F18: 건강보험료 * 13.14%
A19: C8 | D19: 퇴직 공제 부금비 | E19: =TRUNC(E8*0.023, 0) -> #REF! | F19: 직접노무비 * 2.3%
A20: CA | D20: 산업안전보건관리비 | E20: =TRUNC((E7+E8+((0+E50)/1.1054))*0.0228, 0) -> #REF! | F20: A와B중 작은 금액 | G20: 기초액은 건축에 산입함
E21: =TRUNC((E7+E8+((0+E50)/1.1054))*0.0228, 0) -> #REF! | F21: a. (재료비+직노+도급자관급) *2.28%+4325000 | G21: 기초액은 건축에 산입함
E22: =TRUNC(((E7+E8)*0.0228)*1.2, 0) -> #REF! | F22: b. ((재료비+직노) *2.28%+4325000)*1.2 | G22: 기초액은 건축에 산입함
D23: 안 전 관 리 비
D24: 동 영 상 촬 영 비
D25: 품 질 관 리 비
A26: CH | D26: 환 경 보 전 비 | E26: =TRUNC((E7+E8+E11+E12)*0.005, 0) -> #REF! | F26: (재료비+직노+기계경비) * 0.5%
D27: 석 면 분 담 금 | E27: =TRUNC(E10*0.00006, 0) -> #REF! | F27: 노무비 * 0.006%
A28: CG | D28: 임금채권 부담금 | E28: =TRUNC(E10*0.0009, 0) -> #REF! | F28: 노무비 * 0.09%
D29: 기 타 경 비 | E29: =TRUNC((E7+E10)*0.057, 0) -> #REF! | F29: (재료비+노무비) * 5.7%
A30: CK | D30: 공사이행보증수수료
A31: CL | D31: 하도급지급보증수수료 | E31: =TRUNC((E7+E8+E11+E12)*0.0008, 0) -> #REF! | F31: (재료비+직노+기계경비) * 0.08%
A32: CS | D32: 건설기계대여금지급보증서발급수수료 | E32: =TRUNC((E7+E8+E11+E12)*0.0007, 0) -> #REF! | F32: (재료비+직노+기계경비) * 0.07%
A33: S1 | D33: [ 소 계 ] | E33: =TRUNC(E11+E12+E13+E14+E15+E16+E17+E19+E20+E18+E23+E24+E25+E26+E27+E28+E29+E30+E31+E32, 0) -> #REF!
A34: D1 | B34: 계 | E34: =TRUNC(E7+E10+E33, 0) -> #REF!
A35: D2 | B35: 일 반 관 리 비 | E35: =TRUNC(E34*0.065, 0) -> #REF! | F35: 계 * 6.5%
B36: 이 윤 | E36: =TRUNC((E10+E33+E35)*0.12-557/1.1, 0) -> #REF! | F36: (노무비+경비+일반관리비) * 12% | G36: (절사:-557/1.1)
B37: 건설폐기물상차비
A38: D9 | B38: 작업부산물(해체)
A39: DB | B39: 고용개선지원비(PS단가) | E39: =SUM(E40+E41+E42+E43) -> #REF! | F39: * 주휴수당+(국민연금+건강보험료)+고용개선장려금
A40: DH | B40: * 주 휴 수 당 | E40: =TRUNC(E8*0.128*0.5*1.4) -> #REF! | F40: 직노*12.8%*50%*1.4
A41: DK | B41: * 국민연금 + 건강보험료 | E41: =TRUNC(E8*0.08345*0.2)*0 -> #REF! | F41: 직노*8.345%*20%
B42: * 고용개선장려금 | E42: =TRUNC(E8*0.128*0.5*0.1)*0 -> #REF! | F42: 직노*12.8%*50%*10%
B43: * 전자카드단말기
B44: 해체계획서 작성
B45: 내부인테리어설계비
B46: 공 급 가 액 | E46: =TRUNC(E34+E35+E36+E37+E38+E39+E44+E45, 0) -> #REF!
A47: S2 | B47: 부 가 가 치 세 | E47: =TRUNC(E46*0.1, 0) -> #REF! | F47: 공급가액 * 10%
B48: 도 급 액 | E48: =TRUNC(E46+E47, 0) -> #REF!
B49: 관급자재비(관급자) | E49: =#REF!-471 -> #REF! | G49: (절사:-471)
B50: 관급자재비(도급자) | G50: (절사:-0)
B51: 분 담 금 공 사 | E51: =#REF! -> #REF!
B52: 총 공 사 비 | E52: =TRUNC(E48+E49+E50+E51, 0) -> #REF!

Sheet 원가계산서(조경)
B1: 공 사 원 가 계 산 서
B2: 공사명 : 송파2동 복합청사 신축설계용역 - 조경
B3: 비 목 | F3: 구 성 비 | G3: 비 고 | K3: 재료비 | L3: 노무비 | M3: 경비 | N3: 합계
A4: A1 | B4: 순 공 사 원 가 | C4: 재 료 비 | D4: 직 접 재 료 비 | E4: =#REF! -> #REF! | N4: =K4+L4+M4 -> 0
A5: A2 | D5: 간 접 재 료 비
A6: A3 | D6: 작업설, 부산물(△) | E6: 0
A7: AS | D7: [ 소 계 ] | E7: =TRUNC(E4+E5-E6, 0) -> #REF!
A8: B1 | C8: 노 무 비 | D8: 직 접 노 무 비 | E8: =#REF! -> #REF!
A9: B2 | D9: 간 접 노 무 비 | E9: =TRUNC(E8*0.181, 0) -> #REF! | F9: 직접노무비 * 18.1%
A10: BS | D10: [ 소 계 ] | E10: =TRUNC(E8+E9, 0) -> #REF!
C11: 경 비 | D11: 운 반 비
A12: C2 | D12: 기 계 경 비 | E12: =#REF! -> #REF!
A13: C3 | D13: 가 설 비
A14: C4 | D14: 산 재 보 험 료 | E14: =TRUNC(E10*0.0356, 0) -> #REF! | F14: 노무비 * 3.56%
A15: C5 | D15: 고 용 보 험 료 | E15: =TRUNC(E10*0.0101, 0) -> #REF! | F15: 노무비 * 1.01%
A16: C6 | D16: 국민 건강 보험료 | E16: =TRUNC(E8*0.03595, 0) -> #REF! | F16: 직접노무비 * 3.595%
A17: C7 | D17: 국민 연금 보험료 | E17: =TRUNC(E8*0.0475, 0) -> #REF! | F17: 직접노무비 * 4.75%
A18: CB | D18: 노인장기요양보험료 | E18: =TRUNC(E16*0.1314, 0) -> #REF! | F18: 건강보험료 * 13.14%
A19: C8 | D19: 퇴직 공제 부금비 | E19: =TRUNC(E8*0.023, 0) -> #REF! | F19: 직접노무비 * 2.3%
A20: CA | D20: 산업안전보건관리비 | E20: =TRUNC((E7+E8+((0+E50)/1.1054))*0.0228, 0) -> #REF! | F20: A와B중 작은 금액 | G20: 기초액은 건축에 산입함
E21: =TRUNC((E7+E8+((0+E50)/1.1054))*0.0228, 0) -> #REF! | F21: a. (재료비+직노+도급자관급) *2.28%+4325000 | G21: 기초액은 건축에 산입함
E22: =TRUNC(((E7+E8)*0.0228)*1.2, 0) -> #REF! | F22: b. ((재료비+직노) *2.28%+4325000)*1.2 | G22: 기초액은 건축에 산입함
D23: 안 전 관 리 비
D24: 동 영 상 촬 영 비
D25: 품 질 관 리 비
A26: CH | D26: 환 경 보 전 비 | E26: =TRUNC((E7+E8+E11+E12)*0.005, 0) -> #REF! | F26: (재료비+직노+기계경비) * 0.5%
D27: 석 면 분 담 금 | E27: =TRUNC(E10*0.00006, 0) -> #REF! | F27: 노무비 * 0.006%
A28: CG | D28: 임금채권 부담금 | E28: =TRUNC(E10*0.0009, 0) -> #REF! | F28: 노무비 * 0.09%
D29: 기 타 경 비 | E29: =TRUNC((E7+E10)*0.057, 0) -> #REF! | F29: (재료비+노무비) * 5.7%
A30: CK | D30: 공사이행보증수수료
A31: CL | D31: 하도급지급보증수수료 | E31: =TRUNC((E7+E8+E11+E12)*0.0008, 0) -> #REF! | F31: (재료비+직노+기계경비) * 0.08%
A32: CS | D32: 건설기계대여금지급보증서발급수수료 | E32: =TRUNC((E7+E8+E11+E12)*0.0007, 0) -> #REF! | F32: (재료비+직노+기계경비) * 0.07%
A33: S1 | D33: [ 소 계 ] | E33: =TRUNC(E11+E12+E13+E14+E15+E16+E17+E19+E20+E18+E23+E24+E25+E26+E27+E28+E29+E30+E31+E32, 0) -> #REF!
A34: D1 | B34: 계 | E34: =TRUNC(E7+E10+E33, 0) -> #REF!
A35: D2 | B35: 일 반 관 리 비 | E35: =TRUNC(E34*0.065, 0) -> #REF! | F35: 계 * 6.5%
B36: 이 윤 | E36: =TRUNC((E10+E33+E35)*0.12-749/1.1, 0) -> #REF! | F36: (노무비+경비+일반관리비) * 12% | G36: (절사:-749/1.1)
B37: 건설폐기물상차비
A38: D9 | B38: 작업부산물(해체)
A39: DB | B39: 고용개선지원비(PS단가) | E39: =SUM(E40+E41+E42+E43) -> #REF! | F39: * 주휴수당+(국민연금+건강보험료)+고용개선장려금
A40: DH | B40: * 주 휴 수 당 | E40: =TRUNC(E8*0.128*0.5*1.4) -> #REF! | F40: 직노*12.8%*50%*1.4
A41: DK | B41: * 국민연금 + 건강보험료 | E41: =TRUNC(E8*0.08345*0.2)*0 -> #REF! | F41: 직노*8.345%*20%
B42: * 고용개선장려금 | E42: =TRUNC(E8*0.128*0.5*0.1)*0 -> #REF! | F42: 직노*12.8%*50%*10%
B43: * 전자카드단말기
B44: 해체계획서 작성
B45: 내부인테리어설계비
B46: 공 급 가 액 | E46: =TRUNC(E34+E35+E36+E37+E38+E39+E44+E45, 0) -> #REF!
A47: S2 | B47: 부 가 가 치 세 | E47: =TRUNC(E46*0.1, 0)+1 -> #REF! | F47: 공급가액 * 10%
B48: 도 급 액 | E48: =TRUNC(E46+E47, 0) -> #REF!
B49: 관급자재비(관급자) | G49: (절사:-0)
B50: 관급자재비(도급자) | G50: (절사:-0)
B51: 분 담 금 공 사
B52: 총 공 사 비 | E52: =TRUNC(E48+E49+E50+E51, 0) -> #REF!

Sheet 원가계산서(해체)
B1: 공 사 원 가 계 산 서
B2: 공사명 : 송파2동 복합청사 신축설계용역 - 해체공사
B3: 비 목 | F3: 구 성 비 | G3: 비 고
A4: A1 | B4: 순 공 사 원 가 | C4: 재 료 비 | D4: 직 접 재 료 비 | E4: =#REF! -> #REF!
A5: A2 | D5: 간 접 재 료 비
A6: A3 | D6: 작업설, 부산물(△) | E6: 0
A7: AS | D7: [ 소 계 ] | E7: =TRUNC(E4+E5-E6, 0) -> #REF!
A8: B1 | C8: 노 무 비 | D8: 직 접 노 무 비 | E8: =#REF! -> #REF!
A9: B2 | D9: 간 접 노 무 비 | E9: =TRUNC(E8*0.181, 0) -> #REF! | F9: 직접노무비 * 18.1%
A10: BS | D10: [ 소 계 ] | E10: =TRUNC(E8+E9, 0) -> #REF!
C11: 경 비 | D11: 운 반 비
A12: C2 | D12: 기 계 경 비 | E12: =#REF! -> #REF!
A13: C3 | D13: 가 설 비
A14: C4 | D14: 산 재 보 험 료 | E14: =TRUNC(E10*0.0356, 0) -> #REF! | F14: 노무비 * 3.56%
A15: C5 | D15: 고 용 보 험 료 | E15: =TRUNC(E10*0.0101, 0) -> #REF! | F15: 노무비 * 1.01%
A16: C6 | D16: 국민 건강 보험료 | E16: =TRUNC(E8*0.03595, 0) -> #REF! | F16: 직접노무비 * 3.595%
A17: C7 | D17: 국민 연금 보험료 | E17: =TRUNC(E8*0.0475, 0) -> #REF! | F17: 직접노무비 * 4.75%
A18: CB | D18: 노인장기요양보험료 | E18: =TRUNC(E16*0.1314, 0) -> #REF! | F18: 건강보험료 * 13.14%
A19: C8 | D19: 퇴직 공제 부금비 | E19: =TRUNC(E8*0.023, 0) -> #REF! | F19: 직접노무비 * 2.3%
A20: CA | D20: 산업안전보건관리비 | E20: =TRUNC((E7+E8+((0+E50)/1.1054))*0.0228, 0) -> #REF! | F20: A와B중 작은 금액 | G20: 기초액은 건축에 산입함
E21: =TRUNC((E7+E8+((0+E50)/1.1054))*0.0228, 0) -> #REF! | F21: a. (재료비+직노+도급자관급) *2.28%+4325000 | G21: 기초액은 건축에 산입함
E22: =TRUNC(((E7+E8)*0.0228)*1.2, 0) -> #REF! | F22: b. ((재료비+직노) *2.28%+4325000)*1.2 | G22: 기초액은 건축에 산입함
D23: 안 전 관 리 비
D24: 동 영 상 촬 영 비
D25: 품 질 관 리 비
A26: CH | D26: 환 경 보 전 비 | E26: =TRUNC((E7+E8+E11+E12)*0.005, 0) -> #REF! | F26: (재료비+직노+기계경비) * 0.5%
D27: 석 면 분 담 금 | E27: =TRUNC(E10*0.00006, 0) -> #REF! | F27: 노무비 * 0.006%
D28: 임금채권 부담금 | E28: =TRUNC(E10*0.0009, 0) -> #REF! | F28: 노무비 * 0.09%
A29: CG | D29: 기 타 경 비 | E29: =TRUNC((E7+E10)*0.057, 0) -> #REF! | F29: (재료비+노무비) * 5.7%
D30: 공사이행보증수수료
A31: CK | D31: 하도급지급보증수수료 | E31: =TRUNC((E7+E8+E11+E12)*0.0008, 0) -> #REF! | F31: (재료비+직노+기계경비) * 0.08%
A32: CL | D32: 건설기계대여금지급보증서발급수수료 | E32: =TRUNC((E7+E8+E11+E12)*0.0007, 0) -> #REF! | F32: (재료비+직노+기계경비) * 0.07%
A33: CS | D33: [ 소 계 ] | E33: =TRUNC(E11+E12+E13+E14+E15+E16+E17+E19+E20+E18+E23+E24+E25+E26+E27+E28+E29+E30+E31+E32, 0) -> #REF!
A34: S1 | B34: 계 | E34: =TRUNC(E7+E10+E33, 0) -> #REF!
A35: D1 | B35: 일 반 관 리 비 | E35: =TRUNC(E34*0.065, 0) -> #REF! | F35: 계 * 6.5%
A36: D2 | B36: 이 윤 | E36: =TRUNC((E10+E33+E35)*0.12-230/1.1, 0) -> #REF! | F36: (노무비+경비+일반관리비) * 12% | G36: (절사:-230/1.1)
B37: 건설폐기물상차비 | E37: =#REF! -> #REF!
B38: 작업부산물(해체) | E38: =#REF! -> #REF!
B39: 고용개선지원비(PS단가) | E39: =SUM(E40+E41+E42+E43) -> #REF! | F39: * 주휴수당+(국민연금+건강보험료)+고용개선장려금
B40: * 주 휴 수 당 | E40: =TRUNC(E8*0.128*0.5*1.4) -> #REF! | F40: 직노*12.8%*50%*1.4
B41: * 국민연금 + 건강보험료 | E41: =TRUNC(E8*0.08345*0.2)*0 -> #REF! | F41: 직노*8.345%*20%
B42: * 고용개선장려금 | E42: =TRUNC(E8*0.128*0.5*0.1)*0 -> #REF! | F42: 직노*12.8%*50%*10%
B43: * 전자카드단말기
B44: 해체계획서 작성 | E44: =#REF! -> #REF!
B45: 내부인테리어설계비
A46: D9 | B46: 공 급 가 액 | E46: =TRUNC(E34+E35+E36+E37+E38+E39+E44+E45, 0) -> #REF!
A47: DB | B47: 부 가 가 치 세 | E47: =TRUNC(E46*0.1, 0) -> #REF! | F47: 공급가액 * 10%
A48: DH | B48: 도 급 액 | E48: =TRUNC(E46+E47, 0) -> #REF!
A49: DK | B49: 관급자재비(관급자) | G49: (절사:-0)
B50: 관급자재비(도급자) | G50: (절사:-0)
B51: 분 담 금 공 사
A52: S2 | B52: 총 공 사 비 | E52: =TRUNC(E48+E49+E50+E51, 0) -> #REF!

Sheet 공종별내역서(건축)
A1: [ 송파2동 복합청사 ]
A2: 품 명 | B2: 규 격 | C2: 단위 | D2: 수량 | E2: 재 료 비 | G2: 노 무 비 | I2: 경 비 | K2: 합 계 | M2: 비 고 | N2: 품목코드 | O2: 변수 | P2: 설정 | Q2: 공종코드 | R2: 일위 | S2: 단산 | T2: 자재 | U2: 손료적용 | V2: 손료저장 | W2: 적용율 | X2: JUK1 | Y2: JUK2 | Z2: JUK3 | AA2: JUK4 | AB2: JUK5 | AC2: JUK6 | AD2: JUK7 | AE2: JUK8 | AF2: JUK9 | AG2: JUK10 | AH2: JUK11 | AI2: JUK12 | AJ2: JUK13 | AK2: JUK14 | AL2: JUK15 | AM2: JUK16 | AN2: JUK17 | AO2: JUK18 | AP2: JUK19 | AQ2: JUK20 | AR2: 자재구분 | AS2: 공종구분 | AT2: 공종레벨 | AU2: 공종+자재 | AV2: 고유번호
E3: 단 가 | F3: 금 액 | G3: 단 가 | H3: 금 액 | I3: 단 가 | J3: 금 액 | K3: 단 가 | L3: 금 액
A4: 공통 가설 공사 | B4: ■ 건 축 공 사 ■ | Q4: 010101
A5: 가설울타리 설치 및 해체 | B5: RPP, 6m, 23개월 | C5: M | D5: 107 | M5: 호표 22 | N5: 59F40596CA69DDB380C1CB0F7AF9C6 | Q5: 010101 | R5: T | S5: F | T5: F | AU5: 01010159F40596CA69DDB380C1CB0F7AF9C6 | AV5: 110
A6: 가설울타리출입구 설치 및 해체 | B6: RPP, 6m*4m, 23개월 | C6: EA | D6: 1 | M6: 호표 23 | N6: 59F40596CA69DDB380C1CB0F7AF976 | Q6: 010101 | R6: T | S6: F | T6: F | AU6: 01010159F40596CA69DDB380C1CB0F7AF976 | AV6: 111
A7: 콘테이너형 가설사무소 설치 및 해체 | B7: 3.0*6.0m, 22개월 | C7: 개소 | D7: 1 | M7: 호표 46 | N7: 59F40595276CC5CF854A80DA725646 | Q7: 010101 | R7: T | S7: F | T7: F | AU7: 01010159F40595276CC5CF854A80DA725646 | AV7: 112
A8: 콘테이너형 가설창고 설치 및 해체 | B8: 3.0*6.0m, 22개월 | C8: 개소 | D8: 1 | M8: 호표 48 | N8: 59F40595276CF2F48857B9607D0666 | Q8: 010101 | R8: T | S8: F | T8: F | AU8: 01010159F40595276CF2F48857B9607D0666 | AV8: 113
A9: 콘테이너형 가설실험실 설치 및 해체 | B9: 3.0*6.0m, 22개월 | C9: 개소 | D9: 1 | M9: 호표 49 | N9: 59F40595276CF2F48857B9607D0656 | Q9: 010101 | R9: T | S9: F | T9: F | AU9: 01010159F40595276CF2F48857B9607D0656 | AV9: 114
A10: 방진망 설치 및 해체 | B10: P.E, 1.5*150m | C10: M2 | D10: 107 | M10: 호표 27 | N10: 59F40596C96FCF7581F482327DC486 | Q10: 010101 | R10: T | S10: F | T10: F | AU10: 01010159F40596C96FCF7581F482327DC486 | AV10: 115
A11: 현장내 자재 상,하차비 | B11: 지게차 2.5ton | C11: 일 | D11: 5 | M11: 호표 50 | N11: 59F40595276CF2F48857B9617F93D6 | Q11: 010101 | R11: T | S11: F | T11: F | AU11: 01010159F40595276CF2F48857B9617F93D6 | AV11: 473
Q12: 010101
Q13: 010101
Q14: 010101
Q15: 010101
Q16: 010101
Q17: 010101
Q18: 010101
Q19: 010101
Q20: 010101
Q21: 010101
Q22: 010101
Q23: 010101
... Q26: 010101
A27: [ 합 계 ] | N27: TOTAL
A28: 가 설 공 사 | B28: ■ 건 축 공 사 ■ | Q28: 010102
A29: 강관 조립말비계(이동식)설치 및 해체 | B29: 높이 2m, 3개월 | C29: 대 | D29: 19 | M29: 호표 30 | N29: 59F40596C86ECA8382F03D657DBC46 | Q29: 010102 | R29: T | S29: F | T29: F | AU29: 01010259F40596C86ECA8382F03D657DBC46 | AV29: 175
A30: 강관 조립말비계(이동식)설치 및 해체 | B30: 높이 4m, 3개월 | C30: 대 | D30: 2 | M30: 호표 31 | N30: 59F40596C86ECA8382F03E0C745156 | Q30: 010102 | R30: T | S30: F | T30: F | AU30: 01010259F40596C86ECA8382F03E0C745156 | AV30: 176
A31: 시스템비계 설치 및 해체 | B31: 10m 이하, 12개월 (발판유) | C31: M2 | D31: 2113 | M31: 호표 33 | N31: 59F40596C86ECA8380C7A21F7669A6 | Q31: 010102 | R31: T | S31: F | T31: F | AU31: 01010259F40596C86ECA8380C7A21F7669A6 | AV31: 177
A32: 시스템비계 설치 및 해체 | B32: 10m 초과~20m 이하, 12개월 (발판유) | C32: M2 | D32: 992 | M32: 호표 35 | N32: 59F40596C86ECA8380C4EE587587E6 | Q32: 010102 | R32: T | S32: F | T32: F | AU32: 01010259F40596C86ECA8380C4EE587587E6 | AV32: 178
A33: 시스템비계 설치 및 해체 | B33: 20m 초과~30m 이하, 12개월 (발판유) | C33: M2 | D33: 88 | M33: 호표 37 | N33: 59F40596C86ECA8380C5F4A37A6496 | Q33: 010102 | R33: T | S33: F | T33: F | AU33: 01010259F40596C86ECA8380C5F4A37A6496 | AV33: 180
A34: 비계주위 보호막 설치 및 해체 | B34: PVC코팅, #1500, 1.8*1.8m /설치비는 비계에포함 | C34: M2 | D34: 2605 | M34: 호표 25 | N34: 59F40596C96FCF7581F487B47D5356 | Q34: 010102 | R34: T | S34: F | T34: F | AU34: 01010259F40596C96FCF7581F487B47D5356 | AV34: 179
A35: 목재 평 규준틀 설치 및 철거 | C35: 개소 | D35: 18 | M35: 호표 38 | N35: 59F40596C86ECA9D8CF1102F7F5626 | Q35: 010102 | R35: T | S35: F | T35: F | AU35: 01010259F40596C86ECA9D8CF1102F7F5626 | AV35: 181
A36: 목재 귀 규준틀 설치 및 철거 | C36: 개소 | D36: 7 | M36: 호표 39 | N36: 59F40596C86ECA9D8CF113E377B1A6 | Q36: 010102 | R36: T | S36: F | T36: F | AU36: 01010259F40596C86ECA9D8CF113E377B1A6 | AV36: 182
A37: 강관동바리 설치 및 해체 | B37: 3.5m 이하 | C37: M2 | D37: 110 | M37: 호표 40 | N37: 59F40596C86EF7E4830B19B074F1D6 | Q37: 010102 | R37: T | S37: F | T37: F | AU37: 01010259F40596C86EF7E4830B19B074F1D6 | AV37: 183
A38: 강관동바리 설치 및 해체 | B38: 3.5m~4.2m이하, 간격 0.6~0.8m이하, 55m2 | C38: M2 | D38: 2021 | M38: 호표 41 | N38: 59F40596C86EF7E4830B18A975E6C6 | Q38: 010102 | R38: T | S38: F | T38: F | AU38: 01010259F40596C86EF7E4830B18A975E6C6 | AV38: 184
A39: 시스템동바리 설치 및 해체 | B39: 5m이하 | C39: 10공M3 | D39: 6 | M39: 호표 43 | N39: 59F40596C86EF7F68E8FE5167E9D26 | Q39: 010102 | R39: T | S39: F | T39: F | AU39: 01010259F40596C86EF7F68E8FE5167E9D26 | AV39: 186
A40: 시스템동바리 설치 및 해체 | B40: 5m초과~10m 이하 | C40: 10공M3 | D40: 106 | M40: 호표 45 | N40: 59F40596C86EF7F68E8EDE25738ED6 | Q40: 010102 | R40: T | S40: F | T40: F | AU40: 01010259F40596C86EF7F68E8EDE25738ED6 | AV40: 185
A41: 건축물 현장정리 | B41: 철근콘크리트조, 철골·철근콘크리트조 | C41: M2 | D41: 2454 | M41: 호표 57 | N41: 59F405937669B0C082D208A97007D6 | Q41: 010102 | R41: T | S41: F | T41: F | AU41: 01010259F405937669B0C082D208A97007D6 | AV41: 187
A42: 구조부 먹매김 | B42: 일반 | C42: M2 | D42: 2454 | M42: 호표 58 | N42: 59F40593756F64EE83A7984671BF16 | Q42: 010102 | R42: T | S42: F | T42: F | AU42: 01010259F40593756F64EE83A7984671BF16 | AV42: 188
A43: 거푸집 먹매김 | B43: 일반 | C43: M2 | D43: 2454 | M43: 호표 59 | N43: 59F40593756F64EE83A5EAEA772A96 | Q43: 010102 | R43: T | S43: F | T43: F | AU43: 01010259F40593756F64EE83A5EAEA772A96 | AV43: 189
A44: 건축물보양 - 콘크리트 | B44: 살수 | C44: M2 | D44: 2880 | M44: 호표 60 | N44: 59F40593756F64DD8BA8477F7CB3B6 | Q44: 010102 | R44: T | S44: F | T44: F | AU44: 01010259F40593756F64DD8BA8477F7CB3B6 | AV44: 190
A45: 타일 및 석재면보양 | B45: 하드롱지 | C45: M2 | D45: 581 | M45: 호표 61 | N45: 59F40593756F64DD88D694AD756A06 | Q45: 010102 | R45: T | S45: F | T45: F | AU45: 01010259F40593756F64DD88D694AD756A06 | AV45: 191
A46: 준공청소 | C46: M2 | D46: 2454 | M46: 호표 87 | N46: 59F40593736C95A58AD8B9987FFDB6 | Q46: 010102 | R46: T | S46: F | T46: F | AU46: 01010259F40593736C95A58AD8B9987FFDB6 | AV46: 192
Q47: 010102
Q48: 010102
Q49: 010102
Q50: 010102
A51: [ 합 계 ] | N51: TOTAL
A52: 임 시 소 방 공 사 | B52: ■ 건 축 공 사 ■ | Q52: 010103
A53: 소화기 | B53: 분말소화기(ABC) 3.3KG | C53: EA | D53: 26 | M53: 자재 385 | N53: 584EB545436B0D7783D2F92271EF3BA6F78151 | Q53: 010103 | R53: F | S53: F | T53: T | AU53: 010103584EB545436B0D7783D2F92271EF3BA6F78151 | AV53: 336
A54: 소화기 | B54: 대형분말소화기 20kg | C54: EA | D54: 1 | M54: 자재 386 | N54: 584EB545436B0D7783D2F92271EF3BA6F78152 | Q54: 010103 | R54: F | S54: F | T54: T | AU54: 010103584EB545436B0D7783D2F92271EF3BA6F78152 | AV54: 337
A55: 소화기 받침대 | B55: 소화기받침대 3.3kg | C55: EA | D55: 26 | M55: 자재 387 | N55: 584EB545436B0D7783D2F92271EF3BA6F78153 | Q55: 010103 | R55: F | S55: F | T55: T | AU55: 010103584EB545436B0D7783D2F92271EF3BA6F78153 | AV55: 338
A56: 질식소화덮개 | B56: 6mx8m (1회용) | C56: EA | D56: 1 | M56: 자재 388 | N56: 584EB545436B0D7783D2F92271EF3BA6F78154 | Q56: 010103 | R56: F | S56: F | T56: T | AU56: 010103584EB545436B0D7783D2F92271EF3BA6F78154 | AV56: 339
A57: 1종금속제가용전선관 | B57: 16mm 고장력비방수 | C57: M | D57: 60 | M57: 자재 389 | N57: 584EB545436B0D7783D2F92271EF3BA6F78155 | Q57: 010103 | R57: F | S57: F | T57: T | AU57: 010103584EB545436B0D7783D2F92271EF3BA6F78155 | AV57: 340
A58: 1종금속제가요전선관 박스커넥터 | B58: 16mm 고장력비방수 | C58: 개 | D58: 12 | M58: 자재 390 | N58: 584EB545436B0D7783D2F92271EF3BA6F78156 | Q58: 010103 | R58: F | S58: F | T58: T | AU58: 010103584EB545436B0D7783D2F92271EF3BA6F78156 | AV58: 341
A59: 저독성난연폴리올레핀전선(HFIX) | B59: 450/750V, 2.5㎟(1.78mm) | C59: M | D59: 120 | M59: 자재 391 | N59: 584EB545436B0D7783D2F92271EF3BA6F78157 | Q59: 010103 | R59: F | S59: F | T59: T | AU59: 010103584EB545436B0D7783D2F92271EF3BA6F78157 | AV59: 342
A60: 비상전원반 | B60: 3A | C60: 개 | D60: 1 | M60: 자재 392 | N60: 584EB545436B0D7783D2F92271EF3BA6F78158 | Q60: 010103 | R60: F | S60: F | T60: T | AU60: 010103584EB545436B0D7783D2F92271EF3BA6F78158 | AV60: 343
A61: 간이피난유도선(10M) | C61: M | D61: 6 | M61: 자재 393 | N61: 584EB545436B0D7783D2F92271EF3BA6F78159 | Q61: 010103 | R61: F | S61: F | T61: T | AU61: 010103584EB545436B0D7783D2F92271EF3BA6F78159 | AV61: 344
A62: 일체형 임시소방시설 | C62: EA | D62: 6 | M62: 자재 394 | N62: 584EB545436B0D7783D2F92271EF3BA6F78277 | Q62: 010103 | R62: F | S62: F | T62: T | AU62: 010103584EB545436B0D7783D2F92271EF3BA6F78277 | AV62: 345
Q63: 010103
Q64: 010103
Q65: 010103
Q66: 010103
Q67: 010103
Q68: 010103
Q69: 010103
Q70: 010103
Q71: 010103
Q72: 010103
Q73: 010103
Q74: 010103
A75: [ 합 계 ] | N75: TOTAL
A76: 토 및 지정공사 | B76: ■ 건 축 공 사 ■ | Q76: 010104
A77: 단열재설치(F3) | B77: 슬라브하부, 70mm(압출법보온판 특호) | C77: M2 | D77: 368 | M77: 호표 370 | N77: 59F4E5324D67279681CB09AD7EEB56 | Q77: 010104 | R77: T | S77: F | T77: F | AU77: 01010459F4E5324D67279681CB09AD7EEB56 | AV77: 116
A78: 방습필름 설치 - 바닥(지정) | B78: 폴리에틸렌필름, 두께, 0.03mm, 2겹 | C78: M2 | D78: 528 | M78: 호표 380 | N78: 59F4E5324F63FE5C82161B1177E4D6 | Q78: 010104 | R78: T | S78: F | T78: F | AU78: 01010459F4E5324F63FE5C82161B1177E4D6 | AV78: 117
A79: 기초 지정 | B79: 잡석지정 | C79: M3 | D79: 112 | M79: 호표 400 | N79: 59D775ACA76050C88A68F77276A766 | Q79: 010104 | R79: T | S79: F | T79: F | AU79: 01010459D775ACA76050C88A68F77276A766 | AV79: 118
Q80: 010104
Q81: 010104
Q82: 010104
Q83: 010104
Q84: 010104
Q85: 010104
Q86: 010104
Q87: 010104
Q88: 010104
Q89: 010104
Q90: 010104
Q91: 010104
... Q98: 010104
A99: [ 합 계 ] | N99: TOTAL
A100: 철근콘크리트공사 | B100: ■ 건 축 공 사 ■ | Q100: 010105
A101: 레미콘(관급) | B101: 25-30-150 | C101: M3 | D101: 2308 | M101: 자재 95 | N101: 5ED7F5D5DC6E5FFF87D456F271EA40E692402F | Q101: 010105 | R101: F | S101: F | T101: T | AU101: 0101055ED7F5D5DC6E5FFF87D456F271EA40E692402F | AV101: 81
A102: 레미콘(관급) | B102: 25-18-120 | C102: M3 | D102: 97 | M102: 자재 92 | N102: 5ED7F5D5DC6E5FFF87D456F271EA4096270ECD | Q102: 010105 | R102: F | S102: F | T102: T | AU102: 0101055ED7F5D5DC6E5FFF87D456F271EA4096270ECD | AV102: 82
A103: 레미콘(관급) | B103: 25-18-80 | C103: M3 | D103: 34 | M103: 자재 93 | N103: 5ED7F5D5DC6E5FFF87D456F271EA4096270ECC | Q103: 010105 | R103: F | S103: F | T103: T | AU103: 0101055ED7F5D5DC6E5FFF87D456F271EA4096270ECC | AV103: 83
A104: 섬유보강제 | C104: M3 | D104: 97 | M104: 자재 94 | N104: 5ED7F5D5DC6E5FFF87D456F271EA4096277683 | Q104: 010105 | R104: F | S104: F | T104: T | AU104: 0101055ED7F5D5DC6E5FFF87D456F271EA4096277683 | AV104: 84
A105: 콘크리트 펌프차 타설(무근, 진동기無) | B105: slump 8~12cm, 매트기초 등, f2 : Type-Ⅰ, 36m | C105: M3 | D105: 129 | M105: 호표 111 | N105: 59F4551FB46B2CFA8D2E33FA7C3C26 | Q105: 010105 | R105: T | S105: F | T105: F | AU105: 01010559F4551FB46B2CFA8D2E33FA7C3C26 | AV105: 85
A106: 콘크리트 펌프차 타설 | B106: slump 15cm, 매트기초 등, f2 : Type-Ⅰ, 36m | C106: M3 | D106: 401 | M106: 호표 113 | N106: 59F4551FB7603BB98DD88B52795206 | Q106: 010105 | R106: T | S106: F | T106: F | AU106: 01010559F4551FB7603BB98DD88B52795206 | AV106: 86
A107: 콘크리트 펌프차 타설 | B107: slump 15cm, 벽,기둥,슬래브 등, f2 : Type-Ⅰ, 36m | C107: M3 | D107: 1885 | M107: 호표 114 | N107: 59F4551FB7600E738CED519A7D4336 | Q107: 010105 | R107: T | S107: F | T107: F | AU107: 01010559F4551FB7600E738CED519A7D4336 | AV107: 87
A108: 철근콘크리트용봉강(관급) | B108: 철근콘크리트용봉강, 이형봉강(SD400), HD-10 | C108: TON | D108: 62.279 | M108: 자재 63 | N108: 5ED7F5D5DD68AB0483E657677AB1B4061143B2 | Q108: 010105 | R108: F | S108: F | T108: T | AU108: 0101055ED7F5D5DD68AB0483E657677AB1B4061143B2 | AV108: 88
...

Sheet 일위대가(건축)
A1: [ 송파2동 복합청사 ]
A2: 품 명 | B2: 규 격 | C2: 단위 | D2: 수량 | E2: 재 료 비 | G2: 노 무 비 | I2: 경 비 | K2: 합 계 | M2: 비 고 | N2: 일위대가 | O2: 품목코드 | P2: 일위 | Q2: 단산 | R2: 자재 | S2: 손료적용 | T2: 손료저장 | U2: 적용율 | V2: JUK1 | W2: JUK2 | X2: JUK3 | Y2: JUK4 | Z2: JUK5 | AA2: JUK6 | AB2: JUK7 | AC2: JUK8 | AD2: JUK9 | AE2: JUK10 | AF2: JUK11 | AG2: JUK12 | AH2: JUK13 | AI2: JUK14 | AJ2: JUK15 | AK2: JUK16 | AL2: JUK17 | AM2: JUK18 | AN2: JUK19 | AO2: JUK20 | AP2: 할증적용 | AQ2: 할증저장 | AR2: 할증율 | AS2: HAL1 | AT2: HAL2 | AU2: HAL3 | AV2: 자재구분 | AW2: 일위대가+자재 | AX2: 장비일위 | AY2: 설정 | AZ2: 할증체크
E3: 단 가 | F3: 금 액 | G3: 단 가 | H3: 금 액 | I3: 단 가 | J3: 금 액 | K3: 단 가 | L3: 금 액
A4: 굴착기(무한궤도) 0.2㎥ HR 공통 8-3,4(0201) ( 호표 1 ) | N4: 5EE0559FA4622A668DE9ED827231E656E9937643
A5: 굴착기(무한궤도) | B5: 0.2㎥ | C5: 대 | D5: 0.2085 | M5: 자재 1 | N5: 5EE0559FA4622A668DE9ED827231E656E9937643 | O5: 5EE0559FA4622A668DE9ED827231E656E99376 | P5: F | Q5: F | R5: T | AW5: 5EE0559FA4622A668DE9ED827231E656E99376435EE0559FA4622A668DE9ED827231E656E99376
A6: 경유 | B6: 경유, 저유황 | C6: L | D6: 5 | M6: 자재 34 | N6: 5EE0559FA4622A668DE9ED827231E656E9937643 | O6: 5EF295D5AF650D478936B6877D07E686DA1048 | P6: F | Q6: F | R6: T | V6: 1 | AW6: 5EE0559FA4622A668DE9ED827231E656E99376435EF295D5AF650D478936B6877D07E686DA1048
A7: 잡재료 | B7: 주연료비의 21% | C7: 식 | D7: 1 | N7: 5EE0559FA4622A668DE9ED827231E656E9937643 | O7: 58EFE57DB668781985DA8D2A7606001 | P7: F | Q7: F | R7: F | S7: 0 | T7: 0 | U7: 0.21 | AW7: 5EE0559FA4622A668DE9ED827231E656E993764358EFE57DB668781985DA8D2A7606001
A8: 건설기계운전사 | B8: 일반공사 직종 | C8: 인 | D8: 1 | M8: 노임 23 | N8: 5EE0559FA4622A668DE9ED827231E656E9937643 | O8: 59279567876B2BCA8EB3AB81782F0286944A63 | P8: F | Q8: F | R8: T | AW8: 5EE0559FA4622A668DE9ED827231E656E993764359279567876B2BCA8EB3AB81782F0286944A63 | AX8: T
A9: [ 합 계 ] | N9: TOTAL | O9: TOTAL
A11: 덤프트럭 2.5ton HR 공통 8-3,4(0602) ( 호표 2 ) | N11: 5EE0559FA4622A2F828232347FE28AF6FA9B1C60
A12: 덤프트럭 | B12: 2.5ton | C12: 대 | D12: 0.2967 | M12: 자재 2 | N12: 5EE0559FA4622A2F828232347FE28AF6FA9B1C60 | O12: 5EE0559FA4622A2F828232347FE28AF6FA9B1C | P12: F | Q12: F | R12: T | AW12: 5EE0559FA4622A2F828232347FE28AF6FA9B1C605EE0559FA4622A2F828232347FE28AF6FA9B1C
A13: 경유 | B13: 경유, 저유황 | C13: L | D13: 2.9 | M13: 자재 34 | N13: 5EE0559FA4622A2F828232347FE28AF6FA9B1C60 | O13: 5EF295D5AF650D478936B6877D07E686DA1048 | P13: F | Q13: F | R13: T | V13: 1 | AW13: 5EE0559FA4622A2F828232347FE28AF6FA9B1C605EF295D5AF650D478936B6877D07E686DA1048
A14: 잡재료 | B14: 주연료비의 38% | C14: 식 | D14: 1 | N14: 5EE0559FA4622A2F828232347FE28AF6FA9B1C60 | O14: 58EFE57DB668781985DA8D2A7606001 | P14: F | Q14: F | R14: F | S14: 0 | T14: 0 | U14: 0.38 | AW14: 5EE0559FA4622A2F828232347FE28AF6FA9B1C6058EFE57DB668781985DA8D2A7606001
A15: 화물차운전사 | B15: 일반공사 직종 | C15: 인 | D15: 1 | M15: 노임 24 | N15: 5EE0559FA4622A2F828232347FE28AF6FA9B1C60 | O15: 59279567876B2BCA8EB3AB81782F0286944A62 | P15: F | Q15: F | R15: T | AW15: 5EE0559FA4622A2F828232347FE28AF6FA9B1C6059279567876B2BCA8EB3AB81782F0286944A62 | AX15: T
A16: [ 합 계 ] | N16: TOTAL | O16: TOTAL
A18: 덤프트럭 4.5ton HR 공통 8-3,4(0602) ( 호표 3 ) | N18: 5EE0559FA4622A2F828232347F8817868CA7835D
A19: 덤프트럭 | B19: 4.5ton | C19: 대 | D19: 0.2967 | M19: 자재 3 | N19: 5EE0559FA4622A2F828232347F8817868CA7835D | O19: 5EE0559FA4622A2F828232347F8817868CA783 | P19: F | Q19: F | R19: T | AW19: 5EE0559FA4622A2F828232347F8817868CA7835D5EE0559FA4622A2F828232347F8817868CA783
A20: 경유 | B20: 경유, 저유황 | C20: L | D20: 5 | M20: 자재 34 | N20: 5EE0559FA4622A2F828232347F8817868CA7835D | O20: 5EF295D5AF650D478936B6877D07E686DA1048 | P20: F | Q20: F | R20: T | V20: 1 | AW20: 5EE0559FA4622A2F828232347F8817868CA7835D5EF295D5AF650D478936B6877D07E686DA1048
A21: 잡재료 | B21: 주연료비의 38% | C21: 식 | D21: 1 | N21: 5EE0559FA4622A2F828232347F8817868CA7835D | O21: 58EFE57DB668781985DA8D2A7606001 | P21: F | Q21: F | R21: F | S21: 0 | T21: 0 | U21: 0.38 | AW21: 5EE0559FA4622A2F828232347F8817868CA7835D58EFE57DB668781985DA8D2A7606001
A22: 화물차운전사 | B22: 일반공사 직종 | C22: 인 | D22: 1 | M22: 노임 24 | N22: 5EE0559FA4622A2F828232347F8817868CA7835D | O22: 59279567876B2BCA8EB3AB81782F0286944A62 | P22: F | Q22: F | R22: T | AW22: 5EE0559FA4622A2F828232347F8817868CA7835D59279567876B2BCA8EB3AB81782F0286944A62 | AX22: T
A23: [ 합 계 ] | N23: TOTAL | O23: TOTAL
A25: 덤프트럭 8ton HR 공통 8-3,4(0602) ( 호표 4 ) | N25: 5EE0559FA4622A2F828232347F429DC6C1FDD5FC
A26: 덤프트럭 | B26: 8ton | C26: 대 | D26: 0.282 | M26: 자재 4 | N26: 5EE0559FA4622A2F828232347F429DC6C1FDD5FC | O26: 5EE0559FA4622A2F828232347F429DC6C1FDD5 | P26: F | Q26: F | R26: T | AW26: 5EE0559FA4622A2F828232347F429DC6C1FDD5FC5EE0559FA4622A2F828232347F429DC6C1FDD5
A27: 경유 | B27: 경유, 저유황 | C27: L | D27: 9.3 | M27: 자재 34 | N27: 5EE0559FA4622A2F828232347F429DC6C1FDD5FC | O27: 5EF295D5AF650D478936B6877D07E686DA1048 | P27: F | Q27: F | R27: T | V27: 1 | AW27: 5EE0559FA4622A2F828232347F429DC6C1FDD5FC5EF295D5AF650D478936B6877D07E686DA1048
A28: 잡재료 | B28: 주연료비의 38% | C28: 식 | D28: 1 | N28: 5EE0559FA4622A2F828232347F429DC6C1FDD5FC | O28: 58EFE57DB668781985DA8D2A7606001 | P28: F | Q28: F | R28: F | S28: 0 | T28: 0 | U28: 0.38 | AW28: 5EE0559FA4622A2F828232347F429DC6C1FDD5FC58EFE57DB668781985DA8D2A7606001
A29: 화물차운전사 | B29: 일반공사 직종 | C29: 인 | D29: 1 | M29: 노임 24 | N29: 5EE0559FA4622A2F828232347F429DC6C1FDD5FC | O29: 59279567876B2BCA8EB3AB81782F0286944A62 | P29: F | Q29: F | R29: T | AW29: 5EE0559FA4622A2F828232347F429DC6C1FDD5FC59279567876B2BCA8EB3AB81782F0286944A62 | AX29: T
A30: [ 합 계 ] | N30: TOTAL | O30: TOTAL
A32: 진동롤러(핸드가이드식) 0.7ton HR 공통 8-3,4(1305) ( 호표 5 ) | N32: 5EE0559FA462348585FA1AA3743760D6334CDCFF
A33: 진동롤러(핸드가이드식) | B33: 0.7ton | C33: 대 | D33: 0.2825 | M33: 자재 5 | N33: 5EE0559FA462348585FA1AA3743760D6334CDCFF | O33: 5EE0559FA462348585FA1AA3743760D6334CDC | P33: F | Q33: F | R33: T | AW33: 5EE0559FA462348585FA1AA3743760D6334CDCFF5EE0559FA462348585FA1AA3743760D6334CDC
A34: 경유 | B34: 경유, 저유황 | C34: L | D34: 2.2 | M34: 자재 34 | N34: 5EE0559FA462348585FA1AA3743760D6334CDCFF | O34: 5EF295D5AF650D478936B6877D07E686DA1048 | P34: F | Q34: F | R34: T | V34: 1 | AW34: 5EE0559FA462348585FA1AA3743760D6334CDCFF5EF295D5AF650D478936B6877D07E686DA1048
A35: 잡재료 | B35: 주연료비의 13% | C35: 식 | D35: 1 | N35: 5EE0559FA462348585FA1AA3743760D6334CDCFF | O35: 58EFE57DB668781985DA8D2A7606001 | P35: F | Q35: F | R35: F | S35: 0 | T35: 0 | U35: 0.13 | AW35: 5EE0559FA462348585FA1AA3743760D6334CDCFF58EFE57DB668781985DA8D2A7606001
A36: 일반기계운전사 | B36: 일반공사 직종 | C36: 인 | D36: 1 | M36: 노임 25 | N36: 5EE0559FA462348585FA1AA3743760D6334CDCFF | O36: 59279567876B2BCA8EB3AB81782F0286944B71 | P36: F | Q36: F | R36: T | AW36: 5EE0559FA462348585FA1AA3743760D6334CDCFF59279567876B2BCA8EB3AB81782F0286944B71 | AX36: T
A37: [ 합 계 ] | N37: TOTAL | O37: TOTAL
A39: 크레인(타이어) 10ton HR 공통 8-3,4(2104) ( 호표 6 ) | N39: 5EE0559FA4620F6C832838147EC40A8693F7479F
A40: 크레인(타이어) | B40: 10ton | C40: 대 | D40: 0.2298 | M40: 자재 6 | N40: 5EE0559FA4620F6C832838147EC40A8693F7479F | O40: 5EE0559FA4620F6C832838147EC40A8693F747 | P40: F | Q40: F | R40: T | AW40: 5EE0559FA4620F6C832838147EC40A8693F7479F5EE0559FA4620F6C832838147EC40A8693F747
A41: 경유 | B41: 경유, 저유황 | C41: L | D41: 3.8 | M41: 자재 34 | N41: 5EE0559FA4620F6C832838147EC40A8693F7479F | O41: 5EF295D5AF650D478936B6877D07E686DA1048 | P41: F | Q41: F | R41: T | V41: 1 | AW41: 5EE0559FA4620F6C832838147EC40A8693F7479F5EF295D5AF650D478936B6877D07E686DA1048
A42: 잡재료 | B42: 주연료비의 39% | C42: 식 | D42: 1 | N42: 5EE0559FA4620F6C832838147EC40A8693F7479F | O42: 58EFE57DB668781985DA8D2A7606001 | P42: F | Q42: F | R42: F | S42: 0 | T42: 0 | U42: 0.39 | AW42: 5EE0559FA4620F6C832838147EC40A8693F7479F58EFE57DB668781985DA8D2A7606001
A43: 건설기계운전사 | B43: 일반공사 직종 | C43: 인 | D43: 1 | M43: 노임 23 | N43: 5EE0559FA4620F6C832838147EC40A8693F7479F | O43: 59279567876B2BCA8EB3AB81782F0286944A63 | P43: F | Q43: F | R43: T | AW43: 5EE0559FA4620F6C832838147EC40A8693F7479F59279567876B2BCA8EB3AB81782F0286944A63 | AX43: T
A44: [ 합 계 ] | N44: TOTAL | O44: TOTAL
A46: 크레인(타이어) 15ton HR 공통 8-3,4(2104) ( 호표 7 ) | N46: 5EE0559FA4620F6C832838147EC452A6EE1746BC
A47: 크레인(타이어) | B47: 15ton | C47: 대 | D47: 0.2298 | M47: 자재 7 | N47: 5EE0559FA4620F6C832838147EC452A6EE1746BC | O47: 5EE0559FA4620F6C832838147EC452A6EE1746 | P47: F | Q47: F | R47: T | AW47: 5EE0559FA4620F6C832838147EC452A6EE1746BC5EE0559FA4620F6C832838147EC452A6EE1746
A48: 경유 | B48: 경유, 저유황 | C48: L | D48: 4.7 | M48: 자재 34 | N48: 5EE0559FA4620F6C832838147EC452A6EE1746BC | O48: 5EF295D5AF650D478936B6877D07E686DA1048 | P48: F | Q48: F | R48: T | V48: 1 | AW48: 5EE0559FA4620F6C832838147EC452A6EE1746BC5EF295D5AF650D478936B6877D07E686DA1048
A49: 잡재료 | B49: 주연료비의 39% | C49: 식 | D49: 1 | N49: 5EE0559FA4620F6C832838147EC452A6EE1746BC | O49: 58EFE57DB668781985DA8D2A7606001 | P49: F | Q49: F | R49: F | S49: 0 | T49: 0 | U49: 0.39 | AW49: 5EE0559FA4620F6C832838147EC452A6EE1746BC58EFE57DB668781985DA8D2A7606001
A50: 건설기계운전사 | B50: 일반공사 직종 | C50: 인 | D50: 1 | M50: 노임 23 | N50: 5EE0559FA4620F6C832838147EC452A6EE1746BC | O50: 59279567876B2BCA8EB3AB81782F0286944A63 | P50: F | Q50: F | R50: T | AW50: 5EE0559FA4620F6C832838147EC452A6EE1746BC59279567876B2BCA8EB3AB81782F0286944A63 | AX50: T
A51: [ 합 계 ] | N51: TOTAL | O51: TOTAL
A53: 트럭탑재형 크레인 5ton HR 공통 8-3,4(2105) ( 호표 8 ) | N53: 5EE0559FA4620F6C8329DF5D7A0C56767FEA4ECE
A54: 트럭탑재형 크레인 | B54: 5ton | C54: 대 | D54: 0.2598 | M54: 자재 8 | N54: 5EE0559FA4620F6C8329DF5D7A0C56767FEA4ECE | O54: 5EE0559FA4620F6C8329DF5D7A0C56767FEA4E | P54: F | Q54: F | R54: T | AW54: 5EE0559FA4620F6C8329DF5D7A0C56767FEA4ECE5EE0559FA4620F6C8329DF5D7A0C56767FEA4E
A55: 경유 | B55: 경유, 저유황 | C55: L | D55: 5.1 | M55: 자재 34 | N55: 5EE0559FA4620F6C8329DF5D7A0C56767FEA4ECE | O55: 5EF295D5AF650D478936B6877D07E686DA1048 | P55: F | Q55: F | R55: T | V55: 1 | AW55: 5EE0559FA4620F6C8329DF5D7A0C56767FEA4ECE5EF295D5AF650D478936B6877D07E686DA1048
A56: 잡재료 | B56: 주연료비의 20% | C56: 식 | D56: 1 | N56: 5EE0559FA4620F6C8329DF5D7A0C56767FEA4ECE | O56: 58EFE57DB668781985DA8D2A7606001 | P56: F | Q56: F | R56: F | S56: 0 | T56: 0 | U56: 0.2 | AW56: 5EE0559FA4620F6C8329DF5D7A0C56767FEA4ECE58EFE57DB668781985DA8D2A7606001
A57: 화물차운전사 | B57: 일반공사 직종 | C57: 인 | D57: 1 | M57: 노임 24 | N57: 5EE0559FA4620F6C8329DF5D7A0C56767FEA4ECE | O57: 59279567876B2BCA8EB3AB81782F0286944A62 | P57: F | Q57: F | R57: T | AW57: 5EE0559FA4620F6C8329DF5D7A0C56767FEA4ECE59279567876B2BCA8EB3AB81782F0286944A62 | AX57: T
A58: [ 합 계 ] | N58: TOTAL | O58: TOTAL
A60: 트럭탑재형 크레인 10ton HR 공통 8-3,4(2105) ( 호표 9 ) | N60: 5EE0559FA4620F6C8329DF5D7A1E78F6075A0CD6
A61: 트럭탑재형 크레인 | B61: 10ton | C61: 대 | D61: 0.2598 | M61: 자재 9 | N61: 5EE0559FA4620F6C8329DF5D7A1E78F6075A0CD6 | O61: 5EE0559FA4620F6C8329DF5D7A1E78F6075A0C | P61: F | Q61: F | R61: T | AW61: 5EE0559FA4620F6C8329DF5D7A1E78F6075A0CD65EE0559FA4620F6C8329DF5D7A1E78F6075A0C
A62: 경유 | B62: 경유, 저유황 | C62: L | D62: 10.3 | M62: 자재 34 | N62: 5EE0559FA4620F6C8329DF5D7A1E78F6075A0CD6 | O62: 5EF295D5AF650D478936B6877D07E686DA1048 | P62: F | Q62: F | R62: T | V62: 1 | AW62: 5EE0559FA4620F6C8329DF5D7A1E78F6075A0CD65EF295D5AF650D478936B6877D07E686DA1048
A63: 잡재료 | B63: 주연료비의 20% | C63: 식 | D63: 1 | N63: 5EE0559FA4620F6C8329DF5D7A1E78F6075A0CD6 | O63: 58EFE57DB668781985DA8D2A7606001 | P63: F | Q63: F | R63: F | S63: 0 | T63: 0 | U63: 0.2 | AW63: 5EE0559FA4620F6C8329DF5D7A1E78F6075A0CD658EFE57DB668781985DA8D2A7606001
A64: 화물차운전사 | B64: 일반공사 직종 | C64: 인 | D64: 1 | M64: 노임 24 | N64: 5EE0559FA4620F6C8329DF5D7A1E78F6075A0CD6 | O64: 59279567876B2BCA8EB3AB81782F0286944A62 | P64: F | Q64: F | R64: T | AW64: 5EE0559FA4620F6C8329DF5D7A1E78F6075A0CD659279567876B2BCA8EB3AB81782F0286944A62 | AX64: T
A65: [ 합 계 ] | N65: TOTAL | O65: TOTAL
A67: 지게차 2.5ton HR 공통 8-3,4(2502) ( 호표 10 ) | N67: 5EE0559FA4620F26883E98FC7888E546CA82C661
A68: 지게차 | B68: 2.5ton | C68: 대 | D68: 0.15 | M68: 자재 10 | N68: 5EE0559FA4620F26883E98FC7888E546CA82C661 | O68: 5EE0559FA4620F26883E98FC7888E546CA82C6 | P68: F | Q68: F | R68: T | AW68: 5EE0559FA4620F26883E98FC7888E546CA82C6615EE0559FA4620F26883E98FC7888E546CA82C6
A69: 경유 | B69: 경유, 저유황 | C69: L | D69: 4 | M69: 자재 34 | N69: 5EE0559FA4620F26883E98FC7888E546CA82C661 | O69: 5EF295D5AF650D478936B6877D07E686DA1048 | P69: F | Q69: F | R69: T | V69: 1 | AW69: 5EE0559FA4620F26883E98FC7888E546CA82C6615EF295D5AF650D478936B6877D07E686DA1048
A70: 잡재료 | B70: 주연료비의 37% | C70: 식 | D70: 1 | N70: 5EE0559FA4620F26883E98FC7888E546CA82C661 | O70: 58EFE57DB668781985DA8D2A7606001 | P70: F | Q70: F | R70: F | S70: 0 | T70: 0 | U70: 0.37 | AW70: 5EE0559FA4620F26883E98FC7888E546CA82C66158EFE57DB668781985DA8D2A7606001
A71: 건설기계운전사 | B71: 일반공사 직종 | C71: 인 | D71: 1 | M71: 노임 23 | N71: 5EE0559FA4620F26883E98FC7888E546CA82C661 | O71: 59279567876B2BCA8EB3AB81782F0286944A63 | P71: F | Q71: F | R71: T | AW71: 5EE0559FA4620F26883E98FC7888E546CA82C66159279567876B2BCA8EB3AB81782F0286944A63 | AX71: T
A72: [ 합 계 ] | N72: TOTAL | O72: TOTAL
A74: 트럭 트랙터 및 평판트레일러 20ton HR 공통 8-3,4(2702) ( 호표 11 ) | N74: 5EE0559FA4620F0B8B65E6A37B40587602C849B8
A75: 트럭 트랙터 및 평판트레일러 | B75: 20ton | C75: 대 | D75: 0.2576 | M75: 자재 11 | N75: 5EE0559FA4620F0B8B65E6A37B40587602C849B8 | O75: 5EE0559FA4620F0B8B65E6A37B40587602C849 | P75: F | Q75: F | R75: T | AW75: 5EE0559FA4620F0B8B65E6A37B40587602C849B85EE0559FA4620F0B8B65E6A37B40587602C849
A76: 경유 | B76: 경유, 저유황 | C76: L | D76: 16.5 | M76: 자재 34 | N76: 5EE0559FA4620F0B8B65E6A37B40587602C849B8 | O76: 5EF295D5AF650D478936B6877D07E686DA1048 | P76: F | Q76: F | R76: T | V76: 1 | AW76: 5EE0559FA4620F0B8B65E6A37B40587602C849B85EF295D5AF650D478936B6877D07E686DA1048
A77: 잡재료 | B77: 주연료비의 39% | C77: 식 | D77: 1 | N77: 5EE0559FA4620F0B8B65E6A37B40587602C849B8 | O77: 58EFE57DB668781985DA8D2A7606001 | P77: F | Q77: F | R77: F | S77: 0 | T77: 0 | U77: 0.39 | AW77: 5EE0559FA4620F0B8B65E6A37B40587602C849B858EFE57DB668781985DA8D2A7606001
A78: 건설기계운전사 | B78: 일반공사 직종 | C78: 인 | D78: 1 | M78: 노임 23 | N78: 5EE0559FA4620F0B8B65E6A37B40587602C849B8 | O78: 59279567876B2BCA8EB3AB81782F0286944A63 | P78: F | Q78: F | R78: T | AW78: 5EE0559FA4620F0B8B65E6A37B40587602C849B859279567876B2BCA8EB3AB81782F0286944A63 | AX78: T
A79: [ 합 계 ] | N79: TOTAL | O79: TOTAL
A81: 커터(콘크리트 및 아스팔트용) 320∼400mm HR 공통 8-3,4(4430) ( 호표 12 ) | N81: 5EE0559FA46261B28EB430A375699B866757DD89
A82: 커터(콘크리트 및 아스팔트용) | B82: 320∼400mm | C82: 대 | D82: 0.6354 | M82: 자재 12 | N82: 5EE0559FA46261B28EB430A375699B866757DD89 | O82: 5EE0559FA46261B28EB430A375699B866757DD | P82: F | Q82: F | R82: T | AW82: 5EE0559FA46261B28EB430A375699B866757DD895EE0559FA46261B28EB430A375699B866757DD
A83: 공업용휘발유 | B83: 공업용휘발유, 무연 | C83: L | D83: 5.6 | M83: 자재 35 | N83: 5EE0559FA46261B28EB430A375699B866757DD89 | O83: 5EF295D5AF650D478935ACC17BE170A659704D | P83: F | Q83: F | R83: T | V83: 1 | AW83: 5EE0559FA46261B28EB430A375699B866757DD895EF295D5AF650D478935ACC17BE170A659704D
A84: 잡재료 | B84: 주연료비의 20% | C84: 식 | D84: 1 | N84: 5EE0559FA46261B28EB430A375699B866757DD89 | O84: 58EFE57DB668781985DA8D2A7606001 | P84: F | Q84: F | R84: F | S84: 0 | T84: 0 | U84: 0.2 | AW84: 5EE0559FA46261B28EB430A375699B866757DD8958EFE57DB668781985DA8D2A7606001
A85: 일반기계운전사 | B85: 일반공사 직종 | C85: 인 | D85: 1 | M85: 노임 25 | N85: 5EE0559FA46261B28EB430A375699B866757DD89 | O85: 59279567876B2BCA8EB3AB81782F0286944B71 | P85: F | Q85: F | R85: T | AW85: 5EE0559FA46261B28EB430A375699B866757DD8959279567876B2BCA8EB3AB81782F0286944B71 | AX85: T
A86: [ 합 계 ] | N86: TOTAL | O86: TOTAL
A88: 콘크리트 펌프차 36m(80∼95㎥/hr) HR 공통 8-3,4(4504) ( 호표 13 ) | N88: 5EE0559FA46261A0868088C771DF05F6921CAAF3
A89: 콘크리트 펌프차 | B89: 36m(80∼95㎥/hr) | C89: 대 | D89: 0.264 | M89: 자재 13 | N89: 5EE0559FA46261A0868088C771DF05F6921CAAF3 | O89: 5EE0559FA46261A0868088C771DF05F6921CAA | P89: F | Q89: F | R89: T | AW89: 5EE0559FA46261A0868088C771DF05F6921CAAF35EE0559FA46261A0868088C771DF05F6921CAA
A90: 경유 | B90: 경유, 저유황 | C90: L | D90: 17.7 | M90: 자재 34 | N90: 5EE0559FA46261A0868088C771DF05F6921CAAF3 | O90: 5EF295D5AF650D478936B6877D07E686DA1048 | P90: F | Q90: F | R90: T | V90: 1 | AW90: 5EE0559FA46261A0868088C771DF05F6921CAAF35EF295D5AF650D478936B6877D07E686DA1048
A91: 잡재료 | B91: 주연료비의 35% | C91: 식 | D91: 1 | N91: 5EE0559FA46261A0868088C771DF05F6921CAAF3 | O91: 58EFE57DB668781985DA8D2A7606001 | P91: F | Q91: F | R91: F | S91: 0 | T91: 0 | U91: 0.35 | AW91: 5EE0559FA46261A0868088C771DF05F6921CAAF358EFE57DB668781985DA8D2A7606001
A92: 건설기계운전사 | B92: 일반공사 직종 | C92: 인 | D92: 1 | M92: 노임 23 | N92: 5EE0559FA46261A0868088C771DF05F6921CAAF3 | O92: 59279567876B2BCA8EB3AB81782F0286944A63 | P92: F | Q92: F | R92: T | AW92: 5EE0559FA46261A0868088C771DF05F6921CAAF359279567876B2BCA8EB3AB81782F0286944A63 | AX92: T
A93: [ 합 계 ] | N93: TOTAL | O93: TOTAL
A95: 모르타르펌프 37kw HR 공통 8-3,4(7991) ( 호표 14 ) | N95: 5EE0559FA462571E8680A6FF7B4B19964A0BC09B
A96: 모르타르펌프 | B96: 37kw | C96: 대 | D96: 0.4677 | M96: 자재 14 | N96: 5EE0559FA462571E8680A6FF7B4B19964A0BC09B | O96: 5EE0559FA462571E8680A6FF7B4B19964A0BC0 | P96: F | Q96: F | R96: T | AW96: 5EE0559FA462571E8680A6FF7B4B19964A0BC09B5EE0559FA462571E8680A6FF7B4B19964A0BC0
A97: 일반경비 | B97: 전력 | C97: kwh | D97: 37 | M97: 자재 263 | N97: 5EE0559FA462571E8680A6FF7B4B19964A0BC09B | O97: 59B56592366B4B6D81A183A17CBF75F62135D7 | P97: F | Q97: F | R97: T | AW97: 5EE0559FA462571E8680A6FF7B4B19964A0BC09B59B56592366B4B6D81A183A17CBF75F62135D7
A98: [ 합 계 ] | N98: TOTAL | O98: TOTAL
A100: 모르타르 믹서 0.3m3 HR 공통 8-3,4(7992) ( 호표 15 ) | N100: 5EE0559FA462571E86837A597B33E776CC886036
A101: 모르타르 믹서 | B101: 0.3m3 | C101: 대 | D101: 0.3708 | M101: 자재 15 | N101: 5EE0559FA462571E86837A597B33E776CC886036 | O101: 5EE0559FA462571E86837A597B33E776CC8860 | P101: F | Q101: F | R101: T | AW101: 5EE0559FA462571E86837A597B33E776CC8860365EE0559FA462571E86837A597B33E776CC8860
A102: 일반경비 | B102: 전력 | C102: kwh | D102: 1.87 | M102: 자재 263 | N102: 5EE0559FA462571E86837A597B33E776CC886036 | O102: 59B56592366B4B6D81A183A17CBF75F62135D7 | P102: F | Q102: F | R102: T | AW102: 5EE0559FA462571E86837A597B33E776CC88603659B56592366B4B6D81A183A17CBF75F62135D7
A103: 공업용휘발유 | B103: 공업용휘발유, 무연 | C103: L | D103: 1.3 | M103: 자재 35 | N103: 5EE0559FA462571E86837A597B33E776CC886036 | O103: 5EF295D5AF650D478935ACC17BE170A659704D | P103: F | Q103: F | R103: T | V103: 1 | AW103: 5EE0559FA462571E86837A597B33E776CC8860365EF295D5AF650D478935ACC17BE170A659704D
A104: 잡재료 | B104: 주연료비의 2% | C104: 식 | D104: 1 | N104: 5EE0559FA462571E86837A597B33E776CC886036 | O104: 58EFE57DB668781985DA8D2A7606001 | P104: F | Q104: F | R104: F | S104: 0 | T104: 0 | U104: 0.02 | AW104: 5EE0559FA462571E86837A597B33E776CC88603658EFE57DB668781985DA8D2A7606001
A105: [ 합 계 ] | N105: TOTAL | O105: TOTAL
A107: 양수기 1.49kw HR 공통 8-3,4(7993) ( 호표 16 ) | N107: 5EE0559FA462571E8682534F7E8E158696B60010
A108: 양수기 | B108: 1.49kw, 2HP | C108: 대 | D108: 0.3375 | M108: 자재 16 | N108: 5EE0559FA462571E8682534F7E8E158696B60010 | O108: 5EE0559FA462571E8682534F7E8E158696B600 | P108: F | Q108: F | R108: T | AW108: 5EE0559FA462571E8682534F7E8E158696B600105EE0559FA462571E8682534F7E8E158696B600
A109: 일반경비 | B109: 전력 | C109: kwh | D109: 1.49 | M109: 자재 263 | N109: 5EE0559FA462571E8682534F7E8E158696B60010 | O109: 59B56592366B4B6D81A183A17CBF75F62135D7 | P109: F | Q109: F | R109: T | AW109: 5EE0559FA462571E8682534F7E8E158696B6001059B56592366B4B6D81A183A17CBF75F62135D7
A110: [ 합 계 ] | N110: TOTAL | O110: TOTAL
A112: 배관파이프 ∮50㎜∼2.6m HR 공통 8-3(7995) ( 호표 17 ) | N112: 5EE0559FA462571E8684012B71773B7678E971E6
A113: 배관파이프 | B113: ∮50㎜∼2.6m | C113: 대 | D113: 0.5 | M113: 자재 17 | N113: 5EE0559FA462571E8684012B71773B7678E971E6 | O113: 5EE0559FA462571E8684012B71773B7678E971 | P113: F | Q113: F | R113: T | AW113: 5EE0559FA462571E8684012B71773B7678E971E65EE0559FA462571E8684012B71773B7678E971
A114: [ 합 계 ] | N114: TOTAL | O114: TOTAL | AX114: T
A116: 가로형 가설방음판 설치 설치높이 6m 이하, 시공량 40m/일당 M 공통 2-4-5 ( 호표 18 ) | N116: 59F40596CA69DDB381E7CB2D73F956
A117: 비계공 | B117: 일반공사 직종 | C117: 인 | D117: 0.075 | M117: 금액제외 | O117: 59279567876B2BCA8EB3AB81782F0286944EC0 | P117: F | Q117: F | R117: T | V117: 1 | W117: 2 | AW117: 59F40596CA69DDB381E7CB2D73F95659279567876B2BCA8EB3AB81782F0286944EC0 | AY117: -
...

Sheet 내역서(기계)
C1: [공사명] 송파2동 복합청사 신축공사(기계설비)
A2: 공종 | B2: 코드 | C2: 품 명 | D2: 규 격 | E2: 단위 | F2: 수량 | G2: 재 료 비 | I2: 노 무 비 | K2: 경 비 | M2: 합 계 | O2: 비고
G3: 단가 | H3: 금액 | I3: 단가 | J3: 금액 | K3: 단가 | L3: 금액 | M3: 단가 | N3: 금액
C4: 0101 장비설치공사
A5: 0101 | B5: 56958000046 | C5: P-2.급탕순환펌프(인라인) | D5: 10LPM*3M*0.1KW | E5: 대 | F5: 2 | O5: 56958000046 | T5: 0 | AC5: 1
A6: 0101 | B6: 56958000047 | C6: P-3.배수펌프(수중형) | D6: 300LPM*11M*1.5KW | E6: 대 | F6: 2 | O6: 56958000047 | T6: 0 | AC6: 1
A7: 0101 | B7: 56958000048 | C7: P-4.배수펌프(수중형) | D7: 50LPM*14M*1.1KW | E7: 대 | F7: 2 | O7: 56958000048 | T7: 0 | AC7: 1
A8: 0101 | B8: MM050162346 | C8: P-5.배수패키지펌프 | D8: 70LPM*12M*(3KW*2) | E8: SET | F8: 1 | T8: 0 | AC8: 1
A9: 0101 | B9: 56958000049 | C9: P-6.배수펌프(수중형) | D9: 100LPM*6M*0.75KW | E9: 대 | F9: 2 | O9: 56958000049 | T9: 0 | AC9: 1
A10: 0101 | B10: 56958000033 | C10: F-1.급배기휀(인라인 D450) | D10: 3,500CMH*20MMAQ*0.75KW | E10: 대 | F10: 2 | O10: 56958000033 | T10: 0 | AC10: 1
A11: 0101 | B11: 56958000034 | C11: F-2.배기휀(소형시로코 D180) | D11: 1,000CMH*20MMAQ*380W | E11: 대 | F11: 1 | O11: 56958000034 | T11: 0 | AC11: 1
A12: 0101 | B12: 56958000035 | C12: F-3.배기휀(벽부형 D300) | D12: 720CMH*38W | E12: 대 | F12: 3 | O12: 56958000035 | T12: 0 | AC12: 1
A13: 0101 | B13: 56958000036 | C13: F-4.배기휀(벽부형 D350) | D13: 1,020CMH*39W | E13: 대 | F13: 2 | O13: 56958000036 | T13: 0 | AC13: 1
A14: 0101 | B14: 56958000037 | C14: F-5.배기휀(천정형 D250) | D14: 210CMH*30W | E14: 대 | F14: 24 | O14: 56958000037 | T14: 0 | AC14: 1
A15: 0101 | B15: MM038001410 | C15: JF-1.주차장배기휀(벽부형) | D15: 12,000CMH*10MMAQ*1.5KW | E15: 대 | F15: 1 | T15: 0 | AC15: 1
A16: 0101 | B16: MM038001411 | C16: JF-2.유도휀 | D16: 3,900CMH*0.3KW | E16: 대 | F16: 2 | T16: 0 | AC16: 1
A17: 0101 | B17: 56958000032 | D17: 1.5KW | E17: 대 | F17: 11 | O17: 56958000032 | T17: 0 | AC17: 1
A18: 0101 | B18: 56958000030 | C18: B-1.캐스케이드가스온수기 | D18: 36,000KCAL/H | E18: 대 | F18: 1 | O18: 56958000030 | T18: 0 | AC18: 1
A19: 0101 | B19: MM050179954 | C19: 물탱크 고정대 및 내진구조계산 | D19: 6,000L*2,500W*4,000H | E19: 대 | F19: 1 | T19: 0 | AC19: 1
A20: 0101 | B20: MM050179955 | C20: 외부사다리 안전망 | D20: 6,000L*2,500W*4,000H | E20: 대 | F20: 1 | T20: 0 | AC20: 1
A21: 0101 | B21: MM050179956 | C21: 내진용 건식패드 | D21: 6,000L*2,500W*4,000H | E21: EA | F21: 28 | T21: 0 | AC21: 1
C29: [ 합 계 ]
C30: 0102 옥외배관공사
A31: 0102 | B31: 56958000020 | C31: 수도용 폴리에틸렌관 | D31: PE수도관(1종), D40 | E31: M | F31: 8 | O31: 56958000020 | T31: 0 | AC31: 1
A32: 0102 | B32: 47300977005 | C32: 수도용 폴리에칠렌이음관 | D32: -3766055 | E32: EA | F32: 3 | T32: 0 | AC32: 1
A33: 0102 | B33: 47300977274 | C33: 수도용 폴리에칠렌이음관 | D33: 밸브소켓(나사조임식) D40 | E33: EA | F33: 2 | T33: 0 | AC33: 1
A34: 0102 | B34: 56941535320 | C34: PEM 접합 (가스용) | D34: D40 | E34: 개소 | F34: 8 | O34: 56941535320 | T34: 0 | AC34: 1
A35: 0102 | B35: 48200167605 | C35: 게이트 밸브 | D35: 나사, 스테인리스, D40 | E35: EA | F35: 1 | T35: 0 | AC35: 1
C55: [ 합 계 ]
C56: 0103 기계실배관공사
A57: 0103 | B57: 56941820396 | C57: PVC배수용배관(VN SDR 33)DTS | D57: D100 | E57: M | F57: 12 | O57: 56941820396 | T57: 0 | AC57: 1
A58: 0103 | B58: 56941820415 | C58: PVC배수용배관(VN SDR 17)DRF | D58: D100 | E58: M | F58: 13 | O58: 56941820415 | T58: 0 | AC58: 1
A59: 0103 | B59: 56941820416 | C59: PVC배수용배관(VN SDR 17)DRF | D59: D125 | E59: M | F59: 7 | O59: 56941820416 | T59: 0 | AC59: 1
A60: 0103 | B60: 56941820432 | C60: 스테인레스배관(K-TYPE) | D60: D 20 | E60: M | F60: 5 | O60: 56941820432 | T60: 0 | AC60: 1
A61: 0103 | B61: 56941820435 | C61: 스테인레스배관(K-TYPE) | D61: D 40 | E61: M | F61: 26 | O61: 56941820435 | T61: 0 | AC61: 1
A62: 0103 | B62: 56941820436 | C62: 스테인레스배관(K-TYPE) | D62: D 50 | E62: M | F62: 8 | O62: 56941820436 | T62: 0 | AC62: 1
A63: 0103 | B63: 56941820438 | C63: 스테인레스배관(K-TYPE) | D63: D 80 | E63: M | F63: 6 | O63: 56941820438 | R63: 0 | S63: 0 | T63: 0 | AC63: 1
A64: 0103 | B64: 56941820446 | C64: 스테인레스평면배관 | D64: D 50 x 3T | E64: M | F64: 34 | O64: 56941820446 | T64: 0 | AC64: 1
A65: 0103 | B65: 56941820448 | C65: 스테인레스평면배관 | D65: D 80 x 3T | E65: M | F65: 40 | O65: 56941820448 | T65: 0 | AC65: 1
A66: 0103 | B66: 56941820449 | C66: 스테인레스평면배관 | D66: D100 x 3T | E66: M | F66: 15 | O66: 56941820449 | T66: 0 | AC66: 1
A67: 0103 | B67: 47301108708 | C67: 일반배관용 STS강관 이음쇠 | D67: 유니온 (STS 나사) D50 | E67: EA | F67: 2 | T67: 0 | AC67: 1
A68: 0103 | B68: 47301108763 | C68: 일반배관용 STS강관 이음쇠 | D68: 니플 (STS 나사) D50 | E68: EA | F68: 4 | T68: 0 | AC68: 1
A69: 0103 | B69: 47301108028 | C69: 일반배관용 STS강관 이음쇠 | D69: 엘보(STS 용접#10) D50 | E69: EA | F69: 7 | T69: 0 | AC69: 1
A70: 0103 | B70: 47301108030 | C70: 일반배관용 STS강관 이음쇠 | D70: 엘보(STS 용접#10) D80 | E70: EA | F70: 12 | T70: 0 | AC70: 1
A71: 0103 | B71: 47301108031 | C71: 일반배관용 STS강관 이음쇠 | D71: 엘보(STS 용접#10) D100 | E71: EA | F71: 9 | T71: 0 | AC71: 1
A72: 0103 | B72: 47301108214 | C72: 일반배관용 STS강관 이음쇠 | D72: 티이(STS 용접 S#10) D80 | E72: EA | F72: 5 | T72: 0 | AC72: 1
A73: 0103 | B73: 47301108215 | C73: 일반배관용 STS강관 이음쇠 | D73: 티이(STS 용접 S#10) D100 | E73: EA | F73: 3 | T73: 0 | AC73: 1
A74: 0103 | B74: 47301108459 | C74: 일반배관용 STS강관 이음쇠 | D74: 리듀서(STS용접S#10) D100 | E74: EA | F74: 1 | T74: 0 | AC74: 1
A75: 0103 | B75: 47301108124 | C75: 일반배관용 STS강관 이음쇠 | D75: 엘보 (프레스) D20 | E75: EA | F75: 1 | T75: 0 | AC75: 1
A76: 0103 | B76: 47301108127 | C76: 일반배관용 STS강관 이음쇠 | D76: 엘보 (프레스) D40 | E76: EA | F76: 16 | T76: 0 | AC76: 1
A77: 0103 | B77: 47301108128 | C77: 일반배관용 STS강관 이음쇠 | D77: 엘보 (프레스) D50 | E77: EA | F77: 3 | T77: 0 | AC77: 1
A78: 0103 | B78: 47301108151 | C78: 일반배관용 STS강관 이음쇠 | D78: 엘보 (프레스) D80 | E78: EA | F78: 2 | T78: 0 | AC78: 1
... A98: 0103 | B98: 47301148802 | C98: 비압력용경질폴리염화비닐이음관 | D98: 소제구 (DRF) D125 | E98: EA | F98: 3 | T98: 0 | AC98: 1
A99: 0103 | B99: 56940150060 | C99: 스텐관용접 | D99: D50 | E99: 개소 | F99: 21 | O99: 56940150060 | T99: 0 | AC99: 1
A100: 0103 | B100: 56940150080 | C100: 스텐관용접 | D100: D80 | E100: 개소 | F100: 41 | O100: 56940150080 | T100: 0 | AC100: 1
A101: 0103 | B101: 56940150090 | C101: 스텐관용접 | D101: D100 | E101: 개소 | F101: 29 | O101: 56940150090 | T101: 0 | AC101: 1
A102: 0103 | B102: 56940370080 | C102: 스텐용접합후렌지 | D102: D80 | E102: 개소 | F102: 13 | O102: 56940370080 | T102: 0 | AC102: 1
A103: 0103 | B103: 56940370090 | C103: 스텐용접합후렌지 | D103: D100 | E103: 개소 | F103: 13 | O103: 56940370090 | T103: 0 | AC103: 1
A104: 0103 | B104: 47305257438 | C104: 플랜지(FLANGE) | D104: STS맹플랜지(10KG) D80 | E104: EA | F104: 1 | T104: 0 | AC104: 1
A105: 0103 | B105: 47305257439 | C105: 플랜지(FLANGE) | D105: STS맹플랜지(10KG) D100 | E105: EA | F105: 1 | T105: 0 | AC105: 1
A106: 0103 | B106: 56948850119 | C106: 볼 밸브 | D106: 나사, 스테인리스, D40 | E106: EA | F106: 3 | O106: 56948850119 | T106: 0 | AC106: 1
A107: 0103 | B107: 56941840036 | C107: 청동게이트밸브 | D107: D 50 (10KG) | E107: EA | F107: 2 | O107: 56941840036 | T107: 0 | AC107: 1
A108: 0103 | B108: 56941840038 | C108: 주철게이트밸브 | D108: D 80 (10KG) | E108: EA | F108: 2 | O108: 56941840038 | T108: 0 | AC108: 1
A109: 0103 | B109: 56948850151 | C109: 스트레이너 | D109: 플랜지, 스테인리스, D100 | E109: EA | F109: 1 | O109: 56948850151 | T109: 0 | AC109: 1
A110: 0103 | B110: 56948850162 | C110: 플랙시블 조인트 | D110: STS, D80*10k | E110: EA | F110: 1 | O110: 56948850162 | T110: 0 | AC110: 1
A111: 0103 | B111: 56948850163 | C111: 플랙시블 조인트 | D111: STS, D100*10k | E111: EA | F111: 1 | O111: 56948850163 | T111: 0 | AC111: 1
A112: 0103 | B112: 56941840118 | C112: 주철체크밸브 | D112: D 80 (10KG) | E112: EA | F112: 2 | O112: 56941840118 | T112: 0 | AC112: 1
A113: 0103 | B113: 56948850135 | C113: 체크 밸브 | D113: 나사식,스테인리스,D40 | E113: EA | F113: 1 | O113: 56948850135 | T113: 0 | AC113: 1
A114: 0103 | B114: 56948850138 | C114: 체크 밸브 | D114: 플랜지,스테인리스, D80 | E114: EA | F114: 1 | O114: 56948850138 | T114: 0 | AC114: 1
A115: 0103 | B115: 56941840343 | C115: 버터플라이밸브(레버) | D115: D100 (10KG) | E115: EA | F115: 2 | O115: 56941840343 | T115: 0 | AC115: 1
A116: 0103 | B116: 56948850122 | C116: 버터플라이 밸브,스텐 | D116: LEVER,10K*D80 | E116: EA | F116: 1 | O116: 56948850122 | T116: 0 | AC116: 1
A117: 0103 | B117: 56948850123 | C117: 버터플라이 밸브,스텐 | D117: LEVER,10K*D100 | E117: EA | F117: 1 | O117: 56948850123 | T117: 0 | AC117: 1
... A126: 0103 | B126: 56940520080 | C126: 절연행가(달대볼트) | D126: D80 | E126: 개소 | F126: 6 | O126: 56940520080 | T126: 0 | AC126: 1
A127: 0103 | B127: 53060228322 | C127: U자형볼트/너트 | D127: 절연, D20 | E127: EA | F127: 1 | T127: 0 | AC127: 1
A128: 0103 | B128: 53060228325 | C128: U자형볼트/너트 | D128: 절연, D40 | E128: EA | F128: 5 | T128: 0 | AC128: 1
A129: 0103 | B129: 53060228326 | C129: U자형볼트/너트 | D129: 절연, D50 | E129: EA | F129: 3 | T129: 0 | AC129: 1
A130: 0103 | B130: 53060228328 | C130: U자형볼트/너트 | D130: 절연, D80 | E130: EA | F130: 3 | T130: 0 | AC130: 1
A131: 0103 | B131: 53060228329 | C131: U자형볼트/너트 | D131: 절연, D100 | E131: EA | F131: 3 | T131: 0 | AC131: 1
A132: 0103 | B132: 56940620020 | C132: 강관스리브(지수판포함,벽체) | D132: D20 | E132: 개소 | F132: 1 | O132: 56940620020 | T132: 0 | AC132: 1
A133: 0103 | B133: 56940620050 | C133: 강관스리브(지수판포함,벽체) | D133: D40 | E133: 개소 | F133: 1 | O133: 56940620050 | T133: 0 | AC133: 1
A134: 0103 | B134: 56940620060 | C134: 강관스리브(지수판포함,벽체) | D134: D50 | E134: 개소 | F134: 2 | O134: 56940620060 | T134: 0 | AC134: 1
A135: 0103 | B135: 56940620080 | C135: 강관스리브(지수판포함,벽체) | D135: D80 | E135: 개소 | F135: 2 | O135: 56940620080 | T135: 0 | AC135: 1
A136: 0103 | B136: 56940620090 | C136: 강관스리브(지수판포함,벽체) | D136: D100 | E136: 개소 | F136: 1 | O136: 56940620090 | T136: 0 | AC136: 1
A137: 0103 | B137: 56940621060 | C137: PVC스리브(벽체) | D137: D50 | E137: 개소 | F137: 3 | O137: 56940621060 | T137: 0 | AC137: 1
A138: 0103 | B138: 56940621080 | C138: PVC스리브(벽체) | D138: D80 | E138: 개소 | F138: 3 | O138: 56940621080 | T138: 0 | AC138: 1
A139: 0103 | B139: 56940621090 | C139: PVC스리브(벽체) | D139: D100 | E139: 개소 | F139: 3 | O139: 56940621090 | T139: 0 | AC139: 1
A140: 0103 | B140: 56940621100 | C140: PVC스리브(벽체) | D140: D125 | E140: 개소 | F140: 1 | O140: 56940621100 | T140: 0 | AC140: 1
A141: 0103 | B141: 56940621860 | C141: 내화채움구조(강관용) 벽체 | D141: D50 | E141: 개소 | F141: 3 | O141: 56940621860 | T141: 0 | AC141: 1
A142: 0103 | B142: 56940621880 | C142: 내화채움구조(강관용) 벽체 | D142: D80 | E142: 개소 | F142: 3 | O142: 56940621880 | T142: 0 | AC142: 1
A143: 0103 | B143: 56940622240 | C143: 내화채움구조(PVC용) 벽체 | D143: D100 | E143: 개소 | F143: 3 | O143: 56940622240 | T143: 0 | AC143: 1
A144: 0103 | B144: 56940622250 | C144: 내화채움구조(PVC용) 벽체 | D144: D125 | E144: 개소 | F144: 1 | O144: 56940622250 | T144: 0 | AC144: 1
A145: 0103 | B145: 95200027071 | C145: ㄱ형강 | D145: 등변, 50×50×6mm | E145: KG | F145: 233 | T145: 0 | AC145: 1
A146: 0103 | B146: 56941340020 | C146: 인서트플레이트 | D146: 200x200x9T | E146: 개소 | F146: 20 | O146: 56941340020 | T146: 0 | AC146: 1
A147: 0103 | B147: 56941800440 | C147: 파이프서포트 | D147: 1열x300H | E147: 개소 | F147: 9 | O147: 56941800440 | T147: 0 | AC147: 1
A148: 0103 | B148: 56941420020 | C148: 유성페인트칠 | D148: 철재면2회 | E148: M2 | F148: 10 | O148: 56941420020 | T148: 0 | AC148: 1
A149: 0103 | B149: 56941491011 | C149: 펌프가대설치(배수펌프) | D149: 펌프2대설치기준 | E149: 개소 | F149: 1 | O149: 56941491011 | T149: 0 | AC149: 1
A150: 0103 | B150: 56941422020 | C150: 녹막이페인트칠 | D150: 2회 | E150: M2 | F150: 10 | O150: 56941422020 | T150: 0 | AC150: 1
A151: 0103 | B151: 56941410050 | C151: 잡철물 현장제작 설치 | D151: 일반철재 | E151: TON | F151: 0.22 | O151: 56941410050 | T151: 0 | AC151: 1
C159: [ 합 계 ]
C160: 0104 환기닥트설치공사
...

Sheet 일위대가(기계)
A1: [공사명] 송파2동 복합청사 신축공사(기계설비)
A2: 일위대가 | B2: 자재코드 | C2: 품 명 | D2: 규 격 | E2: 단위 | F2: 수량 | G2: 재 료 비 | I2: 노 무 비 | K2: 경 비 | M2: 합 계 | O2: 비고
G3: 단가 | H3: 금액 | I3: 단가 | J3: 금액 | K3: 단가 | L3: 금액 | M3: 단가 | N3: 금액
C4: 56940120060 강관용접 D50 개소
A5: 56940120060 | B5: 34390717011 | C5: 연강용 피복아크 용접봉 | D5: D3.2mm, CS-200 | E5: KG | F5: 0.049 | R5: 0 | S5: 0 | T5: 0 | AC5: 1
A6: 56940120060 | B6: 56102007001 | C6: 공통자재 | D6: 전력 | E6: ㎾h | F6: 0.132 | R6: 0 | S6: 0 | T6: 0 | AC6: 1
A7: 56940120060 | B7: 56900017056 | C7: 노무비 | D7: 용접공 | E7: 인 | F7: 0.085 | R7: 0 | S7: 0 | T7: 0 | W7: 3 | AC7: 1
A8: 56940120060 | B8: PPS00000003 | C8: 공구손료 | D8: 노무비의 3% | E8: 식 | F8: 1 | P8: 8 | R8: 1 | S8: 0 | T8: 0.03 | AC8: 1
C9: [ 합 계 ]
C11: 56940150050 스텐관용접 D40 개소
A12: 56940150050 | B12: 34390797121 | C12: TIG용접용 용접봉 | D12: D3.2mm, AWSER308 | E12: KG | F12: 0.04 | R12: 0 | S12: 0 | T12: 0 | AC12: 1
A13: 56940150050 | B13: 68300117001 | C13: 아르곤 가스 | D13: 건설용알곤가스 | E13: ℓ | F13: 191 | R13: 0 | S13: 0 | T13: 0 | AC13: 1
A14: 56940150050 | B14: 56900017056 | C14: 노무비 | D14: 용접공 | E14: 인 | F14: 0.084 | R14: 0 | S14: 0 | T14: 0 | W14: 3 | AC14: 1
A15: 56940150050 | B15: PPS00000003 | C15: 공구손료 | D15: 노무비의 4% | E15: 식 | F15: 1 | P15: 15 | R15: 1 | S15: 0 | T15: 0.04 | AC15: 1
C16: [ 합 계 ]
C18: 56940150060 스텐관용접 D50 개소
A19: 56940150060 | B19: 34390797121 | C19: TIG용접용 용접봉 | D19: D3.2mm, AWSER308 | E19: KG | F19: 0.055 | R19: 0 | S19: 0 | T19: 0 | AC19: 1
A20: 56940150060 | B20: 68300117001 | C20: 아르곤 가스 | D20: 건설용알곤가스 | E20: ℓ | F20: 265 | R20: 0 | S20: 0 | T20: 0 | AC20: 1
A21: 56940150060 | B21: 56900017056 | C21: 노무비 | D21: 용접공 | E21: 인 | F21: 0.099 | R21: 0 | S21: 0 | T21: 0 | W21: 3 | AC21: 1
A22: 56940150060 | B22: PPS00000003 | C22: 공구손료 | D22: 노무비의 4% | E22: 식 | F22: 1 | P22: 22 | R22: 1 | S22: 0 | T22: 0.04 | AC22: 1
C23: [ 합 계 ]
C25: 56940150070 스텐관용접 D65 개소
A26: 56940150070 | B26: 34390797121 | C26: TIG용접용 용접봉 | D26: D3.2mm, AWSER308 | E26: KG | F26: 0.168 | R26: 0 | S26: 0 | T26: 0 | AC26: 1
A27: 56940150070 | B27: 68300117001 | C27: 아르곤 가스 | D27: 건설용알곤가스 | E27: ℓ | F27: 343 | R27: 0 | S27: 0 | T27: 0 | AC27: 1
A28: 56940150070 | B28: 56900017056 | C28: 노무비 | D28: 용접공 | E28: 인 | F28: 0.119 | R28: 0 | S28: 0 | T28: 0 | W28: 3 | AC28: 1
A29: 56940150070 | B29: PPS00000003 | C29: 공구손료 | D29: 노무비의 4% | E29: 식 | F29: 1 | P29: 29 | R29: 1 | S29: 0 | T29: 0.04 | AC29: 1
C30: [ 합 계 ]
C32: 56940150080 스텐관용접 D80 개소
A33: 56940150080 | B33: 34390797121 | C33: TIG용접용 용접봉 | D33: D3.2mm, AWSER308 | E33: KG | F33: 0.213 | R33: 0 | S33: 0 | T33: 0 | AC33: 1
A34: 56940150080 | B34: 68300117001 | C34: 아르곤 가스 | D34: 건설용알곤가스 | E34: ℓ | F34: 430 | R34: 0 | S34: 0 | T34: 0 | AC34: 1
A35: 56940150080 | B35: 56900017056 | C35: 노무비 | D35: 용접공 | E35: 인 | F35: 0.135 | R35: 0 | S35: 0 | T35: 0 | W35: 3 | AC35: 1
A36: 56940150080 | B36: PPS00000003 | C36: 공구손료 | D36: 노무비의 4% | E36: 식 | F36: 1 | P36: 36 | R36: 1 | S36: 0 | T36: 0.04 | AC36: 1
C37: [ 합 계 ]
C39: 56940150090 스텐관용접 D100 개소
A40: 56940150090 | B40: 34390797121 | C40: TIG용접용 용접봉 | D40: D3.2mm, AWSER308 | E40: KG | F40: 0.313 | R40: 0 | S40: 0 | T40: 0 | AC40: 1
A41: 56940150090 | B41: 68300117001 | C41: 아르곤 가스 | D41: 건설용알곤가스 | E41: ℓ | F41: 699 | R41: 0 | S41: 0 | T41: 0 | AC41: 1
A42: 56940150090 | B42: 56900017056 | C42: 노무비 | D42: 용접공 | E42: 인 | F42: 0.167 | R42: 0 | S42: 0 | T42: 0 | W42: 3 | AC42: 1
A43: 56940150090 | B43: PPS00000003 | C43: 공구손료 | D43: 노무비의 4% | E43: 식 | F43: 1 | P43: 43 | R43: 1 | S43: 0 | T43: 0.04 | AC43: 1
C44: [ 합 계 ]
C46: 56940160010 강판용접 3MM M
A47: 56940160010 | B47: 34390717011 | C47: 연강용 피복아크 용접봉 | D47: D3.2mm, CS-200 | E47: KG | F47: 0.2 | R47: 0 | S47: 0 | T47: 0 | AC47: 1
A48: 56940160010 | B48: 56102007001 | C48: 공통자재 | D48: 전력 | E48: ㎾h | F48: 0.7 | R48: 0 | S48: 0 | T48: 0 | AC48: 1
A49: 56940160010 | B49: 56900017056 | C49: 노무비 | D49: 용접공 | E49: 인 | F49: 0.036 | R49: 0 | S49: 0 | T49: 0 | W49: 3 | AC49: 1
A50: 56940160010 | B50: 56900017118 | C50: 노무비 | D50: 특별인부 | E50: 인 | F50: 0.011 | R50: 0 | S50: 0 | T50: 0 | W50: 3 | AC50: 1
A51: 56940160010 | B51: PPS00000003 | C51: 공구손료 | D51: 노무비의 2% | E51: 식 | F51: 1 | P51: 51 | R51: 1 | S51: 0 | T51: 0.02 | AC51: 1
C52: [ 합 계 ]
C54: 56940210040 강관절단 D32 개소
A55: 56940210040 | B55: 68300057015 | C55: 산소 가스 | D55: 기체,공업용 99.9% | E55: ℓ | F55: 2.7 | R55: 0 | S55: 0 | T55: 0 | AC55: 1
A56: 56940210040 | B56: 68302017001 | C56: 액화석유가스(LPG) | D56: 건설용LPG | E56: kg | F56: 0.003 | R56: 0 | S56: 0 | T56: 0 | AC56: 1
A57: 56940210040 | B57: 56900017056 | C57: 노무비 | D57: 용접공 | E57: 인 | F57: 0.002 | T57: 0 | W57: 3 | AC57: 1
A58: 56940210040 | B58: 56900017118 | C58: 노무비 | D58: 특별인부 | E58: 인 | F58: 0.001 | T58: 0 | W58: 3 | AC58: 1
A59: 56940210040 | B59: PPS00000003 | C59: 공구손료 | D59: 노무비의 3% | E59: 식 | F59: 1 | P59: 59 | R59: 1 | S59: 0 | T59: 0.03 | AC59: 1
C60: [ 합 계 ]
C62: 56940210070 강관절단 D65 개소
A63: 56940210070 | B63: 68300057015 | C63: 산소 가스 | D63: 기체,공업용 99.9% | E63: ℓ | F63: 4.8 | R63: 0 | S63: 0 | T63: 0 | AC63: 1
A64: 56940210070 | B64: 68302017001 | C64: 액화석유가스(LPG) | D64: 건설용LPG | E64: kg | F64: 0.005 | R64: 0 | S64: 0 | T64: 0 | AC64: 1
A65: 56940210070 | B65: 56900017056 | C65: 노무비 | D65: 용접공 | E65: 인 | F65: 0.004 | T65: 0 | W65: 3 | AC65: 1
A66: 56940210070 | B66: 56900017118 | C66: 노무비 | D66: 특별인부 | E66: 인 | F66: 0.002 | T66: 0 | W66: 3 | AC66: 1
A67: 56940210070 | B67: PPS00000003 | C67: 공구손료 | D67: 노무비의 3% | E67: 식 | F67: 1 | P67: 67 | R67: 1 | S67: 0 | T67: 0.03 | AC67: 1
C68: [ 합 계 ]
C70: 56940210080 강관절단 D80 개소
A71: 56940210080 | B71: 68300057015 | C71: 산소 가스 | D71: 기체,공업용 99.9% | E71: ℓ | F71: 6.2 | R71: 0 | S71: 0 | T71: 0 | AC71: 1
A72: 56940210080 | B72: 68302017001 | C72: 액화석유가스(LPG) | D72: 건설용LPG | E72: kg | F72: 0.006 | R72: 0 | S72: 0 | T72: 0 | AC72: 1
A73: 56940210080 | B73: 56900017056 | C73: 노무비 | D73: 용접공 | E73: 인 | F73: 0.005 | T73: 0 | W73: 3 | AC73: 1
A74: 56940210080 | B74: 56900017118 | C74: 노무비 | D74: 특별인부 | E74: 인 | F74: 0.002 | T74: 0 | W74: 3 | AC74: 1
A75: 56940210080 | B75: PPS00000003 | C75: 공구손료 | D75: 노무비의 3% | E75: 식 | F75: 1 | P75: 75 | R75: 1 | S75: 0 | T75: 0.03 | AC75: 1
C76: [ 합 계 ]
C78: 56940210090 강관절단 D100 개소
A79: 56940210090 | B79: 68300057015 | C79: 산소 가스 | D79: 기체,공업용 99.9% | E79: ℓ | F79: 12 | R79: 0 | S79: 0 | T79: 0 | AC79: 1
A80: 56940210090 | B80: 68302017001 | C80: 액화석유가스(LPG) | D80: 건설용LPG | E80: kg | F80: 0.012 | R80: 0 | S80: 0 | T80: 0 | AC80: 1
A81: 56940210090 | B81: 56900017056 | C81: 노무비 | D81: 용접공 | E81: 인 | F81: 0.009 | T81: 0 | W81: 3 | AC81: 1
A82: 56940210090 | B82: 56900017118 | C82: 노무비 | D82: 특별인부 | E82: 인 | F82: 0.004 | T82: 0 | W82: 3 | AC82: 1
A83: 56940210090 | B83: PPS00000003 | C83: 공구손료 | D83: 노무비의 3% | E83: 식 | F83: 1 | P83: 83 | R83: 1 | S83: 0 | T83: 0.03 | AC83: 1
C84: [ 합 계 ]
C86: 56940210100 강관절단 D125 개소
A87: 56940210100 | B87: 68300057015 | C87: 산소 가스 | D87: 기체,공업용 99.9% | E87: ℓ | F87: 22 | R87: 0 | S87: 0 | T87: 0 | AC87: 1
A88: 56940210100 | B88: 68302017001 | C88: 액화석유가스(LPG) | D88: 건설용LPG | E88: kg | F88: 0.021 | R88: 0 | S88: 0 | T88: 0 | AC88: 1
A89: 56940210100 | B89: 56900017056 | C89: 노무비 | D89: 용접공 | E89: 인 | F89: 0.01 | T89: 0 | W89: 3 | AC89: 1
A90: 56940210100 | B90: 56900017118 | C90: 노무비 | D90: 특별인부 | E90: 인 | F90: 0.005 | T90: 0 | W90: 3 | AC90: 1
A91: 56940210100 | B91: PPS00000003 | C91: 공구손료 | D91: 노무비의 3% | E91: 식 | F91: 1 | P91: 91 | R91: 1 | S91: 0 | T91: 0.03 | AC91: 1
C92: [ 합 계 ]
C94: 56940210110 강관절단 D150 개소
A95: 56940210110 | B95: 68300057015 | C95: 산소 가스 | D95: 기체,공업용 99.9% | E95: ℓ | F95: 34 | R95: 0 | S95: 0 | T95: 0 | AC95: 1
A96: 56940210110 | B96: 68302017001 | C96: 액화석유가스(LPG) | D96: 건설용LPG | E96: kg | F96: 0.033 | R96: 0 | S96: 0 | T96: 0 | AC96: 1
A97: 56940210110 | B97: 56900017056 | C97: 노무비 | D97: 용접공 | E97: 인 | F97: 0.014 | T97: 0 | W97: 3 | AC97: 1
A98: 56940210110 | B98: 56900017118 | C98: 노무비 | D98: 특별인부 | E98: 인 | F98: 0.006 | T98: 0 | W98: 3 | AC98: 1
A99: 56940210110 | B99: PPS00000003 | C99: 공구손료 | D99: 노무비의 3% | E99: 식 | F99: 1 | P99: 99 | R99: 1 | S99: 0 | T99: 0.03 | AC99: 1
C100: [ 합 계 ]
C102: 56940210120 강관절단 D200 개소
A103: 56940210120 | B103: 68300057015 | C103: 산소 가스 | D103: 기체,공업용 99.9% | E103: ℓ | F103: 56 | R103: 0 | S103: 0 | T103: 0 | AC103: 1
A104: 56940210120 | B104: 68302017001 | C104: 액화석유가스(LPG) | D104: 건설용LPG | E104: kg | F104: 0.055 | R104: 0 | S104: 0 | T104: 0 | AC104: 1
A105: 56940210120 | B105: 56900017056 | C105: 노무비 | D105: 용접공 | E105: 인 | F105: 0.017 | T105: 0 | W105: 3 | AC105: 1
A106: 56940210120 | B106: 56900017118 | C106: 노무비 | D106: 특별인부 | E106: 인 | F106: 0.007 | T106: 0 | W106: 3 | AC106: 1
A107: 56940210120 | B107: PPS00000003 | C107: 공구손료 | D107: 노무비의 3% | E107: 식 | F107: 1 | P107: 107 | R107: 1 | S107: 0 | T107: 0.03 | AC107: 1
C108: [ 합 계 ]
C110: 56940230010 강판절단 3MM M
A111: 56940230010 | B111: 68300057015 | C111: 산소 가스 | D111: 기체,공업용 99.9% | E111: ℓ | F111: 20.8 | R111: 0 | S111: 0 | T111: 0 | AC111: 1
A112: 56940230010 | B112: 68302017001 | C112: 액화석유가스(LPG) | D112: 건설용LPG | E112: kg | F112: 0.0205 | R112: 0 | S112: 0 | T112: 0 | AC112: 1
A113: 56940230010 | B113: 56900017056 | C113: 노무비 | D113: 용접공 | E113: 인 | F113: 0.0046 | R113: 0 | S113: 0 | T113: 0 | W113: 3 | AC113: 1
A114: 56940230010 | B114: 56900017118 | C114: 노무비 | D114: 특별인부 | E114: 인 | F114: 0.0023 | R114: 0 | S114: 0 | T114: 0 | W114: 3 | AC114: 1
...

Sheet 원가계산서(토목)
B1: 공 사 원 가 계 산 서
B2: 공사명 : 송파2동 복합청사 신축설계용역 - 토목
B3: 비 목 | F3: 구 성 비 | G3: 비 고 | K3: 재료비 | L3: 노무비 | M3: 경비 | N3: 합계
A4: A1 | B4: 순 공 사 원 가 | C4: 재 료 비 | D4: 직 접 재 료 비 | E4: =#REF! -> #REF! | N4: =K4+L4+M4 -> 0
A5: A2 | D5: 간 접 재 료 비
A6: A3 | D6: 작업설, 부산물(△) | E6: 0
A7: AS | D7: [ 소 계 ] | E7: =TRUNC(E4+E5-E6, 0) -> #REF!
A8: B1 | C8: 노 무 비 | D8: 직 접 노 무 비 | E8: =#REF! -> #REF!
A9: B2 | D9: 간 접 노 무 비 | E9: =TRUNC(E8*0.181, 0) -> #REF! | F9: 직접노무비 * 18.1%
A10: BS | D10: [ 소 계 ] | E10: =TRUNC(E8+E9, 0) -> #REF!
C11: 경 비 | D11: 운 반 비
A12: C2 | D12: 기 계 경 비 | E12: =#REF! -> #REF!
A13: C3 | D13: 가 설 비
A14: C4 | D14: 산 재 보 험 료 | E14: =TRUNC(E10*0.0356, 0) -> #REF! | F14: 노무비 * 3.56%
A15: C5 | D15: 고 용 보 험 료 | E15: =TRUNC(E10*0.0101, 0) -> #REF! | F15: 노무비 * 1.01%
A16: C6 | D16: 국민 건강 보험료 | E16: =TRUNC(E8*0.03595, 0) -> #REF! | F16: 직접노무비 * 3.595%
A17: C7 | D17: 국민 연금 보험료 | E17: =TRUNC(E8*0.0475, 0) -> #REF! | F17: 직접노무비 * 4.75%
A18: CB | D18: 노인장기요양보험료 | E18: =TRUNC(E16*0.1314, 0) -> #REF! | F18: 건강보험료 * 13.14%
A19: C8 | D19: 퇴직 공제 부금비 | E19: =TRUNC(E8*0.023, 0) -> #REF! | F19: 직접노무비 * 2.3%
A20: CA | D20: 산업안전보건관리비 | E20: =TRUNC((E7+E8+((0+E50)/1.1054))*0.0228, 0) -> #REF! | F20: A와B중 작은 금액 | G20: 기초액은 건축에 산입함
E21: =TRUNC((E7+E8+((0+E50)/1.1054))*0.0228, 0) -> #REF! | F21: a. (재료비+직노+도급자관급) *2.28%+4325000 | G21: 기초액은 건축에 산입함
E22: =TRUNC(((E7+E8)*0.0228)*1.2, 0) -> #REF! | F22: b. ((재료비+직노) *2.28%+4325000)*1.2 | G22: 기초액은 건축에 산입함
D23: 안 전 관 리 비
D24: 동 영 상 촬 영 비
D25: 품 질 관 리 비
A26: CH | D26: 환 경 보 전 비 | E26: =TRUNC((E7+E8+E11+E12)*0.005, 0) -> #REF! | F26: (재료비+직노+기계경비) * 0.5%
D27: 석 면 분 담 금 | E27: =TRUNC(E10*0.00006, 0) -> #REF! | F27: 노무비 * 0.006%
A28: CG | D28: 임금채권 부담금 | E28: =TRUNC(E10*0.0009, 0) -> #REF! | F28: 노무비 * 0.09%
D29: 기 타 경 비 | E29: =TRUNC((E7+E10)*0.057, 0) -> #REF! | F29: (재료비+노무비) * 5.7%
A30: CK | D30: 공사이행보증수수료
A31: CL | D31: 하도급지급보증수수료 | E31: =TRUNC((E7+E8+E11+E12)*0.0008, 0) -> #REF! | F31: (재료비+직노+기계경비) * 0.08%
A32: CS | D32: 건설기계대여금지급보증서발급수수료 | E32: =TRUNC((E7+E8+E11+E12)*0.0007, 0) -> #REF! | F32: (재료비+직노+기계경비) * 0.07%
A33: S1 | D33: [ 소 계 ] | E33: =TRUNC(E11+E12+E13+E14+E15+E16+E17+E19+E20+E18+E23+E24+E25+E26+E27+E28+E29+E30+E31+E32, 0) -> #REF!
A34: D1 | B34: 계 | E34: =TRUNC(E7+E10+E33, 0) -> #REF!
A35: D2 | B35: 일 반 관 리 비 | E35: =TRUNC(E34*0.065, 0) -> #REF! | F35: 계 * 6.5%
B36: 이 윤 | E36: =TRUNC((E10+E33+E35)*0.12-994/1.1, 0) -> #REF! | F36: (노무비+경비+일반관리비) * 12% | G36: (절사:-994/1.1)
B37: 건설폐기물상차비 | E37: =#REF! -> #REF!
A38: D9 | B38: 작업부산물(해체)
A39: DB | B39: 고용개선지원비(PS단가) | E39: =SUM(E40+E41+E42+E43) -> #REF! | F39: * 주휴수당+(국민연금+건강보험료)+고용개선장려금
A40: DH | B40: * 주 휴 수 당 | E40: =TRUNC(E8*0.128*0.5*1.4) -> #REF! | F40: 직노*12.8%*50%*1.4
A41: DK | B41: * 국민연금 + 건강보험료 | E41: =TRUNC(E8*0.08345*0.2)*0 -> #REF! | F41: 직노*8.345%*20%
B42: * 고용개선장려금 | E42: =TRUNC(E8*0.128*0.5*0.1)*0 -> #REF! | F42: 직노*12.8%*50%*10%
B43: * 전자카드단말기
B44: 해체계획서 작성
B45: 내부인테리어설계비
B46: 공 급 가 액 | E46: =TRUNC(E34+E35+E36+E37+E38+E39+E44+E45, 0) -> #REF!
A47: S2 | B47: 부 가 가 치 세 | E47: =TRUNC(E46*0.1, 0) -> #REF! | F47: 공급가액 * 10%
B48: 도 급 액 | E48: =TRUNC(E46+E47, 0) -> #REF!
B49: 관급자재비(관급자) | G49: (절사:-0)
B50: 관급자재비(도급자) | E50: =#REF!-458 -> #REF! | G50: (절사:-458)
B51: 분 담 금 공 사 | E51: =#REF!-900 -> #REF! | G51: (절사:-900)
B52: 총 공 사 비 | E52: =TRUNC(E48+E49+E50+E51, 0) -> #REF!

Sheet 내역서(토목)
A1: 내역서
A2: 공 종 명 | B2: 규 격 | C2: 수량 | D2: 단위 | E2: 합 계 | G2: 재 료 비 | I2: 노 무 비 | K2: 경 비 | M2: 비 고
E3: 단 가 | F3: 금 액 | G3: 단 가 | H3: 금 액 | I3: 단 가 | J3: 금 액 | K3: 단 가 | L3: 금 액 | S3: 할 증 | T3: 화폐변환 | U3: OP값 | V3: EQ | W3: LA | X3: MA | Y3: 금액계상
A4: 송파2동 복합청사 | B4: 신축공사 토목공사 | C4: 1 | D4: 식 | O4: A0
A5: 1. 토 공 | C5: 1 | D5: 식 | P5: 10 | R5: A10 | BI5: A10 →
A6: 2. 우 수 공 | C6: 1 | D6: 식 | P6: 20 | R6: A20 | BI6: A20 →
A7: 3. 오 수 공 | C7: 1 | D7: 식 | P7: 30 | R7: A25 | BI7: A25 →
A8: 4. 포 장 공 | C8: 1 | D8: 식 | P8: 40 | R8: A60 | BI8: A60 →
A9: 5. 흙막이가시설공 | C9: 1 | D9: 식 | P9: 50 | R9: A70 | BI9: A70 →
A10: 6. 복 공 | C10: 1 | D10: 식 | P10: 60 | R10: A75 | BI10: A75 →
A11: 7. 운 반 공 | C11: 1 | D11: 식 | P11: 70 | R11: A80 | BI11: A80 →
A12: 8. 자 재 비 | B12: 도급자 | C12: 1 | D12: 식 | P12: 80 | R12: A83 | BI12: A83 →
A13: 소계 | P13: 90
P14: 100 | Q14: S
A15: 9. 관 급 자 재 비 | B15: 도급자 | C15: 1 | D15: 식 | P15: 110 | R15: A87 | BI15: A87 →
A16: 소계 | P16: 120
P17: 130 | Q17: S
A18: 10. 폐기물 처리비 | B18: 콘크리트 | C18: 1 | D18: 식 | P18: 140 | R18: C101 | BI18: C101 →
A19: 소계 | P19: 160
P20: 170 | Q20: S
A21: 11. 원인자분담금 | C21: 1 | D21: 식 | P21: 180 | R21: C102 | BI21: C102 →
A22: 소계 | P22: 190
P23: 200 | Q23: S
A25: 1. 토 공 | C25: 1 | D25: 식 | O25: A10
A26: 1) 철거공사 | P26: 10
A27: 폐기물상차비 | B27: 콘크리트 | C27: 115 | D27: TON | M27: GCAD150041000 | P27: 20 | R27: GCAD150041000 | BI27: GCAD150041000 →
A28: 무근콘크리트깨기 | B28: T=30CM이하 | C28: 7 | D28: M3 | M28: #.1 | P28: 30 | R28: SA0045000000 | T28: F | BI28: SA0045000000 →
A29: 철근콘크리트깨기 | B29: T=30CM이하 | C29: 18 | D29: M3 | M29: #.2 | P29: 40 | R29: SA0075000000 | T29: F | BI29: SA0075000000 →
A30: 아스콘포장깨기 | B30: T=30CM이하 | C30: 26 | D30: M3 | M30: #.3 | P30: 50 | R30: SA012000000 | T30: F | BI30: SA012000000 →
A31: 포장절단 | C31: 30 | D31: M | M31: #.4 | P31: 60 | R31: SA011000000 | T31: F | BI31: SA011000000 →
A32: 경계석철거 | B32: A-TYPE 500M | C32: 90 | D32: M | M32: No.1 | P32: 70 | R32: SE04910 | T32: T | BI32: SE04910 →
A33: 보도용블럭철거 | B33: 장비사용 A-TYPE | C33: 15 | D33: M2 | M33: No.2 | P33: 80 | R33: SE03500 | T33: T | BI33: SE03500 →
A34: 표지판이설 | B34: Ø 1000 MM | C34: 1 | D34: 개 | M34: No.3 | P34: 90 | R34: SF03400 | T34: T | BI34: SF03400 →
A35: 2) 토공사 | P35: 100
A36: 흙깍기 | C36: 8 | D36: M3 | M36: #.5 | P36: 110 | R36: S00155000000 | T36: F | BI36: S00155000000 →
A37: 흙쌓기 | B37: 다짐 | C37: 1 | D37: M3 | M37: No.4 | P37: 120 | R37: Z00103500000 | T37: T | BI37: Z00103500000 →
A38: 터파기 | B38: 토사 | C38: 4919 | D38: M3 | M38: No.5 | P38: 130 | R38: S00156000000 | T38: T | BI38: S00156000000 →
A39: 되메우기 및 다짐 | B39: 대형장비 | C39: 93 | D39: M3 | M39: No.6 | P39: 140 | R39: S00182000000 | T39: T | BI39: S00182000000 →
A40: 상차 | B40: 토사 | C40: 4832 | D40: M3 | M40: #.6 | P40: 150 | R40: S00153000000 | T40: F | BI40: S00153000000 →
A41: 클램셸 | C41: 4832 | D41: M3 | M41: #.7 | P41: 160 | R41: PH400000000 | T41: F | BI41: PH400000000 →
A42: 잔토처리/토사 | B42: 덤프24톤,L=40.0km | C42: 4832 | D42: M3 | M42: #.8 | P42: 170 | R42: HF3001300110 | T42: F | BI42: HF3001300110 →
P43: 180 | Q43: *
A45: 2. 우 수 공 | C45: 1 | D45: 식 | O45: A20
A46: 1) 우수관공 | P46: 10
A47: PE이중벽관 접합및부설 | B47: Ø200mm | C47: 9 | D47: M | M47: No.7 | P47: 20 | R47: YS0200103000 | T47: T | BI47: YS0200103000 →
A48: PE이중벽관 접합및부설 | B48: Ø300mm | C48: 6 | D48: M | M48: No.8 | P48: 30 | R48: YS0200105000 | T48: T | BI48: YS0200105000 →
A49: 유공관 | B49: Ø300mm | C49: 84 | D49: M | M49: No.9 | P49: 40 | R49: YS0200107000 | T49: T | BI49: YS0200107000 →
A50: 2) 우수맨홀 | P50: 50
A51: 우수맨홀(1호) | B51: Ø900mm | C51: 2 | D51: EA | M51: No.10 | P51: 60 | R51: HH2013000000 | T51: T | BI51: HH2013000000 →
A52: 3) 집수정공 | P52: 70
A53: 집수정(디자인그레이팅)기성품 | B53: 450x450 | C53: 1 | D53: EA | M53: No.11 | P53: 80 | R53: TO-CLL110010000 | T53: T | BI53: TO-CLL110010000 →
A54: 침투통 | B54: 450x450 | C54: 9 | D54: EA | M54: No.12 | P54: 90 | R54: TO-CLL110020000 | T54: T | BI54: TO-CLL110020000 →
A55: 4) 측구 | P55: 100
A56: U형측구(디자인그레이팅) | B56: 300x400 | C56: 5 | D56: M | M56: No.13 | P56: 110 | R56: SB125900000 | T56: T | BI56: SB125900000 →
A57: 5) 우수받이 | P57: 120
A58: 빗물받이(기성품) | B58: 제품 410x510x940,뚜껑포함 | C58: 3 | D58: EA | M58: No.14 | P58: 130 | R58: SB127000000 | T58: T | BI58: SB127000000 →
A59: 홈통받이(기성품) | B59: 제품 600,뚜껑포함 | C59: 6 | D59: EA | M59: No.15 | P59: 140 | R59: SB127100000 | T59: T | BI59: SB127100000 →
A60: 6) 우수관로조사 | P60: 150
A61: 하수관 CCTV 조사비,L=520m/일 | C61: 99 | D61: M | M61: No.16 | P61: 160 | R61: YS020058 | T61: T | BI61: YS020058 →
P62: 170 | Q62: *
A64: 3. 오 수 공 | C64: 1 | D64: 식 | O64: A25
A65: 1) 오수관공 | P65: 10
A66: PE이중벽관 접합및부설 | B66: Ø200mm | C66: 5 | D66: M | M66: No.7 | P66: 20 | R66: YS0200103000 | T66: T | BI66: YS0200103000 →
A67: 지수단관 | B67: Ø200mm | C67: 4 | D67: EA | M67: MT000509100000000 | P67: 30 | R67: MT000509100000000 | BI67: MT000509100000000 →
A68: 2) 오수맨홀 | P68: 40
A69: 오수맨홀(1호) | B69: Ø900mm | C69: 2 | D69: EA | M69: No.17 | P69: 50 | R69: HH2015000000 | T69: T | BI69: HH2015000000 →
A70: 3) 오수관로조사 | P70: 60
A71: 하수관 CCTV 조사비,L=520m/일 | C71: 5 | D71: M | M71: No.16 | P71: 70 | R71: YS020058 | T71: T | BI71: YS020058 →
A72: 4) 수밀시험 | P72: 80
A73: 수밀시험 | C73: 2 | D73: 회 | M73: No.18 | P73: 90 | R73: SB0125100000 | T73: T | BI73: SB0125100000 →
P74: 100 | Q74: *
A76: 4. 포 장 공 | C76: 1 | D76: 식 | O76: A60
A77: 1) 포장 | P77: 10
A78: 아스팔트 표층(인력식소규모) | B78: 1일 300M2 | C78: 21 | D78: M2 | M78: No.19 | P78: 20 | R78: HLH310035107 | T78: T | BI78: HLH310035107 →
A79: 아스팔트 기층(인력식소규모) | B79: 1일 320M2 | C79: 21 | D79: M2 | M79: No.20 | P79: 30 | R79: HLH310035108 | T79: T | BI79: HLH310035108 →
A80: 프라임코팅(RSC-3:75L/a) | B80: 1일 8,000M2 | C80: 21 | D80: M2 | M80: No.21 | P80: 40 | R80: HLH310035105 | T80: T | BI80: HLH310035105 →
A81: 텍코팅(RSC-4:30L/a) | B81: 1일 8,000M2 | C81: 21 | D81: M2 | M81: No.22 | P81: 50 | R81: HLH310035106 | T81: T | BI81: HLH310035106 →
A82: 보조기층(소규모포설) | B82: T=20CM | C82: 5 | D82: M3 | M82: No.23 | P82: 60 | R82: HLH310035157 | T82: T | BI82: HLH310035157 →
A83: 동상방지층(소규모포설) | B83: T=30CM | C83: 7 | D83: M3 | M83: No.24 | P83: 70 | R83: HLH310035167 | T83: T | BI83: HLH310035167 →
A84: 2) 도색 | P84: 80
A85: 차선도색(수동식)신설구간 | B85: 백색,수동식 | C85: 2 | D85: M2 | M85: No.25 | P85: 90 | R85: SF044400000 | T85: T | BI85: SF044400000 →
A86: 차선도색(수동식)신설구간 | B86: 청색,녹색,수동식 | C86: 13 | D86: M2 | M86: No.26 | P86: 100 | R86: SF044410000 | T86: T | BI86: SF044410000 →
A87: 3) 경계석 | P87: 110
A88: L형측구및보차도경계석(직선) | B88: 180*200*1000,A-TYPE | C88: 48 | D88: M | M88: No.27 | P88: 120 | R88: J20001700000 | T88: T | BI88: J20001700000 →
A89: L형측구및보차도경계석(곡선) | B89: 180*200*1000 A-TYPE | C89: 3 | D89: M | M89: No.28 | P89: 130 | R89: J20001710000 | T89: T | BI89: J20001710000 →
A90: L형측구및재료분리경계석(직선) | B90: 150*150*1000,A-TYPE | C90: 95 | D90: M | M90: No.29 | P90: 140 | R90: J20001720000 | T90: T | BI90: J20001720000 →
A91: 4) 블록포장 | P91: 150
A92: 블록포장 | B92: T=60MM | C92: 54 | D92: M2 | M92: No.30 | P92: 160 | R92: HLH310035111 | T92: T | BI92: HLH310035111 →
A93: 보조기층포설및다짐 | B93: T=20CM | C93: 11 | D93: M3 | M93: No.23 | P93: 170 | R93: HLH310035157 | T93: T | BI93: HLH310035157 →
A94: 콘크리트포장(인력) | B94: A-TYPE t=20㎝ | C94: 6 | D94: M3 | M94: #.9 | P94: 180 | R94: SE02900 | T94: F | BI94: SE02900 →
A95: 고강도점형블럭 | B95: Ø200mm | C95: 5 | D95: EA | M95: MT000509110000000 | P95: 190 | R95: MT000509110000000 | BI95: MT000509110000000 →
A96: 5) 카스톱퍼 | P96: 200
A97: 카스톱퍼 | B97: 150*120*750 | C97: 2 | D97: EA | M97: No.31 | P97: 210 | R97: HLH310035109 | T97: T | BI97: HLH310035109 →
A98: 6) 국기계양대 | P98: 220
A99: 국기계양봉설치 | B99: 국기봉3개 | C99: 1 | D99: 개소 | M99: No.32 | P99: 230 | R99: ZA0000292007 | T99: T | BI99: ZA0000292007 →
A100: 국기계양대기초 | B100: 4.1X1.2 | C100: 1 | D100: 개소 | M100: No.33 | P100: 240 | R100: ZA0000292006 | T100: T | BI100: ZA0000292006 →
P101: 250 | Q101: *
A103: 5. 흙막이가시설공 | C103: 1 | D103: 식 | O103: A70 | Z103: 86462075 | AA103: 220974972 | AB103: 42026256
A104: 1) CIP 공사 | P104: 10 | Z104: 201368435 | AA104: 8943606 | AB104: 39188000
A105: 가이드빔설치및철거 | B105: H-300 | C105: 99 | D105: M | M105: No.34 | P105: 20 | R105: S02203100000 | T105: T | BI105: S02203100000 →
...

Sheet 일위대가_호표(토목)
A1: 일위대가_호표
A2: 공 종 명 | B2: 규 격 | C2: 수량 | D2: 단위 | E2: 합 계 | G2: 재 료 비 | I2: 노 무 비 | K2: 경 비 | M2: 비 고
E3: 단 가 | F3: 금 액 | G3: 단 가 | H3: 금 액 | I3: 단 가 | J3: 금 액 | K3: 단 가 | L3: 금 액 | S3: 할 증 | T3: 화폐변환 | U3: OP값 | V3: EQ | W3: LA | X3: MA | Y3: 금액계상
A4: No.1 경계석철거 | B4: A-TYPE 500M | C4: 1 | D4: M | O4: SE04910
A5: 특별인부 | C5: 0.004 | D5: 인 | P5: 10 | R5: L001010101000003 | BI5: L001010101000003 →
A6: 보통인부 | C6: 0.002 | D6: 인 | P6: 20 | R6: L001010101000002 | BI6: L001010101000002 →
A7: 덤프트럭 | B7: 2.5 톤 | C7: 0.016 | D7: HR | P7: 30 | R7: E00000602002500000
A8: 굴삭기(무한궤도) | B8: 0.4 M3 | C8: 0.016 | D8: HR | P8: 40 | R8: E00000201004000000
A10: No.2 보도용블럭철거 | B10: 장비사용 A-TYPE | C10: 1 | D10: M2 | O10: SE03500
A11: 포 장 공 | C11: 0.0016 | D11: 인 | P11: 10 | R11: L001010101000019 | BI11: L001010101000019 →
A12: 보통인부 | C12: 0.0016 | D12: 인 | P12: 20 | R12: L001010101000002 | BI12: L001010101000002 →
A13: 굴삭기(무한궤도) | B13: 0.4 M3 | C13: 0.013 | D13: HR | P13: 30 | R13: E00000201004000000
A14: 덤프트럭 | B14: 2.5 톤 | C14: 0.013 | D14: HR | P14: 40 | R14: E00000602002500000
A16: No.3 표지판이설 | B16: Ø 1000 MM | C16: 1 | D16: 개 | O16: SF03400
A17: 특별인부 | C17: 0.25 | D17: 인 | N17: 56900017118 | P17: 10 | R17: L001010101000003 | BI17: L001010101000003 →
A18: 보통인부 | C18: 0.25 | D18: 인 | N18: 56900017041 | P18: 20 | R18: L001010101000002 | BI18: L001010101000002 →
A20: No.4 흙쌓기 | B20: 다짐 일 1150M3 | C20: 1 | D20: M3 | O20: Z00103500000
A21: 특별인부 | C21: 0.00086 | D21: 인 | P21: 10 | R21: L001010101000003 | BI21: L001010101000003 →
A22: 모터그레이더 | B22: 3.6 M (일반용) | C22: 0.0069 | D22: HR | P22: 20 | R22: E00000502003600000
A23: 진동롤러(자주식) | B23: 10 TON | C23: 0.0069 | D23: HR | P23: 30 | R23: E00001306010000000
A24: 굴삭기(타이어) | B24: 0.6 M3 | C24: 0.0069 | D24: HR | P24: 40 | R24: E00000211006000000
A25: 물탱크(살수차) | B25: 16000 L | C25: 0.0034 | D25: HR | P25: 50 | R25: E00007204016000000
A27: No.5 터파기 | B27: 토사 일 420M3 | C27: 1 | D27: M3 | O27: S00156000000
A28: 굴삭기(무한궤도) | B28: 1.0 M3 | C28: 0.019 | D28: HR | P28: 10 | R28: E00000201010000000
A30: No.6 되메우기 및 다짐 | B30: 일 290M3 | C30: 1 | D30: M3 | O30: S00182000000
A31: 특별인부 | C31: 0.0034 | D31: 인 | N31: 56900017118 | P31: 10 | R31: L001010101000003 | BI31: L001010101000003 →
A32: 보통인부 | C32: 0.0034 | D32: 인 | N32: 56900017041 | P32: 20 | R32: L001010101000002 | BI32: L001010101000002 →
A33: 굴삭기(타이어) | B33: 0.6 M3 | C33: 0.027 | D33: HR | P33: 30 | R33: E00000211006000000
A34: 진동롤러(자주식) | B34: 10 Ton | C34: 0.027 | D34: HR | P34: 40 | R34: E00001306010000000
A35: 진동 롤러 (핸드가이드식) | B35: 0.7 톤 | C35: 0.027 | D35: HR | P35: 50 | R35: E00001305000700000
A36: 물탱크(살수차) | B36: 5500 L | C36: 0.0135 | D36: HR | P36: 60 | R36: E00007204005500000
A38: No.7 PE이중벽관 접합및부설 | B38: Ø200mm | C38: 1 | D38: M | O38: YS0200103000
A39: 배 관 공 | B39: 수도 | C39: 0.0256 | D39: 인 | P39: 10 | R39: L001010101000040 | BI39: L001010101000040 →
A40: 보통인부 | C40: 0.012 | D40: 인 | N40: 56900017041 | P40: 20 | R40: L001010101000002 | BI40: L001010101000002 →
A41: PE이중벽관(밴드) | B41: Ø200mm | C41: 0.1667 | D41: M | P41: 30 | R41: MT000502000000000 | BI41: MT000502000000000 →
A42: 모래부설 | C42: 0.12 | D42: M3 | P42: 40 | R42: K04030000000 | T42: T | AA42: EQ+ = | AB42: 263.604 | AC42: EQ = | AD42: 263.604 | BI42: K04030000000 →
A43: 공구손료 | B43: 인력품의 3% | C43: 1 | D43: 식 | P43: 50 | R43: F | X43: EQ = LA(10,0,20) * 0.03
A44: PE이중벽관 | B44: Ø200mm | C44: 1.03 | D44: M | P44: 60 | R44: MT000501000000000 | BI44: MT000501000000000 →
A46: No.8 PE이중벽관 접합및부설 | B46: Ø300mm | C46: 1 | D46: M | O46: YS0200105000
A47: 배 관 공 | B47: 수도 | C47: 0.033 | D47: 인 | P47: 10 | R47: L001010101000040 | BI47: L001010101000040 →
A48: 보통인부 | C48: 0.0166 | D48: 인 | N48: 56900017041 | P48: 20 | R48: L001010101000002 | BI48: L001010101000002 →
A49: PE이중벽관(밴드) | B49: Ø300mm | C49: 0.1667 | D49: M | P49: 30 | R49: MT000506000000000 | BI49: MT000506000000000 →
A50: 모래부설 | C50: 0.15 | D50: M3 | P50: 40 | R50: K04030000000 | T50: T | AA50: EQ+ = | AB50: 345.642 | AC50: EQ = | AD50: 345.642 | BI50: K04030000000 →
A51: 공구손료 | B51: 인력품의 3% | C51: 1 | D51: 식 | P51: 50 | R51: F | X51: EQ = LA(10,0,20) * 0.03
A52: PE이중벽관 | B52: Ø300mm | C52: 1.03 | D52: m | P52: 60 | R52: MT000503000000000 | BI52: MT000503000000000 →
A54: No.9 PE이중벽관 유공관 | B54: Ø300mm | C54: 1 | D54: M | O54: YS0200107000
A55: 배 관 공 | B55: 수도 | C55: 0.033 | D55: 인 | P55: 10 | R55: L001010101000040 | BI55: L001010101000040 →
A56: 보통인부 | C56: 0.0166 | D56: 인 | N56: 56900017041 | P56: 20 | R56: L001010101000002 | BI56: L001010101000002 →
A57: PE이중벽관유공관(밴드) | B57: Ø300mm | C57: 0.16 | D57: m | P57: 30 | R57: MT000508000000000 | BI57: MT000508000000000 →
A58: 잡석부설 | B58: 일 90M3 | C58: 0.93 | D58: M3 | P58: 40 | R58: K04040000000 | T58: T | BI58: K04040000000 →
A59: 부직포 | B59: 2T/M (300) | C59: 4.11 | D59: M2 | P59: 50 | R59: M0888503200000000 | BI59: M0888503200000000 →
A60: PE이중벽관(유공관) | B60: Ø300mm | C60: 1 | D60: M | P60: 60 | R60: MT000509000000000 | BI60: MT000509000000000 →
A61: 쇄석자갈 | B61: Ø40mm이하 | C61: 0.93 | D61: M3 | P61: 70 | R61: M07230I0200000000 | BI61: M07230I0200000000 →
A63: No.10 우수맨홀(1호) | B63: Ø900mm | C63: 1 | D63: EA | O63: HH2013000000
A64: 콘크리트타설(철근) | C64: 0.209 | D64: M3 | P64: 10 | R64: SB009500000 | T64: T | BI64: SB009500000 →
A65: 콘크리트타설(무근) | C65: 2.062 | D65: M3 | P65: 20 | R65: SB011000000 | T65: T | BI65: SB011000000 →
A66: 철근가공 및 조립 | B66: 간단 | C66: 0.034 | D66: TON | P66: 30 | R66: HF3001300120 | T66: T | BI66: HF3001300120 →
A67: 합성수지(P.E)원형맨홀거푸집 | B67: 기초및슬라브, Ø900 | C67: 1 | D67: ea | P67: 40 | R67: YS0200700000 | T67: T | BI67: YS0200700000 →
A68: 합성수지(P.E)원형맨홀거푸집 | B68: 벽체Ø900 | C68: 1.7 | D68: EA | P68: 60 | R68: YS0200720000 | T68: T | BI68: YS0200720000 →
A69: 몰탈 | B69: 1:2 | C69: 0.013 | D69: M3 | P69: 70 | R69: SB009100000 | T69: T | BI69: SB009100000 →
A70: PE 맨홀 발디딤쇠 | B70: ø22 | C70: 5 | D70: EA | P70: 80 | R70: YS0200740000 | T70: T | BI70: YS0200740000 →
A71: 맨홀뚜껑(주철제) | B71: Φ648 | C71: 1 | D71: EA | P71: 90 | R71: M1534007000000000 | BI71: M1534007000000000 →
A73: No.11 집수정 | B73: 450x450 | C73: 1 | D73: EA | O73: TO-CLL110010000
A74: 콘크리트타설(무근) | C74: 0.9 | D74: M3 | P74: 10 | R74: SB011000000 | T74: T | BI74: SB011000000 →
A75: 유로폼 | B75: 간단, 0~7m | C75: 7.41 | D75: M2 | P75: 20 | R75: J00012300000 | T75: T | BI75: J00012300000 →
A76: 스틸그레이팅 앵글 | B76: 500×500×5T | C76: 1 | D76: EA | P76: 70 | R76: M3010320120108121 | BI76: M3010320120108121 →
A77: 스틸그레이팅(디자인그레이팅)중하중용적용 | B77: 500*500*50 | C77: 1 | D77: 조 | P77: 80 | R77: M0003403000000000 | BI77: M0003403000000000 →
A79: No.12 침투통 | B79: 450x450 | C79: 1 | D79: EA | O79: TO-CLL110020000
A80: 콘크리트타설(무근) | C80: 0.91 | D80: M3 | P80: 10 | R80: SB011000000 | T80: T | BI80: SB011000000 →
A81: 유로폼 | B81: 간단, 0~7m | C81: 6.24 | D81: M2 | P81: 20 | R81: J00012300000 | T81: T | BI81: J00012300000 →
A82: 잡석부설 | B82: 일 90M3 | C82: 2.1 | D82: M3 | P82: 45 | R82: K04040000000 | T82: T | BI82: K04040000000 →
A83: 모래부설 | B83: 일 110M3 | C83: 1.16 | D83: M3 | P83: 57 | R83: K04030000000 | T83: T | BI83: K04030000000 →
A84: 철근가공 및 조립 | B84: 간단 | C84: 0.04 | D84: TON | P84: 63 | R84: HF3001300120 | T84: T | BI84: HF3001300120 →
A85: 스틸그레이팅 앵글 | B85: 500×500×5T | C85: 1 | D85: EA | P85: 70 | R85: M3010320120108121 | BI85: M3010320120108121 →
A86: 스틸그레이팅(디자인그레이팅)중하중용적용 | B86: 500*500*50 | C86: 1 | D86: 조 | P86: 80 | R86: M0003403000000000 | BI86: M0003403000000000 →
A88: No.13 U형측구(디자인그레이팅 ) | B88: 300x400 | C88: 1 | D88: M | O88: SB125900000
A89: 콘크리트타설(철근) | C89: 0.22 | D89: M3 | P89: 10 | R89: SB009500000 | T89: T | BI89: SB009500000 →
A90: 콘크리트타설(무근) | C90: 0.1 | D90: M3 | P90: 20 | R90: SB011000000 | T90: T | BI90: SB011000000 →
A91: 유로폼 | B91: 간단, 0~7m | C91: 2.3 | D91: M2 | P91: 30 | R91: J00012300000 | T91: T | BI91: J00012300000 →
A92: 철근가공 및 조립 | B92: 간단 | C92: 0.013 | D92: ton | P92: 40 | R92: HF3001300120 | T92: T | BI92: HF3001300120 →
A93: 스틸그레이팅 앵글 | B93: 50×50×5T | C93: 2 | D93: M | P93: 45 | R93: M3010320120108120 | BI93: M3010320120108120 →
A94: 스틸그레이팅(무소음그레이팅) | B94: 400*995*48 | C94: 1 | D94: 조 | P94: 50 | R94: M0003406000000000 | BI94: M0003406000000000 →
A96: No.14 빗물받이 | B96: 제품 410x510x940,뚜껑포함 | C96: 1 | D96: EA | O96: SB127000000
A97: 빗물받이 | B97: 410X510X940 | C97: 1 | D97: 조 | P97: 10 | R97: M3012169520000000 | AA97: LA+ = | AB97: 2325 | AC97: LA = | AD97: 2325 | BI97: M3012169520000000 →
A98: 설치비 | B98: 재료비의 5% | C98: 1 | D98: 식 | P98: 20 | R98: F | X98: LA = MA(10) * 0.05
A100: No.15 홈통받이 | B100: 제품 600,뚜껑포함 | C100: 1 | D100: ea | O100: SB127100000
A101: 홈통받이 | B101: 600 | C101: 1 | D101: 조 | P101: 10 | R101: M3012169522000000 | AA101: LA+ = | AB101: 3000 | AC101: LA = | AD101: 3000 | BI101: M3012169522000000 →
A102: 설치비 | B102: 재료비의 5% | C102: 1 | D102: 식 | P102: 20 | R102: F | X102: LA = MA(10) * 0.05
A104: No.16 하수관 CCTV 조사비,L=520m/일 | B104: 신설관 | C104: 1 | D104: M | O104: YS020058
A105: 특별인부 | B105: 2인 | C105: 0.0038 | D105: 인 | N105: 56900017118 | P105: 10 | R105: L001010101000003 | BI105: L001010101000003 →
A106: 보통인부 | B106: 1인 | C106: 0.0019 | D106: 인 | N106: 56900017041 | P106: 20 | R106: L001010101000002 | BI106: L001010101000002 →
A107: C.C.TV | B107: 8시간 | C107: 0.0153 | D107: HR | P107: 30 | R107: E00B02211000000000
A108: C.C.TV적재차(소형승합) | B108: 8시간 | C108: 0.0153 | D108: HR | P108: 40 | R108: E00B02212000000000
A110: No.17 오수맨홀(1호) | B110: Ø900mm | C110: 1 | D110: EA | O110: HH2015000000
A111: 콘크리트타설(철근) | C111: 0.209 | D111: M3 | P111: 10 | R111: SB009500000 | T111: T | BI111: SB009500000 →
A112: 콘크리트타설(무근) | C112: 2.034 | D112: M3 | P112: 20 | R112: SB011000000 | T112: T | BI112: SB011000000 →
A113: 철근가공 및 조립 | B113: 간단 | C113: 0.034 | D113: TON | P113: 30 | R113: HF3001300120 | T113: T | BI113: HF3001300120 →
A114: 합성수지(P.E)원형맨홀거푸집 | B114: 기초및슬라브, Ø900 | C114: 1 | D114: ea | P114: 40 | R114: YS0200700000 | T114: T | BI114: YS0200700000 →
A115: 합성수지(P.E)원형맨홀거푸집 | B115: 벽체Ø900 | C115: 1.7 | D115: EA | P115: 60 | R115: YS0200720000 | T115: T | BI115: YS0200720000 →
A116: 몰탈 | B116: 1:2 | C116: 0.013 | D116: M3 | P116: 70 | R116: SB009100000 | T116: T | BI116: SB009100000 →
...

Sheet 내역서(조경)
A1: 내역서
A2: 공 종 명 | B2: 규 격 | C2: 수량 | D2: 단위 | E2: 합 계 | G2: 재 료 비 | I2: 노 무 비 | K2: 경 비 | M2: 비 고
E3: 단 가 | F3: 금 액 | G3: 단 가 | H3: 금 액 | I3: 단 가 | J3: 금 액 | K3: 단 가 | L3: 금 액 | S3: 할 증 | T3: 화폐변환 | U3: OP값 | V3: EQ | W3: LA | X3: MA | Y3: 금액계상
A4: ■송파2동 복합청사신축(조경공사) | C4: 1 | D4: 식 | O4: A000
A5: 1. 수목 철거공사 | C5: 1 | D5: 식 | P5: 10 | R5: A120 | BI5: A120 →
A6: 2. 식재공사 | C6: 1 | D6: 식 | P6: 20 | R6: A130 | BI6: A130 →
A7: 3. 시설물공사 | C7: 1 | D7: 식 | P7: 30 | R7: A140 | BI7: A140 →
A8: 4. 포장공사 | C8: 1 | D8: 식 | P8: 40 | R8: A150 | BI8: A150 →
A9: 5. 인공지반 및 배수공사 | C9: 1 | D9: 식 | P9: 50 | R9: A160 | BI9: A160 →
P10: 60 | Q10: S
A11: 1. 수목 철거공사 | C11: 1 | D11: 식 | O11: A120
A12: 교목제거 - 현장제거 | B12: B8이하(R9이하) | C12: 6 | D12: 주 | M12: No.1 | P12: 20 | R12: TR001 | T12: T | BI12: TR001 →
A13: 교목제거 - 현장제거 | B13: B10(R12) | C13: 1 | D13: 주 | M13: No.2 | P13: 30 | R13: TR002 | T13: T | BI13: TR002 →
A14: 교목제거 - 현장제거 | B14: B16(R20) | C14: 1 | D14: 주 | M14: No.3 | P14: 50 | R14: TR005 | T14: T | BI14: TR005 →
A15: 교목제거 - 현장제거 | B15: B20(R25) | C15: 1 | D15: 주 | M15: No.4 | P15: 60 | R15: TR006 | T15: T | BI15: TR006 →
A16: 임목 폐기물 상차비 | C16: 1.96 | D16: TON | M16: GE0000000003 | P16: 70 | R16: GE0000000003 | BI16: GE0000000003 →
P17: 810 | Q17: S
A29: 2. 식재공사 | C29: 1 | D29: 식 | O29: A130
A30: 블루엔젤 | B30: H2.0xW1.0 | C30: 15 | D30: 주 | M30: No.5 | P30: 30 | R30: HAT-001 | T30: T | BI30: HAT-001 →
A31: 서양측백 | B31: H2.5xW0.8 | C31: 15 | D31: 주 | M31: No.6 | P31: 40 | R31: HAT-0011 | T31: T | BI31: HAT-0011 →
A32: 에메랄드그린 | B32: H2.5xW1.0 | C32: 4 | D32: 주 | M32: No.7 | P32: 60 | R32: HAT-003 | T32: T | BI32: HAT-003 →
A33: 백목련 | B33: H3.5XR12 | C33: 1 | D33: 주 | M33: No.8 | P33: 70 | R33: HAT-010 | T33: T | BI33: HAT-010 →
A34: 서부해당화 | B34: H3.0xR8 | C34: 5 | D34: 주 | M34: No.9 | P34: 100 | R34: HAT-006 | T34: T | BI34: HAT-006 →
A35: 왕벚나무 | B35: H4.0xB12 | C35: 6 | D35: 주 | M35: No.10 | P35: 105 | R35: HAT-018 | T35: T | BI35: HAT-018 →
A36: 청단풍 | B36: H2.5xR8 | C36: 3 | D36: 주 | M36: No.11 | P36: 110 | R36: HAT-009 | T36: T | BI36: HAT-009 →
A37: 남천 | B37: H1.0x3가지 | C37: 250 | D37: 주 | M37: No.12 | P37: 170 | R37: HAT-102 | T37: T | BI37: HAT-102 →
A38: 사철나무 | B38: H1.0xW0.3 | C38: 80 | D38: 주 | M38: No.13 | P38: 180 | R38: HAT-100-3 | T38: T | BI38: HAT-100-3 →
A39: 회양목 | B39: H0.3xW0.3 | C39: 530 | D39: 주 | M39: No.14 | P39: 190 | R39: HAT-101 | T39: T | BI39: HAT-101 →
A40: 단풍철쭉 | B40: H1.0xW0.6 (단식) | C40: 20 | D40: 주 | M40: No.15 | P40: 200 | R40: HAT-103 | T40: T | BI40: HAT-103 →
A41: 샐릭스(다간형) | B41: H1.5(단식) | C41: 9 | D41: 주 | M41: No.16 | P41: 205 | R41: HAT-104 | T41: T | BI41: HAT-104 →
... A55: 휴케라 | B55: 15cm | C55: 60 | D55: 본 | M55: No.30 | P55: 510 | R55: HAT-215 | T55: T | BI55: HAT-215 →
A56: 수목표찰 | B56: 교목용 | C56: 7 | D56: ea | M56: MLF0061 | P56: 870 | R56: MLF0061 | BI56: MLF0061 →
A57: 수목표찰 | B57: 관목용 | C57: 31 | D57: ea | M57: MLF0071 | P57: 920 | R57: MLF0071 | BI57: MLF0071 →
A58: 잔디 | C58: 46.68 | D58: m2 | M58: No.31 | P58: 1020 | R58: HAT-400 | T58: T | BI58: HAT-400 →
P59: 1950 | Q59: S
A79: 3. 시설물공사 | C79: 1 | D79: 식 | O79: A140
A80: 앉음벽 | B80: H470,W500 | C80: 3.2 | D80: m | M80: No.32 | P80: 20 | R80: HC002A | T80: T | BI80: HC002A →
A81: 플랜터A | B81: H700,강판 | C81: 25.1 | D81: m | M81: No.33 | P81: 80 | R81: HC005C | T81: T | BI81: HC005C →
A82: 플랜터B | B82: H500,강판 | C82: 26 | D82: m | M82: No.34 | P82: 90 | R82: HC005D | T82: T | BI82: HC005D →
A83: 점검구 | B83: 200x200,스테인레스 | C83: 3 | D83: 개소 | M83: MZ3090 | P83: 100 | R83: MZ3090 | BI83: MZ3090 →
P84: 780 | Q84: S
A104: 4. 포장공사 | C104: 1 | D104: 식 | O104: A150
A105: 인조화강석블럭포장A | B105: T60,투수 | C105: 12.4 | D105: ㎡ | M105: No.35 | P105: 810 | R105: HPA0010 | T105: T | BI105: HPA0010 →
A106: 인조화강석블럭포장B | B106: T60,투수 | C106: 49.5 | D106: ㎡ | M106: No.36 | P106: 820 | R106: HPA0010D | T106: T | BI106: HPA0010D →
A107: 목재데크포장 | B107: T20 | C107: 32.34 | D107: ㎡ | M107: No.37 | P107: 830 | R107: HPA0040 | T107: T | BI107: HPA0040 →
A108: 잔디블럭포장 | B108: T80 | C108: 12.5 | D108: ㎡ | M108: No.38 | P108: 840 | R108: HPA0035 | T108: T | BI108: HPA0035 →
A109: 콩자갈포장 | B109: T50 | C109: 1.76 | D109: ㎡ | M109: No.39 | P109: 870 | R109: HPA00491 | T109: T | BI109: HPA00491 →
A110: 점자블럭포장A | B110: T60 | C110: 11 | D110: EA | M110: No.40 | P110: 880 | R110: HPA0010E | T110: T | BI110: HPA0010E →
A111: 점자블럭포장B | B111: T60 | C111: 15 | D111: EA | M111: No.41 | P111: 910 | R111: HPA0010E-1 | T111: T | BI111: HPA0010E-1 →
A112: 녹지경계석(직선) | B112: 150x150x1000 | C112: 31.5 | D112: m | M112: No.42 | P112: 1020 | R112: HPB0004A | T112: T | BI112: HPB0004A →
A113: 포장경계석(직선) | B113: 150x150x1000 | C113: 10 | D113: m | M113: No.43 | P113: 1050 | R113: HPB0006A | T113: T | BI113: HPB0006A →
P114: 1140 | Q114: S
A129: 5. 인공지반 및 배수공사 | C129: 1 | D129: 식 | O129: A160
A130: 혼합토A | B130: T700, 자연토:인공토=1:1 | C130: 11.88 | D130: m3 | M130: No.44 | P130: 10 | R130: HPC001A | T130: T | BI130: HPC001A →
A131: 혼합토B | B131: T500, 자연토:인공토=1:1 | C131: 25.98 | D131: m3 | M131: No.45 | P131: 20 | R131: HPC001B | T131: T | BI131: HPC001B →
A132: 부직포깔기 | C132: 82.71 | D132: ㎡ | M132: No.46 | P132: 30 | R132: HPC003 | T132: T | BI132: HPC003 →
A133: 배수판 | B133: T30 | C133: 68.93 | D133: ㎡ | M133: No.47 | P133: 40 | R133: HPC005 | T133: T | BI133: HPC005 →
A134: 방근시트깔기 | C134: 68.93 | D134: ㎡ | M134: No.48 | P134: 50 | R134: HPC002 | T134: T | BI134: HPC002 →
P135: 60 | Q135: S
A154: ▣ 관급자재 | C154: 1 | D154: 식 | O154: C100
A155: (1) 도급자관급 | B155: 납품장소차상도 | P155: 80 | Q155: *
A156: 인조화강석블록(식별21534589) | B156: T60,투수 (납품장소차상도,VAT포함) | C156: 64.4 | D156: ㎡ | M156: MF-210A | P156: 100 | R156: MF-210A | AA156: EQ+ = | AB156: 5710.2192 | AC156: EQ = | AD156: 5710.2192 | BI156: MF-210A →
A157: 조달수수료 | B157: 자재비의 | C157: 0.54 | D157: % | P157: 120 | R157: F | X157: EQ=MA(100)*0.54/100_x000D_
A158: 천원미만 절사 | C158: 1 | D158: 식 | M158: G_C100_1 | P158: 130 | R158: G_C100_1 | BI158: G_C100_1 →

Sheet 일위대가_호표(조경)
A1: 일위대가_호표
A2: 공 종 명 | B2: 규 격 | C2: 수량 | D2: 단위 | E2: 합 계 | G2: 재 료 비 | I2: 노 무 비 | K2: 경 비 | M2: 비 고
E3: 단 가 | F3: 금 액 | G3: 단 가 | H3: 금 액 | I3: 단 가 | J3: 금 액 | K3: 단 가 | L3: 금 액 | S3: 할 증 | T3: 화폐변환 | U3: OP값 | V3: EQ | W3: LA | X3: MA | Y3: 금액계상
A4: No.1 교목제거 - 현장제거 | B4: B8이하(R9이하) | C4: 1 | D4: 주 | M4: 서울시 도시기반시설 설계대가기준 | O4: TR001
A5: 보통인부 | B5: 일반공사 직종 | C5: 0.07 | D5: 인 | N5: 56900017041 | P5: 10 | R5: L001010101000002 | BI5: L001010101000002 →
A6: 벌 목 부 | B6: 일반공사 직종 | C6: 0.011 | D6: 인 | N6: 56900017033 | P6: 20 | R6: L001010101000037 | BI6: L001010101000037 →
A7: 보통인부 | B7: 일반공사 직종 | C7: 0.044 | D7: 인 | N7: 56900017041 | P7: 30 | R7: L001010101000002 | BI7: L001010101000002 →
A8: 기계톱 | C8: 0.093 | D8: HR | P8: 40 | R8: G200 | BI8: G200 →
A9: 휘발유 | B9: 무연 | C9: 0.065 | D9: ℓ | P9: 50 | R9: MA-YJ-0010 | BI9: MA-YJ-0010 →
A10: 엔진오일 | B10: 가솔린용 | C10: 0.026 | D10: ℓ | P10: 60 | R10: MA-YJ-0020 | BI10: MA-YJ-0020 →
A11: 수목상하차 | B11: R8~9,B7~8 | C11: 0.5 | D11: 주 | P11: 70 | R11: ZT000007 | T11: F | BI11: ZT000007 →
A13: No.2 교목제거 - 현장제거 | B13: B10(R12) | C13: 1 | D13: 주 | M13: 서울시 도시기반시설 설계대가기준 | O13: TR002
A14: 보통인부 | C14: 0.08 | D14: 인 | N14: 56900017041 | P14: 20 | R14: L001010101000002 | BI14: L001010101000002 →
A15: 벌 목 부 | C15: 0.016 | D15: 인 | P15: 30 | R15: L001010101000037 | BI15: L001010101000037 →
A16: 보통인부 | C16: 0.064 | D16: 인 | N16: 56900017041 | P16: 40 | R16: L001010101000002 | BI16: L001010101000002 →
A17: 기계톱 | C17: 0.135 | D17: HR | P17: 50 | R17: G200 | BI17: G200 →
A18: 휘발유 | B18: 무연 | C18: 0.094 | D18: ℓ | P18: 60 | R18: MA-YJ-0010 | BI18: MA-YJ-0010 →
A19: 엔진오일 | B19: 가솔린용 | C19: 0.039 | D19: ℓ | P19: 70 | R19: MA-YJ-0020 | BI19: MA-YJ-0020 →
A20: 수목상차 | B20: R12~14,B10~12(트럭탑재형크레인 10톤) | C20: 0.5 | D20: 주 | P20: 80 | R20: ZT000010 | T20: F | BI20: ZT000010 →
A22: No.3 교목제거 - 현장제거 | B22: B16(R20) | C22: 1 | D22: 주 | M22: 서울시 도시기반시설 설계대가기준 | O22: TR005
A23: 보통인부 | C23: 0.11 | D23: 인 | N23: 56900017041 | P23: 10 | R23: L001010101000002 | BI23: L001010101000002 →
A24: 벌 목 부 | C24: 0.043 | D24: 인 | P24: 30 | R24: L001010101000037 | BI24: L001010101000037 →
A25: 보통인부 | C25: 0.172 | D25: 인 | N25: 56900017041 | P25: 40 | R25: L001010101000002 | BI25: L001010101000002 →
A26: 기계톱 | C26: 0.347 | D26: HR | P26: 50 | R26: G200 | BI26: G200 →
A27: 휘발유 | B27: 무연 | C27: 0.242 | D27: ℓ | P27: 60 | R27: MA-YJ-0010 | BI27: MA-YJ-0010 →
A28: 엔진오일 | B28: 가솔린용 | C28: 0.1 | D28: ℓ | P28: 70 | R28: MA-YJ-0020 | BI28: MA-YJ-0020 →
A29: 수목상차 | B29: R20~24,B17~20(트럭탑재형크레인 10톤) | C29: 0.5 | D29: 주 | P29: 80 | R29: ZT000020 | T29: F | BI29: ZT000020 →
A31: No.4 교목제거 - 현장제거 | B31: B20(R25) | C31: 1 | D31: 주 | M31: 서울시 도시기반시설 설계대가기준 | O31: TR006
A32: 보통인부 | C32: 0.13 | D32: 인 | N32: 56900017041 | P32: 20 | R32: L001010101000002 | BI32: L001010101000002 →
A33: 벌 목 부 | C33: 0.073 | D33: 인 | P33: 30 | R33: L001010101000037 | BI33: L001010101000037 →
A34: 보통인부 | C34: 0.292 | D34: 인 | N34: 56900017041 | P34: 40 | R34: L001010101000002 | BI34: L001010101000002 →
A35: 기계톱 | C35: 0.589 | D35: HR | P35: 50 | R35: G200 | BI35: G200 →
A36: 휘발유 | B36: 무연 | C36: 0.412 | D36: ℓ | P36: 60 | R36: MA-YJ-0010 | BI36: MA-YJ-0010 →
A37: 엔진오일 | B37: 가솔린용 | C37: 0.17 | D37: ℓ | P37: 70 | R37: MA-YJ-0020 | BI37: MA-YJ-0020 →
A38: 수목상차 | B38: R25~29,B21~24(트럭탑재형크레인15톤) | C38: 0.5 | D38: 주 | P38: 80 | R38: ZT000021 | T38: F | BI38: ZT000021 →
A40: No.5 블루엔젤 | B40: H2.0xW1.0 | C40: 1 | D40: 주 | O40: HAT-001
A41: 블루엔젤 | B41: H2.0xW1.0 | C41: 1.1 | D41: 주 | P41: 30 | R41: MTG-0011 | BI41: MTG-0011 →
A42: 수고 식재공 | B42: 2.0m 이하 | C42: 1 | D42: 주 | P42: 40 | R42: PC_0442-024 | T42: T | BI42: PC_0442-024 →
A43: 이각 지주목 | B43: ￠40, L=1200 | C43: 1 | D43: 조 | P43: 50 | R43: M002005 | BI43: M002005 →
A44: 유기질비료 | B44: 비오토, 20kg/포 | C44: 5 | D44: kg | P44: 60 | R44: M2-0200 | BI44: M2-0200 →
A46: No.6 서양측백 | B46: H2.5xW0.8 | C46: 1 | D46: 주 | O46: HAT-0011
A47: 서양측백 | B47: H2.5xW0.8 | C47: 1.1 | D47: 주 | P47: 30 | R47: MTG-01 | BI47: MTG-01 →
A48: 수고 식재공 | B48: H3.0이하 -기계,지주목(유) | C48: 1 | D48: 주 | P48: 40 | R48: PC_0442-026 | T48: T | BI48: PC_0442-026 →
A49: 이각 지주목 | B49: ￠40, L=1200 | C49: 1 | D49: 조 | P49: 60 | R49: M002005 | BI49: M002005 →
A50: 유기질비료 | B50: 20kg/포 | C50: 10 | D50: kg | P50: 70 | R50: M2-0200 | BI50: M2-0200 →
A52: No.7 에메랄드그린 | B52: H2.5xW1.0 | C52: 1 | D52: 주 | O52: HAT-003
A53: 에메랄드그린 | B53: H2.5xW1.0 | C53: 1.1 | D53: 주 | P53: 10 | R53: MTG-004 | BI53: MTG-004 →
A54: 수고 식재공 | B54: H3.0이하 -기계,지주목(유) | C54: 1 | D54: 주 | P54: 20 | R54: PC_0442-026 | T54: T | BI54: PC_0442-026 →
A55: 이각 지주목 | B55: ￠40, L=1200 | C55: 1 | D55: 조 | P55: 30 | R55: M002005 | BI55: M002005 →
A56: 유기질비료 | B56: 비오토, 20kg/포 | C56: 10 | D56: kg | P56: 40 | R56: M2-0200 | BI56: M2-0200 →
A58: No.8 백목련 | B58: H3.5XR12 | C58: 1 | D58: 주 | O58: HAT-010
A59: 백목련 | B59: H3.5XR12 | C59: 1.1 | D59: 주 | P59: 10 | R59: MTB04 | BI59: MTB04 →
A60: 흉고(근원)직경 식재공 | B60: B10~17 (R12~20) | C60: 1 | D60: 주 | P60: 20 | R60: PC_0442-212 | T60: T | BI60: PC_0442-212 →
A61: 삼발이(소형) | B61: ø40×1,500×3 | C61: 1 | D61: 조 | P61: 30 | R61: M002020 | BI61: M002020 →
A62: 유기질비료 | B62: 20kg/포 | C62: 15 | D62: kg | P62: 40 | R62: M2-0200 | BI62: M2-0200 →
A64: No.9 서부해당화 | B64: H3.0xR8 | C64: 1 | D64: 주 | O64: HAT-006
A65: 서부해당화 | B65: H3.0xR8 | C65: 1.1 | D65: 주 | P65: 10 | R65: MTG-0051 | BI65: MTG-0051 →
A66: 흉고(근원)직경 식재공 | B66: B6~7 (R7~8),기계,지주목(유) | C66: 1 | D66: 주 | P66: 20 | R66: PC_0442-206 | T66: T | BI66: PC_0442-206 →
A67: 삼발이(소형) | B67: ø40×1,500×3 | C67: 1 | D67: 조 | P67: 30 | R67: M002020 | BI67: M002020 →
A68: 유기질비료 | B68: 비오토, 20kg/포 | C68: 10 | D68: kg | P68: 40 | R68: M2-0200 | BI68: M2-0200 →
A70: No.10 왕벚나무 | B70: H4.0xB12 | C70: 1 | D70: 주 | O70: HAT-018
A71: 왕벚나무 | B71: H4.0xB12 | C71: 1.1 | D71: 주 | P71: 30 | R71: MTG-013 | BI71: MTG-013 →
A72: 흉고(근원)직경 식재공 | B72: B12~14 (R14~17) | C72: 1 | D72: 주 | P72: 40 | R72: PC_0442-212 | T72: T | BI72: PC_0442-212 →
A73: 삼발이(중형) | B73: ø60×1,800×3 | C73: 1 | D73: 조 | P73: 50 | R73: M002030 | BI73: M002030 →
A74: 유기질비료 | B74: 20kg/포 | C74: 20 | D74: kg | P74: 60 | R74: M2-0200 | BI74: M2-0200 →
A76: No.11 청단풍 | B76: H2.5xR8 | C76: 1 | D76: 주 | O76: HAT-009
A77: 청단풍 | B77: H2.5xR8 | C77: 1.1 | D77: 주 | P77: 20 | R77: MTG-009 | BI77: MTG-009 →
A78: 흉고(근원)직경 식재공 | B78: B6~7 (R7~8) | C78: 1 | D78: 주 | P78: 30 | R78: PC_0442-206 | T78: T | BI78: PC_0442-206 →
A79: 삼발이(소형) | B79: ø40×1,500×3 | C79: 1 | D79: 조 | P79: 40 | R79: M002020 | BI79: M002020 →
A80: 유기질비료 | B80: 비오토, 20kg/포 | C80: 10 | D80: kg | P80: 50 | R80: M2-0200 | BI80: M2-0200 →
A82: No.12 남천 | B82: H1.0x3가지 | C82: 1 | D82: 주 | O82: HAT-102
A83: 남천 | B83: H1.0x3가지 | C83: 1.1 | D83: 주 | P83: 20 | R83: MTG-020 | BI83: MTG-020 →
A84: 관목류 식재공 | B84: H0.8~1.1 (군식) | C84: 1 | D84: 주 | P84: 30 | R84: PC_0432-230 | T84: T | BI84: PC_0432-230 →
A85: 유기질비료 | B85: 20kg/포 | C85: 2 | D85: kg | P85: 50 | R85: M2-0200 | BI85: M2-0200 →
A87: No.13 사철나무 | B87: H1.0xW0.3 | C87: 1 | D87: 주 | O87: HAT-100-3
A88: 사철나무 | B88: H1.0xW0.3 | C88: 1.1 | D88: 주 | P88: 30 | R88: MTG-029 | BI88: MTG-029 →
A89: 관목류 식재공 | B89: H0.8~1.1 (군식) | C89: 1 | D89: 주 | P89: 50 | R89: PC_0432-230 | T89: T | BI89: PC_0432-230 →
A90: 유기질비료 | B90: 20kg/포 | C90: 2 | D90: kg | P90: 80 | R90: M2-0200 | BI90: M2-0200 →
A92: No.14 회양목 | B92: H0.3xW0.3 | C92: 1 | D92: 주 | O92: HAT-101
A93: 회양목 | B93: H0.3xW0.3 | C93: 1.1 | D93: 주 | P93: 10 | R93: MTG-020 | BI93: MTG-020 →
A94: 관목류 식재공 | B94: H0.3~0.7이하 (군식) | C94: 1 | D94: 주 | P94: 20 | R94: PC_0432-220 | T94: T | BI94: PC_0432-220 →
A95: 유기질비료 | B95: 비오토, 20kg/포 | C95: 0.5 | D95: kg | P95: 30 | R95: M2-0200 | BI95: M2-0200 →
A97: No.15 단풍철쭉 | B97: H1.0xW0.6 (단식) | C97: 1 | D97: 주 | O97: HAT-103
A98: 단풍철쭉 | B98: H1.0xW0.6 (단식) | C98: 1.1 | D98: 주 | P98: 30 | R98: MTG-022 | BI98: MTG-022 →
A99: 관목류 식재공 | B99: H0.8~1.1이하 (단식) | C99: 1 | D99: 주 | P99: 40 | R99: PC_0432-130 | T99: T | BI99: PC_0432-130 →
A100: 유기질비료 | B100: 비오토, 20kg/포 | C100: 2 | D100: kg | P100: 70 | R100: M2-0200 | BI100: M2-0200 →
A102: No.16 샐릭스(다간형) | B102: H1.5 | C102: 1 | D102: 주 | O102: HAT-104
A103: 샐릭스(다간형) | B103: H1.5 | C103: 1.1 | D103: 주 | P103: 30 | R103: MTG-021 | BI103: MTG-021 →
A104: 관목류 식재공(단식) | B104: 1.2~1.5m 이하 | C104: 1 | D104: 주 | P104: 40 | R104: PC_0432-140 | T104: T | BI104: PC_0432-140 →
A105: 유기질비료 | B105: 비오토, 20kg/포 | C105: 2 | D105: kg | P105: 70 | R105: M2-0200 | BI105: M2-0200 →
A107: No.17 수수꽃다리 | B107: H1.8xW0.8(단식) | C107: 1 | D107: 주 | O107: HAT-131
A108: 수수꽃다리 | B108: H1.8xW0.8 | C108: 1.1 | D108: 주 | P108: 20 | R108: MTG-028 | BI108: MTG-028 →
A109: 관목류 식재공 | B109: H1.5(단식)이상 | C109: 1 | D109: 주 | P109: 30 | R109: PC_0432-150 | T109: T | BI109: PC_0432-150 →
A110: 유기질비료 | B110: 20kg/포 | C110: 2 | D110: kg | P110: 40 | R110: M2-0200 | BI110: M2-0200 →
A112: No.18 화살나무(다간형) | B112: H1.0 | C112: 1 | D112: 주 | O112: HAT-105
A113: 화살나무(다간형) | B113: H1.0 | C113: 1.1 | D113: 주 | P113: 40 | R113: MTG-023 | BI113: MTG-023 →
A114: 관목류 식재공 | B114: H0.8~1.1이하 (단식) | C114: 1 | D114: 주 | P114: 50 | R114: PC_0432-130 | T114: T | BI114: PC_0432-130 →
A115: 유기질비료 | B115: 20kg/포 | C115: 2 | D115: kg | P115: 80 | R115: M2-0200 | BI115: M2-0200 →
A117: No.19 미스김라일락 | B117: H0.3xW0.3 | C117: 1 | D117: 주 | O117: HAT-1033
A118: 미스김라일락 | B118: H0.3xW0.3 | C118: 1.1 | D118: 주 | P118: 10 | R118: MTG-024 | BI118: MTG-024 →
...

Sheet 공종별내역서(해체)
A1: [ 송파2동 복합청사 기존건물 철거공사 ]
A2: 품 명 | B2: 규 격 | C2: 단위 | D2: 수량 | E2: 재 료 비 | G2: 노 무 비 | I2: 경 비 | K2: 합 계 | M2: 비 고 | N2: 품목코드 | O2: 변수 | P2: 설정 | Q2: 공종코드 | R2: 일위 | S2: 단산 | T2: 자재 | U2: 손료적용 | V2: 손료저장 | W2: 적용율 | X2: JUK1 | Y2: JUK2 | Z2: JUK3 | AA2: JUK4 | AB2: JUK5 | AC2: JUK6 | AD2: JUK7 | AE2: JUK8 | AF2: JUK9 | AG2: JUK10 | AH2: JUK11 | AI2: JUK12 | AJ2: JUK13 | AK2: JUK14 | AL2: JUK15 | AM2: JUK16 | AN2: JUK17 | AO2: JUK18 | AP2: JUK19 | AQ2: JUK20 | AR2: 자재구분 | AS2: 공종구분 | AT2: 공종레벨 | AU2: 공종+자재 | AV2: 고유번호
E3: 단 가 | F3: 금 액 | G3: 단 가 | H3: 금 액 | I3: 단 가 | J3: 금 액 | K3: 단 가 | L3: 금 액
A4: 가 설 공 사 | B4: ■ 주민센터 ■ | Q4: 010101
A5: 외줄비계 설치및해체/철거용 | B5: H=10m 이하 | C5: ㎡ | D5: 1200 | M5: 호표 99 | N5: 5D5003DE8522FF8F4B3043BC19C70A | Q5: 010101 | R5: T | S5: F | T5: F | AU5: 0101015D5003DE8522FF8F4B3043BC19C70A | AV5: 7
A6: 비산먼지발생억제를 위한 살수 | B6: 살수차 16000L | C6: 100M2 | D6: 733 | M6: 호표 100 | N6: 5D5003DE8522ED1E49164B421677F8 | Q6: 010101 | R6: T | S6: F | T6: F | AU6: 0101015D5003DE8522ED1E49164B421677F8 | AV6: 8
Q7: 010101
Q8: 010101
Q9: 010101
Q10: 010101
Q11: 010101
Q12: 010101
Q13: 010101
Q14: 010101
Q15: 010101
Q16: 010101
Q17: 010101
Q18: 010101
... Q26: 010101
A27: [ 합 계 ] | N27: TOTAL
A28: 가 시 설 공 | B28: ■ 주민센터 ■ 흙 막 이 공 사 | Q28: 01010201
A29: H-말뚝 천공 | B29: 토사 | C29: M | D29: 65 | M29: 자재 19 | N29: 5CC653E28A3D958D4E4D40741C993117E48AE0 | Q29: 01010201 | R29: F | S29: F | T29: T | AU29: 010102015CC653E28A3D958D4E4D40741C993117E48AE0 | AV29: 150
A30: 토류판 설치 및 철거 | B30: T=8cm | C30: M2 | D30: 50 | M30: 자재 20 | N30: 5CC653E28A3D958D4E4D40741C993117E48AE3 | Q30: 01010201 | R30: F | S30: F | T30: T | AU30: 010102015CC653E28A3D958D4E4D40741C993117E48AE3 | AV30: 152
A31: H-PILE 뽑기 | B31: H-300x200 | C31: 본 | D31: 8 | M31: 자재 21 | N31: 5CC653E28A3D958D4E4D40741C993117E48AE2 | Q31: 01010201 | R31: F | S31: F | T31: T | AU31: 010102015CC653E28A3D958D4E4D40741C993117E48AE2 | AV31: 153
A32: 장비 조립 및 해체 | B32: 오거장비 | C32: 회 | D32: 1 | M32: 자재 22 | N32: 5CC653E28A3D958D4E4D40741C993117E48AE5 | Q32: 01010201 | R32: F | S32: F | T32: T | AU32: 010102015CC653E28A3D958D4E4D40741C993117E48AE5 | AV32: 154
A33: 띠장 설치 및 철거 | B33: H-300x300(9~11m) | C33: M | D33: 13 | M33: 자재 23 | N33: 5CC653E28A3D958D4E4D40741C993117E48AE4 | Q33: 01010201 | R33: F | S33: F | T33: T | AU33: 010102015CC653E28A3D958D4E4D40741C993117E48AE4 | AV33: 155
A34: 홈메우기 | B34: H-형강 | C34: 개소 | D34: 8 | M34: 자재 24 | N34: 5CC653E28A3D958D4E4D40741C993117E48AE7 | Q34: 01010201 | R34: F | S34: F | T34: T | AU34: 010102015CC653E28A3D958D4E4D40741C993117E48AE7 | AV34: 156
A35: 보걸이설치및철거 | C35: 개소 | D35: 8 | M35: 자재 25 | N35: 5CC653E28A3D958D4E4D40741C993117E48AE6 | Q35: 01010201 | R35: F | S35: F | T35: T | AU35: 010102015CC653E28A3D958D4E4D40741C993117E48AE6 | AV35: 157
A36: 모래부설(근입장) | B36: 일당 110m3 | C36: M3 | D36: 8 | M36: 자재 26 | N36: 5CC653E28A3D958D4E4D40741C993117E48AE9 | Q36: 01010201 | R36: F | S36: F | T36: T | AU36: 010102015CC653E28A3D958D4E4D40741C993117E48AE9 | AV36: 158
Q37: 01010201
Q38: 01010201
Q39: 01010201
Q40: 01010201
Q41: 01010201
Q42: 01010201
Q43: 01010201
Q44: 01010201
Q45: 01010201
Q46: 01010201
Q47: 01010201
Q48: 01010201
... Q50: 01010201
A51: [ 합 계 ] | N51: TOTAL
A52: 부 대 공 | B52: ■ 주민센터 ■ 흙 막 이 공 사 | Q52: 01010202
A53: 강재운반비 | B53: L=20KM | C53: TON | D53: 6.024 | M53: 자재 27 | N53: 5CC653E28A3D958D4E4D40741C993117E48AE8 | Q53: 01010202 | R53: F | S53: F | T53: T | AU53: 010102025CC653E28A3D958D4E4D40741C993117E48AE8 | AV53: 160
A54: 트럭트랙터 평판트레일러 | B54: 18ton(왕복), 운반거리 L=20km | C54: Eㅐ | D54: 2 | M54: 자재 28 | N54: 5CC653E28A3D958D4E4D40741C993117E48B88 | Q54: 01010202 | R54: F | S54: F | T54: T | AU54: 010102025CC653E28A3D958D4E4D40741C993117E48B88 | AV54: 161
Q55: 01010202
Q56: 01010202
Q57: 01010202
Q58: 01010202
Q59: 01010202
Q60: 01010202
Q61: 01010202
Q62: 01010202
Q63: 01010202
Q64: 01010202
Q65: 01010202
Q66: 01010202
... Q74: 01010202
A75: [ 합 계 ] | N75: TOTAL
A76: 자 재 비 | B76: ■ 주민센터 ■ 흙 막 이 공 사 | Q76: 01010203
A77: 구조용H형강(손료30%) | B77: 300x200x9x14m/m | C77: TON | D77: 4.55 | M77: 자재 29 | N77: 5CC653E28A3D958D4E4D40741C993117E48B89 | Q77: 01010203 | R77: F | S77: F | T77: T | AU77: 010102035CC653E28A3D958D4E4D40741C993117E48B89 | AV77: 163
A78: 구조용H형강(손료30%) | B78: 300x300x10x15m/m | C78: TON | D78: 1.321 | M78: 자재 30 | N78: 5CC653E28A3D958D4E4D40741C993117E48B8A | Q78: 01010203 | R78: F | S78: F | T78: T | AU78: 010102035CC653E28A3D958D4E4D40741C993117E48B8A | AV78: 164
A79: Ｌ-형강(손율30%) | B79: 100x100x10mm,14.9kg/m | C79: TON | D79: 0.153 | M79: 자재 31 | N79: 5CC653E28A3D958D4E4D40741C993117E48B8B | Q79: 01010203 | R79: F | S79: F | T79: T | AU79: 010102035CC653E28A3D958D4E4D40741C993117E48B8B | AV79: 165
Q80: 01010203
Q81: 01010203
Q82: 01010203
Q83: 01010203
Q84: 01010203
Q85: 01010203
Q86: 01010203
Q87: 01010203
Q88: 01010203
Q89: 01010203
Q90: 01010203
Q91: 01010203
... Q98: 01010203
A99: [ 합 계 ] | N99: TOTAL
A100: 해 체 공 사 | B100: ■ 주민센터 ■ | Q100: 010103
A101: 샌드위치판넬구조체 해체 | B101: 16000*3700, 샌드위치판넬+각파이프틀+아연도강판 | C101: 개소 | D101: 1 | M101: 호표 6 | N101: 5D75F384848E485349B34C011FA60B | Q101: 010103 | R101: T | S101: F | T101: F | AU101: 0101035D75F384848E485349B34C011FA60B | AV101: 10
A102: 폴리카보네이트구조체 해체 | B102: 5000*3000, 폴리카보네이트+200*200콘크리트기초+D60기둥 | C102: 개소 | D102: 1 | M102: 호표 7 | N102: 5D75F384848E485349B34C011FA562 | Q102: 010103 | R102: T | S102: F | T102: F | AU102: 0101035D75F384848E485349B34C011FA562 | AV102: 11
A103: 방습거울해체 | C103: M2 | D103: 29 | M103: 호표 9 | N103: 5D75F384848E485349B34C011E8234 | Q103: 010103 | R103: T | S103: F | T103: F | AU103: 0101035D75F384848E485349B34C011E8234 | AV103: 12
A104: 철재조리대 해체 | B104: 3050*800 | C104: 개소 | D104: 1 | M104: 호표 10 | N104: 5D75F384848E485349B34C011E858C | Q104: 010103 | R104: T | S104: F | T104: F | AU104: 0101035D75F384848E485349B34C011E858C | AV104: 13
A105: 붙박이가구 해체 | B105: 3100*250*2700 | C105: 개소 | D105: 1 | M105: 호표 14 | N105: 5D75F384848E485349B34C011DF8AB | Q105: 010103 | R105: T | S105: F | T105: F | AU105: 0101035D75F384848E485349B34C011DF8AB | AV105: 14
A106: 붙박이가구 해체 | B106: 1240*250*2700 | C106: 개소 | D106: 1 | M106: 호표 15 | N106: 5D75F384848E485349B34C011DF8A9 | Q106: 010103 | R106: T | S106: F | T106: F | AU106: 0101035D75F384848E485349B34C011DF8A9 | AV106: 15
A107: 붙박이가구 해체 | B107: 11200*300*2700 | C107: 개소 | D107: 2 | M107: 호표 16 | N107: 5D75F384848E485349B34C011DF8A7 | Q107: 010103 | R107: T | S107: F | T107: F | AU107: 0101035D75F384848E485349B34C011DF8A7 | AV107: 16
A108: 붙박이가구 해체 | B108: 3510*450*2700 | C108: 개소 | D108: 1 | M108: 호표 17 | N108: 5D75F384848E485349B34C011DFB63 | Q108: 010103 | R108: T | S108: F | T108: F | AU108: 0101035D75F384848E485349B34C011DFB63 | AV108: 17
A109: 의자 해체 | B109: 7700*550*450 | C109: 개소 | D109: 1 | M109: 호표 18 | N109: 5D75F384848E485349B34C011DFA5D | Q109: 010103 | R109: T | S109: F | T109: F | AU109: 0101035D75F384848E485349B34C011DFA5D | AV109: 18
A110: 의자 해체 | B110: 3100*640*450 | C110: 개소 | D110: 1 | M110: 호표 19 | N110: 5D75F384848E485349B34C011DFA59 | Q110: 010103 | R110: T | S110: F | T110: F | AU110: 0101035D75F384848E485349B34C011DFA59 | AV110: 19
A111: 신발장 해체 | B111: 1200*300*2400 | C111: 개소 | D111: 2 | M111: 호표 20 | N111: 5D75F384848E485349B34C011DFD11 | Q111: 010103 | R111: T | S111: F | T111: F | AU111: 0101035D75F384848E485349B34C011DFD11 | AV111: 20
A112: 수납장 해체 | B112: 1200*300*1200 | C112: 개소 | D112: 2 | M112: 호표 21 | N112: 5D75F384848E485349B34C011DFC08 | Q112: 010103 | R112: T | S112: F | T112: F | AU112: 0101035D75F384848E485349B34C011DFC08 | AV112: 21
A113: 수납장 해체 | B113: 1540*300*2400 | C113: 개소 | D113: 1 | M113: 호표 22 | N113: 5D75F384848E485349B34C011DFC0A | Q113: 010103 | R113: T | S113: F | T113: F | AU113: 0101035D75F384848E485349B34C011DFC0A | AV113: 22
A114: 수납장 해체 | B114: 5660*300*2400 | C114: 개소 | D114: 1 | M114: 호표 23 | N114: 5D75F384848E485349B34C011DFC0C | Q114: 010103 | R114: T | S114: F | T114: F | AU114: 0101035D75F384848E485349B34C011DFC0C | AV114: 23
A115: 수납장 해체 | B115: 2200*600*2150 | C115: 개소 | D115: 1 | M115: 호표 24 | N115: 5D75F384848E485349B34C011DFC0E | Q115: 010103 | R115: T | S115: F | T115: F | AU115: 0101035D75F384848E485349B34C011DFC0E | AV115: 24
... A120: 국기게양대 해체 | B120: 3600*420*400 | C120: 개소 | D120: 1 | M120: 호표 55 | N120: 5D75F384848E485349B34C011A2470 | Q120: 010103 | R120: T | S120: F | T120: F | AU120: 0101035D75F384848E485349B34C011A2470 | AV120: 29
A121: 양변기 해체 | C121: EA | D121: 9 | M121: 호표 56 | N121: 5D75F384848E485349B34C01191FCD | Q121: 010103 | R121: T | S121: F | T121: F | AU121: 0101035D75F384848E485349B34C01191FCD | AV121: 30
A122: 소변기 해체 | C122: EA | D122: 3 | M122: 호표 57 | N122: 5D75F384848E485349B34C01191FC9 | Q122: 010103 | R122: T | S122: F | T122: F | AU122: 0101035D75F384848E485349B34C01191FC9 | AV122: 31
A123: 청소용수채 해체 | C123: EA | D123: 1 | M123: 호표 58 | N123: 5D75F384848E485349B34C01191FC5 | Q123: 010103 | R123: T | S123: F | T123: F | AU123: 0101035D75F384848E485349B34C01191FC5 | AV123: 32
A124: 세면대 해체 | B124: 1350*550 | C124: EA | D124: 2 | M124: 호표 59 | N124: 5D75F384848E485349B34C011919A1 | Q124: 010103 | R124: T | S124: F | T124: F | AU124: 0101035D75F384848E485349B34C011919A1 | AV124: 33
A125: 세면대 해체 | B125: D550 | C125: EA | D125: 2 | M125: 호표 60 | N125: 5D75F384848E485349B34C011919AC | Q125: 010103 | R125: T | S125: F | T125: F | AU125: 0101035D75F384848E485349B34C011919AC | AV125: 34
...

Sheet 일위대가(해체)
A1: [ 송파2동 복합청사 기존건물 철거공사 ]
A2: 품 명 | B2: 규 격 | C2: 단위 | D2: 수량 | E2: 재 료 비 | G2: 노 무 비 | I2: 경 비 | K2: 합 계 | M2: 비 고 | N2: 일위대가 | O2: 품목코드 | P2: 일위 | Q2: 단산 | R2: 자재 | S2: 손료적용 | T2: 손료저장 | U2: 적용율 | V2: JUK1 | W2: JUK2 | X2: JUK3 | Y2: JUK4 | Z2: JUK5 | AA2: JUK6 | AB2: JUK7 | AC2: JUK8 | AD2: JUK9 | AE2: JUK10 | AF2: JUK11 | AG2: JUK12 | AH2: JUK13 | AI2: JUK14 | AJ2: JUK15 | AK2: JUK16 | AL2: JUK17 | AM2: JUK18 | AN2: JUK19 | AO2: JUK20 | AP2: 할증적용 | AQ2: 할증저장 | AR2: 할증율 | AS2: HAL1 | AT2: HAL2 | AU2: HAL3 | AV2: 자재구분 | AW2: 일위대가+자재 | AX2: 장비일위 | AY2: 설정 | AZ2: 할증체크
E3: 단 가 | F3: 금 액 | G3: 단 가 | H3: 금 액 | I3: 단 가 | J3: 금 액 | K3: 단 가 | L3: 금 액
A4: 굴착기(무한궤도) 0.6㎥ HR 공통 8-3,4(0201) ( 호표 1 ) | N4: 5A6D43308E7A095B459B4C3F1A503CBE51F94400
A5: 굴착기(무한궤도) | B5: 0.6㎥ | C5: 대 | D5: 0.2085 | M5: 자재 1 | N5: 5A6D43308E7A095B459B4C3F1A503CBE51F94400 | O5: 5A6D43308E7A095B459B4C3F1A503CBE51F944 | P5: F | Q5: F | R5: T | AW5: 5A6D43308E7A095B459B4C3F1A503CBE51F944005A6D43308E7A095B459B4C3F1A503CBE51F944
A6: 경유 | B6: 경유, 저유황 | C6: L | D6: 10.2 | K6: 송파2동 복합청사 신축공사(건축)-긴급 | M6: 자재 9 | N6: 5A6D43308E7A095B459B4C3F1A503CBE51F94400 | O6: 5A7FF3B585802F054CC046291701B7CA9B5965 | P6: F | Q6: F | R6: T | V6: 1 | AW6: 5A6D43308E7A095B459B4C3F1A503CBE51F944005A7FF3B585802F054CC046291701B7CA9B5965
A7: 잡재료 | B7: 주연료비의 22% | C7: 식 | D7: 1 | N7: 5A6D43308E7A095B459B4C3F1A503CBE51F94400 | O7: 5C6EB3588D693AA74ACE47DB1986001 | P7: F | Q7: F | R7: F | S7: 0 | T7: 0 | U7: 0.22 | AW7: 5A6D43308E7A095B459B4C3F1A503CBE51F944005C6EB3588D693AA74ACE47DB1986001
A8: 건설기계운전사 | B8: 일반공사 직종 | C8: 인 | D8: 1 | M8: 노임 9 | N8: 5A6D43308E7A095B459B4C3F1A503CBE51F94400 | O8: 5DAF23BC89E95BBD4BAD4D3B14F99038CF603E | P8: F | Q8: F | R8: T | AW8: 5A6D43308E7A095B459B4C3F1A503CBE51F944005DAF23BC89E95BBD4BAD4D3B14F99038CF603E | AX8: T
A9: [ 합 계 ] | N9: TOTAL | O9: TOTAL
A11: 굴착기(무한궤도) 1.0㎥ HR 공통 8-3,4(0201) ( 호표 2 ) | N11: 5A6D43308E7A095B459B4C3F1B7D6EE41206504C
A12: 굴착기(무한궤도) | B12: 1.0㎥ | C12: 대 | D12: 0.2085 | M12: 자재 2 | N12: 5A6D43308E7A095B459B4C3F1B7D6EE41206504C | O12: 5A6D43308E7A095B459B4C3F1B7D6EE4120650 | P12: F | Q12: F | R12: T | AW12: 5A6D43308E7A095B459B4C3F1B7D6EE41206504C5A6D43308E7A095B459B4C3F1B7D6EE4120650
A13: 경유 | B13: 경유, 저유황 | C13: L | D13: 19.5 | M13: 자재 9 | N13: 5A6D43308E7A095B459B4C3F1B7D6EE41206504C | O13: 5A7FF3B585802F054CC046291701B7CA9B5965 | P13: F | Q13: F | R13: T | V13: 1 | AW13: 5A6D43308E7A095B459B4C3F1B7D6EE41206504C5A7FF3B585802F054CC046291701B7CA9B5965
A14: 잡재료 | B14: 주연료비의 22% | C14: 식 | D14: 1 | N14: 5A6D43308E7A095B459B4C3F1B7D6EE41206504C | O14: 5C6EB3588D693AA74ACE47DB1986001 | P14: F | Q14: F | R14: F | S14: 0 | T14: 0 | U14: 0.22 | AW14: 5A6D43308E7A095B459B4C3F1B7D6EE41206504C5C6EB3588D693AA74ACE47DB1986001
A15: 건설기계운전사 | B15: 일반공사 직종 | C15: 인 | D15: 1 | M15: 노임 9 | N15: 5A6D43308E7A095B459B4C3F1B7D6EE41206504C | O15: 5DAF23BC89E95BBD4BAD4D3B14F99038CF603E | P15: F | Q15: F | R15: T | AW15: 5A6D43308E7A095B459B4C3F1B7D6EE41206504C5DAF23BC89E95BBD4BAD4D3B14F99038CF603E | AX15: T
A16: [ 합 계 ] | N16: TOTAL | O16: TOTAL
A18: 압쇄기(펄버라이저) 1.0㎥용 HR 공통 8-3(0250) ( 호표 3 ) | N18: 5A6D43308E7A095B4018423C1414203B3F7637E5
A19: 압쇄기(펄버라이저) | B19: 1.0㎥용 | C19: 대 | D19: 0.6601 | M19: 자재 3 | N19: 5A6D43308E7A095B4018423C1414203B3F7637E5 | O19: 5A6D43308E7A095B4018423C1414203B3F7637 | P19: F | Q19: F | R19: T | AW19: 5A6D43308E7A095B4018423C1414203B3F7637E55A6D43308E7A095B4018423C1414203B3F7637
A20: [ 합 계 ] | N20: TOTAL | O20: TOTAL
A22: 물탱크(살수차) 16000L HR 공통 8-3,4(7204) ( 호표 4 ) | N22: 5A6D43308E7A7C524AC249DC189A44EEDD714250
A23: 물탱크(살수차) | B23: 16000L | C23: 대 | D23: 0.2113 | M23: 자재 4 | N23: 5A6D43308E7A7C524AC249DC189A44EEDD714250 | O23: 5A6D43308E7A7C524AC249DC189A44EEDD7142 | P23: F | Q23: F | R23: T | AW23: 5A6D43308E7A7C524AC249DC189A44EEDD7142505A6D43308E7A7C524AC249DC189A44EEDD7142
A24: 경유 | B24: 경유, 저유황 | C24: L | D24: 12.9 | M24: 자재 9 | N24: 5A6D43308E7A7C524AC249DC189A44EEDD714250 | O24: 5A7FF3B585802F054CC046291701B7CA9B5965 | P24: F | Q24: F | R24: T | V24: 1 | AW24: 5A6D43308E7A7C524AC249DC189A44EEDD7142505A7FF3B585802F054CC046291701B7CA9B5965
A25: 잡재료 | B25: 주연료비의 30% | C25: 식 | D25: 1 | N25: 5A6D43308E7A7C524AC249DC189A44EEDD714250 | O25: 5C6EB3588D693AA74ACE47DB1986001 | P25: F | Q25: F | R25: F | S25: 0 | T25: 0 | U25: 0.3 | AW25: 5A6D43308E7A7C524AC249DC189A44EEDD7142505C6EB3588D693AA74ACE47DB1986001
A26: 화물차운전사 | B26: 일반공사 직종 | C26: 인 | D26: 1 | M26: 노임 10 | N26: 5A6D43308E7A7C524AC249DC189A44EEDD714250 | O26: 5DAF23BC89E95BBD4BAD4D3B14F99038CF603F | P26: F | Q26: F | R26: T | AW26: 5A6D43308E7A7C524AC249DC189A44EEDD7142505DAF23BC89E95BBD4BAD4D3B14F99038CF603F | AX26: T
A27: [ 합 계 ] | N27: TOTAL | O27: TOTAL | AX27: T
A29: 샌드위치판넬 해체 지붕 M2 ( 호표 5 ) | N29: 5D75F384848E485349B34C011FA718
A30: 내장공 | B30: 일반공사 직종 | C30: 인 | D30: 0.028 | M30: 노임 7 | N30: 5D75F384848E485349B34C011FA718 | O30: 5DAF23BC89E95BBD4BAD4D3B14F99038CF6765 | P30: F | Q30: F | R30: T | V30: 1 | AW30: 5D75F384848E485349B34C011FA7185DAF23BC89E95BBD4BAD4D3B14F99038CF6765
A31: 보통인부 | B31: 일반공사 직종 | C31: 인 | D31: 0.02 | M31: 노임 1 | N31: 5D75F384848E485349B34C011FA718 | O31: 5DAF23BC89E95BBD4BAD4D3B14F99038CF6493 | P31: F | Q31: F | R31: T | V31: 1 | AW31: 5D75F384848E485349B34C011FA7185DAF23BC89E95BBD4BAD4D3B14F99038CF6493
A32: 공구손료 | B32: 인력품의 2% | C32: 식 | D32: 1 | N32: 5D75F384848E485349B34C011FA718 | O32: 5C6EB3588D693AA74ACE47DB1986001 | P32: F | Q32: F | R32: F | S32: 1 | T32: 2 | U32: 0.02 | AW32: 5D75F384848E485349B34C011FA7185C6EB3588D693AA74ACE47DB1986001
A33: [ 합 계 ] | N33: TOTAL | O33: TOTAL
A35: 샌드위치판넬구조체 해체 16000*3700, 샌드위치판넬+각파이프틀+아연도강판 개소 ( 호표 6 ) | N35: 5D75F384848E485349B34C011FA60B
A36: 내장공 | B36: 일반공사 직종 | C36: 인 | D36: 0.84 | M36: 노임 7 | N36: 5D75F384848E485349B34C011FA60B | O36: 5DAF23BC89E95BBD4BAD4D3B14F99038CF6765 | P36: F | Q36: F | R36: T | V36: 1 | AW36: 5D75F384848E485349B34C011FA60B5DAF23BC89E95BBD4BAD4D3B14F99038CF6765
A37: 보통인부 | B37: 일반공사 직종 | C37: 인 | D37: 0.6 | M37: 노임 1 | N37: 5D75F384848E485349B34C011FA60B | O37: 5DAF23BC89E95BBD4BAD4D3B14F99038CF6493 | P37: F | Q37: F | R37: T | V37: 1 | AW37: 5D75F384848E485349B34C011FA60B5DAF23BC89E95BBD4BAD4D3B14F99038CF6493
A38: 공구손료 | B38: 인력품의 2% | C38: 식 | D38: 1 | N38: 5D75F384848E485349B34C011FA60B | O38: 5C6EB3588D693AA74ACE47DB1986001 | P38: F | Q38: F | R38: F | S38: 1 | T38: 2 | U38: 0.02 | AW38: 5D75F384848E485349B34C011FA60B5C6EB3588D693AA74ACE47DB1986001
A39: [ 합 계 ] | N39: TOTAL | O39: TOTAL
A41: 폴리카보네이트구조체 해체 5000*3000, 폴리카보네이트+200*200콘크리트기초+D60기둥 개소 ( 호표 7 ) | N41: 5D75F384848E485349B34C011FA562
A42: 내장공 | B42: 일반공사 직종 | C42: 인 | D42: 0.56 | M42: 노임 7 | N42: 5D75F384848E485349B34C011FA562 | O42: 5DAF23BC89E95BBD4BAD4D3B14F99038CF6765 | P42: F | Q42: F | R42: T | V42: 1 | AW42: 5D75F384848E485349B34C011FA5625DAF23BC89E95BBD4BAD4D3B14F99038CF6765
A43: 보통인부 | B43: 일반공사 직종 | C43: 인 | D43: 0.4 | M43: 노임 1 | N43: 5D75F384848E485349B34C011FA562 | O43: 5DAF23BC89E95BBD4BAD4D3B14F99038CF6493 | P43: F | Q43: F | R43: T | V43: 1 | AW43: 5D75F384848E485349B34C011FA5625DAF23BC89E95BBD4BAD4D3B14F99038CF6493
A44: 공구손료 | B44: 인력품의 2% | C44: 식 | D44: 1 | N44: 5D75F384848E485349B34C011FA562 | O44: 5C6EB3588D693AA74ACE47DB1986001 | P44: F | Q44: F | R44: F | S44: 1 | T44: 2 | U44: 0.02 | AW44: 5D75F384848E485349B34C011FA5625C6EB3588D693AA74ACE47DB1986001
A45: [ 합 계 ] | N45: TOTAL | O45: TOTAL
A47: 도서관바닥구조물 해체 4900*2400. 바닥틀포함 개소 ( 호표 8 ) | N47: 5D75F384848E485349B34C011FA45C
A48: 내장공 | B48: 일반공사 직종 | C48: 인 | D48: 0.28 | M48: 노임 7 | N48: 5D75F384848E485349B34C011FA45C | O48: 5DAF23BC89E95BBD4BAD4D3B14F99038CF6765 | P48: F | Q48: F | R48: T | V48: 1 | AW48: 5D75F384848E485349B34C011FA45C5DAF23BC89E95BBD4BAD4D3B14F99038CF6765
A49: 보통인부 | B49: 일반공사 직종 | C49: 인 | D49: 0.25 | M49: 노임 1 | N49: 5D75F384848E485349B34C011FA45C | O49: 5DAF23BC89E95BBD4BAD4D3B14F99038CF6493 | P49: F | Q49: F | R49: T | V49: 1 | AW49: 5D75F384848E485349B34C011FA45C5DAF23BC89E95BBD4BAD4D3B14F99038CF6493
A50: 공구손료 | B50: 인력품의 2% | C50: 식 | D50: 1 | N50: 5D75F384848E485349B34C011FA45C | O50: 5C6EB3588D693AA74ACE47DB1986001 | P50: F | Q50: F | R50: F | S50: 1 | T50: 2 | U50: 0.02 | AW50: 5D75F384848E485349B34C011FA45C5C6EB3588D693AA74ACE47DB1986001
A51: [ 합 계 ] | N51: TOTAL | O51: TOTAL
A53: 방습거울해체 M2 ( 호표 9 ) | N53: 5D75F384848E485349B34C011E8234
A54: 보통인부 | B54: 일반공사 직종 | C54: 인 | D54: 0.007 | M54: 노임 1 | N54: 5D75F384848E485349B34C011E8234 | O54: 5DAF23BC89E95BBD4BAD4D3B14F99038CF6493 | P54: F | Q54: F | R54: T | V54: 1 | AW54: 5D75F384848E485349B34C011E82345DAF23BC89E95BBD4BAD4D3B14F99038CF6493
A55: 공구손료 | B55: 인력품의 2% | C55: 식 | D55: 1 | N55: 5D75F384848E485349B34C011E8234 | O55: 5C6EB3588D693AA74ACE47DB1986001 | P55: F | Q55: F | R55: F | S55: 1 | T55: 2 | U55: 0.02 | AW55: 5D75F384848E485349B34C011E82345C6EB3588D693AA74ACE47DB1986001
A56: [ 합 계 ] | N56: TOTAL | O56: TOTAL
A58: 철재조리대 해체 3050*800 개소 ( 호표 10 ) | N58: 5D75F384848E485349B34C011E858C
A59: 내장공 | B59: 일반공사 직종 | C59: 인 | D59: 0.05 | M59: 노임 7 | N59: 5D75F384848E485349B34C011E858C | O59: 5DAF23BC89E95BBD4BAD4D3B14F99038CF6765 | P59: F | Q59: F | R59: T | V59: 1 | AW59: 5D75F384848E485349B34C011E858C5DAF23BC89E95BBD4BAD4D3B14F99038CF6765
A60: 보통인부 | B60: 일반공사 직종 | C60: 인 | D60: 0.02 | M60: 노임 1 | N60: 5D75F384848E485349B34C011E858C | O60: 5DAF23BC89E95BBD4BAD4D3B14F99038CF6493 | P60: F | Q60: F | R60: T | V60: 1 | AW60: 5D75F384848E485349B34C011E858C5DAF23BC89E95BBD4BAD4D3B14F99038CF6493
A61: 공구손료 | B61: 인력품의 2% | C61: 식 | D61: 1 | N61: 5D75F384848E485349B34C011E858C | O61: 5C6EB3588D693AA74ACE47DB1986001 | P61: F | Q61: F | R61: F | S61: 1 | T61: 2 | U61: 0.02 | AW61: 5D75F384848E485349B34C011E858C5C6EB3588D693AA74ACE47DB1986001
A62: [ 합 계 ] | N62: TOTAL | O62: TOTAL
A64: 철재선반 해체 900*400*1800 개소 ( 호표 11 ) | N64: 5D75F384848E485349B34C011E8695
A65: 내장공 | B65: 일반공사 직종 | C65: 인 | D65: 0.01 | M65: 노임 7 | N65: 5D75F384848E485349B34C011E8695 | O65: 5DAF23BC89E95BBD4BAD4D3B14F99038CF6765 | P65: F | Q65: F | R65: T | V65: 1 | AW65: 5D75F384848E485349B34C011E86955DAF23BC89E95BBD4BAD4D3B14F99038CF6765
A66: 보통인부 | B66: 일반공사 직종 | C66: 인 | D66: 0.005 | M66: 노임 1 | N66: 5D75F384848E485349B34C011E8695 | O66: 5DAF23BC89E95BBD4BAD4D3B14F99038CF6493 | P66: F | Q66: F | R66: T | V66: 1 | AW66: 5D75F384848E485349B34C011E86955DAF23BC89E95BBD4BAD4D3B14F99038CF6493
A67: 공구손료 | B67: 인력품의 2% | C67: 식 | D67: 1 | N67: 5D75F384848E485349B34C011E8695 | O67: 5C6EB3588D693AA74ACE47DB1986001 | P67: F | Q67: F | R67: F | S67: 1 | T67: 2 | U67: 0.02 | AW67: 5D75F384848E485349B34C011E86955C6EB3588D693AA74ACE47DB1986001
A68: [ 합 계 ] | N68: TOTAL | O68: TOTAL
A70: 하부장 해체 1230*300 개소 ( 호표 12 ) | N70: 5D75F384848E485349B34C011E87B3
A71: 내장공 | B71: 일반공사 직종 | C71: 인 | D71: 0.02 | M71: 노임 7 | N71: 5D75F384848E485349B34C011E87B3 | O71: 5DAF23BC89E95BBD4BAD4D3B14F99038CF6765 | P71: F | Q71: F | R71: T | V71: 1 | AW71: 5D75F384848E485349B34C011E87B35DAF23BC89E95BBD4BAD4D3B14F99038CF6765
A72: 보통인부 | B72: 일반공사 직종 | C72: 인 | D72: 0.005 | M72: 노임 1 | N72: 5D75F384848E485349B34C011E87B3 | O72: 5DAF23BC89E95BBD4BAD4D3B14F99038CF6493 | P72: F | Q72: F | R72: T | V72: 1 | AW72: 5D75F384848E485349B34C011E87B35DAF23BC89E95BBD4BAD4D3B14F99038CF6493
A73: 공구손료 | B73: 인력품의 2% | C73: 식 | D73: 1 | N73: 5D75F384848E485349B34C011E87B3 | O73: 5C6EB3588D693AA74ACE47DB1986001 | P73: F | Q73: F | R73: F | S73: 1 | T73: 2 | U73: 0.02 | AW73: 5D75F384848E485349B34C011E87B35C6EB3588D693AA74ACE47DB1986001
A74: [ 합 계 ] | N74: TOTAL | O74: TOTAL
A76: 하부장 해체 1440*300 개소 ( 호표 13 ) | N76: 5D75F384848E485349B34C011E87B1
A77: 내장공 | B77: 일반공사 직종 | C77: 인 | D77: 0.02 | M77: 노임 7 | N77: 5D75F384848E485349B34C011E87B1 | O77: 5DAF23BC89E95BBD4BAD4D3B14F99038CF6765 | P77: F | Q77: F | R77: T | V77: 1 | AW77: 5D75F384848E485349B34C011E87B15DAF23BC89E95BBD4BAD4D3B14F99038CF6765
A78: 보통인부 | B78: 일반공사 직종 | C78: 인 | D78: 0.005 | M78: 노임 1 | N78: 5D75F384848E485349B34C011E87B1 | O78: 5DAF23BC89E95BBD4BAD4D3B14F99038CF6493 | P78: F | Q78: F | R78: T | V78: 1 | AW78: 5D75F384848E485349B34C011E87B15DAF23BC89E95BBD4BAD4D3B14F99038CF6493
A79: 공구손료 | B79: 인력품의 2% | C79: 식 | D79: 1 | N79: 5D75F384848E485349B34C011E87B1 | O79: 5C6EB3588D693AA74ACE47DB1986001 | P79: F | Q79: F | R79: F | S79: 1 | T79: 2 | U79: 0.02 | AW79: 5D75F384848E485349B34C011E87B15C6EB3588D693AA74ACE47DB1986001
A80: [ 합 계 ] | N80: TOTAL | O80: TOTAL
A82: 붙박이가구 해체 3100*250*2700 개소 ( 호표 14 ) | N82: 5D75F384848E485349B34C011DF8AB
A83: 내장공 | B83: 일반공사 직종 | C83: 인 | D83: 0.09 | M83: 노임 7 | N83: 5D75F384848E485349B34C011DF8AB | O83: 5DAF23BC89E95BBD4BAD4D3B14F99038CF6765 | P83: F | Q83: F | R83: T | V83: 1 | AW83: 5D75F384848E485349B34C011DF8AB5DAF23BC89E95BBD4BAD4D3B14F99038CF6765
A84: 보통인부 | B84: 일반공사 직종 | C84: 인 | D84: 0.04 | M84: 노임 1 | N84: 5D75F384848E485349B34C011DF8AB | O84: 5DAF23BC89E95BBD4BAD4D3B14F99038CF6493 | P84: F | Q84: F | R84: T | V84: 1 | AW84: 5D75F384848E485349B34C011DF8AB5DAF23BC89E95BBD4BAD4D3B14F99038CF6493
A85: 공구손료 | B85: 인력품의 2% | C85: 식 | D85: 1 | N85: 5D75F384848E485349B34C011DF8AB | O85: 5C6EB3588D693AA74ACE47DB1986001 | P85: F | Q85: F | R85: F | S85: 1 | T85: 2 | U85: 0.02 | AW85: 5D75F384848E485349B34C011DF8AB5C6EB3588D693AA74ACE47DB1986001
A86: [ 합 계 ] | N86: TOTAL | O86: TOTAL
A88: 붙박이가구 해체 1240*250*2700 개소 ( 호표 15 ) | N88: 5D75F384848E485349B34C011DF8A9
A89: 내장공 | B89: 일반공사 직종 | C89: 인 | D89: 0.035 | M89: 노임 7 | N89: 5D75F384848E485349B34C011DF8A9 | O89: 5DAF23BC89E95BBD4BAD4D3B14F99038CF6765 | P89: F | Q89: F | R89: T | V89: 1 | AW89: 5D75F384848E485349B34C011DF8A95DAF23BC89E95BBD4BAD4D3B14F99038CF6765
A90: 보통인부 | B90: 일반공사 직종 | C90: 인 | D90: 0.018 | M90: 노임 1 | N90: 5D75F384848E485349B34C011DF8A9 | O90: 5DAF23BC89E95BBD4BAD4D3B14F99038CF6493 | P90: F | Q90: F | R90: T | V90: 1 | AW90: 5D75F384848E485349B34C011DF8A95DAF23BC89E95BBD4BAD4D3B14F99038CF6493
A91: 공구손료 | B91: 인력품의 2% | C91: 식 | D91: 1 | N91: 5D75F384848E485349B34C011DF8A9 | O91: 5C6EB3588D693AA74ACE47DB1986001 | P91: F | Q91: F | R91: F | S91: 1 | T91: 2 | U91: 0.02 | AW91: 5D75F384848E485349B34C011DF8A95C6EB3588D693AA74ACE47DB1986001
A92: [ 합 계 ] | N92: TOTAL | O92: TOTAL
A94: 붙박이가구 해체 11200*300*2700 개소 ( 호표 16 ) | N94: 5D75F384848E485349B34C011DF8A7
A95: 내장공 | B95: 일반공사 직종 | C95: 인 | D95: 0.32 | M95: 노임 7 | N95: 5D75F384848E485349B34C011DF8A7 | O95: 5DAF23BC89E95BBD4BAD4D3B14F99038CF6765 | P95: F | Q95: F | R95: T | V95: 1 | AW95: 5D75F384848E485349B34C011DF8A75DAF23BC89E95BBD4BAD4D3B14F99038CF6765
A96: 보통인부 | B96: 일반공사 직종 | C96: 인 | D96: 0.16 | M96: 노임 1 | N96: 5D75F384848E485349B34C011DF8A7 | O96: 5DAF23BC89E95BBD4BAD4D3B14F99038CF6493 | P96: F | Q96: F | R96: T | V96: 1 | AW96: 5D75F384848E485349B34C011DF8A75DAF23BC89E95BBD4BAD4D3B14F99038CF6493
A97: 공구손료 | B97: 인력품의 2% | C97: 식 | D97: 1 | N97: 5D75F384848E485349B34C011DF8A7 | O97: 5C6EB3588D693AA74ACE47DB1986001 | P97: F | Q97: F | R97: F | S97: 1 | T97: 2 | U97: 0.02 | AW97: 5D75F384848E485349B34C011DF8A75C6EB3588D693AA74ACE47DB1986001
A98: [ 합 계 ] | N98: TOTAL | O98: TOTAL
A100: 붙박이가구 해체 3510*450*2700 개소 ( 호표 17 ) | N100: 5D75F384848E485349B34C011DFB63
A101: 내장공 | B101: 일반공사 직종 | C101: 인 | D101: 0.1 | M101: 노임 7 | N101: 5D75F384848E485349B34C011DFB63 | O101: 5DAF23BC89E95BBD4BAD4D3B14F99038CF6765 | P101: F | Q101: F | R101: T | V101: 1 | AW101: 5D75F384848E485349B34C011DFB635DAF23BC89E95BBD4BAD4D3B14F99038CF6765
A102: 보통인부 | B102: 일반공사 직종 | C102: 인 | D102: 0.05 | M102: 노임 1 | N102: 5D75F384848E485349B34C011DFB63 | O102: 5DAF23BC89E95BBD4BAD4D3B14F99038CF6493 | P102: F | Q102: F | R102: T | V102: 1 | AW102: 5D75F384848E485349B34C011DFB635DAF23BC89E95BBD4BAD4D3B14F99038CF6493
A103: 공구손료 | B103: 인력품의 2% | C103: 식 | D103: 1 | N103: 5D75F384848E485349B34C011DFB63 | O103: 5C6EB3588D693AA74ACE47DB1986001 | P103: F | Q103: F | R103: F | S103: 1 | T103: 2 | U103: 0.02 | AW103: 5D75F384848E485349B34C011DFB635C6EB3588D693AA74ACE47DB1986001
A104: [ 합 계 ] | N104: TOTAL | O104: TOTAL
A106: 의자 해체 7700*550*450 개소 ( 호표 18 ) | N106: 5D75F384848E485349B34C011DFA5D
A107: 내장공 | B107: 일반공사 직종 | C107: 인 | D107: 0.06 | M107: 노임 7 | N107: 5D75F384848E485349B34C011DFA5D | O107: 5DAF23BC89E95BBD4BAD4D3B14F99038CF6765 | P107: F | Q107: F | R107: T | V107: 1 | AW107: 5D75F384848E485349B34C011DFA5D5DAF23BC89E95BBD4BAD4D3B14F99038CF6765
A108: 보통인부 | B108: 일반공사 직종 | C108: 인 | D108: 0.04 | M108: 노임 1 | N108: 5D75F384848E485349B34C011DFA5D | O108: 5DAF23BC89E95BBD4BAD4D3B14F99038CF6493 | P108: F | Q108: F | R108: T | V108: 1 | AW108: 5D75F384848E485349B34C011DFA5D5DAF23BC89E95BBD4BAD4D3B14F99038CF6493
A109: 공구손료 | B109: 인력품의 2% | C109: 식 | D109: 1 | N109: 5D75F384848E485349B34C011DFA5D | O109: 5C6EB3588D693AA74ACE47DB1986001 | P109: F | Q109: F | R109: F | S109: 1 | T109: 2 | U109: 0.02 | AW109: 5D75F384848E485349B34C011DFA5D5C6EB3588D693AA74ACE47DB1986001
A110: [ 합 계 ] | N110: TOTAL | O110: TOTAL
A112: 의자 해체 3100*640*450 개소 ( 호표 19 ) | N112: 5D75F384848E485349B34C011DFA59
A113: 내장공 | B113: 일반공사 직종 | C113: 인 | D113: 0.024 | M113: 노임 7 | N113: 5D75F384848E485349B34C011DFA59 | O113: 5DAF23BC89E95BBD4BAD4D3B14F99038CF6765 | P113: F | Q113: F | R113: T | V113: 1 | AW113: 5D75F384848E485349B34C011DFA595DAF23BC89E95BBD4BAD4D3B14F99038CF6765
A114: 보통인부 | B114: 일반공사 직종 | C114: 인 | D114: 0.016 | M114: 노임 1 | N114: 5D75F384848E485349B34C011DFA59 | O114: 5DAF23BC89E95BBD4BAD4D3B14F99038CF6493 | P114: F | Q114: F | R114: T | V114: 1 | AW114: 5D75F384848E485349B34C011DFA595DAF23BC89E95BBD4BAD4D3B14F99038CF6493
A115: 공구손료 | B115: 인력품의 2% | C115: 식 | D115: 1 | N115: 5D75F384848E485349B34C011DFA59 | O115: 5C6EB3588D693AA74ACE47DB1986001 | P115: F | Q115: F | R115: F | S115: 1 | T115: 2 | U115: 0.02 | AW115: 5D75F384848E485349B34C011DFA595C6EB3588D693AA74ACE47DB1986001
A116: [ 합 계 ] | N116: TOTAL | O116: TOTAL
A118: 신발장 해체 1200*300*2400 개소 ( 호표 20 ) | N118: 5D75F384848E485349B34C011DFD11
A119: 내장공 | B119: 일반공사 직종 | C119: 인 | D119: 0.016 | M119: 노임 7 | N119: 5D75F384848E485349B34C011DFD11 | O119: 5DAF23BC89E95BBD4BAD4D3B14F99038CF6765 | P119: F | Q119: F | R119: T | V119: 1 | AW119: 5D75F384848E485349B34C011DFD115DAF23BC89E95BBD4BAD4D3B14F99038CF6765
...

Sheet  공사설정 
A1: 이 Sheet는 수정하지 마십시요
A2: 공사구분 | B2: A | C2: 타이틀
A3: 확정내역 | B3: 원내역
A4: 자재단가적용 | B4: 5
A5: 경비단가적용 | B5: 5
A6: 품목코드형식 | B6: XXXX-XXXX-XXXXXXXXX
A7: 내역금액소수점처리 | B7: C | C7: T
A8: 일위대가내역소수점처리 | B8: C | C8: 2
A9: 단가명 | B9: 조달청가격 | C9: 거래가격 | D9: 유통물가 | E9: 물가자료 | F9: 조사가격 | G9: TTTTT
A10: 환율 | B10: 1507 | C10: 0 | D10: 0
A11: 시간당작업량 | B11: R | C11: 4
A12: 1회 사이클시간 | B12: R | C12: 4
A13: 시간당 작업사이클 | B13: R | C13: 3
A14: 일반변수 | B14: R | C14: 5
A15: 시간당 노임산출 계수 | B15: A | C15: 1/8*16/12*25/20 | D15: 1/8*16/12*25/20 | E15: 1/8*16/12*25/20 | F15: 1
A16: 재료비 할증 계수 | B16: 1.11 | C16: 1.12
A17: 노무비 할증 계수 | B17: 1 | C17: 1.5 | D17: 1.16 | E17: 1.6 | F17: 1.6 | G17: 1.6 | H17: 1.94 | I17: 1.94 | J17: 1.94 | K17: 1 | L17: 1 | M17: 1
A18: 경비 할증 계수 | B18: 1.25 | C18: 1.071
A19: 내역,일위대가 품명,규격,단위 따로적용
A20: 내역단가 소수점처리 | B20: C | C20: 1
A21: 코드 | B21: 공종구분명 | C21: 원가비목코드
A22: 1 | B22: 작 업 부 산 물 | C22: A3
A23: 2 | B23: 운 반 비 | C23: C1
A24: 3 | B24: 관 급 자 재 비 | C24: DJ
A25: 4 | B25: 사 급 자 재 비 | C25: D3
A26: 5 | B26: 외 자 재
A27: 6 | B27: 폐기물처리비
A28: 7 | B28: 건설폐기물상차비 | C28: D4
A29: 8 | B29: 건설폐기물처리비 | C29: D5
A30: 9 | B30: 안 전 관 리 비 | C30: CE
A31: A | B31: 품 질 관 리 비 | C31: CF
A32: B | B32: 관급자재비 -관급자 | C32: DK
A33: C | B33: 관급자재비 -도급자 | C33: DL
A34: D | B34: 동 영 상 촬 영 비 | C34: CC
A35: E | B35: ....
A36: F | B36: ....
A37: G | B37: ....
A38: H | B38: ....
A39: I | B39: ....
A40: J | B40: ....
A43: 단가 순서 | B43: 1234

Sheet Sheet1
