Workbook

Sheet 내역서
B1: 내 역 서
A2: 건명 : 청주공공하수처리시설 소수력발전설비 오버홀 수선
A3: 연 번 | B3: 품 명 | C3: 규 격 | D3: 수량 | E3: 단위 | F3: 재 료 비 | H3: 노 무 비 | J3: 경 비 | L3: 합 계 | M3: 비 고
F4: 단 가 | G4: 금 액 | H4: 단 가 | I4: 금 액 | J4: 단 가 | K4: 금 액
A5: 1 | B5: 수력 발전설비 분해 및 수리 | G5: =SUM(G6:G21) -> 0 | I5: =SUM(I6:I21) -> 0 | K5: =SUM(K6:K21) -> 0 | L5: =SUM(G5,I5,K5) -> 0
B6: Bearing | C6: NU224 | D6: 1 | E6: EA | F6: =적용단가!G5 -> 0 | G6: =D6*F6 -> 0
B7: Bearing | C7: 29326 | D7: 1 | E7: EA | F7: =적용단가!G6 -> 0 | G7: =D7*F7 -> 0
B8: Bearing | C8: 32926 | D8: 1 | E8: EA | F8: =적용단가!G7 -> 0 | G8: =D8*F8 -> 0
B9: Power Lock | C9: 100*145*45 | D9: 2 | E9: EA | F9: =적용단가!G8 -> 0 | G9: =D9*F9 -> 0
B10: Mechnical Seal | C10: Φ40, Φ120 | D10: 1 | E10: EA | F10: =적용단가!G9 -> 0 | G10: =D10*F10 -> 0
B11: Rip Seal | C11: 150*180*13 | D11: 1 | E11: EA | F11: =적용단가!G10 -> 0 | G11: =D11*F11 -> 0
B12: Stator 수리 | D12: 1 | E12: EA | F12: =적용단가!G11 -> 0 | G12: =D12*F12 -> 0
B13: Rotor 수리 | D13: 1 | E13: EA | F13: =적용단가!G12 -> 0 | G13: =D13*F13 -> 0
B14: Runner Control 감속기, 모터 | D14: 1 | E14: EA | F14: =적용단가!G13 -> 0 | G14: =D14*F14 -> 0
B15: Oil | D15: 50 | E15: L | F15: =적용단가!G14 -> 0 | G15: =D15*F15 -> 0
B16: 센서, 볼트, 패킹 및 그리스 | D16: 1 | E16: 식 | F16: =적용단가!G15 -> 0 | G16: =D16*F16 -> 0
B17: 수력발전설비 수리 | D17: 40 | E17: M/D | H17: =적용단가!G16 -> 0 | I17: =H17*D17 -> 0
B18: 공장 시험 | D18: 2 | E18: M/D | H18: =적용단가!G17 -> 0 | I18: =H18*D18 -> 0
B19: 설치 및 시운전 | D19: 1 | E19: 식 | H19: =적용단가!G18 -> 0 | I19: =H19*D19 -> 0
B20: 장비대 | C20: 25ton 크레인 | D20: 2 | E20: 회 | J20: =적용단가!G19 -> 0 | K20: =J20*D20 -> 0
B21: 운임비 | C21: 5ton | D21: 2 | E21: 회 | J21: =적용단가!G20 -> 0 | K21: =J21*D21 -> 0
A22: 2 | B22: 일반관리비 | C22: (재료비 + 노무비 + 경비) * 7% | D22: 1 | E22: 식 | J22: =L5*7% -> 0 | K22: =J22*D22 -> 0 | L22: =G22+I22+K22 -> 0
A23: 3 | B23: 이윤 | C23: (노무비 + 경비 + 일반관리비) * 13.5% | D23: 1 | E23: 식 | J23: =(I5+K5+L22)*13.5% -> 0 | K23: =J23*D23 -> 0 | L23: =G23+I23+K23 -> 0
A24: 4 | B24: 공급가액 | G24: =SUM(G5,G22:G23) -> 0 | I24: =SUM(I5,I22:I23) -> 0 | K24: =SUM(K5,K22:K23) -> 0 | L24: =SUM(G24,I24,K24) -> 0
A25: 5 | B25: 부가가치세 | C25: 공급가액 * 10% | L25: =L24*10% -> 0
A26: 6 | B26: 합 계 | L26: =TRUNC(SUM(L24:L25),-4) -> 0

Sheet 적용단가
A1: 적 용 단 가
A2: =내역서!A2 -> 건명 : 청주공공하수처리시설 소수력발전설비 오버홀 수선
A3: 품 명 | B3: 규 격 | C3: 단위 | D3: 물가정보 | F3: 일위대가 | G3: 적용단가 | H3: 비 고
D4: 단 가 | E4: 페이지 | F4: 단 가
A5: Bearing | B5: NU224 | C5: EA
A6: Bearing | B6: 29326 | C6: EA
A7: Bearing | B7: 32926 | C7: EA
A8: Power Lock | B8: 100*145*45 | C8: EA
A9: Mechnical Seal | B9: Φ40, Φ120 | C9: EA
A10: Rip Seal | B10: 150*180*13 | C10: EA
A11: Stator 수리 | C11: EA
A12: Rotor 수리 | C12: EA
A13: Runner Control 감속기, 모터 | C13: EA
A14: Oil | C14: L
A15: 센서, 볼트, 패킹 및 그리스 | C15: 식
A16: 수력발전설비 수리 | C16: M/D
A17: 공장 시험 | C17: M/D
A18: 설치 및 시운전 | C18: 식 | F18: 6086552
A19: 장비대 | B19: 25ton 크레인 | C19: 회
A20: 운임비 | B20: 5ton | C20: 회
