Workbook
Name _______________D1: #REF!
Name ______________CDT2: #REF!
Name ______________D1: #REF!
Name _____________AA158221: #REF!
Name _____________CDT2: #REF!
Name _____________D1: #REF!
Name _____________DOG1: #REF!
Name _____________DOG2: #REF!
Name _____________DOG3: #REF!
Name _____________DOG4: #REF!
Name _____________PI48: #REF!
Name _____________PI60: #REF!
Name _____________RO110: #REF!
Name _____________RO22: #REF!
Name _____________RO35: #REF!
Name _____________RO60: #REF!
Name _____________RO80: #REF!
Name _____________STS316: #REF!
Name _____________TON1: #REF!
Name _____________TON2: #REF!
Name _____________WW2: #REF!
Name _____________WW6: #REF!
Name _____________YO1: #N/A
Name ____________AA158221: #REF!
Name ____________CDT2: #REF!
Name ____________D1: #REF!
Name ____________DOG1: #REF!
Name ____________DOG2: #REF!
Name ____________DOG3: #REF!
Name ____________DOG4: #REF!
Name ____________PI48: #REF!
Name ____________PI60: #REF!
Name ____________RO110: #REF!
Name ____________RO22: #REF!
Name ____________RO35: #REF!
Name ____________RO60: #REF!
Name ____________RO80: #REF!
Name ____________STS316: #REF!
Name ____________TON1: #REF!
Name ____________TON2: #REF!
Name ____________WW2: #REF!
Name ____________WW6: #REF!
Name ____________YO1: #N/A
Name ___________AA158221: #REF!
Name ___________CDT2: #REF!
Name ___________D1: #REF!
Name ___________DOG1: #REF!
Name ___________DOG2: #REF!
Name ___________DOG3: #REF!
Name ___________DOG4: #REF!
Name ___________PI48: #REF!
Name ___________PI60: #REF!
Name ___________RO110: #REF!
Name ___________RO22: #REF!
Name ___________RO35: #REF!
Name ___________RO60: #REF!
Name ___________RO80: #REF!
Name ___________STS316: #REF!
Name ___________TON1: #REF!
Name ___________TON2: #REF!

Sheet 표지
B2: 2026년도
A7: =갑지!A10 -> 청주공공하수처리시설 유입펌프 5~7호기 수선공사
G10: 환경관리본부
G11: 하 수 처 리 과

Sheet 설명서
A1: 설 계 설 명 서
A3: 1. 사 업 명 | B3: =갑지!A10 -> 청주공공하수처리시설 유입펌프 5~7호기 수선공사
A7: 2. 사 업 위 치 | B7: =갑지!D13 -> 충청북도 청주시 흥덕구 옥산면 미호로 555
A11: 3. 사 업 목 적 | B11: 청주공공하수처리시설 유입펌프동 내 유입펌프 5~7호기의 소음·진동이 발생하는 등 펌프 성능이 저하되어,
B12: 베어링 등 소모품 교체 및 수선을 통해 안정적이고 효율적인 하수처리를 도모하고자 함.
A16: 4. 사 업 개 요 | B16: 유입펌프(3960㎥/hr×13mH, 220kw, 3300V) 3대 수선
A20: 5. 사 업 기 간 | B20: 착공일로 부터 90일 내에 준공

Sheet 갑지
A1: 설 계 년 월 일 | E1: 설 계 | H1: 심 사 | K1: 팀 장 | N1: 과 장 | Q1: 본 부 장
A2: 2026년 8월 | N2: 전 결
B8: 2026년도
A10: 청주공공하수처리시설 유입펌프 5~7호기 수선공사
B13: 사 업 위 치 : | D13: 충청북도 청주시 흥덕구 옥산면 미호로 555
B14: 사업개요 : | D14: 유입펌프(3960㎥/hr×13mH, 220kw, 3300V) 3대 수선
B19: 총 액: | D19: =D20 -> 4260732 | K19: =D19 -> 4260732
B20: 도 급 액: | D20: =원가계산서!E26 -> 4260732 | K20: =D20 -> 4260732

Sheet 원가계산서
B1: 공 사 원 가 계 산 서
B2: [청주공공하수처리시설 유입펌프 5~7호기 수선공사]
B3: 비 목 | E3: 금 액 | F3: 구 성 비 | G3: 비 고
A4: A1 | B4: 순 공 사 원 가 | C4: 재 료 비 | D4: 직 접 재 료 비 | E4: =TRUNC(공종별집계표!F5, 0) -> 0
A5: A2 | D5: 간 접 재 료 비 | E5: 0
A6: AS | D6: [ 소 계 ] | E6: =TRUNC(E4+E5, 0) -> 0
A7: B1 | C7: 노 무 비 | D7: 직 접 노 무 비 | E7: =TRUNC(공종별집계표!H5, 0) -> 0
A8: B2 | D8: 간 접 노 무 비 | E8: =TRUNC(E7*19.1%, 0) -> 0 | F8: 직접노무비 * 19.1%
A9: BS | D9: [ 소 계 ] | E9: =TRUNC(E7+E8, 0) -> 0
A10: C2 | C10: 경 비 | D10: 기 계 경 비 | E10: =TRUNC(공종별집계표!J5, 0) -> 0
A11: C4 | D11: 산 재 보 험 료 | E11: =TRUNC(E9*3.56%, 0) -> 0 | F11: 노무비 * 3.56%
A12: C5 | D12: 고 용 보 험 료 | E12: =TRUNC(E9*1.01%, 0) -> 0 | F12: 노무비 * 1.01%
A13: C6 | D13: 국민 건강 보험료 | E13: 730755 | F13: 직접노무비 * 3.595% | G13: 고정
A14: C7 | D14: 국민 연금 보험료 | E14: 965532 | F14: 직접노무비 * 4.75% | G14: 고정
A15: CB | D15: 노인장기요양보험료 | E15: 96021 | F15: 건강보험료 * 13.14% | G15: 고정
A16: CA | D16: 산업안전보건관리비 | E16: 1326370 | F16: (재료비+직노) * 3.15% | G16: 고정
A17: CG | D17: 기 타 경 비 | E17: =TRUNC((E6+E9)*5.5%, 0) -> 0 | F17: (재료비+노무비) * 5.5%
D18: 석 면 분 담 금 | E18: =TRUNC(E9*0.006%, 0) -> 0 | F18: 노무비 * 0.006%
D19: 임 금 채 권 부 담 금 | E19: =TRUNC(E9*0.009%, 0) -> 0 | F19: 노무비 * 0.09%
A20: CS | D20: [ 소 계 ] | E20: =TRUNC(SUM(E10:E19), 0) -> 3118678
A21: S1 | B21: 계 | E21: =TRUNC(E6+E9+E20, 0) -> 3118678
A22: D1 | B22: 일 반 관 리 비 | E22: =TRUNC(E21*8%, 0) -> 249494 | F22: 계 * 8%
A23: D2 | B23: 이 윤 | E23: =TRUNC((E9+E20+E22)*15%, 0)-4/1.1 -> 505221.36 | F23: (노무비+경비+일반관리비) * 15%이하
A24: D9 | B24: 공 급 가 액 | E24: =TRUNC(E21+E22+E23, 0) -> 3873393
A25: DB | B25: 부 가 가 치 세 | E25: =TRUNC(E24*0.1, 0) -> 387339 | F25: 공급가액 * 10%
A26: DH | B26: 도 급 액 | E26: =TRUNC(E24+E25, 0) -> 4260732
A27: S2 | B27: 총 공 사 비 | E27: =TRUNC(E26+0, 0) -> 4260732

Sheet 공종별집계표
A1: 공 종 별 집 계 표
A2: [청주공공하수처리시설 유입펌프 5~7호기 수선공사]
A3: 품 명 | B3: 규 격 | C3: 단위 | D3: 수량 | E3: 재 료 비 | G3: 노 무 비 | I3: 경 비 | K3: 합 계 | M3: 비 고 | N3: 공종코드 | O3: 변수 | P3: 상위공종 | Q3: 공종구분 | R3: 공종레벨 | S3: 공종소계 | T3: 원가계산서 연결금액
E4: 단 가 | F4: 금 액 | G4: 단 가 | H4: 금 액 | I4: 단 가 | J4: 금 액 | K4: 단 가 | L4: 금 액
A5: 01 청주공공하수처리시설 유입동 유입펌프 5~7호기 수선 | C5: 식 | D5: 1 | E5: =F6 -> 0 | F5: =E5*D5 -> 0 | G5: =H6 -> 0 | H5: =G5*D5 -> 0 | I5: =J6 -> 0 | J5: =I5*D5 -> 0 | K5: =E5+G5+I5 -> 0 | L5: =F5+H5+J5 -> 0 | N5: 01 | R5: 1
A6: 0101 침사인양기 부품 교체 | C6: 식 | D6: 1 | E6: =공종별내역서!F25 -> 0 | F6: =E6*D6 -> 0 | G6: =공종별내역서!H25 -> 0 | H6: =G6*D6 -> 0 | I6: =공종별내역서!J25 -> 0 | J6: =I6*D6 -> 0 | K6: =E6+G6+I6 -> 0 | L6: =F6+H6+J6 -> 0 | N6: 0101 | P6: 01 | R6: 2
A26: [ 합 계 ] | F26: =F5 -> 0 | H26: =H5 -> 0 | J26: =J5 -> 0 | L26: =L5 -> 0

Sheet 공종별내역서
A1: [청주공공하수처리시설 유입펌프 5~7호기 수선공사]
A2: 품 명 | B2: 규 격 | C2: 단위 | D2: 수량 | E2: 재 료 비 | G2: 노 무 비 | I2: 경 비 | K2: 합 계 | M2: 비 고 | N2: 품목코드 | O2: 변수 | P2: 설정 | Q2: 공종코드 | R2: 일위 | S2: 단산 | T2: 자재 | U2: 손료적용 | V2: 손료저장 | W2: 적용율 | X2: JUK1 | Y2: JUK2 | Z2: JUK3 | AA2: JUK4 | AB2: JUK5 | AC2: JUK6 | AD2: JUK7 | AE2: JUK8 | AF2: JUK9 | AG2: JUK10 | AH2: JUK11 | AI2: JUK12 | AJ2: JUK13 | AK2: JUK14 | AL2: JUK15 | AM2: JUK16 | AN2: JUK17 | AO2: JUK18 | AP2: JUK19 | AQ2: JUK20 | AR2: 자재구분 | AS2: 공종구분 | AT2: 공종레벨 | AU2: 공종+자재 | AV2: 고유번호
E3: 단 가 | F3: 금 액 | G3: 단 가 | H3: 금 액 | I3: 단 가 | J3: 금 액 | K3: 단 가 | L3: 금 액
A4: 0101 유입동 유입펌프 수선 | Q4: 0101
A5: 베어링 | B5: #NU316UMCM, NSK, 황동망 | C5: EA | D5: 3 | F5: =TRUNC(E5*D5, 0) -> 0 | H5: =TRUNC(G5*D5, 0) -> 0 | J5: =TRUNC(I5*D5, 0) -> 0 | K5: =TRUNC(E5+G5+I5, 0) -> 0 | L5: =TRUNC(F5+H5+J5, 0) -> 0 | N5: 544A33D4037B9B3BE7E28218BA21B87EE3AD28E6 | Q5: 0101 | R5: F | S5: F | T5: T | AU5: 0101544A33D4037B9B3BE7E28218BA21B87EE3AD28E6 | AV5: 3
A6: 베어링 | B6: #7320BDB CN급, 황동망 NSK | C6: EA | D6: 3 | F6: =TRUNC(E6*D6, 0) -> 0 | H6: =TRUNC(G6*D6, 0) -> 0 | J6: =TRUNC(I6*D6, 0) -> 0 | K6: =TRUNC(E6+G6+I6, 0) -> 0 | L6: =TRUNC(F6+H6+J6, 0) -> 0 | N6: 544A33D4037B9B3BE7E28218BA21B87EE3AD28E5 | Q6: 0101 | R6: F | S6: F | T6: T | AU6: 0101544A33D4037B9B3BE7E28218BA21B87EE3AD28E5 | AV6: 4
A7: 베어링 | B7: #6220 MC3, 황동망 NSK | C7: EA | D7: 3 | F7: =TRUNC(E7*D7, 0) -> 0 | H7: =TRUNC(G7*D7, 0) -> 0 | J7: =TRUNC(I7*D7, 0) -> 0 | K7: =TRUNC(E7+G7+I7, 0) -> 0 | L7: =TRUNC(F7+H7+J7, 0) -> 0 | N7: 544A33D4037B9B3BE7E28218BA21B87EE3AD28E4 | Q7: 0101 | R7: F | S7: F | T7: T | AU7: 0101544A33D4037B9B3BE7E28218BA21B87EE3AD28E4 | AV7: 9
A8: 메커니컬씰 | B8: MD-90 | C8: EA | D8: 3 | F8: =TRUNC(E8*D8, 0) -> 0 | K8: =TRUNC(E8+G8+I8, 0) -> 0 | L8: =TRUNC(F8+H8+J8, 0) -> 0
A9: 인양와이어 | B9: STD1064, Rew.0 | C9: 식 | D9: 3 | F9: =TRUNC(E9*D9, 0) -> 0 | K9: =TRUNC(E9+G9+I9, 0) -> 0 | L9: =TRUNC(F9+H9+J9, 0) -> 0
A10: 권선절연보강 | B10: 200kw | C10: 식 | D10: 3 | F10: =TRUNC(E10*D10, 0) -> 0 | K10: =TRUNC(E10+G10+I10, 0) -> 0 | L10: =TRUNC(F10+H10+J10, 0) -> 0
A11: 축수정 | B11: M/S부, 레이져용접+ 가공+도금+연마 | C11: 식 | D11: 3 | F11: =TRUNC(E11*D11, 0) -> 0 | K11: =TRUNC(E11+G11+I11, 0) -> 0 | L11: =TRUNC(F11+H11+J11, 0) -> 0
A12: 펌프 철거 | B12: 재사용고려 40% | C12: 대 | D12: 3 | F12: =TRUNC(E12*D12, 0) -> 0 | H12: =TRUNC(G12*D12, 0) -> 0 | J12: =TRUNC(I12*D12, 0) -> 0 | K12: =TRUNC(E12+G12+I12, 0) -> 0 | L12: =TRUNC(F12+H12+J12, 0) -> 0 | N12: 544A33D4037B9B3BE7E2821941F3D69A2B48C1B2 | Q12: 0101 | R12: T | S12: F | T12: F | AU12: 0101544A33D4037B9B3BE7E2821941F3D69A2B48C1B2 | AV12: 5
A13: 펌프 설치 | B13: 3,960㎥/hr×13mH, 200kw, 3300V | C13: 대 | D13: 3 | F13: =TRUNC(E13*D13, 0) -> 0 | H13: =TRUNC(G13*D13, 0) -> 0 | J13: =TRUNC(I13*D13, 0) -> 0 | K13: =TRUNC(E13+G13+I13, 0) -> 0 | L13: =TRUNC(F13+H13+J13, 0) -> 0 | N13: 544A33D4037B9B3BE7E2821941F3D69A2B48C1B1 | Q13: 0101 | R13: T | S13: F | T13: F | AU13: 0101544A33D4037B9B3BE7E2821941F3D69A2B48C1B1 | AV13: 6
Q14: 0101
Q15: 0101
Q16: 0101
Q17: 0101
Q18: 0101
Q19: 0101
Q20: 0101
Q21: 0101
Q22: 0101
Q23: 0101
Q24: 0101
A25: [ 합 계 ] | F25: =SUM(F5:F24) -> 0 | H25: =SUM(H5:H24) -> 0 | J25: =SUMIF(Q5:Q24,"0101",J5:J24) -> 0 | L25: =SUM(L5:L24) -> 0 | N25: TOTAL

Sheet  공사설정 
A1: 이 Sheet는 수정하지 마십시요
A2: 공사구분 | B2: C | C2: 타이틀
A3: 확정내역 | B3: 원내역
A4: 자재단가적용 | B4: 5
A5: 경비단가적용 | B5: 5
A6: 품목코드형식 | B6: XXXX-XXXX-XXXXXXXXX
A7: 내역금액소수점처리 | B7: C | C7: 1
A8: 일위대가내역소수점처리 | B8: C | C8: 2
A9: 단가명 | B9: 조달청가격 | C9: 거래가격 | D9: 유통물가 | E9: 조사가격1 | F9: 조사가격2 | G9: TTTTT
A10: 환율 | B10: 1466 | C10: 0 | D10: 0
A11: 시간당작업량 | B11: R | C11: 4
A12: 1회 사이클시간 | B12: R | C12: 4
A13: 시간당 작업사이클 | B13: R | C13: 3
A14: 일반변수 | B14: R | C14: 5
A15: 시간당 노임산출 계수 | B15: A | C15: 1/8*16/12*25/20 | D15: 1/8*16/12*25/20 | E15: 1/8*16/12*25/20 | F15: 1
A16: 재료비 할증 계수 | B16: 1.11 | C16: 1.12
A17: 노무비 할증 계수 | B17: 1 | C17: 1.5 | D17: 1.16 | E17: 1.6 | F17: 1.6 | G17: 1.6 | H17: 1.94 | I17: 1.94 | J17: 1.94 | K17: 1 | L17: 1 | M17: 1
A18: 경비 할증 계수 | B18: 1.25 | C18: 1.071
A19: 내역,일위대가 품명,규격,단위 따로적용
A20: 내역단가 소수점처리 | B20: C | C20: 1
A21: 코드 | B21: 공종구분명 | C21: 원가비목코드
A22: 1 | B22: 작 업 부 산 물 | C22: A3
A23: 2 | B23: 운 반 비 | C23: C1
A24: 3 | B24: 관 급 자 재 비 | C24: DJ
A25: 4 | B25: 사 급 자 재 비 | C25: D3
A26: 5 | B26: 외 자 재
A27: 6 | B27: 폐기물처리비
A28: 7 | B28: ...
A29: 8 | B29: ...
A30: 9 | B30: ...
A31: A | B31: ....
A32: B | B32: .....
A33: C | B33: ....
A34: D | B34: ....
A35: E | B35: ....
A36: F | B36: ....
A37: G | B37: ....
A38: H | B38: ....
A39: I | B39: ....
A40: J | B40: ....
...
