Workbook

Sheet 표지
B2: 황새로(누읍동 124-4번지 일원) 도로 재포장 공사
B3: 폐기물설계서
A7: 2026. 7.
A11: 오 산 시

Sheet 설계설명서
A1: 설 계 설 명 서
A3: 1. 공 사 명 : | D3: =표지!B2&" 폐기물처리용역" -> 황새로(누읍동 124-4번지 일원) 도로 재포장 공사 폐기물처리용역
A5: 2. 위 치 : | D5: 누읍동 124-4 일원
A7: 3. 공 사 목 적
B9: 본 과업은 노후된 도로노면을 보수하여, 통행차량의 안전운행을 도모하고 쾌적한 도로환경을 조성하는 데 그 목적이 있다.
A11: 4. 공 사 개 요
B13: 폐콘크리트 :
B14: =갑지!D13 -> - 폐콘크리트 : | E14: =갑지!H13 -> 3
B15: =갑지!D14 -> - 폐아스콘 : | E15: =갑지!H14 -> 960
B16: =갑지!D15 -> - 건설폐재류 : | E16: =갑지!H15 -> 0
A18: 5. 공 사 기 간
B19: 착공일로부터 28일 간으로 한다.
A21: 6. 예 정 공 정 표
B22: 구 분 | D22: 보 할 ( % ) | F22: 기 간 | R22: 비 고
F23: 10 | J23: 20 | N23: 28
B24: 수 집 | D24: 30 | F24: 10 | J24: 10 | N24: 10
B26: 운 반 | D26: 25 | J26: 12.5 | N26: 12.5
B28: 처 리 | D28: 45 | J28: 22.5 | N28: 22.5
B30: 계 | D30: =SUM(D24:E28) -> 100 | F30: =F24+F26+F28 -> 10 | J30: =J24+J26+J28 -> 45 | N30: =N24+N26+N28 -> 45
B31: 누 계 | F31: 10 | J31: =F31+J30 -> 55 | N31: =J31+N30 -> 100

Sheet 폐기물시방서
A1: 건설폐기물 처리 시방서
A5: 1. 용어의 정의(폐기물관리법 제 2조)
A7: ① 폐기물 - 사람의 생활이나 사업활동에 필요하지 아니하게 된 물질
A8: ② 생활폐기물 - 사업장폐기물 외의 폐기물
A9: ③ 사업장폐기물 - 배출시설을 설치 운영하는 사업장, 기타 대통령이 정하는 사업장에서 발생하는 폐기물(건설폐기물 해당)
A10: ④ 지정폐기물 - 사업장폐기물중 주변환경을 오염시킬 수 있거나, 인체에 유해한 물질로서 대통령령이 정하는 폐기물
A11: ⑤ 감염성 폐기물 - 지정폐기물중 인체조직, 적축물등 의료기관이나 시험, 검사기관등에서 배출되는 위해를 줄 수 있는 물질로서 대통령이 정하는 폐기물
A12: ⑥ 처리 - 폐기물의 연소, 파쇄등에 의한 중간처리와 매립, 해역배출등에 의한 최종처리
A13: ⑦ 재활용 - 폐기물을 재상용, 재생이용하거나 재사용, 재생이용할 수 있는 상태로 만되는 활동
A14: ⑧ 폐기물처리시설 - 폐기물의 중간처리시설과 최종처리시설로서 대통령이 정하는 시설
A16: 2. 사업장의 범위(시행령 제 2조 : 대통령이 정하는 사업장)
A18: ① 지정폐기물을 배출하는 사업장
... A127: 10. 건설폐재 용도별 규격등(환경부고시제 1997-12호, 제7호관련)

Sheet 갑지
A1: 2026년 7월 일 설계 | I1: 설 계 자 | O1: 심 사 자 | U1: 팀 장 | AA1: 과 장
A3: 2026년도
C5: 황새로(누읍동 124-4번지 일원) 도로 재포장 공사
C7: 폐기물처리
C11: ※ 사 업 개 요
D13: - 폐콘크리트 : | H13: =폐기물내역!D6 -> 3
D14: - 폐아스콘 : | H14: =폐기물내역!D7 -> 960
D15: - 건설폐재류 : | H15: =폐기물내역!D8 -> 0
B19: ◎ | C19: 총 공 사 비 | H19: : | I19: =IF(W19="","","일 금") -> 일 금 | K19: =W19 -> 28028000 | S19: =IF(W19="","","원 정") -> 원 정 | V19: ( | W19: =폐기물내역!E17 -> 28028000 | AB19: )
I27: 총공사비 | K27: 0
I28: 도급공사비 | K28: 0
I29: 관급자재비 | K29: #N/A | L29: =ISERROR(K29) -> TRUE

Sheet 폐기물내역
A1: 폐 기 물 내 역 서
A3: 공 종 | B3: 규 격 | C3: 단 위 | D3: 수 량 | E3: 총 금 액 | F3: 노 무 비 | H3: 재 료 비 | J3: 경 비 | L3: 비 고
F4: 단 가 | G4: 금 액 | H4: 단 가 | I4: 금 액 | J4: 단 가 | K4: 금 액
A5: 1. 폐기물처리비 | E5: =SUM(E6:E8) -> 16845000 | K5: =SUM(K6:K8) -> 16845000
B6: 폐콘크리트 | C6: ton | D6: 3 | E6: =K6 -> 45000 | J6: 15000 | K6: =ROUNDDOWN(D6*J6,0) -> 45000
B7: 폐아스콘 | C7: ton | D7: 960 | E7: =K7 -> 16800000 | J7: 17500 | K7: =ROUNDDOWN(D7*J7,0) -> 16800000
B8: 건설폐재류 | C8: ton | E8: =K8 -> 0 | J8: 25000 | K8: =ROUNDDOWN(D8*J8,0) -> 0
A10: 2. 폐기물운반비 | E10: =SUM(E11:E11) -> 8636855 | G10: =SUM(G11:G11) -> 5356650 | I10: =SUM(I11:I11) -> 2004080 | K10: =SUM(K11:K11) -> 1276125
B11: 5 | C11: m3 | D11: 410 | E11: =G11+I11+K11 -> 8636855 | F11: =단가산출!AO32*IF(L11="야간",1.875,1) -> 13065 | G11: =F11*D11 -> 5356650 | H11: =단가산출!AP32 -> 4888 | I11: =H11*D11 -> 2004080 | J11: =단가산출!AQ32*IF(L11="야간",1.25,1) -> 3112.5 | K11: =J11*D11 -> 1276125 | L11: 야간
A13: 공 급 가 액 | E13: =ROUNDDOWN((E5+E10),-4) -> 25480000
A14: 3. 부 가 가 치 세 | B14: 10 % | C14: 식 | D14: 1 | E14: =ROUNDDOWN(E13*0.1,0) -> 2548000
A15: 소 계 | E15: =E13+E14 -> 28028000
A17: 총 공 사 비 | E17: =E15 -> 28028000

Sheet 단가산출
A1: NO | C1: 1 | F1: 공 종 | J1: 폐기물 운반 | AB1: 단 위 | AG1: ￦/㎥ | AN1: 비 고
F2: ITEM | AB2: UNIT | AN2: REMARK
A4: 세 목 | AN4: 계 | AO4: 노 무 비 | AP4: 재 료 비 | AQ4: 경 비
A5: D E T A I L S | AN5: TOTAL | AO5: LABOUR | AP5: MATERIALS | AQ5: EQUIPMENT
B6: 1. 상차-굴삭기
D7: q = | F7: 0.6 | H7: ㎥ | K7: K = | M7: 0.55 | S7: E = | U7: 0.6
D8: Cm = | F8: 18 | H8: sec | L8: f = | M8: 1 | N8: / | O8: 1.3 | Q8: = | R8: =1/O8 -> 0.76923077
B11: 2. 운반 (15Ton. D.T)
C12: L = | E12: =폐기물내역!B11 -> 5 | G12: Km | K12: f = | M12: =R8 -> 0.76923077 | Q12: E = | S12: 0.9
C13: q = | E13: 15 | G13: / | H13: 2.3 | J13: × | K13: 1.3 | M13: = | N13: =ROUND(E13/H13*K13,2) -> 8.48
C14: n = | E14: =N13 -> 8.48 | H14: / ( | I14: 0.6 | K14: × | L14: =M7 -> 0.55 | N14: )= | O14: =E14/(I14*L14) -> 25.69697
C15: t1 = ( | E15: =F8 -> 18 | G15: * | H15: =O14 -> 25.69697 | K15: )/( | L15: 60 | O15: × | P15: =U7 -> 0.6 | S15: ) = | T15: =(E15*H15)/(L15*P15) -> 12.848485 | AC15: t3= | AE15: 0.8
C16: t2= | E16: ( | F16: =E12 -> 5 | H16: / | I16: 20 | K16: + | L16: =E12 -> 5 | N16: / | O16: 25 | Q16: ) | R16: × | S16: 60 | U16: = | V16: =ROUND((F16/I16+L16/O16)*S16,2) -> 27 | Z16: t4= | AB16: 0.42 | AE16: t5= | AG16: 0.5
C17: cm= | E17: =T15 -> 12.848485 | H17: + | I17: =V16 -> 27 | K17: + | L17: =AE15 -> 0.8 | N17: + | O17: =AB16 -> 0.42 | R17: + | S17: =AG16 -> 0.5 | V17: = | W17: =E17+I17+L17+O17+S17 -> 41.568485
C18: Q = | E18: 60 | G18: × | H18: =N13 -> 8.48 | K18: × | L18: =M12 -> 0.76923077 | N18: × | O18: =S12 -> 0.9 | Q18: / | R18: =W17 -> 41.568485 | U18: = | V18: =ROUND(E18*H18*L18*O18/R18,2) -> 8.47 | Y18: m3/hr
D19: 노 무 비 : | H19: =기계경비!AA5 -> 59020 | L19: / | M19: =V18 -> 8.47 | P19: = | AO19: =TRUNC(H19/M19) -> 6968
D20: 재 료 비 : | H20: =기계경비!Z5 -> 41404 | L20: / | M20: =V18 -> 8.47 | P20: = | AP20: =TRUNC(H20/M20) -> 4888
D21: 경 비 : | H21: =기계경비!AB5 -> 21098 | L21: / | M21: =V18 -> 8.47 | P21: = | AN21: =AO19+AP20+AQ21 -> 14346 | AQ21: =TRUNC(H21/M21) -> 2490
A32: 계 | AN32: =AO32+AP32+AQ32 -> 14346 | AO32: =SUM(AO11:AO31) -> 6968 | AP32: =SUM(AP11:AP31) -> 4888 | AQ32: =SUM(AQ11:AQ31) -> 2490

Sheet 기계경비
A1: 기계경비
A4: 명 칭 | B4: 규 격 | C4: 산 출 근 거 | Y4: 합 계 | Z4: 재료비 | AA4: 노무비 | AB4: 경 비 | AC4: 비 고
A5: 1. 덤프트럭(자동덮개) | B5: 15Ton | Y5: =TEXT(AA5+Z5+AB5,"#,##0") -> 121,522 | Z5: =TRUNC(Z6+Z7+Z8+Z9+Z10) -> 41404 | AA5: =TRUNC(AA6+AA7+AA8+AA9+AA10) -> 59020 | AB5: =TRUNC(AB6+AB7+AB8+AB9+AB10) -> 21098
A6: 손 료 | C6: 90653000 | H6: ￦× | J6: 2279 | M6: × | N6: 10(-7) | AB6: =TRUNC(C6*J6*0.0000001,1) -> 20659.8
A7: 덮개손료 | C7: 1634000 | H7: ￦× | J7: 2684 | M7: × | N7: 10(-7) | AB7: =TRUNC(C7*J7*0.0000001,1) -> 438.5
A8: 주연료 | B8: 경유 | C8: 15.9 | G8: ℓ | H8: × | I8: 1887 | Z8: =TRUNC(C8*I8,1) -> 30003.3
A9: 잡 품 | B9: 주연료의 | C9: 38 | G9: % | H9: × | I9: =Z8 -> 30003.3 | Z9: =TRUNC(C9/100*I9,1) -> 11401.2
A10: 건설기계운전사 | C10: 1 | F10: 인 | G10: × | H10: 283297 | L10: × | M10: 1/8*16/12*25/20 | AA10: =TRUNC(C10*H10/8*16/12*25/20) -> 59020

Sheet 폐기물처리단가
A2: 견적 단가
