Workbook

Sheet 원가계산서(본공사)
A1: 공 사 원 가 계 산 서 (본 공 사)
A2: 공사명 : 한국폴리텍대학 성남캠퍼스 피지컬 AI 센터 구축
A3: 구 분 | C3: 요 율 | D3: 건 축 | E3: 기 계 | I3: 소 계
A4: 재 | B4: 직 접 재 료 비 | I4: =SUM(D4:H4) -> 0
A5: 료 | B5: 간 접 재 료 비 | I5: =SUM(D5:H5) -> 0
A6: 비 | B6: 소 계 | G6: =SUM(G4:G5) -> 0 | H6: =SUM(H4:H5) -> 0 | I6: =SUM(D6:H6) -> 0
A7: 노 | B7: 직 접 노 무 비 | I7: =SUM(D7:H7) -> 0
A8: 무 | B8: 산악지역,원거리할증 | C8: 0 | G8: =INT((G7)*$C8) -> 0 | H8: =INT((H6)*$C8) -> 0 | I8: =SUM(D8:H8) -> 0
A9: 무 | B9: 간 접 노 무 비 | C9: 0.175 | G9: =INT((G7)*$C9) -> 0 | H9: =INT((H7)*$C9) -> 0 | I9: =SUM(D9:H9) -> 0
A10: 비 | B10: 소 계 | G10: =SUM(G7:G9) -> 0 | H10: =SUM(H7:H9) -> 0 | I10: =SUM(D10:H10) -> 0
B11: 운 반 비 | I11: =SUM(D11:H11) -> 0
A12: 경 | B12: 기 계 경 비 | I12: =SUM(D12:H12) -> 0
B13: 스마트안전장비 | I13: =SUM(D13:H13) -> 0
B14: 가 설 비 | I14: =SUM(D14:H14) -> 0
B15: 품 질 시 험 비 | I15: =SUM(D15:H15) -> 0
B16: 폐기물 처리비(100톤미만) | I16: =SUM(D16:H16) -> 0
B17: 폐 기 물 상 차 비 | I17: =SUM(D17:H17) -> 0
B18: 산 재 보 험 료 | C18: 0.0356 | G18: =INT(G10*$C18) -> 0 | H18: =INT(H10*$C18) -> 0 | I18: =SUM(D18:H18) -> 0
B19: 고 용 보 험 료 | C19: 0.0101 | G19: =INT(G10*$C19) -> 0 | H19: =INT(H10*$C19) -> 0 | I19: =SUM(D19:H19) -> 0
B20: 건 강 보 험 료 | C20: 0.03595 | G20: =INT(G7*$C20) -> 0 | H20: =INT(H7*$C20) -> 0 | I20: =SUM(D20:H20) -> 0
B21: 노인장기요양보험료 | C21: 0.1314 | G21: =INT(G20*$C21) -> 0 | H21: =INT(H20*$C21) -> 0 | I21: =SUM(D21:H21) -> 0
B22: 연 금 보 험 료 | C22: 0.0475 | G22: =INT(G7*$C22) -> 0 | H22: =INT(H7*$C22) -> 0 | I22: =SUM(D22:H22) -> 0
B23: 퇴직 공제부금 | C23: 0.023 | G23: =INT(G7*$C23) -> 0 | H23: =INT(H7*$C23) -> 0 | I23: =SUM(D23:H23) -> 0
A24: 비 | B24: 산업안전보건관리비 | C24: 0.0311 | G24: =INT(MIN($G49,$G50)) -> 0 | H24: =INT(MIN($H49,$H50)) -> 0 | I24: =SUM(D24:H24) -> 0
B25: 기 타 경 비 | C25: 0.05 | G25: =INT(G6*$C25+G10*$C25) -> 0 | H25: =INT(H6*$C25+H10*$C25) -> 0 | I25: =SUM(D25:H25) -> 0
B26: 석 면 분 담 금 | C26: 6e-05 | I26: =SUM(D26:H26) -> 0
B27: 임금채권부담금 | C27: 0.0009 | G27: =INT((G10)*$C27) -> 0 | H27: =INT((H10)*$C27) -> 0 | I27: =SUM(D27:H27) -> 0
B28: 환 경 보 전 비 | C28: 0.003 | G28: =INT(G4*$C28+G7*$C28+G8*$C28+G11*$C28+G12*$C28+G13*$C28+G14*$C28+G15*$C28+G16*$C28+G17*$C28) -> 0 | H28: =INT(H4*$C28+H7*$C28+H8*$C28+H11*$C28+H12*$C28+H13*$C28+H14*$C28+H15*$C28+H16*$C28+H17*$C28) -> 0 | I28: =SUM(D28:H28) -> 0
B29: 지 급 수 수 료 | C29: 0.00081 | G29: =INT(G4*$C29+G7*$C29+G8*$C29+G11*$C29+G12*$C29+G13*$C29+G14*$C29+G15*$C29+G16*$C29+G17*$C29) -> 0 | H29: =INT(H4*$C29+H7*$C29+H8*$C29+H11*$C29+H12*$C29+H13*$C29+H14*$C29+H15*$C29+H16*$C29+H17*$C29) -> 0 | I29: =SUM(D29:H29) -> 0
B30: 건설기계대여대금발급수수료 | C30: 0.0007 | G30: =INT(G4*$C30+G7*$C30+G11*$C30+G12*$C30+G13*$C30+G14*$C30+G15*$C30+G16*$C30+G17*$C30) -> 0 | H30: =INT(H4*$C30+H7*$C30+H11*$C30+H12*$C30+H13*$C30+H14*$C30+H15*$C30+H16*$C30+H17*$C30) -> 0 | I30: =SUM(D30:H30) -> 0
B31: 소 계 | G31: =SUM(G11:G30) -> 0 | H31: =SUM(H11:H30) -> 0 | I31: =SUM(D31:H31) -> 0
B32: 일 반 관 리 비 | C32: 0.08 | G32: =INT(G6*$C32+G10*$C32+G31*$C32) -> 0 | H32: =INT(H6*$C32+H10*$C32+H31*$C32) -> 0 | I32: =SUM(D32:H32) -> 0
B33: 이 윤 | C33: 0.15 | G33: =INT((G10*$C33+G31*$C33+G32*$C33)) -> 0 | H33: =INT((H10*$C33+H31*$C33+H32*$C33)) -> 0 | I33: =SUM(D33:H33) -> 0
B34: 완 제 품 | I34: =SUM(D34:H34) -> 0
B35: 손해배상공재료 | I35: =SUM(D35:H35) -> 0
B36: 폐 기 물 처 리 비 | I36: =SUM(D36:H36) -> 0
B37: 작 업 부 산 물 (고철) | D37: =공종별집계표!L20 -> 0 | I37: =SUM(D37:H37) -> 0
B38: 합 계 | D38: =D6+D10+D31+D32+D33+D34+D35+D36+D37 -> 0 | E38: =E6+E10+E31+E32+E33+E34+E35+E36+E37 -> 0 | F38: =F6+F10+F31+F32+F33+F34+F35+F36+F37 -> 0 | G38: =G6+G10+G31+G32+G33+G34+G35+G36+G37 -> 0 | H38: =H6+H10+H31+H32+H33+H34+H35+H36+H37 -> 0 | I38: =SUM(D38:H38) -> 0
B39: 부 가 가 치 세 | C39: 0.1 | D39: =INT(D38*0.1) -> 0 | E39: =INT(E38*0.1) -> 0 | F39: =INT(F38*0.1) -> 0 | G39: =INT(G38*0.1) -> 0 | H39: =INT(H38*0.1) -> 0 | I39: =SUM(D39:H39) -> 0
B40: 총 계 | D40: =ROUNDDOWN(D38+D39,-3) -> 0 | E40: =ROUNDDOWN(E38+E39,-3) -> 0 | F40: =ROUNDDOWN(F38+F39,-1) -> 0 | G40: =ROUNDDOWN(G38+G39,-3) -> 0 | H40: =ROUNDDOWN(H38+H39,-3) -> 0 | I40: =SUM(D40:H40) -> 0
B41: 자재구매(도급자관급자재) | I41: =SUM(D41:H41) -> 0
B42: 설치납품(관급자관급자재) | D42: =공종별집계표!L22 -> 0 | I42: =SUM(D42:H42) -> 0
B43: 석면작업환경측정비 | I43: =SUM(D43:H43) -> 0
B44: 건설폐기물운반처리 | I44: =SUM(D44:H44) -> 0
B45: 분할측량비 | I45: =SUM(D45:H45) -> 0
B46: 재해예방기술지도 | I46: =SUM(D46:H46) -> 0
B47: 총 공 사 비 | D47: =SUM(D40:D46) -> 0 | E47: =SUM(E40:E46) -> 0 | F47: =SUM(F40:F46) -> 0 | G47: =SUM(G40:G46) -> 0 | H47: =SUM(H40:H46) -> 0 | I47: =SUM(D47:H47) -> 0
J48: check
B49: (재+직노+완제품+도급자관급)*3.11% | D49: =(D$4+D$7+D$8+D$34+(D$53/1.1))*C$24 -> 0 | E49: =(E$4+E$7+E$8+E$34+(E$53/1.1))*C$24 -> 0 | F49: =(F$4+F$7+F$8+F$34+(F$53/1.1))*C$24 -> 0 | G49: =(G$4+G$7+G$34+(G$53/1.1))*C$24 -> 0 | H49: =(H$4+H$7+H$34+(H$53/1.1))*C$24 -> 0 | I49: =(I$4+I$7+I$8+I$34+(I$53/1.1))*C$24 -> 0 | J49: =D49+E49+F49+G49+H49 -> 0 | N49: =(M$4+M$7+M$33+(M$40-0/1.1))*L$23 -> 0 | R49: =R48-R47 -> 0 | T49: =D49+E49+F49+G49+H49 -> 0
B50: (재+직노)*3.11%*1.2 | D50: =((D$4+D$7+D$8)*C$24)*1.2 -> 0 | E50: =((E$4+E$7+E$8)*C$24)*1.2 -> 0 | F50: =(F$4+F$7+F$8)*C$24*1.2 -> 0 | G50: =(G$4+G$7)*C$24*1.2 -> 0 | H50: =(H$4+H$7)*C$24*1.2 -> 0 | I50: =((I$4+I$7+I$8)*C$24)*1.2 -> 0 | J50: =D50+E50+F50+G50+H50 -> 0 | N50: =(M$4+M$7)*L$23*1.2 -> 0 | T50: =D50+E50+F50+G50+H50 -> 0
D52: 수수료제외도급자관급1 | E52: 수수료제외도급자관급2 | F52: 수수료제외도급자관급3 | G52: 수수료제외도급자관급4 | H52: 수수료제외도급자관급5 | I52: 수수로제외도급관급합계
D53: =D41-D56 -> 0 | E53: 0 | I53: =D53+E53+F53+G53+H53 -> 0
D55: 조달수수료+단수정리

Sheet 공종별집계표
A1: 공 종 별 집 계 표
A2: [ 성남캠퍼스 피지컬 AI센터 구축공사 ]
A3: 품 명 | B3: 규 격 | C3: 단위 | D3: 수량 | E3: 재 료 비 | G3: 노 무 비 | I3: 경 비 | K3: 합 계 | M3: 비 고 | N3: 공종코드 | O3: 변수 | P3: 상위공종 | Q3: 공종구분 | R3: 공종레벨 | S3: 공종소계 | T3: 원가계산서 연결금액
E4: 단 가 | F4: 금 액 | G4: 단 가 | H4: 금 액 | I4: 단 가 | J4: 금 액 | K4: 단 가 | L4: 금 액
A5: 01 성남캠퍼스 피지컬 AI센터 구축공사 | D5: 1 | E5: =F6 -> 0 | F5: =E5*D5 -> 0 | G5: =H6 -> 0 | H5: =G5*D5 -> 0 | I5: =J6 -> 0 | J5: =I5*D5 -> 0 | K5: =E5+G5+I5 -> 0 | L5: =F5+H5+J5 -> 0 | N5: 01 | R5: 1
A6: 0101 ▣ 건 축 공 사 | D6: 1 | E6: =F7+F8+F9+F10+F11+F12+F13+F14+F15+F16+F17 -> 0 | F6: =E6*D6 -> 0 | G6: =H7+H8+H9+H10+H11+H12+H13+H14+H15+H16+H17 -> 0 | H6: =G6*D6 -> 0 | I6: =J7+J8+J9+J10+J11+J12+J13+J14+J15+J16+J17 -> 0 | J6: =I6*D6 -> 0 | K6: =E6+G6+I6 -> 0 | L6: =F6+H6+J6 -> 0 | N6: 0101 | P6: 01 | R6: 2
A7: 010101 가 설 공 사 | D7: 1 | E7: =공종별내역서!F27 -> 0 | F7: =E7*D7 -> 0 | G7: =공종별내역서!H27 -> 0 | H7: =G7*D7 -> 0 | I7: =공종별내역서!J27 -> 0 | J7: =I7*D7 -> 0 | K7: =E7+G7+I7 -> 0 | L7: =F7+H7+J7 -> 0 | N7: 010101 | P7: 0101 | R7: 3
A8: 010102 미 장 공 사 | D8: 1 | E8: =공종별내역서!F51 -> 0 | F8: =E8*D8 -> 0 | G8: =공종별내역서!H51 -> 0 | H8: =G8*D8 -> 0 | I8: =공종별내역서!J51 -> 0 | J8: =I8*D8 -> 0 | K8: =E8+G8+I8 -> 0 | L8: =F8+H8+J8 -> 0 | N8: 010102 | P8: 0101 | R8: 3
A9: 010103 수 장 공 사 | D9: 1 | E9: =공종별내역서!F75 -> 0 | F9: =E9*D9 -> 0 | G9: =공종별내역서!H75 -> 0 | H9: =G9*D9 -> 0 | I9: =공종별내역서!J75 -> 0 | J9: =I9*D9 -> 0 | K9: =E9+G9+I9 -> 0 | L9: =F9+H9+J9 -> 0 | N9: 010103 | P9: 0101 | R9: 3
A10: 010104 목 공 사 | D10: 1 | E10: =공종별내역서!F99 -> 0 | F10: =E10*D10 -> 0 | G10: =공종별내역서!H99 -> 0 | H10: =G10*D10 -> 0 | I10: =공종별내역서!J99 -> 0 | J10: =I10*D10 -> 0 | K10: =E10+G10+I10 -> 0 | L10: =F10+H10+J10 -> 0 | N10: 010104 | P10: 0101 | R10: 3
A11: 010105 금 속 공 사 | D11: 1 | E11: =공종별내역서!F123 -> 0 | F11: =E11*D11 -> 0 | G11: =공종별내역서!H123 -> 0 | H11: =G11*D11 -> 0 | I11: =공종별내역서!J123 -> 0 | J11: =I11*D11 -> 0 | K11: =E11+G11+I11 -> 0 | L11: =F11+H11+J11 -> 0 | N11: 010105 | P11: 0101 | R11: 3
A12: 010106 창 호 공 사 | D12: 1 | E12: =공종별내역서!F147 -> 0 | F12: =E12*D12 -> 0 | G12: =공종별내역서!H147 -> 0 | H12: =G12*D12 -> 0 | I12: =공종별내역서!J147 -> 0 | J12: =I12*D12 -> 0 | K12: =E12+G12+I12 -> 0 | L12: =F12+H12+J12 -> 0 | N12: 010106 | P12: 0101 | R12: 3
A13: 010107 유 리 공 사 | D13: 1 | E13: =공종별내역서!F171 -> 0 | F13: =E13*D13 -> 0 | G13: =공종별내역서!H171 -> 0 | H13: =G13*D13 -> 0 | I13: =공종별내역서!J171 -> 0 | J13: =I13*D13 -> 0 | K13: =E13+G13+I13 -> 0 | L13: =F13+H13+J13 -> 0 | N13: 010107 | P13: 0101 | R13: 3
A14: 010108 도 장 공 사 | D14: 1 | E14: =공종별내역서!F195 -> 0 | F14: =E14*D14 -> 0 | G14: =공종별내역서!H195 -> 0 | H14: =G14*D14 -> 0 | I14: =공종별내역서!J195 -> 0 | J14: =I14*D14 -> 0 | K14: =E14+G14+I14 -> 0 | L14: =F14+H14+J14 -> 0 | N14: 010108 | P14: 0101 | R14: 3
A15: 010109 부 대 공 사 | D15: 1 | E15: =공종별내역서!F219 -> 0 | F15: =E15*D15 -> 0 | G15: =공종별내역서!H219 -> 0 | H15: =G15*D15 -> 0 | I15: =공종별내역서!J219 -> 0 | J15: =I15*D15 -> 0 | K15: =E15+G15+I15 -> 0 | L15: =F15+H15+J15 -> 0 | N15: 010109 | P15: 0101 | R15: 3
A16: 010110 철 거 공 사 | D16: 1 | E16: =공종별내역서!F243 -> 0 | F16: =E16*D16 -> 0 | G16: =공종별내역서!H243 -> 0 | H16: =G16*D16 -> 0 | I16: =공종별내역서!J243 -> 0 | J16: =I16*D16 -> 0 | K16: =E16+G16+I16 -> 0 | L16: =F16+H16+J16 -> 0 | N16: 010110 | P16: 0101 | R16: 3
A17: 010111 골 재 비 | D17: 1 | E17: =공종별내역서!F267 -> 0 | F17: =E17*D17 -> 0 | G17: =공종별내역서!H267 -> 0 | H17: =G17*D17 -> 0 | I17: =공종별내역서!J267 -> 0 | J17: =I17*D17 -> 0 | K17: =E17+G17+I17 -> 0 | L17: =F17+H17+J17 -> 0 | N17: 010111 | P17: 0101 | R17: 3
A18: 0102 건 설 폐 기 물 상 차 비 | D18: 1 | E18: =공종별내역서!F291 -> 0 | F18: =E18*D18 -> 0 | G18: =공종별내역서!H291 -> 0 | H18: =G18*D18 -> 0 | I18: =공종별내역서!J291 -> 0 | J18: =I18*D18 -> 0 | K18: =E18+G18+I18 -> 0 | L18: =F18+H18+J18 -> 0 | N18: 0102 | Q18: 6 | R18: 2 | T18: =L18*1 -> 0
A19: 0103 품 질 시 험 비 | D19: 1 | E19: =공종별내역서!F363 -> 0 | F19: =E19*D19 -> 0 | G19: =공종별내역서!H363 -> 0 | H19: =G19*D19 -> 0 | I19: =공종별내역서!J363 -> 0 | J19: =I19*D19 -> 0 | K19: =E19+G19+I19 -> 0 | L19: =F19+H19+J19 -> 0 | N19: 0103 | Q19: 7 | R19: 2 | T19: =L19*1 -> 0
A20: 0104 작 업 부 산 물(고철) | D20: 1 | E20: =공종별내역서!F387 -> 0 | F20: =E20*D20 -> 0 | G20: =공종별내역서!H387 -> 0 | H20: =G20*D20 -> 0 | I20: =공종별내역서!J387 -> 0 | J20: =I20*D20 -> 0 | K20: =E20+G20+I20 -> 0 | L20: =F20+H20+J20 -> 0 | N20: 0104 | Q20: 8 | R20: 2 | T20: =L20*1 -> 0
A21: 0105 건 설 폐 기 물 운 반 처 리 | B21: 100톤이상 분리발주 | D21: 1 | E21: =공종별내역서!F411 -> 0 | F21: =E21*D21 -> 0 | G21: =공종별내역서!H411 -> 0 | H21: =G21*D21 -> 0 | I21: =공종별내역서!J411 -> 0 | J21: =I21*D21 -> 0 | K21: =E21+G21+I21 -> 0 | L21: =F21+H21+J21 -> 0 | M21: 집계제외 | N21: 0105 | Q21: 9 | R21: 2 | T21: =L21*1 -> 0
A22: 0106 관 급 자 재 | D22: 1 | E22: =공종별내역서!F435 -> 0 | F22: =E22*D22 -> 0 | G22: =공종별내역서!H435 -> 0 | H22: =G22*D22 -> 0 | I22: =공종별내역서!J435 -> 0 | J22: =I22*D22 -> 0 | K22: =E22+G22+I22 -> 0 | L22: =F22+H22+J22 -> 0 | N22: 0106 | Q22: A | R22: 2 | T22: =L22*1 -> 0
A27: [ 합 계 ] | F27: =F5 -> 0 | H27: =H5 -> 0 | J27: =J5 -> 0 | L27: =L5 -> 0

Sheet 공종별내역서
A1: [ 성남캠퍼스 피지컬 AI센터 구축공사 ]
A2: 품 명 | B2: 규 격 | C2: 단위 | D2: 수량 | E2: 재 료 비 | G2: 노 무 비 | I2: 경 비 | K2: 합 계 | M2: 비 고 | N2: 품목코드 | O2: 변수 | P2: 설정 | Q2: 공종코드 | R2: 일위 | S2: 단산 | T2: 자재 | U2: 손료적용 | V2: 손료저장 | W2: 적용율 | X2: JUK1 | Y2: JUK2 | Z2: JUK3 | AA2: JUK4 | AB2: JUK5 | AC2: JUK6 | AD2: JUK7 | AE2: JUK8 | AF2: JUK9 | AG2: JUK10 | AH2: JUK11 | AI2: JUK12 | AJ2: JUK13 | AK2: JUK14 | AL2: JUK15 | AM2: JUK16 | AN2: JUK17 | AO2: JUK18 | AP2: JUK19 | AQ2: JUK20 | AR2: 자재구분 | AS2: 공종구분 | AT2: 공종레벨 | AU2: 공종+자재 | AV2: 고유번호
E3: 단 가 | F3: 금 액 | G3: 단 가 | H3: 금 액 | I3: 단 가 | J3: 금 액 | K3: 단 가 | L3: 금 액
A4: 010101 가 설 공 사 | Q4: 010101
A5: 건축물 현장정리 | B5: 개보수, 지장물 이설 및 준공청소 포함 | C5: M2 | D5: 845 | N5: 59CF7564E568FE698718C7CF1165A7 | Q5: 010101 | R5: T | S5: F | T5: F | AU5: 01010159CF7564E568FE698718C7CF1165A7 | AV5: 4
A6: 기존 바닥보양 설치및 해체 | B6: PVC골판지, 2회 사용 | C6: M2 | D6: 101 | N6: 59CF7564E66AF421801ACC92112FF8 | Q6: 010101 | R6: T | S6: F | T6: F | AU6: 01010159CF7564E66AF421801ACC92112FF8 | AV6: 5
A7: 기존 바닥보양 설치및 해체 | B7: 합판 9.0mm | C7: M2 | D7: 53 | N7: 59CF7564E66AF421801ACC92112FF9 | Q7: 010101 | R7: T | S7: F | T7: F | AU7: 01010159CF7564E66AF421801ACC92112FF9 | AV7: 8
A8: 기존 벽체보양 설치및 해체 | B8: PE 필름, 0.03mm 1겹 | C8: M2 | D8: 343 | N8: 59CF7564E66AF421801ACC92112FFD | Q8: 010101 | R8: T | S8: F | T8: F | AU8: 01010159CF7564E66AF421801ACC92112FFD | AV8: 6
A9: 기존 천장보양 설치및 해체 | B9: PE 필름, 0.03mm 1겹 | C9: M2 | D9: 552 | N9: 59CF7564E66AF421801ACC92112FFE | Q9: 010101 | R9: T | S9: F | T9: F | AU9: 01010159CF7564E66AF421801ACC92112FFE | AV9: 7
A10: 강관 조립말비계(이동식)설치 및 해체 | B10: 높이 2m, 1개월 | C10: 대 | D10: 2 | N10: 59CF75612C6808558964CD6511684E | Q10: 010101 | R10: T | S10: F | T10: F | AU10: 01010159CF75612C6808558964CD6511684E | AV10: 220
Q11: 010101
Q12: 010101
Q13: 010101
Q14: 010101
Q15: 010101
Q16: 010101
Q17: 010101
Q18: 010101
Q19: 010101
Q20: 010101
Q21: 010101
Q22: 010101
... Q26: 010101
A27: [ 합 계 ] | N27: TOTAL
A28: 010102 미 장 공 사 | Q28: 010102
A29: 모르타르 바름 | B29: 바닥, 30mm | C29: M2 | D29: 15 | N29: 59CF15F6EF6A37738526FB8A119C13 | Q29: 010102 | R29: T | S29: F | T29: F | AU29: 01010259CF15F6EF6A37738526FB8A119C13 | AV29: 11
Q30: 010102
Q31: 010102
Q32: 010102
Q33: 010102
Q34: 010102
Q35: 010102
Q36: 010102
Q37: 010102
Q38: 010102
Q39: 010102
Q40: 010102
Q41: 010102
... Q50: 010102
A51: [ 합 계 ] | N51: TOTAL
A52: 010103 수 장 공 사 | Q52: 010103
A53: DRY WALL [W-1] | B53: C-STUD(100),G.B12.5t 2겹 양면+G/W50 | C53: M2 | D53: 127 | N53: 59CF95AE3F66B3B28BEC099E1138A0 | Q53: 010103 | R53: T | S53: F | T53: F | AU53: 01010359CF95AE3F66B3B28BEC099E1138A0 | AV53: 24
A54: DRY WALL [W-2] | B54: 벽체틀 ㅁ30*30(@450*600)+MDF9T 2겹 | C54: M2 | D54: 80 | N54: 59CF95AE3F66B3B28BEC099E1138A3 | Q54: 010103 | R54: T | S54: F | T54: F | AU54: 01010359CF95AE3F66B3B28BEC099E1138A3 | AV54: 26
A55: DRY WALL [W-3] | B55: C-STUD(150),G.B12.5t 2겹 양면+G/W50 | C55: M2 | D55: 2 | N55: 59CF95AE3F66B3B28BEC099E1138A2 | Q55: 010103 | R55: T | S55: F | T55: F | AU55: 01010359CF95AE3F66B3B28BEC099E1138A2 | AV55: 27
A56: DRY WALL [W-4] | B56: C-STUD(50),G.B9.5t 2겹 일면 | C56: M2 | D56: 11 | N56: 59CF95AE3F66B3B28BEC099E1138A5 | Q56: 010103 | R56: T | S56: F | T56: F | AU56: 01010359CF95AE3F66B3B28BEC099E1138A5 | AV56: 28
A57: DRY WALL [W-5] | B57: C-STUD(50),G.B9.5t 2겹 일면 | C57: M2 | D57: 10 | N57: 59CF95AE3F66B3B28BEC099E1138A4 | Q57: 010103 | R57: T | S57: F | T57: F | AU57: 01010359CF95AE3F66B3B28BEC099E1138A4 | AV57: 29
A58: DRY WALL [W-6] | B58: C-STUD(250),MDT9T 2겹 양면 | C58: M2 | D58: 12 | N58: 59CF95AE3F66B3B28BEC099E1138A7 | Q58: 010103 | R58: T | S58: F | T58: F | AU58: 01010359CF95AE3F66B3B28BEC099E1138A7 | AV58: 30
A59: DRY WALL [W-7] | B59: 벽체틀 ㅁ30*30(@450*600)+G,B9.5t*2겹 일면 | C59: M2 | D59: 26 | N59: 59CF95AE3F66B3B28BEC099E1138A6 | Q59: 010103 | R59: T | S59: F | T59: F | AU59: 01010359CF95AE3F66B3B28BEC099E1138A6 | AV59: 31
A60: 벽체틀 설치 | B60: 미송각재 30*30, @450*600 | C60: M2 | D60: 266 | N60: 59CFF514FF6B3EE28C25F84A116DF2 | Q60: 010103 | R60: T | S60: F | T60: F | AU60: 01010359CFF514FF6B3EE28C25F84A116DF2 | AV60: 32
A61: 목재타공흡음보드 | B61: t=12mm(원형/라인), 방염 | C61: M2 | D61: 49.4 | N61: 59CF95AE3863ABDD8F9C1AE4115535 | Q61: 010103 | R61: T | S61: F | T61: F | AU61: 01010359CF95AE3863ABDD8F9C1AE4115535 | AV61: 219
A62: MDF 붙임 | B62: 9.0T, 2겹, 바탕+수장 | C62: M2 | D62: 229 | N62: 59CF95AE3863ABEE868FF8C111A3AD | Q62: 010103 | R62: T | S62: F | T62: F | AU62: 01010359CF95AE3863ABEE868FF8C111A3AD | AV62: 33
A63: 비닐타일 깔기 | B63: 비닐타일, 3*450*450mm, 데코타일 | C63: M2 | D63: 420 | N63: 59CF95AC0F6A33328FAD216711E1BD | Q63: 010103 | R63: T | S63: F | T63: F | AU63: 01010359CF95AC0F6A33328FAD216711E1BD | AV63: 36
A64: 비닐타일 깔기 | B64: 전도성비닐타일, 5.0*500*500mm, 대전방지, OA Tile | C64: M2 | D64: 206 | N64: 59CF95AC0F6A33328E86194B1125FC | Q64: 010103 | R64: T | S64: F | T64: F | AU64: 01010359CF95AC0F6A33328E86194B1125FC | AV64: 37
... A70: 인테리어필름 | B70: 방염목무늬[현장설치도] | C70: M2 | D70: 101 | N70: 5EEAF5B6536672B788260BEC11CFF62B80B7C6 | Q70: 010103 | R70: F | S70: F | T70: T | AU70: 0101035EEAF5B6536672B788260BEC11CFF62B80B7C6 | AV70: 49
A71: 인테리어필름 | B71: 방염 메탈[현장설치도] | C71: M2 | D71: 111.45 | N71: 5EEAF5B6536672B788260BEC11CFF62B80B7C5 | Q71: 010103 | R71: F | S71: F | T71: T | AU71: 0101035EEAF5B6536672B788260BEC11CFF62B80B7C5 | AV71: 216 | AW71: 8
Q72: 010103
Q73: 010103
Q74: 010103
A75: [ 합 계 ] | N75: TOTAL
A76: 010104 목 공 사 | Q76: 010104
A77: 책장 | B77: 1620*400*850, 현장설치도 | C77: EA | D77: 4 | N77: 5EEAF5B65265E08D882D272C11A2FCA70AFEBE | Q77: 010104 | R77: F | S77: F | T77: T | AU77: 0101045EEAF5B65265E08D882D272C11A2FCA70AFEBE | AV77: 132
A78: 스테인레스신발장 | B78: 1200*400*850, 현장설치도 | C78: EA | D78: 2 | N78: 5EEAF5B65265E08D882D272C11A2FCA70AFEBD | Q78: 010104 | R78: F | S78: F | T78: T | AU78: 0101045EEAF5B65265E08D882D272C11A2FCA70AFEBD | AV78: 133
Q79: 010104
Q80: 010104
Q81: 010104
Q82: 010104
Q83: 010104
Q84: 010104
Q85: 010104
Q86: 010104
Q87: 010104
Q88: 010104
Q89: 010104
Q90: 010104
... Q98: 010104
A99: [ 합 계 ] | N99: TOTAL
A100: 010105 금 속 공 사 | Q100: 010105
A101: 스테인리스강판 | B101: STS304, 0.5mm | C101: M2 | D101: 128 | N101: 59CFC5EC026B4E2482B1CE6511A57E | Q101: 010105 | R101: T | S101: F | T101: F | AU101: 01010559CFC5EC026B4E2482B1CE6511A57E | AV101: 43
A102: 경량천장철골틀 설치 | B102: M-BAR, H:1m미만, 인써트포함 | C102: M2 | D102: 19 | N102: 59CFC5E8AA6DA96B84D7D0EC11A4BB | Q102: 010105 | R102: T | S102: F | T102: F | AU102: 01010559CFC5E8AA6DA96B84D7D0EC11A4BB | AV102: 46
A103: 스테인리스재료분리대 | B103: 바닥, W25*H20*1.5t | C103: M | D103: 4 | N103: 59CF95AA40604D2D8670562F11C0F7 | Q103: 010105 | R103: T | S103: F | T103: F | AU103: 01010559CF95AA40604D2D8670562F11C0F7 | AV103: 47
A104: AL몰딩 설치 | B104: W형, 15*15*15*15*1.0mm | C104: M | D104: 189 | N104: 59CF95A43A670A2C818CB7AE113928 | Q104: 010105 | R104: T | S104: F | T104: F | AU104: 01010559CF95A43A670A2C818CB7AE113928 | AV104: 48
A105: 시스템박스 설치 | B105: 150*150*150*1.2t, 고정포함 | C105: EA | D105: 16 | N105: 59CFD5CA6768DAD58EA98DBE11812C | Q105: 010105 | R105: T | S105: F | T105: F | AU105: 01010559CFD5CA6768DAD58EA98DBE11812C | AV105: 217
Q106: 010105
Q107: 010105
Q108: 010105
Q109: 010105
Q110: 010105
Q111: 010105
Q112: 010105
Q113: 010105
Q114: 010105
Q115: 010105
Q116: 010105
Q117: 010105
... Q122: 010105
A123: [ 합 계 ] | N123: TOTAL
A124: 010106 창 호 공 사 | Q124: 010106
A125: FSD-1[SST프레임 편개자동도어] | B125: 2.400 x 2.200 = 5.280, 지정유리포함 시공도 | C125: EA | D125: 3 | N125: 59CFA595766C34E985AB3A1A11762C | Q125: 010106 | R125: T | S125: F | T125: F | AU125: 01010659CFA595766C34E985AB3A1A11762C | AV125: 119
A126: FSD-2[SST프레임 양개자동도어] | B126: 5.000 x 2.600 = 13.000, 지정유리포함 시공도 | C126: EA | D126: 1 | N126: 59CFA595766C34E985AB3A1A11762F | Q126: 010106 | R126: T | S126: F | T126: F | AU126: 01010659CFA595766C34E985AB3A1A11762F | AV126: 120
A127: SSD-1[100*40*1.5 H/L] | B127: 1.920 x 2.450 = 4.704, 프레임시공도 | C127: EA | D127: 1 | N127: 59CFA595766C34E985AB3A1A11762E | Q127: 010106 | R127: T | S127: F | T127: F | AU127: 01010659CFA595766C34E985AB3A1A11762E | AV127: 121
...
