Workbook

Sheet 표지
A5: =공종별집계표!A2 -> 건명 : 군북지구 지표수보강개발사업 수배전 구매설치
A12: 한국농어촌공사 경남지역본부 함안지사

Sheet 총괄내역서
A1: [ 총 괄 내 역 서 ]
A2: =공종별집계표!A2 -> 건명 : 군북지구 지표수보강개발사업 수배전 구매설치
A3: ="금액 : 일금"&NUMBERSTRING(L12,1)&"원정 (￦"&TEXT(L12,"#,##0)") -> 금액 : 일금영원정 (￦0)
A4: 번호 | B4: 품 명 | C4: 규 격 | D4: 단위 | E4: 수량 | F4: 재 료 비 | H4: 노 무 비 | J4: 경 비 | L4: 금액 | M4: 비 고
F5: 단 가 | G5: 합 계 | H5: 단 가 | I5: 합 계 | J5: 단 가 | K5: 합 계
A6: 1 | B6: 군북지구지표수보강개발사업수 배전반공사 | D6: 식 | E6: 1 | F6: =공종별집계표!F7 -> 0 | G6: =E6*F6 -> 0 | L6: =G6 -> 0
B8: 소 계 | G8: =SUM(G6:G6) -> 0 | L8: =SUM(L6:L6) -> 0
N9: 금액구분 | O9: 총액 | P9: 3자.마스
B10: 조 달 수 수 료 | D10: % | E10: 0.54 | L10: =L8*E10% -> 0 | N10: 2천만원 | O10: 210,000원(정액) | P10: 0.54
N11: 2천초과 5천만원 | O11: 530,000원(정액)
B12: 합 계 | L12: =ROUNDDOWN((L8+L10),-3) -> 0 | N12: 5천초과 1억 | O12: 1.07(정율)
N13: 1억초과 10억 | O13: 0.76
N14: 10억초과 100억 | O14: 0.48 | P14: 0.47
N15: 100억초과 | O15: 0.38 | P15: 0.37

Sheet 총괄 내역서
B1: 공 사 내 역 서
B2: 공사명 : 군북지구 지표수보강개발사업 수배전반 구매설치 | F2: 금액 : | G2: =E33 -> 84123000
B3: 비 목 | E3: 금 액 | F3: 구 성 비 | G3: 비 고
A4: A1 | B4: 순 공 사 원 가 | C4: 재 료 비 | D4: 직 접 재 료 비 | E4: =공종별집계표!F6 -> 169929
A5: A2 | D5: 간 접 재 료 비 | E5: 0
A6: A3 | D6: 작업설, 부산물(△) | E6: 0
A7: AS | D7: [ 소 계 ] | E7: =TRUNC(E4+E5-E6, 0) -> 169929
A8: B1 | C8: 노 무 비 | D8: 직 접 노 무 비 | E8: =공종별집계표!H6 -> 5664309
A9: B2 | D9: 간 접 노 무 비 | E9: =TRUNC(E8*0.191, 0) -> 1081883 | F9: 직접노무비 * 19.1%
A10: BS | D10: [ 소 계 ] | E10: =TRUNC(E8+E9, 0) -> 6746192
A11: C2 | C11: 경 비 | D11: 기 계 경 비
A12: C4 | D12: 산 재 보 험 료 | E12: =TRUNC(E10*0.0356, 0) -> 240164 | F12: 노무비 * 3.56%
A13: C5 | D13: 고 용 보 험 료 | E13: =TRUNC(E10*0.0101, 0) -> 68136 | F13: 노무비 * 1.01%
D14: 임금채권부담금 | E14: =TRUNC(E10*0.0009,0) -> 6071 | F14: 노무비 * 0.09%
D15: 석면피해구제분담금 | E15: =TRUNC(E10*0.00006,0) -> 404 | F15: 노무비 * 0.006%
A16: C6 | D16: 국민 건강 보험료 | G16: 설치공사기간 1개월 미만
A17: C7 | D17: 국민 연금 보험료 | G17: 설치공사기간 1개월 미만
A18: CB | D18: 노인장기요양보험료 | E18: =TRUNC(E16*0.1281, 0) -> 0 | G18: 설치공사기간 1개월 미만
A19: C8 | D19: 퇴직 공제 부금비 | G19: 설치공사기간 1개월 미만
A20: CA | D20: 산업안전보건관리비 | E20: =TRUNC((E7+E8)*0.0207, 0)*0.7*1.2 -> 101445.12 | F20: (재료비+직노) * 2.07%* 70% * 1.2
A21: CG | D21: 기 타 경 비
A22: CS | D22: [ 소 계 ] | E22: =TRUNC(E11+E12+E13+E14+E15+E16+E17+E19+E20+E18+E21, 0) -> 416220
A23: S1 | B23: 계 | E23: =TRUNC(E7+E10+E22, 0) -> 7332341
A24: D1 | B24: 일 반 관 리 비
A25: D2 | B25: 이 윤
B26: 손해배상공제료 | E26: =(E23+E24+E25+E30/1.1)*0.0026477 -> 201960.72 | F26: (공급가액+관급자재비/1.1) * 0.26477%
A27: D9 | B27: 공 급 가 액 | E27: =TRUNC(INT((E23+E24+E25+E26)/10000)*10000, 0) -> 7530000
A28: DB | B28: 부 가 가 치 세 | E28: =TRUNC(E27*0.1, 0) -> 753000 | F28: 공급가액 * 10%
A29: DH | B29: 도 급 액 | E29: =TRUNC(E27+E28, 0) -> 8283000
A30: DJ | B30: 관 급 자 재 비 | E30: =제조원가계산서!F17 -> 75840000
A31: DK | B31: 한 전 납 입 금
A32: DL | B32: 재해예방기술지도
A33: S2 | B33: 총 공 사 비 | E33: =TRUNC(E29+E30+E31+E32, 0) -> 84123000

Sheet 공종별집계표
A1: 공 종 별 집 계 표
A2: 건명 : 군북지구 지표수보강개발사업 수배전 구매설치
A3: 품 명 | B3: 규 격 | C3: 단위 | D3: 수량 | E3: 재 료 비 | G3: 노 무 비 | I3: 경 비 | K3: 합 계 | M3: 비 고
E4: 단 가 | F4: 금 액 | G4: 단 가 | H4: 금 액 | I4: 단 가 | J4: 금 액 | K4: 단 가 | L4: 금 액
A5: 1 | B5: 수배전반 및 동력반 제작비 | C5: 식 | D5: 1 | E5: =제조원가계산서!F17 -> 75840000 | F5: =D5*E5 -> 75840000 | K5: =E5+G5+I5 -> 75840000 | L5: =D5*K5 -> 75840000
A6: 2 | B6: 수배전반 설치비 | C6: 식 | D6: 1 | E6: =일위대가목록!G13 -> 169929 | F6: =D6*E6 -> 169929 | G6: =일위대가목록!I13 -> 5664309 | H6: =D6*G6 -> 5664309 | I6: 0 | J6: =D6*I6 -> 0 | K6: =E6+G6+I6 -> 5834238 | L6: =D6*K6 -> 5834238
B7: 합계

Sheet 제조원가계산서
A1: 제 조 원 가 계 산 서
A2: =표지!A5 -> 건명 : 군북지구 지표수보강개발사업 수배전 구매설치
A3: 항목 | C3: 산출기준 | F3: 산출금액 | G3: 비고
A4: 재료비 | B4: 직접재료비 | F4: =일위대가목록!G9 -> 44849960
B5: 간접재료비 | C5: [직접재료비] | D5: x | E5: 0.0078 | F5: =ROUNDDOWN(F4*E5,0) -> 349829
B6: 소계 | F6: =SUM(F4:F5) -> 45199789
A7: 노무비 | B7: 산출노무비 | F7: =일위대가목록!I9 -> 7565926.3
B8: 직접노무비 | C8: [산출노무비] | D8: x | E8: 1.2212 | F8: =ROUNDDOWN(F7*E8,0) -> 9239509
B9: 간접노무비 | C9: [직접노무비] | D9: x | E9: 0.3385 | F9: =ROUNDDOWN(F8*E9,0) -> 3127573
B10: 소계 | F10: =SUM(F8:F9) -> 12367082
A11: 경비 | C11: [재료비] | D11: x | E11: 0.0539 | F11: =ROUNDDOWN(F6*E11,0) -> 2436268
A12: 제조원가 | C12: [재료비+노무비+경비] | F12: =F6+F10+F11 -> 60003139
A13: 일반관리비 | C13: [제조원가] | D13: x | E13: 0.07 | F13: =ROUNDDOWN(F12*E13,0) -> 4200219
A14: 이윤 | C14: [노무비+경비+일반관리비] | D14: x | E14: 0.25 | F14: =ROUNDDOWN((F10+F11+F13)*E14,0) -> 4750892
A15: 총원가 | F15: =SUM(F12:F14) -> 68954250
A16: 부가가치세 | C16: [총원가] | D16: x | E16: 0.1 | F16: =ROUNDDOWN(F15*E16,0) -> 6895424
A17: 합계 | F17: =ROUNDDOWN((F15+F16),-4) -> 75840000 | G17: (천원이하버림)

Sheet 일위대가목록
A1: 일 위 대 가 목 록
A2: =공종별집계표!A2 -> 건명 : 군북지구 지표수보강개발사업 수배전 구매설치
A3: 번호 | B3: 품 명 | C3: 규 격 | D3: 단위 | E3: 수량 | F3: 재 료 비 | H3: 노 무 비 | J3: 합 계 | K3: 비 고
F4: 단가 | G4: 소계 | H4: 단가 | I4: 소계
B5: 수배전반 지급자재
A6: 1 | B6: LV-M 저압종합반 | C6: 800x2350x2000 | D6: 면 | E6: 1 | F6: =내역서!F62 -> 13827741 | G6: =E6*F6 -> 13827741 | H6: =내역서!H66 -> 2631139.6 | I6: =E6*H6 -> 2631139.6 | J6: =G6+I6 -> 16458880
A7: 2 | B7: MS-1 동력반 | C7: 800x2350x2000 | D7: 면 | E7: 1 | F7: =내역서!F133 -> 15511109 | G7: =E7*F7 -> 15511109 | H7: =내역서!H137 -> 2467393.4 | I7: =E7*H7 -> 2467393.4 | J7: =G7+I7 -> 17978503
A8: 3 | B8: MS-2 동력반 | C8: 800x2350x2000 | D8: 면 | E8: 1 | F8: =내역서!F196 -> 15511110 | G8: =E8*F8 -> 15511110 | H8: =내역서!H200 -> 2467393.4 | I8: =E8*H8 -> 2467393.4 | J8: =G8+I8 -> 17978503
B9: 소 계 | D9: 식 | E9: 1 | G9: =SUM(G6:G8) -> 44849960 | I9: =SUM(I6:I8) -> 7565926.3 | J9: =SUM(J6:J8) -> 52415886
B11: 수배전반 설치비
A12: 1 | B12: 설치비 | C12: 800x2350x2000 | D12: 면 | E12: 3 | F12: =설치내역서!G5 -> 56643 | G12: =E12*F12 -> 169929 | H12: =설치내역서!H5 -> 1888103 | I12: =E12*H12 -> 5664309 | J12: =G12+I12 -> 5834238
B13: 소계 | D13: 식 | E13: 1 | G13: =G12 -> 169929 | I13: =I12 -> 5664309 | J13: =SUM(J12:J12) -> 5834238

Sheet 내역서
A1: 내 역 서
A2: 번호 | B2: 품 명 | C2: 규 격 | D2: 단위 | E2: 수량 | F2: 재 료 비 | H2: 노 무 비 | J2: 경 비 | L2: 비 고
F3: 단 가 | G3: 합 계 | H3: 단 가 | I3: 합 계 | J3: 단 가 | K3: 합 계
A4: 1 | B4: =일위대가목록!B6 -> LV-M 저압종합반
B5: 외함(ALL SUS) | C5: 800Wx2350Hx2000D | D5: 면 | E5: 1 | F5: =Q17 -> 8303027.2 | G5: =F5*E5 -> 8303027.2 | N5: W | O5: D | P5: H | V5: W | W5: D | X5: H
B6: 계량기외함(ALL SUS) | C6: 700x1100x300 | D6: 면 | E6: 1 | F6: =Y17 -> 1329702.4 | G6: =F6*E6 -> 1329702.4 | N6: 0.8 | O6: 2 | P6: 2.35 | V6: 0.7 | W6: 0.3 | X6: 1.1
B7: DOOR HANDLE | C7: W/KEY (L) | D7: 개 | E7: 2 | F7: =단가대비표!$N$49 -> 5690 | G7: =F7*E7 -> 11380 | N7: 구분 | O7: 너비 | P7: 높이 | Q7: 두께 | R7: 소계 | V7: 구분 | W7: 너비 | X7: 높이 | Y7: 두께 | Z7: 소계
B8: DOOR STOPPER | D8: 개 | E8: 2 | F8: =단가대비표!$N$54 -> 10000 | G8: =F8*E8 -> 20000 | N8: 용적중량: | R8: 613 | V8: 용적중량: | Z8: 613
B9: NAME PLATE | C9: 아크릴(L) | D9: 개 | E9: 2 | F9: =단가대비표!$N$48 -> 5690 | G9: =F9*E9 -> 11380 | N9: 전면: | O9: =N6 -> 0.8 | P9: =P6 -> 2.35 | Q9: 2 | R9: =O9*P9*Q9 -> 3.76 | V9: 전면: | W9: =V6 -> 0.7 | X9: =X6 -> 1.1 | Y9: 2 | Z9: =W9*X9*Y9 -> 1.54
B10: M C C B | C10: 2P 220V 50AF 10kA | D10: 개 | E10: 2 | F10: =단가대비표!$N$18 -> 12000 | G10: =F10*E10 -> 24000 | N10: 후면 | O10: =N6 -> 0.8 | P10: =P6 -> 2.35 | Q10: 2 | R10: =O10*P10*Q10 -> 3.76 | V10: 후면 | W10: =V6 -> 0.7 | X10: =X6 -> 1.1 | Y10: 2 | Z10: =W10*X10*Y10 -> 1.54
B11: DIAZED FUSE | C11: 25A 이하 W/HOLDER | D11: 개 | E11: 3 | F11: =단가대비표!$N$53 -> 3000 | G11: =F11*E11 -> 9000 | N11: 측면1 | O11: =O6 -> 2 | P11: =P6 -> 2.35 | Q11: 2 | R11: =O11*P11*Q11 -> 9.4 | V11: 측면1 | W11: =W6 -> 0.3 | X11: =X6 -> 1.1 | Y11: 2 | Z11: =W11*X11*Y11 -> 0.66
B12: F L | C12: AC 220V 20W 삼파장 | D12: 개 | E12: 2 | F12: =단가대비표!$N$50 -> 4100 | G12: =F12*E12 -> 8200 | N12: 측면2 | O12: =O6 -> 2 | P12: =P6 -> 2.35 | Q12: 2 | R12: =O12*P12*Q12 -> 9.4 | V12: 측면2 | W12: =W6 -> 0.3 | X12: =X6 -> 1.1 | Y12: 2 | Z12: =W12*X12*Y12 -> 0.66
B13: LIMIT S/W | C13: AC 220V 1a 1b | D13: 개 | E13: 2 | F13: =단가대비표!$N$29 -> 4500 | G13: =F13*E13 -> 9000 | N13: 상면 | O13: =N6 -> 0.8 | P13: =O6 -> 2 | Q13: 2 | R13: =O13*P13*Q13 -> 3.2 | V13: 상면 | W13: =V6 -> 0.7 | X13: =W6 -> 0.3 | Y13: 2 | Z13: =W13*X13*Y13 -> 0.42
B14: SPACE HEATER | C14: AC 220V 100W | D14: 개 | E14: 1 | F14: =단가대비표!$N$51 -> 13970 | G14: =F14*E14 -> 13970 | N14: 하면 | O14: =N6 -> 0.8 | P14: =O6 -> 2 | Q14: 2 | R14: =O14*P14*Q14 -> 3.2 | V14: 하면 | W14: =V6 -> 0.7 | X14: =W6 -> 0.3 | Y14: 2 | Z14: =W14*X14*Y14 -> 0.42
B15: THERMOSTAT | C15: 250V 0-250℃ | D15: 개 | E15: 1 | F15: =단가대비표!$N$52 -> 15970 | G15: =F15*E15 -> 15970 | Q15: 체적: | R15: =SUM(R9:R14) -> 32.72 | Y15: 체적: | Z15: =SUM(Z9:Z14) -> 5.24
B16: BUS BAR | C16: 6.0 mm x 40 mm | D16: m | E16: 7.8 | F16: =단가대비표!$N$41 -> 40436 | G16: =F16*E16 -> 315400.8 | N16: 중량: | O16: =R15 -> 32.72 | P16: =T18 -> 7.85 | Q16: =U18 -> 256.852 | R16: kg | V16: 중량: | W16: =Z15 -> 5.24 | X16: =AB18 -> 7.85 | Y16: =AC18 -> 41.134 | Z16: kg
B17: INSULATION TUBE | C17: 800㎟ 이하 | D17: m | E17: 7.8 | F17: =단가대비표!$N$44 -> 1790 | G17: =F17*E17 -> 13962 | N17: 외함(sus)가격: | O17: 32000 | P17: 원/KG= | Q17: =O17*U17 -> 8303027.2 | R17: 원 | S17: 비중 | T17: 7.93 | U17: =O16*T17 -> 259.4696 | V17: 외함(sus)가격: | W17: 32000 | X17: 원/KG= | Y17: =W17*AC17 -> 1329702.4 | Z17: 원 | AA17: 비중 | AB17: 7.93 | AC17: =W16*AB17 -> 41.5532
B18: BUS BAR COATING | C18: AG | D18: kg | E18: 16.8 | F18: =단가대비표!$N$42 -> 2100 | G18: =F18*E18 -> 35280 | N18: 외함(철)가격: | O18: 10500 | P18: 원/KG= | Q18: =O18*U18 -> 2696946 | S18: 비중 | T18: 7.85 | U18: =O16*T18 -> 256.852 | V18: 외함(철)가격: | W18: 10500 | X18: 원/KG= | Y18: =W18*AC18 -> 431907 | AA18: 비중 | AB18: 7.85 | AC18: =W16*AB18 -> 41.134
B19: EARTH BAR | C19: 6.0 mm x 25 mm | D19: m | E19: 0.8 | F19: =단가대비표!$N$40 -> 22488 | G19: =F19*E19 -> 17990.4
B20: EARTH WIRE | C20: F-GV 70㎟ | D20: m | E20: 4 | F20: =단가대비표!$N$7 -> 13127 | G20: =F20*E20 -> 52508
B21: A M | C21: AC 광각 110x110 | D21: 개 | E21: 1 | F21: =단가대비표!$L$10 -> 48000 | G21: =F21*E21 -> 48000
B22: V M | C22: AC 광각 110x110 | D22: 개 | E22: 1 | F22: =단가대비표!$N$11 -> 48000 | G22: =F22*E22 -> 48000
B23: 집중표시제어장치(GIMAC-115P) | C23: 표준형 | D23: 대 | E23: 1 | F23: =단가대비표!$N$12 -> 985100 | G23: =F23*E23 -> 985100
B24: M C C B (표준형) | C24: 4P 600V 400AF | D24: 개 | E24: 1 | F24: =단가대비표!$N$23 -> 243800 | G24: =F24*E24 -> 243800
B25: M C C B (표준형) | C25: 3P 600V 30AF | D25: 개 | E25: 2 | F25: =단가대비표!$N$19 -> 24200 | G25: =F25*E25 -> 48400
B26: M C C B (표준형) | C26: 3P 600V 50AF | D26: 개 | E26: 1 | F26: =단가대비표!$N$20 -> 44000 | G26: =F26*E26 -> 44000
B27: M C C B (표준형) | C27: 4P 600V 50AF | D27: 개 | E27: 1 | F27: =단가대비표!$N$22 -> 55000 | G27: =F27*E27 -> 55000
B28: E L C B (분전반) | C28: 110/220V 2P 50AF | D28: 개 | E28: 4 | F28: =단가대비표!$N$24 -> 14200 | G28: =F28*E28 -> 56800
B29: E O C R (FDZ:지락보호) | C29: 매입형전류계.정/반한시 | D29: 개 | E29: 2 | F29: =단가대비표!$N$13 -> 199000 | G29: =F29*E29 -> 398000
B30: M C (GMC-12) | C30: 2.7kW/220V 4kW/440V | D30: 대 | E30: 2 | F30: =단가대비표!$N$16 -> 12900 | G30: =F30*E30 -> 25800
B31: A S | C31: 3P 4W | D31: 개 | E31: 1 | F31: =단가대비표!$L$25 -> 12090 | G31: =F31*E31 -> 12090
B32: V S | C32: 3P 4W | D32: 개 | E32: 1 | F32: =단가대비표!$N$26 -> 12090 | G32: =F32*E32 -> 12090
B33: P T 440/110V | C33: 50VA 1.0 EPOXY MOLD | D33: 개 | E33: 3 | F33: =단가대비표!$N$31 -> 90000 | G33: =F33*E33 -> 270000
B34: C T 1150V 각형 | C34: 400/5A 40VA 1.0 40In | D34: 개 | E34: 3 | F34: =단가대비표!$N$32 -> 15680 | G34: =F34*E34 -> 47040
B35: CONDENSER | C35: (380/440V) 3P 10UF | D35: 개 | E35: 1 | F35: =단가대비표!$N$35 -> 8600 | G35: =F35*E35 -> 8600
B36: CONDENSER | C36: (380/440V) 3P 15UF | D36: 개 | E36: 1 | F36: =단가대비표!$N$36 -> 12000 | G36: =F36*E36 -> 12000
B37: CONDENSER | C37: (380/440V) 3P 20kVA | D37: 개 | E37: 1 | F37: =단가대비표!$N$38 -> 177100 | G37: =F37*E37 -> 177100
B38: S P D | C38: 4P 100KA | D38: 대 | E38: 1 | F38: =단가대비표!$N$39 -> 26500 | G38: =F38*E38 -> 26500
B39: T T M | C39: CTT.PTT 3P 4W W/PLUG | D39: 개 | E39: 2 | F39: =단가대비표!$N$47 -> 14400 | G39: =F39*E39 -> 28800
B40: FLOAT S/W | C40: AC 220V 4P ALARM | D40: 개 | E40: 1 | F40: =단가대비표!$N$30 -> 42590 | G40: =F40*E40 -> 42590
...

Sheet 공량산출서
A1: 공 량 산 출 근 거
A2: 번호 | B2: 품 명 | C2: 규 격 | D2: 단위 | E2: 수량 | F2: 전기기계조립공 | H2: 전선원 | J2: 부품조립원 | L2: 단순노무종사원 | N2: 중기계 조립원 | P2: 비고
A3: 1 | B3: =내역서!B4 -> LV-M 저압종합반
B4: =내역서!B5 -> 외함(ALL SUS) | C4: =내역서!C5 -> 800Wx2350Hx2000D | D4: =내역서!D5 -> 면 | E4: =내역서!E5 -> 1 | G4: =E4*F4 -> 0 | I4: =E4*H4 -> 0 | K4: =E4*J4 -> 0 | M4: =E4*L4 -> 0 | O4: =E4*N4 -> 0
B5: =내역서!B6 -> 계량기외함(ALL SUS) | C5: =내역서!C6 -> 700x1100x300 | D5: =내역서!D6 -> 면 | E5: =내역서!E6 -> 1 | G5: =E5*F5 -> 0 | I5: =E5*H5 -> 0 | K5: =E5*J5 -> 0 | M5: =E5*L5 -> 0 | O5: =E5*N5 -> 0
B6: =내역서!B7 -> DOOR HANDLE | C6: =내역서!C7 -> W/KEY (L) | D6: =내역서!D7 -> 개 | E6: =내역서!E7 -> 2 | G6: =E6*F6 -> 0 | I6: =E6*H6 -> 0 | K6: =E6*J6 -> 0 | M6: =E6*L6 -> 0 | O6: =E6*N6 -> 0
B7: =내역서!B8 -> DOOR STOPPER | C7: =내역서!C8 -> 0 | D7: =내역서!D8 -> 개 | E7: =내역서!E8 -> 2 | G7: =E7*F7 -> 0 | I7: =E7*H7 -> 0 | K7: =E7*J7 -> 0 | M7: =E7*L7 -> 0 | O7: =E7*N7 -> 0
B8: =내역서!B9 -> NAME PLATE | C8: =내역서!C9 -> 아크릴(L) | D8: =내역서!D9 -> 개 | E8: =내역서!E9 -> 2 | G8: =E8*F8 -> 0 | I8: =E8*H8 -> 0 | K8: =E8*J8 -> 0 | M8: =E8*L8 -> 0 | O8: =E8*N8 -> 0
B9: =내역서!B10 -> M C C B | C9: =내역서!C10 -> 2P 220V 50AF 10kA | D9: =내역서!D10 -> 개 | E9: =내역서!E10 -> 2 | G9: =E9*F9 -> 0 | H9: 0.18 | I9: =E9*H9 -> 0.36 | K9: =E9*J9 -> 0 | M9: =E9*L9 -> 0 | O9: =E9*N9 -> 0
B10: =내역서!B11 -> DIAZED FUSE | C10: =내역서!C11 -> 25A 이하 W/HOLDER | D10: =내역서!D11 -> 개 | E10: =내역서!E11 -> 3 | G10: =E10*F10 -> 0 | I10: =E10*H10 -> 0 | K10: =E10*J10 -> 0 | M10: =E10*L10 -> 0 | O10: =E10*N10 -> 0
B11: =내역서!B12 -> F L | C11: =내역서!C12 -> AC 220V 20W 삼파장 | D11: =내역서!D12 -> 개 | E11: =내역서!E12 -> 2 | G11: =E11*F11 -> 0 | H11: 0.14 | I11: =E11*H11 -> 0.28 | K11: =E11*J11 -> 0 | M11: =E11*L11 -> 0 | O11: =E11*N11 -> 0
B12: =내역서!B13 -> LIMIT S/W | C12: =내역서!C13 -> AC 220V 1a 1b | D12: =내역서!D13 -> 개 | E12: =내역서!E13 -> 2 | G12: =E12*F12 -> 0 | H12: 0.1 | I12: =E12*H12 -> 0.2 | K12: =E12*J12 -> 0 | M12: =E12*L12 -> 0 | O12: =E12*N12 -> 0
B13: =내역서!B14 -> SPACE HEATER | C13: =내역서!C14 -> AC 220V 100W | D13: =내역서!D14 -> 개 | E13: =내역서!E14 -> 1 | G13: =E13*F13 -> 0 | H13: 0.4 | I13: =E13*H13 -> 0.4 | K13: =E13*J13 -> 0 | M13: =E13*L13 -> 0 | O13: =E13*N13 -> 0
B14: =내역서!B15 -> THERMOSTAT | C14: =내역서!C15 -> 250V 0-250℃ | D14: =내역서!D15 -> 개 | E14: =내역서!E15 -> 1 | G14: =E14*F14 -> 0 | H14: 0.2 | I14: =E14*H14 -> 0.2 | K14: =E14*J14 -> 0 | M14: =E14*L14 -> 0 | O14: =E14*N14 -> 0
B15: =내역서!B16 -> BUS BAR | C15: =내역서!C16 -> 6.0 mm x 40 mm | D15: =내역서!D16 -> m | E15: =내역서!E16 -> 7.8 | F15: 0.1 | G15: =E15*F15 -> 0.78 | I15: =E15*H15 -> 0 | K15: =E15*J15 -> 0 | L15: 0.08 | M15: =E15*L15 -> 0.624 | O15: =E15*N15 -> 0
B16: =내역서!B17 -> INSULATION TUBE | C16: =내역서!C17 -> 800㎟ 이하 | D16: =내역서!D17 -> m | E16: =내역서!E17 -> 7.8 | F16: 0.02 | G16: =E16*F16 -> 0.156 | I16: =E16*H16 -> 0 | K16: =E16*J16 -> 0 | M16: =E16*L16 -> 0 | O16: =E16*N16 -> 0
B17: =내역서!B18 -> BUS BAR COATING | C17: =내역서!C18 -> AG | D17: =내역서!D18 -> kg | E17: =내역서!E18 -> 16.8 | G17: =E17*F17 -> 0 | I17: =E17*H17 -> 0 | K17: =E17*J17 -> 0 | M17: =E17*L17 -> 0 | O17: =E17*N17 -> 0
B18: =내역서!B19 -> EARTH BAR | C18: =내역서!C19 -> 6.0 mm x 25 mm | D18: =내역서!D19 -> m | E18: =내역서!E19 -> 0.8 | F18: 0.09 | G18: =E18*F18 -> 0.072 | I18: =E18*H18 -> 0 | K18: =E18*J18 -> 0 | L18: 0.07 | M18: =E18*L18 -> 0.056 | O18: =E18*N18 -> 0
B19: =내역서!B20 -> EARTH WIRE | C19: =내역서!C20 -> F-GV 70㎟ | D19: =내역서!D20 -> m | E19: =내역서!E20 -> 4 | G19: =E19*F19 -> 0 | H19: 0.06 | I19: =E19*H19 -> 0.24 | K19: =E19*J19 -> 0 | M19: =E19*L19 -> 0 | O19: =E19*N19 -> 0
B20: =내역서!B21 -> A M | C20: =내역서!C21 -> AC 광각 110x110 | D20: =내역서!D21 -> 개 | E20: =내역서!E21 -> 1 | F20: 0.27 | G20: =E20*F20 -> 0.27 | I20: =E20*H20 -> 0 | K20: =E20*J20 -> 0 | M20: =E20*L20 -> 0 | O20: =E20*N20 -> 0
B21: =내역서!B22 -> V M | C21: =내역서!C22 -> AC 광각 110x110 | D21: =내역서!D22 -> 개 | E21: =내역서!E22 -> 1 | F21: 0.27 | G21: =E21*F21 -> 0.27 | I21: =E21*H21 -> 0 | K21: =E21*J21 -> 0 | M21: =E21*L21 -> 0 | O21: =E21*N21 -> 0
B22: =내역서!B23 -> 집중표시제어장치(GIMAC-115P) | C22: =내역서!C23 -> 표준형 | D22: =내역서!D23 -> 대 | E22: =내역서!E23 -> 1 | F22: 1.31 | G22: =E22*F22 -> 1.31 | I22: =E22*H22 -> 0 | K22: =E22*J22 -> 0 | M22: =E22*L22 -> 0 | O22: =E22*N22 -> 0
B23: =내역서!B24 -> M C C B (표준형) | C23: =내역서!C24 -> 4P 600V 400AF | D23: =내역서!D24 -> 개 | E23: =내역서!E24 -> 1 | G23: =E23*F23 -> 0 | H23: 0.86 | I23: =E23*H23 -> 0.86 | K23: =E23*J23 -> 0 | M23: =E23*L23 -> 0 | O23: =E23*N23 -> 0
B24: =내역서!B25 -> M C C B (표준형) | C24: =내역서!C25 -> 3P 600V 30AF | D24: =내역서!D25 -> 개 | E24: =내역서!E25 -> 2 | G24: =E24*F24 -> 0 | H24: 0.19 | I24: =E24*H24 -> 0.38 | K24: =E24*J24 -> 0 | M24: =E24*L24 -> 0 | O24: =E24*N24 -> 0
B25: =내역서!B26 -> M C C B (표준형) | C25: =내역서!C26 -> 3P 600V 50AF | D25: =내역서!D26 -> 개 | E25: =내역서!E26 -> 1 | G25: =E25*F25 -> 0 | H25: 0.26 | I25: =E25*H25 -> 0.26 | K25: =E25*J25 -> 0 | M25: =E25*L25 -> 0 | O25: =E25*N25 -> 0
B26: =내역서!B27 -> M C C B (표준형) | C26: =내역서!C27 -> 4P 600V 50AF | D26: =내역서!D27 -> 개 | E26: =내역서!E27 -> 1 | G26: =E26*F26 -> 0 | H26: 0.33 | I26: =E26*H26 -> 0.33 | K26: =E26*J26 -> 0 | M26: =E26*L26 -> 0 | O26: =E26*N26 -> 0
B27: =내역서!B28 -> E L C B (분전반) | C27: =내역서!C28 -> 110/220V 2P 50AF | D27: =내역서!D28 -> 개 | E27: =내역서!E28 -> 4 | G27: =E27*F27 -> 0 | H27: 0.18 | I27: =E27*H27 -> 0.72 | K27: =E27*J27 -> 0 | M27: =E27*L27 -> 0 | O27: =E27*N27 -> 0
B28: =내역서!B29 -> E O C R (FDZ:지락보호) | C28: =내역서!C29 -> 매입형전류계.정/반한시 | D28: =내역서!D29 -> 개 | E28: =내역서!E29 -> 2 | F28: 0.18 | G28: =E28*F28 -> 0.36 | I28: =E28*H28 -> 0 | K28: =E28*J28 -> 0 | M28: =E28*L28 -> 0 | O28: =E28*N28 -> 0
B29: =내역서!B30 -> M C (GMC-12) | C29: =내역서!C30 -> 2.7kW/220V 4kW/440V | D29: =내역서!D30 -> 대 | E29: =내역서!E30 -> 2 | G29: =E29*F29 -> 0 | H29: 0.12 | I29: =E29*H29 -> 0.24 | K29: =E29*J29 -> 0 | M29: =E29*L29 -> 0 | O29: =E29*N29 -> 0
B30: =내역서!B31 -> A S | C30: =내역서!C31 -> 3P 4W | D30: =내역서!D31 -> 개 | E30: =내역서!E31 -> 1 | F30: 0.2 | G30: =E30*F30 -> 0.2 | I30: =E30*H30 -> 0 | K30: =E30*J30 -> 0 | M30: =E30*L30 -> 0 | O30: =E30*N30 -> 0
B31: =내역서!B32 -> V S | C31: =내역서!C32 -> 3P 4W | D31: =내역서!D32 -> 개 | E31: =내역서!E32 -> 1 | F31: 0.2 | G31: =E31*F31 -> 0.2 | I31: =E31*H31 -> 0 | K31: =E31*J31 -> 0 | M31: =E31*L31 -> 0 | O31: =E31*N31 -> 0
B32: =내역서!B33 -> P T 440/110V | C32: =내역서!C33 -> 50VA 1.0 EPOXY MOLD | D32: =내역서!D33 -> 개 | E32: =내역서!E33 -> 3 | F32: 0.34 | G32: =E32*F32 -> 1.02 | I32: =E32*H32 -> 0 | K32: =E32*J32 -> 0 | M32: =E32*L32 -> 0 | O32: =E32*N32 -> 0
B33: =내역서!B34 -> C T 1150V 각형 | C33: =내역서!C34 -> 400/5A 40VA 1.0 40In | D33: =내역서!D34 -> 개 | E33: =내역서!E34 -> 3 | F33: 0.34 | G33: =E33*F33 -> 1.02 | I33: =E33*H33 -> 0 | K33: =E33*J33 -> 0 | M33: =E33*L33 -> 0 | O33: =E33*N33 -> 0
B34: =내역서!B35 -> CONDENSER | C34: =내역서!C35 -> (380/440V) 3P 10UF | D34: =내역서!D35 -> 개 | E34: =내역서!E35 -> 1 | F34: 0.09 | G34: =E34*F34 -> 0.09 | I34: =E34*H34 -> 0 | K34: =E34*J34 -> 0 | M34: =E34*L34 -> 0 | O34: =E34*N34 -> 0
B35: =내역서!B36 -> CONDENSER | C35: =내역서!C36 -> (380/440V) 3P 15UF | D35: =내역서!D36 -> 개 | E35: =내역서!E36 -> 1 | F35: 0.09 | G35: =E35*F35 -> 0.09 | I35: =E35*H35 -> 0 | K35: =E35*J35 -> 0 | M35: =E35*L35 -> 0 | O35: =E35*N35 -> 0
B36: =내역서!B37 -> CONDENSER | C36: =내역서!C37 -> (380/440V) 3P 20kVA | D36: =내역서!D37 -> 개 | E36: =내역서!E37 -> 1 | F36: 0.16 | G36: =E36*F36 -> 0.16 | I36: =E36*H36 -> 0 | K36: =E36*J36 -> 0 | M36: =E36*L36 -> 0 | O36: =E36*N36 -> 0
B37: =내역서!B38 -> S P D | C37: =내역서!C38 -> 4P 100KA | D37: =내역서!D38 -> 대 | E37: =내역서!E38 -> 1 | G37: =E37*F37 -> 0 | H37: 0.24 | I37: =E37*H37 -> 0.24 | K37: =E37*J37 -> 0 | M37: =E37*L37 -> 0 | O37: =E37*N37 -> 0
B38: =내역서!B39 -> T T M | C38: =내역서!C39 -> CTT.PTT 3P 4W W/PLUG | D38: =내역서!D39 -> 개 | E38: =내역서!E39 -> 2 | F38: 0.2 | G38: =E38*F38 -> 0.4 | I38: =E38*H38 -> 0 | K38: =E38*J38 -> 0 | M38: =E38*L38 -> 0 | O38: =E38*N38 -> 0
B39: =내역서!B40 -> FLOAT S/W | C39: =내역서!C40 -> AC 220V 4P ALARM | D39: =내역서!D40 -> 개 | E39: =내역서!E40 -> 1 | G39: =E39*F39 -> 0 | H39: 0.1 | I39: =E39*H39 -> 0.1 | K39: =E39*J39 -> 0 | M39: =E39*L39 -> 0 | O39: =E39*N39 -> 0
B40: =내역서!B41 -> SELECTOR S/W | C40: =내역서!C41 -> 300V 6A 2a 2b | D40: =내역서!D41 -> 개 | E40: =내역서!E41 -> 2 | G40: =E40*F40 -> 0 | H40: 0.1 | I40: =E40*H40 -> 0.2
...

Sheet 설치내역서
A1: 내 역 서
A2: 번호 | B2: 품 명 | C2: 규 격 | D2: 단위 | E2: 수량 | F2: 재 료 비 | H2: 노 무 비 | J2: 경 비 | L2: 비 고
F3: 단 가 | G3: 합 계 | H3: 단 가 | I3: 합 계 | J3: 단 가 | K3: 합 계
A4: 1 | B4: =일위대가목록!B6 -> LV-M 저압종합반
B5: LV-M 저압종합반 | C5: 800x2350x2000 | D5: 면 | E5: 1 | F5: =일위대가!F8 -> 56643 | G5: =F5*E5 -> 56643 | H5: =일위대가!H8 -> 1888103 | I5: =E5*H5 -> 1888103 | J5: =일위대가!J8 -> 0
B6: MS-1 동력반 | C6: 800x2350x2000 | D6: 면 | E6: 1 | F6: =일위대가!F8 -> 56643 | G6: =F6*E6 -> 56643 | H6: =일위대가!H8 -> 1888103 | I6: =E6*H6 -> 1888103 | J6: =일위대가!J8 -> 0
B7: MS-2 동력반 | C7: 800x2350x2000 | D7: 면 | E7: 1 | F7: =일위대가!F8 -> 56643 | G7: =F7*E7 -> 56643 | H7: =일위대가!H8 -> 1888103 | I7: =E7*H7 -> 1888103 | J7: =일위대가!J8 -> 0
B25: [ 합 계 ] | G25: =SUM(G5:G24) -> 169929 | I25: =SUM(I5:I24) -> 5664309 | K25: =SUM(K5:K24) -> 0

Sheet 일위대가
A1: 품 명 | B1: 규 격 | C1: 단위 | D1: 수량 | E1: 재 료 비 | G1: 노 무 비 | I1: 경 비 | K1: 합 계 | M1: 비 고
E2: 단 가 | F2: 금 액 | G2: 단 가 | H2: 금 액 | I2: 단 가 | J2: 금 액 | K2: 단 가 | L2: 금 액
A3: 종합반, 동력반 설치 800(W)x2,350(H)x2,000(D) 면 전기 3-35 ( 호표 1 )
A4: 변전전공 | B4: 기타 직종 | C4: 인 | D4: 2.45 | E4: 0 | F4: 0 | G4: =단가대비표!N75 -> 485075 | H4: 1188433.7 | I4: 0 | J4: 0 | K4: 485075 | L4: =D4*K4 -> 1188433.8
A5: 비계공 | B5: 일반공사 직종 | C5: 인 | D5: 1.2 | E5: 0 | F5: 0 | G5: =단가대비표!N77 -> 281939 | H5: 338326.8 | I5: 0 | J5: 0 | K5: 281939 | L5: =D5*K5 -> 338326.8
A6: 보통인부 | B6: 일반공사 직종 | C6: 인 | D6: 2.1 | E6: 0 | F6: 0 | G6: =단가대비표!N76 -> 172068 | H6: 361342.8 | I6: 0 | J6: 0 | K6: 172068 | L6: =D6*K6 -> 361342.8
A7: 공구손료 | B7: 인력품의 3% | C7: 식 | D7: 1 | E7: =TRUNC(SUM(H4:H6)*0.03,0) -> 56643 | F7: =D7*E7 -> 56643 | G7: 0 | H7: 0 | I7: 0 | J7: 0 | K7: =E7+G7+I7 -> 56643 | L7: =D7*K7 -> 56643
A8: [ 합 계 ] | F8: 56643 | H8: =TRUNC(SUM(H4:H7),0) -> 1888103 | J8: 0 | L8: =TRUNC(SUM(F8,H8,J8),0) -> 1944746

Sheet 단가대비표
A1: 단 가 대 비 표
A2: 품 명 | B2: 규 격 | C2: 단위 | D2: 물가자료 | F2: 물가정보 | H2: 견적가 1 | J2: 견적가 2 | L2: 26년 한국농어촌공사 | N2: 적용단가
D3: 단가 | E3: PAGE | F3: 단가 | G3: PAGE | H3: 단가 | I3: A사 | J3: 단가 | K3: B사 | L3: 단가 | M3: 코드
A4: 전기기기용 비닐전선 | B4: KIV 10㎟ | C4: m | L4: 2051 | M4: M060710 | N4: =MINA(D4,F4,H4,J4,L4) -> 2051
A5: 전기기기용 비닐전선 | B5: KIV 16㎟ | C5: m | L5: 3203 | M5: M060711 | N5: =MINA(D5,F5,H5,J5,L5) -> 3203
A6: 전기기기용 비닐전선 | B6: KIV 150㎟ | C6: m | D6: 24870 | E6: 1099 | F6: 29869 | G6: 1199 | N6: =MINA(D6,F6,H6,J6,L6) -> 24870
A7: 접지용 난연전선 | B7: F-GV 70㎟ | C7: m | L7: 13127 | M7: M061328 | N7: =MINA(D7,F7,H7,J7,L7) -> 13127
A8: 이면배선 | B8: KIV 2.5㎟ | C8: m | L8: 524 | M8: M060707 | N8: =MINA(D8,F8,H8,J8,L8) -> 524
A9: 이면배선 | B9: KIV 4㎟ | C9: m | L9: 810 | M9: M060708 | N9: =MINA(D9,F9,H9,J9,L9) -> 810
A10: A M | B10: AC 광각 110x110 | C10: 개 | L10: 48000 | M10: M080251 | N10: =MINA(D10,F10,H10,J10,L10) -> 48000
A11: V M | B11: AC 광각 110x110 | C11: 개 | L11: 48000 | M11: M080246 | N11: =MINA(D11,F11,H11,J11,L11) -> 48000
A12: 집중표시제어장치(GIMAC-115P) | B12: 표준형 | C12: 대 | H12: 2450250 | I12: ㈜디투엔 | J12: 985100 | K12: 동양전업 | N12: =MINA(D12,F12,H12,J12,L12) -> 985100
A13: E O C R (FDZ:지락보호) | B13: 매입형전류계.정/반한시 | C13: 개 | H13: 236250 | I13: 케이디파 | L13: 199000 | M13: M080282 | N13: =MINA(D13,F13,H13,J13,L13) -> 199000
A14: A U X - R | B14: AC 2a2b | C14: 개 | H14: 19560 | I14: ㈜디투엔 | L14: 13700 | M14: M080500 | N14: =MINA(D14,F14,H14,J14,L14) -> 13700
A15: A U X - R | B15: AC 4a4b | C15: 개 | H15: 23550 | I15: ㈜디투엔 | L15: 19560 | M15: M080501 | N15: =MINA(D15,F15,H15,J15,L15) -> 19560
A16: M C (GMC-12) | B16: 2.7kW/220V 4kW/440V | C16: 대 | F16: 12900 | G16: 1274 | H16: 26330 | I16: ㈜디투엔 | L16: 12900 | M16: M081120 | N16: =MINA(D16,F16,H16,J16,L16) -> 12900
A17: M C (GMC-300) | B17: 75kW/220V 150kW/440V | C17: 대 | H17: 863940 | I17: ㈜디투엔 | N17: =MINA(D17,F17,H17,J17,L17) -> 863940
A18: M C C B (분전반) | B18: 2P 220V 50AF 10kA | C18: 개 | L18: 12000 | M18: M081270 | N18: =MINA(D18,F18,H18,J18,L18) -> 12000
A19: M C C B (표준형) | B19: 3P 600V 30AF | C19: 개 | H19: 42350 | I19: ㈜디투엔 | L19: 24200 | M19: M081213 | N19: =MINA(D19,F19,H19,J19,L19) -> 24200
A20: M C C B (표준형) | B20: 3P 600V 50AF | C20: 개 | F20: 53600 | G20: 1267 | H20: 46202 | I20: 이담테크 | L20: 44000 | M20: M081214 | N20: =MINA(D20,F20,H20,J20,L20) -> 44000
A21: M C C B (표준형) | B21: 3P 600V 400AF | C21: 개 | H21: 316650 | I21: ㈜디투엔 | L21: 222600 | M21: M081218 | N21: =MINA(D21,F21,H21,J21,L21) -> 222600
A22: M C C B (표준형) | B22: 4P 600V 50AF | C22: 개 | F22: 66900 | G22: 1267 | H22: 61710 | I22: ㈜디투엔 | L22: 55000 | M22: M081219 | N22: =MINA(D22,F22,H22,J22,L22) -> 55000
A23: M C C B (표준형) | B23: 4P 600V 400AF | C23: 개 | H23: 364930 | I23: ㈜디투엔 | J23: 249530 | K23: 대주계전 | L23: 243800 | M23: M081222 | N23: =MINA(D23,F23,H23,J23,L23) -> 243800
A24: E L C B (분전반) | B24: 110/220V 2P 50AF | C24: 개 | F24: 83500 | G24: 1267 | H24: 41018 | I24: 이담테크 | L24: 14200 | M24: M081271 | N24: =MINA(D24,F24,H24,J24,L24) -> 14200
A25: A S | B25: 3P 4W | C25: 개 | L25: 12090 | M25: M080380 | N25: =MINA(D25,F25,H25,J25,L25) -> 12090
A26: V S | B26: 3P 4W | C26: 개 | L26: 12090 | M26: M080370 | N26: =MINA(D26,F26,H26,J26,L26) -> 12090
A27: P B L S | B27: AC 110/220V 30mm | C27: 개 | L27: 6500 | M27: M080447 | N27: =MINA(D27,F27,H27,J27,L27) -> 6500
A28: SELECTOR S/W | B28: 300V 6A 2a 2b | C28: 개 | H28: 2360 | I28: 제이엠테 | L28: 2100 | M28: M080545 | N28: =MINA(D28,F28,H28,J28,L28) -> 2100
A29: LIMIT S/W | B29: AC 220V 1a 1b | C29: 개 | D29: 14500 | E29: 1226 | H29: 20570 | I29: ㈜디투엔 | L29: 4500 | M29: M079153 | N29: =MINA(D29,F29,H29,J29,L29) -> 4500
A30: FLOAT S/W | B30: AC 220V 4P ALARM | C30: 개 | H30: 42590 | I30: ㈜디투엔 | N30: =MINA(D30,F30,H30,J30,L30) -> 42590
A31: P T 440/110V | B31: 50VA 1.0 EPOXY MOLD | C31: 개 | H31: 97500 | I31: ㈜무야종 | L31: 90000 | M31: M080656 | N31: =MINA(D31,F31,H31,J31,L31) -> 90000
A32: C T 1150V 각형 | B32: 400/5A 40VA 1.0 40In | C32: 개 | H32: 15680 | I32: 에너솔라 | N32: =MINA(D32,F32,H32,J32,L32) -> 15680
A33: Z C T | B33: 300A (SGR용) | C33: 개 | H33: 74400 | I33: 에너솔라 | J33: 74400 | K33: ㈜영진종 | N33: =MINA(D33,F33,H33,J33,L33) -> 74400
A34: REACTER STARTER 3.3/6.6kV | B34: 200HP(150kW) D | C34: 대 | L34: 1584000 | M34: M081714 | N34: =MINA(D34,F34,H34,J34,L34) -> 1584000
A35: CONDENSER | B35: (380/440V) 3P 10UF | C35: 개 | D35: 12000 | E35: 1141 | F35: 12540 | G35: 1257 | L35: 8600 | M35: M081050 | N35: =MINA(D35,F35,H35,J35,L35) -> 8600
A36: CONDENSER | B36: (380/440V) 3P 15UF | C36: 개 | D36: 16100 | E36: 1141 | F36: 17600 | G36: 1257 | L36: 12000 | M36: M081051 | N36: =MINA(D36,F36,H36,J36,L36) -> 12000
A37: CONDENSER | B37: (380/440V) 3P 100UF | C37: 개 | D37: 87400 | E37: 1141 | F37: 84260 | G37: 1257 | L37: 57500 | M37: M081055 | N37: =MINA(D37,F37,H37,J37,L37) -> 57500
A38: CONDENSER | B38: (380/440V) 3P 20kVA | C38: 개 | D38: 370300 | E38: 1141 | F38: 259600 | G38: 1257 | L38: 177100 | M38: M081061 | N38: =MINA(D38,F38,H38,J38,L38) -> 177100
A39: S P D | B39: 4P 100KA | C39: 대 | H39: 347490 | I39: ㈜디투엔 | L39: 26500 | M39: M061235 | N39: =MINA(D39,F39,H39,J39,L39) -> 26500
A40: BUS BAR | B40: 6.0 mm x 25 mm | C40: m | H40: 27754 | I40: 에너솔라 | J40: 22488 | K40: (주)하나 | N40: =MINA(D40,F40,H40,J40,L40) -> 22488
...
