Workbook
Name ____PNO10: [14]INPUT!#REF!
Name ____PNO3: [14]INPUT!#REF!
Name ____PNO4: [14]INPUT!#REF!
Name ____PNO5: [14]INPUT!#REF!
Name ____PNO6: [14]INPUT!#REF!
Name ____PNO7: [14]INPUT!#REF!
Name ____PNO8: [14]INPUT!#REF!
Name ____PNO9: [14]INPUT!#REF!
Name ____YO1: '[15]01'!#REF!
Name ___10: #REF!
Name ___11: #REF!
Name ___6: #REF!
Name ___7: #REF!
Name ___8: #REF!
Name ___9: #REF!
Name ___PNO10: [14]INPUT!#REF!
Name ___PNO3: [14]INPUT!#REF!
Name ___PNO4: [14]INPUT!#REF!
Name ___PNO5: [14]INPUT!#REF!
Name ___PNO6: [14]INPUT!#REF!
Name ___PNO7: [14]INPUT!#REF!
Name ___PNO8: [14]INPUT!#REF!
Name ___PNO9: [14]INPUT!#REF!
Name ___YO1: '[15]01'!#REF!
Name __10: #REF!
Name __11: #REF!
Name __6: #REF!
Name __7: #REF!
Name __8: #REF!
Name __9: #REF!
Name __C: #REF!
Name __HUU1: #REF!
Name __i8: '[17]방배동내역(리라)'!$A$6:$Q$955
Name __LL1: [18]Sheet17!$C$2
Name __LL2: [18]Sheet17!$C$3
Name __LL3: [18]Sheet17!$C$4
Name __LR1: [18]Sheet17!$F$2
Name __LR2: [18]Sheet17!$F$3
Name __LR3: [18]Sheet17!$F$4
Name __PNO10: [14]INPUT!#REF!
Name __PNO3: [14]INPUT!#REF!
Name __PNO4: [14]INPUT!#REF!
Name __PNO5: [14]INPUT!#REF!
Name __PNO6: [14]INPUT!#REF!
Name __PNO7: [14]INPUT!#REF!
Name __PNO8: [14]INPUT!#REF!
Name __PNO9: [14]INPUT!#REF!
Name __YO1: '[15]01'!#REF!
Name _03_차수_L.W_GROUT_공: #REF!
Name _03_차수_L.W_GROUT_공: #REF!
Name _04_흙막이_100: #REF!
Name _05_손료_및_재료: #REF!
Name _05_손료_및_재료: #REF!
Name _06_부대공: #REF!
Name _06_부대공: #REF!
Name _1: #N/A
Name _10: #N/A
Name _10_6: #REF!
Name _11: #N/A
Name _11_7: #REF!

Sheet 견적서
A2: 건설공사 안전점검 견적서
A4: 2026. 08. . | P4: 공 급 자 | R4: 사업자등록번호 | V4: 222 - 81 - 32168
R5: 상 호 | V5: 강원특별자치도 삼척시 척주로 9-24, 201호
A6: 한국농어촌공사 귀중 | R6: 주 소 | V6: 지 호 이 엔 씨 ㈜
R7: 대 표 자 | V7: 장 미 호 (인)
A8: 용 역 명 : | E8: 안흥지구 농촌공간정비사업(농촌특화지구형) 구조안전진단 | R8: 업 태 . 종 목 | V8: 서비스 / 안전진단전문기관, 엔지니어링, 측량
A10: 아래와 같이 제안 가격을 제출합니다. | P10: 전 화 : | S10: T. 572-8771 F.572-8774
A11: 견적금액 : | F11: ="금 "&NUMBERSTRING(R11,1)&"원" -> 금 팔백삼십구만원 | Q11: ( | R11: =P25 -> 8390000 | Y11: ) | Z11: 부가세 포함
A12: 품 목 | J12: 규 격 | P12: 수량 | R12: 단위 | U12: 금 액 | Z12: 비 고
A13: 용역비
A14: 1.직접인건비 | U14: =대가산출서!F8 -> 2728225.3
A15: 2.제경비 | U15: =대가산출서!F13 -> 3001047.8
A16: 3.기술료 | U16: =대가산출서!F18 -> 1145854.6
A17: 4. 직접인건비 | U17: =대가산출서!F21 -> 752302.19
A18: 계 | U18: =U14+U15+U16+U17 -> 7627429.9
A19: 부가세 | U19: =U18*10% -> 762742.99
A25: 합 계 | P25: =ROUNDDOWN((U18+U19),-3) -> 8390000

Sheet 갑지
AD1: 과장
B2: 2024년 월 일 현재 | D2: 9 | E2: 월 일 현재 | L2: 설계 | R2: 심사 | X2: 담당
B5: 2026년도
A6: =대가산출서!A3 -> 안흥지구 농촌공간정비사업(농촌특화지구형) 구조안전진단
A8: ='[13]표지 (2)'!A12:O12 -> 설 계 내 역 서
I11: ■ 개 요
J12: 1. 위 치 : 강원특별자치도 횡성군 안흥면 안흥동길 12, 안흥동2길 5-2 일원
J13: 2. 사업대상 : 2개소
J14: 3. 과업내용 : 안전성검토(구조안전진단)
I17: ■ 결정금액 | M17: : | N17: =대가산출서!F43 -> 8390000 | U17: ="(금"&NUMBERSTRING(대가산출서!F43,1)&"원)" -> (금팔백삼십구만원)
I19: ■ 공급가액 | M19: : | N19: =대가산출서!F37 -> 7627429.9 | U19: ="(금"&NUMBERSTRING(대가산출서!F37,1)&"원)" -> (금칠백육십이만칠천사백삼십원)
I20: ■ 부가가치세 | M20: : | N20: =대가산출서!F41 -> 762742.99 | U20: ="(금"&NUMBERSTRING(대가산출서!F41,1)&"원)" -> (금칠십육만이천칠백사십삼원)

Sheet 대가산출서
A2: 대가산출서
A3: 안흥지구 농촌공간정비사업(농촌특화지구형) 구조안전진단
A4: 공종 | B4: 적요 | C4: 수량 | D4: 단위 | E4: 단가 | F4: 금액 | G4: 수량및 단가 산출근거 | H4: 비 고
G5: 시설물의 안전 및 유지관리 실시 등에 관한 지침 국토교통부 고시 제2025-470호
A8: 1. 직접인건비 | F8: =SUM(F10:F11) -> 2728225.3 | G8: 1)+2)
A10: 1) 외업인건비 | C10: =산출근거!H45 -> 2.6843323 | D10: 인 | E10: ='엔지니어링업체 임금'!E7 -> 310884 | F10: =E10*C10 -> 834515.96 | G10: 2026년 한국엔지니어링협회 공표 고급기술자 노임 적용
A11: 2) 내업인건비 | C11: =산출근거!H46 -> 6.0913695 | D11: 인 | E11: =E10 -> 310884 | F11: =E11*C11 -> 1893709.3
A13: 2. 제경비 | F13: =F15 -> 3001047.8 | G13: 직접인건비 X110% (제경비의 범위:직접인건비의 110~120%)
C15: 110 | D15: % | E15: =F8 -> 2728225.3 | F15: =E15*C15% -> 3001047.8
A17: 3. 기술료 | F17: =F18 -> 1145854.6 | G17: (직접인건비+제경비)*20% 기술료의 범위 : 직접인건비+제경비의 20~40%)
C18: 20 | D18: % | E18: =F13+F8 -> 5729273.1 | F18: =E18*C18% -> 1145854.6
A21: 4. 직접경비 | F21: =SUM(F23,F26,F27,F29,F32,F34) -> 752302.19 | G21: 1)+2)+3)+4)+5)+6)+7) 일비, 식비만 적용 : 공무원 여비규정 별표2 제2호 준용
A23: 1) 현장체제비 | D23: 인 | F23: =F24+F25 -> 351028.07
A24: 일비 | C24: =산출근거!H44 -> 8.7757017 | D24: 인 | E24: 20000 | F24: =E24*C24 -> 175514.04
A25: 식비 | C25: =C24 -> 8.7757017 | D25: 인 | E25: 20000 | F25: =E25*C25 -> 175514.04
A26: 2) 차량운행 | D26: 일 | F26: =E26*C26 -> 0
A27: 3) 현지보조인부 | D27: 인 | F27: =E27*C27 -> 0
A29: 4) 위험수당 | C29: 10 | D29: % | E29: =F10 -> 834515.96 | F29: =E29*C29% -> 83451.596 | G29: 직업인건비 X 10% (현장위험관리비의 범위 : 현지 직접인건비의 10~20%)
A32: 5) 기계, 기구손료 | C32: 10 | D32: % | E32: =F8 -> 2728225.3 | F32: =E32*C32% -> 272822.53 | G32: 직접인건비 X 10% (정밀점검 5%, 정밀안전진단 10%)
A34: 6) 보고서 | C34: 3 | D34: 부 | E34: 15000 | F34: =E34*C34 -> 45000 | G34: 3부(100P 기준) 10,000
G35: USB 5,000
A37: 5. 기본대가 | F37: =SUM(F8,F13,F17,F21) -> 7627429.9 | G37: 1+2+3+4+5
A41: 6. 부가가치세 | C41: 10 | D41: % | E41: =F37 -> 7627429.9 | F41: =E41*C41% -> 762742.99 | G41: 견적가의 10%
A43: 7. 공급가 | F43: =ROUNDDOWN(SUM(F41,F37),-3) -> 8390000 | G43: 천원단위 절삭

Sheet 산출근거
A3: 구 분 | B3: 산출근거
A4: 산출기준 | B4: ○ 시설물의 안전 및 유지관리 실시 등에 관한 지침 (국토교통부 고시 제2025-470호, 2025.9.1)
B5: ○ 고급기술자노임 310,884(원/일) 적용 (2026년 한국엔지니어링협회 공표)
A6: 1. 직접인건비 | B6: ○ 안전점검 및 정밀안전진단 대사(비용산정)기준
B7: 1) 기준인원수 <정밀안전진단> 전체 85인· 일 (외업 : 26인· 일 , 5,000㎡ 기준)
B9: 가) 전체인원수(직선보간법)
B10: 연면적 | C10: =대상가구!F6 -> 528.1 | D10: ㎡
B11: X= | C11: =C10 -> 528.1 | D11: x1 = | E11: 0 | F11: ㎡ | G11: x2 = | H11: 5000 | I11: ㎡
D12: y1 = | E12: 0 | F12: 인· 일 | G12: y2 = | H12: 85 | I12: 인· 일
B14: Y= | C14: y1+{(X-X1)(y2-y1)/(X2-X1)} = | F14: =E12+((C11-E11)*(H12-E12)/(H11-E11)) -> 8.9777 | G14: 인· 일
B17: 군집시설물에 대한 직선보간법
C18: =(A*1.0) | D18: = | E18: =F14*1 -> 8.9777 | F18: 인· 일
B21: 나) 외업인원수(직선보간법)
B22: 연면적 | C22: =C10 -> 528.1 | D22: ㎡
B23: X = | C23: =C22 -> 528.1 | D23: x1 = | E23: 0 | F23: ㎡ | G23: x2 = | H23: 5000 | I23: ㎡ | J23: 시설물별 직접 인건비 기준인원수(건축물)
D24: y1 = | E24: 0 | F24: 인· 일 | G24: y2 = | H24: 26 | I24: 인· 일
B26: Y= | C26: y1+{(X-X1)(y2-y1)/(X2-X1)} = | F26: =E24+((C23-E23)*(H24-E24)/(H23-E23)) -> 2.74612 | G26: 인· 일
B29: 군집시설물에 대한 직선보간법
C30: =(A*1.0) | D30: = | E30: =F26*1 -> 2.74612 | F30: 인· 일
J32: 시설물별 조정비
B33: ○ 안전점검 및 정밀안전진단 개사(비용산정)기준
B34: 2) 대가조정비
B35: 가) 구조형식별 조정 | E35: : | F35: 1 | G35: 철근콘크리트조
B36: 나) 용도별 조정 | E36: : | F36: 1 | G36: 상업용
B37: 다) 전차 보고서 제공여부 | E37: : | F37: 1 | G37: 전차 보고서 없음
B38: 라) 구조적 복잡도 | E38: : | F38: 0.85 | G38: 매우단순
B39: 마) 경과년수 | E39: : | F39: 1.15 | G39: 35년 초과 55년 이내
B40: ※ 조정비 산출 : 가) x 나) x 다) x 라) = | F40: =F35*F36*F37*F38*F39 -> 0.9775 | J40: 전차보고서 제공 여부에 따라 조정
B43: 3) 인원수 산출
B44: 가) | C44: 전체인원수 : | D44: =E18 -> 8.9777 | E44: 인· 일 X | F44: =F40 -> 0.9775 | G44: = | H44: =D44*F44 -> 8.7757017 | I44: 인· 일
B45: 나) | C45: 외업인원수 : | D45: =E30 -> 2.74612 | E45: 인· 일 X | F45: =F40 -> 0.9775 | G45: = | H45: =D45*F45 -> 2.6843323 | I45: 인· 일
B46: 다) | C46: 내업인원수 : | D46: 전체인원수 - 외업인원수 | G46: = | H46: =H44-H45 -> 6.0913695 | I46: 인· 일 | J46: 경과년수에 따라 조정

Sheet 대상가구
A1: ■대상가구
A3: 번호 | C3: 주소 | E3: 세대주 | F3: 면적(㎡) | G3: 건축연도 | H3: 비고
A4: 1 | B4: 3 | C4: 안흥면 | D4: 안흥동2길 5-2 | E4: 안흥농협 | F4: 330 | G4: 1979 | H4: 창고시설
A5: 2 | B5: 1 | C5: 안흥면 | D5: 안흥동길 12 | E5: 김명순 | F5: 198.1 | G5: - | H5: 산업시설(정미소)
E6: 합계 | F6: =SUM(F4:F5) -> 528.1

Sheet 엔지니어링업체 임금
A2: 엔지니어링사업별, 기술자등급별 실지급임금현황
C4: 구 분 | E4: 건설 및 기타 | F4: 비고 | K4: 고기능사 | M4: =L4/E7 -> 0
C5: 기술사 | E5: 467217 | F5: 2026년 상반기 | J5: =E6/E7 -> 1.2009399 | K5: 중기능사 | M5: =L5/E7 -> 0
C6: 특급기술자 | E6: 373353 | F6: 2026년 상반기 | J6: =E7/E7 -> 1 | K6: 초기능사 | M6: =L6/E7 -> 0
C7: 고급기술자 | E7: 310884 | F7: 2026년 상반기 | J7: =E8/E7 -> 0.94935088
C8: 중급기술자 | E8: 295138 | F8: 2026년 상반기 | J8: =E9/E7 -> 0.75738539
C9: 초급기술자 | E9: 235459 | F9: 2026년 상반기 | J9: =E9/E7 -> 0.75738539
E10: 235459

Sheet 기준시설물 & 기준인원수 기준
I39: ※ 기준시설물의 규모보다 작거나 큰 경우에는 보간법(내삽 및 외삽)을 이용하여 산출한다.
I40: ※ 항만의 원유부이식계류시설 및 갑문의 직접인건비 기준인원수에는 기계․ 전기설비의 성능검사품이 포함되어 있음

Sheet 직접경비 대가기준

Sheet Sheet2
B3: 시설물별 직접 인건비 기준인원수(건축물)
B5: 정밀안전진단 | D5: 정밀점검 | F5: 정기점검
B6: 전체 | C6: 외업 | D6: 전체 | E6: 외업 | F6: 전체 | G6: 외업
A7: 500㎡ | F7: 3 | G7: 2
A8: 1,000㎡ | F8: 3 | G8: 2
A9: 3,000㎡ | F9: 4 | G9: 2
A10: 5,000㎡ | B10: 85 | C10: 26 | D10: 17 | E10: 11 | F10: 5 | G10: 3
A11: 10,000㎡ | B11: 93 | C11: 31 | D11: 18 | E11: 12 | F11: 6 | G11: 4
A12: 30,000㎡ | B12: 148 | C12: 66 | D12: 29 | E12: 21 | F12: 10 | G12: 7
A13: 50,000㎡ | B13: 205 | C13: 102 | D13: 39 | E13: 29 | F13: 14 | G13: 9
A14: 100,000㎡ | B14: 347 | C14: 193 | D14: 65 | E14: 50 | F14: 24 | G14: 15

Sheet Sheet1
