Workbook

Sheet 00.1 표지
A5: 난지 분뇨처리장 제2농축기동 농축기 교체공사
A16: 2026년 04월
A20: 서울시 난지물재생센터

Sheet 01. 사업설명서
A1: 사 업 설 명 서
A4: 1. | B4: 사 업 명 : | C4: ='00.1 표지'!A5 -> 난지 분뇨처리장 제2농축기동 농축기 교체공사
A6: 2. | B6: 위 치 : | C6: 난지물재생센터 위생처리장 2농축기동
A8: 3. | B8: 목 적 : | C8: 슬러지 농축시설을 개선하여 슬러지 처리에 만전을 기하고자 함
A10: 4. | B10: 사 업 개 요 : | C10: 가. 설치공사 - 신규 슬러지공급펌프 및 농축액 이송 컨베이어, 유량계 각 1대
C11: 나. 배관공사 - 지상1층 슬러지 공급 배관
C12: 다. 고재처리 - 기존 드럼 농축기 및 농축액 이송컨베이어
C13: 라. 관급기자자재 - 신규 슬러지공급펌프 및 농축액 이송컨베이어
A15: 5. | B15: 주요자재 및 소요현황 : 설계내역서 참조
A17: 6. | B17: 사 업 기 간 : | C17: 착수일로부터 28일 간
A19: 7. | B19: 설계변경조건 : | C19: 가. 설계서의 내용이 불분명하거나 누락, 오류, 상호모순되는 점이 있을 경우
C20: 나. 지질, 용수 등 현장의 상태가 설계서와 다를 경우
C21: 다. 새로운 기술, 공법 사용으로 사업비의 절감 및 사업기간의 단축 등의 효과가 현저할 경우
C22: 라. 그 밖의 발주기관이 설계서를 변경할 필요가 있다고 인정할 경우

Sheet 02. 예정공정표
A1: 예 정 공 정 표
B4: ='01. 사업설명서'!B4 -> 사 업 명 : | C4: ='01. 사업설명서'!C4 -> 난지 분뇨처리장 제2농축기동 농축기 교체공사
A6: 공 기 공 정 | E6: ='01. 사업설명서'!C17 -> 착수일로부터 28일 간 | N6: 공정율 | O6: 비고
E7: 3 | F7: 6 | G7: 9 | H7: 12 | I7: 15 | J7: 18 | K7: 21 | L7: 24 | M7: 28 | N7: ( % )
A8: 도서 검토 및 승인 | N8: 10
A11: 자재 제작 및 구입 | N11: 60
A14: 설치 | N14: 20
A17: 시운전 | N17: 5
A20: 준공 및 검사 | N20: 5
A23: 총계 | N23: 100

Sheet 03.1 일반시방서
A1: 일 반 시 방 서
A4: 1. | B4: 적용범위
B5: ="본 시방서는 """&'01. 사업설명서'!C4&"""의 일반사항에 관하여 적용한다." -> 본 시방서는 "난지 분뇨처리장 제2농축기동 농축기 교체공사"의 일반사항에 관하여 적용한다.
A7: 2. | B7: 적용기준 및 규격
B8: 본 시방서에 준하여 공급·설치되는 모든 자재 및 설비는 KS규격에 부합되어야 하며 제품의 일반적인 형상·형식 및 품질을 나타낼
B9: 목적으로 타 국가의 표준규격을 준용할 수 있으나 이때는 본 시방서의 표준규격 품질과 동등하거나 그 이상의 것이어야 한다.
A11: 3. | B11: 법령 등의 준수
B12: 가. 계약자는 본건의 수행에 있어 당해 건과 관련된 법률 및 우리 관내에서 정하고 있는 제규정 등을 준수하여야 한다.
B13: 나. 본 사업에 종사하는 근로자에 대한 제반 법령의 운용 및 적용은 계약자가 모든 책임을 진다.
A15: 4. | B15: 책임한계
B16: 가. 계약자는 현장대리인 등 당해 작업을 위하여 임명·지정·고용한 자 및 납품계약을 체결한 자의 행위와 결과에 대한 책임을 진다.
B17: 나. 계약자는 당해 사업의 목적물을 발주처에 인도하기 전에 아래와 같이 발생한 사고에 대한 민·형사상 모든 책임을 진다.
B18: 1) 본 사업 목적물의 파손, 오염, 분실, 변형 등으로 인한 피해 시
B19: 2) 주의와 의무를 태만히 하여 발생한 안전사고(인명손상 등) 발생 시
A21: 5. | B21: 어구해석
B22: 가. 설계도서에 상호 모순이 있을 경우에는 아래 순서에 따라 적용한다.
B23: 1) 시방서
B24: 2) 설계도서
B25: 3) 수량산출서
B26: 4) 시방서에 명기되지 않은 사항에 대하여 모순이 있을 경우에는 상호 협의하여 작업 할 수 있다.
A27: 6. | B27: 제출서류
B28: 가. 착수계 접수시
B29: 1) 현장대리인 선임계
B30: 2) 예정공정표
B31: 3) 기타 발주처에서 지정한 사항
B32: 나. 승인도서
B33: 1) 계약자는 착수 후 15일 이내에 설계도서 및 시방서의 요구조건을 만족하는 도면 및 설치도를 작성·제출하여 발주처의 승인을
B34: 득한 후 제작, 설치하여야 한다. 모든 기자재의 승인도서는 다음의 내용이 포함되어야 한다.
B35: 가) 설계 제원을 파악할 수 있는 내용(Data Sheet, Specification 등)
B36: 나) 제작사명, 공급수량, 기기의 형식
B37: 다) 기자재의 배치도 및 조립과 설계도면
B38: 라) 기자재의 재질, 규격
B39: 마) 조작반의 외형도, 내부상세도, 전기도면
... B49: 4) 기타 발주처에서 지시한 사항
A51: 7. | B51: 공정 및 현장관리
B52: 가. 시방서와 설계도면에 부합되도록 시공하여야 하며, 계약자는 사업 전반에 대하여 발주처와 협의하여 시공한다.
B53: 나. 계약자는 숙련을 요하는 작업에는 상당한 경험과 기술력을 겸비한 기술자를 배치하여 수행토록 하여야하며, 원활한 작업 진척을
B54: 위해 충분한 인원을 배치하여야 한다.
B55: 다. 본 사업은 예정공정표에 맞추어 수행하고 본 사업 수행 중 계획공정 대비 추진실적이 미흡하다고 발주처에서 판단시 계약자는
B56: 공정 만회 대책을 수립·제출하여야 한다.
B57: 라. 계약자는 작업 시 주변 시설물이 훼손되지 않도록 필요한 조치를 강구하여야 하며 작업 현장 주변 정리정돈을 철저히 하여야 한다.
B58: 마. 현장대리인은 작업공정에 대해 수시로 발주처에 보고하여야 한다.
B59: 바. 계약자가 작업 내용상 불가피하여 야간작업을 하고자 하는 때에는 미리 발주처의 승인을 받아야 한다.
A61: 8. | B61: 자재반입 및 검사
B62: 가. 계약자는 자재를 현장에 반입하고자 하는 경우에는 사전에 발주처에게 통보하여야 한다.
B63: 나. 현장에 반입된 자재 및 장비는 발주처의 승인없이 장외로 반출하여서는 아니된다.
B64: 다. 계약자는 발주처가 자재검사를 하는데 지장이 없도록 편의를 제공하여야 하며, 각종 시험 및 검사에 소요되는 모든 비용은
B65: 계약자가 부담하여야 한다.
B66: 라. 계약자는 본 사업에 대한 제반 검사결과 처분지시가 있을 때에는 이에 따라야 한다.
A68: 9. | B68: 안전관리
B69: 가. 계약자는 제반 안전규정 및 법규를 엄수하여 안전사고가 발생하지 않도록 하여야 하며, 관리 소홀로 인하여 발생되는 모든 안전
B70: 사고 및 재해에 대하여 민·형사상의 모든 책임을 져야 한다.
B71: 나. 작업현장에서는 개인 안전장구를 착용하고 작업에 임해야 한다.
B72: 다. 계약자는 현장 작업자에게 안전에 관한 사항을 교육하여야 하며 안전장구를 지급 착용토록 하여 안전사고 예방에 최선을 다한다.
A75: 10. | B75: 사고의 보고
B76: 계약자는 가설물이나 구조물의 파손 또는 타 작업의 수행에 영향을 미치는 사고나 인명의 손상 또는 제3자에 피해를 미치는 사고가
B77: 일어나거나 그로 인한 사고 발생의 징조를 발견하였을 때에는 응급조치를 취하고 발주처에게 즉시 보고하여야 한다.
A79: 11. | B79: 시운전과 조정
B80: 모든 사업의 완료시에는 기기별 성능검사서를 작성 후 시운전과 조정계획을 수립하여 발주처에게 보고하여야 하며, 그 결과를
B81: 보고서로 제출해야 한다.
A83: 12. | B83: 완료
B84: 가. 설치 완료 후 시운전시 설치된 모든 기기는 정상 작동하여야 한다.
B85: 나. 슬러지 조건에 맞추어 케익 함수율 및 회수율이 만족하도록 제작·설치 하여야 한다.
B86: 다. 설치 후 현장관리자가 운용할 수 있도록 각 설비의 운전지침 및 유지관리지침서등을 작성·제출 하여야 한다.
A88: 13. | B88: 하자담보책임기간
B89: 하자담보책임기간은 준공일로부터 2년으로 한다.
A91: 14. | B91: 특기사항
B92: ="본 설비는 "&'01. 사업설명서'!$C$6&" 운영에 있어 중요한 장비로써 공급하는 업체가 직접 제작·설치 하여야 한다." -> 본 설비는 난지물재생센터 위생처리장 2농축기동 운영에 있어 중요한 장비로써 공급하는 업체가 직접 제작·설치 하여야 한다.

Sheet 03.2 특별시방서
A1: 특 별 시 방 서
A3: Ⅰ. 설치공사 및 배관공사
A4: 1. | B4: 공사범위
B5: 가. 설치공사 - 슬러지공급펌프1대, 유량계 1대
B6: 나. 배관공사 - 슬러지 배관 (바이패스배관 포함)
B7: 다. 그 외 감독관과 협의하여 원심농축기의 원활한 운영에 필요한 작업
A9: 2. | B9: 배관작업
B10: 가. 배관 시공에 앞서 타 설비 배관 및 기기와의 관련사항을 상세히 검토하고 기울기를 고려하여 그 위치를 정확히 결정한다.
B11: 나. 모든 배관은 관경을 축소시키지 않는 공구를 사용하고 관측에 대해 직각으로 절단하고 그 절단 부위는 뒤말림 및 부스러기 등이
B12: 없도록 평탄하고 매끄럽게 다듬질 한다.
B13: 다. 모든 배관은 관경 축소 시 부싱 사용을 금하고 레듀샤를 사용한다.
B14: 라. 관은 연결전에 그 내부를 점검하고 이물질이 없는 것을 확인 후 접합한다.
B15: 마. 배관 작업 중 또는 일시 중단하는 경우에는 관내에 이물질이 들어가지 않도록 테이프로 보호하여야 한다.
B16: 바. 방화 구획 등을 관통하는 관은 그 틈새를 암면 보온재 및 기타 불연재로 메운다.
B17: 사. 결로 방지 및 보온을 하지 않는 배관에서 천장, 바닥 및 벽 등을 관통하는 곳으로서 보이는 곳에는 관 스플릿 와셔를 설치한다.
B18: 아. 신축이음쇠를 설치한 배관에는 그 신축부분을 기점으로 하여 유효한 곳에 고정 철물을 설치한다.
B19: 자. 기기 주위의 배관은 기기의 조작, 점검, 보수용 여유를 확보함과 동시에 필요한 장소에 배관 분기용 플랜지 등을 설치한다.
B20: 차. 재질이 다른 금속배관이나 기기와 배관의 연결 부위에는 부식방지용 절연 이음쇠를 설치한다.
B21: 카. 관의 신축, 진동, 하중에 견딜 수 있도록 입상관 및 횡주관에는 파이프 앙카, 파이프 행가, 파이프 클램프 등으로 지지한다.
... B23: 하. 사용되는 모든 자재는 감독관의 지시가 없는한 압력 10kg/㎠의 자재를 사용한다.
A25: 3. | B25: 용접작업
B26: 가. 용접봉은 스테인리스 용접봉(KST 308, 또는 티그T-308)을 사용한다.
B27: 나. 모재의 용접면은 용접하기 전에 녹, 스케일, 물기, 기름기, 슬러그, 도료 등 용접에 지장이 있는 것들은 제거한다.
B28: 다. 용접기와 그 부속기구는 그 주어진 용접 조건에 맞는 구조 및 기능을 갖고 안전하게 용접 할 수 있어야 한다.
B29: 라. 용접부는 결함이 없고 표면이 매끈하여야 한다.
B30: 마. 용접순서는 용접에 의한 변형 및 잔류 응력이 작아지도록 정한다.
B31: 바. 용접자세는 부재의 위치 조정이 가능한 경우 하향 용접으로 한다.
B32: 사. 용접작업 중에는 누전, 전격, 아크 등에 의한 사고 또는 용융 금속, 아크등에 의한 화재 등을 방지하도록 조치한다.
B33: 아. 용접으로 유독가스가 발생할 우려가 있는 곳은 충분히 환기한다.
B34: 자, 현장용접을 시행하는 부분에서 심한 녹이 발생할 염려가 있는 부분은 적절한 방청 처리를 한다.
A36: 4. | B36: 특기사항
B37: 본 작업은 원심농축기 부대공사로서 원심농축기 설치 및 운영이 원활할 수 있도록 감독관 및 원심탈수기 업체와 협의하여
B38: 진행하여야 한다.

Sheet 04.1 설계서용지(갑)
B2: 설계자 | D2: 심사자 | F2: 시 설 관리담당 | H2: 과장 | J2: 설계 년월일 | K2: 2026년 04월 일
B9: ='01. 사업설명서'!C4 -> 난지 분뇨처리장 제2농축기동 농축기 교체공사
C11: 설 계 내 역 서
C15: 구 분 | F15: 금 액
C16: 총 사 업 비 | F16: ='04.2 원가계산서'!D35 -> 0 | I16: ="(금 "&NUMBERSTRING(F16,1)&"원)" -> (금 영원)
C17: 도급공사 | D17: 공 급 가 액 | F17: ='04.2 원가계산서'!D31 -> 0 | I17: ="(금 "&NUMBERSTRING(F17,1)&"원)" -> (금 영원)
D18: 부가가치세 | F18: ='04.2 원가계산서'!D32 -> 0 | I18: ="(금 "&NUMBERSTRING(F18,1)&"원)" -> (금 영원)
D19: 도급공사합계 | F19: ='04.2 원가계산서'!D33 -> 0 | I19: ="(금 "&NUMBERSTRING(F19,1)&"원)" -> (금 영원)
C20: 관 급 자 재 비 | F20: ='04.2 원가계산서'!D34 -> 0 | I20: ="(금 "&NUMBERSTRING(F20,1)&"원)" -> (금 영원)
B392: 2) 임펠라는 SSC 13을 사용한다.
B393: 3) 흡입카바는 GC 250을 사용한다.
B394: 4) 펌프축은 STS 410을 사용 한다.
B395: 5) BOLT/NUT는 STS 304을 사용한다.
B396: 6) LIFTTING CHAIN은 STS 304을 사용하고 길이는 5M로 한다.
B397: 7) 탈착밴드 및 슬라이딩 브라켓은 GC 250을 사용한다.
B398: 8) 가이드 써포트 GC 250을 사용한다.
B399: 9) 가이드 파이프 STS 304을 사용한다.
B400: 10) 동력 케이블 길이는 현장여건에 맞추어 10M로 한다.
A402: 7 | B402: 표시사항
B403: 모터 펌프의 몸체에는 다음 사항을 표시한 명판을 부착합니다.
B404: - 모델명 | D404: - 극수 및 회전수 | G404: - 전원 및 주파수
B405: - 정격출력 | D405: - 정격전류 | G405: - 제조번호
B406: - 제조자명 | D406: - 제조년월
A408: 8 | B408: 예비품 및 부속품
B409: 해당없음
A413: 9 | B413: 도장 및 포장
B414: 가. 도 장 : 모터 펌프 내외면에는 기초 도장으로 프라이머를 1회칠하고 마감 도장으로 에폭시 페인트를 2회 칠하여 도막두께
B415: 80μM이상충분한 방청 및 내식처리를 한다.
B416: 나. 포 장 : 모터 펌프는 운반 및 보관에 안전하도록 단위별 포장하며 포장방법은 BUNDLE TYPE으로 견고하게 포장되도록 한다.
A418: 10

Sheet 04.2 원가계산서
A1: 원 가 계 산 서
A4: ='01. 사업설명서'!B4 -> 사 업 명 : | B4: ='01. 사업설명서'!C4 -> 난지 분뇨처리장 제2농축기동 농축기 교체공사
A5: 비목 | D5: 금액 | E5: 비고 | G5: 건축산업환경설비 조달청 2026. 03. 13 입찰공고부터
A6: 순공사원가 | B6: 재료비 | C6: 직접재료비 | D6: ='05.1 설계내역서 총괄'!G5+'05.1 설계내역서 총괄'!G7 -> 0
C7: 간접재료비
C8: 작업설, 부산물
C9: 소계 | D9: =SUM(D6:D8) -> 0
B10: 노무비 | C10: 직접노무비 | D10: ='05.1 설계내역서 총괄'!I19 -> 0
C11: 간접노무비 | D11: =INT(D10*E11%) -> 0 | E11: 17.5
C12: 소계 | D12: =SUM(D10:D11) -> 0
B13: 경비 | C13: 경비 | D13: ='05.1 설계내역서 총괄'!K19 -> 0
C14: 산재보험료 | D14: =INT(D12*E14%) -> 0 | E14: 3.56
C15: 고용보험료 | D15: =INT(D12*E15%) -> 0 | E15: 1.01
C16: 건강보험료 | E16: 3.595 | G16: 30일 이상 적용
C17: 연금보험료 | E17: 4.75 | G17: 30일 이상 적용
C18: 노인장기요양보험료 | E18: 13.14 | G18: 30일 이상 적용
C19: 퇴직공제부금비 | E19: 2.3 | G19: 1억 이상 적용
C20: 산업안전보건관리비 | D20: =M21 -> 0 | E20: (재+직노) × 3.11% ×1.2 | G20: 2천만원 이상 적용 | J20: 산업안전보건관리비 (A,B중 작은금액) | K20: A | L20: (재+직노+도급자관급)*3.11% | M20: =(D9+D10+D34)*3.11% -> 0
C21: 석면분담금 | D21: =INT((D12)*E21%) -> 0 | E21: 0.006 | K21: B | L21: ((재+직노)*3.11%)*1.2 | M21: =((D9+D10)*3.11%)*1.2 -> 0
C22: 임금채권부담금 | D22: =INT((D12)*E22%) -> 0 | E22: 0.09
C23: 환경보전비 | D23: =INT(D6+D10+D13)*E23% -> 0 | E23: 0.5
C24: 건설기계대여대금지급보증액 | D24: =INT(D6+D10+D13)*E24% -> 0 | E24: 0.1
C25: 기타경비 | D25: =INT((D9+D12)*E25%) -> 0 | E25: 5
C26: 소계 | D26: =SUM(D13:D25) -> 0
B27: 순공사원가 합계 | D27: =D9+D12+D26 -> 0
A28: 일반관리비 | D28: =INT((D9+D12+D26)*E28%) -> 0 | E28: 8
A29: 이윤 | D29: =INT((D12+D26+D28)*E29%)-H31 -> 0 | E29: 15
A30: 고재처리 | D30: ='05.1 설계내역서 총괄'!E9 -> 0
A31: 공급가액 | D31: =TRUNC(SUM(D27:D30),0) -> 0 | G31: 단수조정
A32: 부가가치세 | D32: =INT(D31*E32%) -> 0 | E32: 10
A33: 도급공사합계 | D33: =D31+D32 -> 0 | E33: 도급공사비
A34: 관급자재비 | D34: ='06. 관급기자재'!F13 -> 0 | E34: 관급기자재비(부가세포함)
A35: 총사업비 | D35: =D33+D34 -> 0 | E35: 도급공사비+관급자재비

Sheet 05.1 설계내역서 총괄
A1: ='07. 수량산출서'!A1:A2 -> 품 명 | B1: ='07. 수량산출서'!B1:B2 -> 규격 | C1: 수량 | D1: 단위 | E1: 합계 | F1: 재료비 | H1: 노무비 | J1: 경비 | L1: 비고
F2: 단가 | G2: 금액 | H2: 단가 | I2: 금액 | J2: 단가 | K2: 금액
A3: ='05.2 설계내역서'!A3 -> 1. 철거공사 | C3: 1 | D3: 식 | E3: =G3+I3+K3 -> 0 | I3: ='05.2 설계내역서'!I3 -> 0
A5: ='05.2 설계내역서'!A6 -> 2. 설치공사 | C5: 1 | D5: 식 | E5: =G5+I5+K5 -> 0 | G5: ='05.2 설계내역서'!G6 -> 0 | I5: ='05.2 설계내역서'!I6 -> 0 | K5: ='05.2 설계내역서'!K6 -> 0
A7: ='05.2 설계내역서'!A12 -> 3. 배관공사 | C7: 1 | D7: 식 | E7: =G7+I7+K7 -> 0 | G7: ='05.2 설계내역서'!G12 -> 0 | I7: ='05.2 설계내역서'!I12 -> 0 | K7: ='05.2 설계내역서'!K12 -> 0
A9: ='05.2 설계내역서'!A28 -> 4. 고재처리 | C9: 1 | D9: 식 | E9: =G9+I9+K9 -> 0 | G9: ='05.2 설계내역서'!G28 -> 0
A19: 소 계 | E19: =SUM(E3:E9) -> 0 | G19: =SUM(G3:G9) -> 0 | I19: =SUM(I3:I9) -> 0 | K19: =SUM(K3:K9) -> 0

Sheet 05.2 설계내역서
A1: 품명 | B1: 규격 | C1: 수량 | D1: 단위 | E1: 합계 | F1: 재 료 비 | H1: 노 무 비 | J1: 경 비 | L1: 비 고
F2: 단가 | G2: 금액 | H2: 단가 | I2: 금액 | J2: 단가 | K2: 금액
A3: ='07. 수량산출서'!A3 -> 1. 철거공사 | E3: =SUM(G3,I3,K3) -> 0 | I3: =SUM(I4) -> 0
A4: ='07. 수량산출서'!A4 -> 기존 농축이송컨베이어 | B4: ='07. 수량산출서'!B4 -> 무축,D300*9M*2.2kW | C4: ='07. 수량산출서'!D4 -> 1 | D4: ='07. 수량산출서'!C4 -> TON | E4: =SUM(G4,I4,K4) -> 0 | H4: ='09. 일위대가표'!I13 -> 0 | I4: =TRUNC(H4*C4,0) -> 0 | L4: ='09. 일위대가표'!N11 -> 2
A6: ='07. 수량산출서'!A6 -> 2. 설치공사 | E6: =SUM(G6,I6,K6) -> 0 | G6: =SUM(G7:G9) -> 0 | I6: =SUM(I7:I10) -> 0 | K6: =SUM(K7:K10) -> 0
A7: ='07. 수량산출서'!A7 -> 슬러지 유량계 구매 | B7: ='07. 수량산출서'!B7 -> 분리형, 150A | C7: ='07. 수량산출서'!D7 -> 1 | D7: ='07. 수량산출서'!C7 -> 대 | E7: =SUM(G7,I7,K7) -> 0 | F7: ='08. 가격조사표'!L8 -> 0 | G7: =TRUNC(F7*C7,0) -> 0 | L7: ='08. 가격조사표'!N8 -> 단가3
A8: ='07. 수량산출서'!A8 -> 슬러지펌프 설치 | B8: ='07. 수량산출서'!B8 -> 11kW, 로브펌프 | C8: ='07. 수량산출서'!D8 -> 1 | D8: ='07. 수량산출서'!C8 -> 개소 | E8: =SUM(G8,I8,K8) -> 0 | H8: ='09. 일위대가표'!I19 -> 0 | I8: =TRUNC(H8*C8,0) -> 0 | J8: ='09. 일위대가표'!K19 -> 0 | K8: =TRUNC(J8*C8,0) -> 0 | L8: ='09. 일위대가표'!N15 -> 3
A9: ='07. 수량산출서'!A9 -> 슬러지 유량계 설치 | B9: ='07. 수량산출서'!B9 -> 150A | C9: ='07. 수량산출서'!D9 -> 1 | D9: ='07. 수량산출서'!C9 -> 개소 | E9: =SUM(G9,I9,K9) -> 0 | H9: ='09. 일위대가표'!I25 -> 0 | I9: =TRUNC(H9*C9,0) -> 0 | J9: ='09. 일위대가표'!K25 -> 0 | K9: =TRUNC(J9*C9,0) -> 0 | L9: ='09. 일위대가표'!N21 -> 4
A10: ='07. 수량산출서'!A10 -> 농축이송컨베이어설치 | B10: ='07. 수량산출서'!B10 -> 무축,D300*12M*3.7kW | C10: ='07. 수량산출서'!D10 -> 1.75 | D10: ='07. 수량산출서'!C10 -> TON | E10: =SUM(G10,I10,K10) -> 0 | H10: ='09. 일위대가표'!I9 -> 0 | I10: =TRUNC(H10*C10,0) -> 0 | L10: ='09. 일위대가표'!A3 -> 1
A12: ='07. 수량산출서'!A12 -> 3. 배관공사 | E12: =SUM(G12,I12,K12) -> 0 | G12: =SUM(G13:G26) -> 0 | I12: =SUM(I13:I26) -> 0 | K12: =SUM(K13:K26) -> 0
A13: ='07. 수량산출서'!A14 -> 스테인레스 강관 | B13: ='07. 수량산출서'!B14 -> 150A, 3.5T | C13: ='07. 수량산출서'!D14 -> 6 | D13: ='07. 수량산출서'!C14 -> m | E13: =SUM(G13,I13,K13) -> 0 | F13: ='08. 가격조사표'!L13 -> 0 | G13: =TRUNC(F13*C13,0) -> 0 | L13: ='08. 가격조사표'!N13 -> 단가6
A14: ='07. 수량산출서'!A15 -> 스테인레스 강관 | B14: ='07. 수량산출서'!B15 -> 100A, 3.0T | C14: ='07. 수량산출서'!D15 -> 6 | D14: ='07. 수량산출서'!C15 -> m | E14: =SUM(G14,I14,K14) -> 0 | F14: ='08. 가격조사표'!L14 -> 0 | G14: =TRUNC(F14*C14,0) -> 0 | L14: ='08. 가격조사표'!N14 -> 단가7 | P14: 29000000
A15: ='07. 수량산출서'!A16 -> 스테인레스 엘보 | B15: ='07. 수량산출서'!B16 -> 150A | C15: ='07. 수량산출서'!D16 -> 2 | D15: ='07. 수량산출서'!C16 -> EA | E15: =SUM(G15,I15,K15) -> 0 | F15: ='08. 가격조사표'!L15 -> 0 | G15: =TRUNC(F15*C15,0) -> 0 | L15: ='08. 가격조사표'!N15 -> 단가8 | P15: =P14*805 -> 23345000000
A16: ='07. 수량산출서'!A17 -> 스테인레스 엘보 | B16: ='07. 수량산출서'!B17 -> 100A | C16: ='07. 수량산출서'!D17 -> 2 | D16: ='07. 수량산출서'!C17 -> EA | E16: =SUM(G16,I16,K16) -> 0 | F16: ='08. 가격조사표'!L16 -> 0 | G16: =TRUNC(F16*C16,0) -> 0 | L16: ='08. 가격조사표'!N16 -> 단가9
A17: ='07. 수량산출서'!A18 -> 스테인레스 티 | B17: ='07. 수량산출서'!B18 -> 150A | C17: ='07. 수량산출서'!D18 -> 2 | D17: ='07. 수량산출서'!C18 -> EA | E17: =SUM(G17,I17,K17) -> 0 | F17: ='08. 가격조사표'!L17 -> 0 | G17: =TRUNC(F17*C17,0) -> 0 | L17: ='08. 가격조사표'!N17 -> 단가10
A18: ='07. 수량산출서'!A19 -> 스테인레스 레듀셔 | B18: ='07. 수량산출서'!B19 -> 150A * 100A | C18: ='07. 수량산출서'!D19 -> 1 | D18: ='07. 수량산출서'!C19 -> EA | E18: =SUM(G18,I18,K18) -> 0 | F18: ='08. 가격조사표'!L18 -> 0 | G18: =TRUNC(F18*C18,0) -> 0 | L18: ='08. 가격조사표'!N18 -> 단가11
A19: ='07. 수량산출서'!A20 -> 스테인레스 플랜지 | B19: ='07. 수량산출서'!B20 -> 150A | C19: ='07. 수량산출서'!D20 -> 9 | D19: ='07. 수량산출서'!C20 -> EA | E19: =SUM(G19,I19,K19) -> 0 | F19: ='08. 가격조사표'!L19 -> 0 | G19: =TRUNC(F19*C19,0) -> 0 | L19: ='08. 가격조사표'!N19 -> 단가12
A20: ='07. 수량산출서'!A21 -> 주철 게이트밸브 | B20: ='07. 수량산출서'!B21 -> 150A | C20: ='07. 수량산출서'!D21 -> 3 | D20: ='07. 수량산출서'!C21 -> EA | E20: =SUM(G20,I20,K20) -> 0 | F20: ='08. 가격조사표'!L20 -> 0 | G20: =TRUNC(F20*C20,0) -> 0 | L20: ='08. 가격조사표'!N20 -> 단가13
A21: ='07. 수량산출서'!A22 -> 배관설치 | B21: ='07. 수량산출서'!B22 -> 150A | C21: ='07. 수량산출서'!D22 -> 6 | D21: ='07. 수량산출서'!C22 -> m | E21: =SUM(G21,I21,K21) -> 0 | H21: =VLOOKUP(L21,'09. 일위대가표'!N:P,3,FALSE) -> 0 | I21: =TRUNC(H21*C21,0) -> 0 | J21: =VLOOKUP(L21,'09. 일위대가표'!N:Q,4,FALSE) -> 0 | K21: =TRUNC(J21*C21,0) -> 0 | L21: ='09. 일위대가표'!N27 -> 5
A22: ='07. 수량산출서'!A23 -> 배관설치 | B22: ='07. 수량산출서'!B23 -> 100A | C22: ='07. 수량산출서'!D23 -> 6 | D22: ='07. 수량산출서'!C23 -> m | E22: =SUM(G22,I22,K22) -> 0 | H22: =VLOOKUP(L22,'09. 일위대가표'!N:P,3,FALSE) -> 0 | I22: =TRUNC(H22*C22,0) -> 0 | J22: =VLOOKUP(L22,'09. 일위대가표'!N:Q,4,FALSE) -> 0 | K22: =TRUNC(J22*C22,0) -> 0 | L22: ='09. 일위대가표'!N35 -> 6
A23: ='07. 수량산출서'!A24 -> 용접접합 | B23: ='07. 수량산출서'!B24 -> 150A | C23: ='07. 수량산출서'!D24 -> 11 | D23: ='07. 수량산출서'!C24 -> 개소 | E23: =SUM(G23,I23,K23) -> 0 | G23: =TRUNC(F23*C23,0) -> 0 | H23: =VLOOKUP(L23,'09. 일위대가표'!N:P,3,FALSE) -> 0 | I23: =TRUNC(H23*C23,0) -> 0 | J23: ='09. 일위대가표'!K48 -> 0 | K23: =TRUNC(J23*C23,0) -> 0 | L23: ='09. 일위대가표'!N43 -> 7
A24: ='07. 수량산출서'!A25 -> 용접접합 | B24: ='07. 수량산출서'!B25 -> 100A | C24: ='07. 수량산출서'!F25 -> 2 | D24: ='07. 수량산출서'!C25 -> 개소 | E24: =SUM(G24,I24,K24) -> 0 | G24: =TRUNC(F24*C24,0) -> 0 | H24: ='09. 일위대가표'!I55 -> 0 | I24: =TRUNC(H24*C24,0) -> 0 | J24: ='09. 일위대가표'!K55 -> 0 | K24: =TRUNC(J24*C24,0) -> 0 | L24: ='09. 일위대가표'!A50 -> 8
A25: ='07. 수량산출서'!A26 -> 플랜지 접합 | B25: ='07. 수량산출서'!B26 -> 150A | C25: ='07. 수량산출서'!D26 -> 9 | D25: ='07. 수량산출서'!C26 -> 개소 | E25: =SUM(G25,I25,K25) -> 0 | H25: ='09. 일위대가표'!I60 -> 0 | I25: =TRUNC(H25*C25,0) -> 0 | L25: ='09. 일위대가표'!N57 -> 9
A26: ='07. 수량산출서'!A27 -> 밸브설치 | B26: ='07. 수량산출서'!B27 -> 150A | C26: ='07. 수량산출서'!D27 -> 3 | D26: ='07. 수량산출서'!C27 -> 개소 | E26: =SUM(G26,I26,K26) -> 0 | H26: ='09. 일위대가표'!I66 -> 0 | I26: =TRUNC(H26*C26,0) -> 0 | J26: ='09. 일위대가표'!K66 -> 0 | K26: =TRUNC(J26*C26,0) -> 0 | L26: ='09. 일위대가표'!N62 -> 10
A28: ='08. 가격조사표'!A22 -> 4. 고재처리 | E28: =SUM(G28,I28,K28) -> 0 | G28: =SUM(G29:G30) -> 0
A29: ='07. 수량산출서'!A31 -> 기존 농축이송컨베이어 | B29: ='07. 수량산출서'!H31 -> STS 304 | C29: ='07. 수량산출서'!D31 -> 1000 | D29: ='07. 수량산출서'!C31 -> KG | E29: =SUM(G29,I29,K29) -> 0 | F29: ='08. 가격조사표'!L23 -> 0 | G29: =TRUNC(F29*C29,0) -> 0 | L29: ='08. 가격조사표'!N23 -> 단가14
A30: ='07. 수량산출서'!A32 -> 드럼농축기 | B30: ='07. 수량산출서'!H32 -> 중량A | C30: ='07. 수량산출서'!D32 -> 2950 | D30: ='07. 수량산출서'!C32 -> KG | E30: =SUM(G30,I30,K30) -> 0 | F30: ='08. 가격조사표'!L23 -> 0 | G30: =TRUNC(F30*C30,0) -> 0 | L30: ='08. 가격조사표'!N24 -> 단가15

Sheet 06. 관급기자재
A1: 품 명 | B1: 규격 | C1: 단 위 | D1: 수 량 | E1: 단가 | F1: 금액 | G1: 비고
A3: 관급기자재
A4: 슬러지공급펌프 | B4: 90㎥/hr 11kW, 로브펌프 | C4: 대 | D4: 1 | E4: ='08. 가격조사표'!L4 -> 0 | F4: =E4 -> 0 | G4: VOGELSANG
A5: 농축이송 컨베이어 | B5: 무축,D300*12M*3.7kW | C5: 대 | D5: 1 | E5: ='08. 가격조사표'!L5 -> 0 | F5: =E5 -> 0
A11: 공급가 | F11: =F4+F5 -> 0
A12: 부가세 | F12: =F11*0.1 -> 0
A13: 합 계 | F13: =F11+F12 -> 0

Sheet 07. 수량산출서
A1: 품 명 | B1: 규격 | C1: 단 위 | D1: 수 량 | E1: 할증(%) | F1: 합 계 | G1: 산출근거 | H1: 비고
A3: 1. 철거공사
A4: 기존 농축이송컨베이어 | B4: 무축,D300*9M*2.2kW | C4: TON | D4: 1 | F4: =ROUND(D4*(1+E4),1) -> 1 | G4: 도면 M-001~002
A6: 2. 설치공사
A7: 슬러지 유량계 구매 | B7: 분리형, 150A | C7: 대 | D7: 1 | F7: =ROUND(D7*(1+E7),1) -> 1 | G7: 도면 M-001~004 | H7: 윈텍
A8: 슬러지펌프 설치 | B8: 11kW, 로브펌프 | C8: 개소 | D8: 1 | F8: =ROUND(D8*(1+E8),1) -> 1 | G8: =G7 -> 도면 M-001~004
A9: 슬러지 유량계 설치 | B9: 150A | C9: 개소 | D9: 1 | F9: =ROUND(D9*(1+E9),1) -> 1 | G9: =G8 -> 도면 M-001~004
A10: 농축이송컨베이어설치 | B10: ='06. 관급기자재'!B5 -> 무축,D300*12M*3.7kW | C10: =C4 -> TON | D10: 1.75 | F10: =ROUND(D10*(1+E10),1) -> 1.8 | G10: =G9 -> 도면 M-001~004
A12: 3. 배관공사
A13: 3.1 슬러지 신규 배관
A14: 스테인레스 강관 | B14: 150A, 3.5T | C14: m | D14: 6 | E14: 0.05 | F14: =ROUND(D14*(1+E14),1) -> 6.3 | G14: =G10 -> 도면 M-001~004
A15: 스테인레스 강관 | B15: 100A, 3.0T | C15: m | D15: 6 | E15: 0.05 | F15: =ROUND(D15*(1+E15),1) -> 6.3 | G15: =G14 -> 도면 M-001~004
A16: 스테인레스 엘보 | B16: 150A | C16: EA | D16: 2 | F16: =ROUND(D16*(1+E16),1) -> 2 | G16: =G15 -> 도면 M-001~004
A17: 스테인레스 엘보 | B17: 100A | C17: EA | D17: 2 | F17: =ROUND(D17*(1+E17),1) -> 2 | G17: =G16 -> 도면 M-001~004
A18: 스테인레스 티 | B18: 150A | C18: EA | D18: 2 | F18: =ROUND(D18*(1+E18),1) -> 2 | G18: =G17 -> 도면 M-001~004
A19: 스테인레스 레듀셔 | B19: 150A * 100A | C19: EA | D19: 1 | F19: =ROUND(D19*(1+E19),1) -> 1 | G19: =G18 -> 도면 M-001~004
A20: 스테인레스 플랜지 | B20: 150A | C20: EA | D20: 9 | F20: =ROUND(D20*(1+E20),1) -> 9 | G20: =G19 -> 도면 M-001~004
A21: 주철 게이트밸브 | B21: 150A | C21: EA | D21: 3 | F21: =ROUND(D21*(1+E21),1) -> 3 | G21: =G20 -> 도면 M-001~004
A22: 배관설치 | B22: 150A | C22: m | D22: 6 | F22: =ROUND(D22*(1+E22),1) -> 6 | G22: =G21 -> 도면 M-001~004
A23: 배관설치 | B23: 100A | C23: m | D23: 6 | F23: =ROUND(D23*(1+E23),1) -> 6 | G23: =G22 -> 도면 M-001~004
A24: 용접접합 | B24: 150A | C24: 개소 | D24: 11 | F24: =ROUND(D24*(1+E24),1) -> 11 | G24: =G23 -> 도면 M-001~004
A25: 용접접합 | B25: 100A | C25: 개소 | D25: 2 | F25: =ROUND(D25*(1+E25),1) -> 2 | G25: =G24 -> 도면 M-001~004
A26: 플랜지 접합 | B26: 150A | C26: 개소 | D26: 9 | F26: =ROUND(D26*(1+E26),1) -> 9 | G26: =G25 -> 도면 M-001~004
A27: 밸브설치 | B27: 150A | C27: 개소 | D27: 3 | F27: =ROUND(D27*(1+E27),1) -> 3 | G27: =G26 -> 도면 M-001~004
A28: 부자재 - 관지지물 | B28: 강관금액의 30% | C28: % | D28: 30 | F28: =ROUND(D28*(1+E28),1) -> 30
A30: 4. 고재처리
A31: =A4 -> 기존 농축이송컨베이어 | B31: =B4 -> 무축,D300*9M*2.2kW | C31: KG | D31: 1000 | F31: =D31 -> 1000 | G31: =G4 -> 도면 M-001~002 | H31: STS 304
A32: 드럼농축기 | B32: 3,140*2,070*2.2kW | C32: KG | D32: 2950 | F32: =D32 -> 2950 | G32: =G27 -> 도면 M-001~004 | H32: 중량A

Sheet 08. 가격조사표
A1: 품명 | B1: 규격 | C1: 단위 | D1: 물가자료(2026. 04.) | F1: 물가정보(2026. 04.) | H1: 견적1 | J1: 견적2 | L1: 적용단가 | M1: 비고
D2: 단가 | E2: Page | F2: 단가 | G2: Page | H2: 단가 | I2: 업체 | J2: 단가 | K2: 업체
A3: ='06. 관급기자재'!A3 -> 관급기자재
A4: ='06. 관급기자재'!A4 -> 슬러지공급펌프 | B4: ='06. 관급기자재'!B4 -> 90㎥/hr 11kW, 로브펌프 | C4: ='06. 관급기자재'!C4 -> 대 | N4: 단가1
A5: ='06. 관급기자재'!A5 -> 농축이송 컨베이어 | B5: ='06. 관급기자재'!B5 -> 무축,D300*12M*3.7kW | C5: ='06. 관급기자재'!C5 -> 대 | N5: 단가2
A7: ='07. 수량산출서'!A6 -> 2. 설치공사
A8: 슬러지 유량계 | B8: ='07. 수량산출서'!B7 -> 분리형, 150A | C8: ='07. 수량산출서'!C7 -> 대 | L8: =MIN(D8,F8,H8,J8) -> 0 | N8: 단가3
A11: ='07. 수량산출서'!A12 -> 3. 배관공사 | N11: 단가4
A12: ='07. 수량산출서'!A13 -> 3.1 슬러지 신규 배관 | N12: 단가5
A13: ='07. 수량산출서'!A14 -> 스테인레스 강관 | B13: ='07. 수량산출서'!B14 -> 150A, 3.5T | C13: ='07. 수량산출서'!C14 -> m | L13: =MIN(D13,F13,H13,J13) -> 0 | N13: 단가6
A14: ='07. 수량산출서'!A15 -> 스테인레스 강관 | B14: ='07. 수량산출서'!B15 -> 100A, 3.0T | C14: ='07. 수량산출서'!C15 -> m | L14: =MIN(D14,F14,H14,J14) -> 0 | N14: 단가7
A15: ='07. 수량산출서'!A16 -> 스테인레스 엘보 | B15: ='07. 수량산출서'!B16 -> 150A | C15: ='07. 수량산출서'!C16 -> EA | L15: =MIN(D15,F15,H15,J15) -> 0 | N15: 단가8
A16: ='07. 수량산출서'!A17 -> 스테인레스 엘보 | B16: ='07. 수량산출서'!B17 -> 100A | C16: ='07. 수량산출서'!C17 -> EA | L16: =MIN(D16,F16,H16,J16) -> 0 | N16: 단가9
A17: ='07. 수량산출서'!A18 -> 스테인레스 티 | B17: ='07. 수량산출서'!B18 -> 150A | C17: ='07. 수량산출서'!C18 -> EA | L17: =MIN(D17,F17,H17,J17) -> 0 | N17: 단가10
A18: ='07. 수량산출서'!A19 -> 스테인레스 레듀셔 | B18: ='07. 수량산출서'!B19 -> 150A * 100A | C18: ='07. 수량산출서'!C19 -> EA | L18: =MIN(D18,F18,H18,J18) -> 0 | N18: 단가11
A19: ='07. 수량산출서'!A20 -> 스테인레스 플랜지 | B19: ='07. 수량산출서'!B20 -> 150A | C19: ='07. 수량산출서'!C20 -> EA | L19: =MIN(D19,F19,H19,J19) -> 0 | N19: 단가12
A20: ='07. 수량산출서'!A21 -> 주철 게이트밸브 | B20: ='07. 수량산출서'!B21 -> 150A | C20: ='07. 수량산출서'!C21 -> EA | L20: =MIN(D20,F20,H20,J20) -> 0 | N20: 단가13
A22: ='07. 수량산출서'!A30 -> 4. 고재처리
A23: 중량A | L23: =MIN(D23,F23,H23,J23) -> 0 | N23: 단가14
A24: 스테인리스설 | L24: =MIN(D24,F24,H24,J24) -> 0 | N24: 단가15

Sheet 09. 일위대가표
A1: 구분 | B1: 규격 | C1: 수량 | D1: 단위 | E1: 총액 | F1: 재료비 | H1: 노무비 | J1: 경비 | L1: 비고
F2: 단가 | G2: 금액 | H2: 단가 | I2: 금액 | J2: 단가 | K2: 금액 | N2: 호표 | O2: 재료비 | P2: 노무비 | Q2: 경비
A3: 1 | B3: 일반기기 설치 (톤당) | L3: 적정 p954 | N3: =A3 -> 1 | P3: =I9 -> 0 | Q3: =K9 -> 0
A4: 기계설비공 | C4: 7.24 | D4: 인 | H4: ='10. 시중노임표'!C18 -> 0 | I4: =TRUNC(C4*H4,1) -> 0
A5: ='10. 시중노임표'!B10 -> 용접공 | C5: 0.95 | D5: 인 | H5: ='10. 시중노임표'!C10 -> 0 | I5: =TRUNC(C5*H5,1) -> 0
A6: ='10. 시중노임표'!B7 -> 특별인부 | C6: 3.9 | D6: 인 | H6: ='10. 시중노임표'!C7 -> 0 | I6: =TRUNC(C6*H6,1) -> 0
A7: ='10. 시중노임표'!B26 -> 기계산업기사 | C7: 0.5 | D7: 인 | H7: ='10. 시중노임표'!C26 -> 0 | I7: =TRUNC(C7*H7,1) -> 0
A8: 검사 및 교정 | B8: 기술관리제외 본품10% | C8: 10 | D8: % | E8: =SUM(G8,I8,K8) -> 0 | H8: =SUM(I4:I6) -> 0 | I8: =TRUNC(C8*H8%,1) -> 0
A9: 합계 | E9: =SUM(G9,I9,K9) -> 0 | I9: =TRUNC(SUM(I4:I8),0) -> 0
A11: =A3+1 -> 2 | B11: 일반기기 철거 (톤당) | L11: 적정 p959 | N11: =A11 -> 2 | P11: =I13 -> 0 | Q11: =K13 -> 0
A12: 일반기기 설치의60% | B12: 재사용 미고려 | C12: 60 | D12: % | H12: =I9 -> 0 | I12: =TRUNC(C12*H12%,1) -> 0
A13: 합계 | E13: =SUM(G13,I13,K13) -> 0 | I13: =TRUNC(SUM(I12:I12),0) -> 0
A15: =A11+1 -> 3 | B15: 일반펌프 설치 : 11kW 이하 (대당) | L15: 적정 p793 | N15: =A15 -> 3 | P15: =I19 -> 0 | Q15: =K19 -> 0
A16: 기계설비공 | C16: 2.144 | D16: 인 | H16: =VLOOKUP(A16,'10. 시중노임표'!B:C,2,FALSE) -> 0 | I16: =TRUNC(C16*H16,1) -> 0
A17: 보통인부 | C17: 0.71 | D17: 인 | H17: =VLOOKUP(A17,'10. 시중노임표'!B:C,2,FALSE) -> 0 | I17: =TRUNC(C17*H17,1) -> 0
A18: 기계경비 | B18: 인건비의 3% | C18: 3 | D18: % | J18: =I19 -> 0 | K18: =TRUNC(J18*C18%,1) -> 0
A19: 합계 | E19: =SUM(G19,I19,K19) -> 0 | I19: =TRUNC(SUM(I16:I18),0) -> 0 | K19: =TRUNC(SUM(K16:K18),0) -> 0
A21: =A15+1 -> 4 | B21: 유량계 설치 : Ø150~200mm (개당) | L21: 적정 p798 | N21: =A21 -> 4 | P21: =I25 -> 0 | Q21: =K25 -> 0
A22: 배관공 | C22: 0.686 | D22: 인 | H22: =VLOOKUP(A22,'10. 시중노임표'!B:C,2,FALSE) -> 0 | I22: =TRUNC(C22*H22,1) -> 0
A23: 보통인부 | C23: 0.686 | D23: 인 | H23: =VLOOKUP(A23,'10. 시중노임표'!B:C,2,FALSE) -> 0 | I23: =TRUNC(C23*H23,1) -> 0
A24: 기계경비 | B24: 인건비의 2% | C24: 2 | D24: % | J24: =I25 -> 0 | K24: =TRUNC(J24*C24%,1) -> 0
A25: 합계 | E25: =SUM(G25,I25,K25) -> 0 | I25: =TRUNC(SUM(I22:I24),0) -> 0 | K25: =TRUNC(SUM(K22:K24),0) -> 0
A27: =A21+1 -> 5 | B27: 스테인리스 강관 : 용접배관, Ø150mm (m당) | L27: 적정 p776 | N27: =A27 -> 5 | P27: =I33 -> 0 | Q27: =K33 -> 0
A28: 배관공 | B28: 12 | C28: 3 | D28: 인 | H28: =VLOOKUP(A28,'10. 시중노임표'!B:C,2,FALSE) -> 0 | I28: =TRUNC(C28*H28,1) -> 0
A29: 보통인부 | B29: =B28 -> 12 | C29: 1 | D29: 인 | H29: =VLOOKUP(A29,'10. 시중노임표'!B:C,2,FALSE) -> 0 | I29: =TRUNC(C29*H29,1) -> 0
A30: 기계경비 | B30: 인건비의 2% | C30: 2 | D30: % | J30: =I32 -> 0 | K30: =TRUNC(J30*C30%,1) -> 0
A31: 기계실배관 할증 | B31: -0.23 | C31: 1 | D31: 식 | H31: =INT(SUM(I28:I29)) -> 0 | I31: =H31*B31 -> 0
A32: 합계 | I32: =INT(SUM(I28:I31)) -> 0 | K32: =INT(SUM(K30)) -> 0
A33: m당 단가 | I33: =INT(I32/B28) -> 0 | K33: =INT(K32/B28) -> 0
A35: =A27+1 -> 6 | B35: 스테인리스 강관 : 용접배관, Ø100mm (m당) | L35: 적정 p776 | N35: =A35 -> 6 | P35: =I41 -> 0 | Q35: =K41 -> 0
A36: 배관공 | B36: 18 | C36: 3 | D36: 인 | H36: =VLOOKUP(A36,'10. 시중노임표'!B:C,2,FALSE) -> 0 | I36: =TRUNC(C36*H36,1) -> 0
A37: 보통인부 | B37: =B36 -> 18 | C37: 1 | D37: 인 | H37: =VLOOKUP(A37,'10. 시중노임표'!B:C,2,FALSE) -> 0 | I37: =TRUNC(C37*H37,1) -> 0
A38: 기계실배관 할증 | B38: -0.23 | C38: 1 | D38: 식 | H38: =INT(SUM(I36:I37)) -> 0 | I38: =INT(B38*H38) -> 0
A39: 기계경비 | B39: 인건비의 2% | C39: 2 | D39: % | J39: =I40 -> 0 | K39: =TRUNC(J39*C39%,1) -> 0
A40: 합계 | I40: =INT(SUM(I36:I39)) -> 0 | K40: =INT(SUM(K39)) -> 0
A41: m당 단가 | I41: =INT(I40/B36) -> 0 | K41: =INT(K40/B36) -> 0
A43: =A35+1 -> 7 | B43: 스테인리스 강관 : 용접접합, Ø150mm (용접개소당) | L43: 적정 p776 | N43: =A43 -> 7 | O43: =G48 -> 0 | P43: =I48 -> 0 | Q43: =K48 -> 0
A44: 용접공 | C44: 0.231 | D44: 인 | H44: =VLOOKUP(A44,'10. 시중노임표'!B:C,2,FALSE) -> 0 | I44: =TRUNC(C44*H44,1) -> 0
A45: 용접봉 | C45: 0.601 | D45: kg | G45: =TRUNC(C45*F45,1) -> 0
A46: 아르곤 | C46: 1285 | D46: L | G46: =TRUNC(C46*F46,1) -> 0
A47: 기계경비 | B47: 인건비의 4% | C47: 4 | D47: % | J47: =I48 -> 0 | K47: =TRUNC(J47*C47%,1) -> 0
A48: 합계 | E48: =SUM(G48,I48,K48) -> 0 | G48: =TRUNC(SUM(G44:G47),0) -> 0 | I48: =TRUNC(SUM(I44:I47),0) -> 0 | K48: =TRUNC(SUM(K44:K47),0) -> 0
A50: =A43+1 -> 8 | B50: 스테인리스 강관 : 용접접합, Ø100mm (용접개소당)
A51: 용접공 | C51: 0.167 | D51: 인 | H51: ='10. 시중노임표'!C10 -> 0 | I51: =TRUNC(C51*H51,1) -> 0
A52: 용접봉 | C52: 0.313 | D52: kg | G52: =TRUNC(C52*F52,1) -> 0
A53: 아르곤 | C53: 699 | D53: L | G53: =TRUNC(C53*F53,1) -> 0
A54: 기계경비 | B54: 인건비의 4% | C54: 4 | D54: % | J54: =I55 -> 0 | K54: =TRUNC(C54%*J54,1) -> 0
A55: 합계 | G55: =SUM(G51:G54) -> 0 | I55: =SUM(I51:I54) -> 0 | K55: =SUM(K51:K54) -> 0
A57: =A50+1 -> 9 | B57: Fitting 취부 : Flange Type, 10.5kg/㎠, Ø150mm (개당) | L57: 적정 p860 | N57: =A57 -> 9 | P57: =I60 -> 0
A58: 플랜트배관공 | C58: 0.13 | D58: 인 | H58: =VLOOKUP(A58,'10. 시중노임표'!B:C,2,FALSE) -> 0 | I58: =TRUNC(C58*H58,1) -> 0
A59: 특별인부 | C59: 0.06 | D59: 인 | H59: =VLOOKUP(A59,'10. 시중노임표'!B:C,2,FALSE) -> 0 | I59: =TRUNC(C59*H59,1) -> 0
A60: 합계 | E60: =SUM(G60,I60,K60) -> 0 | I60: =TRUNC(SUM(I58:I59),0) -> 0
A62: =A57+1 -> 10 | B62: 일반밸브 및 콕류 설치 : Ø150mm (개당) | L62: 적정 p796 | N62: =A62 -> 10 | P62: =I66 -> 0 | Q62: =K66 -> 0
A63: 배관공 | C63: 0.343 | D63: 인 | H63: =VLOOKUP(A63,'10. 시중노임표'!B:C,2,FALSE) -> 0 | I63: =TRUNC(C63*H63,1) -> 0
A64: 보통인부 | C64: 0.147 | D64: 인 | H64: =VLOOKUP(A64,'10. 시중노임표'!B:C,2,FALSE) -> 0 | I64: =TRUNC(C64*H64,1) -> 0
A65: 기계경비 | B65: 인건비의 2% | C65: 2 | D65: % | J65: =I66 -> 0 | K65: =TRUNC(J65*C65%,1) -> 0
A66: 합계 | E66: =SUM(G66,I66,K66) -> 0 | I66: =TRUNC(SUM(I63:I65),0) -> 0 | K66: =TRUNC(SUM(K63:K65),0) -> 0

Sheet 10. 시중노임표
A1: 시 중 노 임 표
D3: * 2026년 상반기
A4: 번호 | B4: 직종 | C4: 단가 | D4: 비고
A5: 1001 | B5: 작업반장
A6: 1002 | B6: 보통인부
A7: 1003 | B7: 특별인부
A8: 1006 | B8: 비계공
A9: 1009 | B9: 철공
A10: 1012 | B10: 용접공
A11: 1013 | B11: 콘크리트공
A12: 1015 | B12: 착암공
A13: 1027 | B13: 미장공
A14: 1029 | B14: 도장공
A15: 1039 | B15: 배관공
A16: 1044 | B16: 보온공
... A25: 1089 | B25: 통신케이블공
A26: - | B26: 기계산업기사 | D26: 기계 초급기술자

Sheet 11.견적서
