Workbook

Sheet 00.1 표지
A5: 난지 위생처리장 2농축기동 원심농축기 설치 (전기공사)
N9: 예산 | O9: 700000000
N10: 농축기금액 | O10: 593186000 | P10: 조달수수료포함
N11: 전기공사 | O11: ='04.2 원가계산서'!D33 -> 50776000
N12: 기계공사 | O12: 55066000
O13: =O9-O10-O11 -> 56038000
A16: 2026년 04월 | O16: =O10+O11+O12 -> 699028000
A20: 서울시 난지물재생센터

Sheet 01. 사업설명서
A1: 사 업 설 명 서
A4: 1. | B4: 사 업 명 : | C4: ='00.1 표지'!A5 -> 난지 위생처리장 2농축기동 원심농축기 설치 (전기공사)
A6: 2. | B6: 위 치 : | C6: 난지물재생센터 위생처리장 2농축기동
A8: 3. | B8: 목 적 : | C8: 슬러지 농축시설을 개선하여 슬러지 처리에 만전을 기하고자 함
A10: 4. | B10: 사 업 개 요 : | C10: 가. 전기공사 - 원심농축기 1차 전기공사, 슬러지 및 폴리머 인버터 구매, HMI 및 RCS 수정
A12: 5. | B12: 주요자재 및 소요현황 : 설계내역서 참조
A14: 6. | B14: 사 업 기 간 : | C14: 착수일로부터 28일 간
A16: 7. | B16: 설계변경조건 : | C16: 가. 설계서의 내용이 불분명하거나 누락, 오류, 상호모순되는 점이 있을 경우
C17: 나. 지질, 용수 등 현장의 상태가 설계서와 다를 경우
C18: 다. 새로운 기술, 공법 사용으로 사업비의 절감 및 사업기간의 단축 등의 효과가 현저할 경우
C19: 라. 그 밖의 발주기관이 설계서를 변경할 필요가 있다고 인정할 경우

Sheet 02. 예정공정표
A1: 예 정 공 정 표
B4: ='01. 사업설명서'!B4 -> 사 업 명 : | C4: ='01. 사업설명서'!C4 -> 난지 위생처리장 2농축기동 원심농축기 설치 (전기공사)
A6: 공 기 공 정 | E6: ='01. 사업설명서'!C14 -> 착수일로부터 28일 간 | N6: 공정율 | O6: 비고
E7: 3 | F7: 6 | G7: 9 | H7: 12 | I7: 15 | J7: 18 | K7: 21 | L7: 24 | M7: 28 | N7: ( % )
A8: 도서 검토 및 승인 | N8: 10
A11: 자재 제작 및 구입 | N11: 60
A14: 설치 | N14: 20
A17: 시운전 | N17: 5
A20: 준공 및 검사 | N20: 5
A23: 총계 | N23: 100

Sheet 03.1 일반시방서
A1: 일 반 시 방 서
A4: 1. | B4: 적용범위
B5: ="본 시방서는 """&'01. 사업설명서'!C4&"""의 일반사항에 관하여 적용한다." -> 본 시방서는 "난지 위생처리장 2농축기동 원심농축기 설치 (전기공사)"의 일반사항에 관하여 적용한다.
A7: 2. | B7: 적용기준 및 규격
B8: 본 시방서에 준하여 공급·설치되는 모든 자재 및 설비는 KS규격에 부합되어야 하며 제품의 일반적인 형상·형식 및 품질을 나타낼
B9: 목적으로 타 국가의 표준규격을 준용할 수 있으나 이때는 본 시방서의 표준규격 품질과 동등하거나 그 이상의 것이어야 한다.
A11: 3. | B11: 법령 등의 준수
B12: 가. 계약자는 본건의 수행에 있어 당해 건과 관련된 법률 및 우리 관내에서 정하고 있는 제규정 등을 준수하여야 한다.
B13: 나. 본 사업에 종사하는 근로자에 대한 제반 법령의 운용 및 적용은 계약자가 모든 책임을 진다.
A15: 4. | B15: 책임한계
B16: 가. 계약자는 현장대리인 등 당해 작업을 위하여 임명·지정·고용한 자 및 납품계약을 체결한 자의 행위와 결과에 대한 책임을 진다.
B17: 나. 계약자는 당해 사업의 목적물을 발주처에 인도하기 전에 아래와 같이 발생한 사고에 대한 민·형사상 모든 책임을 진다.
B18: 1) 본 사업 목적물의 파손, 오염, 분실, 변형 등으로 인한 피해 시
B19: 2) 주의와 의무를 태만히 하여 발생한 안전사고(인명손상 등) 발생 시
A21: 5. | B21: 어구해석
B22: 가. 설계도서에 상호 모순이 있을 경우에는 아래 순서에 따라 적용한다.
B23: 1) 시방서
B24: 2) 설계도서
B25: 3) 수량산출서
B26: 4) 시방서에 명기되지 않은 사항에 대하여 모순이 있을 경우에는 상호 협의하여 작업 할 수 있다.
A27: 6. | B27: 제출서류
B28: 가. 착수계 접수시
B29: 1) 현장대리인 선임계
B30: 2) 예정공정표
B31: 3) 기타 발주처에서 지정한 사항
B32: 나. 승인도서
B33: 1) 계약자는 착수 후 15일 이내에 설계도서 및 시방서의 요구조건을 만족하는 도면 및 설치도를 작성·제출하여 발주처의 승인을
B34: 득한 후 제작, 설치하여야 한다. 모든 기자재의 승인도서는 다음의 내용이 포함되어야 한다.
B35: 가) 설계 제원을 파악할 수 있는 내용(Data Sheet, Specification 등)
B36: 나) 제작사명, 공급수량, 기기의 형식
B37: 다) 기자재의 배치도 및 조립과 설계도면
B38: 라) 기자재의 재질, 규격
B39: 마) 조작반의 외형도, 내부상세도, 전기도면
... B49: 4) 기타 발주처에서 지시한 사항
A51: 7. | B51: 공정 및 현장관리
B52: 가. 시방서와 설계도면에 부합되도록 시공하여야 하며, 계약자는 사업 전반에 대하여 발주처와 협의하여 시공한다.
B53: 나. 계약자는 숙련을 요하는 작업에는 상당한 경험과 기술력을 겸비한 기술자를 배치하여 수행토록 하여야하며, 원활한 작업 진척을
B54: 위해 충분한 인원을 배치하여야 한다.
B55: 다. 본 사업은 예정공정표에 맞추어 수행하고 본 사업 수행 중 계획공정 대비 추진실적이 미흡하다고 발주처에서 판단시 계약자는
B56: 공정 만회 대책을 수립·제출하여야 한다.
B57: 라. 계약자는 작업 시 주변 시설물이 훼손되지 않도록 필요한 조치를 강구하여야 하며 작업 현장 주변 정리정돈을 철저히 하여야 한다.
B58: 마. 현장대리인은 작업공정에 대해 수시로 발주처에 보고하여야 한다.
B59: 바. 계약자가 작업 내용상 불가피하여 야간작업을 하고자 하는 때에는 미리 발주처의 승인을 받아야 한다.
A61: 8. | B61: 자재반입 및 검사
B62: 가. 계약자는 자재를 현장에 반입하고자 하는 경우에는 사전에 발주처에게 통보하여야 한다.
B63: 나. 현장에 반입된 자재 및 장비는 발주처의 승인없이 장외로 반출하여서는 아니된다.
B64: 다. 계약자는 발주처가 자재검사를 하는데 지장이 없도록 편의를 제공하여야 하며, 각종 시험 및 검사에 소요되는 모든 비용은
B65: 계약자가 부담하여야 한다.
B66: 라. 계약자는 본 사업에 대한 제반 검사결과 처분지시가 있을 때에는 이에 따라야 한다.
A68: 9. | B68: 안전관리
B69: 가. 계약자는 제반 안전규정 및 법규를 엄수하여 안전사고가 발생하지 않도록 하여야 하며, 관리 소홀로 인하여 발생되는 모든 안전
B70: 사고 및 재해에 대하여 민·형사상의 모든 책임을 져야 한다.
B71: 나. 작업현장에서는 개인 안전장구를 착용하고 작업에 임해야 한다.
B72: 다. 계약자는 현장 작업자에게 안전에 관한 사항을 교육하여야 하며 안전장구를 지급 착용토록 하여 안전사고 예방에 최선을 다한다.
A75: 10. | B75: 사고의 보고
B76: 계약자는 가설물이나 구조물의 파손 또는 타 작업의 수행에 영향을 미치는 사고나 인명의 손상 또는 제3자에 피해를 미치는 사고가
B77: 일어나거나 그로 인한 사고 발생의 징조를 발견하였을 때에는 응급조치를 취하고 발주처에게 즉시 보고하여야 한다.
A79: 11. | B79: 시운전과 조정
B80: 모든 사업의 완료시에는 기기별 성능검사서를 작성 후 시운전과 조정계획을 수립하여 발주처에게 보고하여야 하며, 그 결과를
B81: 보고서로 제출해야 한다.
A83: 12. | B83: 완료
B84: 가. 설치 완료 후 시운전시 설치된 모든 기기는 정상 작동하여야 한다.
B85: 나. 슬러지 조건에 맞추어 케익 함수율 및 회수율이 만족하도록 제작·설치 하여야 한다.
B86: 다. 설치 후 현장관리자가 운용할 수 있도록 각 설비의 운전지침 및 유지관리지침서등을 작성·제출 하여야 한다.
A88: 13. | B88: 하자담보책임기간
B89: 하자담보책임기간은 준공일로부터 2년으로 한다.
A91: 14. | B91: 특기사항
B92: ="본 설비는 "&'01. 사업설명서'!$C$6&" 운영에 있어 중요한 장비로써 공급하는 업체가 직접 제작·설치 하여야 한다." -> 본 설비는 난지물재생센터 위생처리장 2농축기동 운영에 있어 중요한 장비로써 공급하는 업체가 직접 제작·설치 하여야 한다.

Sheet 03.2 특별시방서
A1: 특 별 시 방 서
A3: Ⅰ. 전기 및 계장공사
A4: 1. | B4: 사용의 목적
B5: 본 작업은 원심농축기 및 부대설비의 전기공사에 그 목적을 두고 있으며, 원심농축기 및 부대설비의 연동운전(자동제어)
B6: 및 수동운전에 원활한 운영을 꾀한다.
A8: 2. | B8: 전기공사 범위
B9: 가. 1차 전기공사 - 원심농축기 1차 전기배선 및 MCCB 교체
B10: 나. 1차 전기공사 - 슬러지, 폴리머펌프 및 농축이송컨베이어 전원 외
B11: 다. 슬러지, 폴리머 펌프 인버터 구매
B12: 라. HMI 및 RCS 수정작업
A14: 3. | B14: 기타사항
B15: 가. 케이블트레이는 현장확인 후 설치하되 감독관과 협의하여 결정한다.
B16: 나. 모든 작업에 있어서 강제전선관을 규격에 맞게 설치하고 내부공간을 40%를 넘지 않도록 한다.
B17: 다. 단말처리에는 가요전선관을 사용하고 기기에서 50cm을 넘지 않아야 한다.
B18: 라. 기타 언급되지 않은 사항은 감독관과 협의하여 시공한다.
A20: 4. | B20: 공통사항
B21: 가. 기기 및 배선
B22: - 본 작업의 범위, 기기, 배선방법 및 종별 배치 등은 설계도서에 의거 시공한다.
B23: 나. 보안설비
B24: - 본 작업은 안전사고 예방과 모든 설비보호를 위해 필요한 개소마다 과전류차단기 등의 적정 보안설비를 시설하고 전로에
B25: 접지가 발생하였을 때 자동적으로 전로를 차단시킬 수 있는 차단기 등을 설치한다.
B26: 다. 전선의 종류 및 기타
B27: - 모든 전선을 설계도면에 명시된 종류와 그 규격을 사용하여 접속 및 단말처리 등 기타 모든 사항에 대해 전기설비
B28: 기준과 내선공사에 의거 시공한다.
B29: 라. 전선의 색 구분
B30: - 모든 전선은 특기 사항이 없는 한 비닐 절연 전선의 경우 아래와 같은 색으로 구분한다.
C31: 전 압 종 별 | E31: 전 기 방 식 | G31: 전 압 측 | I31: 접 지 측
C32: 저 압 | E32: 3상 3선식 | G32: 흑,적,청 | I32: 녹
E33: 3상 4선식 | G33: 흑,적,청 | I33: 백
B34: 마. 전선 및 Cable
B35: - 모든 전선 및 Cable은 K.S 규격품을 사용하여야 하며 용도에 맞는 전선 및 Cable을 선전 시공하여야 한다.
C36: 구 분 | D36: 전 압 | E36: 종 류 | G36: 최소단면적 | I36: 비 고
C37: 주요간선 | D37: 600V 이하 | E37: F-CVV | G37: 4mm2 이상 | I37: 전압강하고려적용
C38: 동 력 | D38: 600V 이하 | E38: F-CVV | G38: 2.5mm2 이상 | I38: 전압강하고려적용
C39: 제어회로 | D39: 600V 이하 | E39: AWM VM-1 | G39: 1.5mm2 이상 | I39: 동력 및 감시제어용, 중요 신호 전송용
A41: 5. | B41: 배선
B42: 가. 일반사항
B43: - 본 시방서는 저압의 옥내배선 및 구내 외선공사에 적용하며, 배선은 설계도면, 시방서에 따라 시설 장소에 최적의 방법으로
B44: 시행하고 KS C IEC 60364에 따른다
B45: 나. Tray 작업
B46: - Tray 상호, Tray와 Junction Box, Box와 금속관 등의 접속은 완전하게 시공한다.
B47: - Box 및 인서트는 설치 면으로부터 돌출되거나 물이 침입하지 않도록 시공한다.
B48: - 저압 옥내배선과 약 전류 전선을 동일 Tray 또는 동일 접속함 내에 수용할 수 없다.
B49: 단 양자 간을 완전한 격리구조로 격리된 것은 예외로 한다.
A50: 6. | B50: 배전설비 작업
B51: 가. 적용범위 : 본 시방은 특기 사항을 제외하고는 배전설비에 적용한다.
B52: 나. 기기의 종류와 배치 및 배선 계통은 설계 도면과 같이 시공하되 착공전 현장여건을 감안하여 변경이 생길 경우
B53: 감독관과 협의 하에 시공한다.
B54: 다. 배전반에 사용되는 모든 기자재는 K.S 표시품을 사용하여야 하고 K.S 제품이 없을 경우는 시중 최상품 또는 그와 동등
B55: 이상의 제품을 감독관에게 제시하여 승인 후에 사용하여야 한다.
B56: 라. 모든 기기 및 재료 중 감독관이 인정하는 특수한 것을 제외한 모든 기자재는 지정시험기관의 시험에 합격한 것이어야 한다.
A58: 7. | B58: 간선 및 동력설비
B59: 가. 적용범위 : 본 시방은 전력간선, 각종 약전선로의 간선 및 펌프장 내의 관련된 고, 저압 동력설비에 적용한다.
B60: 나. 배선 : 전력간선은 Cable Tray를 이용하여 배선한다.
B61: 다. 동력용 전원 : 일반적으로 저압에서는 교류 단상 220V, 3상, 380V로 한다.
A62: 8. | B62: 전기설비
B63: 가. 배관, 배선
B64: - 본 작업에 사용되는 Cable Tray는 도면에 준하여 제작하되, 제작도를 작성하여 승인을 득한 후 제작에 착수하여야 한다.
B65: - Cable Tray에서 인하되는 Cable은 전선관으로 보호되어야 하며, 전선관을 Cable Tray에 견고하게 지지되어야 한다.
B66: 나. 동력공사
B67: - MCC와 배관자재와의 접속은 터미널 단자에서 압착터미널을 사용하여 시행하며 전선이 노출되는 부분은 절연 튜브로
B68: 충전부를 보호하여야 한다.
A69: 9. | B69: 특기사항
B70: 본 작업은 원심농축기 부대공사로서 원심탈수기 설치 및 운영이 원활할 수 있도록 감독관 및 원심탈수기 업체와 협의하여
B71: 진행하여야 한다.

Sheet 04.1 설계서용지(갑)
B2: 설계자 | D2: 심사자 | F2: 시 설 관리담당 | H2: 과장 | J2: 설계 년월일 | K2: 2026년 04월 일
B9: ='01. 사업설명서'!C4 -> 난지 위생처리장 2농축기동 원심농축기 설치 (전기공사)
C11: 설 계 내 역 서
C17: 구분 | E17: 금액
C18: ='04.2 원가계산서'!A29 -> 총공사원가 | E18: ='04.2 원가계산서'!D29 -> 46160000 | G18: ="(금 "&NUMBERSTRING(E18,1)&"원)" -> (금 사천육백일십육만원)
C19: ='04.2 원가계산서'!A30 -> 부가가치세 | E19: ='04.2 원가계산서'!D30 -> 4616000 | G19: ="(금 "&NUMBERSTRING(E19,1)&"원)" -> (금 사백육십일만육천원)
C20: ='04.2 원가계산서'!A33 -> 총사업비 | E20: ='04.2 원가계산서'!D33 -> 50776000 | G20: ="(금 "&NUMBERSTRING(E20,1)&"원)" -> (금 오천칠십칠만육천원)
B391: 2) 임펠라는 SSC 13을 사용한다.
B392: 3) 흡입카바는 GC 250을 사용한다.
B393: 4) 펌프축은 STS 410을 사용 한다.
B394: 5) BOLT/NUT는 STS 304을 사용한다.
B395: 6) LIFTTING CHAIN은 STS 304을 사용하고 길이는 5M로 한다.
B396: 7) 탈착밴드 및 슬라이딩 브라켓은 GC 250을 사용한다.
B397: 8) 가이드 써포트 GC 250을 사용한다.
B398: 9) 가이드 파이프 STS 304을 사용한다.
B399: 10) 동력 케이블 길이는 현장여건에 맞추어 10M로 한다.
A401: 7 | B401: 표시사항
B402: 모터 펌프의 몸체에는 다음 사항을 표시한 명판을 부착합니다.
B403: - 모델명 | D403: - 극수 및 회전수 | G403: - 전원 및 주파수
B404: - 정격출력 | D404: - 정격전류 | G404: - 제조번호
B405: - 제조자명 | D405: - 제조년월
A407: 8 | B407: 예비품 및 부속품
B408: 해당없음
A412: 9 | B412: 도장 및 포장
B413: 가. 도 장 : 모터 펌프 내외면에는 기초 도장으로 프라이머를 1회칠하고 마감 도장으로 에폭시 페인트를 2회 칠하여 도막두께
B414: 80μM이상충분한 방청 및 내식처리를 한다.
B415: 나. 포 장 : 모터 펌프는 운반 및 보관에 안전하도록 단위별 포장하며 포장방법은 BUNDLE TYPE으로 견고하게 포장되도록 한다.
A417: 10

Sheet 04.2 원가계산서
A1: 원 가 계 산 서
A4: ='01. 사업설명서'!B4 -> 사 업 명 : | B4: ='01. 사업설명서'!C4 -> 난지 위생처리장 2농축기동 원심농축기 설치 (전기공사)
A5: 비목 | D5: 금액 | E5: 비고 | G5: 건축산업설비 2026. 03. 13 입찰공고부터
A6: 순공사원가 | B6: 재료비 | C6: 직접재료비 | D6: ='05.1 설계내역서 총괄'!G14+'05.1 설계내역서 총괄'!G16+'05.1 설계내역서 총괄'!G3+'05.1 설계내역서 총괄'!G5+'05.1 설계내역서 총괄'!G7 -> 8197275
C7: 간접재료비
C8: 작업설, 부산물
C9: 소계 | D9: =SUM(D6:D8) -> 8197275
B10: 노무비 | C10: 직접노무비 | D10: ='05.1 설계내역서 총괄'!I12+'05.1 설계내역서 총괄'!I14+'05.1 설계내역서 총괄'!I16+'05.1 설계내역서 총괄'!I3+'05.1 설계내역서 총괄'!I5+'05.1 설계내역서 총괄'!I7 -> 22201395
C11: 간접노무비 | D11: =INT(D10*E11%) -> 3885244 | E11: 17.5
C12: 소계 | D12: =SUM(D10:D11) -> 26086639
B13: 경비 | C13: 경비
C14: 산재보험료 | D14: =INT(D12*E14%) -> 928684 | E14: 3.56
C15: 고용보험료 | D15: =INT(D12*E15%) -> 263475 | E15: 1.01
C16: 건강보험료 | E16: 3.595 | G16: 30일 이상 적용
C17: 연금보험료 | E17: 4.75 | G17: 30일 이상 적용
C18: 노인장기요양보험료 | E18: 13.14 | G18: 30일 이상 적용
C19: 퇴직공제부금비 | E19: 1억 이상 적용 | G19: 1억 이상 적용
C20: 산업안전보건관리비 | D20: =INT((D9+D10)*E20%) -> 945398 | E20: 3.11 | G20: 2천만원 이상 적용
C21: 석면분담금 | D21: =INT((D12)*E21%) -> 1565 | E21: 0.006
C22: 임금채권부담금 | D22: =INT((D12)*E22%) -> 23477 | E22: 0.09
C23: 기타경비 | D23: =INT((D9+D12)*E23%) -> 1714195 | E23: 5
C24: 소계 | D24: =SUM(D13:D23) -> 3876794
B25: 순공사원가 합계 | D25: =D9+D12+D24 -> 38160708
A26: 일반관리비 | D26: =INT((D9+D12+D24)*E26%) -> 3052856 | E26: 8
A27: 이윤 | D27: =INT((D12+D24+D26)*E27%)-H29 -> 4946436 | E27: 15
A28: 기자재비
A29: 총공사원가 | D29: =TRUNC(SUM(D25:D28),0) -> 46160000 | G29: 단수조정 | H29: 6007
A30: 부가가치세 | D30: =INT(D29*E30%) -> 4616000 | E30: 10
A31: 도급예정액 | D31: =SUM(D29:D30) -> 50776000
A32: 관급기자재비 | E32: 조달수수료 포함
A33: 총사업비 | D33: =D31+D32 -> 50776000

Sheet 05.1 설계내역서 총괄
A1: ='06. 수량산출서'!A1:A2 -> 품명 | B1: ='06. 수량산출서'!B1:B2 -> 규격 | C1: 수량 | D1: 단위 | E1: 합계 | F1: 재료비 | H1: 노무비 | J1: 경비 | L1: 비고
F2: 단가 | G2: 금액 | H2: 단가 | I2: 금액 | J2: 단가 | K2: 금액
A3: ='06. 수량산출서'!A3 -> 1. 1차 및 부대설비 전기공사 | E3: =G3+I3+K3 -> 14842915 | G3: ='05.2 설계내역서'!G3 -> 5154800 | I3: ='05.2 설계내역서'!I3 -> 9688115
A5: ='06. 수량산출서'!A16:D16 -> 2. 인버터 구매 | E5: =G5+I5+K5 -> 2917000 | G5: ='05.2 설계내역서'!G14 -> 2917000
A7: ='06. 수량산출서'!A20:D20 -> 3. HMI RCS 수정 | E7: =G7+I7+K7 -> 12638755 | G7: ='05.2 설계내역서'!G18 -> 125475 | I7: ='05.2 설계내역서'!I18 -> 12513280
A18: 소 계 | E18: =SUM(E3:E7) -> 30398670 | G18: =SUM(G3:G7) -> 8197275 | I18: =SUM(I3:I7) -> 22201395

Sheet 05.2 설계내역서
A1: 품명 | B1: 규격 | C1: 수량 | D1: 단위 | E1: 합계 | F1: 재료비 | H1: 노무비 | J1: 경비 | L1: 비 고
F2: 단가 | G2: 금액 | H2: 단가 | I2: 금액 | J2: 단가 | K2: 금액
A3: ='06. 수량산출서'!A3 -> 1. 1차 및 부대설비 전기공사 | E3: =SUM(G3,I3,K3) -> 14842915 | G3: =SUM(G4:G12) -> 5154800 | I3: =SUM(I4:I12) -> 9688115
A4: ='06. 수량산출서'!A5 -> 1차 메인전원 케이블 | B4: ='06. 수량산출서'!B5 -> TFR-CV 95SQ 1C | C4: ='06. 수량산출서'!D5 -> 100 | D4: ='06. 수량산출서'!C5 -> M | E4: =SUM(G4,I4,K4) -> 5093800 | F4: ='07. 가격조사표'!L5 -> 21806 | G4: =TRUNC(F4*C4,0) -> 2180600 | H4: =VLOOKUP(L4,'08. 일위대가표'!N:P,3,FALSE) -> 29132 | I4: =TRUNC(H4*C4,0) -> 2913200 | L4: ='08. 일위대가표'!N3 -> 1
A5: ='06. 수량산출서'!A6 -> 1차전원 접지 케이블 | B5: ='06. 수량산출서'!B6 -> TfR-GV 50SQ 1C | C5: ='06. 수량산출서'!D6 -> 25 | D5: ='06. 수량산출서'!C6 -> M | E5: =SUM(G5,I5,K5) -> 815675 | F5: ='07. 가격조사표'!L6 -> 11304 | G5: =TRUNC(F5*C5,0) -> 282600 | H5: =VLOOKUP(L5,'08. 일위대가표'!N:P,3,FALSE) -> 21323 | I5: =TRUNC(H5*C5,0) -> 533075 | L5: ='08. 일위대가표'!N7 -> 2
A6: ='06. 수량산출서'!A7 -> LOP연동 | B6: ='06. 수량산출서'!B7 -> UTP-CAT-5E | C6: ='06. 수량산출서'!D7 -> 100 | D6: ='06. 수량산출서'!C7 -> M | E6: =SUM(G6,I6,K6) -> 1139300 | F6: ='07. 가격조사표'!L7 -> 3585 | G6: =TRUNC(F6*C6,0) -> 358500 | H6: ='08. 일위대가표'!I17 -> 7808 | I6: =TRUNC(H6*C6,0) -> 780800 | L6: ='08. 일위대가표'!N15 -> 4
A7: ='06. 수량산출서'!A8 -> LOP시그널 | B7: ='06. 수량산출서'!B8 -> TFR-CVVS 1.5SQ 15C | C7: ='06. 수량산출서'!D8 -> 100 | D7: ='06. 수량산출서'!C8 -> M | E7: =SUM(G7,I7,K7) -> 2821500 | F7: ='07. 가격조사표'!L8 -> 9595 | G7: =TRUNC(F7*C7,0) -> 959500 | H7: ='08. 일위대가표'!I13 -> 18620 | I7: =TRUNC(H7*C7,0) -> 1862000 | L7: ='08. 일위대가표'!N11 -> 3
A8: ='06. 수량산출서'!A10 -> 슬러지유량계전원 | B8: ='06. 수량산출서'!B10 -> TFR-CVV 1.5SQ 3C | C8: ='06. 수량산출서'!D10 -> 80 | D8: ='06. 수량산출서'!C10 -> M | E8: =SUM(G8,I8,K8) -> 661920 | F8: ='07. 가격조사표'!L9 -> 2568 | G8: =TRUNC(F8*C8,0) -> 205440 | H8: ='08. 일위대가표'!I21 -> 5706 | I8: =TRUNC(H8*C8,0) -> 456480 | L8: ='08. 일위대가표'!N19 -> 5
A9: ='06. 수량산출서'!A11 -> 슬러지유량계신호 | B9: ='06. 수량산출서'!B11 -> TFR-CVVSB 1.5SQ 5C | C9: ='06. 수량산출서'!D11 -> 80 | D9: ='06. 수량산출서'!C11 -> M | E9: =SUM(G9,I9,K9) -> 979120 | F9: ='07. 가격조사표'!L10 -> 4431 | G9: =TRUNC(F9*C9,0) -> 354480 | H9: ='08. 일위대가표'!I17 -> 7808 | I9: =TRUNC(H9*C9,0) -> 624640 | L9: ='08. 일위대가표'!N15 -> 4
A10: ='06. 수량산출서'!A12 -> 폴리머유량계전원 | B10: ='06. 수량산출서'!B12 -> TFR-CVV 1.5SQ 3C | C10: ='06. 수량산출서'!D12 -> 80 | D10: ='06. 수량산출서'!C12 -> M | E10: =SUM(G10,I10,K10) -> 661920 | F10: ='07. 가격조사표'!L11 -> 2568 | G10: =TRUNC(F10*C10,0) -> 205440 | H10: =VLOOKUP(L10,'08. 일위대가표'!N:P,3,FALSE) -> 5706 | I10: =TRUNC(H10*C10,0) -> 456480 | L10: ='08. 일위대가표'!N19 -> 5
A11: ='06. 수량산출서'!A13 -> 폴리머유량계신호 | B11: ='06. 수량산출서'!B13 -> TFR-CVVSB 1.5SQ 5C | C11: ='06. 수량산출서'!D13 -> 80 | D11: ='06. 수량산출서'!C13 -> M | E11: =SUM(G11,I11,K11) -> 979120 | F11: ='07. 가격조사표'!L12 -> 4431 | G11: =TRUNC(F11*C11,0) -> 354480 | H11: =VLOOKUP(L11,'08. 일위대가표'!N:P,3,FALSE) -> 7808 | I11: =TRUNC(H11*C11,0) -> 624640 | L11: ='08. 일위대가표'!N15 -> 4
A12: ='06. 수량산출서'!A14 -> 농축이송컨베이어 전원 | B12: ='06. 수량산출서'!B14 -> TFR-CV 2.5SQ 4C | C12: ='06. 수량산출서'!D14 -> 80 | D12: ='06. 수량산출서'!C14 -> M | E12: =SUM(G12,I12,K12) -> 1690560 | F12: ='07. 가격조사표'!L13 -> 3172 | G12: =TRUNC(F12*C12,0) -> 253760 | H12: ='08. 일위대가표'!I25 -> 17960 | I12: =TRUNC(H12*C12,0) -> 1436800 | L12: ='08. 일위대가표'!N23 -> 6
A14: ='06. 수량산출서'!A16 -> 2. 인버터 구매 | E14: =SUM(G14,I14,K14) -> 2917000 | G14: =SUM(G15:G16) -> 2917000
A15: ='06. 수량산출서'!A17 -> 슬러지 펌프 인버터 | B15: ='06. 수량산출서'!B17 -> LS_S100_11KW | C15: ='06. 수량산출서'!D17 -> 1 | D15: ='06. 수량산출서'!C17 -> 대 | E15: =SUM(G15,I15,K15) -> 2142000 | F15: ='07. 가격조사표'!L16 -> 2142000 | G15: =TRUNC(F15*C15,0) -> 2142000
A16: ='06. 수량산출서'!A18 -> 폴리머 펌프 인버터 | B16: ='06. 수량산출서'!B18 -> LS_S100_2.2KW | C16: ='06. 수량산출서'!D18 -> 1 | D16: ='06. 수량산출서'!C18 -> 대 | E16: =SUM(G16,I16,K16) -> 775000 | F16: ='07. 가격조사표'!L17 -> 775000 | G16: =TRUNC(F16*C16,0) -> 775000
A18: ='06. 수량산출서'!A20 -> 3. HMI RCS 수정 | E18: =SUM(G18,I18,K18) -> 12638755 | G18: =SUM(G19:G25) -> 125475 | I18: =SUM(I19:I25) -> 12513280
A19: ='06. 수량산출서'!A21 -> HMI PROGRAM | B19: ='06. 수량산출서'!B21 -> HMI 표준화면 | C19: ='06. 수량산출서'!D21 -> 2 | D19: ='06. 수량산출서'!C21 -> 화면 | E19: =SUM(G19,I19,K19) -> 1960000 | H19: ='07. 가격조사표'!L20 -> 980000 | I19: =TRUNC(H19*C19,0) -> 1960000
A20: ='06. 수량산출서'!A22 -> HMI 트랜드화면 | B20: ='06. 수량산출서'!B22 -> HMI 트랜드화면 | C20: ='06. 수량산출서'!D22 -> 2 | D20: ='06. 수량산출서'!C22 -> 화면 | E20: =SUM(G20,I20,K20) -> 2380000 | H20: ='07. 가격조사표'!L21 -> 1190000 | I20: =TRUNC(H20*C20,0) -> 2380000
A21: ='06. 수량산출서'!A23 -> HMI 레포트화면 | B21: ='06. 수량산출서'!B23 -> HMI 레포트화면 | C21: ='06. 수량산출서'!D23 -> 2 | D21: ='06. 수량산출서'!C23 -> 화면 | E21: =SUM(G21,I21,K21) -> 2380000 | H21: ='07. 가격조사표'!L22 -> 1190000 | I21: =TRUNC(H21*C21,0) -> 2380000
A22: ='06. 수량산출서'!A24 -> HMI 개별화면 | B22: ='06. 수량산출서'!B24 -> HMI 개별화면 | C22: ='06. 수량산출서'!D24 -> 2 | D22: ='06. 수량산출서'!C24 -> 화면 | E22: =SUM(G22,I22,K22) -> 2380000 | H22: ='07. 가격조사표'!L23 -> 1190000 | I22: =TRUNC(H22*C22,0) -> 2380000
A23: ='06. 수량산출서'!A25 -> RCS PLC 수정 | B23: ='06. 수량산출서'!B25 -> PLC DIGITAL POINT | C23: ='06. 수량산출서'!D25 -> 20 | D23: ='06. 수량산출서'!C25 -> POINT | E23: =SUM(G23,I23,K23) -> 1040000 | H23: ='07. 가격조사표'!L24 -> 52000 | I23: =TRUNC(H23*C23,0) -> 1040000
A24: ='06. 수량산출서'!A26 -> RCS PLC 수정 | B24: ='06. 수량산출서'!B26 -> PLC ANALOG POINT | C24: ='06. 수량산출서'!D26 -> 20 | D24: ='06. 수량산출서'!C26 -> POINT | E24: =SUM(G24,I24,K24) -> 2100000 | H24: ='07. 가격조사표'!L25 -> 105000 | I24: =TRUNC(H24*C24,0) -> 2100000
A25: ='06. 수량산출서'!A27 -> RCS 통신 케이블 | B25: ='06. 수량산출서'!B27 -> UTP-CAT-5E | C25: ='06. 수량산출서'!D27 -> 35 | D25: ='06. 수량산출서'!C27 -> M | E25: =SUM(G25,I25,K25) -> 398755 | F25: ='07. 가격조사표'!L26 -> 3585 | G25: =TRUNC(F25*C25,0) -> 125475 | H25: =VLOOKUP(L25,'08. 일위대가표'!N:P,3,FALSE) -> 7808 | I25: =TRUNC(H25*C25,0) -> 273280 | L25: ='08. 일위대가표'!N15 -> 4

Sheet 06. 수량산출서
A1: 품명 | B1: 규격 | C1: 단 위 | D1: 수 량 | E1: 할증(%) | F1: 합 계 | G1: 산출근거 | H1: 비고
A3: 1. 1차 및 부대설비 전기공사
A4: MCCB차단기교체 | B4: MCCB ABS 204C 250A | C4: EA | D4: 1 | F4: =D4 -> 1
A5: 1차 메인전원 케이블 | B5: TFR-CV 95SQ 1C | C5: M | D5: 100 | F5: =D5 -> 100 | G5: 25M X 4
A6: 1차전원 접지 케이블 | B6: TfR-GV 50SQ 1C | C6: M | D6: 25 | F6: =D6 -> 25 | G6: 25M
A7: LOP연동 | B7: UTP-CAT-5E | C7: M | D7: 100 | F7: =D7 -> 100 | G7: 100M 1대 (UTP-CAT-5E/CM0.511MMX4P
A8: LOP시그널 | B8: TFR-CVVS 1.5SQ 15C | C8: M | D8: 100 | F8: =D8 -> 100 | G8: 100M 1대
A9: LOP 전원 | B9: TFR-CVV 1.5SQ 3C | C9: M | D9: 100 | F9: =D9 -> 100 | G9: =G8 -> 100M 1대
A10: 슬러지유량계전원 | B10: TFR-CVV 1.5SQ 3C | C10: M | D10: 80 | F10: =D10 -> 80 | G10: 80M 1대
A11: 슬러지유량계신호 | B11: TFR-CVVSB 1.5SQ 5C | C11: M | D11: 80 | F11: =D11 -> 80 | G11: =G10 -> 80M 1대
A12: 폴리머유량계전원 | B12: TFR-CVV 1.5SQ 3C | C12: M | D12: 80 | F12: =D12 -> 80 | G12: =G11 -> 80M 1대
A13: 폴리머유량계신호 | B13: TFR-CVVSB 1.5SQ 5C | C13: M | D13: 80 | F13: =D13 -> 80 | G13: =G12 -> 80M 1대
A14: 농축이송컨베이어 전원 | B14: TFR-CV 2.5SQ 4C | C14: M | D14: 80 | F14: =D14 -> 80 | G14: =G13 -> 80M 1대
A16: 2. 인버터 구매
A17: 슬러지 펌프 인버터 | B17: LS_S100_11KW | C17: 대 | D17: 1 | F17: =D17 -> 1 | G17: 슬러지 펌프 인버터 구성
A18: 폴리머 펌프 인버터 | B18: LS_S100_2.2KW | C18: 대 | D18: 1 | F18: =D18 -> 1 | G18: 폴리머 펌프 인버터 구성
A20: 3. HMI RCS 수정
A21: HMI PROGRAM | B21: HMI 표준화면 | C21: 화면 | D21: 2 | F21: =D21 -> 2 | G21: 원심탈수기 HMI 표준화면 수정
A22: HMI 트랜드화면 | B22: HMI 트랜드화면 | C22: 화면 | D22: 2 | F22: =D22 -> 2 | G22: 원심탈수기 HMI 트랜드 수정
A23: HMI 레포트화면 | B23: HMI 레포트화면 | C23: 화면 | D23: 2 | F23: =D23 -> 2 | G23: 원심탈수기 HMI 레포트 수정
A24: HMI 개별화면 | B24: HMI 개별화면 | C24: 화면 | D24: 2 | F24: =D24 -> 2 | G24: 원심탈수기 HMI 개별화면 수정
A25: RCS PLC 수정 | B25: PLC DIGITAL POINT | C25: POINT | D25: 20 | F25: =D25 -> 20 | G25: 원심탈수기 RCS 수정
A26: RCS PLC 수정 | B26: PLC ANALOG POINT | C26: POINT | D26: 20 | F26: =D26 -> 20 | G26: 원심탈수기 RCS 수정
A27: RCS 통신 케이블 | B27: =B7 -> UTP-CAT-5E | C27: M | D27: 35 | F27: =D27 -> 35 | G27: RCS - 원심탈수기 MOP E-NET 통신

Sheet 07. 가격조사표
A1: 품명 | B1: 규격 | C1: 단위 | D1: 물가자료(2026. 04.) | F1: 물가정보(2026. 04.) | H1: 견적1 | J1: 견적2 | L1: 적용단가 | M1: 비고
D2: 단가 | E2: Page | F2: 단가 | G2: Page | H2: 단가 | I2: 업체 | J2: 단가 | K2: 업체
A3: ='06. 수량산출서'!A3 -> 1. 1차 및 부대설비 전기공사
A4: ='06. 수량산출서'!A4 -> MCCB차단기교체 | B4: ='06. 수량산출서'!B4 -> MCCB ABS 204C 250A | C4: ='06. 수량산출서'!C4 -> EA | D4: 322000 | E4: 1154 | F4: 310900 | G4: 1237 | L4: =MIN(D4,F4,H4,J4) -> 310900
A5: ='06. 수량산출서'!A5 -> 1차 메인전원 케이블 | B5: ='06. 수량산출서'!B5 -> TFR-CV 95SQ 1C | C5: ='06. 수량산출서'!C5 -> M | D5: 25149 | E5: 1075 | F5: 21806 | G5: 1168 | L5: =MIN(D5,F5,H5,J5) -> 21806
A6: ='06. 수량산출서'!A6 -> 1차전원 접지 케이블 | B6: ='06. 수량산출서'!B6 -> TfR-GV 50SQ 1C | C6: ='06. 수량산출서'!C6 -> M | D6: 12309 | E6: 1075 | F6: 11304 | G6: 1168 | L6: =MIN(D6,F6,H6,J6) -> 11304
A7: ='06. 수량산출서'!A7 -> LOP연동 | B7: ='06. 수량산출서'!B7 -> UTP-CAT-5E | C7: ='06. 수량산출서'!C7 -> M | D7: 3585 | E7: 1081 | F7: 3585 | G7: 1178 | L7: =MIN(D7,F7,H7,J7) -> 3585
A8: ='06. 수량산출서'!A8 -> LOP시그널 | B8: ='06. 수량산출서'!B8 -> TFR-CVVS 1.5SQ 15C | C8: ='06. 수량산출서'!C8 -> M | D8: 9854 | E8: 1075 | F8: 9595 | G8: 1171 | L8: =MIN(D8,F8,H8,J8) -> 9595
A9: ='06. 수량산출서'!A10 -> 슬러지유량계전원 | B9: ='06. 수량산출서'!B10 -> TFR-CVV 1.5SQ 3C | C9: ='06. 수량산출서'!C10 -> M | D9: 2568 | E9: 1076 | F9: 2718 | G9: 1171 | L9: =MIN(D9,F9,H9,J9) -> 2568
A10: ='06. 수량산출서'!A11 -> 슬러지유량계신호 | B10: ='06. 수량산출서'!B11 -> TFR-CVVSB 1.5SQ 5C | C10: ='06. 수량산출서'!C11 -> M | D10: 4431 | E10: 1076 | F10: 4688 | G10: 1171 | L10: =MIN(D10,F10,H10,J10) -> 4431
A11: ='06. 수량산출서'!A12 -> 폴리머유량계전원 | B11: ='06. 수량산출서'!B12 -> TFR-CVV 1.5SQ 3C | C11: ='06. 수량산출서'!C12 -> M | D11: 2568 | E11: 1075 | F11: 2718 | G11: 1168 | L11: =MIN(D11,F11,H11,J11) -> 2568
A12: ='06. 수량산출서'!A13 -> 폴리머유량계신호 | B12: ='06. 수량산출서'!B13 -> TFR-CVVSB 1.5SQ 5C | C12: ='06. 수량산출서'!C13 -> M | D12: 4431 | E12: 1076 | F12: 4688 | G12: 1171 | L12: =MIN(D12,F12,H12,J12) -> 4431
A13: ='06. 수량산출서'!A14 -> 농축이송컨베이어 전원 | B13: ='06. 수량산출서'!B14 -> TFR-CV 2.5SQ 4C | C13: ='06. 수량산출서'!C14 -> M | D13: 3889 | E13: 1075 | F13: 3172 | G13: 1168 | L13: =MIN(D13,F13,H13,J13) -> 3172
A15: ='06. 수량산출서'!A16 -> 2. 인버터 구매
A16: ='06. 수량산출서'!A17 -> 슬러지 펌프 인버터 | B16: ='06. 수량산출서'!B17 -> LS_S100_11KW | C16: ='06. 수량산출서'!C17 -> 대 | D16: 2203000 | E16: 1127 | F16: 2142000 | G16: 1228 | L16: =MIN(D16,F16,H16,J16) -> 2142000
A17: ='06. 수량산출서'!A18 -> 폴리머 펌프 인버터 | B17: ='06. 수량산출서'!B18 -> LS_S100_2.2KW | C17: ='06. 수량산출서'!C18 -> 대 | D17: 775000 | E17: 1127 | F17: 955000 | G17: 1228 | L17: =MIN(D17,F17,H17,J17) -> 775000
A19: ='06. 수량산출서'!A20 -> 3. HMI RCS 수정
A20: ='06. 수량산출서'!A21 -> HMI PROGRAM | B20: ='06. 수량산출서'!B21 -> HMI 표준화면 | C20: ='06. 수량산출서'!C21 -> 화면 | D20: 1138000 | E20: 1180 | F20: 980000 | G20: 1259 | L20: =MIN(D20,F20,H20,J20) -> 980000
A21: ='06. 수량산출서'!A22 -> HMI 트랜드화면 | B21: ='06. 수량산출서'!B22 -> HMI 트랜드화면 | C21: ='06. 수량산출서'!C22 -> 화면 | D21: 1391000 | E21: 1180 | F21: 1190000 | G21: =G20 -> 1259 | L21: =MIN(D21,F21,H21,J21) -> 1190000
A22: ='06. 수량산출서'!A23 -> HMI 레포트화면 | B22: ='06. 수량산출서'!B23 -> HMI 레포트화면 | C22: ='06. 수량산출서'!C23 -> 화면 | D22: 1391000 | E22: 1180 | F22: 1190000 | G22: =G21 -> 1259 | L22: =MIN(D22,F22,H22,J22) -> 1190000
A23: ='06. 수량산출서'!A24 -> HMI 개별화면 | B23: ='06. 수량산출서'!B24 -> HMI 개별화면 | C23: ='06. 수량산출서'!C24 -> 화면 | D23: 1391000 | E23: 1180 | F23: 1190000 | G23: =G22 -> 1259 | L23: =MIN(D23,F23,H23,J23) -> 1190000
A24: ='06. 수량산출서'!A25 -> RCS PLC 수정 | B24: ='06. 수량산출서'!B25 -> PLC DIGITAL POINT | C24: ='06. 수량산출서'!C25 -> POINT | D24: 63000 | E24: 1180 | F24: 52000 | G24: =G23 -> 1259 | L24: =MIN(D24,F24,H24,J24) -> 52000
A25: ='06. 수량산출서'!A26 -> RCS PLC 수정 | B25: ='06. 수량산출서'!B26 -> PLC ANALOG POINT | C25: ='06. 수량산출서'!C26 -> POINT | D25: 126000 | E25: 1180 | F25: 105000 | G25: =G24 -> 1259 | L25: =MIN(D25,F25,H25,J25) -> 105000
A26: ='06. 수량산출서'!A27 -> RCS 통신 케이블 | B26: ='06. 수량산출서'!B27 -> UTP-CAT-5E | C26: ='06. 수량산출서'!C27 -> M | D26: =D7 -> 3585 | E26: =E7 -> 1081 | F26: 3585 | G26: 1178 | L26: =MIN(D26,F26,H26,J26) -> 3585
M34: `

Sheet 08. 일위대가표
A1: 구분 | B1: 규격 | C1: 수량 | D1: 단위 | E1: 총액 | F1: 재료비 | H1: 노무비 | J1: 경비 | L1: 비고
F2: 단가 | G2: 금액 | H2: 단가 | I2: 금액 | J2: 단가 | K2: 금액 | N2: 호표 | O2: 재료비 | P2: 노무비 | Q2: 경비
A3: 1 | B3: 전력케이블 구내설치 : 150㎟이하 X 1C (m당) | L3: 적정 p1107 | N3: =A3 -> 1 | P3: =I5 -> 29132 | Q3: =K5 -> 0
A4: 저압케이블전공 | C4: 0.097 | D4: 인 | H4: =VLOOKUP(A4,'09. 시중노임표'!B:C,2,FALSE) -> 300337 | I4: =TRUNC(C4*H4,1) -> 29132.6
A5: 합계 | E5: =SUM(G5,I5,K5) -> 29132 | I5: =TRUNC(SUM(I4),0) -> 29132 | K5: =TRUNC(SUM(K4),0) -> 0
A7: =A3+1 -> 2 | B7: 전력케이블 구내설치 : 100㎟이하 X 1C (m당) | L7: 적정 p1107 | N7: =A7 -> 2 | P7: =I9 -> 21323 | Q7: =K9 -> 0
A8: 저압케이블전공 | C8: 0.071 | D8: 인 | H8: =VLOOKUP(A8,'09. 시중노임표'!B:C,2,FALSE) -> 300337 | I8: =TRUNC(C8*H8,1) -> 21323.9
A9: 합계 | E9: =SUM(G9,I9,K9) -> 21323 | I9: =TRUNC(SUM(I8),0) -> 21323 | K9: =TRUNC(SUM(K8),0) -> 0
A11: =A7+1 -> 3 | B11: 제어용 케이블 설치 : 2.5㎟이하 X 15C (m당) | L11: 적정 p1108 | N11: =A11 -> 3 | P11: =I13 -> 18620 | Q11: =K13 -> 0
A12: 저압케이블전공 | C12: 0.062 | D12: 인 | H12: =VLOOKUP(A12,'09. 시중노임표'!B:C,2,FALSE) -> 300337 | I12: =TRUNC(C12*H12,1) -> 18620.8
A13: 합계 | E13: =SUM(G13,I13,K13) -> 18620 | I13: =TRUNC(SUM(I12),0) -> 18620 | K13: =TRUNC(SUM(K12),0) -> 0
A15: =A11+1 -> 4 | B15: 제어용 케이블 설치 : 2.5㎟이하 X 4C (m당) | L15: 적정 p1080 | N15: =A15 -> 4 | P15: =I17 -> 7808 | Q15: =K17 -> 0
A16: 저압케이블전공 | C16: 0.026 | D16: 인 | H16: =VLOOKUP(A16,'09. 시중노임표'!B:C,2,FALSE) -> 300337 | I16: =TRUNC(C16*H16,1) -> 7808.7
A17: 합계 | E17: =SUM(G17,I17,K17) -> 7808 | I17: =TRUNC(SUM(I16),0) -> 7808 | K17: =TRUNC(SUM(K16),0) -> 0
A19: =A15+1 -> 5 | B19: 제어용 케이블 설치 : 2.5㎟이하 X 3C (m당) | L19: 적정 p1080 | N19: =A19 -> 5 | P19: =I21 -> 5706 | Q19: =K21 -> 0
A20: 저압케이블전공 | C20: 0.019 | D20: 인 | H20: =VLOOKUP(A20,'09. 시중노임표'!B:C,2,FALSE) -> 300337 | I20: =TRUNC(C20*H20,1) -> 5706.4
A21: 합계 | E21: =SUM(G21,I21,K21) -> 5706 | I21: =TRUNC(SUM(I20),0) -> 5706 | K21: =TRUNC(SUM(K20),0) -> 0
A23: =A19+1 -> 6 | B23: 전력케이블 구내설치 : 16㎟이하 X 4C (m당) | L23: 적정 p1107 | N23: =A23 -> 6 | P23: =I25 -> 17960 | Q23: =K25 -> 0
A24: 저압케이블전공 | B24: 4C는 260% | C24: =0.023*260% -> 0.0598 | D24: 인 | H24: =VLOOKUP(A24,'09. 시중노임표'!B:C,2,FALSE) -> 300337 | I24: =TRUNC(C24*H24,1) -> 17960.1
A25: 합계 | E25: =SUM(G25,I25,K25) -> 17960 | I25: =TRUNC(SUM(I24),0) -> 17960 | K25: =TRUNC(SUM(K24),0) -> 0

Sheet 09. 시중노임표
A1: 시 중 노 임 표
D3: * 2026년 상반기
A4: 번호 | B4: 직종 | C4: 단가 | D4: 비고
A5: 1002 | B5: 보통인부 | C5: 169804
A6: 1003 | B6: 특별인부 | C6: 221506
A7: 1006 | B7: 비계공 | C7: 279433
A8: 1009 | B8: 철공 | C8: 237754
A9: 1012 | B9: 용접공 | C9: 278326
A10: 1013 | B10: 콘크리트공 | C10: 266361
A11: 1015 | B11: 착암공 | C11: 220081
A12: 1027 | B12: 미장공 | C12: 272354
A13: 1029 | B13: 도장공 | C13: 253409
A14: 1039 | B14: 배관공 | C14: 238145
A15: 1044 | B15: 보온공 | C15: 213722
A16: 1050 | B16: 일반기계운전사 | C16: 170920
... A24: 1089 | B24: 통신케이블공 | C24: 433400
A25: - | B25: 기계산업기사 | C25: 247713 | D25: 기계 초급기술자

Sheet 10. 도면
B3: PDF 파일 참조
